Workbook

Sheet Sommaire_Entreprise agricole
B1: P-42.1, art. 5 | C1: P-42.1, r. 0.1 art. 2 | D1: P-42.1, r. 0.1 art. 6 | E1: P-42.1, r. 0.1 art. 9 | F1: P-42.1, r. 0.1 art. 14 | G1: P-42.1, r. 0.1 art. 17 | H1: Total
A2: 2022 | B2: =SUM(Verger!B4:B5) -> 2 | C2: 0 | D2: 0 | E2: =SUM(PdT!B16) -> 1 | F2: 0 | G2: =SUM(PdT!B22:B24) -> 3 | H2: =SUM(B2:G2) -> 6
A3: 2023 | B3: =SUM(Verger!B6:B9) -> 4 | C3: =SUM(PdT!B4:B7) -> 4 | D3: =SUM(PdT!B12:B15) -> 4 | E3: =SUM(PdT!B17) -> 1 | F3: =SUM(PdT!B21) -> 1 | G3: =SUM(PdT!B25:B26) -> 2 | H3: =SUM(B3:G3) -> 16
A4: 2024 | B4: =SUM(Verger!B10:B16) -> 7 | C4: 0 | D4: 0 | E4: =SUM(PdT!B18:B19) -> 2 | F4: 0 | G4: =SUM(PdT!B27:B31) -> 5 | H4: =SUM(B4:G4) -> 14
A5: 2025 | B5: =SUM(Verger!B17:B24) -> 8 | C5: =SUM(PdT!B8) -> 1 | D5: 0 | E5: =SUM(PdT!B20) -> 1 | F5: 0 | G5: =SUM(PdT!B32) -> 1 | H5: =SUM(B5:G5) -> 11
A6: 2026 | B6: =SUM('Non-Conf_Particuliers'!B39:B39) -> 1 | C6: =SUM(PdT!B9:B11) -> 3 | D6: 0 | E6: 0 | F6: 0 | G6: 0 | H6: =SUM(B6:G6) -> 4

Sheet PdT
A1: Loi sur la protection sanitaires des cultures
A2: Règlement sur la culture de pomme de terre
A3: Date inspection | B3: Non-conformité | C3: Ordonnance | D3: Art. loi | E3: Règlement | F3: Dossier | G3: Registre des entreprises
A4: 2023 | B4: 1 | D4: P-42.1, r. 0.1 | E4: art. 2 | F4: 23-04 | G4: LES JARDINS Y.D. BOYER INC. - NEQ 1165558710 (Élevages, grandes cultures et productions horticoles) | H4: Dans toute exploitation dont la superficie des cultures de pommes de terre est d’un hectare ou plus, seules peuvent être semées à des fins d’alimentation ou de transformation des pommes de terre qui sont certifiées suivant la Loi sur les semences (L.R.C. 1985, c. S-8).
A5: 2023 | B5: 1 | D5: P-42.1, r. 0.1 | E5: art. 2 | F5: 23-05 | G5: LES FERMES YVON BOYER INC. - NEQ 1167328963 (Culture mixte de fruits et des légumes)
A6: 2023 | B6: 1 | D6: P-42.1, r. 0.1 | E6: art. 2 | F6: 23-19 | G6: FERME VICTORIN DROLET INC. - NEQ 1142677658 (Élevages, grandes cultures et productions horticoles)
A7: 2023 | B7: 1 | D7: P-42.1, r. 0.1 | E7: art. 2 | F7: 23-20 | G7: Non enregistrée
A8: 2025 | B8: 1 | D8: P-42.1, r. 0.1 | E8: art. 2 | F8: 25-18 | G8: FERME MIREILLE ET CLÉMENT GOSSELIN, S.E.N.C. - NEQ 3369559870 (Culture mixte des fruits et des légumes)
A9: 2026 | B9: 1 | D9: P-42.1, r. 0.1 | E9: art. 2 | F9: 26-11 | G9: LES JARDINS LAUZERAIE INC. - NEQ 1147361928 (Culture de la pomme de terre)
A10: 2026 | B10: 1 | D10: P-42.1, r. 0.1 | E10: art. 2 | F10: 26-10 | G10: FRUITS & LÉGUMES RG INC. - NEQ 1164902166 (Culture des fruits)
A11: 2026 | B11: 1 | D11: P-42.1, r. 0.1 | E11: art. 2 | F11: 26-05 | G11: 9177-3358 QUÉBEC INC. - NEQ 1164148661 (Culture de la pomme de terre)
A12: 45149 | B12: 1 | C12: 1 | D12: P-42.1, r. 0.1 | E12: art. 6 | F12: R04-230808-01 | G12: GERARD BERGERON & FILS INC. - NEQ 1142576942 (Culture de la pomme de terre) | H12: « Lorsque la présence du mildiou est confirmée ou qu’un indice de cette présence est constaté, le propriétaire ou le gardien du bien infecté doit prendre des mesures pour éviter sa propagation, notamment l’application de traitements homologués en vertu de la Loi sur les produits antiparasitaires (L.C. 2002, c. 28), la destruction des végétaux infectés ou le défanage de plants de pommes de terre. » A.M. 2010-08-23, a. 6.
A13: 45156 | B13: 1 | C13: 1 | D13: P-42.1, r. 0.1 | E13: art. 6 | F13: R14-230816-01 | G13: Non enregistrée
A14: 45160 | B14: 1 | C14: 1 | D14: P-42.1, r. 0.1 | E14: art. 6 | F14: R12-230822-01 | G14: FERME DE LA COULÉE DOUCE S.E.N.C. - NEQ 3362181417 (Élevages, grandes cultures et productions horticoles)
A15: 45187 | B15: 1 | C15: 1 | D15: P-42.1, r. 0.1 | E15: art. 6 | F15: R07-230918-21 | G15: Drouin-Laliberté, Mathieu (Les Jardins Parallèles) - NEQ 2272546351 (Culture mixte des fruits et des légumes)
A16: 2022 | B16: 1 | D16: P-42.1, r. 0.1 | E16: art. 9 | F16: R01-20220720-01 | G16: La Ferme... et mange! S.E.N.C. - NEQ 3371157093 (Culture mixte des fruits et des légumes) | H16: Dans toute culture de pommes de terre, seules peuvent être semées des pommes de terre qui sont produites dans une zone de culture protégée et qui sont certifiées suivant la Loi sur les semences (L.R.C. 1985, c. S-8).
A17: 2023 | B17: 1 | D17: P-42.1, r. 0.1 | E17: art. 9 | F17: 23-15 | G17: FERME P.A. MICHAUD INC. - NEQ 1142138388 (Élevages, grandes cultures et productions horticoles)
A18: 2024 | B18: 1 | D18: P-42.1, r. 0.1 | E18: art. 9 | F18: 24-03 | G18: 9076-1040 QUÉBEC INC. - NEQ 1148476121 (Élevages, grandes cultures et productions horticoles)
A19: 2024 | B19: 1 | D19: P-42.1, r. 0.1 | E19: art. 9 | F19: 24-09 | G19: 9427-7480 Québec inc. - NEQ 1175902304 (Culture des céréales)
A20: 2025 | B20: 1 | D20: P-42.1, r. 0.1 | E20: art. 9 | F20: 2025-11 | G20: FERME RODRIGUE RIVARD & FILS INC. - NEQ 1165362931 (Élevages, grandes cultures et productions horticoles)
A21: 2023 | B21: 1 | D21: P-42.1, r. 0.1 | E21: art. 14 | F21: R01-20230615-01 | G21: POMMES DE TERRE BERUBE INC. - NEQ 1144468767 (Culture de la pomme de terre) | H21: L.R.Q., c. P-42-1, r.0.1 / Règlement : art. 14 Des pommes de terre produites à l’extérieur d’une zone de culture protégée ne peuvent être entreposées, emballées ou transformées à des fins commerciales dans une zone de culture protégée à moins qu’un inspecteur en soit préalablement avisé et que lui soit démontré: 1° soit l’absence de détection de l’agent responsable du flétrissement bactérien de la pomme de terre dans les lots de pommes de terre et des nématodes à kyste de la pomme de terre dans l’exploitation où ces pommes de terre sont produites; 2° soit les mesures de récupération et d’élimination de terre et des rebuts de pommes de terre qui seront prises pour éviter la propagation d’organismes nuisibles.
A22: 2022 | B22: 1 | D22: P-42.1, r. 0.1 | E22: art. 17 | F22: R01-20220725-04 | G22: 2760-5799 QUÉBEC INC. - NEQ 1143270883 (Culture des céréales) | H22: L.R.Q., c. P-42-1, r.0.1 / Règlement : art. 17 « Lorsque des plants de pommes de terre présentent des symptômes visuels du virus de l’enroulement de la pomme de terre ou d’un virus responsable de la mosaïque de la pomme de terre d’un pourcentage combiné supérieur à 5%, le propriétaire ou le gardien de la culture doit y effectuer le contrôle des pucerons au moyen de traitements homologués en vertu de la Loi sur les produits antiparasitaires (L.C. 2002, c. 28) pendant toute la période de production. »
A23: 44764 | B23: 1 | D23: P-42-1, r.0.1 | E23: art. 17 | F23: R02-20220722-01 | G23: LES PRODUCTIONS MALTAIS INC. - NEQ 1163979546 (Autres types de commerce de gros de produits agricoles/ Production agricole)
A24: 44768 | B24: 1 | D24: P-42-1, r.0.1 | E24: art. 17 | F24: R02-20220726-03 | G24: FERME RODRIGUE RIVARD & FILS INC. - NEQ 1165362931 (Élevages, grandes cultures et productions horticoles)
A25: 45117 | B25: 1 | D25: P-42.1, r. 0.1 | E25: art. 17 | F25: R02-20230720-02 | G25: 9150-5784 QUÉBEC INC. - NEQ 1162695820 (Autres services relatifs à l'agriculture/FERME AGRICOLE)
A26: 45119 | B26: 1 | D26: P-42-1, r.0.1 | E26: art. 17 | F26: R02-20231207-01 | G26: FERME RODRIGUE RIVARD & FILS INC. - NEQ 1165362931 (Élevages, grandes cultures et productions horticoles)
A27: 45476 | B27: 1 | D27: P-42-1, r.0.1 | E27: art. 17 | F27: R02-20240703-01 | G27: 9009-5217 QUÉBEC INC. - NEQ 1141109125 (Culture de la pomme de terre)
A28: 45481 | B28: 1 | D28: P-42-1, r.0.1 | E28: art. 17 | F28: R02-20240708-01 | G28: 9124-3386 QUÉBEC INC. - NEQ 1161216008 (Élevages, grandes cultures et productions horticoles)
A29: 45483 | B29: 1 | D29: P-42-1, r.0.1 | E29: art. 17 | F29: R02-20240710-01 | G29: FERME LA CLEF DES SOLS INC. - NEQ 1176533397 (Culture de la pomme de terre)
A30: 45489 | B30: 1 | D30: P-42-1, r.0.1 | E30: art. 17 | F30: R02-20240716-02 | G30: 9124-3386 QUÉBEC INC. - NEQ 1161216008 (Élevages, grandes cultures et productions horticoles)
A31: 45489 | B31: 1 | D31: P-42-1, r.0.1 | E31: art. 17 | F31: R02-20240716-02 | G31: PRODUCTIONS GAUDREAULT & ISABELLE INC. - NEQ 1175280016 (Culture de la pomme de terre)
A32: 45888 | B32: 1 | D32: P-42.1, r. 0.1 | E32: art. 17 | F32: 25-05 | G32: 9150-5784 QUÉBEC INC. - NEQ 1162695820 (Autres services relatifs à l'agriculture/FERME AGRICOLE)

Sheet Bleuet
A1: Loi sur la protection sanitaires des cultures
A2: Règlement sur la protection des plantes
A3: Date inspection | B3: Non-conformité | C3: Art. loi | D3: Règlement | E3: Dossier | G3: Registre des entreprises
A5: 45154 | B5: 1 | C5: P-42.1, art. 5 | D5: P-42.1, r. 2, art. 1 | E5: R12-20230119-02 | G5: LES BLEUETS SAUVAGES DU QUÉBEC INC. - NEQ 1143529270 (Magasins de fruits et légumes)
A6: 45155 | B6: 1 | C6: P-42.1, art. 5 | D6: P-42.1, r. 2, art. 1 | E6: R12-20230119-01 | G6: BLEUETS MISTASSINI LTÉE - NEQ 1173755449 (Industrie des fruits et légumes congelés)
A7: 45161 | B7: 1 | C7: P-42.1, art. 5 | D7: P-42.1, r. 2, art. 1 | E7: R12-20230119-03 | G7: Emblème Canneberge inc. - NEQ 1174666678 (Autres industries de produits alimentaires)
A8: 45159 | B8: 1 | C8: P-42.1, art. 5 | D8: P-42.1, r. 2, art. 1 | E8: R12-20230119-04 | G8: 11077422 Canada inc. - NEQ 1174081811 (Industrie de fruits et légumes congelés)
A9: 45511 | B9: 1 | C9: P-42.1, art. 5 | D9: P-42.1, r. 2, art. 1 | E9: R12-20230119-03 | G9: Emblème Canneberge inc. - NEQ 1174666678 (Autres industries de produits alimentaires)
A10: 45517 | B10: 1 | C10: P-42.1, art. 5 | D10: P-42.1, r. 2, art. 1 | E10: R12-20230119-04 | G10: 11077422 Canada inc. - NEQ 1174081811 (Industrie de fruits et légumes congelés
A11: 45519 | B11: 1 | C11: P-42.1, art. 5 | D11: P-42.1, r. 2, art. 1 | E11: R12-20230119-01 | G11: BLEUETS MISTASSINI LTÉE - NEQ 1173755449 (Industrie des fruits et légumes congelés)
E14: P-42.1, art. 5 | F14: « Toute personne doit prendre les mesures phytosanitaires pour éviter que les végétaux, les substrats et les autres biens dont elle est propriétaire ou dont elle a la garde ne propagent un organisme nuisible à une culture commerciale. » 2008, c. 16, a. 5.
E16: P-42.1, r. 2, art. 1 | F16: « Sont visés par la Loi sur la protection sanitaire des cultures (chapitre P-42.1) les organismes nuisibles suivants: 14. Mouche du bleuet Rhagoletis mendax (Curran) »

Sheet Verger
A1: Loi sur la protection sanitaires des cultures
A2: Règlement sur la protection des plantes
A3: Date inspection | B3: Non-conformité | C3: Avis d'ordonnance | D3: Art. | G3: Registre des entreprises
A4: 44825 | B4: 1 | D4: P-42.1, art. 5 | G4: FERME A. LACHANCE - NEQ 2263004774 (Culture des fruits)
A5: 44825 | B5: 1 | D5: P-42.1, art. 5 | G5: SIMARD SIMARD ET DROUIN S.E.N.C. - NEQ 3365711913 ( Culture des légumes)
A6: 45205 | B6: 1 | D6: P-42.1, art. 5 | G6: FERME A. LACHANCE - NEQ 2263004774 (Culture des fruits)
A7: 45134 | B7: 1 | D7: P-42.1, art. 5 | G7: SIMARD SIMARD ET DROUIN S.E.N.C. - NEQ 3365711913 ( Culture des légumes)
A8: 45219 | B8: 1 | D8: P-42.1, art. 5 | G8: FERME ROSE-AIMÉE LABERGE - NEQ 3366794017 (Élevage de vaches laitières)
A9: 45233 | B9: 1 | D9: P-42.1, art. 5 | G9: Verger de Beausoleil S.E.N.C. - NEQ 3378616646 (Culture des fruits)
A10: 45503 | B10: 1 | D10: P-42.1, art. 5 | G10: 9150-5586 QUÉBEC INC. - NEQ 1162695127 (Culture des fruits)
A11: 45524 | B11: 1 | D11: P-42.1, art. 5 | G11: Verger Barry Inc. - NEQ 1176088806 (Culture mixte des fruits et des légumes)
A12: 45540 | B12: 1 | D12: P-42.1, art. 5 | G12: 9244-9669 QUÉBEC INC. (PRODUCTION DE CÈDRES À HAIES KARINE DUMONT) - NEQ 1167338202 (Prod. Horticoles)
A13: 45555 | B13: 1 | D13: P-42.1, art. 5 | G13: SIMARD SIMARD ET DROUIN S.E.N.C. - NEQ 3365711913 ( Culture des légumes)
A14: 45562 | B14: 1 | D14: P-42.1, art. 5 | G14: POMMERAIE FAUBERT SNC - NEQ 3340095937 (Culture des fruits)
A15: 45573 | B15: 1 | D15: P-42.1, art. 5 | G15: Yvon Albert Tracy Bartley S.E.N.C. - NEQ 3371923338 (Culture des fruits)
... A24: 45970 | B24: 1 | D24: P-42.1, art. 5 | G24: 9365-7419 Québec inc. - NEQ 1173061616 (Autres élevages)
E28: P-42.1, art. 5 | F28: « Toute personne doit prendre les mesures phytosanitaires pour éviter que les végétaux, les substrats et les autres biens dont elle est propriétaire ou dont elle a la garde ne propagent un organisme nuisible à une culture commerciale. » 2008, c. 16, a. 5.

Sheet Non-Conf_Particuliers
A1: Loi sur la protection sanitaires des cultures
A2: Règlement sur la protection des plantes
A3: Date inspection | B3: Non-conformité | C3: Ordonnance | D3: Art. | F3: REQ
A4: 44839 | B4: 1 | D4: P-42.1, art. 5 | F4: Non enregistrée
A5: 44846 | B5: 1 | D5: P-42.1, art. 5 | F5: Non enregistrée
A6: 45149 | B6: 1 | D6: P-42.1, r. 01, art. 6 | F6: Non enregistrée
A7: 45194 | B7: 1 | D7: P-42.1, art. 5 | F7: Non enregistrée
A8: 45205 | B8: 1 | D8: P-42.1, art. 5 | F8: Non enregistrée
A9: 45233 | B9: 1 | D9: P-42.1, art. 5 | F9: Non enregistrée
A10: 45456 | B10: 1 | D10: P-42.1, art. 5 | F10: Non enregistrée
A11: 45503 | B11: 1 | D11: P-42.1, art. 5 | F11: Non enregistrée
A12: 45503 | B12: 1 | D12: P-42.1, art. 5 | F12: Non enregistrée
A13: 45503 | B13: 1 | D13: P-42.1, art. 5 | F13: Non enregistrée
A14: 45503 | B14: 1 | D14: P-42.1, art. 5 | F14: Non enregistrée
A15: 45524 | B15: 1 | D15: P-42.1, art. 5 | F15: Non enregistrée
... A28: 45841 | B28: 1 | D28: P-42.1, art. 5 | F28: Non enregistrée
A29: 46571 | B29: 1 | D29: P-42.1, art. 5 | E29: Habitations Boies inc. / Mont-Saint-Hilaire | F29: HABITATIONS BOIES INC. - NEQ 1164864796 (Construction de maisons)
A30: 45861 | B30: 1 | D30: P-42.1, art. 5 | F30: Non enregistrée
A31: 45861 | B31: 1 | D31: P-42.1, art. 5 | F31: Non enregistrée
A32: 45854 | B32: 1 | D32: P-42.1, art. 5 | F32: Radiée, Épicerie
A33: 45870 | B33: 1 | D33: P-42.1, art. 5 | F33: Non enregistrée
A34: 45877 | B34: 1 | D34: P-42.1, art. 5 | F34: Non enregistrée
A35: 45917 | B35: 1 | D35: P-42.1, art. 5 | F35: Non enregistrée
A36: 45940 | B36: 1 | D36: P-42.1, art. 5 | F36: Non enregistrée
A37: 45940 | B37: 1 | D37: P-42.1, art. 5 | F37: Non enregistrée
A38: 46210 | B38: 1 | C38: 1 | D38: P-42.1, art. 5 | F38: Non enregistrée
A39: 46211 | B39: 1 | D39: P-42.1, art. 5 | F39: Non enregistrée
A40: 46219 | B40: 1 | D40: P-42.1, art. 5 | F40: Non enregistrée
A41: 46219 | B41: 1 | D41: P-42.1, art. 5
A42: 46224 | B42: 1 | D42: P-42.1, art. 5
