Workbook

Sheet Coût et structure financement
A1: PROGRAMME DE DÉVELOPPEMENT TERRITORIAL ET SECTORIEL 2026 – 2027 Coût et structure de financement
L2: PDTS 2026-09
A3: SOUS-VOLET 1.1 – PLANIFICATIONS Secteurs agroalimentaires | G3: Paramètres d'aide financière sur les dépenses admissibles
A4: Titre du projet | G4: Taux maximal d'aide financière | I4: 0.8 | J4: Taux maximum de cumul des aides financières publiques | L4: 0.8
A5: Demandeur | G5: Montant minimal d'aide financière, incluant les frais d'administration | I5: 5000 | J5: Contribution minimale en argent et en nature | L5: 0.2
A6: No de dossier | G6: Montant maximal d'aide financière, incluant les frais d'administration | I6: 50000 | J6: Contribution minimale en argent | L6: 0.1
A8: Veuillez vous référer au document Instructions – Coût et structure de financement avant de remplir le fichier ainsi qu’au Guide du demandeur, disponibles sur le site Web Québec.ca, sous la rubrique Agriculture. Vous avez des questions ou besoin d’aide? Communiquez avec le Programme à pdts.sectoriel@mapaq.gouv.qc.ca.
A10: SECTION 1 – DESCRIPTION DES DÉPENSES ADMISSIBLES DIRECTEMENT LIÉES À LA RÉALISATION DU PROJET
A11: DÉPENSES | I11: RÉPARTITION DU FINANCEMENT DES DÉPENSES
A12: 1.1 – HONORAIRES PROFESSIONNELS ET CONTRACTUELS | H12: Coût de la dépense admissible ($) (avant taxes) | I12: Contribution du demandeur ou des partenaires | K12: Autre aide gouvernementale ($) | L12: Aide financière demandée au Programme ($)
A13: Description des honoraires professionnels et contractuels, y compris les frais de déplacement et de séjour | I13: En argent ($) (conserver les factures) | J13: En nature ($)
A14: Exemple : Firme ABC 35 000 $ dont 100 $ pour frais de déplacement et de repas | H14: 35000 | I14: 5000 | J14: Sans objet | K14: 0 | L14: =H14-I14-K14 -> 30000
L15: =H15-I15-K15 -> 0
L16: =H16-I16-K16 -> 0
A17: Sous-total des honoraires professionnels et contractuels | H17: =SUM(H15:H16) -> 0 | I17: =SUM(I15:I16) -> 0 | K17: =SUM(K15:K16) -> 0 | L17: =SUM(L15:L16) -> 0
A19: 1.2 – SALAIRE DU PERSONNEL DU DEMANDEUR ET DES PARTENAIRES | H19: Coût de la dépense admissible ($) (avant taxes) | I19: Contribution du demandeur ou des partenaires | K19: Autre aide gouvernementale ($) | L19: Aide financière demandée au Programme ($)
A20: Nom | C20: Organisation associée | D20: Catégorie d’emploi | E20: Taux horaire réel ($) | F20: Charges sociales (%) | G20: Heures prévues | I20: En argent ($) (conserver les factures) | J20: En nature ($)
A21: Exemple : Jacques Untel | C21: Regroupement ABC | D21: Agronome | E21: 55 | F21: 0.26 | G21: 100 | H21: =ROUND((E21+(E21*F21))*G21,0) -> 6930 | I21: Sans objet | J21: =H21 -> 6930 | K21: Sans objet | L21: Sans objet
D22: (À sélectionner) | F22: 0.26 | H22: =ROUND((E22+(E22*F22))*G22,0) -> 0 | J22: =H22 -> 0
D23: (À sélectionner) | F23: 0.26 | H23: =ROUND((E23+(E23*F23))*G23,0) -> 0 | J23: =H23 -> 0
D24: (À sélectionner) | F24: 0.26 | H24: =ROUND((E24+(E24*F24))*G24,0) -> 0 | J24: =H24 -> 0
D25: (À sélectionner) | F25: 0.26 | H25: =ROUND((E25+(E25*F25))*G25,0) -> 0 | J25: =H25 -> 0
D26: (À sélectionner) | F26: 0.26 | H26: =ROUND((E26+(E26*F26))*G26,0) -> 0 | J26: =H26 -> 0
D27: (À sélectionner) | F27: 0.26 | H27: =ROUND((E27+(E27*F27))*G27,0) -> 0 | J27: =H27 -> 0
D28: (À sélectionner) | F28: 0.26 | H28: =ROUND((E28+(E28*F28))*G28,0) -> 0 | J28: =H28 -> 0
D29: (À sélectionner) | F29: 0.26 | H29: 0 | J29: =H29 -> 0
D30: (À sélectionner) | F30: 0.26 | H30: =ROUND((E30+(E30*F30))*G30,0) -> 0 | J30: =H30 -> 0
D31: (À sélectionner) | F31: 0.26 | H31: =ROUND((E31+(E31*F31))*G31,0) -> 0 | J31: =H31 -> 0
D32: (À sélectionner) | F32: 0.26 | H32: =ROUND((E32+(E32*F32))*G32,0) -> 0 | J32: =H32 -> 0
D33: (À sélectionner) | F33: 0.26 | H33: =ROUND((E33+(E33*F33))*G33,0) -> 0 | J33: =H33 -> 0
D34: (À sélectionner) | F34: 0.26 | H34: =ROUND((E34+(E34*F34))*G34,0) -> 0 | J34: =H34 -> 0
D35: (À sélectionner) | F35: 0.26 | H35: =ROUND((E35+(E35*F35))*G35,0) -> 0 | J35: =H35 -> 0
D36: (À sélectionner) | F36: 0.26 | H36: =ROUND((E36+(E36*F36))*G36,0) -> 0 | J36: =H36 -> 0
D37: (À sélectionner) | F37: 0.26 | H37: =ROUND((E37+(E37*F37))*G37,0) -> 0 | J37: =H37 -> 0
D38: (À sélectionner) | F38: 0.26 | H38: =ROUND((E38+(E38*F38))*G38,0) -> 0 | J38: =H38 -> 0
D39: (À sélectionner) | F39: 0.26 | H39: =ROUND((E39+(E39*F39))*G39,0) -> 0 | J39: =H39 -> 0
D40: (À sélectionner) | F40: 0.26 | H40: =ROUND((E40+(E40*F40))*G40,0) -> 0 | J40: =H40 -> 0
D41: (À sélectionner) | F41: 0.26 | H41: =ROUND((E41+(E41*F41))*G41,0) -> 0 | J41: =H41 -> 0
A42: Sous-total du salaire du personnel | H42: =SUM(H22:H41) -> 0 | J42: =SUM(J22:J41) -> 0
A44: 1.3 – FRAIS DE DÉPLACEMENT ET DE SÉJOUR DU DEMANDEUR ET DES PARTENAIRES | G44: BARÈMES | H44: Coût de la dépense admissible ($) (avant taxes) | I44: Contribution du demandeur ou des partenaires | K44: Autre aide gouvernementale ($) | L44: Aide financière demandée au Programme ($)
...

Sheet Source
A1: Dépenses autorisées
A2: Oui
A3: Non
A4: Partiellement
A5: Statut - Documents
A6: (À sélectionner)
A7: Conforme
A8: Non conforme
A9: Ne s'applique pas
A10: Questions : Contributeurs
A11: Oui
A12: Non
... A17: En argent et nature
A18: Profils | B18: Colonne1 | C18: Colonne2
A19: (À sélectionner) | B19: (À sélectionner)
A20: Agronome | B20: Agronome
A21: Chercheur(-euse) universitaire | B21: Chercheur(euse) universitaire
A22: Chercheur(-euse) de centre de recherche | B22: Chercheur(euse) de centre de recherche
A23: Étudiant(e) salarié(e) – postdoctorat | B23: Directeur(trice)
A24: Étudiant(e) salarié(e) – 3e cycle | B24: Étudiant(e)
A25: Étudiant(e) salarié(e) – 2e cycle | B25: Ingénieur(e)
A26: Étudiant(e) salarié(e) – 1er cycle | B26: Ouvrier(ière) agricole
A27: Étudiant(e) salarié(e) (autre) | B27: Producteur(trice) agricole
A28: Ingénieur(e) | B28: Professionnel(le) de recherche
A29: Ouvrier(-ière) | B29: Technicien(ne)
A30: Producteur(-trice) agricole | B30: Vétérinaire
... A32: Technicien(ne) | B32: Autre
A33: Vétérinaire
A34: Autre professionnel(le)
A35: Autre
A36: Demandeur ou partenaire | B36: Colonne1
A37: (À sélectionner)
A38: Université
A39: Autre demandeur
A40: Partenaire
A41: ='Coût et structure financement'!C87 -> 0 | B41: Partenaires 1
A42: ='Coût et structure financement'!C88 -> 0 | B42: Partenaires 2
A43: ='Coût et structure financement'!C89 -> 0 | B43: Partenaires 3
A44: ='Coût et structure financement'!C90 -> 0 | B44: Partenaires 4
A45: ='Coût et structure financement'!C94 -> 0 | B45: Partenaires 5
...
