Workbook

Sheet An 1 Coût Structure financement
A1: PROGRAMME DE DÉVELOPPEMENT TERRITORIAL ET SECTORIEL 2026-2027 Coût et structure de financement
L2: PDTS 2026-09
A3: SOUS-VOLET 1.2 – COORDINATION DE LA CONCERTATION Secteurs agroalimentaires | G3: Paramètres d’aide financière annuels sur les dépenses admissibles
A4: Titre du projet | G4: Taux maximal d’aide financière | I4: 0.8 | J4: Taux maximum de cumul des aides financières publiques | L4: 0.8
A5: Demandeur | G5: Montant minimal d’aide financière | I5: 5000 | J5: Contribution minimale en argent et nature | L5: 0.2
A6: No de dossier | G6: Montant maximal d’aide financière | I6: 100000 | J6: Contribution minimale en argent (portion de l'aide financière excédant 50 000 $) | L6: 0.1
G7: Période de financement | I7: Du 1er janvier au 31 décembre 2027
A9: Veuillez vous référer au document Instructions – Coût et structure de financement avant de remplir le fichier ainsi qu’au Guide du demandeur, disponibles sur le site Web Québec.ca, sous la rubrique Agriculture. Vous avez des questions ou besoin d’aide? Communiquez avec le Programme à pdts.sectoriel@mapaq.gouv.qc.ca.
A11: 1re ANNÉE DU PROJET
A12: SECTION 1 – DESCRIPTION DES DÉPENSES ANNUELLES ADMISSIBLES QUI SONT DIRECTEMENT LIÉES À LA RÉALISATION DU PROJET
A13: DÉPENSES | I13: RÉPARTITION DU FINANCEMENT DES DÉPENSES
A14: 1.1 – AGENTS DE CONCERTATION | H14: Coût de la dépense admissible ($) (avant taxes) | I14: Contribution du demandeur ou des partenaires | K14: Autre aide gouvernementale ($) | L14: Aide financière demandée au Programme ($)
A15: Honoraires à titre d'experts externes, y compris les frais de déplacement et de séjour | I15: En argent ($) (conserver les factures) | J15: En nature ($)
A16: Exemple : Firme ABC 35 000 $ dont 100 $ pour frais de déplacement et de séjour | H16: 35000 | I16: 5000 | J16: Sans objet | L16: =H16-I16-K16 -> 30000
L17: =H17-I17-K17 -> 0
L18: =H18-I18-K18 -> 0
L19: =H19-I19-K19 -> 0
A20: Salaire à titre de contractuels | H20: Coût de la dépense admissible ($) (avant taxes) | I20: Contribution du demandeur ou des partenaires | K20: Autre aide gouvernementale ($) | L20: Aide financière demandée au Programme ($)
A21: Nom | C21: Organisation associée | D21: Catégorie d’emploi | E21: Taux horaire réel ($) | F21: Charges sociales (%) | G21: Heures prévues | I21: En argent ($) (conserver les factures) | J21: En nature ($)
A22: Exemple : Jacques Untel | C22: Regroupement ABC | D22: Agronome | E22: 52 | F22: 0.26 | G22: 1500 | H22: =ROUND((E22+(E22*F22))*G22,0) -> 98280 | J22: Sans objet | L22: =H22-I22-K22 -> 98280
D23: (À sélectionner) | F23: 0.26 | H23: =ROUND((E23+(E23*F23))*G23,0) -> 0 | L23: =H23-I23-J23-K23 -> 0
D24: (À sélectionner) | F24: 0.26 | H24: =ROUND((E24+(E24*F24))*G24,0) -> 0 | L24: =H24-I24-J24-K24 -> 0
D25: (À sélectionner) | F25: 0.26 | H25: =ROUND((E25+(E25*F25))*G25,0) -> 0 | L25: =H25-I25-J25-K25 -> 0
A26: Sous-total des agents de concertation | H26: =SUM(H17:H19)+SUM(H23:H25) -> 0 | I26: =SUM(I17:I19)+SUM(I23:I25) -> 0 | K26: =SUM(K17:K19)+SUM(K23:K25) -> 0 | L26: =SUM(L17:L19)+SUM(L23:L25) -> 0
A28: 1.2 – SALAIRE DU PERSONNEL DU DEMANDEUR ET DES PARTENAIRES | H28: Coût de la dépense admissible ($) | I28: Contribution du demandeur ou des partenaires | K28: Autre aide gouvernementale ($) | L28: Aide financière demandée au Programme ($)
A29: Nom | C29: Organisation associée | D29: Catégorie d’emploi | E29: Taux horaire réel ($) | F29: Charges sociales (%) | G29: Heures prévues | I29: En argent ($) | J29: En nature ($)
A30: Exemple : Jacques Untel | C30: Regroupement ABC | D30: Agronome | E30: 52 | F30: 0.26 | G30: 10 | H30: =ROUND((E30+(E30*F30))*G30,0) -> 655 | I30: Sans objet | J30: =H30 -> 655 | K30: Sans objet | L30: Sans objet
D31: (À sélectionner) | F31: 0.26 | H31: =ROUND((E31+(E31*F31))*G31,0) -> 0 | J31: =H31 -> 0
D32: (À sélectionner) | F32: 0.26 | H32: =ROUND((E32+(E32*F32))*G32,0) -> 0 | J32: =H32 -> 0
D33: (À sélectionner) | F33: 0.26 | H33: =ROUND((E33+(E33*F33))*G33,0) -> 0 | J33: =H33 -> 0
D34: (À sélectionner) | F34: 0.26 | H34: =ROUND((E34+(E34*F34))*G34,0) -> 0 | J34: =H34 -> 0
D35: (À sélectionner) | F35: 0.26 | H35: =ROUND((E35+(E35*F35))*G35,0) -> 0 | J35: =H35 -> 0
D36: (À sélectionner) | F36: 0.26 | H36: =ROUND((E36+(E36*F36))*G36,0) -> 0 | J36: =H36 -> 0
D37: (À sélectionner) | F37: 0.26 | H37: =ROUND((E37+(E37*F37))*G37,0) -> 0 | J37: =H37 -> 0
D38: (À sélectionner) | F38: 0.26 | H38: =ROUND((E38+(E38*F38))*G38,0) -> 0 | J38: =H38 -> 0
D39: (À sélectionner) | F39: 0.26 | H39: =ROUND((E39+(E39*F39))*G39,0) -> 0 | J39: =H39 -> 0
D40: (À sélectionner) | F40: 0.26 | H40: =ROUND((E40+(E40*F40))*G40,0) -> 0 | J40: =H40 -> 0
D41: (À sélectionner) | F41: 0.26 | H41: =ROUND((E41+(E41*F41))*G41,0) -> 0 | J41: =H41 -> 0
D42: (À sélectionner) | F42: 0.26 | H42: =ROUND((E42+(E42*F42))*G42,0) -> 0 | J42: =H42 -> 0
... D45: (À sélectionner) | F45: 0.26 | H45: =ROUND((E45+(E45*F45))*G45,0) -> 0 | J45: =H45 -> 0
...

Sheet An 2 Coût Structure financement
A1: PROGRAMME DE DÉVELOPPEMENT TERRITORIAL ET SECTORIEL 2026-2027 Coût et structure de financement
L2: PDTS 2026-09
A3: SOUS-VOLET 1.2 – COORDINATION DE LA CONCERTATION Secteurs agroalimentaires | G3: Paramètres d’aide financière annuels sur les dépenses admissibles
A4: Titre du projet | B4: =IF('An 1 Coût Structure financement'!B4="","",'An 1 Coût Structure financement'!B4) | G4: Taux maximal d’aide financière | I4: 0.8 | J4: Taux maximum de cumul des aides financières publiques | L4: 0.8
A5: Demandeur | B5: =IF('An 1 Coût Structure financement'!B5="","",'An 1 Coût Structure financement'!B5) | G5: Montant minimal d’aide financière | I5: 5000 | J5: Contribution minimale en argent et nature | L5: 0.2
A6: No de dossier | G6: Montant maximal d’aide financière | I6: 100000 | J6: Contribution minimale en argent (portion de l'aide financière excédant 50 000 $) | L6: 0.1
G7: Période de financement | I7: Du 1er janvier au 31 décembre 2028
A9: Veuillez vous référer au document Instructions – Coût et structure de financement avant de remplir le fichier ainsi qu’au Guide du demandeur, disponibles sur le site Web Québec.ca, sous la rubrique Agriculture. Vous avez des questions ou besoin d’aide? Communiquez avec le Programme à pdts.sectoriel@mapaq.gouv.qc.ca.
A11: 2e ANNÉE DU PROJET
A12: SECTION 1 – DESCRIPTION DES DÉPENSES ANNUELLES ADMISSIBLES QUI SONT DIRECTEMENT LIÉES À LA RÉALISATION DU PROJET
A13: DÉPENSES | I13: RÉPARTITION DU FINANCEMENT DES DÉPENSES
A14: 1.1 – AGENTS DE CONCERTATION | H14: Coût de la dépense admissible ($) (avant taxes) | I14: Contribution du demandeur ou des partenaires | K14: Autre aide gouvernementale ($) | L14: Aide financière demandée au Programme ($)
A15: Honoraires à titre d'experts externes, y compris les frais de déplacement et de séjour | I15: En argent ($) (conserver les factures) | J15: En nature ($)
A16: Exemple : Firme ABC 35 000 $ dont 100 $ pour frais de déplacement et de séjour | H16: 35000 | I16: 5000 | J16: Sans objet | L16: =H16-I16-K16 -> 30000
L17: =H17-I17-K17 -> 0
L18: =H18-I18-K18 -> 0
L19: =H19-I19-K19 -> 0
A20: Salaire à titre de contractuels | H20: Coût de la dépense admissible ($) (avant taxes) | I20: Contribution du demandeur ou des partenaires | K20: Autre aide gouvernementale ($) | L20: Aide financière demandée au Programme ($)
A21: Nom | C21: Organisation associée | D21: Catégorie d’emploi | E21: Taux horaire réel ($) | F21: Charges sociales (%) | G21: Heures prévues | I21: En argent ($) (conserver les factures) | J21: En nature ($)
A22: Exemple : Jacques Untel | C22: Regroupement ABC | D22: Agronome | E22: 52 | F22: 0.26 | G22: 1500 | H22: =ROUND((E22+(E22*F22))*G22,0) -> 98280 | J22: Sans objet | L22: =H22-I22-K22 -> 98280
D23: (À sélectionner) | F23: 0.26 | H23: =ROUND((E23+(E23*F23))*G23,0) -> 0 | L23: =H23-I23-J23-K23 -> 0
D24: (À sélectionner) | F24: 0.26 | H24: =ROUND((E24+(E24*F24))*G24,0) -> 0 | L24: =H24-I24-J24-K24 -> 0
D25: (À sélectionner) | F25: 0.26 | H25: =ROUND((E25+(E25*F25))*G25,0) -> 0 | L25: =H25-I25-J25-K25 -> 0
A26: Sous-total des agents de concertation | H26: =SUM(H17:H19)+SUM(H23:H25) -> 0 | I26: =SUM(I17:I19)+SUM(I23:I25) -> 0 | K26: =SUM(K17:K19)+SUM(K23:K25) -> 0 | L26: =SUM(L17:L19)+SUM(L23:L25) -> 0
A28: 1.2 – SALAIRE DU PERSONNEL DU DEMANDEUR ET DES PARTENAIRES | H28: Coût de la dépense admissible ($) | I28: Contribution du demandeur ou des partenaires | K28: Autre aide gouvernementale ($) | L28: Aide financière demandée au Programme ($)
A29: Nom | C29: Organisation associée | D29: Catégorie d’emploi | E29: Taux horaire réel ($) | F29: Charges sociales (%) | G29: Heures prévues | I29: En argent ($) | J29: En nature ($)
A30: Exemple : Jacques Untel | C30: Regroupement ABC | D30: Agronome | E30: 52 | F30: 0.26 | G30: 10 | H30: =ROUND((E30+(E30*F30))*G30,0) -> 655 | I30: Sans objet | J30: =H30 -> 655 | K30: Sans objet | L30: Sans objet
D31: (À sélectionner) | F31: 0.26 | H31: =ROUND((E31+(E31*F31))*G31,0) -> 0 | J31: =H31 -> 0
D32: (À sélectionner) | F32: 0.26 | H32: =ROUND((E32+(E32*F32))*G32,0) -> 0 | J32: =H32 -> 0
D33: (À sélectionner) | F33: 0.26 | H33: =ROUND((E33+(E33*F33))*G33,0) -> 0 | J33: =H33 -> 0
D34: (À sélectionner) | F34: 0.26 | H34: =ROUND((E34+(E34*F34))*G34,0) -> 0 | J34: =H34 -> 0
D35: (À sélectionner) | F35: 0.26 | H35: =ROUND((E35+(E35*F35))*G35,0) -> 0 | J35: =H35 -> 0
D36: (À sélectionner) | F36: 0.26 | H36: =ROUND((E36+(E36*F36))*G36,0) -> 0 | J36: =H36 -> 0
D37: (À sélectionner) | F37: 0.26 | H37: =ROUND((E37+(E37*F37))*G37,0) -> 0 | J37: =H37 -> 0
D38: (À sélectionner) | F38: 0.26 | H38: =ROUND((E38+(E38*F38))*G38,0) -> 0 | J38: =H38 -> 0
D39: (À sélectionner) | F39: 0.26 | H39: =ROUND((E39+(E39*F39))*G39,0) -> 0 | J39: =H39 -> 0
D40: (À sélectionner) | F40: 0.26 | H40: =ROUND((E40+(E40*F40))*G40,0) -> 0 | J40: =H40 -> 0
D41: (À sélectionner) | F41: 0.26 | H41: =ROUND((E41+(E41*F41))*G41,0) -> 0 | J41: =H41 -> 0
D42: (À sélectionner) | F42: 0.26 | H42: =ROUND((E42+(E42*F42))*G42,0) -> 0 | J42: =H42 -> 0
... D45: (À sélectionner) | F45: 0.26 | H45: =ROUND((E45+(E45*F45))*G45,0) -> 0 | J45: =H45 -> 0
...

Sheet Résumé aide financière (1 an)
A1: Cette page sera remplie par le Ministère
A2: Aide financière demandée | D2: Rappel – Convention
A3: Aide financière totale | B3: ='An 1 Coût Structure financement'!L73 -> 0 | D3: Aide financière totale
D4: Avance
A6: Résumé de l'aide financière | D6: Commentaires MAPAQ
A7: Aide financière validée et versée
A9: Résumé des versements
A10: Description | B10: Versements
A11: Versement début (avance) (Convention) | B11: =E4 -> 0
A12: Versement fin (solde) | B12: =IF(B13<0,"Aucun, car résiduel de :","")
B13: =IF(B7="","",B7-B11)

Sheet Résumé aide financière (2 ans)
A1: Cette page sera remplie par le Ministère
A2: Aide financière demandée | D2: Rappel – Convention
A3: Aide financière totale | B3: =B4+B5 -> 0 | D3: Aide financière totale
A4: Aide financière année 1 | B4: ='An 1 Coût Structure financement'!L73 -> 0 | D4: Aide financière année 1
A5: Aide financière année 2 | B5: ='An 2 Coût Structure financement'!L73 -> 0 | D5: Aide financière année 2
D6: Avance année 1
D7: Avance année 2
A9: Résumé de l'aide financière
A10: Année 1 | D10: Année 2 | G10: Total
A11: État | B11: En cours | D11: État | E11: Non débutée | G11: État | H11: En cours
A12: Aide financière prévue (Convention) | B12: =E4 -> 0 | D12: Aide financière prévue (Convention) | E12: =E5 -> 0 | G12: Aide financière prévue (Convention) | H12: =B12+E12 -> 0
D13: Montant d'aide financière disponible selon l'aide non utilisée (an 1) (100 000 $/année max.) | E13: =IF(B21="",0,MIN(E12+IF(B15="S.O.",0,B15),100000)) -> 0
A14: Aide financière validée et versée | D14: Aide financière validée et versée | G14: Aide financière validée et versée | H14: =B14+E14 -> 0
A15: Aide non utilisée, disponible pour l'année 2 (100 000 $/année max.) | B15: =IF(B12-B14=0,"S.O.",B12-B14) -> S.O.
A16: Résumé des versements
A17: Année 1 | D17: Année 2
A18: Description | B18: Versements | D18: Description | E18: Versements
A19: Versement début (avance) (Convention) | B19: =E6 -> 0 | D19: Résiduel - année précédente | E19: =IF(B21<0,ABS(B21),0) -> 0
A20: Versement fin (solde) | B20: =IF(B21<0,"Aucun, car résiduel de :","") | D20: Versement début (avance) | E20: =E7-E19 -> 0
B21: =IF(B14="","",B14-B19) | D21: Somme (résiduel et avance) | E21: =E19+E20 -> 0
D22: Versement fin (solde) | E22: =IF(E23<0,"Aucun, car résiduel de :","")
E23: =IF(E14="","",E14-E21)
A25: Commentaires MAPAQ | D25: Commentaires MAPAQ

Sheet Résumé aide financière (3 ans)
A1: Cette page sera remplie par le Ministère
A2: Aide financière demandée | D2: Rappel – Convention
A3: Aide financière totale | B3: =B4+B5 -> 0 | D3: Aide financière totale
A4: Aide financière année 1 | B4: ='An 1 Coût Structure financement'!L73 -> 0 | D4: Aide financière année 1
A5: Aide financière année 2 | B5: ='An 2 Coût Structure financement'!L73 -> 0 | D5: Aide financière année 2
A6: Aide financnière année 3 | D6: Aide financnière année 3
D7: Avance année 1
D8: Avance année 2
D9: Avance année 3
A11: Résumé de l'aide financière
A12: Année 1 | D12: Année 2 | G12: Année 3 | J12: Total
A13: État | B13: En cours | D13: État | E13: Non débutée | G13: État | H13: Non débutée | J13: État | K13: En cours
A14: Aide financière prévue (Convention) | B14: =E4 -> 0 | D14: Aide financière prévue (Convention) | E14: =E5 -> 0 | G14: Aide financière prévue (Convention) | H14: =E6 -> 0 | J14: Aide financière prévue (Convention) | K14: =B14+E14+H14 -> 0
D15: Montant d'aide financière disponible selon l'aide non utilisée (an 1) (100 000 $/année max.) | E15: =IF(B23="",0,MIN(E14+IF(B17="S.O.",0,B17),100000)) -> 0 | G15: Montant d'aide financière disponible selon l'aide non utilisée (ans 1 et 2) (100 000 $/année max.) | H15: =IF(E24="",0,MIN(B3-B16-E16,100000)) -> 0
A16: Aide financière validée et versée | D16: Aide financière validée et versée | G16: Aide financière validée et versée | J16: Aide financière validée et versée | K16: =B16+E16+H16 -> 0
A17: Aide non utilisée, disponible pour les années 2 et 3 (100 000 $/année max.) | B17: =IF(B14-B16=0,"S.O.",B14-B16) -> S.O. | D17: Aide non utilisée, disponible pour l'année 3 (100 000 $/année max.) | E17: =IFERROR(IF(E25="",0,MIN(MAX((B4+E15)-(B16+E16),0),100000)),"") -> 0
A18: Résumé des versements
A19: Année 1 | D19: Année 2 | G19: Année 3
A20: Description | B20: Versements | D20: Description | E20: Versements | G20: Description | H20: Versements
A21: Versement début (avance) (Convention) | B21: =E7 -> 0 | D21: Résiduel - année précédente | E21: =IF(B23<0,ABS(B23),0) -> 0 | G21: Résiduel - année précédente | H21: =IF(E25<0,ABS(E25),0) -> 0
A22: Versement fin (solde) | B22: =IF(B23<0,"Aucun, car résiduel de :","") | D22: Versement début (avance) | E22: =E8-E21 -> 0 | G22: Versement début (avance) | H22: =E9-H21 -> 0
B23: =IF(B16="","",B16-B21) | D23: Somme (résiduel et avance) (Convention) | E23: =E21+E22 -> 0 | G23: Somme (résiduel et avance) (Convention) | H23: =H21+H22 -> 0
D24: Versement fin (solde) | E24: =IF(E25<0,"Aucun, car résiduel de :","") | G24: Versement fin (solde) | H24: =IF(H25<0,"Aucun, car résiduel de :","")
E25: =IF(E16="","",E16-E23) | H25: =IF(H16="","",H16-H23)
A27: Commentaires MAPAQ | D27: Commentaires MAPAQ | G27: Commentaires MAPAQ

Sheet Source
A1: Dépenses autorisées
A2: Oui
A3: Non
A4: Partiellement
A5: Statut - Documents
A6: Conforme
A7: Non conforme
A8: Questions : Contributeurs
A9: Oui
A10: Non
A11: Contribution
A12: (À sélectionner)
... A15: En argent et nature
A16: Profils | B16: PDTS | C16: Colonne1
A17: (À sélectionner) | B17: (À sélectionner) | C17: (À sélectionner)
A18: Agronome | B18: Agronome | C18: Agronome
A19: Chercheur(-euse) universitaire | B19: Chercheur(euse) universitaire | C19: Aide pêcheur(-cheuse)
A20: Chercheur(-euse) de centre de recherche | B20: Chercheur(euse) de centre de recherche | C20: Chercheur(-euse) universitaire
A21: Étudiant(e) salarié(e) – postdoctorat | B21: Directeur(trice) | C21: Chercheur(-euse) de centre de recherche
A22: Étudiant(e) salarié(e) – 3e cycle | B22: Étudiant(e) | C22: Étudiant(e) salarié(e) – postdoctorat
A23: Étudiant(e) salarié(e) – 2e cycle | B23: Ingénieur(e) | C23: Étudiant(e) salarié(e) – 3e cycle
A24: Étudiant(e) salarié(e) – 1er cycle | B24: Ouvrier(ière) agricole | C24: Étudiant(e) salarié(e) – 2e cycle
A25: Étudiant(e) salarié(e) (autre) | B25: Producteur(trice) agricole | C25: Étudiant(e) salarié(e) – 1er cycle
A26: Ingénieur(e) | B26: Professionnel(le) de recherche | C26: Étudiant(e) salarié(e) (autre)
A27: Ouvrier(-ière) | B27: Technicien(ne) | C27: Ingénieur(e)
... A30: Technicien(ne) | B30: Autre | C30: Producteur(-trice) agricole
A31: Vétérinaire | C31: Producteur(-trice) aquacole
A32: Autre professionnel(le) | C32: Professionnel(le) de recherche
A33: Autre | C33: Technicien(ne)
A34: Demandeur ou partenaire | B34: Colonne1 | C34: Vétérinaire
A35: (À sélectionner) | C35: Autre professionnel(le)
A36: Programme de développement territorial et sectoriel | C36: Autre
A37: Demandeur
A38: Partenaire
A39: ='An 1 Coût Structure financement'!C92 -> 0 | B39: Partenaires 1
A40: ='An 1 Coût Structure financement'!C93 -> 0 | B40: Partenaires 2
A41: ='An 1 Coût Structure financement'!C94 -> 0 | B41: Partenaires 3
A42: ='An 1 Coût Structure financement'!C95 -> 0 | B42: Partenaires 4
A43: ='An 1 Coût Structure financement'!C96 -> 0 | B43: Partenaires 5
A44: Volets | B44: No selon le volet
...
