Workbook
Name _Toc236404238: Grille!$A$3
Name _Toc236661119: Grille!$A$3
Name grille1: 'G1'!$B$4:$D$42
Name grille2: 'G2'!$B$4:$D$20
Name grille3: 'G3'!$B$4:$D$18
Name grille4: 'G4'!$B$4:$D$39
Name grille5: 'G5'!$B$4:$D$13
Name tableau1: 'T1'!$B$4:$C$29
Name tableau1: #REF!
Name tableau2: 'T2'!$B$3:$D$28
Name tableau3: 'T3'!$B$4:$E$16
Name tableau4: 'T4'!$B$4:$E$16
Name tableau5: 'T5'!$B$4:$C$29

Sheet T1
A1: INSTRUCTIONS - Ce tableau est obligatoire à insérer dans l'AIR, sans l'altérer. - Seules certaines cases de ce tableau sont éditables. Pour les identifier aisément, veuillez utiliser le menu déroulant ci-dessous. - Il est possible d'ajouter ou de supprimer des lignes au besoin. Chaque zone où il est possible d'ajouter des lignes comprend par défaut deux lignes et est identifiée par un arrière-plan est en gris pâle. - Pour ajouter une ligne, il faut insérer une ligne au-dessus de la dernière ligne de la zone concernée. - Si moins de deux lignes sont requises dans la zone, l'une d'elles peut être supprimée. - Si aucune ligne n'est requise dans une zone, laisser une ligne - Concernant la zone qui porte sur les secteurs, au moins un secteur doit être identifié. Cette zone doit donc comprendre au minimum une ligne. - Concernant la zone qui porte sur les indicateurs, outre les trois indicateurs de base (emploi, production, part PIB), aucun indicateur additionnel n'est obligatoire. Les lignes additionnelles peuvent donc toutes être retirées au besoin. - Une fois rempli, l'ensemble du tableau (zone blanche) doit être copié-collé dans l'AIR. - Les cases éditables ne doivent pas être en surbrillance au moment du collage. - Lorsque des modifications doivent être apportées dans les données du tableau après son insertion à l'AIR, il est essentiel d'effectuer d’abord les modifications dans le chiffrier, puis d’insérer le tableau modifié en remplacement de celui figurant dans l’AIR.
A2: Voulez-vous mettre en surbrillance les cellules éditables ? | C2: non
B4: TABLEAU 1
B5: Description des secteurs économiques touchés
B7: a) Secteurs touchés
B9: Secteurs | C9: SCIAN
B10: secteur 1 : xxxxxx | C10: 0000
B11: secteur 2 : xxxxxx | C11: 0000
B13: b) Nombre d'entreprises touchées
B15: Taille des entreprises (employés) | C15: Nombre d'entreprises
B16: 0 | C16: 0
B17: 1-99 | C17: 0
B18: 100-499 | C18: 0
B19: >500 | C19: 0
B20: Total | C20: =SUM(C16:C19) -> 0
B22: c) Caractéristiques additionnelles des secteurs touchés
B24: Indicateur | C24: Valeur
B25: Nombre d'emplois | C25: 0
B26: Production annuelle | C26: 0
B27: Part des secteurs dans le PIB de l'économie du Québec | C27: 0
B28: xxxxxx | C28: xxxxxx
B29: xxxxxx | C29: xxxxxx

Sheet T2
A1: INSTRUCTIONS - Ce tableau est obligatoire à insérer dans l'AIR, sans l'altérer. - Aucune case de ce tableau n'est éditable: le tableau se remplit automatiquement lorsqu'on entre des données dans les grilles 1 à 5 se trouvant dans les onglets G1 à G5. - Il n'est pas possible d'ajouter et de supprimer des lignes. - Une fois rempli, l'ensemble du tableau (zone blanche) doit être copié-collé dans l'AIR. - Lorsque des modifications doivent être apportées dans les données du tableau après son insertion dans l'AIR, il est essentiel d'effectuer d’abord les modifications dans le chiffrier, puis d’insérer le tableau modifié en remplacement de celui figurant dans l’AIR.
B3: TABLEAU 2
B4: Coûts nets (économies nettes) pour les entreprises
B5: (par catégorie, en dollars)
C6: Période d'implantation (non récurrent) | D6: Montant par année (récurrent)
B8: Coûts pour les entreprises
B9: Coûts directs de conformité | C9: ='G1'!C24 -> 0 | D9: ='G1'!D10 -> 0
B10: Coûts financiers | C10: ='G2'!C13 -> 0 | D10: ='G2'!D13 -> 0
B11: Manques à gagner | C11: ='G3'!C12 -> 0 | D11: ='G3'!D12 -> 0
B12: Coûts liés aux formalités administratives
B13: formalités existantes | C13: ='G4'!C16 -> 0 | D13: ='G4'!D16 -> 0
B14: formalités ajoutées | C14: ='G4'!C23 -> 0 | D14: ='G4'!D23 -> 0
B15: Sous-total | C15: =SUM(C9:C14) -> 0 | D15: =SUM(D9:D14) -> 0
B17: Économies pour les entreprises
B18: Diminution des coûts directs de conformité | C18: ='G1'!C41 -> 0 | D18: ='G1'!D41 -> 0
B19: Diminution des coûts financiers | C19: ='G2'!C19 -> 0 | D19: ='G2'!D19 -> 0
B20: Revenus supplémentaires | C20: ='G3'!C17 -> 0 | D20: ='G3'!D17 -> 0
B21: Diminution des coûts liés aux formalités administratives
B22: formalités existantes | C22: ='G4'!C31 -> 0 | D22: ='G4'!D31 -> 0
B23: formalités abolies | C23: ='G4'!C38 -> 0 | D23: ='G4'!D38 -> 0
B24: Sous-total | C24: =SUM(C18:C23) -> 0 | D24: =SUM(D18:D23) -> 0
B26: Contributions gouvernementales | C26: ='G5'!C12 -> 0 | D26: ='G5'!D12 -> 0
B28: TOTAL | C28: =C15-C24-C26 -> 0 | D28: =D15-D24-D26 -> 0

Sheet T3
A1: INSTRUCTIONS - Bien que non obligatoire, l'utilisation de ce tableau est fortement recommandé pour favoriser une plus grande standardisation et faciliter la compréhension par le lecteur. - Le contenu du tableau est entièrement éditable, à l'exception des entêtes. Pour identifier aisément les cases éditables, veuillez utiliser le menu déroulant ci-dessous. - Il est possible d'ajouter ou de supprimer des lignes au besoin. Pour ajouter une ligne, il faut insérer une ligne au-dessus de la dernière ligne de la zone. - Une fois rempli, l'ensemble du tableau (zone blanche) doit être copié-collé dans l'AIR. - Les cases éditables ne doivent pas être en surbrillance au moment du collage. - Lorsque des modifications doivent être apportées dans les données du tableau après son insertion dans l'AIR, il est essentiel d'effectuer d’abord les modifications dans le chiffrier, puis d’insérer le tableau modifié en remplacement de celui figurant dans l’AIR.
A2: Voulez-vous mettre en surbrillance les cellules éditables ? | C2: non
B4: TABLEAU 3
B5: Hypothèses pour l'estimation des coûts
B6: (par hypothèse, estimation en dollars)
C7: Paramètres | D7: Période d’implantation | E7: Montant par année (récurrent)
B8: Coût 1 | D8: 0 | E8: 0
B9: Hypothèse 1 | C9: p1
B10: Coût 2 | D10: 0 | E10: 0
B11: Hypothèse 2 | C11: p2
B12: Hypothèse 3 | C12: p3
B13: Hypothèse 4 | C13: p4
B14: Coût 3 | D14: 0 | E14: 0
B15: Hypothèse 5 | C15: p5
B16: TOTAL | D16: =SUM(D8:D15) -> 0 | E16: =SUM(E8:E15) -> 0

Sheet T4
A1: INSTRUCTIONS - Bien que non obligatoire, l'utilisation de ce tableau est fortement recommandé pour favoriser une plus grande standardisation et faciliter la compréhension par le lecteur. - Le contenu du tableau est entièrement éditable, à l'exception des entêtes. Pour identifier aisément les cases éditables, veuillez utiliser le menu déroulant ci-dessous. - Il est possible d'ajouter ou de supprimer des lignes au besoin. Pour ajouter une ligne, il faut insérer une ligne au-dessus de la dernière ligne de la zone. - Une fois rempli, l'ensemble du tableau (zone blanche) doit être copié-collé dans l'AIR. - Les cases éditables ne doivent pas être en surbrillance au moment du collage. - Lorsque des modifications doivent être apportées dans les données du tableau après son insertion dans l'AIR, il est essentiel d'effectuer d’abord les modifications dans le chiffrier, puis d’insérer le tableau modifié en remplacement de celui figurant dans l’AIR.
A2: Voulez-vous mettre en surbrillance les cellules éditables ? | C2: non
B4: TABLEAU 4
B5: Hypothèses pour l'estimation des économies
B6: (par hypothèse, estimation en dollars)
C7: Paramètres | D7: Période d’implantation | E7: Montant par année (récurrent)
B8: Économie 1 | D8: 0 | E8: 0
B9: Hypothèse 1 | C9: p1
B10: Économie 2 | D10: 0 | E10: 0
B11: Hypothèse 2 | C11: p2
B12: Hypothèse 3 | C12: p3
B13: Hypothèse 4 | C13: p4
B14: Économie 3 | D14: 0 | E14: 0
B15: Hypothèse 5 | C15: p5
B16: TOTAL | D16: =SUM(D8:D15) -> 0 | E16: =SUM(E8:E15) -> 0

Sheet T5
A1: INSTRUCTIONS - Ce tableau est obligatoire à insérer dans l'AIR, sans l'altérer. - Seules certaines cases de ce tableau sont éditables. Pour les identifier aisément, veuillez utiliser le menu déroulant ci-dessous. - Il est possible d'ajouter ou de supprimer des lignes au besoin. Chaque zone où il est possible d'ajouter des lignes comprend par défaut deux lignes et est identifiée par un arrière-plan est en gris pâle. - Pour ajouter une ligne, il faut insérer une ligne au-dessus de la dernière ligne de la zone concernée. - Si moins de deux lignes sont requises dans la zone, l'une d'elles peut être supprimée. - Chacune des quatre zones doit donc comprendre au minimum une ligne. S'il n'y a aucune formalité à déclarer pour une zone, conserver seulement une ligne et remplacer la mention « formalité 1 » par « s. o. ». - Une fois rempli, l'ensemble du tableau (zone blanche) doit être copié-collé dans l'AIR. - Les cases éditables ne doivent pas être en surbrillance au moment du collage. - Lorsque des modifications doivent être apportées dans les données du tableau après son insertion dans l'AIR, il est essentiel d'effectuer d’abord les modifications dans le chiffrier, puis d’insérer le tableau modifié en remplacement de celui figurant dans l’AIR.
A2: Voulez-vous mettre en surbrillance les cellules éditables ? | C2: non
B4: TABLEAU 5
B5: Coûts nets des formalités ajoutées, alourdies, abolies et allégées
B6: (formalités visées par l'exigence, en dollars)
C7: Coût
B9: Formalités ajoutées
B10: formalité 1 | C10: 0
B11: formalité 2 | C11: 0
B12: Sous-total | C12: =SUM(C10:C11) -> 0
B14: Formalités alourdies de plus de 25%
B15: formalité 1 | C15: 0
B16: formalité 2 | C16: 0
B17: Sous-total | C17: =SUM(C15:C16) -> 0
B19: Formalités abolies en contrepartie
B20: formalité 1 | C20: 0
B21: formalité 2 | C21: 0
B22: Sous-total | C22: =SUM(C20:C21) -> 0
B24: Formalités allégées en contrepartie
B25: formalité 1 | C25: 0
B26: formalité 2 | C26: 0
B27: Sous-total | C27: =SUM(C25:C26) -> 0
B29: TOTAL | C29: =C12+C17-C22-C27 -> 0

Sheet G1
A1: INSTRUCTIONS - Cette grille de calcul doit être remplie pour alimenter le tableau 2. Son insertion dans l'annexe 1 de l'AIR n'est toutefois pas obligatoire, mais est recommandée pour les projets impliquant des coûts importants ou complexes. - Seules certaines cases de cette grille sont éditables. Pour les identifier aisément, veuillez utiliser le menu déroulant ci-dessous. - Il n'est pas possible d'ajouter ou de supprimer des lignes. - Une fois remplie, toute la grille (zone blanche) peut être copiée-collée dans l'annexe 1 de l'AIR. - Les cases éditables ne doivent pas être en surbrillance au moment du collage. - Lorsque des modifications doivent être apportées dans les données de la grille après son insertion dans l'AIR, il est essentiel d'effectuer d’abord les modifications dans le chiffrier, puis d’insérer la grille modifiée en remplacement de celle figurant dans l’AIR.
A2: Voulez-vous mettre en surbrillance les cellules éditables ? | C2: non
B4: GRILLE DE CALCUL 1
B5: Coûts directs de conformité
B6: (par élément, en dollars)
C7: Période d'implantation (non récurrent) | D7: Montant par année (récurrent)
B8: Augmentation des coûts directs de conformité pour les entreprises
B9: Coût des équipements requis pour assurer la conformité
B10: acquisitions | C10: 0 | D10: 0
B11: location | C11: 0 | D11: 0
B12: entretien | C12: 0 | D12: 0
B13: mise à jour | C13: 0 | D13: 0
B14: Salaires des employés effectuant des opérations en lien avec la conformité
B15: inspections | C15: 0 | D15: 0
B16: prises de mesures | C16: 0 | D16: 0
B17: inventaires et marquage | C17: 0 | D17: 0
B18: évaluations et calculs | C18: 0 | D18: 0
B19: Coûts des services impartis
B20: audits | C20: 0 | D20: 0
B21: autres services professionnels | C21: 0 | D21: 0
B22: Primes d'assurances | C22: 0 | D22: 0
B23: Autres coûts directs liés à la conformité | C23: 0 | D23: 0
B24: Total | C24: =SUM(C9:C23) -> 0 | D24: =SUM(D9:D23) -> 0
B25: Diminution des coûts directs de conformité pour les entreprises
B26: Coût des équipements requis pour assurer la conformité
B27: acquisitions | C27: 0 | D27: 0
B28: location | C28: 0 | D28: 0
B29: entretien | C29: 0 | D29: 0
B30: mise à jour | C30: 0 | D30: 0
B31: Salaires des employés effectuant des opérations en lien avec la conformité
B32: inspections | C32: 0 | D32: 0
B33: prises de mesures | C33: 0 | D33: 0
B34: inventaires et marquage | C34: 0 | D34: 0
B35: évaluations et calculs | C35: 0 | D35: 0
B36: Coûts des services impartis
B37: audits | C37: 0 | D37: 0
B38: autres services professionnels | C38: 0 | D38: 0
B39: Primes d'assurances | C39: 0 | D39: 0
B40: Autres coûts directs liés à la conformité | C40: 0 | D40: 0
B41: Total | C41: =SUM(C26:C40) -> 0 | D41: =SUM(D26:D40) -> 0

Sheet G2
A1: INSTRUCTIONS - Cette grille de calcul doit être remplie pour alimenter le tableau 2. Son insertion dans l'annexe 1 de l'AIR n'est toutefois pas obligatoire, mais est recommandée pour les projets impliquant des coûts importants ou complexes. - Seules certaines cases de cette grille sont éditables. Pour les identifier aisément, veuillez utiliser le menu déroulant ci-dessous. - Il n'est pas possible d'ajouter ou de supprimer des lignes. - Une fois remplie, toute la grille (zone blanche) peut être copiée-collée dans l'annexe 1 de l'AIR. - Les cases éditables ne doivent pas être en surbrillance au moment du collage. - Lorsque des modifications doivent être apportées dans les données de la grille après son insertion dans l'AIR, il est essentiel d'effectuer d’abord les modifications dans le chiffrier, puis d’insérer la grille modifiée en remplacement de celle figurant dans l’AIR.
A2: Voulez-vous mettre en surbrillance les cellules éditables ? | C2: non
B4: GRILLE DE CALCUL 2
B5: Coûts financiers
B6: (par catégorie, en dollars)
C7: Période d'implantation (non récurrent) | D7: Montant par année (récurrent)
B9: Augmentation des coûts financiers
B10: Taxes | C10: 0 | D10: 0
B11: Droits, frais, tarifs, redevances | C11: 0 | D11: 0
B12: Cautionnements | C12: 0 | D12: 0
B13: Total | C13: =SUM(C10:C12) -> 0 | D13: =SUM(D10:D12) -> 0
B15: Diminution des coûts financiers
B16: Taxes | C16: 0 | D16: 0
B17: Droits, frais, tarifs, redevances | C17: 0 | D17: 0
B18: Cautionnements | C18: 0 | D18: 0
B19: Total | C19: =SUM(C16:C18) -> 0 | D19: =SUM(D16:D18) -> 0

Sheet G3
A1: INSTRUCTIONS - Cette grille de calcul doit être remplie pour alimenter le tableau 2. Son insertion dans l'annexe 1 de l'AIR n'est toutefois pas obligatoire, mais est recommandée pour les projets impliquant des coûts importants ou complexes. - Seules certaines cases de cette grille sont éditables. Pour les identifier aisément, veuillez utiliser le menu déroulant ci-dessous. - Il n'est pas possible d'ajouter ou de supprimer des lignes. - Une fois remplie, toute la grille (zone blanche) peut être copiée-collée dans l'annexe 1 de l'AIR. - Les cases éditables ne doivent pas être en surbrillance au moment du collage. - Lorsque des modifications doivent être apportées dans les données de la grille après son insertion dans l'AIR, il est essentiel d'effectuer d’abord les modifications dans le chiffrier, puis d’insérer la grille modifiée en remplacement de celle figurant dans l’AIR.
A2: Voulez-vous mettre en surbrillance les cellules éditables ? | C2: non
B4: GRILLE DE CALCUL 3
B5: Manques à gagner et revenus supplémentaires
B6: (par catégorie, en dollars)
C7: Période d'implantation (non récurrent) | D7: Montant par année (récurrent)
B9: Manques à gagner
B10: Diminution du chiffre d'affaires | C10: 0 | D10: 0
B11: Pertes d'inventaire | C11: 0 | D11: 0
B12: Total | C12: =SUM(C10:C11) -> 0 | D12: =SUM(D10:D11) -> 0
B14: Revenus supplémentaires
B15: Augmentation du chiffre d'affaires | C15: 0 | D15: 0
B16: Meilleure gestion d'inventaire | C16: 0 | D16: 0
B17: Total | C17: =SUM(C15:C16) -> 0 | D17: =SUM(D15:D16) -> 0

Sheet G4
A1: INSTRUCTIONS - Cette grille de calcul doit être remplie pour alimenter le tableau 2. Son insertion dans l'annexe 1 de l'AIR n'est toutefois pas obligatoire, mais est recommandée pour les projets impliquant des coûts importants ou complexes. - Seules certaines cases de cette grille sont éditables. Pour les identifier aisément, veuillez utiliser le menu déroulant ci-dessous. - Il n'est pas possible d'ajouter ou de supprimer des lignes. - Une fois remplie, toute la grille (zone blanche) peut être copiée-collée dans l'annexe 1 de l'AIR. - Les cases éditables ne doivent pas être en surbrillance au moment du collage. - Lorsque des modifications doivent être apportées dans les données de la grille après son insertion dans l'AIR, il est essentiel d'effectuer d’abord les modifications dans le chiffrier, puis d’insérer la grille modifiée en remplacement de celle figurant dans l’AIR.
A2: Voulez-vous mettre en surbrillance les cellules éditables ? | C2: non
B4: GRILLE DE CALCUL 4
B5: Coûts liés aux formalités administratives
B6: (par activité, en dollars)
C7: Période d'implantation (non récurrent) | D7: Montant par année (récurrent)
B9: Augmentation des coûts liés aux formalités administratives
B10: Formalités existantes
B11: montage du dossier | C11: 0 | D11: 0
B12: remplissage des formulaires | C12: 0 | D12: 0
B13: transmission | C13: 0 | D13: 0
B14: déplacement | C14: 0 | D14: 0
B15: autres | C15: 0 | D15: 0
B16: Total | C16: =SUM(C11:C15) -> 0 | D16: =SUM(D11:D15) -> 0
B17: Formalités ajoutées
B18: montage du dossier | C18: 0 | D18: 0
B19: remplissage des formulaires | C19: 0 | D19: 0
B20: transmission | C20: 0 | D20: 0
B21: déplacement | C21: 0 | D21: 0
B22: autres | C22: 0 | D22: 0
B23: Total | C23: =SUM(C18:C22) -> 0 | D23: =SUM(D18:D22) -> 0
B24: Diminution des coûts liés aux formalités administratives
B25: Formalités existantes
B26: montage du dossier | C26: 0 | D26: 0
B27: remplissage des formulaires | C27: 0 | D27: 0
B28: transmission | C28: 0 | D28: 0
B29: déplacement | C29: 0 | D29: 0
B30: autres | C30: 0 | D30: 0
B31: Total | C31: =SUM(C26:C30) -> 0 | D31: =SUM(D26:D30) -> 0
B32: Formalités ajoutées
B33: montage du dossier | C33: 0 | D33: 0
B34: remplissage des formulaires | C34: 0 | D34: 0
B35: transmission | C35: 0 | D35: 0
B36: déplacement | C36: 0 | D36: 0
B37: autres | C37: 0 | D37: 0
B38: Total | C38: =SUM(C33:C37) -> 0 | D38: =SUM(D33:D37) -> 0

Sheet G5
A1: INSTRUCTIONS - Cette grille de calcul doit être remplie pour alimenter le tableau 2. Son insertion dans l'annexe 1 de l'AIR n'est toutefois pas obligatoire, mais est recommandée pour les projets impliquant des coûts importants ou complexes. - Seules certaines cases de cette grille sont éditables. Pour les identifier aisément, veuillez utiliser le menu déroulant ci-dessous. - Il n'est pas possible d'ajouter ou de supprimer des lignes. - Une fois remplie, toute la grille (zone blanche) peut être copiée-collée dans l'annexe 1 de l'AIR. - Les cases éditables ne doivent pas être en surbrillance au moment du collage. - Lorsque des modifications doivent être apportées dans les données de la grille après son insertion dans l'AIR, il est essentiel d'effectuer d’abord les modifications dans le chiffrier, puis d’insérer la grille modifiée en remplacement de celle figurant dans l’AIR.
A2: Voulez-vous mettre en surbrillance les cellules éditables ? | C2: non
B4: GRILLE DE CALCUL 5
B5: Contributions gouvernementales
B6: (par activité, en dollars)
C7: Période d'implantation (non récurrent) | D7: Montant par année (récurrent)
B9: Aide financière | C9: 0 | D9: 0
B10: Crédits d'impôt | C10: 0 | D10: 0
B11: Autres contributions gouvernementales | C11: 0 | D11: 0
B12: Total | C12: =SUM(C9:C11) -> 0 | D12: =SUM(D9:D11) -> 0

Sheet Grille
A1: INSTRUCTIONS - Cette grille de vérification doit être remplie pour assurer la conformité de l'AIR. Son insertion dans l'annexe 2 de l'AIR n'est toutefois pas obligatoire. - Seules les cases à cocher de ce tableau sont éditables. Pour les identifier aisément, veuillez utiliser le menu déroulant ci-dessous. - Il n'est pas possible d'ajouter ou de supprimer des lignes. - Une fois remplie, toute la grille (zone blanche) peut être copiée-collée dans l'annexe 2 de l'AIR.
A3: Annexe 2. grille de vérification de conformité
B5: Général
B6: Le gabarit le plus récent disponible sur Québec.ca a été utilisé. | C6: FALSE
B7: Toutes les sections du gabarit ont été conservées et remplies. | C7: FALSE
B8: Les tableaux prescrits n'ont pas été altérés. | C8: FALSE
B9: L'AIR a été soumise au responsable de la conformité des AIR de l'organisation. | C9: FALSE
B10: La publication de l'AIR sur le site Internet de l'organisation est prévue. | C10: FALSE
B11: La mise à jour de l'AIR est prévue aux principaux jalons du cheminement de la proposition légale ou réglementaire. | C11: FALSE
A12: 0 | B12: Sommaire
B13: Le contenu de la section résume une à une les sections 1 à 3 et n'introduit pas d'éléments additionnels par rapport à celle-ci. | C13: FALSE
B14: Les coûts totaux et économies totales figurent dans le sommaire. | C14: FALSE
A15: 1 | B15: Présentation de la proposition légale ou réglementaire
A16: 1.1 | B16: Définition du problème
B17: Le contenu de la section est conforme au contenu attendu, c'est-à-dire que la nature du problème est identifiée, le contexte est cerné, les constats sont présentés, les causes sont décrites et la nécessité de l’intervention de l’État est justifiée. | C17: FALSE
A18: 1.2 | B18: Description de la proposition
B19: Le contenu de la section est conforme au contenu attendu, c'est-à-dire que la proposition du projet est décrite et que la solution projetée est en lien avec la problématique. | C19: FALSE
B20: Le lien entre la solution proposée et le problème identifié est clair. | C20: FALSE
B21: Le contenu de la section est vulgarisé en langage simple. | C21: FALSE
A22: 1.3 | B22: Analyse des options non réglementaires
B23: Le contenu de la section est conforme au contenu attendu, c'est-à-dire qu'il a été démontré que pour résoudre le problème, des solutions non législatives ou réglementaires (mesures incitatives, information, sensibilisation, éducation ou mécanismes de marché) ont été envisagées. | C23: FALSE
B24: Les raisons du rejet des options non réglementaires sont expliquées. | C24: FALSE
A25: SAUT DE PAGE
A26: 2 | B26: Évaluation des impacts
A27: 2.1 | B27: Description des secteurs touchés
B28: Le tableau obligatoire prescrit a été rempli en entier. | C28: FALSE
B29: Toutes les entreprises et les types d'entreprises concernées ont été pris en compte. | C29: FALSE
A30: 2.2 | B30: Coûts et économies pour les entreprises
B31: Les tableaux obligatoires prescrits ont été remplis en entier. | C31: FALSE
B32: Tous les coûts et économies pour les entreprises ont été inclus et chiffrés. | C32: FALSE
B33: Les coûts et les économies figurent dans les tableaux en dollars (et non en milliers, en millions ou en milliards de dollars). | C33: FALSE
B34: Les termes imprécis tels que « impossible à calculer, coût faible, impact négligeable » ont été éliminés. | C34: FALSE
A35: 2.3 | B35: Hypothèses utilisées pour l’estimation des coûts et des économies
B36: Chaque coût et économie figurant à la section 2.2 est appuyé par des hypothèses illustrées à la section 2.3. | C36: FALSE
A37: 2.4 | B37: Consultation des parties prenantes sur les hypothèses de calcul des coûts et des économies
B38: Les secteurs concernés ont été consultés pour la validité des hypothèses. | C38: FALSE
B39: Si les consultations n'ont pas eu lieu, le moment et les acteurs à consulter sont déjà prévus. | C39: FALSE
A40: 3 | B40: Conformité aux exigences
A41: 3.1 | B41: Principes d’allègement réglementaire
B42: Les différents principes d’allègement réglementaire figurant dans le chapitre II de la Politique sont respectés. | C42: FALSE
...

Sheet Valeurs
A1: oui
A2: non
