{"text_format":"1","workbook":"xlsx","n_sheets":18,"sheets":["Contrôle","Accueil","Outil de priorisation des carac","Calculs_Carac","Menus_Carac","Outil de classification","Calculs_Classif","IntrusionVapeur_Classif","Menus_Classif","Outil de priorisation des rehab","Calculs_Rehab","Menus_Rehab","A-Outil sélection scénario","Menu_scenario","B-Méthodes","Combinaison de méthodes","C-Scénarios","Dangers immédiats"],"not_rendered":{"charts":0,"images":3,"macros":1,"external_links":1,"defined_names":28,"comments":0,"pivot_tables":0},"unopened":[],"bounds":{"document_bytes":16777216,"sheet_cells":100000,"rows_first":2000,"rows_last":500,"rows_between":2000,"halvings":0,"cell_chars":16384,"cell_head_chars":4096},"cells_cut":0,"cells_raw":0,"read":"whole","date_system":"1900"}

{"sheet":"Contrôle","index":0,"n_rows":95,"n_cols":7,"rows_kept":95,"cut":false,"hidden":true,"merged":[]}
["Cellule de\ndéclenchement","Opérateur","Valeur de \ndéclenchement","Action","Cellules cibles à protéger","Lignes cibles à masquer","Notes"]
["Outil 1 - Outil de priorisation des carac (named range = SheetControl1)"]
["E47","=","Non, connu","Protéger","C48:E48",null,"Section 2-A - Danger tox/écotox"]
["E47","=","Non appréhendé","Protéger","C48:E48",null,"Section 2-A - Danger tox/écotox"]
["E58","=","Non, connu","Protéger","C59:E59",null,"Section 2-B - Danger sécurisation"]
["E58","=","Non appréhendé","Protéger","C59:E59",null,"Section 2-B - Danger sécurisation"]
["E65","=","Non","Protéger","E67:E69",null,"Section 3 - Exigences légales"]
["E73","=","Non","Protéger","E75:E77",null,"Section 4 - Exigences administratives"]
["E82","=","Non","Masquer",null,"83:126,139:186","Section 5-A - Caractérisation de phase I"]
["E83","=","Non","Masquer",null,"84:187","Section 5-A - Caractérisation de phase I"]
["E85","=","Non","Masquer",null,"91:93,96:98,101:102,105:106,109:110,113:114,117:118,121:122,123:126","Section 5-B - Caractérisation de phase II"]
["E90","=","Non","Protéger","E91:E93,E141:E144,E146:E149,E165:E169",null,"Section 5-C.2 - Matériaux de surface 0-1 m (sols, matières résiduelles, matériaux mis en pile)"]
["E91","=","Non","Protéger","E92:E93",null,"Section 5-C.2 - Matériaux de surface 0-1 m (sols, matières résiduelles, matériaux mis en pile)"]
["E95","=","Non","Protéger","E96:E98",null,"Section 5-C.3 - Matériaux en profondeur >1 m (sols, matières résiduelles)"]
["E96","=","Non","Protéger","E97:E98",null,"Section 5-C.3 - Matériaux en profondeur >1 m (sols, matières résiduelles)"]
["E100","=","Non","Protéger","E101:E102,E151:E152",null,"Section 5-C.4 - Composés volatils dans les sols"]
["E101","=","Non","Protéger","E102",null,"Section 5-C.4 - Composés volatils dans les sols"]
["E104","=","Non","Protéger","E105:E106,E157:E159,E161,E162",null,"Section 5-C.5 - Eau souterraine"]
["E105","=","Non","Protéger","E106",null,"Section 5-C.5 - Eau souterraine"]
["E108","=","Non","Protéger","E109:E110,E154:E155",null,"Section 5-C.6 - Composés volatils dans l'eau souterraine"]
["E109","=","Non","Protéger","E110",null,"Section 5-C.6 - Composés volatils dans l'eau souterraine"]
["E112","=","Non","Protéger","E113:E114,E171:E174",null,"Section 5-C.7 - Eau de surface"]
["E113","=","Non","Protéger","E114",null,"Section 5-C.7 - Eau de surface"]
["E116","=","Non","Protéger","E117:E118,E176:E177",null,"Section 5-C.8 - Sédiments"]
["E117","=","Non","Protéger","E118",null,"Section 5-C.8 - Sédiments"]
["E120","=","Non","Protéger","E121:E122,E179:E186",null,"Section 5-C.9 - Résidus miniers (résidus d'usinage et stériles miniers)"]
["E121","=","Non","Protéger","E122",null,"Section 5-C.9 - Résidus miniers (résidus d'usinage et stériles miniers)"]
["E125","=","Non","Protéger","E131:E134",null,"Section 5-D - Statut de la caractérisation de phase II"]
["E126","=","Oui","Masquer",null,"128:187","Section 5-D - Statut de la caractérisation de phase II"]
["E137","=","Aucun","Protéger","D138:E138",null,"Section 6-A.2 - Incidents environnementaux"]
[]
[]
[]
[]
[]
["Outil 2 - Outil de classification (named range = SheetControl2)"]
["D46","=","Non, connu","Protéger","C47:D47",null,"Section 2-A - Danger tox/écotox"]
["D46","=","Non appréhendé","Protéger","C47:D47",null,"Section 2-A - Danger tox/écotox"]
["D57","=","Non, connu","Protéger","C58:D58",null,"Section 2-B - Danger sécurisation"]
["D57","=","Non appréhendé","Protéger","C58:D58",null,"Section 2-B - Danger sécurisation"]
["D65","<>","Résidentiel/institutionnel sensible","Protéger","D70",null,"Section 3 - Usages, fréquentation et éléments sensibles"]
["D88","=","Non","Protéger","D90:D103,D105:D109,D146:D153",null,"Section 4-A - Contamination des matériaux de surface 0-1 m (sols, matières résiduelles, matériaux mis en pile) du site"]
["D108","=","0 %","Protéger","D151",null,"Section 4-A - Contamination des matériaux de surface 0-1 m (sols, matières résiduelles, matériaux mis en pile) du site"]
["D109","=","0 %","Protéger","D152",null,"Section 4-A - Contamination des matériaux de surface 0-1 m (sols, matières résiduelles, matériaux mis en pile) du site"]
["D110","=","Non","Protéger","D112:D127,D129:D144,D155:D157",null,"Section 4-B - Contamination des sols en composés volatils sous le ou les bâtiments ou à proximité de ceux-ci (<30 m)"]
["D160","=","Non","Protéger","D162:D165,D167:D168",null,"Section 5-A - Présence de sédiments contaminés"]
["D162","=","Non","Protéger","D163",null,"Section 5-A - Présence de sédiments contaminés"]
["D164","=","Non","Protéger","D165",null,"Section 5-A - Présence de sédiments contaminés"]
["D171","=","Non","Protéger","D173:D179,D181:D184,D186:D188",null,"Section 6-A - Résidus d'usinage "]
["D189","=","Non","Protéger","D191:D196,D198:D201,D203:D205",null,"Section 6-C - Stériles miniers"]
["D208","=","Non","Protéger","D210:D229",null,"Section 7-A - Contamination de l'eau souterraine: Évaluation des critères de résurgence dans l'eau de surface"]
["D230","=","Non","Protéger","D232:D247",null,"Section 7-B - Contamination de l'eau souterraine: Évaluation des critères d'eau de consommation"]
["D248","=","Non","Protéger","D250:D268,D273:D274",null,"Section 7-C - Contamination de l'eau souterraine: Évaluation des critères d'intrusion de vapeur dans l'eau souterraine sous le ou les bâtiments ou à proximité de ceux-ci (<30 m)"]
["D277","=","Non","Protéger","D278:D285,D287:D289",null,"Section 8-A - Contamination de l'eau de surface"]
[]
[]
[]
[]
[]
[]
[]
["Outil 3 - Outil de priorisation des réhabs (named range = SheetControl3)"]
["D32","=","Oui","Protéger","D65,D67,D68,D69,D73,D75,D76:D77",null,"Sections 3 et 4"]
["D32","=","Non","Protéger","D81,D83,D84:D85,D89,D92,D93:D94",null,"Section 5 et 6"]
["D47","=","Non, connu","Protéger","C48:D48",null,"Section 2-A - Danger tox/écotox"]
["D47","=","Non appréhendé","Protéger","C48:D48",null,"Section 2-A - Danger tox/écotox"]
["D58","=","Non, connu","Protéger","C59:D59",null,"Section 2-B - Danger sécurisation"]
["D58","=","Non appréhendé","Protéger","C59:D59",null,"Section 2-B - Danger sécurisation"]
["D65","=","Non","Protéger","D67:E69",null,"Section 3 - Exigences légales"]
["D73","=","Non","Protéger","D75:D77",null,"Section 4 - Exigences administratives"]
["D81","=","Non","Protéger","D83:D85",null,"Section 5 - Exigences légales spécifiques aux sites miniers"]
["D89","=","Non","Protéger","D92:D94",null,"Section 6 - Exigences administratives spécifiques aux sites miniers"]
[]
[]
[]
[]
["Outil 4A - Outil de sélection de scénario (named range = SheetControl4A)"]
["E55","=","Non, connu","Protéger","C56:E56",null,"Section 2-A - Danger tox/écotox"]
["E55","=","Non appréhendé","Protéger","C56:E56",null,"Section 2-A - Danger tox/écotox"]
["E65","=","Non, connu","Protéger","C67:E67",null,"Section 2-B - Danger sécurisation"]
["E65","=","Non appréhendé","Protéger","C67:E67",null,"Section 2-B - Danger sécurisation"]
["E74","=","Critère C : usage commercial/institutionnel non sensible/chaussée, trottoir et parc et industriel","Protéger","E125,E129,E133,E137,E141,E145,E149,E174,E178,E182,E186,E190,E194,E198",null,"Section 4 - État environnemental du site"]
["E103","=","Non","Protéger","E153:E154",null,"Section 3-B - Contraintes"]
["E104","=","Non","Protéger","E202:E203",null,"Section 3-B - Contraintes"]
["E108","=","Non","Protéger","E111:E112,E114:E117,E119:E122,E125:E127,E129:E131,E133:E135,E137:E139,E141:E143,E145:E147,E149:E151,E153:E154,E156",null,"Section 4-A - Contamination des sols - Zone vadose"]
["E157","=","Non","Protéger","E160:E161,E163:E166,E168:E171,E174:E176,E178:E180,E182:E184,E186:E188,E190:E192,E194:E196,E198:E200,E202:E203,E205",null,"Section 4-B - Contamination des sols - Zone saturée"]
[]
[]
[]
[]
[]
[]
[]
[]
["Dangers immédiats (named range = SheetControl5)"]

{"sheet":"Accueil","index":1,"n_rows":0,"n_cols":0,"rows_kept":0,"cut":false,"hidden":false,"merged":[]}

{"sheet":"Outil de priorisation des carac","index":2,"n_rows":202,"n_cols":12,"rows_kept":202,"cut":false,"hidden":false,"merged":[[171,10,171,11],[168,6,168,9],[170,6,170,9],[158,10,158,11],[170,10,170,11],[165,6,165,9],[170,1,170,3],[158,1,158,3],[167,1,167,3],[166,1,166,3],[165,1,165,3],[164,1,164,3],[163,1,163,3],[166,6,166,9],[133,10,133,11],[133,6,133,9],[127,1,127,4],[108,1,108,3],[138,1,138,4],[128,1,128,4],[131,6,131,9],[140,6,140,9],[139,1,139,11],[134,1,134,3],[132,6,132,9],[135,1,135,4],[137,3,137,4],[137,1,137,2],[140,10,140,11],[133,1,133,3],[136,1,136,3],[134,6,134,9],[125,1,125,2],[132,1,132,3],[131,1,131,3],[130,1,130,3],[129,1,129,4],[130,6,130,9],[134,10,134,11],[151,6,151,9],[151,10,151,11],[158,6,158,9],[154,10,154,11],[156,10,156,11],[142,10,142,11],[143,10,143,11],[157,6,157,9],[149,1,149,11],[154,6,154,9],[156,6,156,9],[140,1,140,3],[82,1,82,2],[90,1,90,3],[112,6,112,9],[95,6,95,9],[103,6,103,9],[85,1,85,4],[87,1,87,2],[86,1,86,11],[79,10,79,11],[89,10,89,11],[81,1,81,2],[89,1,89,3],[83,9,83,11],[84,1,84,3],[92,1,92,3],[92,6,92,9],[92,10,92,11],[97,1,97,3],[97,6,97,9],[97,10,97,11],[109,1,109,3],[107,1,107,3],[105,1,105,3],[93,1,93,11],[95,10,95,11],[94,6,94,9],[109,10,109,11],[103,10,103,11],[104,10,104,11],[104,1,104,3],[103,1,103,3],[94,10,94,11],[95,1,95,3],[96,1,96,3],[96,6,96,9],[100,1,100,3],[34,1,34,4],[41,1,41,4],[45,1,45,4],[47,2,47,4],[48,1,48,4],[49,1,49,4],[35,1,35,4],[44,1,44,3],[43,1,43,3],[46,1,46,3],[9,2,9,3],[33,1,33,4],[30,1,30,3],[29,1,29,3],[2,4,9,5],[17,2,17,3],[4,2,4,3],[3,2,3,3],[7,2,7,3],[6,2,6,3],[5,2,5,3],[28,1,28,3],[8,2,8,3],[11,2,11,3],[13,2,13,3],[31,1,31,3],[27,1,27,3],[26,1,26,3],[25,1,25,3],[24,1,24,3],[23,1,23,3],[51,1,51,3],[50,1,50,3],[52,1,52,4],[39,10,39,11],[40,10,40,11],[96,10,96,11],[21,6,21,9],[33,6,33,9],[33,10,33,11],[90,6,90,9],[91,6,91,9],[42,1,42,3],[40,1,40,3],[39,1,39,3],[38,1,38,3],[37,1,37,3],[36,1,36,3],[77,2,77,3],[22,1,22,3],[21,1,21,3],[76,2,76,3],[75,2,75,3],[83,5,83,8],[85,5,85,11],[57,1,57,3],[110,1,110,11],[114,1,114,11],[118,1,118,11],[113,1,113,3],[112,1,112,3],[100,6,100,9],[105,10,105,11],[99,6,99,9],[105,6,105,9],[109,6,109,9],[111,6,111,9],[108,6,108,9],[111,10,111,11],[111,1,111,3],[81,6,81,9],[94,1,94,3],[101,6,101,9],[101,10,101,11],[101,1,101,3],[99,1,99,3],[104,6,104,9],[106,1,106,11],[102,1,102,11],[75,4,76,4],[59,1,59,3],[69,2,69,3],[68,2,68,3],[67,2,67,3],[66,2,66,3],[65,2,65,3],[64,1,64,3],[73,2,73,3],[74,2,74,3],[61,2,61,4],[10,6,10,9],[10,10,10,11],[21,10,21,11],[30,6,30,9],[29,6,29,9],[28,6,28,9],[27,6,27,9],[26,6,26,9],[25,6,25,9],[24,6,24,9],[23,6,23,9],[22,6,22,9],[22,10,22,11],[23,10,23,11],[24,10,24,11],[25,10,25,11],[26,10,26,11],[27,10,27,11],[28,10,28,11],[29,10,29,11],[30,10,30,11],[20,6,20,9],[20,10,20,11],[36,6,36,9],[37,6,37,9],[38,6,38,9],[39,6,39,9],[40,6,40,9],[42,6,42,9],[43,6,43,9],[44,6,44,9],[79,6,79,9],[50,6,50,9],[51,6,51,9],[53,6,53,9],[54,6,54,9],[55,6,55,9],[183,6,183,9],[145,10,145,11],[147,10,147,11],[148,10,148,11],[167,6,167,9],[159,1,159,11],[161,1,161,3],[160,1,160,3],[162,1,162,11],[153,10,153,11],[153,6,153,9],[148,1,148,3],[146,6,146,9],[147,6,147,9],[148,6,148,9],[150,6,150,9],[150,10,150,11],[154,1,154,3],[153,1,153,3],[155,1,155,11],[147,1,147,3],[151,1,151,3],[160,6,160,9],[150,1,150,3],[184,6,184,9],[184,10,184,11],[160,10,160,11],[183,1,183,3],[182,1,182,3],[181,1,181,3],[180,1,180,3],[179,1,179,3],[178,1,178,3],[169,1,169,11],[173,1,173,3],[161,10,161,11],[180,6,180,9],[181,6,181,9],[171,6,171,9],[184,1,184,3],[168,1,168,3],[163,10,163,11],[164,10,164,11],[165,10,165,11],[166,10,166,11],[172,10,172,11],[182,6,182,9],[173,10,173,11],[173,6,173,9],[141,6,141,9],[145,6,145,9],[142,6,142,9],[143,6,143,9],[146,10,146,11],[144,1,144,11],[141,1,141,3],[146,1,146,3],[145,1,145,3],[167,10,167,11],[168,10,168,11],[152,1,152,11],[143,1,143,3],[142,1,142,3],[157,10,157,11],[157,1,157,3],[156,1,156,3],[172,1,172,3],[171,1,171,3],[164,6,164,9],[172,6,172,9],[161,6,161,9],[163,6,163,9],[53,10,53,11],[42,10,42,11],[43,10,43,11],[82,6,82,9],[54,10,54,11],[55,10,55,11],[81,10,81,11],[82,10,82,11],[107,6,107,9],[84,6,84,9],[89,6,89,9],[87,6,87,9],[87,10,87,11],[84,10,84,11],[88,1,88,11],[98,1,98,11],[91,1,91,3],[67,4,68,4],[72,1,72,3],[55,1,55,3],[54,1,54,3],[53,1,53,3],[56,1,56,4],[58,2,58,4],[119,6,119,9],[120,6,120,9],[121,6,121,9],[127,6,127,9],[113,6,113,9],[117,1,117,3],[116,1,116,3],[115,1,115,3],[115,6,115,9],[116,6,116,9],[120,1,120,3],[123,1,123,2],[124,1,124,2],[122,1,122,4],[117,6,117,9],[119,1,119,3],[198,2,198,4],[200,2,200,4],[175,6,175,9],[176,6,176,9],[178,6,178,9],[179,6,179,9],[174,1,174,11],[176,1,176,3],[175,1,175,3],[177,1,177,11],[196,2,196,4],[179,10,179,11],[180,10,180,11],[181,10,181,11],[185,10,185,11],[182,10,182,11],[183,10,183,11],[185,6,185,9],[191,1,192,1],[186,1,186,4],[185,1,185,3],[175,10,175,11],[176,10,176,11],[178,10,178,11],[31,10,31,11],[130,10,130,11],[131,10,131,11],[132,10,132,11],[127,10,127,11],[112,10,112,11],[113,10,113,11],[115,10,115,11],[116,10,116,11],[117,10,117,11],[119,10,119,11],[120,10,120,11],[121,10,121,11],[90,10,90,11],[91,10,91,11],[99,10,99,11],[100,10,100,11],[107,10,107,11],[108,10,108,11],[37,10,37,11],[44,10,44,11],[50,10,50,11],[51,10,51,11],[36,10,36,11],[0,1,0,4],[1,1,1,4],[195,3,195,4],[46,6,46,9],[46,10,46,11],[47,6,47,9],[47,10,47,11],[57,6,57,9],[57,10,57,11],[58,6,58,9],[58,10,58,11],[136,6,136,9],[136,10,136,11],[137,6,137,9],[137,10,137,11],[194,2,194,4],[38,10,38,11],[141,10,141,11],[80,1,80,4],[80,5,80,8],[80,9,80,11],[83,1,83,4],[121,1,121,3],[31,6,31,9]]}
[null,"OUTIL DE PRIORISATION DE LA CARACTÉRISATION ENVIRONNEMENTALE ET D'ÉVALUATION DES TRAVAUX DE CARACTÉRISATION RÉALISÉS"]
[null,"SITES CONTAMINÉS SELON LES CRITÈRES DE CONSTATATION DE LA NORME COMPTABLE"]
[]
[null,"Effectué par :"]
[null,"Organisation : "]
[null,"Date (année-mois-jour) :"]
[null,"Version no. : "]
[null,"Révisé par :"]
[null,"Révision no. : "]
[null,"Date (année-mois-jour) :"]
[]
[null,"Légende :","Renseignement obligatoire (format choix de réponse)"]
[]
[null,null,"Renseignement obligatoire (format texte)"]
[]
[null,null,"Laisser vide ou ne pas éditer"]
[]
[null,null,"Notes ou références à inscrire au besoin"]
[]
[]
["1.","Généralités",null,null,null,null,"Justificatif",null,null,null,"Références"]
["1.1","Nom du site "]
["1.2","Étiquette d'identification de la fiche synthèse du PTSC et numéro de dossier interne"]
["1.3","Propriétaire ou locataire "]
["1.4","Adresse du site "]
["1.5","Latitude (NAD 83)"]
["1.6","Longitude (NAD 83)"]
["1.7","Numéro de lot et cadastre"]
["1.8","Activités désignées à l'annexe III du RPRT qui s'exercent ou se sont exercées sur le site (inscrire le ou les codes SCIAN)"]
["1.9","Est-ce qu'une cessation d'une activité désignée (A31.51 LQE) ou un changement d'usage (A31.53 LQE) est prévu?"]
["1.10","Superficie approximative du site (m2) "]
["1.11","Présence de résidus miniers sur le site"]
[]
["2.","Dangers immédiats (Section présente dans chaque méthode commune - doit être actualisée périodiquement)",null,null,null,null,"Justificatif",null,null,null,"Références"]
["2-A","Toxicologie et écotoxicologie"]
["2-A.1","Effets néfastes sur des personnes (toxicologie)"]
["2-A.1.1","Dépassement des normes dans l'eau potable"]
["2-A.1.2","Potager ou culture sur sols contaminés "]
["2-A.1.3","Substance radioactive ou danger biologique (bactéries, virus, moisissures, déjections animales, etc.) exposé et non confiné"]
["2-A.1.4","Vapeurs contaminées dans l'air intérieur d'un bâtiment"]
["2-A.1.5","Risque d'explosion lié à la présence de gaz dans un bâtiment ou une structure "]
["2-A.2","Effets néfastes sur les récepteurs écologiques (écotoxicologie)"]
["2-A.2.1","Résurgence d'une phase libre ou autre effluent toxique dans un cours d'eau"]
["2-A.2.2","Constat d'impacts manifestes et importants sur la faune ou la flore"]
["2-A.2.3","Source de contamination active présentant un danger immédiat pouvant être mitigé rapidement"]
["2-A.3","Autre "]
["2-A.3.1","Autre danger immédiat toxicologique ou écotoxicologique"]
["2-A.3.2","Description :"]
["2-B","Sécurisation (Risques nécessitant des travaux de sécurisation ou ayant fait l'objet de travaux partiels )"]
["2-B.1","Potentiel d'effondrement ou ouverture en surface"]
["2-B.1.1","Ouvertures profondes non sécurisées à partir de la surface  "]
["2-B.1.2","Infrastructures souterraines potentiellement instables et non sécurisées"]
["2-B.2","Instabilité physique"]
["2-B.2.1","Bâtiments ou infrastructures délabrés et non sécurisés"]
["2-B.2.2","Risque de chute ou d'ensevelissement "]
["2-B.2.3","Ouvrages de retenue potentiellement à risque de bris/défaut"]
["2-B.3","Autre"]
["2-B.3.1","Autre risque de sécurisation"]
["2-B.3.2","Description :"]
["2-C","Si un danger immédiat est identifié ou appréhendé, une cote DI-1 est obtenue et une action urgente est requise. Le processus de priorisation devra être poursuivi uniquement lorsque la situation aura été régularisée (risque mitigé ou calendrier d'intervention établi par une ressource compétente).",null,null,{"$f":"IF(OR(E37=\"Oui, connu\",E37=\"Appréhendé\",E38=\"Oui, connu\",E38=\"Appréhendé\",E39=\"Oui, connu\",E39=\"Appréhendé\",E40=\"Oui, connu\",E40=\"Appréhendé\",E41=\"Oui, connu\",E41=\"Appréhendé\",E43=\"Oui, connu\",E43=\"Appréhendé\",E44=\"Oui, connu\",E44=\"Appréhendé\",E45=\"Oui, connu\",E45=\"Appréhendé\",E47=\"Oui, connu\",E47=\"Appréhendé\",E51=\"Oui, connu\",E51=\"Appréhendé\",E52=\"Oui, connu\",E52=\"Appréhendé\",E54=\"Oui, connu\",E54=\"Appréhendé\",E55=\"Oui, connu\",E55=\"Appréhendé\",E56=\"Oui, connu\",E56=\"Appréhendé\",E58=\"Oui, connu\",E58=\"Appréhendé\"),\"DI-1\",IF(AND(OR(E37=\"Non, connu\",E37=\"Non appréhendé\"),OR(E38=\"Non, connu\",E38=\"Non appréhendé\"),OR(E39=\"Non, connu\",E39=\"Non appréhendé\"),OR(E40=\"Non, connu\",E40=\"Non appréhendé\"),OR(E41=\"Non, connu\",E41=\"Non appréhendé\"),OR(E43=\"Non, connu\",E43=\"Non appréhendé\"),OR(E44=\"Non, connu\",E44=\"Non appréhendé\"),OR(E45=\"Non, connu\",E45=\"Non appréhendé\"),OR(E47=\"Non, connu\",E47=\"Non appréhendé\"),OR(E51=\"Non, connu\",E51=\"Non appréhendé\"),OR(E52=\"Non, connu\",E52=\"Non appréhendé\"),OR(E54=\"Non, connu\",E54=\"Non appréhendé\"),OR(E55=\"Non, connu\",E55=\"Non appréhendé\"),OR(E56=\"Non, connu\",E56=\"Non appréhendé\"),OR(E58=\"Non, connu\",E58=\"Non appréhendé\")),\"DI-0\",\"\"))","v":""},null,null,null,true,null,null,false]
[]
[null,"Décrire les actions de mitigation réalisées, le calendrier d'intervention établi ou les vérifications liées à un danger immédiat appréhendé qui ont infirmé le doute :"]
[]
["3.","Exigences légales"]
["3.1","Est-ce qu'un délai pour entreprendre des travaux de caractérisation est prescrit par une loi, un règlement, une ordonnance, demande d'autorisation en vertu de l'article 22 de LQE, etc.?"]
["3.2",null,"Si oui : "]
["3.3",null,"- Indiquer le délai"]
["3.4",null,"- Préciser cette exigence et joindre document de référence"]
[]
["3.5",null,"Si non : Poursuivre le processus de priorisation"]
[]
["4.","Exigences administratives "]
["4.1","Est-ce qu'un délai pour entreprendre des travaux de caractérisation est prévu par une exigence administrative (source de financement, travaux connexes, plan d’action ministériel ou sectoriel, besoins stratégiques, orientation politique, engagement envers le public, etc.)?"]
["4.2",null,"Si oui : "]
["4.3",null,"- Indiquer le délai "]
["4.4",null,"- Préciser cette exigence, joindre document de référence"]
[]
["4.5",null,"Si non : Poursuivre le processus de priorisation"]
[]
["5.","Évaluation des travaux de caractérisation réalisés",null,null,null,null,"Justificatif",null,null,null,"Références"]
["5-A","Caractérisation de phase I"]
["5-A.1","Une étude de caractérisation de phase I récente et complète selon les principes du Guide de caractérisation des terrains a-t-elle été réalisée ? Veuillez consulter le Guide de l'utilisateur.",null,{"$f":"IF(E82=\"\",\"\",IF(E82=\"non\",\"Remplir uniquement la section 6-A\",\"\"))","v":""},"Oui"]
["5-A.2","Si oui, des enjeux environnementaux ont-ils été identifiés?",null,{"$f":"IF(E83=\"\",\"\",IF(E83=\"non\",\"Interrompre le processus de priorisation, aller à la section 7 \",\"\"))","v":""},"Oui"]
["5-B","Caractérisation de phase II"]
["5-B.1","Une étude de caractérisation de phase II (partielle ou complète) a-t-elle été réalisée ?",null,null,"Oui"]
["5-C","Évaluation des caractérisations de phase I et de phase II"]
["5-C.1","Zonage ou usage"]
["5-C.1.1","Zonage ou usage du site",null,{"$f":"IF(E88=\"Résidentiel/institutionnel sensible\",\"Critère du Guide d'intervention applicable: B (annexe I RPRT)\",IF(OR(E88=\"Milieu naturel\",E88=\"Agricole\"),\"Critère du Guide d'intervention applicable: A\",IF(OR(E88=\"Commercial/institutionnel non sensible/chaussée, trottoir ou parc\",E88=\"Industriel\"),\"Critère du Guide d'intervention applicable: C (annexe II RPRT)\",\"\")))","v":""},null,{"$f":"IF(E88=\"Résidentiel/institutionnel sensible\",2,IF(OR(E88=\"Milieu naturel\",E88=\"Agricole\"),1,IF(OR(E88=\"Commercial/institutionnel non sensible/chaussée, trottoir ou parc\",E88=\"Industriel\"),3,\"\")))","v":""}]
["5-C.2","Matériaux de surface 0-1 m (sols, matières résiduelles, matériaux mis en pile)"]
["5-C.2.1","Un enjeu relié à une contamination potentielle des matériaux de surface a-t-il été identifié ?",null,null,null,{"$f":"IF(E90=\"Non\",0,IF(AND(E90=\"Oui\",F92>=$F$88),1,IF(AND(E90=\"Oui\",F93=1),1,IF(AND(E90=\"Oui\",OR(F92=-1,F93=-1)),0,IF(AND(E90=\"Oui\",F92<$F$88,F93=0),0,\"\")))))","v":""}]
["5-C.2.2","La caractérisation environnementale des matériaux de surface est-elle jugée complète ?"]
["5-C.2.3","Quelle est la plage de contamination la plus élevée qui a été constatée dans les sols entre 0-1 m de profondeur ou dans matériaux mis en pile ?",null,null,null,{"$f":"IF(E92=\"<A\",0,IF(E92=\"A-B\",1,IF(E92=\"B-C\",2,IF(E92=\"C-RESC\",3,IF(E92=\">RESC\",4,-1)))))","v":-1}]
["5-C.2.4","Est-ce qu'il y a présence de matières résiduelles en proportions supérieures à 50 % dans la matrice entre 0-1 m de profondeur ou dans les matériaux mis en pile ?",null,null,null,{"$f":"IF(E93=\"Oui\",1,IF(E93=\"Non\",0,-1))","v":-1}]
["5-C.3","Matériaux en profondeur >1 m (sols, matières résiduelles)"]
["5-C.3.1","Un enjeu relié à une contamination potentielle des matériaux en profondeur a-t-il été identifié ?",null,null,null,{"$f":"IF(E95=\"Non\",0,IF(AND(E95=\"Oui\",F97>=$F$88),1,IF(AND(E95=\"Oui\",F98=1),1,IF(AND(E95=\"Oui\",OR(F97=-1,F98=-1)),0,IF(AND(E95=\"Oui\",F97<$F$88,F98=0),0,\"\")))))","v":""}]
["5-C.3.2","La caractérisation environnementale des matériaux en profondeur est-elle jugée complète ?"]
["5-C.3.3","Quelle est la plage de contamination la plus élevée qui a été constatée dans les sols à plus de 1 m de profondeur ? ",null,null,null,{"$f":"IF(E97=\"<A\",0,IF(E97=\"A-B\",1,IF(E97=\"B-C\",2,IF(E97=\"C-RESC\",3,IF(E97=\">RESC\",4,-1)))))","v":-1}]
["5-C.3.4","Est-ce qu'il y a présence de matières résiduelles en proportions supérieures à 50 % dans la matrice à plus de 1 m de profondeur ?",null,null,null,{"$f":"IF(E98=\"Oui\",1,IF(E98=\"Non\",0,-1))","v":-1}]
["5-C.4","Composés volatils dans les sols"]
["5-C.4.1","Un enjeu relié à une contamination potentielle en composés volatils dans les sols a-t-il été identifié ?",null,null,null,{"$f":"IF(E100=\"Non\",0,IF(AND(E100=\"Oui\",OR(E101=\"Pas de bâtiment\",E101=\"Non\")),0,IF(E102=\"Oui\",1,IF(E102=\"Non\",0,\"\"))))","v":""}]
["5-C.4.2","La caractérisation des composés volatils dans les sols sous des bâtiments ou à proximité de ceux-ci est-elle jugée complète ?"]
["5-C.4.3","Est-ce qu'un dépassement de critère relatif aux composés volatils dans les sols sous des bâtiments ou à proximité de ceux-ci a été constaté ? Le critère applicable est fonction de l'occupation du bâtiment, de la profondeur des sols contaminés et du type de contaminant.                              Veuillez consulter le Guide de l'utilisateur.",null,null,null,{"$f":"IF(E102=\"<A\",0,IF(E102=\"A-B\",1,IF(E102=\"B-C\",2,IF(E102=\"C-RESC\",3,IF(E102=\">RESC\",4,\"\")))))","v":""}]
["5-C.5","Eau souterraine"]
["5-C.5.1","Un enjeu relié à une contamination potentielle de l'eau souterraine a-t-il été identifié ?",null,null,null,{"$f":"IF(E104=\"Non\",0,IF(AND(E104=\"Oui\",E106=\">RES ou >EC\"),1,IF(AND(E104=\"Oui\",E106=\">Seuil d'alerte\"),1,IF(AND(E104=\"Oui\",E106=\"<Seuil d'alerte\"),0,\"\"))))","v":""}]
["5-C.5.2","La caractérisation de l'eau souterraine est-elle jugée complète ?"]
["5-C.5.3","Quel est le dépassement de critère le plus élevé qui a été constatée dans l'eau souterraine ?"]
["5-C.6","Composés volatils dans l'eau souterraine"]
["5-C.6.1","Un enjeu relié à une contamination potentielle en composés volatils dans l'eau souterraine a-t-il été identifié ?",null,null,null,{"$f":"IF(E108=\"Non\",0,IF(AND(E108=\"Oui\",OR(E109=\"Pas de bâtiment\",E109=\"Non\")),0,IF(E110=\"Oui\",1,IF(E110=\"Non\",0,\"\"))))","v":""}]
["5-C.6.2","La caractérisation des composés volatils dans l'eau souterraine sous des bâtiments ou à proximité de ceux-ci est-elle jugée complète ?"]
["5-C.6.3","Est-ce qu'un dépassement de critère relatif aux composés volatils dans l'eau souterraine sous des bâtiments ou à proximité de ceux-ci a été constaté ? Le critère applicable est fonction de l'occupation du bâtiment, de la profondeur des sols contaminés et du type de contaminant. Veuillez consulter le Guide de l'utilisateur."]
["5-C.7","Eau de surface"]
["5-C.7.1","Un enjeu relié à la contamination potentielle de l'eau de surface a-t-il été identifié ?",null,null,null,{"$f":"IF(E112=\"Non\",0,IF(AND(E112=\"Oui\",E113=\"Non\"),0,IF(E114=\">Directive 019\",1,IF(E114=\">CVAA\",1,IF(E114=\">CVAC\",1,IF(E114=\"<Critère\",0,\"\"))))))","v":""}]
["5-C.7.2","La caractérisation environnementale des eaux de surface est-elle jugée complète ?"]
["5-C.7.3","Quel est le dépassement de norme ou de critère le plus élevé qui a été constaté dans l'eau de surface? "]
["5-C.8","Sédiments"]
["5-C.8.1","Un enjeu relié à la contamination potentielle des sédiments a-t-il été identifié ?",null,null,null,{"$f":"IF(E116=\"Non\",0,IF(AND(E116=\"Oui\",E117=\"Non\"),0,IF(E118=\">CEF\",1,IF(E118=\">CEP\",1,IF(E118=\"<Critère\",0,\"\")))))","v":""}]
["5-C.8.2","La caractérisation environnementale des sédiments est-elle jugée complète ?"]
["5-C.8.3","Quel est le dépassement de critère le plus élevé qui a été constaté dans les sédiments?"]
["5-C.9","Résidus miniers (résidus d'usinage et stériles miniers)"]
["5-C.9.1","Un enjeu relié à la présence de résidus miniers a-t-il été identifié ?",null,null,null,{"$f":"IF(E120=\"Non\",0,IF(AND(E120=\"Oui\",E121=\"Non\"),0,IF(E122=\"Oui\",1,IF(E122=\"Non\",0,\"\"))))","v":""}]
["5-C.9.2","La caractérisation géochimique et environnementale des résidus miniers est-elle jugée complète ?"]
["5-C.9.3","Est-ce qu'un dépassement de critère applicable ou une instabilité des ouvrages a été constaté dans les résidus miniers?"]
["5-D","Statut de la caractérisation de phase II "]
["5-D.1","Phase II jugée complète ou incomplète",null,{"$f":"IF(E85=\"Non\",\"\",IF(E124=\"Complète\",\"Se référer à la ligne 5-D.2\",IF(E124=\"Incomplète\",\"Se référer à la ligne 5-D.3\",\"\")))","v":""},{"$f":"IF(AND(E85=\"Oui\",OR(E91=\"Non\",E96=\"Non\",E101=\"Non\",E109=\"Non\",E105=\"Non\",E113=\"Non\",E117=\"Non\",E121=\"Non\")),\"Incomplète\",IF(AND(E85=\"Oui\",AND(OR(E90=\"Non\",E91=\"Oui\"),OR(E95=\"Non\",E96=\"Oui\"),OR(E100=\"Non\",E101=\"Oui\",E101=\"Pas de bâtiment\"),OR(E108=\"Non\",E109=\"Oui\",E109=\"Pas de bâtiment\"),OR(E104=\"Non\",E105=\"Oui\"),OR(E112=\"Non\",E113=\"Oui\"),OR(E116=\"Non\",E117=\"Oui\"),OR(E120=\"Non\",E121=\"Oui\"))),\"Complète\",\"\"))","v":""}]
["5-D.2","Phase II jugée complète avec dépassements de normes ou de critères",null,{"$f":"IF(E125=\"\",\"\",IF(E125=\"Oui\",\"Interrompre le processus de priorisation, aller à la section 7 \",IF(E125=\"Non\",\"Interrompre le processus de priorisation, aller à la section 7 \",\"\")))","v":""},{"$f":"IF(OR(E85<>\"Oui\",E124<>\"Complète\"),\"\",IF(AND(E124=\"Complète\",((F90+F95+F100+F104+F108+F112+F116+F120)>0)),\"Oui\",\"Non\"))","v":""}]
["5-D.3","Phase II jugée incomplète mais informations connues suffisantes pour passer à la méthode de classification selon les risques (outil 2)",null,{"$f":"IF(E85=\"Non\",\"\",IF(E126=\"Non\",\"Remplir la section 6\",IF(E126=\"Oui\",\"Interrompre le processus de priorisation, aller à la section 7\",\"\")))","v":""},{"$f":"IF(AND(E124<>\"Complète\",E124<>\"Incomplète\"),\"\",IF(E124=\"Complète\",\"\",IF(AND(E124=\"Incomplète\",E85=\"Oui\",OR(E90=\"Non\",E91=\"Oui\"),OR(E100=\"Non\",E101=\"Oui\",E101=\"Pas de bâtiment\"),OR(E108=\"Non\",E109=\"Oui\",E109=\"Pas de bâtiment\"),OR(E104=\"Non\",E105=\"Oui\"),OR(E112=\"Non\",E113=\"Oui\"),OR(E116=\"Non\",E117=\"Oui\"),OR(E120=\"Non\",E121=\"Oui\")),\"Oui\",\"Non\")))","v":""}]
[]
["6.","Priorisation de la caractérisation environnementale",null,null,null,null,"Justificatif",null,null,null,"Références"]
["6-A","Classification selon les types d'activités ou les évènements passés"]
["6-A.1","Catégorie d'activité en fonction du risque environnemental"]
["6-A.1.1","Identification de l'activité actuelle ou antérieure la plus à risque sur le site"]
["6-A.1.2","Année de début de la première activité à risque"]
["6-A.1.3","Durée totale des activités à risque"]
["6-A.1.4","Superficie totale des zones exploitées par des activités à risque "]
["6-A.1.5","Catégorie en fonction du risque environnemental (de 1 à 4 en fonction des éléments 6-A.1.1 à 6-A.1.4)",null,null,{"$f":"IF(AND(Calculs_Carac!F27=0,Calculs_Carac!F48=0),\"Catégorie 1\",IF(Calculs_Carac!E50=(333),\"Catégorie 2\",IF(Calculs_Carac!E50=(667),\"Catégorie 3\",IF(Calculs_Carac!E50=1000,\"Catégorie 4\",\"\"))))","v":""}]
["6-A.2","Incidents environnementaux"]
["6-A.2.1","Importance et probabilité d'incidents environnementaux sur le site ou sur un site voisin immédiat"]
["6-A.2.2","Description du ou des incidents environnementaux :"]
["6-B","Potentiel de contamination et de risque associé"]
["6-B.1","Potentiel de risque par contact direct avec des matériaux de surface contaminés"]
["6-B.1.1","Probabilité de présence de matériaux contaminés en surface entre 0-1 m (sols, matières résiduelles, matériaux mis en pile)"]
["6-B.1.2","Potentiel de contact avec des récepteurs humains ou écologiques"]
["6-B.1.3","Constat d'impacts manifestes et importants sur la faune ou la flore"]
["6-B.1.4","Usage ou récepteurs écologiques terrestres sensibles sur le site"]
["6-B.2","Potentiel de risque par transport aéroporté des matériaux de surface contaminés"]
["6-B.2.1","Probabilité de présence de matériaux contaminés en surface entre 0-1 m (sols, matières résiduelles, matériaux mis en pile)"]
["6-B.2.2","Condition de la surface"]
["6-B.2.3","Présence probable ou vérifiée d'une contamination aéroportée en dehors des limites de propriété"]
["6-B.2.4","Usage ou récepteurs écologiques terrestres sensibles sur sites voisins (<100 m)"]
["6-B.3","Potentiel de risque par intrusion de vapeurs contaminées dans un bâtiment depuis le sol contaminé"]
["6-B.3.1","Probabilité de présence de sols contaminés en composés volatils sous un bâtiment ou à proximité de celui-ci (rayon <30 m)"]
["6-B.3.2","Usage intérieur du bâtiment"]
["6-B.4","Potentiel de risque par intrusion de vapeurs contaminées dans un bâtiment depuis l'eau souterraine contaminée"]
["6-B.4.1","Probabilité de présence d'eau souterraine contaminée en composés volatils sous un bâtiment ou à proximité de celui-ci (rayon <30 m)"]
["6-B.4.2","Usage intérieur du bâtiment"]
["6-B.5","Potentiel de risque de résurgence d'eau souterraine contaminée dans une eau de surface"]
["6-B.5.1","Probabilité de présence d'eau souterraine contaminée"]
["6-B.5.2",{"$f":"Calculs_Carac!G109","v":"Distance à l'eau de surface ou à un égout pluvial"}]
["6-B.5.3","Usage ou récepteurs écologiques aquatiques sensibles à l'endroit de la résurgence ou en aval hydraulique (<1 km) de celui-ci"]
["6-B.6","Potentiel de risque lié à la circulation d’eau souterraine contaminée sous un terrain où l’eau souterraine est exploitée, ou susceptible de l’être, à des fins de consommation"]
["6-B.6.1","Probabilité de présence d'eau souterraine contaminée",null,null,{"$f":"IF(E157<>\"\",E157,\"\")","v":""}]
["6-B.6.2","Distance à une source d'eau potable ou un puits d'eau de consommation "]
["6-B.7","Potentiel de risque d'érosion de matériaux de surface contaminés vers l'eau de surface"]
["6-B.7.1","Probabilité de présence de matériaux contaminés en surface entre 0-1 m (sols, matières résiduelles, matériaux mis en pile)",null,null,{"$f":"IF(E141<>\"\",E141,\"\")","v":""}]
["6-B.7.2","Condition de la surface"]
["6-B.7.3",{"$f":"Calculs_Carac!G136","v":"Distance à l'eau de surface"}]
["6-B.7.4","Topographie"]
["6-B.7.5",{"$f":"Calculs_Carac!G146","v":"Potentiel d'inondation"}]
["6-B.7.6","Usage ou récepteurs écologiques aquatiques sensibles à l'endroit de l'érosion ou en aval hydraulique (<1 km) de celui-ci"]
["6-B.8","Potentiel de risque lié à une eau de surface contaminée"]
["6-B.8.1","Probabilité de présence d'eau de surface contaminée "]
["6-B.8.2","Présence d'un plan d'eau ou d'un cours d'eau sur le site"]
["6-B.8.3",{"$f":"Calculs_Carac!G165","v":"Ratio de dilution d'un fossé ou effluent"}]
["6-B.8.4","Usage ou récepteurs écologiques aquatiques sensibles à l'endroit de la contamination ou en aval hydraulique (<1 km) de celui-ci"]
["6-B.9","Potentiel de risque lié à des sédiments contaminés"]
["6-B.9.1","Probabilité de présence de sédiments contaminés "]
["6-B.9.2","Usage ou récepteurs écologiques aquatiques sensibles à l'endroit de la contamination ou en aval hydraulique (<1 km) de celui-ci"]
["6-B.10","Potentiel de risque lié à des résidus miniers"]
["6-B.10.1","Probabilité de présence de résidus miniers radioactifs et/ou à risques élevés"]
["6-B.10.2","Probabilité de présence de résidus miniers lixiviables et/ou acidogènes et/ou cyanurés"]
["6-B.10.3","Probabilité de présence de résidus miniers d'amiante et/ou inflammables"]
["6-B.10.4","Superficie de la zone contaminée en résidus miniers"]
["6-B.10.5","Problèmes d'étanchéité du parc à résidus"]
["6-B.10.6","Problèmes de stabilité des haldes de stériles"]
["6-B.10.7",{"$f":"Calculs_Carac!G201","v":"Érosion éolienne des résidus miniers"}]
["6-B.10.8","Usage, récepteurs écologiques terrestres ou aquatiques sensibles ou accessibilité"]
[null,"Conserver tout document justificatif de référence pour consultation ultérieure au besoin."]
[]
[null,"   7.","Indice de priorisation de la caractérisation (IPC)",null,{"$f":"IFERROR(IF(OR(E83=\"Non\",E124=\"Complète\",E126=\"Oui\",AND(E67<>0,E67=Menus_Carac!A63),AND(E75<>0,E75=Menus_Carac!A63)),\"\",IF(OR(E82=\"\",E82=\"Non\"),IF(Calculs_Carac!E50=\"\",\"En cours d'évaluation\",MAX(Calculs_Carac!E50,Calculs_Carac!I50)),0.5*MAX(Calculs_Carac!E50,Calculs_Carac!I50)+0.5*Calculs_Carac!H12)),\"En cours d'évaluation\")","v":"En cours d'évaluation"}]
[null,null,"Cote de priorisation de la caractérisation",null,{"$f":"IF(E189=\"En cours d'évaluation\",\"En cours d'évaluation\",IF(OR(E83=\"Non\",E125=\"Non\"),\"PC-0\",IF(E125=\"Oui\",\"PC-C\",IF(E126=\"Oui\",\"PC-S\",IF(OR(AND(E67<>0,E67=Menus_Carac!A63),AND(E75<>0,E75=Menus_Carac!A63),E189>800),\"PC-3\",IF(OR(E189>450,AND(E67<>0,E67=Menus_Carac!A64),AND(E75<>0,E75=Menus_Carac!A64)),\"PC-2\",IF(OR(E189>=0,AND(E67<>0,E67=Menus_Carac!A65),AND(E75<>0,E75=Menus_Carac!A65)),\"PC-1\",IF((0.5*MAX(Calculs_Carac!E50,Calculs_Carac!I50)+0.5*Calculs_Carac!H12)=0,\"\",\"\"))))))))","v":"En cours d'évaluation"}]
[null,"PC-C","Caractérisation complète :  Dépassement de normes ou critères confirmé, passer à la méthode commune de classification selon les risques"]
[null,"PC-0","Caractérisation complète : - Aucun enjeu identifié sur la base d'une caractérisation de phase I récente, retirer le site de l'inventaire des sites contaminés"]
[null,null,"                                               - Aucun dépassement de normes ou critères sur la base d'une caractérisation de phase II complète, retirer le site de l'inventaire des sites "]
[null,null,null,"contaminés"]
[null,"PC-S","Caractérisation incomplète : Phase II incomplète mais suffisante pour passer à la méthode de classification selon les risques. Une étude complémentaire sera "]
[null,null,null," requise dans les étapes subséquentes du cadre de référence."]
[null,"PC-1","Caractérisation incomplète : Évaluation ≤ 450 - Délai recommandé de moins de 7 ans pour entreprendre la caractérisation environnementale ou, si une exigence "]
[null,null,null," légale ou administrative impose un délai entre 5 et 7 ans, appliquer ce délai plus court."]
[null,"PC-2","Caractérisation incomplète : Évaluation 451-800 - Délai recommandé de moins de 5 ans pour entreprendre la caractérisation environnementale ou, si une exigence "]
[null,null,null," légale ou adminisatrative impose un délai entre 3 et 5 ans, appliquer ce délai plus court."]
[null,"PC-3","Caractérisation incomplète : Évaluation 801-1000 - Délai recommandé de moins de 3 ans pour entreprendre la caractérisation environnementale ou, si une "]
[null,null,null," exigence légale ou adminisatrative impose un délai de moins de 3 ans, appliquer ce délai plus court."]

{"sheet":"Calculs_Carac","index":3,"n_rows":208,"n_cols":16,"rows_kept":208,"cut":false,"hidden":true,"merged":[[6,0,6,6],[44,0,44,3],[47,0,47,3],[46,0,46,3],[45,0,45,3],[43,0,43,4],[15,6,15,8],[22,6,22,7],[21,6,21,7],[20,6,20,7],[19,6,19,7],[18,6,18,7],[17,6,17,7],[16,6,16,7],[30,0,30,3],[31,0,31,3],[33,0,33,3],[34,0,34,3],[42,0,42,3],[32,0,32,4],[35,0,35,3],[36,0,36,3],[37,0,37,3],[39,0,39,3],[19,0,19,3],[18,0,18,3],[17,0,17,3],[16,0,16,3],[15,0,15,4],[161,1,161,3],[173,0,175,0],[173,1,173,3],[174,1,174,3],[175,1,175,3],[111,0,113,0],[111,1,111,3],[112,1,112,3],[113,1,113,3],[156,1,156,3],[157,1,157,3],[158,1,158,3],[40,0,40,3],[108,0,110,0],[108,1,108,3],[109,1,109,3],[110,1,110,3],[41,0,41,3],[38,0,38,4],[107,0,107,4],[68,10,68,12],[56,6,56,7],[57,6,57,7],[61,6,62,6],[53,0,53,4],[53,6,53,8],[53,10,53,12],[54,6,54,7],[55,6,55,7],[59,1,59,3],[54,0,56,0],[54,1,54,3],[57,0,59,0],[54,10,54,11],[56,10,56,11],[58,10,58,11],[57,1,57,3],[58,1,58,3],[55,1,55,3],[56,1,56,3],[63,1,63,3],[73,10,73,11],[69,10,69,11],[70,6,70,7],[70,10,70,11],[71,6,71,7],[71,10,71,11],[72,10,72,11],[83,0,83,4],[83,10,83,12],[76,6,77,6],[69,6,69,7],[72,6,72,7],[84,10,84,11],[85,10,85,11],[100,1,100,3],[101,1,101,3],[95,0,95,4],[86,10,86,11],[87,10,87,11],[88,10,88,11],[96,0,98,0],[96,1,96,3],[97,1,97,3],[98,1,98,3],[99,0,101,0],[99,1,99,3],[95,10,95,12],[96,10,96,11],[97,10,97,11],[98,10,98,11],[84,0,86,0],[84,1,84,3],[85,1,85,3],[86,1,86,3],[87,0,89,0],[87,1,87,3],[120,6,120,8],[120,10,120,12],[155,10,155,12],[156,10,156,11],[113,10,113,11],[107,10,107,12],[108,10,108,11],[99,10,99,11],[100,10,100,11],[131,6,131,8],[131,10,131,12],[132,10,132,11],[132,6,132,7],[109,10,109,11],[110,10,110,11],[111,10,111,11],[112,10,112,11],[107,6,107,8],[133,6,133,7],[122,10,125,10],[135,6,138,6],[108,6,112,6],[184,6,184,8],[184,10,184,12],[184,0,184,4],[200,6,203,6],[188,10,188,11],[189,10,189,11],[190,10,190,11],[191,10,191,11],[185,10,185,11],[186,10,186,11],[187,10,187,11],[186,6,189,6],[193,6,196,6],[192,10,192,11],[193,10,193,11],[194,10,194,11],[195,10,195,11],[200,0,202,0],[200,1,200,3],[201,1,201,3],[202,1,202,3],[203,0,205,0],[203,1,203,3],[204,1,204,3],[177,1,177,3],[178,1,178,3],[159,10,159,11],[160,6,160,7],[160,10,160,11],[161,10,161,11],[159,0,161,0],[159,1,159,3],[177,10,177,11],[178,10,178,11],[176,0,178,0],[176,1,176,3],[164,6,166,6],[160,1,160,3],[173,10,173,11],[174,10,174,11],[175,10,175,11],[176,10,176,11],[159,6,159,7],[161,6,161,7],[29,0,29,3],[27,0,27,4],[23,0,23,3],[68,6,68,8],[88,1,88,3],[89,1,89,3],[155,0,155,4],[156,0,158,0],[172,10,172,12],[172,0,172,4],[157,6,157,7],[157,10,157,11],[158,6,158,7],[158,10,158,11],[155,6,155,8],[134,10,134,11],[134,6,134,7],[135,10,135,11],[136,10,136,11],[137,10,137,11],[139,6,141,6],[145,6,148,6],[133,10,133,11],[24,6,24,7],[23,6,23,7],[20,0,20,3],[21,0,21,3],[22,0,22,3],[24,0,24,3],[26,0,26,3],[28,0,28,3],[25,6,25,7],[25,0,25,3],[205,1,205,3],[185,0,187,0],[185,1,185,3],[186,1,186,3],[187,1,187,3],[191,0,193,0],[191,1,191,3],[192,1,192,3],[193,1,193,3],[194,0,196,0],[194,1,194,3],[195,1,195,3],[196,1,196,3],[197,0,199,0],[197,1,197,3],[198,1,198,3],[199,1,199,3],[188,0,190,0],[188,1,188,3],[189,1,189,3],[190,1,190,3]]}
["Synthèse des éléments de risque",null,null,null,null,null,null,"Notes D"]
["1. Risque par contact direct avec les matériaux de surface contaminés",null,null,null,null,null,null,{"$f":"O65","v":0}]
["2. Risque par transport aéroporté des matériaux de surface contaminés",null,null,null,null,null,null,{"$f":"O80","v":0}]
["3. Risque par intrusion de vapeurs contaminées dans un bâtiment depuis le sol contaminé",null,null,null,null,null,null,{"$f":"O92","v":0}]
["4. Risque par intrusion de vapeurs contaminées dans un bâtiment depuis l'eau souterraine contaminée",null,null,null,null,null,null,{"$f":"O104","v":0}]
["5. Risque de résurgence d'eau souterraine contaminée dans une eau de surface",null,null,null,null,null,null,{"$f":"O117","v":0}]
["6. Risque lié à la circulation d’eau souterraine contaminée sous un terrain où l’eau souterraine est exploitée, ou susceptible de l’être, à des fins de consommation",null,null,null,null,null,null,{"$f":"O128","v":0}]
["7. Risque d'érosion de matériaux de surface contaminés vers l'eau de surface",null,null,null,null,null,null,{"$f":"O151","v":0}]
["8. Risque lié à une eau de surface contaminée",null,null,null,null,null,null,{"$f":"O169","v":0}]
["9. Risque lié à des sédiments contaminés",null,null,null,null,null,null,{"$f":"O181","v":0}]
["10. Risque lié à des résidus miniers",null,null,null,null,null,null,{"$f":"O208","v":{"$error":"#DIV/0!"}}]
[null,null,null,null,null,null,null,{"$f":"MAX(H2:H11)","v":{"$error":"#DIV/0!"}},"Note finale (maximum parmi les 10 éléments de risque)"]
[]
["0. Absence de caractérisations de phase I et de phase II"]
[]
["Type d'activité passée sur le site",null,null,null,null,null,"Incidents environnementaux sur le site ou sur un terrain voisin immédiat"]
["Activité désignée à l'annexe IV du RPRT ",null,null,null,3,{"$f":"IF('Outil de priorisation des carac'!E131=Calculs_Carac!A17,Calculs_Carac!E17,\"\")","v":""},"Majeur connu sur le site",null,1000,{"$f":"IF('Outil de priorisation des carac'!E137=Calculs_Carac!G17,Calculs_Carac!I17,\"\")","v":""}]
["Lieu d'enfouissement et de dépôt de matières résiduelles",null,null,null,3,{"$f":"IF('Outil de priorisation des carac'!E131=Calculs_Carac!A18,Calculs_Carac!E18,\"\")","v":""},"Majeur appréhendé sur le site ",null,800,{"$f":"IF('Outil de priorisation des carac'!E137=Calculs_Carac!G18,Calculs_Carac!I18,\"\")","v":""}]
["Activité désignée à l'annexe III du RPRT (et exclue de l'annexe IV) ou usine d'asphalte (324121)",null,null,null,2,{"$f":"IF('Outil de priorisation des carac'!E131=Calculs_Carac!A19,Calculs_Carac!E19,\"\")","v":""},"Majeur connu ou appréhendé sur un terrain voisin",null,700,{"$f":"IF('Outil de priorisation des carac'!E137=Calculs_Carac!G19,Calculs_Carac!I19,\"\")","v":""}]
["Nettoyeur à sec",null,null,null,2,{"$f":"IF('Outil de priorisation des carac'!E131=Calculs_Carac!A20,Calculs_Carac!E20,\"\")","v":""},"Modéré connu sur le site",null,600,{"$f":"IF('Outil de priorisation des carac'!E137=Calculs_Carac!G20,Calculs_Carac!I20,\"\")","v":""}]
["Réservoir souterrain de produits pétroliers ou autres matières dangereuses",null,null,null,2,{"$f":"IF('Outil de priorisation des carac'!E131=A21,E21,\"\")","v":""},"Modéré appréhendé sur le site",null,500,{"$f":"IF('Outil de priorisation des carac'!E137=Calculs_Carac!G21,Calculs_Carac!I21,\"\")","v":""}]
["Autres activités industrielles à risque",null,null,null,1,{"$f":"IF('Outil de priorisation des carac'!E131=A22,E22,\"\")","v":""},"Modéré connu ou appréhendé sur un terrain voisin",null,400,{"$f":"IF('Outil de priorisation des carac'!E137=Calculs_Carac!G22,Calculs_Carac!I22,\"\")","v":""}]
["Réservoir hors sol, capacité >2000 L",null,null,null,1,{"$f":"IF('Outil de priorisation des carac'!E131=A23,E23,\"\")","v":""},"Mineur connu sur le site",null,300,{"$f":"IF('Outil de priorisation des carac'!$E$137=Calculs_Carac!G23,Calculs_Carac!I23,\"\")","v":""}]
["Site d'exploration minière ou pétrolière",null,null,null,1,{"$f":"IF('Outil de priorisation des carac'!E131=A24,E24,\"\")","v":""},"Mineur appréhendé sur le site",null,200,{"$f":"IF('Outil de priorisation des carac'!$E$137=Calculs_Carac!G24,Calculs_Carac!I24,\"\")","v":""}]
["Autres ateliers mécaniques (automobiles, motoneiges, etc.)",null,null,null,1,{"$f":"IF('Outil de priorisation des carac'!E131=A25,E25,\"\")","v":""},"Mineur connu ou appréhendé sur un terrain voisin",null,100,{"$f":"IF('Outil de priorisation des carac'!$E$137=Calculs_Carac!G25,Calculs_Carac!I25,\"\")","v":""}]
["Usage connu ou présumé d'anciennes pratiques de construction ou d'entretien générant de la contamination",null,null,null,1,{"$f":"IF('Outil de priorisation des carac'!E131=A26,E26,\"\")","v":""},"Aucun",null,0,{"$f":"IF('Outil de priorisation des carac'!$E$137=Calculs_Carac!G26,Calculs_Carac!I26,\"\")","v":""}]
["Aucune activité à risque",null,null,null,0,{"$f":"IF('Outil de priorisation des carac'!E131=A27,E27,\"\")","v":""}]
["Année de début de la première activité à risque"]
["Date inconnue",null,null,null,3,{"$f":"IF('Outil de priorisation des carac'!E132=Calculs_Carac!A29,Calculs_Carac!E29,\"\")","v":""}]
["Après 2003",null,null,null,1,{"$f":"IF('Outil de priorisation des carac'!E132=Calculs_Carac!A30,Calculs_Carac!E30,\"\")","v":""}]
["Entre 1988 et 2003",null,null,null,3,{"$f":"IF('Outil de priorisation des carac'!E132=Calculs_Carac!A31,E31,\"\")","v":""}]
["Avant 1988",null,null,null,5,{"$f":"IF('Outil de priorisation des carac'!E132=Calculs_Carac!A32,Calculs_Carac!E32,\"\")","v":""}]
["Durée totale des activités à risque"]
["Durée inconnue",null,null,null,2.5,{"$f":"IF('Outil de priorisation des carac'!E133=Calculs_Carac!A34,Calculs_Carac!E34,\"\")","v":""}]
["< 2 ans",null,null,null,1,{"$f":"IF('Outil de priorisation des carac'!E133=Calculs_Carac!A35,Calculs_Carac!E35,\"\")","v":""}]
["2 - 10 ans",null,null,null,2,{"$f":"IF('Outil de priorisation des carac'!E133=Calculs_Carac!A36,Calculs_Carac!E36,\"\")","v":""}]
["11 - 25 ans",null,null,null,3,{"$f":"IF('Outil de priorisation des carac'!E133=Calculs_Carac!A37,Calculs_Carac!E37,\"\")","v":""}]
["> 25 ans",null,null,null,4,{"$f":"IF('Outil de priorisation des carac'!E133=Calculs_Carac!A38,Calculs_Carac!E38,\"\")","v":""}]
["Superficie de la zone exploitée"]
["< 1 000 m²",null,null,null,1,{"$f":"IF('Outil de priorisation des carac'!E134=Calculs_Carac!A40,Calculs_Carac!E40,\"\")","v":""}]
["1 000 - 10 000 m²",null,null,null,2,{"$f":"IF('Outil de priorisation des carac'!E134=Calculs_Carac!A41,Calculs_Carac!E41,\"\")","v":""}]
["10 000 - 100 000 m²",null,null,null,3,{"$f":"IF('Outil de priorisation des carac'!E134=Calculs_Carac!A42,Calculs_Carac!E42,\"\")","v":""}]
["> 100 000 m²",null,null,null,4,{"$f":"IF('Outil de priorisation des carac'!E134=Calculs_Carac!A43,Calculs_Carac!E43,\"\")","v":""}]
["Classement de l'activité à risque"]
["Catégorie 4",null,null,null,1000,{"$f":"IF((MAX(F17:F27)*(MAX(F29:F32)+MAX(F34:F38)+MAX(F40:F43)))>20,E45,\"\")","v":""}]
["Catégorie 3",null,null,null,667,{"$f":"IF(AND((MAX(F17:F27)*(MAX(F29:F32)+MAX(F34:F38)+MAX(F40:F43)))>11,(MAX(F17:F27)*(MAX(F29:F32)+MAX(F34:F38)+MAX(F40:F43)))<=20),E46,\"\")","v":""}]
["Catégorie 2",null,null,null,333,{"$f":"IF(AND((MAX(F17:F27)*(MAX(F29:F32)+MAX(F34:F38)+MAX(F40:F43)))>0,(MAX(F17:F27)*(MAX(F29:F32)+MAX(F34:F38)+MAX(F40:F43)))<=11),E47,\"\")","v":""}]
["Catégorie 1",null,null,null,0,{"$f":"IF(AND(F17=\"\",F18=\"\",F19=\"\",F20=\"\",F21=\"\",F22=\"\",F23=\"\",F24=\"\",F25=\"\",F26=\"\",F27=\"\",F29=\"\",F30=\"\",F31=\"\",F32=\"\",F34=\"\",F35=\"\",F36=\"\",F37=\"\",F38=\"\",F40=\"\",F41=\"\",F42=\"\",F43=\"\"),\"\",IF((MAX(F17:F27)*(MAX(F29:F32)+MAX(F34:F38)+MAX(F40:F43)))=0,E48,\"\"))","v":""}]
[]
[null,null,null,"Note A0",{"$f":"IF(OR(AND('Outil de priorisation des carac'!E124=\"Incomplète\",'Outil de priorisation des carac'!E126=\"Non\"),'Outil de priorisation des carac'!E82=\"Non\",'Outil de priorisation des carac'!E85=\"Non\"),IF(AND(F17=\"\",F18=\"\",F19=\"\",F20=\"\",F21=\"\",F22=\"\",F23=\"\",F24=\"\",F25=\"\",F26=\"\",F27=\"\",F29=\"\",F30=\"\",F31=\"\",F32=\"\",F34=\"\",F35=\"\",F36=\"\",F37=\"\",F38=\"\",F40=\"\",F41=\"\",F42=\"\",F43=\"\"),\"\",MAX(F45:F48)),\"\")","v":""},null,null,"Note B0",{"$f":"IF(OR(AND('Outil de priorisation des carac'!E124=\"Incomplète\",'Outil de priorisation des carac'!E126=\"Non\"),'Outil de priorisation des carac'!E82=\"Non\",'Outil de priorisation des carac'!E85=\"Non\"),MAX(J17:J26),\"\")","v":""}]
[]
["1. Risque par contact direct avec les matériaux de surface contaminés"]
[]
["Dangerosité",null,null,null,null,null,"Potentiel de contact",null,null,null,"Récepteurs présents"]
["Présence de matériaux de surface contaminés selon la Phase II","Présence confirmée, avec dépassements nombreux ou importants",null,null,10,{"$f":"IF('Outil de priorisation des carac'!E141=Calculs_Carac!B55,Calculs_Carac!E55,\"\")","v":""},"Zone contaminée accessible à fort potentiel de contact",null,10,{"$f":"IF('Outil de priorisation des carac'!E142=Calculs_Carac!G55,Calculs_Carac!I55,\"\")","v":""},"Usage extérieur sensible sur le site",null,10,{"$f":"IF('Outil de priorisation des carac'!E144=Calculs_Carac!K55,Calculs_Carac!M55,\"\")","v":""}]
[null,"Présence confirmée, avec dépassements peu nombreux ou peu importants",null,null,6,{"$f":"IF('Outil de priorisation des carac'!E141=Calculs_Carac!B56,Calculs_Carac!E56,\"\")","v":""},"Zone contaminée accessible à faible potentiel de contact",null,5,{"$f":"IF('Outil de priorisation des carac'!E142=Calculs_Carac!G56,Calculs_Carac!I56,\"\")","v":""},"Récepteurs écologiques terrestres sensibles sur le site",null,8,{"$f":"IF('Outil de priorisation des carac'!E144=Calculs_Carac!K56,Calculs_Carac!M56,\"\")","v":""}]
[null,"Absence confirmée",null,null,0,{"$f":"IF('Outil de priorisation des carac'!E141=Calculs_Carac!B57,Calculs_Carac!E57,\"\")","v":""},"Zone contaminée peu accessible",null,2,{"$f":"IF('Outil de priorisation des carac'!E142=Calculs_Carac!G57,Calculs_Carac!I57,\"\")","v":""},"Usage résidentiel/institutionnel sensible sur le site",null,6,{"$f":"IF('Outil de priorisation des carac'!E144=Calculs_Carac!K57,Calculs_Carac!M57,\"\")","v":""}]
["Présence de matériaux de surface contaminés appréhendé selon la Phase I","Probablement fortement contaminé",null,null,8,{"$f":"IF('Outil de priorisation des carac'!E141=Calculs_Carac!B58,Calculs_Carac!E58,\"\")","v":""},"Zone contaminée pavée ou bétonnée",null,0,{"$f":"IF('Outil de priorisation des carac'!E142=Calculs_Carac!G58,Calculs_Carac!I58,\"\")","v":""},"Usage commercial/institutionnel non sensible/chaussée, trottoir ou parc sur le site",null,4,{"$f":"IF('Outil de priorisation des carac'!E144=Calculs_Carac!K58,Calculs_Carac!M58,\"\")","v":""}]
[null,"Présence appréhendée",null,null,4,{"$f":"IF('Outil de priorisation des carac'!E141=Calculs_Carac!B59,Calculs_Carac!E59,\"\")","v":""},null,null,null,null,"Usage industriel sur le site",null,2,{"$f":"IF('Outil de priorisation des carac'!E144=Calculs_Carac!K59,Calculs_Carac!M59,\"\")","v":""}]
[null,"Présence non appréhendée",null,null,1,{"$f":"IF('Outil de priorisation des carac'!E141=Calculs_Carac!B60,Calculs_Carac!E60,\"\")","v":""},null,null,"OU"]
[]
[null,null,null,null,null,null,"Constat d'impacts manifestes et importants sur la faune ou la flore","Oui",10,{"$f":"IF('Outil de priorisation des carac'!E143=Calculs_Carac!H62,Calculs_Carac!I62,\"\")","v":""}]
[null,null,null,null,null,"",null,"Non",0,{"$f":"IF('Outil de priorisation des carac'!E143=Calculs_Carac!H63,Calculs_Carac!I63,\"\")","v":""}]
[]
[null,null,null,"Note A1",{"$f":"MAX(F55:F60)","v":0},"x",null,"Note B1",{"$f":"MAX(J55:J63)","v":0},"x",null,"Note C1",{"$f":"MAX(N55:N59)","v":0},"=",{"$f":"E65*I65*M65","v":0},"Note D1"]
[]
["2. Risque par transport aéroporté des matériaux de surface contaminés"]
[]
["Voir risque 1",null,null,null,null,null,"Potentiel de migration",null,null,null,"Récepteurs présents"]
[null,null,null,null,null,null,"Zone de sol contaminé strictement à nu avec circulation",null,10,{"$f":"IF('Outil de priorisation des carac'!E147=Calculs_Carac!G70,Calculs_Carac!I70,\"\")","v":""},"Usage extérieur sensible ou usage agricole au voisinage du site ",null,10,{"$f":"IF('Outil de priorisation des carac'!E149=Calculs_Carac!K70,Calculs_Carac!M70,\"\")","v":""}]
[null,null,null,null,null,null,"Zone de sol contaminé strictement à nu sans circulation",null,5,{"$f":"IF('Outil de priorisation des carac'!E147=Calculs_Carac!G71,Calculs_Carac!I71,\"\")","v":""},"Récepteurs écologiques terrestres sensibles au voisinage du site",null,8,{"$f":"IF('Outil de priorisation des carac'!E149=Calculs_Carac!K71,Calculs_Carac!M71,\"\")","v":""}]
[null,null,null,null,null,null,"Zone de sol contaminé végétalisée ou recouverte de matériaux conformes",null,1,{"$f":"IF('Outil de priorisation des carac'!E147=Calculs_Carac!G72,Calculs_Carac!I72,\"\")","v":""},"Usage résidentiel/institutionnel sensible au voisinage du site",null,6,{"$f":"IF('Outil de priorisation des carac'!E149=Calculs_Carac!K72,Calculs_Carac!M72,\"\")","v":""}]
[null,null,null,null,null,null,"Zone de sol contaminé pavée ou bétonnée",null,0,{"$f":"IF('Outil de priorisation des carac'!E147=Calculs_Carac!G73,Calculs_Carac!I73,\"\")","v":""},"Usage commercial/institutionnel non sensible/chaussée, trottoir ou parc ou milieu naturel au voisinage du site",null,4,{"$f":"IF('Outil de priorisation des carac'!E149=Calculs_Carac!K73,Calculs_Carac!M73,\"\")","v":""}]
[null,null,null,null,null,null,null,null,null,null,"Usage industriel au voisinage du site",null,2,{"$f":"IF('Outil de priorisation des carac'!E149=Calculs_Carac!K74,Calculs_Carac!M74,\"\")","v":""}]
[null,null,null,null,null,null,null,null,"OU"]
[]
[null,null,null,null,null,null,"Présence probable ou vérifiée d'une contamination aéroportée en dehors des limites de propriété","Oui",10,{"$f":"IF('Outil de priorisation des carac'!E148=Calculs_Carac!H77,Calculs_Carac!I77,\"\")","v":""}]
[null,null,null,null,null,null,null,"Non",0,{"$f":"IF('Outil de priorisation des carac'!E148=Calculs_Carac!H78,Calculs_Carac!I78,\"\")","v":""}]
[]
[null,null,null,"Note A2",{"$f":"E65","v":0},"x",null,"Note B2",{"$f":"MAX(J70:J78)","v":0},"x",null,"Note C2",{"$f":"MAX(N70:N74)","v":0},"=",{"$f":"E80*I80*M80","v":0},"Note D2"]
[]
["3. Risque par intrusion de vapeurs contaminées dans un bâtiment depuis le sol contaminé"]
[]
["Dangerosité",null,null,null,null,null,null,null,null,null,"Récepteurs présents"]
["Présence de composés volatils dans les sols sous ou à proximité d'un bâtiment selon la Phase II","Présence confirmée, avec dépassements nombreux ou importants",null,null,10,{"$f":"IF('Outil de priorisation des carac'!E151=Calculs_Carac!B85,Calculs_Carac!E85,\"\")","v":""},null,null,null,null,"Usage résidentiel/institutionnel sensible/agricole avec animaux (temps plein)",null,10,{"$f":"IF('Outil de priorisation des carac'!E152=Calculs_Carac!K85,Calculs_Carac!M85,\"\")","v":""}]
[null,"Présence confirmée, avec dépassements peu nombreux ou peu importants",null,null,6,{"$f":"IF('Outil de priorisation des carac'!E151=Calculs_Carac!B86,Calculs_Carac!E86,\"\")","v":""},null,null,null,null,"Usage institutionnel sensible/agricole avec animaux (temps partiel)",null,8,{"$f":"IF('Outil de priorisation des carac'!E152=Calculs_Carac!K86,Calculs_Carac!M86,\"\")","v":""}]
[null,"Absence confirmée",null,null,0,{"$f":"IF('Outil de priorisation des carac'!E151=Calculs_Carac!B87,Calculs_Carac!E87,\"\")","v":""},null,null,null,null,"Usage commercial/institutionnel non sensible/agricole sans animaux",null,6,{"$f":"IF('Outil de priorisation des carac'!E152=Calculs_Carac!K87,Calculs_Carac!M87,\"\")","v":""}]
["Présence de composés volatils dans les sols sous ou à proximité d'un bâtiment appréhendé selon la Phase I","Probablement fortement contaminé",null,null,8,{"$f":"IF('Outil de priorisation des carac'!E151=Calculs_Carac!B88,Calculs_Carac!E88,\"\")","v":""},null,null,null,null,"Usage industriel ou bâtiment vacant",null,4,{"$f":"IF('Outil de priorisation des carac'!E152=Calculs_Carac!K88,Calculs_Carac!M88,\"\")","v":""}]
[null,"Présence appréhendée",null,null,4,{"$f":"IF('Outil de priorisation des carac'!E151=Calculs_Carac!B89,Calculs_Carac!E89,\"\")","v":""},null,null,null,null,"Pas de bâtiment",null,0,{"$f":"IF('Outil de priorisation des carac'!E152=Calculs_Carac!K89,Calculs_Carac!M89,\"\")","v":""}]
[null,"Présence non appréhendée",null,null,1,{"$f":"IF('Outil de priorisation des carac'!E151=Calculs_Carac!B90,Calculs_Carac!E90,\"\")","v":""}]
[]
[null,null,null,"Note A3",{"$f":"MAX(F85:F90)","v":0},"x",null,"Note B3",10,"x",null,"Note C3",{"$f":"MAX(N85:N89)","v":0},"=",{"$f":"E92*I92*M92","v":0},"Note D3"]
[]
["4. Risque par intrusion de vapeurs contaminées dans un bâtiment depuis l'eau souterraine contaminée"]
[]
["Dangerosité",null,null,null,null,null,null,null,null,null,"Récepteurs présents"]
["Présence de composés volatils dans l'eau souterraine sous ou à proximité d'un bâtiment selon la Phase II","Présence confirmée, avec dépassements nombreux ou importants",null,null,10,{"$f":"IF('Outil de priorisation des carac'!E154=Calculs_Carac!B97,Calculs_Carac!E97,\"\")","v":""},null,null,null,null,"Usage résidentiel/institutionnel sensible/agricole avec animaux (temps plein)",null,10,{"$f":"IF('Outil de priorisation des carac'!E155=Calculs_Carac!K97,Calculs_Carac!M97,\"\")","v":""}]
[null,"Présence confirmée, avec dépassements peu nombreux ou peu importants",null,null,6,{"$f":"IF('Outil de priorisation des carac'!E154=Calculs_Carac!B98,Calculs_Carac!E98,\"\")","v":""},null,null,null,null,"Usage institutionnel sensible/agricole avec animaux (temps partiel)",null,8,{"$f":"IF('Outil de priorisation des carac'!E155=Calculs_Carac!K98,Calculs_Carac!M98,\"\")","v":""}]
[null,"Absence confirmée",null,null,0,{"$f":"IF('Outil de priorisation des carac'!E154=Calculs_Carac!B99,Calculs_Carac!E99,\"\")","v":""},null,null,null,null,"Usage commercial/institutionnel non sensible/agricole sans animaux",null,6,{"$f":"IF('Outil de priorisation des carac'!E155=Calculs_Carac!K99,Calculs_Carac!M99,\"\")","v":""}]
["Présence appréhendée de composés volatils dans l'eau souterraine sous ou à proximité d'un bâtiment selon la Phase I","Probablement fortement contaminé",null,null,8,{"$f":"IF('Outil de priorisation des carac'!E154=Calculs_Carac!B100,Calculs_Carac!E100,\"\")","v":""},null,null,null,null,"Usage industriel ou bâtiment vacant",null,4,{"$f":"IF('Outil de priorisation des carac'!E155=Calculs_Carac!K100,Calculs_Carac!M100,\"\")","v":""}]
[null,"Présence appréhendée",null,null,4,{"$f":"IF('Outil de priorisation des carac'!E154=Calculs_Carac!B101,Calculs_Carac!E101,\"\")","v":""},null,null,null,null,"Pas de bâtiment",null,0,{"$f":"IF('Outil de priorisation des carac'!E155=Calculs_Carac!K101,Calculs_Carac!M101,\"\")","v":""}]
[null,"Présence non appréhendée",null,null,1,{"$f":"IF('Outil de priorisation des carac'!E154=Calculs_Carac!B102,Calculs_Carac!E102,\"\")","v":""}]
[]
[null,null,null,"Note A4",{"$f":"MAX(F97:F102)","v":0},"x",null,"Note B4",10,"x",null,"Note C4",{"$f":"MAX(N97:N101)","v":0},"=",{"$f":"E104*I104*M104","v":0},"Note D4"]
[]
["5. Risque de résurgence d'eau souterraine contaminée dans une eau de surface"]
[]
["Dangerosité",null,null,null,null,null,"Potentiel de migration",null,null,null,"Récepteurs présents"]
["Présence d'eau souterraine contaminée selon la Phase II","Présence confirmée, avec dépassements nombreux ou importants",null,null,10,{"$f":"IF('Outil de priorisation des carac'!E157=Calculs_Carac!B109,Calculs_Carac!E109,\"\")","v":""},"Distance à l'eau de surface ou à un égout pluvial","0-10 m",10,{"$f":"IF('Outil de priorisation des carac'!E158=Calculs_Carac!H109,Calculs_Carac!I109,\"\")","v":""},"Usage aquatique sensible à l'endroit de la résurgence",null,10,{"$f":"IF('Outil de priorisation des carac'!E159=Calculs_Carac!K109,Calculs_Carac!M109,\"\")","v":""}]
[null,"Présence confirmée, avec dépassements peu nombreux ou peu importants",null,null,6,{"$f":"IF('Outil de priorisation des carac'!E157=Calculs_Carac!B110,Calculs_Carac!E110,\"\")","v":""},null,"10-100 m",8,{"$f":"IF('Outil de priorisation des carac'!E158=Calculs_Carac!H110,Calculs_Carac!I110,\"\")","v":""},"Récepteurs écologiques aquatiques sensibles à l'endroit de la résurgence",null,8,{"$f":"IF('Outil de priorisation des carac'!E159=Calculs_Carac!K110,Calculs_Carac!M110,\"\")","v":""}]
[null,"Absence confirmée",null,null,0,{"$f":"IF('Outil de priorisation des carac'!E157=Calculs_Carac!B111,Calculs_Carac!E111,\"\")","v":""},null,"100-300 m",6,{"$f":"IF('Outil de priorisation des carac'!E158=Calculs_Carac!H111,Calculs_Carac!I111,\"\")","v":""},"Usage aquatique sensible en aval de l'endroit de la résurgence",null,8,{"$f":"IF('Outil de priorisation des carac'!E159=Calculs_Carac!K111,Calculs_Carac!M111,\"\")","v":""}]
["Présence appréhendée d'eau souterraine contaminée selon la phase 1","Probablement fortement contaminé",null,null,8,{"$f":"IF('Outil de priorisation des carac'!E157=Calculs_Carac!B112,Calculs_Carac!E112,\"\")","v":""},null,"300-500",4,{"$f":"IF('Outil de priorisation des carac'!E158=Calculs_Carac!H112,Calculs_Carac!I112,\"\")","v":""},"Récepteurs écologiques aquatiques sensibles en aval de l'endroit de la résurgence",null,6,{"$f":"IF('Outil de priorisation des carac'!E159=Calculs_Carac!K112,Calculs_Carac!M112,\"\")","v":""}]
[null,"Présence appréhendée",null,null,4,{"$f":"IF('Outil de priorisation des carac'!E157=Calculs_Carac!B113,Calculs_Carac!E113,\"\")","v":""},null,">500 m",0,{"$f":"IF('Outil de priorisation des carac'!E158=Calculs_Carac!H113,Calculs_Carac!I113,\"\")","v":""},"Usage résidentiel/commercial/institutionnel/chaussée, trottoir ou parc à l'endroit de la résurgence ou en aval de celui-ci",null,4,{"$f":"IF('Outil de priorisation des carac'!E159=Calculs_Carac!K113,Calculs_Carac!M113,\"\")","v":""}]
[null,"Présence non appréhendée",null,null,1,{"$f":"IF('Outil de priorisation des carac'!E157=Calculs_Carac!B114,Calculs_Carac!E114,\"\")","v":""},null,null,null,null,"Usage industriel à l'endroit de la résurgence ou en aval de celui-ci",null,2,{"$f":"IF('Outil de priorisation des carac'!E159=Calculs_Carac!K114,Calculs_Carac!M114,\"\")","v":""}]
[]
[]
[null,null,null,"Note A5",{"$f":"MAX(F109:F114)","v":0},"x",null,"Note B5",{"$f":"IF(E117=0,0,MAX(J109:J113))","v":0},"x",null,"Note C5",{"$f":"MAX(N109:N114)","v":0},"=",{"$f":"E117*I117*M117","v":0},"Note D5"]
[]
["6. Risque lié à la circulation d’eau souterraine contaminée sous un terrain où l’eau souterraine est exploitée, ou susceptible de l’être, à des fins de consommation"]
[]
["Voir risque 5",null,null,null,null,null,null,null,null,null,"Récepteurs présents"]
[null,null,null,null,null,null,null,null,null,null,null,"Puits d'eau potable sur le site",10,{"$f":"IF('Outil de priorisation des carac'!E162=Calculs_Carac!L122,Calculs_Carac!M122,\"\")","v":""}]
[null,null,null,null,null,null,null,null,null,null,"Proximité d'une source d'eau potable","<1 km",8,{"$f":"IF('Outil de priorisation des carac'!E162=Calculs_Carac!L123,Calculs_Carac!M123,\"\")","v":""}]
[null,null,null,null,null,null,null,null,null,null,null,"1-2 km",6,{"$f":"IF('Outil de priorisation des carac'!E162=Calculs_Carac!L124,Calculs_Carac!M124,\"\")","v":""}]
[null,null,null,null,null,null,null,null,null,null,null,"2-5 km",2,{"$f":"IF('Outil de priorisation des carac'!E162=Calculs_Carac!L125,Calculs_Carac!M125,\"\")","v":""}]
[null,null,null,null,null,null,null,null,null,null,null,"Aucune source d'eau potable (>5 km)",0,{"$f":"IF('Outil de priorisation des carac'!E162=Calculs_Carac!L126,Calculs_Carac!M126,\"\")","v":""}]
[]
[null,null,null,"Note A6",{"$f":"E117","v":0},"x",null,"Note B6",10,"x",null,"Note C6",{"$f":"MAX(N122:N126)","v":0},"=",{"$f":"E128*I128*M128","v":0},"Note D6"]
[]
["7. Risque d'érosion de matériaux de surface contaminés vers l'eau de surface"]
[]
["Voir risque 1",null,null,null,null,null,"Potentiel de migration",null,null,null,"Récepteurs présents"]
[null,null,null,null,null,null,"Zone de sol contaminé strictement à nu",null,10,{"$f":"IF('Outil de priorisation des carac'!E165=Calculs_Carac!G133,Calculs_Carac!I133,\"\")","v":""},"Usage aquatique sensible à l'endroit de l'érosion",null,10,{"$f":"IF('Outil de priorisation des carac'!E169=Calculs_Carac!K133,Calculs_Carac!M133,\"\")","v":""}]
[null,null,null,null,null,null,"Zone de sol contaminé végétalisée ou recouverte de matériaux conformes",null,5,{"$f":"IF('Outil de priorisation des carac'!E165=Calculs_Carac!G134,Calculs_Carac!I134,\"\")","v":""},"Récepteurs écologiques aquatiques sensibles à l'endroit de l'érosion",null,8,{"$f":"IF('Outil de priorisation des carac'!E169=Calculs_Carac!K134,Calculs_Carac!M134,\"\")","v":""}]
[null,null,null,null,null,null,"Zone de sol contaminé pavée ou bétonnée ",null,0,{"$f":"IF('Outil de priorisation des carac'!E165=Calculs_Carac!G135,Calculs_Carac!I135,\"\")","v":""},"Usage aquatique sensible en aval de l'endroit de l'érosion",null,8,{"$f":"IF('Outil de priorisation des carac'!E169=Calculs_Carac!K135,Calculs_Carac!M135,\"\")","v":""}]
[null,null,null,null,null,null,"Distance à l'eau de surface","0-100 m",1,{"$f":"IF('Outil de priorisation des carac'!E166=Calculs_Carac!H136,Calculs_Carac!I136,\"\")","v":""},"Récepteurs écologiques aquatiques sensibles en aval de l'endroit de l'érosion",null,6,{"$f":"IF('Outil de priorisation des carac'!E169=Calculs_Carac!K136,Calculs_Carac!M136,\"\")","v":""}]
[null,null,null,null,null,null,null,"100-300 m",2,{"$f":"IF('Outil de priorisation des carac'!E166=Calculs_Carac!H137,Calculs_Carac!I137,\"\")","v":""},"Usage résidentiel, commercial, institutionnel, chaussée, trottoir ou parc sur ou en aval de l'endroit de l'érosion",null,4,{"$f":"IF('Outil de priorisation des carac'!E169=Calculs_Carac!K137,Calculs_Carac!M137,\"\")","v":""}]
[null,null,null,null,null,null,null,"300-500 m",10,{"$f":"IF('Outil de priorisation des carac'!E166=Calculs_Carac!H138,Calculs_Carac!I138,\"\")","v":""},"Usage industriel sur ou en aval de l'endroit de l'érosion",null,2,{"$f":"IF('Outil de priorisation des carac'!E169=Calculs_Carac!K138,Calculs_Carac!M138,\"\")","v":""}]
[null,null,null,null,null,null,null,">500 m",0,{"$f":"IF('Outil de priorisation des carac'!E166=Calculs_Carac!H139,Calculs_Carac!I139,\"\")","v":""}]
[null,null,null,null,null,null,"Topographie","Pente forte (>27 degrés ou >50 %)",1,{"$f":"IF('Outil de priorisation des carac'!E167=Calculs_Carac!H140,Calculs_Carac!I140,\"\")","v":""}]
[null,null,null,null,null,null,null,"Pente moyenne (3-27 degrés ou 5-50 %)",2,{"$f":"IF('Outil de priorisation des carac'!E167=Calculs_Carac!H141,Calculs_Carac!I141,\"\")","v":""}]
[null,null,null,null,null,null,null,"Pente faible (<3 degrés ou <5 %)",10,{"$f":"IF('Outil de priorisation des carac'!E167=Calculs_Carac!H142,Calculs_Carac!I142,\"\")","v":""}]
[]
[null,null,null,null,null,null,null,null,"OU"]
[]
[null,null,null,null,null,null,"Potentiel d'inondation","Berge",10,{"$f":"IF('Outil de priorisation des carac'!E168=Calculs_Carac!H146,Calculs_Carac!I146,\"\")","v":""}]
[null,null,null,null,null,null,null,"Plaine inondable",6,{"$f":"IF('Outil de priorisation des carac'!E168=Calculs_Carac!H147,Calculs_Carac!I147,\"\")","v":""}]
[null,null,null,null,null,null,null,"Faible",3,{"$f":"IF('Outil de priorisation des carac'!E168=Calculs_Carac!H148,Calculs_Carac!I148,\"\")","v":""}]
[null,null,null,null,null,null,null,"Nul",0,{"$f":"IF('Outil de priorisation des carac'!E168=Calculs_Carac!H149,Calculs_Carac!I149,\"\")","v":""}]
[]
[null,null,null,"Note A7",{"$f":"E65","v":0},"x",null,"Note B7",{"$f":"IF(E151=0,0,MAX(IF(J139=0,0,MAX(Calculs_Carac!J133:J135)/MAX(Calculs_Carac!J136:J138)/MAX(Calculs_Carac!J140:J142)),MAX(Calculs_Carac!J146:J149)))","v":0},"x",null,"Note C7",{"$f":"MAX(N133:N138)","v":0},"=",{"$f":"E151*I151*M151","v":0},"Note D7"]
[]
[]
["8. Risque lié à une eau de surface contaminée"]
[]
["Dangerosité",null,null,null,null,null,"Potentiel de migration",null,null,null,"Récepteurs présents"]
["Présence d'eau de surface contaminée selon la Phase II","Présence confirmée, avec dépassements nombreux ou importants",null,null,10,{"$f":"IF('Outil de priorisation des carac'!E171=Calculs_Carac!B157,Calculs_Carac!E157,\"\")","v":""},null,null,null,null,"Usage aquatique sensible à l'endroit de la contamination",null,10,{"$f":"IF('Outil de priorisation des carac'!E174=Calculs_Carac!K157,Calculs_Carac!M157,\"\")","v":""}]
[null,"Présence confirmée, avec dépassements peu nombreux ou peu importants",null,null,6,{"$f":"IF('Outil de priorisation des carac'!E171=Calculs_Carac!B158,Calculs_Carac!E158,\"\")","v":""},"Présence d'un cours d'eau qui s'étend hors site ",null,10,{"$f":"IF('Outil de priorisation des carac'!E172=Calculs_Carac!G158,Calculs_Carac!I158,\"\")","v":""},"Récepteurs écologiques aquatiques sensibles à l'endroit de la contamination",null,8,{"$f":"IF('Outil de priorisation des carac'!E174=Calculs_Carac!K158,Calculs_Carac!M158,\"\")","v":""}]
[null,"Absence confirmée",null,null,0,{"$f":"IF('Outil de priorisation des carac'!E171=Calculs_Carac!B159,Calculs_Carac!E159,\"\")","v":""},"Présence d'un plan d'eau qui s'étend hors site ",null,9,{"$f":"IF('Outil de priorisation des carac'!E172=Calculs_Carac!G159,Calculs_Carac!I159,\"\")","v":""},"Usage aquatique sensible en aval de l'endroit de la contamination",null,8,{"$f":"IF('Outil de priorisation des carac'!E174=Calculs_Carac!K159,Calculs_Carac!M159,\"\")","v":""}]
["Présence appréhendée d'eau de surface contaminée selon la Phase I","Probablement fortement contaminé",null,null,8,{"$f":"IF('Outil de priorisation des carac'!E171=Calculs_Carac!B160,Calculs_Carac!E160,\"\")","v":""},"Présence d'un cours d'eau uniquement sur le site",null,8,{"$f":"IF('Outil de priorisation des carac'!E172=Calculs_Carac!G160,Calculs_Carac!I160,\"\")","v":""},"Récepteurs écologiques aquatiques sensibles en aval de l'endroit de la contamination",null,6,{"$f":"IF('Outil de priorisation des carac'!E174=Calculs_Carac!K160,Calculs_Carac!M160,\"\")","v":""}]
[null,"Présence appréhendée",null,null,4,{"$f":"IF('Outil de priorisation des carac'!E171=Calculs_Carac!B161,Calculs_Carac!E161,\"\")","v":""},"Présence d'un plan d'eau uniquement sur le site",null,7,{"$f":"IF('Outil de priorisation des carac'!E172=Calculs_Carac!G161,Calculs_Carac!I161,\"\")","v":""},"Usage résidentiel/commercial/institutionnel/chaussée, trottoir ou parc sur ou en aval de l'endroit de la contamination",null,4,{"$f":"IF('Outil de priorisation des carac'!E174=Calculs_Carac!K161,Calculs_Carac!M161,\"\")","v":""}]
[null,"Présence non appréhendée",null,null,1,{"$f":"IF('Outil de priorisation des carac'!E171=Calculs_Carac!B162,Calculs_Carac!E162,\"\")","v":""},"Absence de cours d'eau et de plan d'eau ",null,0,{"$f":"IF('Outil de priorisation des carac'!E172=Calculs_Carac!G162,Calculs_Carac!I162,\"\")","v":""},"Usage industriel sur ou en aval de l'endroit de la contamination",null,2,{"$f":"IF('Outil de priorisation des carac'!E174=Calculs_Carac!K162,Calculs_Carac!M162,\"\")","v":""}]
[null,null,null,null,null,null,null,null,"OU"]
[]
[null,null,null,null,null,null,"Ratio de dilution d'un fossé ou effluent","Faible: Ratio de dilution <100",5,{"$f":"IF('Outil de priorisation des carac'!E173=Calculs_Carac!H165,Calculs_Carac!I165,\"\")","v":""}]
[null,null,null,null,null,null,null,"Élevé: Ratio de dilution >100",10,{"$f":"IF('Outil de priorisation des carac'!E173=Calculs_Carac!H166,Calculs_Carac!I166,\"\")","v":""}]
[null,null,null,null,null,null,null,"Aucun fossé ni effluent",0,{"$f":"IF('Outil de priorisation des carac'!E173=Calculs_Carac!H167,Calculs_Carac!I167,\"\")","v":""}]
[]
[null,null,null,"Note A8",{"$f":"MAX(F157:F162)","v":0},"x",null,"Note B8",{"$f":"MAX(J158:J167)","v":0},"x",null,"Note C8",{"$f":"MAX(N157:N162)","v":0},"=",{"$f":"E169*I169*M169","v":0},"Note D8"]
[]
["9. Risque lié à des sédiments contaminés"]
[]
["Dangerosité",null,null,null,null,null,null,null,null,null,"Récepteurs présents"]
["Présence de sédiments contaminés selon la Phase II","Présence confirmée, avec dépassements nombreux ou importants",null,null,10,{"$f":"IF('Outil de priorisation des carac'!E176=Calculs_Carac!B174,Calculs_Carac!E174,\"\")","v":""},null,null,null,null,"Usage aquatique sensible à l'endroit de la contamination",null,10,{"$f":"IF('Outil de priorisation des carac'!E177=Calculs_Carac!K174,Calculs_Carac!M174,\"\")","v":""}]
[null,"Présence confirmée, avec dépassements peu nombreux ou peu importants",null,null,6,{"$f":"IF('Outil de priorisation des carac'!E176=Calculs_Carac!B175,Calculs_Carac!E175,\"\")","v":""},null,null,null,null,"Récepteurs écologiques aquatiques sensibles à l'endroit de la contamination",null,8,{"$f":"IF('Outil de priorisation des carac'!E177=Calculs_Carac!K175,Calculs_Carac!M175,\"\")","v":""}]
[null,"Absence confirmée",null,null,0,{"$f":"IF('Outil de priorisation des carac'!E176=Calculs_Carac!B176,Calculs_Carac!E176,\"\")","v":""},null,null,null,null,"Usage aquatique sensible en aval de l'endroit de la contamination",null,8,{"$f":"IF('Outil de priorisation des carac'!E177=Calculs_Carac!K176,Calculs_Carac!M176,\"\")","v":""}]
["Présence appréhendée de sédiments contaminés selon la Phase I","Probablement fortement contaminé",null,null,8,{"$f":"IF('Outil de priorisation des carac'!E176=Calculs_Carac!B177,Calculs_Carac!E177,\"\")","v":""},null,null,null,null,"Récepteurs écologiques aquatiques sensibles en aval de l'endroit de la contamination",null,6,{"$f":"IF('Outil de priorisation des carac'!E177=Calculs_Carac!K177,Calculs_Carac!M177,\"\")","v":""}]
[null,"Présence appréhendée",null,null,4,{"$f":"IF('Outil de priorisation des carac'!E176=Calculs_Carac!B178,Calculs_Carac!E178,\"\")","v":""},null,null,null,null,"Usage résidentiel/commercial/institutionnel/chaussée, trottoir ou parc sur ou en aval de l'endroit de la contamination",null,4,{"$f":"IF('Outil de priorisation des carac'!E177=Calculs_Carac!K178,Calculs_Carac!M178,\"\")","v":""}]
[null,"Présence non appréhendée",null,null,1,{"$f":"IF('Outil de priorisation des carac'!E176=Calculs_Carac!B179,Calculs_Carac!E179,\"\")","v":""},null,null,null,null,"Usage industriel sur ou en aval de l'endroit de la contamination",null,2,{"$f":"IF('Outil de priorisation des carac'!E177=Calculs_Carac!K179,Calculs_Carac!M179,\"\")","v":""}]
[]
[null,null,null,"Note A9",{"$f":"MAX(F174:F179)","v":0},"x",null,"Note B9",10,"x",null,"Note C9",{"$f":"MAX(N174:N179)","v":0},"=",{"$f":"E181*I181*M181","v":0},"Note D9"]
[]
["10. Risque lié à des résidus miniers (résidus d'usinage ou stériles)"]
[]
["Dangerosité",null,null,null,null,null,"Potentiel de migration",null,null,null,"Récepteurs présents"]
["Présence de résidus miniers radioactifs et/ou à risques élevés selon la Phase II","Présence confirmée, avec dépassements nombreux ou importants",null,null,10,{"$f":"IF('Outil de priorisation des carac'!$E$179=B186,Calculs_Carac!E186,\"\")","v":""},null,null,null,null,"Usage extérieur sensible sur le site",null,10,{"$f":"IF('Outil de priorisation des carac'!E186=Calculs_Carac!K186,Calculs_Carac!M186,\"\")","v":""}]
[null,"Présence confirmée, avec dépassements peu nombreux ou peu importants",null,null,6,{"$f":"IF('Outil de priorisation des carac'!$E$179=B187,Calculs_Carac!E187,\"\")","v":""},"Structure/digue du parc à résidus non étanche ou présence d'une brèche","Non évalué ",10,{"$f":"IF('Outil de priorisation des carac'!E183=Calculs_Carac!H187,Calculs_Carac!I187,\"\")","v":""},"Usage aquatique sensible à l'endroit de la contamination ou au point d'impact",null,10,{"$f":"IF('Outil de priorisation des carac'!E186=Calculs_Carac!K187,Calculs_Carac!M187,\"\")","v":""}]
[null,"Absence confirmée",null,null,0,{"$f":"IF('Outil de priorisation des carac'!$E$179=B188,Calculs_Carac!E188,\"\")","v":""},null,"Confirmation d'une structure/digue non étanche, d'une brèche ou d'un épanchement",8,{"$f":"IF('Outil de priorisation des carac'!E183=Calculs_Carac!H188,Calculs_Carac!I188,\"\")","v":""},"Récepteurs écologiques terrestres sensibles sur le site",null,8,{"$f":"IF('Outil de priorisation des carac'!E186=Calculs_Carac!K188,Calculs_Carac!M188,\"\")","v":""}]
["Présence appréhendée de résidus miniers radioactifs et/ou à risques élevés selon la Phase I","Probablement fortement contaminé",null,null,8,{"$f":"IF('Outil de priorisation des carac'!$E$179=B189,Calculs_Carac!E189,\"\")","v":""},null,"Probabilité d'une structure/digue non étanche, d'une brèche ou d'un épanchement",6,{"$f":"IF('Outil de priorisation des carac'!E183=Calculs_Carac!H189,Calculs_Carac!I189,\"\")","v":""},"Récepteurs écologiques aquatiques sensibles à l'endroit de la contamination ou au point d'impact",null,8,{"$f":"IF('Outil de priorisation des carac'!E186=Calculs_Carac!K189,Calculs_Carac!M189,\"\")","v":""}]
[null,"Présence appréhendée",null,null,4,{"$f":"IF('Outil de priorisation des carac'!$E$179=B190,Calculs_Carac!E190,\"\")","v":""},null,"Confinement intact (confirmé dans une étude préalable)",0,{"$f":"IF('Outil de priorisation des carac'!E183=Calculs_Carac!H190,Calculs_Carac!I190,\"\")","v":""},"Usage extérieur sensible au voisinage du site",null,8,{"$f":"IF('Outil de priorisation des carac'!E186=Calculs_Carac!K190,Calculs_Carac!M190,\"\")","v":""}]
[null,"Présence non appréhendée",null,null,1,{"$f":"IF('Outil de priorisation des carac'!$E$179=B191,Calculs_Carac!E191,\"\")","v":""},null,null,null,null,"Usage aquatique sensible en aval de l'endroit de la contamination ou du point d'impact",null,8,{"$f":"IF('Outil de priorisation des carac'!E186=Calculs_Carac!K191,Calculs_Carac!M191,\"\")","v":""}]
["Présence de résidus miniers lixiviables et/ou acidogènes et/ou cyanurés selon la Phase II","Présence confirmée, avec dépassements nombreux ou importants",null,null,{"$f":"E186*0.8","v":8},{"$f":"IF('Outil de priorisation des carac'!$E$180=B192,Calculs_Carac!E192,\"\")","v":""},null,null,"OU",null,"Récepteurs écologiques terrestres sensibles au voisinage du site",null,6,{"$f":"IF('Outil de priorisation des carac'!E186=Calculs_Carac!K192,Calculs_Carac!M192,\"\")","v":""}]
[null,"Présence confirmée, avec dépassements peu nombreux ou peu importants",null,null,4.8000000000000007,{"$f":"IF('Outil de priorisation des carac'!$E$180=B193,Calculs_Carac!E193,\"\")","v":""},null,null,null,null,"Récepteurs écologiques aquatiques sensibles en aval de l'endroit de la contamination ou du point d'impact",null,6,{"$f":"IF('Outil de priorisation des carac'!E186=K193,M193,\"\")","v":""}]
[null,"Absence confirmée",null,null,0,{"$f":"IF('Outil de priorisation des carac'!$E$180=B194,Calculs_Carac!E194,\"\")","v":""},"Présence de talus instables au niveau des haldes","Non évalué",10,{"$f":"IF('Outil de priorisation des carac'!E184=Calculs_Carac!H194,Calculs_Carac!I194,\"\")","v":""},"Pas d'usage ou de récepteur sensible, accessibles",null,4,{"$f":"IF('Outil de priorisation des carac'!E186=K194,M194,\"\")","v":""}]
["Présence appréhendée de résidus miniers lixiviables et/ou acidogènes et/ou cyanurés selon la Phase I","Probablement fortement contaminé",null,null,6.4,{"$f":"IF('Outil de priorisation des carac'!$E$180=B195,Calculs_Carac!E195,\"\")","v":""},null,"Confirmé",8,{"$f":"IF('Outil de priorisation des carac'!E184=Calculs_Carac!H195,Calculs_Carac!I195,\"\")","v":""},"Pas d'usage ou de récepteur sensible, peu accessibles",null,2,{"$f":"IF('Outil de priorisation des carac'!E186=K195,M195,\"\")","v":""}]
[null,"Présence appréhendée",null,null,3.2,{"$f":"IF('Outil de priorisation des carac'!$E$180=B196,Calculs_Carac!E196,\"\")","v":""},null,"Suspecté",6,{"$f":"IF('Outil de priorisation des carac'!E184=Calculs_Carac!H196,Calculs_Carac!I196,\"\")","v":""},"Pas d'usage ou de récepteur sensible, non accessibles",null,0,{"$f":"IF('Outil de priorisation des carac'!E186=K196,M196,\"\")","v":""}]
[null,"Présence non appréhendée",null,null,0.8,{"$f":"IF('Outil de priorisation des carac'!$E$180=B197,Calculs_Carac!E197,\"\")","v":""},null,"Stable",0,{"$f":"IF('Outil de priorisation des carac'!E184=Calculs_Carac!H197,Calculs_Carac!I197,\"\")","v":""}]
["Présence de résidus miniers d'amiante et/ou inflammables selon la Phase II","Présence confirmée, avec dépassements nombreux ou importants",null,null,{"$f":"E186*0.6","v":6},{"$f":"IF('Outil de priorisation des carac'!$E$181=B198,E198,\"\")","v":""}]
[null,"Présence confirmée, avec dépassements peu nombreux ou peu importants",null,null,3.5999999999999996,{"$f":"IF('Outil de priorisation des carac'!$E$181=B199,E199,\"\")","v":""},null,null,"OU"]
[null,"Absence confirmée",null,null,0,{"$f":"IF('Outil de priorisation des carac'!$E$181=B200,E200,\"\")","v":""}]
["Présence appréhendée de résidus miniers d'amiante et/ou inflammables selon la Phase I","Probablement fortement contaminé",null,null,4.8,{"$f":"IF('Outil de priorisation des carac'!$E$181=B201,E201,\"\")","v":""},"Érosion éolienne des résidus miniers","Non évalué",10,{"$f":"IF('Outil de priorisation des carac'!E185=Calculs_Carac!H201,Calculs_Carac!I201,\"\")","v":""}]
[null,"Présence appréhendée",null,null,2.4,{"$f":"IF('Outil de priorisation des carac'!$E$181=B202,E202,\"\")","v":""},null,"Confirmé",8,{"$f":"IF('Outil de priorisation des carac'!E185=Calculs_Carac!H202,Calculs_Carac!I202,\"\")","v":""}]
[null,"Présence non appréhendée",null,null,0.6,{"$f":"IF('Outil de priorisation des carac'!$E$181=B203,E203,\"\")","v":""},null,"Suspecté",6,{"$f":"IF('Outil de priorisation des carac'!E185=Calculs_Carac!H203,Calculs_Carac!I203,\"\")","v":""}]
["Superficie",">50 000 m2",null,null,1,{"$f":"IF('Outil de priorisation des carac'!$E$182=B204,E204,\"\")","v":""},null,"Non",0,{"$f":"IF('Outil de priorisation des carac'!E185=Calculs_Carac!H204,Calculs_Carac!I204,\"\")","v":""}]
[null,"10 000-50 000 m2",null,null,1.25,{"$f":"IF('Outil de priorisation des carac'!$E$182=B205,E205,\"\")","v":""}]
[null,"<10 000 m2",null,null,1.667,{"$f":"IF('Outil de priorisation des carac'!$E$182=B206,E206,\"\")","v":""}]
[]
[null,null,null,"Note A10",{"$f":"IF('Outil de priorisation des carac'!E32=\"Non\",0,IF(AND('Outil de priorisation des carac'!E32=\"Oui\",'Outil de priorisation des carac'!E179=\"Absence confirmée\",'Outil de priorisation des carac'!E180=\"Absence confirmée\",'Outil de priorisation des carac'!E181=\"Absence confirmée\"),0.8,MAX(F186:F203)/MAX(F204:F206)))","v":{"$error":"#DIV/0!"}},"x",null,"Note B10",{"$f":"MAX(J187:J204)","v":0},"x",null,"Note C10",{"$f":"MAX(N186:N196)","v":0},"=",{"$f":"E208*I208*M208","v":{"$error":"#DIV/0!"}},"Note D10"]

{"sheet":"Menus_Carac","index":4,"n_rows":72,"n_cols":18,"rows_kept":72,"cut":false,"hidden":true,"merged":[]}
[null,null,"Sols",null,"Eau sout superfic",null,"Résidus miniers (classification)",null,"Eau de surface",null,"Sédiments",null,null,null,null,"Sols"]
[]
["Oui",null,"< B",null,null,null,"À faible risques (<Critère A)",null,"> CVAA",null,"> CEF",null,"> 10 hectares (ha) ou 10 000 m3",null,"Oui","< B","Oui"]
["Non",null,"B-C",null,"> RES",null,"Lixiviables (>PES mais < Tableau 1, Annexe 2)",null,"> CVAC",null,"> CEP",null,"2 à 10 ha ou 1 000 à 10 000 m3",null,"Non","B-C","Possible"]
["Non anticipé (sur la base de la phase I ou connaissance du site)",null,"C-RESC",null,"> Seuil d'alerte",null,"Acidogènes (PN/PA >3 ou PNN< 20kg CaCO3/t)",null,"< Critère",null,"< Critère",null,"< 2 ha ou 1 000 m3",null,null,"C-RESC","Non"]
[null,null,"> RESC",null,"< Seuil d'alerte",null,"Cyanurés ",null,"Non anticipé",null,"Non anticipé",null,"Ne sais pas",null,null,"> RESC"]
[null,null,"Non anticipé",null,"Non anticipé",null,"Contaminés par des composés organiques (> Critère B)",null,null,null,null,null,null,null,null,"Non anticipé"]
[null,null,null,null,null,null,"Radioactifs (S>1)"]
[null,null,null,null,null,null,"Inflammable (point éclair <61⁰)",null,null,null,null,null,">SI-A-2 (subsurface)"]
["Neige",null,null,null,"Sols surf",null,"À risques élevés (> Tableau 1, Annexe 2)",null,null,null,null,null,"Entre SI-A-2 et SI-A-2 (subsurface)"]
[null,null,null,null,"Sols à nu avec circulation",null,null,null,"Non",null,null,null,"Entre SI-A-1 et SI-A-2"]
["Déneigé régulièrement (0 à 10 % de l'année)",null,null,null,"Sols à nu sans circulation",null,null,null,"Centre de la petite enfance, garderie",null,null,null,"<SI-A-1",null,null,null,"Effuent","Pondération"]
["Si non déneigé, sud du 48è parallèle (10 à 30 % de l'année)",null,null,null,"Végétalisés",null,null,null,"Établissement d’enseignement primaire",null,null,null,"Non anticipé"]
["Si non déneigé, nord du 48è parallèle (>30 % de l'année)",null,null,null,"Pavés / bétonnés",null,null,null,"Établissement d’enseignement secondaire",null,null,null,null,null,null,null,"> Normes en vigueur pour le secteur d'activité",10]
[null,null,null,null,null,null,"Accessible",null,"Autre usage accueillant des enfants",null,null,null,"Eau sout prof",null,null,null,"< Normes",5]
["Accessibilité",null,null,null,"Prox eau surf",null,"Peu accessible",null,null,null,null,null,"> EC",null,null,null,"Non anticipé (non-mésuré)",0]
[null,null,null,null,null,null,"Non accessible",null,null,null,null,null,"> Seuil d'alerte applicable"]
["Peu de restriction d'accès, contaminants non recouverts.",null,null,null,"0 à <100 m",null,null,null,null,null,null,null,"< Seuil d'alerte"]
["Accès contrôlé ou endroit éloigné; contaminants non recouverts.",null,null,null,"100 - 300 m",null,null,null,"Agricole",null,null,null,"Ne sais pas",null,null,null,"Résidus miniers (teneurs)"]
["Peu de restriction d'accès, contaminants recouverts.",null,null,null,">300 m",null,null,null,"Résidentiel/institutionnel sensible",null,null,null,null,null,null,null,"< A"]
["Accès contrôlé ou endroit éloigné; contaminants recouverts.",null,null,null,null,null,null,null,"Commercial",null,null,null,">0,1%",null,null,null,"A- B"]
[null,null,null,null,null,null,null,null,"Industriel",null,null,null,"<0,1%",null,null,null,"B-C"]
[null,null,null,null,null,null,null,null,null,null,null,null,"Non anticipé",null,null,null,"C-RESC"]
["Topo",null,null,null,"Strati Sol Milieu aqua",null,"Aucun confinement (>75%)",null,"Espèce à statut particulier",null,null,null,null,null,null,null,"> RESC"]
[null,null,null,null,null,null,"Confinement partiel (51-75%)",null,"Milieu humide",null,null,null,">GW2-2",null,null,null,"Non anticipé"]
["Pente forte",null,null,null,"Sable",null,"Confinement partiel (26-50%)",null,"Non",null,null,null,"Entre GW2-1 et GW2-2"]
["Pente moyenne",null,null,null,"Silt",null,"Confinement partiel (1-25%)",null,null,null,null,null,"<GW2-1",null,null,null,"Lixiviat de résidus miniers","pondération"]
["Pente faible",null,null,null,"Argile",null,null,null,null,null,null,null,"Non anticipé"]
[null,null,null,null,"Surface pavée",null,null,null,"Sable",null,null,null,null,null,null,null,"> Tableau 1 (Annexe 2 D019)",10]
[null,null,null,null,null,null,null,null,"Silt ou argile",null,null,null,null,null,null,null,"< Tableau 1 (Annexe 2 D019)",5]
[null,null,null,null,null,null,null,null,null,null,null,null,null,null,null,null,"Non anticipé",0]
[]
["Berge",null,null,null,"Instabilité importante et reconnue (talus déformé)"]
["Plaine inondable",null,null,null,"Instabilité de certains secteurs (visible et/ou documentée)"]
["Faible",null,null,null,"Érosion dans les talus",null,null,null,null,null,null,null,null,null,null,null,"Soufre"]
["Nul"]
["Général",null,null,null,null,null,null,null,null,null,null,null,null,null,null,null,"> 0,3%"]
["Oui",null,null,null,"Oui"]
["Non",null,null,null,"Non"]
["Non requis",null,null,null,"Pas de bâtiment"]
["Sécurisation",null,null,null,"Ouvertures/ Infrastructures souterraines",null,"bâtiments/ parois / pentes",null,"Ouvrages de retenu",null,null,null,"Point éclair",null,null,null,"< 0,3%"]
[null,null,null,null,null,null,null,null,null,null,null,null,null,null,null,null,"Non-anticipé"]
["Oui (risque connu ou fortement soupçonné)",null,null,null,"Oui (ouvertures non-sécurisées)",null,"Oui (structure non-sécurisée)",null,"Oui (risque documenté lors d'une inspection géotechnique ou fortement soupçonné)",null,null,null,"< 37,8⁰C = Inflammable"]
["Non (aucun risque connu ni fortement soupçonné)",null,null,null,"Oui (ouvertures sécurisées)",null,"Oui (structure sécurisée)",null,"Non (aucun risque connu ni fortement soupçonné)",null,null,null,"> 37,8⁰C ",null,null,null,"Rayonnement ionisant (S)"]
["Non anticipé (sur la base de l'inspection réalisée ou connaissance du site)",null,null,null,"Non (absentes ou non-rapportées)",null,"Non",null,"Non anticipé (sur la base de l'inspection réalisée ou connaissance du site)",null,null,null,null,null,null,null,"S> 1"]
[null,null,null,null,null,null,null,null,null,null,null,null,null,null,null,null,"S< 1"]
["Dépassement critère sols",null,null,null,null,null,null,null,null,null,null,null,null,null,null,null,"Non-anticipé"]
["<A"]
["A-B"]
["B-C"]
["C-RESC"]
[">RESC"]
["Dépassement critère eau souterraine",null,null,null,"Dépassement critère eau souterraine dans bâtiment",null,"Dépassement critère eau de surface",null,"Dépassement critère sédiment",null,"Dépassement résidus miniers"]
[">RES ou >EC",null,null,null,">RES ou >EC",null,">Directive 019",null,">CEF",null,"Résidus miniers lixiviables"]
[">Seuil d'alerte",null,null,null,">LDR",null,">CVAA",null,">CEP",null,"Résidus miniers acidogènes"]
["<Seuil d'alerte",null,null,null,"<LDR",null,">CVAC",null,"<Critère",null,"Résidus miniers cyanurés"]
[null,null,null,null,null,null,"<Critère",null,null,null,"Résidus miniers contaminés par les composés organiques (applicable si >25% du volume des résidus)"]
[null,null,null,null,null,null,null,null,null,null,"Résidus miniers radioactifs"]
[null,null,null,null,null,null,null,null,null,null,"Résidus miniers inflammables"]
[null,null,null,null,null,null,null,null,null,null,"Résidus miniers à risques élevés"]
[]
["Exigences reglementaires ou administratives",null,null,null,"Général",null,"Général LQE",null,"Zonage/usage"]
["Moins de 3 ans",null,null,null,"Oui",null,"Cessation d'une activité désignée (A31.51 LQE)",null,"Milieu naturel"]
["Entre 3 et 5 ans",null,null,null,"Non",null,"Changement d'usage (A31.53 LQE)",null,"Agricole"]
["Entre 5 et 7 ans",null,null,null,"Non applicable",null,"Non",null,"Résidentiel/institutionnel sensible"]
["Plus de 7 ans",null,null,null,null,null,null,null,"Commercial/institutionnel non sensible/chaussée, trottoir ou parc"]
[null,null,null,null,null,null,null,null,"Industriel"]
["Dangers immédiats"]
["Oui, connu"]
["Appréhendé"]
["Non appréhendé"]
["Non, connu"]

{"sheet":"Outil de classification","index":5,"n_rows":319,"n_cols":12,"rows_kept":319,"cut":false,"hidden":false,"merged":[[0,1,0,3],[19,1,19,3],[19,6,19,9],[19,10,19,11],[20,1,20,2],[20,6,20,9],[20,10,20,11],[23,1,23,2],[23,6,23,9],[23,10,23,11],[24,1,24,2],[24,6,24,9],[24,10,24,11],[21,1,21,2],[21,6,21,9],[21,10,21,11],[22,1,22,2],[22,6,22,9],[22,10,22,11],[27,1,27,2],[27,6,27,9],[27,10,27,11],[28,1,28,2],[28,6,28,9],[28,10,28,11],[25,1,25,2],[25,6,25,9],[25,10,25,11],[26,1,26,2],[26,6,26,9],[26,10,26,11],[33,1,33,3],[34,1,34,3],[35,1,35,2],[35,6,35,9],[35,10,35,11],[36,1,36,2],[36,6,36,9],[36,10,36,11],[29,1,29,2],[29,6,29,9],[29,10,29,11],[30,2,30,3],[32,1,32,3],[32,6,32,9],[32,10,32,11],[30,6,30,9],[30,10,30,11],[39,1,39,2],[39,6,39,9],[39,10,39,11],[40,1,40,3],[41,1,41,2],[41,6,41,9],[41,10,41,11],[37,1,37,2],[37,6,37,9],[37,10,37,11],[38,1,38,2],[38,6,38,9],[38,10,38,11],[44,1,44,3],[45,1,45,2],[45,6,45,9],[45,10,45,11],[46,2,46,3],[47,1,47,3],[42,1,42,2],[42,6,42,9],[42,10,42,11],[43,1,43,2],[43,6,43,9],[43,10,43,11],[46,6,46,9],[46,10,46,11],[51,1,51,3],[52,1,52,2],[52,6,52,9],[52,10,52,11],[53,1,53,2],[53,6,53,9],[53,10,53,11],[48,1,48,3],[49,1,49,2],[49,6,49,9],[49,10,49,11],[50,1,50,2],[50,6,50,9],[50,10,50,11],[57,2,57,3],[58,1,58,2],[62,1,62,3],[62,6,62,9],[62,10,62,11],[63,1,63,2],[54,1,54,2],[54,6,54,9],[54,10,54,11],[55,1,55,3],[56,1,56,2],[56,6,56,9],[56,10,56,11],[57,6,57,9],[57,10,57,11],[60,2,60,3],[66,1,66,2],[67,1,67,2],[67,6,67,9],[67,10,67,11],[68,1,68,2],[68,6,68,9],[68,10,68,11],[64,1,64,2],[64,6,64,9],[64,10,64,11],[65,1,65,2],[65,6,65,9],[65,10,65,11],[71,1,71,2],[71,6,71,9],[71,10,71,11],[72,1,72,2],[73,1,73,2],[73,6,73,9],[73,10,73,11],[69,1,69,2],[69,6,69,9],[69,10,69,11],[70,1,70,2],[70,6,70,9],[70,10,70,11],[77,1,77,2],[77,6,77,9],[77,10,77,11],[78,1,78,2],[78,6,78,9],[78,10,78,11],[74,1,74,2],[75,1,75,2],[75,6,75,9],[75,10,75,11],[76,1,76,2],[76,6,76,9],[76,10,76,11],[82,1,82,2],[82,6,82,9],[82,10,82,11],[83,1,83,2],[83,6,83,9],[83,10,83,11],[79,1,79,2],[80,1,80,2],[80,6,80,9],[80,10,80,11],[81,1,81,2],[81,6,81,9],[81,10,81,11],[87,1,87,2],[87,6,87,9],[87,10,87,11],[88,1,88,3],[89,1,89,2],[89,6,89,9],[89,10,89,11],[84,1,84,2],[84,6,84,9],[84,10,84,11],[85,1,85,3],[86,1,86,3],[86,6,86,9],[86,10,86,11],[92,1,92,2],[92,6,92,9],[92,10,92,11],[93,1,93,2],[93,6,93,9],[93,10,93,11],[90,1,90,2],[90,6,90,9],[90,10,90,11],[91,1,91,2],[91,6,91,9],[91,10,91,11],[96,1,96,2],[96,6,96,9],[96,10,96,11],[97,1,97,2],[97,6,97,9],[97,10,97,11],[94,1,94,2],[94,6,94,9],[94,10,94,11],[95,1,95,2],[95,6,95,9],[95,10,95,11],[100,1,100,2],[100,6,100,9],[100,10,100,11],[101,1,101,2],[101,6,101,9],[101,10,101,11],[98,1,98,2],[98,6,98,9],[98,10,98,11],[99,1,99,2],[99,6,99,9],[99,10,99,11],[105,1,105,2],[105,6,105,9],[105,10,105,11],[106,1,106,2],[106,6,106,9],[106,10,106,11],[102,1,102,2],[102,6,102,9],[102,10,102,11],[103,1,103,3],[104,1,104,2],[104,6,104,9],[104,10,104,11],[109,1,109,2],[109,6,109,9],[109,10,109,11],[110,1,110,3],[111,1,111,2],[111,6,111,9],[111,10,111,11],[107,1,107,2],[107,6,107,9],[107,10,107,11],[108,1,108,2],[108,6,108,9],[108,10,108,11],[114,1,114,2],[114,6,114,9],[114,10,114,11],[115,1,115,2],[115,6,115,9],[115,10,115,11],[112,1,112,2],[112,6,112,9],[112,10,112,11],[113,1,113,2],[113,6,113,9],[113,10,113,11],[118,1,118,2],[118,6,118,9],[118,10,118,11],[119,1,119,2],[119,6,119,9],[119,10,119,11],[116,1,116,2],[116,6,116,9],[116,10,116,11],[117,1,117,2],[117,6,117,9],[117,10,117,11],[122,1,122,2],[122,6,122,9],[122,10,122,11],[123,1,123,2],[123,6,123,9],[123,10,123,11],[120,1,120,2],[120,6,120,9],[120,10,120,11],[121,1,121,2],[121,6,121,9],[121,10,121,11],[126,1,126,2],[126,6,126,9],[126,10,126,11],[127,1,127,3],[128,1,128,2],[128,6,128,9],[128,10,128,11],[124,1,124,2],[124,6,124,9],[124,10,124,11],[125,1,125,2],[125,6,125,9],[125,10,125,11],[131,1,131,2],[131,6,131,9],[131,10,131,11],[132,1,132,2],[132,6,132,9],[132,10,132,11],[129,1,129,2],[129,6,129,9],[129,10,129,11],[130,1,130,2],[130,6,130,9],[130,10,130,11],[135,1,135,2],[135,6,135,9],[135,10,135,11],[136,1,136,2],[136,6,136,9],[136,10,136,11],[133,1,133,2],[133,6,133,9],[133,10,133,11],[134,1,134,2],[134,6,134,9],[134,10,134,11],[139,1,139,2],[139,6,139,9],[139,10,139,11],[140,1,140,2],[140,6,140,9],[140,10,140,11],[137,1,137,2],[137,6,137,9],[137,10,137,11],[138,1,138,2],[138,6,138,9],[138,10,138,11],[143,1,143,2],[143,6,143,9],[143,10,143,11],[144,1,144,3],[145,1,145,2],[145,6,145,9],[145,10,145,11],[141,1,141,2],[141,6,141,9],[141,10,141,11],[142,1,142,2],[142,6,142,9],[142,10,142,11],[148,1,148,2],[148,6,148,9],[148,10,148,11],[149,1,149,2],[149,6,149,9],[149,10,149,11],[146,1,146,2],[146,6,146,9],[146,10,146,11],[147,1,147,2],[147,6,147,9],[147,10,147,11],[152,1,152,2],[152,6,152,9],[152,10,152,11],[153,1,153,3],[154,1,154,2],[154,6,154,9],[154,10,154,11],[150,1,150,2],[150,6,150,9],[150,10,150,11],[151,1,151,2],[151,6,151,9],[151,10,151,11],[158,1,158,3],[158,6,158,9],[158,10,158,11],[159,1,159,2],[159,6,159,9],[159,10,159,11],[155,1,155,2],[155,6,155,9],[155,10,155,11],[156,1,156,2],[156,6,156,9],[156,10,156,11],[163,1,163,2],[163,6,163,9],[163,10,163,11],[164,1,164,2],[164,6,164,9],[164,10,164,11],[160,1,160,3],[161,1,161,2],[161,6,161,9],[161,10,161,11],[162,1,162,2],[162,6,162,9],[162,10,162,11],[169,1,169,3],[169,6,169,9],[169,10,169,11],[170,1,170,2],[170,6,170,9],[170,10,170,11],[165,1,165,3],[166,1,166,2],[166,6,166,9],[166,10,166,11],[167,1,167,2],[167,6,167,9],[167,10,167,11],[174,1,174,2],[174,6,174,9],[174,10,174,11],[175,1,175,2],[175,6,175,9],[175,10,175,11],[171,1,171,3],[172,1,172,2],[172,6,172,9],[172,10,172,11],[173,1,173,2],[173,6,173,9],[173,10,173,11],[178,1,178,2],[178,6,178,9],[178,10,178,11],[179,1,179,3],[180,1,180,2],[180,6,180,9],[180,10,180,11],[176,1,176,2],[176,6,176,9],[176,10,176,11],[177,1,177,2],[177,6,177,9],[177,10,177,11],[183,1,183,2],[183,6,183,9],[183,10,183,11],[184,1,184,3],[185,1,185,2],[185,6,185,9],[185,10,185,11],[181,1,181,2],[181,6,181,9],[181,10,181,11],[182,1,182,2],[182,6,182,9],[182,10,182,11],[188,1,188,2],[188,6,188,9],[188,10,188,11],[189,1,189,3],[190,1,190,2],[190,6,190,9],[190,10,190,11],[186,1,186,2],[186,6,186,9],[186,10,186,11],[187,1,187,2],[187,6,187,9],[187,10,187,11],[193,1,193,2],[193,6,193,9],[193,10,193,11],[194,1,194,2],[194,6,194,9],[194,10,194,11],[191,1,191,2],[191,6,191,9],[191,10,191,11],[192,1,192,2],[192,6,192,9],[192,10,192,11],[198,1,198,2],[198,6,198,9],[198,10,198,11],[199,1,199,2],[199,6,199,9],[199,10,199,11],[195,1,195,2],[195,6,195,9],[195,10,195,11],[196,1,196,3],[197,1,197,2],[197,6,197,9],[197,10,197,11],[203,1,203,2],[203,6,203,9],[203,10,203,11],[204,1,204,2],[204,6,204,9],[204,10,204,11],[200,1,200,2],[200,6,200,9],[200,10,200,11],[201,1,201,3],[202,1,202,2],[202,6,202,9],[202,10,202,11],[208,1,208,3],[209,1,209,2],[209,6,209,9],[209,10,209,11],[210,1,210,2],[210,6,210,9],[210,10,210,11],[205,1,205,3],[206,1,206,3],[206,6,206,9],[206,10,206,11],[207,1,207,2],[207,6,207,9],[207,10,207,11],[213,1,213,2],[213,6,213,9],[213,10,213,11],[214,1,214,2],[214,6,214,9],[214,10,214,11],[211,1,211,2],[211,6,211,9],[211,10,211,11],[212,1,212,2],[212,6,212,9],[212,10,212,11],[217,1,217,2],[217,6,217,9],[217,10,217,11],[218,1,218,2],[218,6,218,9],[218,10,218,11],[215,1,215,2],[215,6,215,9],[215,10,215,11],[216,1,216,2],[216,6,216,9],[216,10,216,11],[221,1,221,2],[221,6,221,9],[221,10,221,11],[222,1,222,2],[222,6,222,9],[222,10,222,11],[219,1,219,2],[219,6,219,9],[219,10,219,11],[220,1,220,2],[220,6,220,9],[220,10,220,11],[225,1,225,2],[225,6,225,9],[225,10,225,11],[226,1,226,2],[226,6,226,9],[226,10,226,11],[223,1,223,2],[223,6,223,9],[223,10,223,11],[224,1,224,2],[224,6,224,9],[224,10,224,11],[229,1,229,2],[229,6,229,9],[229,10,229,11],[230,1,230,3],[231,1,231,2],[231,6,231,9],[231,10,231,11],[227,1,227,2],[227,6,227,9],[227,10,227,11],[228,1,228,2],[228,6,228,9],[228,10,228,11],[234,1,234,2],[234,6,234,9],[234,10,234,11],[235,1,235,2],[235,6,235,9],[235,10,235,11],[232,1,232,2],[232,6,232,9],[232,10,232,11],[233,1,233,2],[233,6,233,9],[233,10,233,11],[238,1,238,2],[238,6,238,9],[238,10,238,11],[239,1,239,2],[239,6,239,9],[239,10,239,11],[236,1,236,2],[236,6,236,9],[236,10,236,11],[237,1,237,2],[237,6,237,9],[237,10,237,11],[242,1,242,2],[242,6,242,9],[242,10,242,11],[243,1,243,2],[243,6,243,9],[243,10,243,11],[240,1,240,2],[240,6,240,9],[240,10,240,11],[241,1,241,2],[241,6,241,9],[241,10,241,11],[246,1,246,2],[246,6,246,9],[246,10,246,11],[247,1,247,2],[247,6,247,9],[247,10,247,11],[244,1,244,2],[244,6,244,9],[244,10,244,11],[245,1,245,2],[245,6,245,9],[245,10,245,11],[251,1,251,2],[251,6,251,9],[251,10,251,11],[252,1,252,2],[252,6,252,9],[252,10,252,11],[248,1,248,3],[249,1,249,2],[249,6,249,9],[249,10,249,11],[250,1,250,2],[250,6,250,9],[250,10,250,11],[255,1,255,2],[255,6,255,9],[255,10,255,11],[256,1,256,2],[256,6,256,9],[256,10,256,11],[253,1,253,2],[253,6,253,9],[253,10,253,11],[254,1,254,2],[254,6,254,9],[254,10,254,11],[259,1,259,2],[259,6,259,9],[259,10,259,11],[260,1,260,2],[260,6,260,9],[260,10,260,11],[257,1,257,2],[257,6,257,9],[257,10,257,11],[258,1,258,2],[258,6,258,9],[258,10,258,11],[263,1,263,2],[263,6,263,9],[263,10,263,11],[264,1,264,2],[264,6,264,9],[264,10,264,11],[261,1,261,2],[261,6,261,9],[261,10,261,11],[262,1,262,2],[262,6,262,9],[262,10,262,11],[267,1,267,2],[267,6,267,9],[267,10,267,11],[268,1,268,3],[269,1,269,2],[269,6,269,9],[269,10,269,11],[265,1,265,2],[265,6,265,9],[265,10,265,11],[266,1,266,2],[266,6,266,9],[266,10,266,11],[273,1,273,2],[273,6,273,9],[273,10,273,11],[275,1,275,3],[275,6,275,9],[275,10,275,11],[270,1,270,2],[270,6,270,9],[270,10,270,11],[271,1,271,3],[272,1,272,2],[272,6,272,9],[272,10,272,11],[278,1,278,2],[278,6,278,9],[278,10,278,11],[279,1,279,2],[279,6,279,9],[279,10,279,11],[276,1,276,2],[276,6,276,9],[276,10,276,11],[277,1,277,2],[277,6,277,9],[277,10,277,11],[282,1,282,2],[282,6,282,9],[282,10,282,11],[283,1,283,2],[283,6,283,9],[283,10,283,11],[280,1,280,2],[280,6,280,9],[280,10,280,11],[281,1,281,2],[281,6,281,9],[281,10,281,11],[287,1,287,2],[287,6,287,9],[287,10,287,11],[288,1,288,2],[288,6,288,9],[288,10,288,11],[284,1,284,2],[284,6,284,9],[284,10,284,11],[285,1,285,3],[286,1,286,2],[286,6,286,9],[286,10,286,11],[297,1,297,2],[298,1,298,2],[299,1,299,2],[300,1,300,2],[301,1,301,2],[308,1,308,3],[291,1,291,2],[292,1,292,2],[293,1,293,2],[294,1,294,2],[295,1,295,2],[296,1,296,2],[315,1,315,2],[316,1,316,2],[317,1,317,2],[318,1,318,2],[309,1,309,3],[310,1,310,2],[311,1,311,2],[312,1,312,2],[313,1,313,2],[314,1,314,2]]}
[null,"OUTIL DE CLASSIFICATION SELON LES RISQUES                                                                                                                                                      SITES CONTAMINÉS SELON LES CRITÈRES DE CONSTATATION DE LA NORME COMPTABLE"]
[]
[null,"Effectué par :"]
[null,"Organisation : "]
[null,"Date (année-mois-jour) :"]
[null,"Version no. : "]
[null,"Révisé par :"]
[null,"Révision no. : "]
[null,"Date (année-mois-jour) :"]
[]
[null,"Légende :","Renseignement obligatoire (format choix de réponse)"]
[]
[null,null,"Rensignement obligatoire (format texte)"]
[]
[null,null,"Laisser vide ou ne pas éditer"]
[]
[null,null,"Notes ou références à inscrire au besoin"]
[]
[]
["1.","Généralités",null,null,null,null,"Justificatif",null,null,null,"Références"]
["1.1","Nom du site "]
["1.2","Étiquette d'identification de la fiche synthèse du PTSC et numéro de dossier interne"]
["1.3","Propriétaire ou locataire "]
["1.4","Adresse du site "]
["1.5","Latitude (NAD 83)"]
["1.6","Longitude (NAD 83)"]
["1.7","Numéro de lot et cadastre"]
["1.8","Activités désignées à l'annexe III du RPRT qui s'exercent ou se sont exercées sur le site (inscrire le ou les codes SCIAN)"]
["1.9","Est-ce qu'une cessation d'une activité visée (A31.51 LQE) ou un changement d'usage (A31.53 LQE) est prévu?"]
["1.10","Superficie approximative du site (m2)"]
["1.11","Résumé des travaux de caractérisation et références pertinentes :"]
[]
["2.","Dangers immédiats (Section présente dans chaque méthode commune - doit être actualisée périodiquement)",null,null,null,null,"Justificatif",null,null,null,"Références"]
["2-A","Toxicologie et écotoxicologie"]
["2-A.1","Effets néfastes sur des personnes (toxicologie)"]
["2-A.1.1","Dépassement des normes dans l'eau potable"]
["2-A.1.2","Potager ou culture sur sols contaminés "]
["2-A.1.3","Substance radioactive ou danger biologique (bactéries, virus, moisissures, déjections animales, etc.) exposé et non confiné"]
["2-A.1.4","Vapeurs contaminées dans l'air intérieur d'un bâtiment"]
["2-A.1.5","Risque d'explosion lié à la présence de gaz dans un bâtiment ou une structure "]
["2-A.2","Effets néfastes sur les récepteurs écologiques (écotoxicologie)"]
["2-A.2.1","Résurgence d'une phase libre ou autre effluent toxique dans un cours d'eau"]
["2-A.2.2","Constat d'impacts manifestes et importants sur la faune ou la flore"]
["2-A.2.3","Source de contamination active présentant un danger immédiat pouvant être mitigé rapidement"]
["2-A.3","Autre"]
["2-A.3.1","Autre danger immédiat toxicologique ou écotoxicologique"]
["2-A.3.2","Description :"]
["2-B","Sécurisation (Risques nécessitant des travaux de sécurisation ou ayant fait l'objet de travaux partiels)"]
["2-B.1","Potentiel d'effondrement ou ouverture en surface"]
["2-B.1.1","Ouvertures profondes non sécurisées à partir de la surface  "]
["2-B.1.2","Infrastructures souterraines potentiellement instables et non sécurisées"]
["2-B.2","Instabilité physique"]
["2-B.2.1","Bâtiments ou infrastructures délabrés et non sécurisés"]
["2-B.2.2","Risque de chute ou d'ensevelissement"]
["2-B.2.3","Ouvrages de retenue potentiellement à risque de bris/défaut"]
["2-B.3","Autre"]
["2-B.3.1","Autre risque de sécurisation"]
["2-B.3.2","Description :"]
["2-C","Si un danger immédiat est identifié ou appréhendé, une cote DI-1 est obtenue et une action urgente est requise. Le processus de priorisation devra être poursuivi uniquement lorsque la situation aura été régularisée (risque mitigé ou calendrier d'intervention établi par une ressource compétente).",null,{"$f":"IF(OR(D36=\"Oui, connu\",D36=\"Appréhendé\",D37=\"Oui, connu\",D37=\"Appréhendé\",D38=\"Oui, connu\",D38=\"Appréhendé\",D39=\"Oui, connu\",D39=\"Appréhendé\",D40=\"Oui, connu\",D40=\"Appréhendé\",D42=\"Oui, connu\",D42=\"Appréhendé\",D43=\"Oui, connu\",D43=\"Appréhendé\",D44=\"Oui, connu\",D44=\"Appréhendé\",D46=\"Oui, connu\",D46=\"Appréhendé\",D50=\"Oui, connu\",D50=\"Appréhendé\",D51=\"Oui, connu\",D51=\"Appréhendé\",D53=\"Oui, connu\",D53=\"Appréhendé\",D54=\"Oui, connu\",D54=\"Appréhendé\",D55=\"Oui, connu\",D55=\"Appréhendé\",D57=\"Oui, connu\",D57=\"Appréhendé\"),\"DI-1\",IF(AND(OR(D36=\"Non, connu\",D36=\"Non appréhendé\"),OR(D37=\"Non, connu\",D37=\"Non appréhendé\"),OR(D38=\"Non, connu\",D38=\"Non appréhendé\"),OR(D39=\"Non, connu\",D39=\"Non appréhendé\"),OR(D40=\"Non, connu\",D40=\"Non appréhendé\"),OR(D42=\"Non, connu\",D42=\"Non appréhendé\"),OR(D43=\"Non, connu\",D43=\"Non appréhendé\"),OR(D44=\"Non, connu\",D44=\"Non appréhendé\"),OR(D46=\"Non, connu\",D46=\"Non appréhendé\"),OR(D50=\"Non, connu\",D50=\"Non appréhendé\"),OR(D51=\"Non, connu\",D51=\"Non appréhendé\"),OR(D53=\"Non, connu\",D53=\"Non appréhendé\"),OR(D54=\"Non, connu\",D54=\"Non appréhendé\"),OR(D55=\"Non, connu\",D55=\"Non appréhendé\"),OR(D57=\"Non, connu\",D57=\"Non appréhendé\")),\"DI-0\",\"\"))","v":""},null,null,null,null,true,null,null,false]
[]
[null,"Décrire les actions de mitigation réalisées, le calendrier d'intervention établi ou les vérifications liées à un danger immédiat appréhendé qui ont infirmé le doute :"]
[]
["3.","Usage, fréquentation et éléments sensibles",null,null,null,null,"Justificatif",null,null,null,"Références"]
["3-A","Zonage et usage"]
["3-A.1","Zonage ou usage du site ",null,null,{"$f":"IF(D65=\"Milieu naturel\",0,IF(D65=\"Agricole\",1,IF(D65=\"Résidentiel/Institutionnel sensible\",2,IF(D65=\"Commercial/institutionnel non sensible/chaussée, trottoir ou parc\",3,IF(D65=\"Industriel\",4,\"\")))))","v":""}]
["3-A.2","Zonage ou usage le plus sensible d'un site voisin (<100 m)",null,null,{"$f":"IF(D66=\"Milieu naturel\",0,IF(D66=\"Agricole\",1,IF(D66=\"Résidentiel/Institutionnel sensible\",2,IF(D66=\"Commercial/institutionnel non sensible/chaussée, trottoir ou parc\",3,IF(D66=\"Industriel\",4,\"\")))))","v":""}]
["3-B","Usage sensible"]
["3-B.1","Usage extérieur sensible sur le site ",null,null,{"$f":"IF(D68=\"oui\",10,0)","v":0}]
["3-B.2","Usage extérieur sensible au voisinage du site (<100 m)",null,null,{"$f":"IF(D69=\"oui\",10,0)","v":0}]
["3-B.3","Usage institutionnel sensible sur le site",null,null,{"$f":"IF(D70=\"Temps plein\",2,IF(D70=\"Temps partiel\",1,0))","v":0},null,null,null,true]
["3-B.4","Usage aquatique sensible à l'endroit de la contamination ou au point d'impact (lieu de résurgence, d'érosion, etc.)",null,null,{"$f":"IF(D71=\"oui\",10,0)","v":0}]
["3-B.5","Usage aquatique sensible en aval de l'endroit de la contamination ou du point d'impact (lieu de résurgence, d'érosion, etc.) (<1 km)",null,null,{"$f":"IF(D72=\"oui\",10,0)","v":0}]
["3-C","Accessibilité"]
["3-C.1","Accessibilité au site"]
["3-D","Habitats sensibles ou espèces à statut particulier"]
["3-D.1","Présence de récepteurs écologiques terrestres sensibles sur le site",null,null,{"$f":"IF(D76=\"oui\",8,0)","v":0}]
["3-D.2","Présence de récepteurs écologiques terrestres sensibles au voisinage du site (<100 m)",null,null,{"$f":"IF(D77=\"oui\",8,0)","v":0}]
["3-D.3","Présence de récepteurs écologiques aquatiques sensibles à l'endroit de la contamination ou au point d'impact (lieu de résurgence, d'érosion, etc.)",null,null,{"$f":"IF(D78=\"oui\",8,0)","v":0}]
["3-D.4","Présence de récepteurs écologiques aquatiques sensibles en aval de l'endroit de la contamination ou du point d'impact (lieu de résurgence, d'érosion, etc.) (<1 km)",null,null,{"$f":"IF(D79=\"oui\",6,0)","v":0}]
["3-E","Autres"]
["3-E.1","Alimentation en eau potable avec l'eau souterraine du site",null,null,{"$f":"IF(D81=\"oui\",10,0)","v":0}]
["3-E.2","Proximité d'une source d'eau potable"]
["3-E.3","Proximité d'une eau de surface",null,null,null,{"$f":"IF(D83=\"0-100 m\",3,IF(D83=\"100-300 m\",2,IF(D83=\"300-500 m\",1,IF(D83=\">500 m\",0,\"\"))))","v":""}]
["3-E.4","Proximité d'un réseau d'égout pluvial",null,null,{"$f":"IF(D84=\"oui\",2,0)","v":0},{"$f":"IF(D84=\"0-100 m\",3,IF(D84=\"100-300 m\",2,IF(D84=\"300-500 m\",1,IF(D84=\">500 m\",0,\"\"))))","v":""}]
["3-E.5","Présence de bâtiments sur ou à moins de 30 m du site"]
[]
["4.","Sols et matières résiduelles",null,null,null,null,"Justificatif",null,null,null,"Références"]
["4-A","Contamination des matériaux de surface 0-1 m (sols, matières résiduelles, matériaux mis en pile) du site"]
["4-A.1","Plage de contamination la plus élevée"]
["4-A.1.1","Métaux (et métalloïdes)",null,null,{"$f":"IF(D90=\"> RESC\",4,IF(D90=\"C-RESC\",3,IF(D90=\"B-C\",2,IF(D90=\"< B\",1,IF(D90=\"Non anticipé\",0,\"\")))))","v":""}]
["4-A.1.2","Autres composés inorganiques",null,null,{"$f":"IF(D91=\"> RESC\",4,IF(D91=\"C-RESC\",3,IF(D91=\"B-C\",2,IF(D91=\"< B\",1,IF(D91=\"Non anticipé\",0,\"\")))))","v":""}]
["4-A.1.3","Hydrocarbures aromatiques monocycliques (HAM)",null,null,{"$f":"IF(D92=\"> RESC\",4,IF(D92=\"C-RESC\",3,IF(D92=\"B-C\",2,IF(D92=\"< B\",1,IF(D92=\"Non anticipé\",0,\"\")))))","v":""}]
["4-A.1.4","Hydrocarbures aliphatiques chlorés (HAC)",null,null,""]
["4-A.1.5","Composés phénoliques",null,null,""]
["4-A.1.6","Hydrocarbures aromatiques polycycliques (HAP)",null,null,""]
["4-A.1.7","Composés benzéniques non chlorés",null,null,""]
["4-A.1.8","Chlorobenzènes",null,null,""]
["4-A.1.9","Biphényles polychlorés (BPC)",null,null,""]
["4-A.1.10","Pesticides",null,null,""]
["4-A.1.11","Autres substances organiques",null,null,""]
["4-A.1.12","Hydrocarbures pétroliers (HP C10-C50)",null,null,""]
["4-A.1.13","Dioxines et furanes",null,null,""]
["4-A.1.14","Autres",null,null,""]
["4-A.2","Superficie par plage de contamination (%)"]
["4-A.2.1","B-C",null,null,{"$f":"IF(D105=\">50 %\",3,IF(D105=\"26-50 %\",2,IF(D105=\"1-25 %\",1,\"\")))","v":""}]
["4-A.2.2","C-RESC",null,null,{"$f":"IF(D106=\">50 %\",3,IF(D106=\"26-50 %\",2,IF(D106=\"1-25 %\",1,\"\")))","v":""}]
["4-A.2.3","> RESC",null,null,{"$f":"IF(D107=\">50 %\",3,IF(D107=\"26-50 %\",2,IF(D107=\"1-25 %\",1,\"\")))","v":""}]
["4-A.2.4","MRND",null,null,{"$f":"IF(D108=\">50 %\",3,IF(D108=\"26-50 %\",2,IF(D108=\"1-25 %\",1,\"\")))","v":""}]
["4-A.2.5","MDR",null,null,{"$f":"IF(D109=\">50 %\",3,IF(D109=\"26-50 %\",2,IF(D109=\"1-25 %\",1,\"\")))","v":""}]
["4-B","Contamination des sols en composés volatils sous le ou les bâtiments ou à proximité de ceux-ci (<30 m)"]
["4-B.1","Plage de contamination la plus élevée"]
["4-B.1.1","Mercure",null,null,{"$f":"IF(D112=\">C\",3,IF(D112=\"B-C\",2,IF(D112=\"A-B\",1,\"\")))","v":""}]
["4-B.1.2","Benzène",null,null,{"$f":"IF(D113=\">C\",3,IF(D113=\"B-C\",2,IF(D113=\"A-B\",1,\"\")))","v":""}]
["4-B.1.3","Éthylbenzène",null,null,""]
["4-B.1.4","Toluène",null,null,""]
["4-B.1.5","Xylènes",null,null,""]
["4-B.1.6","Styrène",null,null,""]
["4-B.1.7","Chlorobenzène",null,null,""]
["4-B.1.8","1,2-Dichlorobenzène",null,null,""]
["4-B.1.9","1,4-Dichlorobenzène",null,null,""]
["4-B.1.10","Hydrocarbures aliphatiques chlorés (HAC)",null,null,""]
["4-B.1.11","Hydrocarbures aromatiques polycycliques légers (HAP : naphtalène, méthylnaphtalènes, acénaphtène, acénaphtylène)",null,null,""]
["4-B.1.12","Hydrocarbures pétroliers (HP C10-C50)",null,null,""]
["4-B.1.13","Composés benzéniques non chlorés",null,null,""]
["4-B.1.14","Biphényles polychlorés (BPC)",null,null,""]
["4-B.1.15","Dioxines et furanes",null,null,""]
["4-B.1.16","Biogaz (méthane)"]
["4-B.2","Superficie par contaminant et famille de contaminants sous le ou les bâtiments ou à proximité de ceux-ci (<30 m) (%)"]
["4-B.2.1","Mercure",null,null,{"$f":"IF(D129=\">50 %\",3,IF(D129=\"26-50 %\",2,IF(D129=\"1-25 %\",1,\"\")))","v":""}]
["4-B.2.2","Benzène",null,null,{"$f":"IF(D130=\">50 %\",3,IF(D130=\"26-50 %\",2,IF(D130=\"1-25 %\",1,\"\")))","v":""}]
["4-B.2.3","Éthylbenzène",null,null,""]
["4-B.2.4","Toluène",null,null,""]
["4-B.2.5","Xylènes",null,null,""]
["4-B.2.6","Styrène",null,null,""]
["4-B.2.7","Chlorobenzène",null,null,""]
["4-B.2.8","1,2-Dichlorobenzène",null,null,""]
["4-B.2.9","1,4-Dichlorobenzène",null,null,""]
["4-B.2.10","Hydrocarbures aliphatiques chlorés (HAC)",null,null,""]
["4-B.2.11","Hydrocarbures aromatiques polycycliques légers (HAP : naphtalène, méthylnaphtalènes, acénaphtène, acénaphtylène)",null,null,""]
["4-B.2.12","Hydrocarbures pétroliers (HP C10-C50)",null,null,""]
["4-B.2.13","Composés benzéniques non chlorés",null,null,""]
["4-B.2.14","Biphényles polychlorés (BPC)",null,null,""]
["4-B.2.15","Dioxines et furanes",null,null,""]
["4-B.3","Est-ce qu'au moins un bâtiment situé sur un site voisin se trouve à moins de 30 m des sols contaminés en composés volatils du site?"]
["4-C","Conditions des matériaux de surface 0-1 m (sols, matières résiduelles, matériaux mis en pile)"]
["4-C.1","Présence probable ou vérifiée d'une contamination aéroportée en dehors des limites de propriété"]
["4-C.2","Condition la plus critique de la surface du sol à l'endroit de la contamination"]
["4-C.3","Potentiel de contact avec les matériaux de surface contaminés (consulter obligatoirement la matrice décisionnelle dans le Guide de l'utilisateur)"]
["4-C.4","Topographie"]
["4-C.5","Granulométrie dominante des sols de surface"]
["4-C.6","Granulométrie des MRND "]
["4-C.7","Granulométrie des MDR"]
["4-C.8","Potentiel d'inondation"]
["4-D","Conditions des sols sous le ou les bâtiments ou à proximité de ceux-ci (<30 m)"]
["4-D.1","Granulométrie dominante des sols sous le ou les bâtiments ou à proximité de ceux-ci (<30 m)"]
["4-D.2","Profondeur de la contamination par rapport aux fondations",null,null,{"$f":"IF(D156=\"< 1,5 m\",1,\"\")","v":""}]
["4-D.3","Possibilité de chemins préférentiels"]
[]
["5.","Sédiments",null,null,null,null,"Justificatif",null,null,null,"Références"]
["5-A","Présence de sédiments contaminés"]
["5-A.1","Classification"]
["5-A.1.1","Sédiments classifiés >CEF"]
["5-A.1.2","Volume de sédiments classifiés >CEF"]
["5-A.1.3","Sédiments classifiés >CEP"]
["5-A.1.4","Volume de sédiments classifiés >CEP "]
["5-B","Conditions de site"]
["5-B.1","Marée, vague, remous, courant "]
["5-B.2","Zones sujettes à l'affouillement"]
[]
["6.","Sites miniers",null,null,null,null,"Justificatif",null,null,null,"Références"]
["6-A","Résidus d'usinage "]
["6-A.1","Classification"]
["6-A.1.1","Résidus miniers lixiviables"]
["6-A.1.2","Résidus miniers acidogènes"]
["6-A.1.3","Résidus miniers cyanurés"]
["6-A.1.4","Résidus miniers contaminés par les composés organiques (applicable si >25% du volume des résidus)"]
["6-A.1.5","Résidus miniers radioactifs"]
["6-A.1.6","Résidus miniers inflammables"]
["6-A.1.7","Résidus miniers à risques élevés"]
["6-A.2","Autres contaminants d'intérêt"]
["6-A.2.1","Dioxine et furanes",null,null,{"$f":"IF(D181=\"> RESC\",4,IF(D181=\"C-RESC\",3,IF(D181=\"B-C\",2,IF(D181=\"< B\",1,IF(D181=\"Non anticipé\",0,\"\")))))","v":""}]
["6-A.2.2","Autres composés inorganiques",null,null,{"$f":"IF(D182=\"> RESC\",4,IF(D182=\"C-RESC\",3,IF(D182=\"B-C\",2,IF(D182=\"< B\",1,IF(D182=\"Non anticipé\",0,\"\")))))","v":""}]
["6-A.2.3","Amiante"]
["6-A.3","Superficie des résidus d'usinage"]
["6-B","Potentiel de migration et de mobilité des résidus d'usinage"]
["6-B.1","État du confinement"]
["6-B.2","Érosion éolienne des résidus d'usinage"]
["6-B.3","Potentiel de contact avec les résidus d'usinage (consulter obligatoirement la matrice décisionnelle dans le Guide de l'utilisateur)"]
["6-C","Stériles miniers"]
["6-C.1","Classification"]
["6-C.1.1","Stériles miniers lixiviables"]
["6-C.1.2","Stériles miniers acidogènes"]
["6-C.1.3","Stériles miniers contaminés par les composés organiques (applicable si >25% du volume des stériles)"]
["6-C.1.4","Stériles miniers radioactifs"]
["6-C.1.5","Stériles miniers inflammables"]
["6-C.1.6","Stériles miniers à risques élevés"]
["6-C.2","Autres contaminants d'intérêt"]
["6-C.2.1","Dioxine et furanes",null,null,{"$f":"IF(D198=\"> RESC\",4,IF(D198=\"C-RESC\",3,IF(D198=\"B-C\",2,IF(D198=\"< B\",1,IF(D198=\"Non anticipé\",0,\"\")))))","v":""}]
["6-C.2.2","Autres composés inorganiques",null,null,{"$f":"IF(D199=\"> RESC\",4,IF(D199=\"C-RESC\",3,IF(D199=\"B-C\",2,IF(D199=\"< B\",1,IF(D199=\"Non anticipé\",0,\"\")))))","v":""}]
["6-C.2.3","Amiante"]
["6-C.3","Superficie des stériles miniers "]
["6-D","Potentiel de migration et de mobilité des stériles miniers"]
["6-D.1","Présence de talus instables sur les haldes"]
["6-D.2","Érosion éolienne des stériles miniers"]
["6-D.3","Potentiel de contact avec les stériles miniers (consulter obligatoirement la matrice décisionnelle dans le Guide de l'utilisateur)"]
[]
["7.","Eau souterraine",null,null,null,null,"Justificatif",null,null,null,"Références"]
["7-A","Contamination de l'eau souterraine: Évaluation des critères de résurgence dans l'eau de surface"]
["7-A.1","Plage de contamination la plus élevée"]
["7-A.1.1","Sb, Ag, As, Ba, B, Cd, Cr, Co, Cu, Mn, Mo, Ni, Pb, Se, U, Zn",null,null,{"$f":"IF(OR(D210=\"> RES\",D210=\"> Directive 019\"),3,IF(D210=\"> Seuil d'alerte\",2,IF(D210=\"< Seuil d'alerte\",1,IF(D210=\"Non anticipé\",0,\"\"))))","v":""},{"$f":"IF(OR(E210=2,E210=3),2,\"\")","v":""}]
["7-A.1.2","Hg",null,null,{"$f":"IF(OR(D211=\"> RES\",D211=\"> Directive 019\"),3,IF(D211=\"> Seuil d'alerte\",2,IF(D211=\"< Seuil d'alerte\",1,IF(D211=\"Non anticipé\",0,\"\"))))","v":""},{"$f":"IF(OR(E211=2,E211=3),2,\"\")","v":""}]
["7-A.1.3","CrVI",null,null,{"$f":"IF(OR(D212=\"> RES\",D212=\"> Directive 019\"),3,IF(D212=\"> Seuil d'alerte\",2,IF(D212=\"< Seuil d'alerte\",1,IF(D212=\"Non anticipé\",0,\"\"))))","v":""},{"$f":"IF(OR(E212=2,E212=3),2,\"\")","v":""}]
["7-A.1.4","Autres composés inorganiques",null,null,{"$f":"IF(D213=\"> RES\",3,IF(D213=\"> Seuil d'alerte\",2,IF(D213=\"< Seuil d'alerte\",1,IF(D213=\"Non anticipé\",0,\"\"))))","v":""},{"$f":"IF(OR(E213=2,E213=3),2,\"\")","v":""}]
["7-A.1.5","Hydrocarbures aromatiques monocycliques (HAM)",null,null,"",{"$f":"IF(OR(E214=2,E214=3),4,\"\")","v":""}]
["7-A.1.6","Hydrocarbures aliphatiques chlorés (HAC)",null,null,"",{"$f":"IF(OR(E215=2,E215=3),4,\"\")","v":""}]
["7-A.1.7","Composés phénoliques",null,null,"",{"$f":"IF(OR(E216=2,E216=3),4,\"\")","v":""}]
["7-A.1.8","Hydrocarbures aromatiques polycycliques (HAP)",null,null,"",{"$f":"IF(OR(E217=2,E217=3),2,\"\")","v":""}]
["7-A.1.9","Composés benzéniques non chlorés",null,null,"",{"$f":"IF(OR(E218=2,E218=3),3,\"\")","v":""}]
["7-A.1.10","Chlorobenzènes",null,null,"",{"$f":"IF(OR(E219=2,E219=3),3,\"\")","v":""}]
["7-A.1.11","Biphényles polychlorés (BPC)",null,null,"",{"$f":"IF(OR(E220=2,E220=3),1,\"\")","v":""}]
["7-A.1.12","Pesticides",null,null,"",{"$f":"IF(OR(E221=2,E221=3),2,\"\")","v":""}]
["7-A.1.13","Autres substances organiques",null,null,"",{"$f":"IF(OR(E222=2,E222=3),2,\"\")","v":""}]
["7-A.1.14","Hydrocarbures pétroliers (HP C10-C50)",null,null,"",{"$f":"IF(OR(E223=2,E223=3),3,\"\")","v":""}]
["7-A.1.15","Dioxines et furanes",null,null,"",{"$f":"IF(OR(E224=2,E224=3),2,\"\")","v":""}]
["7-A.1.16","Autres",null,null,""]
["7-A.1.17","pH entre 6,0 et 9,5",null,null,{"$f":"IF(D226=\"Non\",3,\"\")","v":""},{"$f":"IF(D226=\"Non\",3,\"\")","v":""}]
["7-A.1.18","Présence de phase libre ",null,null,{"$f":"IF(D227=\"Oui\",3,\"\")","v":""}]
["7-A.2","Contamination à moins de 10 m d'une eau de surface ou d'un réseau d'égout pluvial"]
["7-A.3","Superficie du panache d'eau souterraine contaminée au-delà des critères RES, des seuils d'alerte ou de la Directive 019 (m2)",null,null,{"$f":"IF(D229=\">20 000 m2\",3,IF(D229=\"10 000-20 000 m2\",2,IF(D229=\"<10 000 m2\",1,\"\")))","v":""}]
["7-B","Contamination de l'eau souterraine: Évaluation des critères d'eau de consommation"]
["7-B.1","Plage de contamination la plus élevée"]
["7-B.1.1","Al, Sb, Ag, As, Ba, B, Cd, Cr, Hg, Cu, Mn, Mo, Ni, Pb, Se, Na, U, Zn",null,null,{"$f":"IF(D232=\"> EC\",3,IF(D232=\"> Seuil d'alerte\",2,IF(D232=\"< Seuil d'alerte\",1,IF(D232=\"Non anticipé\",0,\"\"))))","v":""},{"$f":"IF(OR(E232=2,E232=3),2,\"\")","v":""}]
["7-B.1.2","Autres composés inorganiques",null,null,"",{"$f":"IF(OR(E233=2,E233=3),2,\"\")","v":""}]
["7-B.1.3","Hydrocarbures aromatiques monocycliques (HAM)",null,null,"",{"$f":"IF(OR(E234=2,E234=3),4,\"\")","v":""}]
["7-B.1.4","Hydrocarbures aliphatiques chlorés (HAC)",null,null,"",{"$f":"IF(OR(E235=2,E235=3),4,\"\")","v":""}]
["7-B.1.5","Composés phénoliques",null,null,"",{"$f":"IF(OR(E236=2,E236=3),4,\"\")","v":""}]
["7-B.1.6","Hydrocarbures aromatiques polycycliques (HAP)",null,null,"",{"$f":"IF(OR(E237=2,E237=3),2,\"\")","v":""}]
["7-B.1.7","Composés benzéniques non chlorés",null,null,"",{"$f":"IF(OR(E238=2,E238=3),3,\"\")","v":""}]
["7-B.1.8","Chlorobenzènes",null,null,"",{"$f":"IF(OR(E239=2,E239=3),3,\"\")","v":""}]
["7-B.1.9","Biphényles polychlorés (BPC)",null,null,"",{"$f":"IF(OR(E240=2,E240=3),1,\"\")","v":""}]
["7-B.1.10","Pesticides",null,null,"",{"$f":"IF(OR(E241=2,E241=3),2,\"\")","v":""}]
["7-B.1.11","Autres substances organiques",null,null,"",{"$f":"IF(OR(E242=2,E242=3),2,\"\")","v":""}]
["7-B.1.12","Dioxines et furanes",null,null,"",{"$f":"IF(OR(E243=2,E243=3),2,\"\")","v":""}]
["7-B.1.13","Autres",null,null,""]
["7-B.1.14","Hydrocarbures pétroliers (HP C10-C50)",null,null,{"$f":"IF(D245=\">10x LDR\",3,IF(D245=\"Entre 1-10x LDR\",2,\"\"))","v":""},{"$f":"IF(OR(E245=2,E245=3),3,\"\")","v":""}]
["7-B.2","Contamination de l'eau potable confirmée "]
["7-B.3","Superficie du panache d'eau souterraine contaminée au-delà des critères EC ou des seuils d'alerte (ou de la limite de détection rapportée spécifiquement pour les HP C10-C50) (m2)",null,null,{"$f":"IF(D247=\">20 000 m2\",3,IF(D247=\"10 000-20 000 m2\",2,IF(D247=\"<10 000 m2\",1,\"\")))","v":""}]
["7-C","Contamination de l'eau souterraine: Évaluation des critères d'intrusion de vapeur dans l'eau souterraine sous le ou les bâtiments ou à proximité de ceux-ci (<30 m)"]
["7-C.1","Plage de contamination la plus élevée"]
["7-C.1.1","Mercure",null,null,{"$f":"IF(D250=\">RES\",3,IF(D250=\">EC\",2,IF(D250=\">LDR\",1,\"\")))","v":""}]
["7-C.1.2","Benzène",null,null,{"$f":"IF(D251=\">RES\",3,IF(D251=\">EC\",2,IF(D251=\">LDR\",1,\"\")))","v":""}]
["7-C.1.3","Éthylbenzène",null,null,""]
["7-C.1.4","Toluène",null,null,""]
["7-C.1.5","Xylènes",null,null,""]
["7-C.1.6","Styrène",null,null,""]
["7-C.1.7","Chlorobenzène",null,null,""]
["7-C.1.8","1,2-Dichlorobenzène",null,null,""]
["7-C.1.9","1,4-Dichlorobenzène",null,null,""]
["7-C.1.10","Hydrocarbures aliphatiques chlorés (HAC)",null,null,""]
["7-C.1.11","Hydrocarbures aromatiques polycycliques légers (HAP - naphtalène, méthylnaphtalènes, acénaphtène, acénaphtylène)",null,null,""]
["7-C.1.12","Hydrocarbures pétroliers (HP C10-C50)",null,null,""]
["7-C.1.13","Composés benzéniques non chlorés",null,null,""]
["7-C.1.14","Biphényles polychlorés (BPC)",null,null,""]
["7-C.1.15","Dioxines et furanes",null,null,""]
["7-C.1.16","Présence de phase libre",null,null,{"$f":"IF(D265=\"Oui\",3,\"\")","v":""}]
["7-C.2","Profondeur de la contamination (par rapport à la dalle la plus profonde du bâtiment)",null,null,{"$f":"IF(D266=\"< 1,2 m\",1,\"\")","v":""}]
["7-C.3","Superficie estimée de l'eau souterraine contaminée sous le ou les bâtiments ou à proximité de ceux-ci (<30 m) (%)",null,null,{"$f":"IF(D267=\">50%\",3,IF(D267=\"26-50%\",2,IF(D267=\"1-25%\",1,\"\")))","v":""}]
["7-C.4","Est-ce qu'au moins un bâtiment situé sur un site voisin se trouve à moins de 30 m de l'eau souterraine contaminée en composés volatils du site?"]
["7-D","Conditions liées à la nappe d'eau"]
["7-D.1","Conductivité hydraulique de l'aquifère"]
["7-D.2","Contamination potentielle ou confirmée sur un site adjacent (eau souterraine ou sols)"]
["7-E","Conditions de la zone vadose sous le ou les bâtiments"]
["7-E.1","Granulométrie dominante des sols de la zone vadose sous le ou les bâtiments"]
["7-E.2","Possibilité de chemins préférentiels"]
[]
["8.","Eau de surface",null,null,null,null,"Justificatif",null,null,null,"Références"]
["8-A","Contamination de l'eau de surface",null,"Non"]
["8-A.1","Dépassement dans un effluent",null,null,{"$f":"IF(OR(D278=\"> CVAA\",D278=\"> Directive 019\"),3,IF(D278=\"> CVAC\",2,IF(D278=\"< Critère\",1,IF(D278=\"Non anticipé\",0,\"\"))))","v":""}]
["8-A.2","Dépassement des critères dans un fossé uniquement sur le site",null,null,""]
["8-A.3","Dépassement des critères dans un fossé hors site (dont l'origine provient du site)",null,null,""]
["8-A.4","Dépassement des critères dans un cours d'eau uniquement sur le site",null,null,""]
["8-A.5","Dépassement des critères dans un cours d'eau hors site (dont l'origine provient du site)",null,null,{"$f":"IF(OR(D282=\"> CVAA\",D282=\"> Directive 019\"),3,IF(D282=\"> CVAC\",2,IF(D282=\"< Critère\",1,IF(D282=\"Non anticipé\",0,\"\"))))","v":""}]
["8-A.6","Dépassement des critères dans un plan d'eau uniquement sur le site",null,null,""]
["8-A.7","Dépassement des critères dans un plan d'eau hors site (dont l'origine provient du site)",null,null,""]
["8-A.8","Longueur estimé du panache de contamination dans le cours d'eau ou le plan d'eau",null,null,{"$f":"IF(D285=\">1 km\",3,IF(D285=\"0,1 à 1 km\",2,IF(D285=\"<0,1 km\",1,\"\")))","v":""}]
["8-B","Potentiel de contamination de l'eau de surface"]
["8-B.1","Ratio de dilution de l'effluent dans l'eau de surface"]
["8-B.2","Ratio de dilution du fossé dans l'eau de surface"]
["8-B.3","Contamination d'eau de surface potentielle ou confirmée hors site"]
[]
[]
[null,"9. Synthèse des éléments de risques",null,"Évaluation"]
[null,"1. Risque par contact direct avec les matériaux de surface contaminés",null,{"$f":"Calculs_Classif!H2","v":""}]
[null,"2. Risque par transport aéroporté des matériaux de surface contaminés",null,{"$f":"Calculs_Classif!H3","v":""}]
[null,"3. Risque par intrusion de vapeurs contaminées dans un bâtiment depuis le sol contaminé",null,{"$f":"Calculs_Classif!H4","v":""}]
[null,"4. Risque par intrusion de vapeurs contaminées dans un bâtiment depuis l'eau souterraine contaminée",null,{"$f":"Calculs_Classif!H5","v":""}]
[null,"5. Risque de résurgence d'eau souterraine contaminée dans une eau de surface",null,{"$f":"Calculs_Classif!H6","v":""}]
[null,"6. Risque de circulation d’eau souterraine contaminée sous un terrain où l’eau souterraine est exploitée, ou susceptible de l’être, à des fins de consommation",null,{"$f":"Calculs_Classif!H7","v":""}]
[null,"7. Risque d'érosion de matériaux de surface contaminés vers l'eau de surface",null,{"$f":"Calculs_Classif!H8","v":""}]
[null,"8. Risque lié à une eau de surface contaminée",null,{"$f":"Calculs_Classif!H9","v":0}]
[null,"9. Risque lié à des sédiments contaminés",null,{"$f":"Calculs_Classif!H10","v":""}]
[null,"10. Risque lié à des résidus miniers",null,{"$f":"Calculs_Classif!H11","v":""}]
[null,null,"Indice de classification selon les risques (ICR)",{"$f":"IFERROR(Calculs_Classif!H12,\"En cours d'évaluation\")","v":""}]
[null,null,"Cote de classification selon les risques",{"$f":"_xlfn.SWITCH(TRUE,D303=\"En cours d'évaluation\", \"En cours d'évaluation\",D303=\"\",\"En cours d'évaluation\", D303=0,B306,D303<=150,B306,D303<=600,B307,D303>601,B308)","v":"En cours d'évaluation"}]
[null,"CR-0","Évaluation de 0 "]
[null,"CR-1","Évaluation de 1 à 150"]
[null,"CR-2","Évaluation de 151 à 600"]
[null,"CR-3","Évaluation 601 à 1000 "]
[null,{"$f":"IF(E309=\"Non\",\"10. Aucun risque associé à la migration hors site identifié\",IF(E309=\"Oui\",\"10. Attention: Au moins un risque associé à la migration hors site a été identifié\",\"\"))","v":"10. Aucun risque associé à la migration hors site identifié"},null,null,{"$f":"IF(OR(D311=\"Oui\",D312=\"Oui\",D313=\"Confirmé\",D313=\"Suspecté\",D314=\"Confirmé\",D314=\"Suspecté\",D315=\"Oui\",D316=\"Oui\",D317=\"Oui\",D318=\"Oui\",D319=\"Oui\"),\"Oui\",\"Non\")","v":"Non"}]
[null,{"$f":"IF(E309=\"Non\",\"\",IF(E309=\"Oui\",\"Porter une attention particulière à:\",\"\"))","v":""}]
[null,{"$f":"IF(D311=\"Oui\",\"- Bâtiment situé sur un site voisin qui se trouve à moins de 30 m des sols contaminés en composés volatils du site\",\"\")","v":""},null,{"$f":"IF((D144<>\"Oui\"),\"\",D144)","v":""}]
[null,{"$f":"IF(D312=\"Oui\",\"- Contamination aéroportée en dehors des limites de propriété probable ou vérifiée\",\"\")","v":""},null,{"$f":"IF((D146<>\"Oui\"),\"\",D146)","v":""}]
[null,{"$f":"IF(OR(D313=\"Confirmé\",D313=\"Suspecté\"),\"- Résidus d'usinage exposés à l'érosion éolienne\",\"\")","v":""},null,{"$f":"IF(AND(D187<>\"Confirmé\",D187<>\"Suspecté\"),\"\",D187)","v":""}]
[null,{"$f":"IF(OR(D314=\"Confirmé\",D314=\"Suspecté\"),\"- Stériles miniers exposés à l'érosion éolienne\",\"\")","v":""},null,{"$f":"IF(AND(D204<>\"Confirmé\",D204<>\"Suspecté\"),\"\",D204)","v":""}]
[null,{"$f":"IF(D315=\"Oui\",\"- Contamination de l'eau souterraine (> Directive 019, > RES ou > seuil d'alerte) à moins de 10 m d'une eau de surface\",\"\")","v":""},null,{"$f":"IF(D228<>\"Oui\",\"\",D228)","v":""}]
[null,{"$f":"IF(D316=\"Oui\",\"- Contamination de l'eau potable confirmée\",\"\")","v":""},null,{"$f":"IF(D246<>\"Oui\",\"\",D246)","v":""}]
[null,{"$f":"IF(D317=\"Oui\",\"- Bâtiment situé sur un site voisin qui se trouve à moins de 30 m de l'eau souterraine contaminée du site\",\"\")","v":""},null,{"$f":"IF(D268<>\"Oui\",\"\",D268)","v":""}]
[null,{"$f":"IF(D318=\"Oui\",\"- Contamination potentielle ou confirmée sur un site adjacent (eau souterraine ou sols)\",\"\")","v":""},null,{"$f":"IF(D271<>\"Oui\",\"\",D271)","v":""}]
[null,{"$f":"IF(D319=\"Oui\",\"- Contamination de l'eau de surface (> Directive 019, > CVAA ou > CVAC) potentielle ou confirmée hors site\",\"\")","v":""},null,{"$f":"IF(D289<>\"Oui\",\"\",D289)","v":""}]

{"sheet":"Calculs_Classif","index":6,"n_rows":317,"n_cols":16,"rows_kept":317,"cut":false,"hidden":true,"merged":[[283,6,298,6],[230,6,245,6],[28,6,28,7],[6,0,6,6],[15,0,15,4],[15,6,15,8],[15,10,15,12],[16,6,16,7],[16,10,16,11],[20,10,20,11],[21,6,21,7],[22,6,22,7],[18,10,18,11],[19,10,19,11],[29,0,34,0],[29,1,31,1],[29,2,34,2],[29,6,29,7],[30,6,30,7],[31,6,31,7],[32,1,34,1],[32,6,32,7],[17,0,28,0],[17,1,19,1],[23,1,25,1],[23,2,28,2],[23,6,23,7],[24,6,24,7],[25,6,25,7],[26,1,28,1],[26,6,26,7],[17,2,22,2],[17,6,17,7],[18,6,18,7],[19,6,19,7],[20,1,22,1],[20,6,20,7],[27,6,27,7],[40,0,40,4],[40,6,40,8],[40,10,40,12],[41,1,41,2],[41,10,41,11],[42,0,50,0],[42,1,44,2],[42,6,42,7],[42,10,42,11],[43,6,43,7],[48,1,50,2],[49,6,50,7],[49,8,50,8],[56,0,56,4],[56,6,56,8],[56,10,56,12],[43,10,43,11],[44,6,44,7],[44,10,44,11],[45,1,47,2],[45,6,45,7],[45,10,45,11],[57,1,57,2],[57,3,57,4],[57,10,57,11],[58,0,72,0],[58,3,72,4],[58,6,58,7],[58,10,58,11],[59,6,60,6],[59,10,59,11],[60,10,60,11],[73,0,76,2],[82,0,82,4],[82,6,82,8],[82,10,82,12],[83,1,83,2],[83,3,83,4],[83,10,83,11],[61,6,64,6],[61,10,61,11],[65,1,65,2],[66,1,66,2],[68,6,69,6],[69,1,69,2],[107,0,112,0],[107,1,109,2],[107,6,109,6],[107,10,107,11],[108,10,108,11],[109,10,109,11],[110,1,112,2],[92,1,92,2],[94,6,95,6],[95,1,95,2],[99,0,99,3],[105,0,105,4],[105,6,105,8],[84,0,98,0],[84,3,98,4],[84,6,84,7],[84,10,84,11],[85,6,86,6],[85,10,85,11],[86,10,86,11],[87,6,90,6],[87,10,87,11],[91,1,91,2],[110,6,113,6],[110,10,110,11],[111,10,111,11],[114,6,117,6],[121,6,122,7],[121,8,122,8],[105,10,105,12],[106,1,106,2],[106,10,106,11],[133,6,136,6],[140,6,141,7],[140,8,141,8],[148,0,148,4],[148,6,148,8],[148,10,148,12],[128,0,128,4],[128,6,128,8],[128,10,128,12],[129,1,129,2],[129,10,129,11],[130,0,135,0],[130,1,132,2],[130,6,132,6],[130,10,133,10],[133,1,135,2],[149,1,149,2],[149,10,149,11],[150,0,158,0],[150,1,152,2],[150,6,150,7],[150,10,150,11],[151,6,151,7],[151,10,151,11],[152,6,152,7],[152,10,152,11],[160,6,161,6],[165,6,168,6],[174,0,174,4],[174,6,174,8],[174,10,174,12],[175,1,175,2],[175,10,175,11],[153,1,155,2],[153,6,156,6],[153,10,153,11],[154,10,154,11],[156,1,158,2],[157,6,159,6],[191,6,192,6],[198,0,198,4],[198,6,198,8],[198,10,198,12],[199,1,199,2],[199,10,199,11],[179,10,179,11],[180,10,180,11],[183,6,183,7],[184,6,184,7],[185,6,186,6],[190,6,190,7],[176,0,181,0],[176,1,178,2],[176,6,176,7],[176,10,176,11],[177,6,177,7],[177,10,177,11],[178,6,178,7],[178,10,178,11],[179,1,181,2],[179,6,179,7],[200,0,205,0],[200,1,202,2],[200,6,202,6],[200,10,200,11],[201,10,201,11],[202,10,202,11],[203,1,205,2],[203,10,203,11],[204,10,204,11],[206,6,208,6],[214,0,214,4],[214,6,214,8],[214,10,214,12],[215,10,215,11],[216,1,216,3],[216,6,220,6],[216,10,216,11],[217,0,220,0],[217,1,219,2],[224,6,226,6],[225,1,225,3],[226,1,226,3],[227,1,227,3],[229,1,231,2],[232,1,234,2],[234,0,235,0],[235,1,235,3],[217,10,217,11],[218,10,218,11],[219,10,219,11],[220,1,222,2],[220,10,220,11],[221,10,221,11],[222,0,223,0],[222,10,222,11],[223,1,223,3],[223,10,223,11],[236,1,236,3],[237,1,237,3],[238,1,238,3],[239,1,239,3],[228,1,228,3],[240,1,240,3],[236,0,244,0],[254,1,256,2],[257,1,259,2],[259,0,260,0],[260,1,260,3],[224,0,232,0],[224,1,224,3],[261,0,263,0],[261,1,261,3],[262,1,262,3],[263,1,263,3],[241,1,243,2],[244,1,246,2],[246,0,247,0],[247,1,247,3],[248,1,248,3],[249,1,249,3],[250,1,250,3],[251,1,251,3],[252,1,252,3],[253,1,253,3],[248,0,257,0],[268,0,268,4],[268,6,268,8],[268,10,268,12],[269,10,269,11],[270,1,270,3],[270,6,273,6],[270,10,270,11],[271,1,273,2],[271,10,271,11],[271,0,274,0],[272,10,272,11],[273,10,273,11],[274,1,276,2],[274,10,274,11],[275,10,275,11],[276,0,277,0],[276,10,276,11],[277,1,277,3],[277,6,279,6],[277,10,277,11],[278,1,278,3],[279,1,279,3],[312,0,314,0],[312,1,312,3],[313,1,313,3],[314,1,314,3],[300,1,300,3],[301,1,301,3],[302,1,302,3],[303,1,303,3],[305,1,307,2],[281,1,281,3],[292,1,292,3],[304,1,304,3],[300,0,308,0],[278,0,285,0],[282,1,284,2],[308,1,310,2],[310,0,311,0],[311,1,311,3],[285,1,287,2],[287,0,288,0],[288,1,288,3],[289,0,296,0],[289,1,289,3],[290,1,290,3],[291,1,291,3],[293,1,295,2],[296,1,298,2],[298,0,299,0],[299,1,299,3],[280,1,280,3]]}
["Synthèse des éléments de risque",null,null,null,null,null,null,"Notes D"]
["1. Risque par contact direct avec les matériaux de surface contaminés",null,null,null,null,null,null,{"$f":"O37","v":""}]
["2. Risque par transport aéroporté des matériaux de surface contaminés",null,null,null,null,null,null,{"$f":"O53","v":""}]
["3. Risque par intrusion de vapeurs contaminées dans un bâtiment depuis le sol contaminé",null,null,null,null,null,null,{"$f":"O79","v":""}]
["4. Risque par intrusion de vapeurs contaminées dans un bâtiment depuis l'eau souterraine contaminée",null,null,null,null,null,null,{"$f":"O102","v":""}]
["5. Risque de résurgence d'eau souterraine contaminée dans une eau de surface",null,null,null,null,null,null,{"$f":"O125","v":""}]
["6. Risque lié à la circulation d’eau souterraine contaminée sous un terrain où l’eau souterraine est exploitée, ou susceptible de l’être, à des fins de consommation",null,null,null,null,null,null,{"$f":"O145","v":""}]
["7. Risque d'érosion de matériaux de surface contaminés vers l'eau de surface",null,null,null,null,null,null,{"$f":"O171","v":""}]
["8. Risque lié à une eau de surface contaminée",null,null,null,null,null,null,{"$f":"O195","v":0}]
["9. Risque lié à des sédiments contaminés",null,null,null,null,null,null,{"$f":"O211","v":""}]
["10. Risque lié à des résidus miniers",null,null,null,null,null,null,{"$f":"IF(AND('Outil de classification'!D189=\"\",'Outil de classification'!D171=\"\"),\"\",MAX(O266,O317))","v":""}]
[null,null,null,null,null,null,null,{"$f":"IF('Outil de classification'!D85=\"Pas de bâtiment\",IF(OR('Outil de classification'!D88=\"\",'Outil de classification'!D160=\"\",'Outil de classification'!D171=\"\",'Outil de classification'!D189=\"\",'Outil de classification'!D208=\"\",'Outil de classification'!D277=\"\"),\"\",MAX(H2:H3,H6:H11)),IF(OR('Outil de classification'!D85=\"Occupation résidentielle/institutionnelle sensible/agricole avec animaux (temps plein)\",'Outil de classification'!D85=\"Occupation institutionnelle sensible/agricole avec animaux (temps partiel)\",'Outil de classification'!D85=\"Occupation commerciale/institutionnelle non sensible/agricole sans animaux\",'Outil de classification'!D85=\"Occupation industrielle ou bâtiment vacant\"),IF(OR('Outil de classification'!D88=\"\",'Outil de classification'!D160=\"\",'Outil de classification'!D171=\"\",'Outil de classification'!D189=\"\",'Outil de classification'!D208=\"\",'Outil de classification'!D230=\"\",'Outil de classification'!D277=\"\",'Outil de classification'!D110=\"\",'Outil de classification'!D248=\"\"),\"\",MAX(H2:H11)),\"\"))","v":""},"Note finale (maximum parmi les 10 éléments de risque)"]
[]
["1. Risque par contact direct avec les matériaux de surface contaminés"]
[]
["Dangerosité",null,null,null,null,null,"Potentiel de contact",null,null,null,"Récepteurs présents"]
[null,"Contamination","Usage","Superficie","Note",null,"F-I, A-I: 0",null,0,{"$f":"IF('Outil de classification'!$D$148=Calculs_Classif!G17,Calculs_Classif!I17,\"\")","v":""},"Usage extérieur sensible sur le site",null,10,{"$f":"IF('Outil de classification'!E68=10,Calculs_Classif!M17,\"\")","v":""}]
["Plage de contamination la plus élevée comparée à l'usage du terrain et à la superficie ",">RESC","C",">50%",10,{"$f":"IF('Outil de classification'!UsageSite>2,IF(MAX('Outil de classification'!SolsSurf)=4,IF('Outil de classification'!E107=3,Calculs_Classif!E18,\"\"),\"\"),\"\")","v":""},"F-I, A-II: 1",null,1,{"$f":"IF('Outil de classification'!$D$148=Calculs_Classif!G18,Calculs_Classif!I18,\"\")","v":""},"Récepteurs écologiques terrestres sensibles sur le site",null,8,{"$f":"IF('Outil de classification'!E76=8,M18,\"\")","v":""}]
[null,null,null,"26-50%",8,{"$f":"IF('Outil de classification'!UsageSite>2,IF(MAX('Outil de classification'!SolsSurf)=4,IF('Outil de classification'!E107=2,IF('Outil de classification'!E106>1,Calculs_Classif!E19+1,Calculs_Classif!E19),\"\"),\"\"),\"\")","v":""},"F-I, A-III: 2",null,2,{"$f":"IF('Outil de classification'!$D$148=Calculs_Classif!G19,Calculs_Classif!I19,\"\")","v":""},"Usage résidentiel/institutionnel sensible sur le site",null,6,{"$f":"IF('Outil de classification'!UsageSite=2,M19,\"\")","v":""}]
[null,null,null,"1-25%",6,{"$f":"IF('Outil de classification'!UsageSite>2,IF(MAX('Outil de classification'!SolsSurf)=4,IF('Outil de classification'!E107=1,IF('Outil de classification'!E106>1,Calculs_Classif!E20+1,Calculs_Classif!E20),\"\"),\"\"),\"\")","v":""},"F-I, A-IV: 4",null,4,{"$f":"IF('Outil de classification'!$D$148=Calculs_Classif!G20,Calculs_Classif!I20,\"\")","v":""},"Usage commercial/institutionnel non sensible/chaussée, trottoir ou parc sur le site",null,4,{"$f":"IF('Outil de classification'!UsageSite=3,M20,\"\")","v":""}]
[null,"C-RESC",null,">50%",6,{"$f":"IF('Outil de classification'!UsageSite>2,IF(MAX('Outil de classification'!SolsSurf)=3,IF('Outil de classification'!E106=3,Calculs_Classif!E21,\"\"),\"\"),\"\")","v":""},"F-II, A-I: 1",null,1,{"$f":"IF('Outil de classification'!$D$148=Calculs_Classif!G21,Calculs_Classif!I21,\"\")","v":""},"Usage industriel sur le site",null,2,{"$f":"IF('Outil de classification'!UsageSite=4,M21,\"\")","v":""}]
[null,null,null,"26-50%",4,{"$f":"IF('Outil de classification'!UsageSite>2,IF(MAX('Outil de classification'!SolsSurf)=3,IF('Outil de classification'!E106=2,Calculs_Classif!E22,\"\"),\"\"),\"\")","v":""},"F-II, A-II: 4",null,4,{"$f":"IF('Outil de classification'!$D$148=Calculs_Classif!G22,Calculs_Classif!I22,\"\")","v":""}]
[null,null,null,"1-25%",2,{"$f":"IF('Outil de classification'!UsageSite>2,IF(MAX('Outil de classification'!SolsSurf)=3,IF('Outil de classification'!E106=1,Calculs_Classif!E23,\"\"),\"\"),\"\")","v":""},"F-II, A-III: 6",null,6,{"$f":"IF('Outil de classification'!$D$148=Calculs_Classif!G23,Calculs_Classif!I23,\"\")","v":""}]
[null,">C","B",">50%",10,{"$f":"IF('Outil de classification'!UsageSite<=2,IF(MAX('Outil de classification'!SolsSurf)>2,IF(MAX('Outil de classification'!E106:E107)=3,Calculs_Classif!E24,\"\"),\"\"),\"\")","v":""},"F-II, A-IV: 8",null,8,{"$f":"IF('Outil de classification'!$D$148=Calculs_Classif!G24,Calculs_Classif!I24,\"\")","v":""}]
[null,null,null,"26-50%",8,{"$f":"IF('Outil de classification'!UsageSite<=2,IF(MAX('Outil de classification'!SolsSurf)>2,IF(MAX('Outil de classification'!E106:E107)=2,IF('Outil de classification'!E105>1,Calculs_Classif!E25+1,Calculs_Classif!E25),\"\"),\"\"),\"\")","v":""},"F-III, A-I: 2",null,2,{"$f":"IF('Outil de classification'!$D$148=Calculs_Classif!G25,Calculs_Classif!I25,\"\")","v":""}]
[null,null,null,"1-25%",6,{"$f":"IF('Outil de classification'!UsageSite<=2,IF(MAX('Outil de classification'!SolsSurf)>2,IF(MAX('Outil de classification'!E106:E107)=1,IF('Outil de classification'!E105>1,Calculs_Classif!E26+1,Calculs_Classif!E26),\"\"),\"\"),\"\")","v":""},"F-III, A-II: 6",null,6,{"$f":"IF('Outil de classification'!$D$148=Calculs_Classif!G26,Calculs_Classif!I26,\"\")","v":""}]
[null,"B-C",null,">50%",6,{"$f":"IF('Outil de classification'!UsageSite<=2,IF(MAX('Outil de classification'!SolsSurf)=2,IF('Outil de classification'!E105=3,Calculs_Classif!E27,\"\"),\"\"),\"\")","v":""},"F-III, A-III: 8",null,8,{"$f":"IF('Outil de classification'!$D$148=Calculs_Classif!G27,Calculs_Classif!I27,\"\")","v":""}]
[null,null,null,"26-50%",4,{"$f":"IF('Outil de classification'!UsageSite<=2,IF(MAX('Outil de classification'!SolsSurf)=2,IF('Outil de classification'!E105=2,Calculs_Classif!E28,\"\"),\"\"),\"\")","v":""},"F-III, A-IV: 9",null,9,{"$f":"IF('Outil de classification'!$D$148=Calculs_Classif!G28,Calculs_Classif!I28,\"\")","v":""}]
[null,null,null,"1-25%",2,{"$f":"IF('Outil de classification'!UsageSite<=2,IF(MAX('Outil de classification'!SolsSurf)=2,IF('Outil de classification'!E105=1,Calculs_Classif!E29,\"\"),\"\"),\"\")","v":""},"F-IV, A-I: 4",null,4,{"$f":"IF('Outil de classification'!$D$148=Calculs_Classif!G29,Calculs_Classif!I29,\"\")","v":""}]
["Présence de matières résiduelles à plus de 50 %","MDR","-",">50%",10,{"$f":"IF('Outil de classification'!MDR=3,E30,\"\")","v":""},"F-IV, A-II: 8",null,8,{"$f":"IF('Outil de classification'!$D$148=Calculs_Classif!G30,Calculs_Classif!I30,\"\")","v":""}]
[null,null,null,"26-50%",8,{"$f":"IF('Outil de classification'!MDR=2,IF(OR('Outil de classification'!E107>1,'Outil de classification'!E106>1),Calculs_Classif!E31+1,Calculs_Classif!E31),\"\")","v":""},"F-IV, A-III: 9",null,9,{"$f":"IF('Outil de classification'!$D$148=Calculs_Classif!G31,Calculs_Classif!I31,\"\")","v":""}]
[null,null,null,"1-25%",6,{"$f":"IF('Outil de classification'!MDR=1,IF(OR('Outil de classification'!E107>1,'Outil de classification'!E106>1),Calculs_Classif!E32+1,Calculs_Classif!E32),\"\")","v":""},"F-IV, A-IV: 10",null,10,{"$f":"IF('Outil de classification'!$D$148=Calculs_Classif!G32,Calculs_Classif!I32,\"\")","v":""}]
[null,"MRND",null,">50%",6,{"$f":"IF('Outil de classification'!MRND=3,E33,\"\")","v":""}]
[null,null,null,"26-50%",4,{"$f":"IF('Outil de classification'!MRND=2,E34,\"\")","v":""}]
[null,null,null,"1-25%",2,{"$f":"IF('Outil de classification'!MRND=1,E35,\"\")","v":""}]
[]
[null,null,null,"Note A1",{"$f":"IF('Outil de classification'!D88=Menus_Classif!A3,MAX(F18:F35),\"\")","v":""},"x",null,"Note B1",{"$f":"IF('Outil de classification'!D148<>\"\",MAX(J17:J32),\"\")","v":""},"x",null,"Note C1",{"$f":"IF('Outil de classification'!D88=Menus_Classif!A3,MAX(N17:N21),\"\")","v":""},"=",{"$f":"IF('Outil de classification'!D88=Menus_Classif!A3,Calculs_Classif!E37*Calculs_Classif!I37*Calculs_Classif!M37,IF('Outil de classification'!D88=Menus_Classif!A4,0,\"\"))","v":""},"Note D1"]
[]
["2. Risque par transport aéroporté des matériaux de surface contaminés"]
[]
["Dangerosité",null,null,null,null,null,"Potentiel de migration",null,null,null,"Récepteurs présents"]
[null,"Contamination",null,"Superficie","Note",null,null,null,null,null,"Usage extérieur sensible ou usage agricole au voisinage du site ",null,10,{"$f":"IF(OR('Outil de classification'!E69=Calculs_Classif!M42,'Outil de classification'!UsageHS=1),Calculs_Classif!M42,\"\")","v":""}]
["Plage de contamination la plus élevée comparée à la superficie ",">RESC ou MDR de granulométrie fine",null,">50%",10,{"$f":"IF(MAX('Outil de classification'!SolsSurf)=4,IF('Outil de classification'!E107=3,Calculs_Classif!E43,\"\"),IF('Outil de classification'!D152=\"Granulométrie fine\",IF('Outil de classification'!MDR=3,Calculs_Classif!E43,\"\"),\"\"))","v":""},"Zone de sol contaminé strictement à nu avec circulation",null,4,null,"Récepteurs écologiques terrestres sensibles au voisinage du site",null,8,{"$f":"IF('Outil de classification'!E77=Calculs_Classif!M43,Calculs_Classif!M43,\"\")","v":""}]
[null,null,null,"26-50%",8,{"$f":"IF(MAX('Outil de classification'!SolsSurf)=4,IF('Outil de classification'!E107=2,IF('Outil de classification'!E106>1,Calculs_Classif!E44+1,Calculs_Classif!E44),\"\"),IF('Outil de classification'!D152=\"Granulométrie fine\",IF(MDR=2,Calculs_Classif!E44,\"\"),\"\"))","v":""},"Zone de sol contaminé strictement à nu sans circulation",null,3,null,"Usage résidentiel/institutionnel sensible au voisinage du site",null,6,{"$f":"IF('Outil de classification'!UsageHS=2,M44,\"\")","v":""}]
[null,null,null,"1-25%",6,{"$f":"IF(MAX('Outil de classification'!SolsSurf)=4,IF('Outil de classification'!E107=1,IF('Outil de classification'!E106>1,Calculs_Classif!E45+1,Calculs_Classif!E45),\"\"),IF('Outil de classification'!D152=\"Granulométrie fine\",IF('Outil de classification'!MDR=1,Calculs_Classif!E45,\"\"),\"\"))","v":""},"Zone de sol contaminé végétalisée ou recouverte de matériaux conformes",null,1,null,"Usage commercial/institutionnel non sensible/chaussée, trottoir ou parc au voisinage du site ou milieu naturel au voisinage du site",null,4,{"$f":"IF(OR('Outil de classification'!UsageHS=3,'Outil de classification'!UsageHS=0),M45,\"\")","v":""}]
[null,"C-RESC ",null,">50%",8,{"$f":"IF(MAX('Outil de classification'!SolsSurf)=3,IF('Outil de classification'!E106=3,Calculs_Classif!E46,\"\"),\"\")","v":""},"Zone de sol contaminé pavée ou bétonnée",null,0,null,"Usage industriel au voisinage du site",null,2,{"$f":"IF('Outil de classification'!UsageHS=4,M46,\"\")","v":""}]
[null,null,null,"26-50%",6,{"$f":"IF(MAX('Outil de classification'!SolsSurf)=3,IF('Outil de classification'!E106=2,Calculs_Classif!E47,\"\"),\"\")","v":""}]
[null,null,null,"1-25%",4,{"$f":"IF(MAX('Outil de classification'!SolsSurf)=3,IF('Outil de classification'!E106=1,Calculs_Classif!E48,\"\"),\"\")","v":""},null,null,"OU"]
[null,"B-C ou MRND de granulométrie fine",null,">50%",6,{"$f":"IF(MAX('Outil de classification'!SolsSurf)=2,IF('Outil de classification'!E105=3,Calculs_Classif!E49,\"\"),IF('Outil de classification'!D151=\"Granulométrie fine\",IF('Outil de classification'!MRND,Calculs_Classif!E49,\"\"),\"\"))","v":""}]
[null,null,null,"26-50%",4,{"$f":"IF(MAX('Outil de classification'!SolsSurf)=2,IF('Outil de classification'!E105=2,Calculs_Classif!E50,\"\"),IF('Outil de classification'!D151=\"Granulométrie fine\",IF('Outil de classification'!MRND=2,Calculs_Classif!E50,\"\"),\"\"))","v":""},"Présence probable ou vérifiée d'une contamination aéroportée en dehors des limites de propriété",null,10]
[null,null,null,"1-25%",2,{"$f":"IF(MAX('Outil de classification'!SolsSurf)=2,IF('Outil de classification'!E105=1,Calculs_Classif!E51,\"\"),IF('Outil de classification'!D151=\"Granulométrie fine\",IF('Outil de classification'!MRND=1,Calculs_Classif!E51,\"\"),\"\"))","v":""}]
[]
[null,null,null,"Note A2",{"$f":"IF('Outil de classification'!D88=\"Oui\",MAX(F43:F51),\"\")","v":""},"x",null,"Note B2",{"$f":"IF('Outil de classification'!D88=\"Oui\",IF('Outil de classification'!D146=\"Oui\",10,VLOOKUP('Outil de classification'!D147,Calculs_Classif!G43:I46,3,FALSE)),\"\")","v":""},"x",null,"Note C2",{"$f":"IF('Outil de classification'!D88=\"Oui\",MAX(N42:N46),\"\")","v":""},"=",{"$f":"IF('Outil de classification'!D88=Menus_Classif!A3,Calculs_Classif!E53*Calculs_Classif!I53*Calculs_Classif!M53,IF('Outil de classification'!D88=Menus_Classif!A4,0,\"\"))","v":""},"Note D2"]
[]
["3. Risque par intrusion de vapeurs contaminées dans un bâtiment depuis le sol contaminé"]
[]
["Dangerosité",null,null,null,null,null,"Potentiel de migration",null,null,null,"Récepteurs présents"]
[null,"Contamination",null,"Note",null,null,null,null,null,null,"Occupation résidentielle/institutionnelle sensible/agricole avec animaux (temps plein)",null,10,{"$f":"IF('Outil de classification'!D85=K58,Calculs_Classif!M58,\"\")","v":""}]
["Plage de contamination la plus élevée comparée à la superficie","Mercure",null,"Voir onglet\n\"IntrusionVapeur\"",null,{"$f":"IF(AND(IntrusionVapeur_Classif!N6<>0,IntrusionVapeur_Classif!N6<>\"\"),IntrusionVapeur_Classif!N6/IntrusionVapeur_Classif!O6,\"\")","v":""},"Présence de COV ou méthane (>0,1%)",null,10,{"$f":"IF('Outil de classification'!D110=Menus_Classif!A3,Calculs_Classif!I59,0)","v":0},"Occupation institutionnelle sensible/agricole avec animaux (temps partiel)",null,8,{"$f":"IF('Outil de classification'!D85=K59,Calculs_Classif!M59,\"\")","v":""}]
[null," Benzène ",null,null,null,{"$f":"IF(AND(IntrusionVapeur_Classif!N7<>0,IntrusionVapeur_Classif!N7<>\"\"),IntrusionVapeur_Classif!N7/IntrusionVapeur_Classif!O7,\"\")","v":""},"Granulométrie","Sable, gravier ou pierre concassée",1,{"$f":"IF('Outil de classification'!D155=H60,Calculs_Classif!I60,\"\")","v":""},"Occupation commerciale/institutionnelle non sensible/agricole sans animaux",null,6,{"$f":"IF('Outil de classification'!D85=K60,Calculs_Classif!M60,\"\")","v":""}]
[null," Ethylbenzène ",null,null,null,{"$f":"IF(AND(IntrusionVapeur_Classif!N8<>0,IntrusionVapeur_Classif!N8<>\"\"),IntrusionVapeur_Classif!N8/IntrusionVapeur_Classif!O8,\"\")","v":""},null,"Silt ou argile",2,{"$f":"IF('Outil de classification'!D155=H61,Calculs_Classif!I61,\"\")","v":""},"Occupation industrielle ou bâtiment vacant",null,4,{"$f":"IF('Outil de classification'!D85=K61,Calculs_Classif!M61,\"\")","v":""}]
[null," Toluène ",null,null,null,{"$f":"IF(AND(IntrusionVapeur_Classif!N9<>0,IntrusionVapeur_Classif!N9<>\"\"),IntrusionVapeur_Classif!N9/IntrusionVapeur_Classif!O9,\"\")","v":""},"Profondeur de la contamination","< 1,5 m",1,{"$f":"IF('Outil de classification'!D155=\"< 1,55m\",Calculs_Classif!I62,\"\")","v":""},"Pas de bâtiment",null,0,{"$f":"IF('Outil de classification'!D85=K62,Calculs_Classif!M62,\"\")","v":""}]
[null," Xylènes",null,null,null,{"$f":"IF(AND(IntrusionVapeur_Classif!N10<>0,IntrusionVapeur_Classif!N10<>\"\"),IntrusionVapeur_Classif!N10/IntrusionVapeur_Classif!O10,\"\")","v":""},null,"1,5-5 m",1,{"$f":"IF('Outil de classification'!D156=\"< 5m\",Calculs_Classif!I63,\"\")","v":""}]
[null," Styrène ",null,null,null,{"$f":"IF(AND(IntrusionVapeur_Classif!N11<>0,IntrusionVapeur_Classif!N11<>\"\"),IntrusionVapeur_Classif!N11/IntrusionVapeur_Classif!O11,\"\")","v":""},null,"5-10 m",2,{"$f":"IF('Outil de classification'!D156=\"5-10 m\",Calculs_Classif!I64,\"\")","v":""}]
[null," Chlorobenzène ",null,null,null,{"$f":"IF(AND(IntrusionVapeur_Classif!N12<>0,IntrusionVapeur_Classif!N12<>\"\"),IntrusionVapeur_Classif!N12/IntrusionVapeur_Classif!O12,\"\")","v":""},null,"> 10 m",3,{"$f":"IF('Outil de classification'!D156=\"> 10 m\",Calculs_Classif!I65,\"\")","v":""}]
[null," Dichlorobenzene, 1,2- ",null,null,null,{"$f":"IF(AND(IntrusionVapeur_Classif!N13<>0,IntrusionVapeur_Classif!N13<>\"\"),IntrusionVapeur_Classif!N13/IntrusionVapeur_Classif!O13,\"\")","v":""}]
[null," Dichlorobenzene, 1,4- ",null,null,null,{"$f":"IF(AND(IntrusionVapeur_Classif!N14<>0,IntrusionVapeur_Classif!N14<>\"\"),IntrusionVapeur_Classif!N14/IntrusionVapeur_Classif!O14,\"\")","v":""},null,null,"OU"]
[null,"HP C10-C50",null,null,null,{"$f":"IF(AND(IntrusionVapeur_Classif!N15<>0,IntrusionVapeur_Classif!N15<>\"\"),IntrusionVapeur_Classif!N15/IntrusionVapeur_Classif!O15,\"\")","v":""}]
[null,"HAP légers",null,null,null,{"$f":"IF(AND(IntrusionVapeur_Classif!N16<>0,IntrusionVapeur_Classif!N16<>\"\"),IntrusionVapeur_Classif!N16/IntrusionVapeur_Classif!O16,\"\")","v":""},"Possibilité de chemins préférentiels","Oui",10,{"$f":"IF('Outil de classification'!D157=Menus_Classif!A3,Calculs_Classif!I69,\"\")","v":""}]
[null,"Hydrocarbures aliphatiques chlorés",null,null,null,{"$f":"IF(AND(IntrusionVapeur_Classif!N17<>0,IntrusionVapeur_Classif!N17<>\"\"),IntrusionVapeur_Classif!N17/IntrusionVapeur_Classif!O17,\"\")","v":""},null,"Possible",5,{"$f":"IF('Outil de classification'!D157=Menus_Classif!Q4,Calculs_Classif!I70,\"\")","v":""}]
[null,"Composés benzéniques non chlorés",null,null,null,{"$f":"IF(AND(IntrusionVapeur_Classif!N18<>0,IntrusionVapeur_Classif!N18<>\"\"),IntrusionVapeur_Classif!N18/IntrusionVapeur_Classif!O18,\"\")","v":""}]
[null,"Biphényles polychlorés (BPC)",null,null,null,{"$f":"IF(AND(IntrusionVapeur_Classif!N19<>0,IntrusionVapeur_Classif!N19<>\"\"),IntrusionVapeur_Classif!N19/IntrusionVapeur_Classif!O19,\"\")","v":""}]
[null,"Dioxines et furanes",null,null,null,{"$f":"IF(AND(IntrusionVapeur_Classif!N20<>0,IntrusionVapeur_Classif!N20<>\"\"),IntrusionVapeur_Classif!N20/IntrusionVapeur_Classif!O20,\"\")","v":""}]
["Biogaz (méthane)",null,null,">2,6 %",8,{"$f":"IF('Outil de classification'!$D$127=Calculs_Classif!D74,Calculs_Classif!E74,\"\")","v":""}]
[null,null,null,"1,1 - 2,5 %",6,{"$f":"IF('Outil de classification'!$D$127=Calculs_Classif!D75,Calculs_Classif!E75,\"\")","v":""}]
[null,null,null,"0,1 - 1,0 %",4,{"$f":"IF('Outil de classification'!$D$127=Calculs_Classif!D76,Calculs_Classif!E76,\"\")","v":""}]
[null,null,null,"<0,1 % ou Non anticipé",0,{"$f":"IF('Outil de classification'!$D$127=Calculs_Classif!D77,Calculs_Classif!E77,\"\")","v":""}]
[]
[null,null,null,"Note A3",{"$f":"IF('Outil de classification'!D110=\"Oui\",MAX(F59:F77),\"\")","v":""},"x",null,"Note B3",{"$f":"IF('Outil de classification'!D110=\"Oui\",MAX(J69:J70,IF(J59>0,IF(MAX(J60:J61)>0,IF(MAX(J62:J65)>0,J59/MAX(J60:J61)/MAX(J62:J65),0),0),0)),\"\")","v":""},"x",null,"Note C3",{"$f":"IF('Outil de classification'!D110=\"Oui\",MAX(N58:N62),\"\")","v":""},"=",{"$f":"IF('Outil de classification'!D110=Menus_Classif!A3,Calculs_Classif!E79*Calculs_Classif!I79*Calculs_Classif!M79,IF('Outil de classification'!D110=Menus_Classif!A4,0,\"\"))","v":""},"Note D3"]
[]
["4. Risque par intrusion de vapeurs contaminées dans un bâtiment depuis l'eau souterraine contaminée"]
[]
["Dangerosité",null,null,null,null,null,"Potentiel de migration",null,null,null,"Récepteurs présents"]
[null,"Contamination",null,"Note",null,null,null,null,null,null,"Occupation résidentielle/institutionnelle sensible/agricole avec animaux (temps plein)",null,10,{"$f":"IF('Outil de classification'!D85=K84,Calculs_Classif!M84,\"\")","v":""}]
["Plage de contamination la plus élevée comparée à la superficie","Mercure",null,"Voir onglet\n\"IntrusionVapeur\"",null,{"$f":"IF(AND(IntrusionVapeur_Classif!Q28<>0,IntrusionVapeur_Classif!Q28<>\"\"),IntrusionVapeur_Classif!Q28/IntrusionVapeur_Classif!R28,\"\")","v":""},"Présence de COV",null,10,{"$f":"IF('Outil de classification'!D248=Menus_Classif!A3,Calculs_Classif!I59,0)","v":0},"Occupation institutionnelle sensible/agricole avec animaux (temps partiel)",null,8,{"$f":"IF('Outil de classification'!D85=K85,Calculs_Classif!M85,\"\")","v":""}]
[null," Benzène ",null,null,null,{"$f":"IF(AND(IntrusionVapeur_Classif!Q29<>0,IntrusionVapeur_Classif!Q29<>\"\"),IntrusionVapeur_Classif!Q29/IntrusionVapeur_Classif!R29,\"\")","v":""},"Granulométrie","Sable, gravier ou pierre concassée",1,{"$f":"IF('Outil de classification'!D273=H86,Calculs_Classif!I86,\"\")","v":""},"Occupation commerciale/institutionnelle non sensible/agricole sans animaux",null,6,{"$f":"IF('Outil de classification'!D85=K86,Calculs_Classif!M86,\"\")","v":""}]
[null," Ethylbenzène ",null,null,null,{"$f":"IF(AND(IntrusionVapeur_Classif!Q30<>0,IntrusionVapeur_Classif!Q30<>\"\"),IntrusionVapeur_Classif!Q30/IntrusionVapeur_Classif!R30,\"\")","v":""},null,"Silt ou argile",2,{"$f":"IF('Outil de classification'!D273=H87,Calculs_Classif!I87,\"\")","v":""},"Occupation industrielle ou bâtiment vacant",null,4,{"$f":"IF('Outil de classification'!D85=K87,Calculs_Classif!M87,\"\")","v":""}]
[null," Toluène ",null,null,null,{"$f":"IF(AND(IntrusionVapeur_Classif!Q31<>0,IntrusionVapeur_Classif!Q31<>\"\"),IntrusionVapeur_Classif!Q31/IntrusionVapeur_Classif!R31,\"\")","v":""},"Profondeur de la contamination","< 1,2 m",1,{"$f":"IF('Outil de classification'!D266=\"< 1,2 m\",Calculs_Classif!I88,\"\")","v":""},"Pas de bâtiment",null,0,{"$f":"IF('Outil de classification'!D85=K88,Calculs_Classif!M88,\"\")","v":""}]
[null," Xylènes",null,null,null,{"$f":"IF(AND(IntrusionVapeur_Classif!Q32<>0,IntrusionVapeur_Classif!Q32<>\"\"),IntrusionVapeur_Classif!Q32/IntrusionVapeur_Classif!R32,\"\")","v":""},null,"1,2-5 m",1,{"$f":"IF('Outil de classification'!D266=\"1,2-5 m\",Calculs_Classif!I89,\"\")","v":""}]
[null," Styrène ",null,null,null,{"$f":"IF(AND(IntrusionVapeur_Classif!Q33<>0,IntrusionVapeur_Classif!Q33<>\"\"),IntrusionVapeur_Classif!Q33/IntrusionVapeur_Classif!R33,\"\")","v":""},null,"5-10 m",2,{"$f":"IF('Outil de classification'!D266=\"5-10 m\",Calculs_Classif!I90,\"\")","v":""}]
[null," Chlorobenzène ",null,null,null,{"$f":"IF(AND(IntrusionVapeur_Classif!Q34<>0,IntrusionVapeur_Classif!Q34<>\"\"),IntrusionVapeur_Classif!Q34/IntrusionVapeur_Classif!R34,\"\")","v":""},null,"> 10 m",3,{"$f":"IF('Outil de classification'!D266=\"> 10 m\",Calculs_Classif!I91,\"\")","v":""}]
[null," Dichlorobenzene, 1,2- ",null,null,null,{"$f":"IF(AND(IntrusionVapeur_Classif!Q35<>0,IntrusionVapeur_Classif!Q35<>\"\"),IntrusionVapeur_Classif!Q35/IntrusionVapeur_Classif!R35,\"\")","v":""}]
[null," Dichlorobenzene, 1,4- ",null,null,null,{"$f":"IF(AND(IntrusionVapeur_Classif!Q36<>0,IntrusionVapeur_Classif!Q36<>\"\"),IntrusionVapeur_Classif!Q36/IntrusionVapeur_Classif!R36,\"\")","v":""},null,null,"OU"]
[null,"HP C10-C50",null,null,null,{"$f":"IF(AND(IntrusionVapeur_Classif!Q37<>0,IntrusionVapeur_Classif!Q37<>\"\"),IntrusionVapeur_Classif!Q37/IntrusionVapeur_Classif!R37,\"\")","v":""}]
[null,"HAP légers",null,null,null,{"$f":"IF(AND(IntrusionVapeur_Classif!Q38<>0,IntrusionVapeur_Classif!Q38<>\"\"),IntrusionVapeur_Classif!Q38/IntrusionVapeur_Classif!R38,\"\")","v":""},"Possibilité de chemins préférentiels","Oui",10,{"$f":"IF('Outil de classification'!D274=Menus_Classif!Q3,Calculs_Classif!I95,\"\")","v":""}]
[null,"Hydrocarbures aliphatiques chlorés",null,null,null,{"$f":"IF(AND(IntrusionVapeur_Classif!Q39<>0,IntrusionVapeur_Classif!Q39<>\"\"),IntrusionVapeur_Classif!Q39/IntrusionVapeur_Classif!R39,\"\")","v":""},null,"Possible",5,{"$f":"IF('Outil de classification'!D274=Menus_Classif!Q4,Calculs_Classif!I96,\"\")","v":""}]
[null,"Composés benzéniques non chlorés",null,null,null,{"$f":"IF(AND(IntrusionVapeur_Classif!Q40<>0,IntrusionVapeur_Classif!Q40<>\"\"),IntrusionVapeur_Classif!Q40/IntrusionVapeur_Classif!R40,\"\")","v":""}]
[null,"Biphényles polychlorés (BPC)",null,null,null,{"$f":"IF(AND(IntrusionVapeur_Classif!Q41<>0,IntrusionVapeur_Classif!Q41<>\"\"),IntrusionVapeur_Classif!Q41/IntrusionVapeur_Classif!R41,\"\")","v":""}]
[null,"Dioxines et furanes",null,null,null,{"$f":"IF(AND(IntrusionVapeur_Classif!Q42<>0,IntrusionVapeur_Classif!Q42<>\"\"),IntrusionVapeur_Classif!Q42/IntrusionVapeur_Classif!R42,\"\")","v":""}]
["Phase libre",null,null,null,10,{"$f":"IF('Outil de classification'!D265=\"oui\",E100,\"\")","v":""}]
[]
[null,null,null,"Note A4",{"$f":"IF('Outil de classification'!D248=Menus_Classif!A3,MAX(F85:F100),\"\")","v":""},"x",null,"Note B4",{"$f":"IF('Outil de classification'!D248=Menus_Classif!A3,MAX(J95:J96,IF(J85>0,J85/MAX(J86:J87)/MAX(J88:J91),0)),\"\")","v":""},"x",null,"Note C4",{"$f":"IF('Outil de classification'!D248=Menus_Classif!A3,MAX(N84:N88),\"\")","v":""},"=",{"$f":"IF('Outil de classification'!D248=Menus_Classif!A3,Calculs_Classif!E102*Calculs_Classif!I102*Calculs_Classif!M102,IF('Outil de classification'!D248=Menus_Classif!A4,0,\"\"))","v":""},"Note D4"]
[]
["5. Risque de résurgence d'eau souterraine contaminée dans une eau de surface"]
[]
["Dangerosité",null,null,null,null,null,"Potentiel de migration",null,null,null,"Récepteurs présents"]
[null,"Contamination",null,"Superficie","Note",null,null,null,null,null,"Usage aquatique sensible à l'endroit de la résurgence",null,10,{"$f":"IF('Outil de classification'!E71=10,Calculs_Classif!M107,\"\")","v":""}]
["Plage de contamination la plus élevée comparée à la superficie",">RES ou >Directive 019 ou phase libre",null,">20 000 m2",10,{"$f":"IF(MAX('Outil de classification'!EauRES)=3,IF('Outil de classification'!E229=3,Calculs_Classif!E108,\"\"),\"\")","v":""},"Conductivité hydraulique de l'aquifère",">10-4 m/s",10,{"$f":"IF('Outil de classification'!D270=H108,Calculs_Classif!I108,\"\")","v":""},"Récepteurs écologiques aquatiques sensibles à l'endroit de la résurgence",null,8,{"$f":"IF('Outil de classification'!D78=\"Oui\",Calculs_Classif!M108,\"\")","v":""}]
[null,null,null,"10 000-20 000 m2",8,{"$f":"IF(MAX('Outil de classification'!EauRES)=3,IF('Outil de classification'!E229=2,Calculs_Classif!E109,\"\"),\"\")","v":""},null,"10-6 à 10-4 m/s",5,{"$f":"IF('Outil de classification'!D270=H109,Calculs_Classif!I109,\"\")","v":""},"Usage aquatique sensible en aval de l'endroit de la résurgence",null,8,{"$f":"IF('Outil de classification'!E72=10,Calculs_Classif!M109,\"\")","v":""}]
[null,null,null,"<10 000 m2",6,{"$f":"IF(MAX('Outil de classification'!EauRES)=3,IF('Outil de classification'!E229=1,Calculs_Classif!E110,\"\"),\"\")","v":""},null,"<10-6 m/s",1,{"$f":"IF('Outil de classification'!D270=H110,Calculs_Classif!I110,\"\")","v":""},"Récepteurs écologiques aquatiques sensibles en aval de l'endroit de la résurgence",null,6,{"$f":"IF('Outil de classification'!D79=\"Oui\",Calculs_Classif!M110,\"\")","v":""}]
[null,">Seuil d'alerte",null,">20 000 m2",6,{"$f":"IF(MAX('Outil de classification'!EauRES)=2,IF('Outil de classification'!E229=3,Calculs_Classif!E111,\"\"),\"\")","v":""},"Mobilité du contaminant","Élevé",1,{"$f":"IF(MAX('Outil de classification'!F210:'Outil de classification'!F226)=4,Calculs_Classif!I111,\"\")","v":""},"Usage résidentiel, commercial, institutionnel, chaussée, trottoir ou parc",null,4,{"$f":"IF(OR('Outil de classification'!UsageSite=2,'Outil de classification'!UsageSite=3),M111,\"\")","v":""}]
[null,null,null,"10 000-20 000 m2",4,{"$f":"IF(MAX('Outil de classification'!EauRES)=2,IF('Outil de classification'!E229=2,Calculs_Classif!E112,\"\"),\"\")","v":""},null,"Moyen",2,{"$f":"IF(MAX('Outil de classification'!F210:'Outil de classification'!F226)=3,Calculs_Classif!I112,\"\")","v":""},"Usage industriel",null,2,{"$f":"IF('Outil de classification'!UsageSite=4,M112,\"\")","v":""}]
[null,null,null,"<10 000 m2",2,{"$f":"IF(MAX('Outil de classification'!EauRES)=2,IF('Outil de classification'!E229=1,Calculs_Classif!E113,\"\"),\"\")","v":""},null,"Faible",3,{"$f":"IF(MAX('Outil de classification'!F210:'Outil de classification'!F226)=2,Calculs_Classif!I113,\"\")","v":""}]
[null,null,null,null,null,null,null,"Négligeable",0,{"$f":"IF(MAX('Outil de classification'!F210:'Outil de classification'!F226)=1,Calculs_Classif!I114,\"\")","v":""}]
[null,null,null,null,null,null,"Distance à l'eau de surface ou à un réseau d'égout pluvial","0-100 m",1,{"$f":"IF(MAX('Outil de classification'!F83:F84)=3,Calculs_Classif!I115,\"\")","v":""}]
[null,null,null,null,null,null,null,"100-300 m",2,{"$f":"IF(MAX('Outil de classification'!F83:F84)=2,Calculs_Classif!I116,\"\")","v":""}]
[null,null,null,null,null,null,null,"300-500 m",3,{"$f":"IF(MAX('Outil de classification'!F83:F84)=1,Calculs_Classif!I117,\"\")","v":""}]
[null,null,null,null,null,null,null,">500 m",0,{"$f":"IF(AND('Outil de classification'!F83=\"\",'Outil de classification'!F84=\"\"),\"\",IF(MAX('Outil de classification'!F83:F84)=0,Calculs_Classif!I118,\"\"))","v":""}]
[]
[null,null,null,null,null,null,null,null,"OU"]
[]
[null,null,null,null,null,null,"Contamination à moins de 10 m d'une eau de surface ou d'un réseau d'égout pluvial",null,10,{"$f":"IF('Outil de classification'!D228=Menus_Classif!A3,Calculs_Classif!I122,\"\")","v":""}]
[]
[]
[null,null,null,"Note A5",{"$f":"IF('Outil de classification'!D208=Menus_Classif!A3,MAX(F108:F113),\"\")","v":""},"x",null,"Note B5",{"$f":"IF('Outil de classification'!D208=Menus_Classif!A3,IF(E125=0,\"\",IF(J118=0,MAX(0,J122),MAX(J122,(MAX(J108:J110)/MAX(J111:J113)/MIN(J115:J117)),IF(J114=0,(MAX(J108:J110)/MAX(J111:J113)/MIN(J115:J117))*J114,0)))),\"\")","v":""},"x",null,"Note C5",{"$f":"IF('Outil de classification'!D208=Menus_Classif!A3,MAX(N107:N112),\"\")","v":""},"=",{"$f":"IF('Outil de classification'!D208=Menus_Classif!A3,Calculs_Classif!E125*Calculs_Classif!I125*Calculs_Classif!M125,IF('Outil de classification'!D208=Menus_Classif!A4,0,\"\"))","v":""},"Note D5"]
[]
["6. Risque lié à la circulation d’eau souterraine contaminée sous un terrain où l’eau souterraine est exploitée, ou susceptible de l’être, à des fins de consommation"]
[]
["Dangerosité",null,null,null,null,null,"Potentiel de migration",null,null,null,"Récepteurs présents"]
[null,"Contamination",null,"Superficie","Note",null,null,null,null,null,"Puits d'eau potable sur le site",null,10,{"$f":"IF('Outil de classification'!D81=Menus_Classif!A3,Calculs_Classif!M130,\"\")","v":""}]
["Plage de contamination la plus élevée comparée à la superficie ",">EC ou >10x LDR (HP C10-C50)",null,">20 000 m2",10,{"$f":"IF(MAX('Outil de classification'!EauEC)=3,IF('Outil de classification'!E247=3,Calculs_Classif!E131,\"\"),\"\")","v":""},"Conductivité hydraulique de l'aquifère",">10-4 m/s",10,{"$f":"IF('Outil de classification'!D270=H131,Calculs_Classif!I131,\"\")","v":""},"Proximité d'une source d'eau potable","<1 km",8,{"$f":"IF('Outil de classification'!D82=Calculs_Classif!L131,Calculs_Classif!M131,\"\")","v":""}]
[null,null,null,"10 000-20 000 m2",8,{"$f":"IF(MAX('Outil de classification'!EauEC)=3,IF('Outil de classification'!E247=2,Calculs_Classif!E132,\"\"),\"\")","v":""},null,"10-6 à 10-4 m/s",5,{"$f":"IF('Outil de classification'!D270=H132,Calculs_Classif!I132,\"\")","v":""},null,"1-2 km",6,{"$f":"IF('Outil de classification'!D82=Calculs_Classif!L132,Calculs_Classif!M132,\"\")","v":""}]
[null,null,null,"<10 000 m2",6,{"$f":"IF(MAX('Outil de classification'!EauEC)=3,IF('Outil de classification'!E247=1,Calculs_Classif!E133,\"\"),\"\")","v":""},null,"<10-6 m/s",1,{"$f":"IF('Outil de classification'!D270=H133,Calculs_Classif!I133,\"\")","v":""},null,"2-5 km",2,{"$f":"IF('Outil de classification'!D82=Calculs_Classif!L133,Calculs_Classif!M133,\"\")","v":""}]
[null,">Seuil d'alerte ou entre 1-10x LDR (HP C10-C50)",null,">20 000 m2",6,{"$f":"IF(MAX('Outil de classification'!EauEC)=2,IF('Outil de classification'!E247=3,E134,\"\"),\"\")","v":""},"Mobilité du contaminant","Élevé",1,{"$f":"IF(MAX('Outil de classification'!F232:'Outil de classification'!F245)=4,Calculs_Classif!I134,\"\")","v":""},null,"Aucune source d'eau potable (>5 km)",0,{"$f":"IF('Outil de classification'!D82=Calculs_Classif!L135,Calculs_Classif!M135,\"\")","v":0}]
[null,null,null,"10 000-20 000 m2",4,{"$f":"IF(MAX('Outil de classification'!EauEC)=2,IF('Outil de classification'!E247=2,Calculs_Classif!E135,\"\"),\"\")","v":""},null,"Moyen",2,{"$f":"IF(MAX('Outil de classification'!F232:'Outil de classification'!F245)=3,Calculs_Classif!I135,\"\")","v":""}]
[null,null,null,"<10 000 m2",2,{"$f":"IF(MAX('Outil de classification'!EauEC)=2,IF('Outil de classification'!E247=1,E136,\"\"),\"\")","v":""},null,"Faible",3,{"$f":"IF(MAX('Outil de classification'!F232:'Outil de classification'!F245)=2,Calculs_Classif!I136,\"\")","v":""}]
[null,null,null,null,null,null,null,"Négligeable",0,{"$f":"IF(MAX('Outil de classification'!F232:'Outil de classification'!F245)=1,Calculs_Classif!I137,\"\")","v":""}]
[]
[null,null,null,null,null,null,null,null,"OU"]
[]
[null,null,null,null,null,null,"Contamination de l'eau potable confirmée",null,10,{"$f":"IF('Outil de classification'!D246=\"Oui\",Calculs_Classif!I141,\"\")","v":""}]
[]
[]
[]
[null,null,null,"Note A6",{"$f":"IF('Outil de classification'!D230=Menus_Classif!A3,MAX(E131:E136),\"\")","v":""},"x",null,"Note B6",{"$f":"IF('Outil de classification'!D230=Menus_Classif!A3,IF(E145=0,0,MAX(I141,MAX(I131:I133)/MAX(I134:I136),IF(I137=0,(MAX(I131:I133)/MAX(I134:I136))*I137,0))),\"\")","v":""},"x",null,"Note C6",{"$f":"IF('Outil de classification'!D230=Menus_Classif!A3,MAX(M130:M134),\"\")","v":""},"=",{"$f":"IF('Outil de classification'!D230=Menus_Classif!A3,Calculs_Classif!E145*Calculs_Classif!I145*Calculs_Classif!M145,IF('Outil de classification'!D230=Menus_Classif!A4,0,\"\"))","v":""},"Note D6"]
[]
["7. Risque d'érosion de matériaux de surface contaminés vers l'eau de surface"]
[]
["Dangerosité",null,null,null,null,null,"Potentiel de migration",null,null,null,"Récepteurs présents"]
[null,"Contamination",null,"Superficie","Note",null,null,null,null,null,"Usage aquatique sensible à l'endroit de l'érosion",null,10,{"$f":"IF('Outil de classification'!E71=10,Calculs_Classif!M150,\"\")","v":""}]
["Plage de contamination la plus élevée comparée à la superficie",">RESC",null,">50%",10,{"$f":"IF(MAX('Outil de classification'!SolsSurf)=4,IF('Outil de classification'!E107=3,E151,\"\"),\"\")","v":""},"Zone de sol contaminé strictement à nu",null,10,{"$f":"IF(OR('Outil de classification'!D147=G43,'Outil de classification'!D147=G44),I151,\"\")","v":""},"Récepteurs écologiques aquatiques sensibles à l'endroit de l'érosion",null,8,{"$f":"IF('Outil de classification'!D78=\"Oui\",Calculs_Classif!M151,\"\")","v":""}]
[null,null,null,"26-50%",8,{"$f":"IF(MAX('Outil de classification'!SolsSurf)=4,IF('Outil de classification'!E107=2,IF('Outil de classification'!E106>1,Calculs_Classif!E152+1,Calculs_Classif!E152),\"\"),\"\")","v":""},"Zone de sol contaminé végétalisée ou recouverte de matériaux conformes",null,5,{"$f":"IF('Outil de classification'!D147=G45,I152,\"\")","v":""},"Usage aquatique sensible en aval de l'endroit de l'érosion",null,8,{"$f":"IF('Outil de classification'!E72=10,Calculs_Classif!M152,\"\")","v":""}]
[null,null,null,"1-25%",6,{"$f":"IF(MAX('Outil de classification'!SolsSurf)=4,IF('Outil de classification'!E107=1,IF('Outil de classification'!E106>1,Calculs_Classif!E153+1,Calculs_Classif!E153),\"\"),\"\")","v":""},"Zone de sol contaminé pavée ou bétonnée ou stabilisée",null,0,{"$f":"IF('Outil de classification'!D147=G46,I153,\"\")","v":""},"Récepteurs écologiques aquatiques sensibles en aval de l'endroit de l'érosion",null,6,{"$f":"IF('Outil de classification'!D79=\"Oui\",Calculs_Classif!M153,\"\")","v":""}]
[null,"C-RESC",null,">50%",8,{"$f":"IF(MAX('Outil de classification'!SolsSurf)=3,IF('Outil de classification'!E106=3,Calculs_Classif!E154,\"\"),\"\")","v":""},"Distance à l'eau de surface","0-100 m",1,{"$f":"IF('Outil de classification'!D83=Calculs_Classif!H154,Calculs_Classif!I154,\"\")","v":""},"Usage résidentiel, commercial, institutionnel, chaussée, trottoir ou parc",null,4,{"$f":"IF(OR('Outil de classification'!UsageSite=3,'Outil de classification'!UsageSite=2),M154,\"\")","v":""}]
[null,null,null,"26-50%",6,{"$f":"IF(MAX('Outil de classification'!SolsSurf)=3,IF('Outil de classification'!E106=2,E155,\"\"),\"\")","v":""},null,"100-300 m",2,{"$f":"IF('Outil de classification'!D83=Calculs_Classif!H155,Calculs_Classif!I155,\"\")","v":""},"Usage industriel",null,2,{"$f":"IF('Outil de classification'!UsageSite=4,M155,\"\")","v":""}]
[null,null,null,"1-25%",4,{"$f":"IF(MAX('Outil de classification'!SolsSurf)=3,IF('Outil de classification'!E106=1,E156,\"\"),\"\")","v":""},null,"300-500 m",10,{"$f":"IF('Outil de classification'!D83=Calculs_Classif!H156,Calculs_Classif!I156,\"\")","v":""}]
[null,"B-C",null,">50%",6,{"$f":"IF(MAX('Outil de classification'!SolsSurf)=2,IF('Outil de classification'!E105=3,Calculs_Classif!E157,\"\"),\"\")","v":""},null,">500 m",0,{"$f":"IF('Outil de classification'!D83=Calculs_Classif!H157,Calculs_Classif!I157,\"\")","v":""}]
[null,null,null,"26-50%",4,{"$f":"IF(MAX('Outil de classification'!SolsSurf)=2,IF('Outil de classification'!E105=2,Calculs_Classif!E158,\"\"),\"\")","v":""},"Topographie (pente)","Forte",1,{"$f":"IF('Outil de classification'!D149=Menus_Classif!A26,Calculs_Classif!I158,\"\")","v":""}]
[null,null,null,"1-25%",2,{"$f":"IF(MAX('Outil de classification'!SolsSurf)=2,IF('Outil de classification'!E105=1,E159,\"\"),\"\")","v":""},null,"Moyenne",2,{"$f":"IF('Outil de classification'!D149=Menus_Classif!A27,Calculs_Classif!I159,\"\")","v":""}]
[null,null,null,null,null,null,null,"Faible",10,{"$f":"IF('Outil de classification'!D149=Menus_Classif!A28,Calculs_Classif!I160,\"\")","v":""}]
[null,null,null,null,null,null,"Granulométrie des sols de surface","Sable, gravier ou pierre concassée",10,{"$f":"IF('Outil de classification'!D150=Calculs_Classif!H161,Calculs_Classif!I161,\"\")","v":""}]
[null,null,null,null,null,null,null,"Silt ou argile",1,{"$f":"IF('Outil de classification'!D150=Calculs_Classif!H162,Calculs_Classif!I162,\"\")","v":""}]
[]
[null,null,null,null,null,null,null,null,"OU"]
[]
[null,null,null,null,null,null,"Potentiel d'inondation","Berge",10,{"$f":"IF('Outil de classification'!D153=Calculs_Classif!H166,Calculs_Classif!I166,\"\")","v":""}]
[null,null,null,null,null,null,null,"Plaine inondable",6,{"$f":"IF('Outil de classification'!D153=Calculs_Classif!H167,Calculs_Classif!I167,\"\")","v":""}]
[null,null,null,null,null,null,null,"Faible",3,{"$f":"IF('Outil de classification'!D153=Calculs_Classif!H168,Calculs_Classif!I168,\"\")","v":""}]
[null,null,null,null,null,null,null,"Nul",0,{"$f":"IF('Outil de classification'!D153=Calculs_Classif!H169,Calculs_Classif!I169,\"\")","v":""}]
[]
[null,null,null,"Note A7",{"$f":"IF('Outil de classification'!D88=\"Oui\",MAX(F151:F159),\"\")","v":""},"x",null,"Note B7",{"$f":"IF('Outil de classification'!D88=\"Oui\",IF(J157=0,MAX(0,J166:J169),MAX(MAX(Calculs_Classif!J151:J153)/MAX(Calculs_Classif!J154:J156)/MAX(Calculs_Classif!J158:J160)/MAX(Calculs_Classif!J161:J162),MAX(Calculs_Classif!J166:J169))),\"\")","v":""},"x",null,"Note C7",{"$f":"IF('Outil de classification'!D88=\"Oui\",MAX(N150:N155),\"\")","v":""},"=",{"$f":"IF('Outil de classification'!D88=Menus_Classif!A3,Calculs_Classif!E171*Calculs_Classif!I171*Calculs_Classif!M171,IF('Outil de classification'!D88=Menus_Classif!A4,0,\"\"))","v":""},"Note D7"]
[]
["8. Risque lié à une eau de surface contaminée"]
[]
["Dangerosité",null,null,null,null,null,"Potentiel de migration",null,null,null,"Récepteurs présents"]
[null,"Contamination",null,"Panache","Note",null,null,null,null,null,"Usage aquatique sensible à l'endroit de la contamination",null,10,{"$f":"IF('Outil de classification'!D71=\"Oui\",Calculs_Classif!M176,\"\")","v":""}]
["Plage de contamination la plus élevée comparée à la longueur du panache ",">CVAA\nou\n> Directive 019",null,">1 km",10,{"$f":"IF(MAX('Outil de classification'!EauSurf)=3,IF('Outil de classification'!E285=3,Calculs_Classif!E177,\"\"),\"\")","v":""},"Dépassement dans un cours d'eau hors site",null,10,{"$f":"IF(OR('Outil de classification'!E282=3,'Outil de classification'!E282=2),Calculs_Classif!I177,\"\")","v":""},"Récepteurs écologiques aquatiques sensibles à l'endroit de la contamination",null,8,{"$f":"IF('Outil de classification'!D78=\"Oui\",Calculs_Classif!M177,\"\")","v":""}]
[null,null,null,"0,1 à 1 km",8,{"$f":"IF(MAX('Outil de classification'!EauSurf)=3,IF('Outil de classification'!E285=2,E178,\"\"),\"\")","v":""},"Dépassement dans un plan d'eau hors site",null,9,{"$f":"IF(OR('Outil de classification'!E284=3,'Outil de classification'!E284=2),Calculs_Classif!I178,\"\")","v":""},"Usage aquatique sensible en aval de l'endroit de la contamination",null,8,{"$f":"IF('Outil de classification'!D72=\"Oui\",Calculs_Classif!M178,\"\")","v":""}]
[null,null,null,"<0,1 km",6,{"$f":"IF(MAX('Outil de classification'!EauSurf)=3,IF('Outil de classification'!E285=1,E179,\"\"),\"\")","v":""},"Dépassement dans un cours d'eau uniquement sur le site",null,8,{"$f":"IF(OR('Outil de classification'!E281=3,'Outil de classification'!E281=2),Calculs_Classif!I179,\"\")","v":""},"Récepteurs écologiques aquatiques sensibles en aval de l'endroit de la contamination",null,6,{"$f":"IF('Outil de classification'!D79=\"Oui\",Calculs_Classif!M179,\"\")","v":""}]
[null,">CVAC",null,">1 km",8,{"$f":"IF(MAX('Outil de classification'!EauSurf)=2,IF('Outil de classification'!E285=3,E180,\"\"),\"\")","v":""},"Dépassement dans un plan d'eau uniquement sur le site",null,7,{"$f":"IF(OR('Outil de classification'!E283=3,'Outil de classification'!E283=2),Calculs_Classif!I180,\"\")","v":""},"Usage résidentiel, commercial, institutionnel, chaussée, trottoir ou parc",null,4,{"$f":"IF(OR('Outil de classification'!UsageSite=3,'Outil de classification'!UsageSite=2),M180,\"\")","v":""}]
[null,null,null,"0,1 à 1 km",6,{"$f":"IF(MAX('Outil de classification'!EauSurf)=2,IF('Outil de classification'!E285=2,E181,\"\"),\"\")","v":""},null,null,null,null,"Usage industriel",null,2,{"$f":"IF('Outil de classification'!UsageSite=4,M181,\"\")","v":""}]
[null,null,null,"<0,1 km",4,{"$f":"IF(MAX('Outil de classification'!EauSurf)=2,IF('Outil de classification'!E285=1,E182,\"\"),\"\")","v":""},null,null,"OU"]
[]
[null,null,null,null,null,null,"Dépassement dans un fossé hors site",null,8,{"$f":"IF(OR('Outil de classification'!E280=3,'Outil de classification'!E280=2),Calculs_Classif!I184,0)","v":0}]
[null,null,null,null,null,null,"Dépassement dans un fossé uniquement sur le site",null,4,{"$f":"IF(OR('Outil de classification'!E279=3,'Outil de classification'!E279=2),Calculs_Classif!I185,0)","v":0}]
[null,null,null,null,null,null,"Ratio de dilution","Faible: Ratio de dilution <100",1,{"$f":"IF('Outil de classification'!D288=Calculs_Classif!H186,Calculs_Classif!I186,\"\")","v":""}]
[null,null,null,null,null,null,null,"Élevé: Ratio de dilution >100",10,{"$f":"IF('Outil de classification'!D288=Calculs_Classif!H187,Calculs_Classif!I187,\"\")","v":""}]
[]
[null,null,null,null,null,null,null,null,"OU"]
[]
[null,null,null,null,null,null,"Dépassement dans un effluent",null,8,{"$f":"IF(OR('Outil de classification'!E278=3,'Outil de classification'!E278=2),Calculs_Classif!I191,0)","v":0}]
[null,null,null,null,null,null,"Ratio de dilution","Faible: Ratio de dilution <100",1,{"$f":"IF('Outil de classification'!D287=Calculs_Classif!H192,Calculs_Classif!I192,\"\")","v":""}]
[null,null,null,null,null,null,null,"Élevé: Ratio de dilution >100",10,{"$f":"IF('Outil de classification'!D287=Calculs_Classif!H193,Calculs_Classif!I193,\"\")","v":""}]
[]
[null,null,null,"Note A8",{"$f":"IF('Outil de classification'!D277=\"Oui\",(MAX(F177:F182)),\"\")","v":""},"x",null,"Note B8",{"$f":"IF('Outil de classification'!D277=\"Oui\",MAX(Calculs_Classif!J177:J180,IF(AND(J184=0,J185=0),0,MAX(Calculs_Classif!J184:J185)/MAX(Calculs_Classif!J186:J187)),IF(J191=0,0,Calculs_Classif!J191/MAX(Calculs_Classif!J192:J193))),\"\")","v":""},"x",null,"Note C8",{"$f":"IF('Outil de classification'!D277=\"Oui\",MAX(N176:N181),\"\")","v":""},"=",{"$f":"IF('Outil de classification'!D277=Menus_Classif!A3,Calculs_Classif!E195*Calculs_Classif!I195*Calculs_Classif!M195,IF('Outil de classification'!D277=Menus_Classif!A4,0,\"\"))","v":0},"Note D8"]
[]
["9. Risque lié à des sédiments contaminés"]
[]
["Dangerosité",null,null,null,null,null,"Potentiel de migration",null,null,null,"Récepteurs présents"]
[null,"Classification",null,"Volume","Note",null,null,null,null,null,"Usage aquatique sensible à l'endroit de la contamination",null,10,{"$f":"IF('Outil de classification'!D71=\"Oui\",Calculs_Classif!M200,\"\")","v":""}]
["Classification des sédiments comparée à leur volume",">CEF",null,">10 000 m3",10,{"$f":"IF('Outil de classification'!$D$162=\"Oui\",IF('Outil de classification'!$D$163=D201,Calculs_Classif!E201,\"\"),\"\")","v":""},"Marée, vagues, remous, courant","Élevé",10,{"$f":"IF('Outil de classification'!D167=Calculs_Classif!H201,Calculs_Classif!I201,\"\")","v":""},"Récepteurs écologiques aquatiques sensibles à l'endroit de la contamination",null,8,{"$f":"IF('Outil de classification'!D78=\"Oui\",Calculs_Classif!M201,\"\")","v":""}]
[null,null,null,"2000-10 000 m3",8,{"$f":"IF('Outil de classification'!$D$162=\"Oui\",IF('Outil de classification'!$D$163=D202,Calculs_Classif!E202,\"\"),\"\")","v":""},null,"Moyen",5,{"$f":"IF('Outil de classification'!D167=Calculs_Classif!H202,Calculs_Classif!I202,\"\")","v":""},"Usage aquatique sensible en aval de l'endroit de la contamination",null,8,{"$f":"IF('Outil de classification'!D72=\"Oui\",Calculs_Classif!M202,\"\")","v":""}]
[null,null,null,"<2000 m3",6,{"$f":"IF('Outil de classification'!$D$162=\"Oui\",IF('Outil de classification'!$D$163=D203,Calculs_Classif!E203,\"\"),\"\")","v":""},null,"Faible",1,{"$f":"IF('Outil de classification'!D167=Calculs_Classif!H203,Calculs_Classif!I203,\"\")","v":""},"Récepteurs écologiques aquatiques sensibles en aval de l'endroit de la contamination",null,6,{"$f":"IF('Outil de classification'!D79=\"Oui\",Calculs_Classif!M203,\"\")","v":""}]
[null,">CEP",null,">10 000 m3",8,{"$f":"IF('Outil de classification'!$D$164=\"Oui\",IF('Outil de classification'!$D$165=D204,Calculs_Classif!E204,\"\"),\"\")","v":""},null,null,null,null,"Usage résidentiel, commercial, institutionnel, chaussée, trottoir ou parc",null,4,{"$f":"IF(OR('Outil de classification'!UsageSite=3,'Outil de classification'!UsageSite=2),M204,\"\")","v":""}]
[null,null,null,"2000-10 000 m3",6,{"$f":"IF('Outil de classification'!$D$164=\"Oui\",IF('Outil de classification'!$D$165=D205,Calculs_Classif!E205,\"\"),\"\")","v":""},null,null,"OU",null,"Usage industriel",null,2,{"$f":"IF('Outil de classification'!UsageSite=4,M205,\"\")","v":""}]
[null,null,null,"<2000 m3",4,{"$f":"IF('Outil de classification'!$D$164=\"Oui\",IF('Outil de classification'!$D$165=D206,Calculs_Classif!E206,\"\"),\"\")","v":""}]
[null,null,null,null,null,null,"Sujet à l'affouillement","Élevé",10,{"$f":"IF('Outil de classification'!D168=Calculs_Classif!H207,Calculs_Classif!I207,\"\")","v":""}]
[null,null,null,null,null,null,null,"Moyen",5,{"$f":"IF('Outil de classification'!D168=Calculs_Classif!H208,Calculs_Classif!I208,\"\")","v":""}]
[null,null,null,null,null,null,null,"Faible",1,{"$f":"IF('Outil de classification'!D168=Calculs_Classif!H209,Calculs_Classif!I209,\"\")","v":""}]
[]
[null,null,null,"Note A9",{"$f":"IF('Outil de classification'!D160=\"Oui\",MAX(F201:F206),\"\")","v":""},"x",null,"Note B9",{"$f":"IF('Outil de classification'!D160=\"Oui\",MAX(J201:J209),\"\")","v":""},"x",null,"Note C9",{"$f":"IF('Outil de classification'!D160=\"Oui\",MAX(N200:N205),\"\")","v":""},"=",{"$f":"IF('Outil de classification'!D160=Menus_Classif!A3,Calculs_Classif!E211*Calculs_Classif!I211*Calculs_Classif!M211,IF('Outil de classification'!D160=Menus_Classif!A4,0,\"\"))","v":""},"Note D9"]
[]
["10. Risque lié à des résidus miniers (résidus d'usinage et stériles)"]
[]
["Dangerosité des résidus d'usinage",null,null,null,null,null,"Potentiel de migration des résidus d'usinage",null,null,null,"Récepteurs présents"]
[null,null,null,null,null,null,null,null,null,null,"Usage extérieur sensible sur le site",null,10,{"$f":"IF('Outil de classification'!D68=\"oui\",M216,\"\")","v":""}]
[null,"Contamination",null,null,"Note",null,"État du confinement","Aucun confinement",10,{"$f":"IF('Outil de classification'!$D$186=Calculs_Classif!H217,I217,\"\")","v":""},"Usage aquatique sensible à l'endroit de la contamination ou au point d'impact",null,10,{"$f":"IF('Outil de classification'!D71=\"oui\",M217,\"\")","v":""}]
["Résidus miniers d'amiante","Composés organiques",null,"> RESC",1.5,{"$f":"IF(AND('Outil de classification'!D183=\"Oui\",'Outil de classification'!D176=\"> RESC\"),Calculs_Classif!E218,\"\")","v":""},null,"Ouvrage de confinement endommagé",5,{"$f":"IF('Outil de classification'!$D$186=Calculs_Classif!H218,I218,\"\")","v":""},"Récepteurs écologiques terrestres sensibles sur le site",null,8,{"$f":"IF('Outil de classification'!D76=\"oui\",M218,\"\")","v":""}]
[null,null,null,"C-RESC",1,{"$f":"IF(AND('Outil de classification'!D183=\"Oui\",'Outil de classification'!D176=\"C-RESC\"),Calculs_Classif!E219,\"\")","v":""},null,"Confinement topographique partiel",3,{"$f":"IF('Outil de classification'!$D$186=Calculs_Classif!H219,I219,\"\")","v":""},"Récepteurs écologiques aquatiques sensibles à l'endroit de la contamination ou au point d'impact",null,8,{"$f":"IF('Outil de classification'!D78=\"oui\",M219,\"\")","v":""}]
[null,null,null,"A-B ou B-C",0.5,{"$f":"IF(AND('Outil de classification'!D183=\"Oui\",OR('Outil de classification'!D176=\"B-C\",'Outil de classification'!D176=\"A-B\")),Calculs_Classif!E220,\"\")","v":""},null,"Ouvrage de confinement intact",2,{"$f":"IF('Outil de classification'!$D$186=Calculs_Classif!H220,I220,\"\")","v":""},"Usage extérieur sensible au voisinage du site",null,8,{"$f":"IF('Outil de classification'!D69=\"Oui\",M220,\"\")","v":""}]
[null,"Composés inorganiques ou dioxines et furanes ",null,"> RESC",1.5,{"$f":"IF(AND('Outil de classification'!D183=\"Oui\",OR('Outil de classification'!D181=\"> RESC\",'Outil de classification'!D182=\"> RESC\")),E221,\"\")","v":""},null,"Confinement topographique complet",1,{"$f":"IF('Outil de classification'!$D$186=Calculs_Classif!H221,I221,\"\")","v":""},"Usage aquatique sensible en aval de l'endroit de la contamination ou du point d'impact",null,8,{"$f":"IF('Outil de classification'!D72=\"Oui\",M221,\"\")","v":""}]
["Note de base",null,null,"C-RESC",1,{"$f":"IF(AND('Outil de classification'!D183=\"Oui\",OR('Outil de classification'!D181=\"C-RESC\",'Outil de classification'!D182=\"C-RESC\")),E222,\"\")","v":""},null,null,null,null,"Récepteurs écologiques terrestres sensibles au voisinage du site",null,6,{"$f":"IF('Outil de classification'!D77=\"Oui\",M222,\"\")","v":""}]
[6,null,null,"A-B ou B-C",0.5,{"$f":"IF(AND('Outil de classification'!D183=\"Oui\",OR('Outil de classification'!D181=\"B-C\",'Outil de classification'!D181=\"A-B\",'Outil de classification'!D182=\"B-C\",'Outil de classification'!D182=\"A-B\")),E223,\"\")","v":""},null,null,"OU",null,"Récepteurs écologiques aquatiques sensibles en aval de l'endroit de la contamination ou du point d'impact",null,6,{"$f":"IF('Outil de classification'!D79=\"Oui\",M223,\"\")","v":""}]
[null,"Sous-total",null,null,{"$f":"IF('Outil de classification'!D183<>\"Oui\",0,IF((A223+MAX(F218:F220)+MAX(F221:F223))>10,10,(A223+MAX(F218:F220)+MAX(F221:F223))))","v":0},null,null,null,null,null,"Aucun usage ou récepteur sensible",null,2,{"$f":"IF(AND('Outil de classification'!D68=\"Non\",'Outil de classification'!D71=\"Non\",'Outil de classification'!D76=\"Non\",'Outil de classification'!D78=\"Non\",'Outil de classification'!D69=\"Non\",'Outil de classification'!D72=\"Non\",'Outil de classification'!D77=\"Non\",'Outil de classification'!D79=\"Non\"),Calculs_Classif!M224,\"\")","v":""}]
["Résidus miniers à risques élevés","Cyanurés",null,null,1,{"$f":"IF(AND('Outil de classification'!D179=\"Oui\",'Outil de classification'!D175=\"Oui (>D019)\"),Calculs_Classif!E225,\"\")","v":""},"Érosion éolienne des résidus d'usinage","Confirmé",8,{"$f":"IF('Outil de classification'!D187=Calculs_Classif!H225,I225,\"\")","v":""}]
[null,"Radioactifs",null,null,2,{"$f":"IF(AND('Outil de classification'!D179=\"Oui\",'Outil de classification'!D177=\"Oui\"),Calculs_Classif!E226,\"\")","v":""},null,"Suspecté",4,{"$f":"IF('Outil de classification'!$D$187=Calculs_Classif!H226,I226,\"\")","v":""}]
[null,"Acidogènes",null,null,2,{"$f":"IF(AND('Outil de classification'!D179=\"Oui\",'Outil de classification'!D174=\"Oui\"),Calculs_Classif!E227,\"\")","v":""},null,"Non",0,{"$f":"IF('Outil de classification'!$D$187=Calculs_Classif!H227,I227,\"\")","v":""}]
[null,"Inflammables",null,null,0.5,{"$f":"IF(AND('Outil de classification'!D179=\"Oui\",'Outil de classification'!D178=\"Oui\"),Calculs_Classif!E228,\"\")","v":""}]
[null,"Amiante",null,null,1.5,{"$f":"IF(AND('Outil de classification'!D179=\"Oui\",'Outil de classification'!D183=\"Oui\"),Calculs_Classif!E229,\"\")","v":""},null,null,"OU"]
[null,"Composés organiques",null,"> RESC",1.5,{"$f":"IF(AND('Outil de classification'!D179=\"Oui\",'Outil de classification'!D176=\"> RESC\"),Calculs_Classif!E230,\"\")","v":""}]
[null,null,null,"C-RESC",1,{"$f":"IF(AND('Outil de classification'!D179=\"Oui\",'Outil de classification'!D176=\"C-RESC\"),Calculs_Classif!E231,\"\")","v":""},"Matrice de potentiel de contact avec les résidus d'usinage","F-I, A-I: 0",0,{"$f":"IF('Outil de classification'!$D$188=H231,I231,\"\")","v":""}]
[null,null,null,"A-B ou B-C",0.5,{"$f":"IF(AND('Outil de classification'!D179=\"Oui\",OR('Outil de classification'!D176=\"B-C\",'Outil de classification'!D176=\"A-B\")),Calculs_Classif!E232,\"\")","v":""},null,"F-I, A-II: 1",1,{"$f":"IF('Outil de classification'!$D$188=H232,I232,\"\")","v":""}]
[null,"Composés inorganiques ou dioxines et furanes ",null,"> RESC",1.5,{"$f":"IF(AND('Outil de classification'!D179=\"Oui\",OR('Outil de classification'!D181=\"> RESC\",'Outil de classification'!D182=\"> RESC\")),Calculs_Classif!E233,\"\")","v":""},null,"F-I, A-III: 2",2,{"$f":"IF('Outil de classification'!$D$188=H233,I233,\"\")","v":""}]
["Note de base",null,null,"C-RESC",1,{"$f":"IF(AND('Outil de classification'!D179=\"Oui\",OR('Outil de classification'!D181=\"C-RESC\",'Outil de classification'!D182=\"C-RESC\")),Calculs_Classif!E234,\"\")","v":""},null,"F-I, A-IV: 4",4,{"$f":"IF('Outil de classification'!$D$188=H234,I234,\"\")","v":""}]
[9,null,null,"A-B ou B-C",0.5,{"$f":"IF(AND('Outil de classification'!D179=\"Oui\",OR('Outil de classification'!D181=\"B-C\",'Outil de classification'!D181=\"A-B\",'Outil de classification'!D182=\"B-C\",'Outil de classification'!D182=\"A-B\")),Calculs_Classif!E235,\"\")","v":""},null,"F-II, A-I: 1",1,{"$f":"IF('Outil de classification'!$D$188=H235,I235,\"\")","v":""}]
[null,"Sous-total",null,null,{"$f":"IF('Outil de classification'!D179<>\"Oui\",0,IF((A235+SUM(F225:F229)+MAX(F230:F232)+MAX(F233:F235))>10,10,(A235+SUM(F225:F229)+MAX(F230:F232)+MAX(F233:F235))))","v":0},null,null,"F-II, A-II: 4",4,{"$f":"IF('Outil de classification'!$D$188=H236,I236,\"\")","v":""}]
["Résidus miniers lixiviables","Cyanurés",null,null,1,{"$f":"IF(AND('Outil de classification'!D173=\"Oui\",'Outil de classification'!D175=\"Oui (>D019)\"),Calculs_Classif!E237,\"\")","v":""},null,"F-II, A-III: 6",6,{"$f":"IF('Outil de classification'!$D$188=H237,I237,\"\")","v":""}]
[null,"Radioactifs",null,null,2,{"$f":"IF(AND('Outil de classification'!D173=\"Oui\",'Outil de classification'!D177=\"Oui\"),Calculs_Classif!E238,\"\")","v":""},null,"F-II, A-IV: 8",8,{"$f":"IF('Outil de classification'!$D$188=H238,I238,\"\")","v":""}]
[null,"Acidogènes",null,null,2,{"$f":"IF(AND('Outil de classification'!D173=\"Oui\",'Outil de classification'!D174=\"Oui\"),Calculs_Classif!E239,\"\")","v":""},null,"F-III, A-I: 2",2,{"$f":"IF('Outil de classification'!$D$188=H239,I239,\"\")","v":""}]
[null,"Inflammables",null,null,0.5,{"$f":"IF(AND('Outil de classification'!D173=\"Oui\",'Outil de classification'!D178=\"Oui\"),Calculs_Classif!E240,\"\")","v":""},null,"F-III, A-II: 6",6,{"$f":"IF('Outil de classification'!$D$188=H240,I240,\"\")","v":""}]
[null,"Amiante",null,null,1.5,{"$f":"IF(AND('Outil de classification'!D173=\"Oui\",'Outil de classification'!D183=\"Oui\"),Calculs_Classif!E241,\"\")","v":""},null,"F-III, A-III: 8",8,{"$f":"IF('Outil de classification'!$D$188=H241,I241,\"\")","v":""}]
[null,"Composés organiques",null,"> RESC",1.5,{"$f":"IF(AND('Outil de classification'!D173=\"Oui\",'Outil de classification'!D176=\"> RESC\"),Calculs_Classif!E242,\"\")","v":""},null,"F-III, A-IV: 9",9,{"$f":"IF('Outil de classification'!$D$188=H242,I242,\"\")","v":""}]
[null,null,null,"C-RESC",1,{"$f":"IF(AND('Outil de classification'!D173=\"Oui\",'Outil de classification'!D176=\"C-RESC\"),Calculs_Classif!E243,\"\")","v":""},null,"F-IV, A-I: 4",4,{"$f":"IF('Outil de classification'!$D$188=H243,I243,\"\")","v":""}]
[null,null,null,"A-B ou B-C",0.5,{"$f":"IF(AND('Outil de classification'!D173=\"Oui\",OR('Outil de classification'!D176=\"B-C\",'Outil de classification'!D176=\"A-B\")),Calculs_Classif!E244,\"\")","v":""},null,"F-IV, A-II: 8",8,{"$f":"IF('Outil de classification'!$D$188=H244,I244,\"\")","v":""}]
[null,"Composés inorganiques ou dioxines et furanes ",null,"> RESC",1.5,{"$f":"IF(AND('Outil de classification'!D173=\"Oui\",OR('Outil de classification'!D181=\"> RESC\",'Outil de classification'!D182=\"> RESC\")),Calculs_Classif!E245,\"\")","v":""},null,"F-IV, A-III: 9",9,{"$f":"IF('Outil de classification'!$D$188=H245,I245,\"\")","v":""}]
["Note de base",null,null,"C-RESC",1,{"$f":"IF(AND('Outil de classification'!D173=\"Oui\",OR('Outil de classification'!D181=\"C-RESC\",'Outil de classification'!D182=\"C-RESC\")),Calculs_Classif!E246,\"\")","v":""},null,"F-IV, A-IV: 10",10,{"$f":"IF('Outil de classification'!$D$188=H246,I246,\"\")","v":""}]
[5,null,null,"A-B ou B-C",0.5,{"$f":"IF(AND('Outil de classification'!D173=\"Oui\",OR('Outil de classification'!D181=\"B-C\",'Outil de classification'!D181=\"A-B\",'Outil de classification'!D182=\"B-C\",'Outil de classification'!D182=\"A-B\")),Calculs_Classif!E247,\"\")","v":""}]
[null,"Sous-total",null,null,{"$f":"IF('Outil de classification'!D173<>\"Oui\",0,IF((A247+SUM(F237:F241)+MAX(F242:F244)+MAX(F245:F247))>10,10,(A247+SUM(F237:F241)+MAX(F242:F244)+MAX(F245:F247))))","v":0}]
["Résidus miniers non lixiviables","Zone d'incertitude avec un potentiel de DMA ou autre lixiviation de contaminants à moyen/long terme",null,null,3,{"$f":"IF('Outil de classification'!D173=B249,Calculs_Classif!E249,\"\")","v":""}]
[null,"Cyanurés",null,null,1,{"$f":"IF(AND(OR('Outil de classification'!D173=\"Non\",'Outil de classification'!D173=\"Non anticipé\",'Outil de classification'!D173=B249),'Outil de classification'!D175=\"Oui (>D019)\"),Calculs_Classif!E250,\"\")","v":""}]
[null,"Radioactifs",null,null,2,{"$f":"IF(AND(OR('Outil de classification'!D173=\"Non\",'Outil de classification'!D173=\"Non anticipé\",'Outil de classification'!D173=B249),'Outil de classification'!D177=\"Oui\"),Calculs_Classif!E251,\"\")","v":""}]
[null,"Acidogènes",null,null,2,{"$f":"IF(AND(OR('Outil de classification'!D173=\"Non\",'Outil de classification'!D173=\"Non anticipé\",'Outil de classification'!D173=B249),'Outil de classification'!D174=\"Oui\"),Calculs_Classif!E252,\"\")","v":""}]
[null,"Inflammables",null,null,0.5,{"$f":"IF(AND(OR('Outil de classification'!D173=\"Non\",'Outil de classification'!D173=\"Non anticipé\",'Outil de classification'!D173=B249),'Outil de classification'!D178=\"Oui\"),Calculs_Classif!E253,\"\")","v":""}]
[null,"Amiante",null,null,1.5,{"$f":"IF(AND(OR('Outil de classification'!D173=\"Non\",'Outil de classification'!D173=\"Non anticipé\",'Outil de classification'!D173=B249),'Outil de classification'!D183=\"Oui\"),Calculs_Classif!E254,\"\")","v":""}]
[null,"Composés organiques",null,"> RESC",1.5,{"$f":"IF(AND(OR('Outil de classification'!D173=\"Non\",'Outil de classification'!D173=\"Non anticipé\",'Outil de classification'!D173=B249),'Outil de classification'!D176=\"> RESC\"),Calculs_Classif!E255,\"\")","v":""}]
[null,null,null,"C-RESC",1,{"$f":"IF(AND(OR('Outil de classification'!D173=\"Non\",'Outil de classification'!D173=\"Non anticipé\",'Outil de classification'!D173=B249),'Outil de classification'!D176=\"C-RESC\"),Calculs_Classif!E256,\"\")","v":""}]
[null,null,null,"A-B ou B-C",0.5,{"$f":"IF(AND(OR('Outil de classification'!D173=\"Non\",'Outil de classification'!D173=\"Non anticipé\",'Outil de classification'!D173=B249),OR('Outil de classification'!D176=\"B-C\",'Outil de classification'!D176=\"A-B\")),Calculs_Classif!E257,\"\")","v":""}]
[null,"Composés inorganiques ou dioxines et furanes ",null,"> RESC",1.5,{"$f":"IF(AND(OR('Outil de classification'!D173=\"Non\",'Outil de classification'!D173=\"Non anticipé\",'Outil de classification'!D173=B249),OR('Outil de classification'!D181=\"> RESC\",'Outil de classification'!D182=\"> RESC\")),Calculs_Classif!E258,\"\")","v":""}]
["Note de base",null,null,"C-RESC",1,{"$f":"IF(AND(OR('Outil de classification'!D173=\"Non\",'Outil de classification'!D173=\"Non anticipé\",'Outil de classification'!D173=B249),OR('Outil de classification'!D181=\"C-RESC\",'Outil de classification'!D182=\"C-RESC\")),Calculs_Classif!E259,\"\")","v":""}]
[1,null,null,"A-B ou B-C",0.5,{"$f":"IF(AND(OR('Outil de classification'!D173=\"Non\",'Outil de classification'!D173=\"Non anticipé\",'Outil de classification'!D173=B249),OR('Outil de classification'!D181=\"B-C\",'Outil de classification'!D181=\"A-B\",'Outil de classification'!D182=\"B-C\",'Outil de classification'!D182=\"A-B\")),Calculs_Classif!E260,\"\")","v":""}]
[null,"Sous-total",null,null,{"$f":"IF(AND('Outil de classification'!D173<>\"Non\",'Outil de classification'!D173<>\"Non anticipé\",'Outil de classification'!D173<>\"Zone d'incertitude avec un potentiel de DMA ou autre lixiviation de contaminants à moyen/long terme\"),0,IF((A260+SUM(F249:F254)+MAX(F255:F257)+MAX(F258:F260))>10,10,(A260+SUM(F249:F254)+MAX(F255:F257)+MAX(F258:F260))))","v":0}]
["Superficie",">50 000 m2",null,null,1,{"$f":"IF('Outil de classification'!D184=Calculs_Classif!B262,Calculs_Classif!E262,\"\")","v":""}]
[null,"10 000-50 000 m2",null,null,1.25,{"$f":"IF('Outil de classification'!D184=Calculs_Classif!B263,Calculs_Classif!E263,\"\")","v":""}]
[null,"<10 000 m2",null,null,1.66,{"$f":"IF('Outil de classification'!D184=Calculs_Classif!B264,Calculs_Classif!E264,\"\")","v":""}]
[]
[null,null,null,"Note A10a",{"$f":"IF(AND('Outil de classification'!D171=\"Oui\",(Calculs_Classif!E224+Calculs_Classif!E236+Calculs_Classif!E248+Calculs_Classif!E261)=0),0.8,IF('Outil de classification'!D171=Menus_Classif!A3,MAX(E224,E236,E248,E261)/MAX(F262:F264),\"\"))","v":""},"x",null,"Note B10a",{"$f":"IF('Outil de classification'!D171=Menus_Classif!A3,MAX(J217:J221,J225:J227,J231:J246),\"\")","v":""},null,null,"Note C10a",{"$f":"IF('Outil de classification'!D171=Menus_Classif!A3,MAX(N216:N224),\"\")","v":""},"=",{"$f":"IF('Outil de classification'!D171=Menus_Classif!A3,Calculs_Classif!E266*Calculs_Classif!I266*Calculs_Classif!M266,IF('Outil de classification'!D171=Menus_Classif!A4,0,\"\"))","v":""},"Note D10a"]
[]
["ET"]
["Dangerosité des stériles miniers",null,null,null,null,null,"Potentiel de migration des stériles miniers",null,null,null,"Récepteurs présents"]
[null,null,null,null,null,null,null,null,null,null,"Usage extérieur sensible sur le site",null,10,{"$f":"IF('Outil de classification'!D68=\"oui\",M270,\"\")","v":""}]
[null,"Contamination",null,null,"Note",null,"Présence de talus instables au niveau des haldes","Instabilité importante",10,{"$f":"IF('Outil de classification'!D203=Calculs_Classif!H271,Calculs_Classif!I271,\"\")","v":""},"Usage aquatique sensible à l'endroit de la contamination ou au point d'impact",null,10,{"$f":"IF('Outil de classification'!D71=\"oui\",M271,\"\")","v":""}]
["Stériles miniers d'amiante","Composés organiques",null,"> RESC",1.5,{"$f":"IF(AND('Outil de classification'!D200=\"Oui\",'Outil de classification'!D193=\"> RESC\"),Calculs_Classif!E272,\"\")","v":""},null,"Instabilité de certains secteurs",8,{"$f":"IF('Outil de classification'!D203=Calculs_Classif!H272,Calculs_Classif!I272,\"\")","v":""},"Récepteurs écologiques terrestres sensibles sur le site",null,8,{"$f":"IF('Outil de classification'!D76=\"oui\",M272,\"\")","v":""}]
[null,null,null,"C-RESC",1,{"$f":"IF(AND('Outil de classification'!D200=\"Oui\",'Outil de classification'!D193=\"C-RESC\"),Calculs_Classif!E273,\"\")","v":""},null,"Érosion dans les talus",4,{"$f":"IF('Outil de classification'!D203=Calculs_Classif!H273,Calculs_Classif!I273,\"\")","v":""},"Récepteurs écologiques aquatiques sensibles à l'endroit de la contamination ou au point d'impact",null,8,{"$f":"IF('Outil de classification'!D78=\"oui\",M273,\"\")","v":""}]
[null,null,null,"A-B ou B-C",0.5,{"$f":"IF(AND('Outil de classification'!D200=\"Oui\",OR('Outil de classification'!D193=\"B-C\",'Outil de classification'!D193=\"A-B\")),E274,\"\")","v":""},null,"Pas d'instabilité ou d'érosion",0,{"$f":"IF('Outil de classification'!D203=Calculs_Classif!H274,Calculs_Classif!I274,\"\")","v":""},"Usage extérieur sensible au voisinage du site",null,8,{"$f":"IF('Outil de classification'!D69=\"Oui\",M274,\"\")","v":""}]
[null,"Composés inorganiques ou dioxines et furanes ",null,"> RESC",1.5,{"$f":"IF(AND('Outil de classification'!D200=\"Oui\",OR('Outil de classification'!D198=\"> RESC\",'Outil de classification'!D199=\"> RESC\")),E275,\"\")","v":""},null,null,null,null,"Usage aquatique sensible en aval de l'endroit de la contamination ou du point d'impact",null,8,{"$f":"IF('Outil de classification'!D72=\"Oui\",M275,\"\")","v":""}]
["Note de base",null,null,"C-RESC",1,{"$f":"IF(AND('Outil de classification'!D200=\"Oui\",OR('Outil de classification'!D198=\"C-RESC\",'Outil de classification'!D199=\"C-RESC\")),E276,\"\")","v":""},null,null,"OU",null,"Récepteurs écologiques terrestres sensibles au voisinage du site",null,6,{"$f":"IF('Outil de classification'!D77=\"Oui\",M276,\"\")","v":""}]
[6,null,null,"A-B ou B-C",0.5,{"$f":"IF(AND('Outil de classification'!D200=\"Oui\",OR('Outil de classification'!D198=\"B-C\",'Outil de classification'!D199=\"B-C\",'Outil de classification'!D198=\"A-B\",'Outil de classification'!D199=\"A-B\")),E277,\"\")","v":""},null,null,null,null,"Récepteurs écologiques aquatiques sensibles en aval de l'endroit de la contamination ou du point d'impact",null,6,{"$f":"IF('Outil de classification'!D79=\"Oui\",M277,\"\")","v":""}]
[null,"Sous-total",null,null,{"$f":"IF('Outil de classification'!D200<>\"Oui\",0,IF((A277+MAX(F272:F274)+MAX(F275:F277))>10,10,(A277+MAX(F272:F274)+MAX(F275:F277))))","v":0},null,"Stériles miniers exposés à l'érosion éolienne ","Confirmé",8,{"$f":"IF('Outil de classification'!D204=Calculs_Classif!H278,I278,\"\")","v":""},"Aucun usage ou récepteur sensible",null,2,{"$f":"IF(AND('Outil de classification'!D68=\"Non\",'Outil de classification'!D71=\"Non\",'Outil de classification'!D76=\"Non\",'Outil de classification'!D78=\"Non\",'Outil de classification'!D69=\"Non\",'Outil de classification'!D72=\"Non\",'Outil de classification'!D77=\"Non\",'Outil de classification'!D79=\"Non\"),M278,\"\")","v":""}]
["Stériles miniers à risques élevés","Radioactifs",null,null,2,{"$f":"IF(AND('Outil de classification'!D196=\"Oui\",'Outil de classification'!D194=\"Oui\"),Calculs_Classif!E279,\"\")","v":""},null,"Suspecté ",4,{"$f":"IF('Outil de classification'!$D$204=Calculs_Classif!H279,I279,\"\")","v":""}]
[null,"Acidogène",null,null,2,{"$f":"IF(AND('Outil de classification'!D196=\"Oui\",'Outil de classification'!D192=\"Oui\"),Calculs_Classif!E280,\"\")","v":""},null,"Non",0,{"$f":"IF('Outil de classification'!$D$204=Calculs_Classif!H280,I280,\"\")","v":""}]
[null,"Inflammable",null,null,0.5,{"$f":"IF(AND('Outil de classification'!D196=\"Oui\",'Outil de classification'!D195=\"Oui\"),Calculs_Classif!E281,\"\")","v":""}]
[null,"Amiante",null,null,1.5,{"$f":"IF(AND('Outil de classification'!D196=\"Oui\",'Outil de classification'!D200=\"Oui\"),Calculs_Classif!E282,\"\")","v":""},null,null,"OU"]
[null,"Composés organiques",null,"> RESC",1.5,{"$f":"IF(AND('Outil de classification'!D196=\"Oui\",'Outil de classification'!D193=\"> RESC\"),Calculs_Classif!E283,\"\")","v":""}]
[null,null,null,"C-RESC",1,{"$f":"IF(AND('Outil de classification'!D196=\"Oui\",'Outil de classification'!D193=\"C-RESC\"),Calculs_Classif!E284,\"\")","v":""},"Matrice de potentiel de contact avec les stériles miniers","F-I, A-I: 0",0,{"$f":"IF('Outil de classification'!$D$205=H284,I284,\"\")","v":""}]
[null,null,null,"A-B ou B-C",0.5,{"$f":"IF(AND('Outil de classification'!D196=\"Oui\",OR('Outil de classification'!D193=\"B-C\",'Outil de classification'!D193=\"A-B\")),Calculs_Classif!E285,\"\")","v":""},null,"F-I, A-II: 1",1,{"$f":"IF('Outil de classification'!$D$205=H285,I285,\"\")","v":""}]
[null,"Composés inorganiques ou dioxines et furanes ",null,"> RESC",1.5,{"$f":"IF(AND('Outil de classification'!D196=\"Oui\",OR('Outil de classification'!D198=\"> RESC\",'Outil de classification'!D199=\"> RESC\")),Calculs_Classif!E286,\"\")","v":""},null,"F-I, A-III: 2",2,{"$f":"IF('Outil de classification'!$D$205=H286,I286,\"\")","v":""}]
["Note de base",null,null,"C-RESC",1,{"$f":"IF(AND('Outil de classification'!D196=\"Oui\",OR('Outil de classification'!D198=\"C-RESC\",'Outil de classification'!D199=\"C-RESC\")),Calculs_Classif!E287,\"\")","v":""},null,"F-I, A-IV: 4",4,{"$f":"IF('Outil de classification'!$D$205=H287,I287,\"\")","v":""}]
[9,null,null,"A-B ou B-C",0.5,{"$f":"IF(AND('Outil de classification'!D196=\"Oui\",OR('Outil de classification'!D198=\"B-C\",'Outil de classification'!D199=\"B-C\",'Outil de classification'!D198=\"A-B\",'Outil de classification'!D199=\"A-B\")),Calculs_Classif!E288,\"\")","v":""},null,"F-II, A-I: 1",1,{"$f":"IF('Outil de classification'!$D$205=H288,I288,\"\")","v":""}]
[null,"Sous-total",null,null,{"$f":"IF('Outil de classification'!D196<>\"Oui\",0,IF((A288+SUM(F279:F282)+MAX(F283:F285)+MAX(F286:F288))>10,10,(A288+SUM(F279:F282)+MAX(F283:F285)+MAX(F286:F288))))","v":0},null,null,"F-II, A-II: 4",4,{"$f":"IF('Outil de classification'!$D$205=H289,I289,\"\")","v":""}]
["Stériles miniers lixiviables","Radioactifs",null,null,2,{"$f":"IF(AND('Outil de classification'!D191=\"Oui\",'Outil de classification'!D194=\"Oui\"),E290,\"\")","v":""},null,"F-II, A-III: 6",6,{"$f":"IF('Outil de classification'!$D$205=H290,I290,\"\")","v":""}]
[null,"Acidogène",null,null,2,{"$f":"IF(AND('Outil de classification'!D191=\"Oui\",'Outil de classification'!D192=\"Oui\"),E291,\"\")","v":""},null,"F-II, A-IV: 8",8,{"$f":"IF('Outil de classification'!$D$205=H291,I291,\"\")","v":""}]
[null,"Inflammable",null,null,0.5,{"$f":"IF(AND('Outil de classification'!D191=\"Oui\",'Outil de classification'!D195=\"Oui\"),E292,\"\")","v":""},null,"F-III, A-I: 2",2,{"$f":"IF('Outil de classification'!$D$205=H292,I292,\"\")","v":""}]
[null,"Amiante",null,null,1.5,{"$f":"IF(AND('Outil de classification'!D191=\"Oui\",'Outil de classification'!D200=\"Oui\"),E293,\"\")","v":""},null,"F-III, A-II: 6",6,{"$f":"IF('Outil de classification'!$D$205=H293,I293,\"\")","v":""}]
[null,"Composés organiques",null,"> RESC",1.5,{"$f":"IF(AND('Outil de classification'!D191=\"Oui\",'Outil de classification'!D193=\"> RESC\"),E294,\"\")","v":""},null,"F-III, A-III: 8",8,{"$f":"IF('Outil de classification'!$D$205=H294,I294,\"\")","v":""}]
[null,null,null,"C-RESC",1,{"$f":"IF(AND('Outil de classification'!D191=\"Oui\",'Outil de classification'!D193=\"C-RESC\"),E295,\"\")","v":""},null,"F-III, A-IV: 9",9,{"$f":"IF('Outil de classification'!$D$205=H295,I295,\"\")","v":""}]
[null,null,null,"A-B ou B-C",0.5,{"$f":"IF(AND('Outil de classification'!D191=\"Oui\",OR('Outil de classification'!D193=\"B-C\",'Outil de classification'!D193=\"A-B\")),E296,\"\")","v":""},null,"F-IV, A-I: 4",4,{"$f":"IF('Outil de classification'!$D$205=H296,I296,\"\")","v":""}]
[null,"Composés inorganiques ou dioxines et furanes ",null,"> RESC",1.5,{"$f":"IF(AND('Outil de classification'!D191=\"Oui\",OR('Outil de classification'!D198=\"> RESC\",'Outil de classification'!D199=\"> RESC\")),E297,\"\")","v":""},null,"F-IV, A-II: 8",8,{"$f":"IF('Outil de classification'!$D$205=H297,I297,\"\")","v":""}]
["Note de base",null,null,"C-RESC",1,{"$f":"IF(AND('Outil de classification'!D191=\"Oui\",OR('Outil de classification'!D198=\"C-RESC\",'Outil de classification'!D199=\"C-RESC\")),E298,\"\")","v":""},null,"F-IV, A-III: 9",9,{"$f":"IF('Outil de classification'!$D$205=H298,I298,\"\")","v":""}]
[5,null,null,"A-B ou B-C",0.5,{"$f":"IF(AND('Outil de classification'!D191=\"Oui\",OR('Outil de classification'!D198=\"B-C\",'Outil de classification'!D199=\"B-C\",'Outil de classification'!D198=\"A-B\",'Outil de classification'!D199=\"A-B\")),E299,\"\")","v":""},null,"F-IV, A-IV: 10",10,{"$f":"IF('Outil de classification'!$D$205=H299,I299,\"\")","v":""}]
[null,"Sous-total",null,null,{"$f":"IF('Outil de classification'!D191<>\"Oui\",0,IF((A299+SUM(F290:F293)+MAX(F294:F296)+MAX(F297:F299))>10,10,(A299+SUM(F290:F293)+MAX(F294:F296)+MAX(F297:F299))))","v":0}]
["Stériles miniers non lixiviables","Zone d'incertitude avec un potentiel de DMA ou autre lixiviation de contaminants à moyen/long terme",null,null,3,{"$f":"IF('Outil de classification'!D191=B301,E301,\"\")","v":""}]
[null,"Radioactifs",null,null,2,{"$f":"IF(AND(OR('Outil de classification'!D191=\"Non\",'Outil de classification'!D191=\"Non anticipé\",'Outil de classification'!D191=B301),'Outil de classification'!D194=\"Oui\"),E302,\"\")","v":""}]
[null,"Acidogène",null,null,2,{"$f":"IF(AND(OR('Outil de classification'!D191=\"Non\",'Outil de classification'!D191=\"Non anticipé\",'Outil de classification'!D191=B301),'Outil de classification'!D192=\"Oui\"),E303,\"\")","v":""}]
[null,"Inflammable",null,null,0.5,{"$f":"IF(AND(OR('Outil de classification'!D191=\"Non\",'Outil de classification'!D191=\"Non anticipé\",'Outil de classification'!D191=B301),'Outil de classification'!D195=\"Oui\"),E304,\"\")","v":""}]
[null,"Amiante",null,null,1.5,{"$f":"IF(AND(OR('Outil de classification'!D191=\"Non\",'Outil de classification'!D191=\"Non anticipé\",'Outil de classification'!D191=B301),'Outil de classification'!D200=\"Oui\"),E305,\"\")","v":""}]
[null,"Composés organiques",null,"> RESC",1.5,{"$f":"IF(AND(OR('Outil de classification'!D191=\"Non\",'Outil de classification'!D191=\"Non anticipé\",'Outil de classification'!D191=B301),'Outil de classification'!D193=\"> RESC\"),E306,\"\")","v":""}]
[null,null,null,"C-RESC",1,{"$f":"IF(AND(OR('Outil de classification'!D191=\"Non\",'Outil de classification'!D191=\"Non anticipé\",'Outil de classification'!D191=B301),'Outil de classification'!D193=\"C-RESC\"),E307,\"\")","v":""}]
[null,null,null,"A-B ou B-C",0.5,{"$f":"IF(AND(OR('Outil de classification'!D191=\"Non\",'Outil de classification'!D191=\"Non anticipé\",'Outil de classification'!D191=B301),OR('Outil de classification'!D193=\"B-C\",'Outil de classification'!D193=\"A-B\")),E308,\"\")","v":""}]
[null,"Composés inorganiques ou dioxines et furanes ",null,"> RESC",1.5,{"$f":"IF(AND(OR('Outil de classification'!D191=\"Non\",'Outil de classification'!D191=\"Non anticipé\",'Outil de classification'!D191=B301),OR('Outil de classification'!D198=\"> RESC\",'Outil de classification'!D199=\"> RESC\")),E309,\"\")","v":""}]
["Note de base",null,null,"C-RESC",1,{"$f":"IF(AND(OR('Outil de classification'!D191=\"Non\",'Outil de classification'!D191=\"Non anticipé\",'Outil de classification'!D191=B301),OR('Outil de classification'!D198=\"C-RESC\",'Outil de classification'!D199=\"C-RESC\")),E310,\"\")","v":""}]
[1,null,null,"A-B ou B-C",0.5,{"$f":"IF(AND(OR('Outil de classification'!D191=\"Non\",'Outil de classification'!D191=\"Non anticipé\",'Outil de classification'!D191=B301),OR('Outil de classification'!D198=\"B-C\",'Outil de classification'!D199=\"B-C\",'Outil de classification'!D198=\"A-B\",'Outil de classification'!D199=\"A-B\")),E311,\"\")","v":""}]
[null,"Sous-total",null,null,{"$f":"IF(AND('Outil de classification'!D191<>\"Non\",'Outil de classification'!D191<>\"Non anticipé\",'Outil de classification'!D191<>\"Zone d'incertitude avec un potentiel de DMA ou autre lixiviation de contaminants à moyen/long terme\"),0,IF((A311+SUM(F301:F305)+MAX(F306:F308)+MAX(F309:F311))>10,10,(A311+SUM(F301:F305)+MAX(F306:F308)+MAX(F309:F311))))","v":0}]
["Superficie",">10 000 m2",null,null,1,{"$f":"IF('Outil de classification'!D201=Calculs_Classif!B313,Calculs_Classif!E313,\"\")","v":""}]
[null,"1000-10 000 m2",null,null,1.25,{"$f":"IF('Outil de classification'!D201=Calculs_Classif!B314,Calculs_Classif!E314,\"\")","v":""}]
[null,"<1000 m2",null,null,1.66,{"$f":"IF('Outil de classification'!D201=Calculs_Classif!B315,Calculs_Classif!E315,\"\")","v":""}]
[]
[null,null,null,"Note A10b",{"$f":"IF(AND('Outil de classification'!D189=Menus_Classif!A3,(E278+E289+E300+E312)=0),0.8,IF('Outil de classification'!D189=Menus_Classif!A3,MAX(E278,E289,E300,E312)/MAX(F313:F315),\"\"))","v":""},"x",null,"Note B10b",{"$f":"IF('Outil de classification'!D189=Menus_Classif!A3,MAX(J271:J274,J278:J280,J284:J299),\"\")","v":""},"x",null,"Note C10b",{"$f":"IF('Outil de classification'!D189=Menus_Classif!A3,MAX(N270:N278),\"\")","v":""},"=",{"$f":"IF('Outil de classification'!D189=Menus_Classif!A3,Calculs_Classif!E317*Calculs_Classif!I317*Calculs_Classif!M317,IF('Outil de classification'!D189=Menus_Classif!A4,0,\"\"))","v":""},"Note D10b"]

{"sheet":"IntrusionVapeur_Classif","index":7,"n_rows":42,"n_cols":18,"rows_kept":42,"cut":false,"hidden":true,"merged":[[23,10,25,12],[2,0,4,0],[2,1,3,3],[2,4,3,6],[2,7,3,9],[23,0,26,0],[23,1,25,3],[23,4,25,6],[23,7,25,9]]}
[]
["Sols"]
["Contaminants volatils","Usage associé aux critères B",null,null,"Usage associé aux critères C\nSols superficiels (<1,5 m)",null,null,"Usage associé aux critères C\nSols profonds (>1,5 m)"]
[]
[null,"A-B","B-C",">C","A-B","B-C",">C","A-B","B-C",">C",">50 %","26-50 %","1-25 %"]
["Mercure",8,10,10,null,8,10,null,null,8,1,1.2,1.4,{"$f":"IF(MAX(Calculs_Classif!N$58:N$62)>7,IF('Outil de classification'!E112=3,IntrusionVapeur_Classif!D6,IF('Outil de classification'!E112=2,IntrusionVapeur_Classif!C6,IF('Outil de classification'!E112=1,IntrusionVapeur_Classif!B6,\"\"))),IF('Outil de classification'!E$156=1,IF('Outil de classification'!E112=3,IntrusionVapeur_Classif!G6,IF('Outil de classification'!E112=2,IntrusionVapeur_Classif!F6,IF('Outil de classification'!E112=1,IntrusionVapeur_Classif!E6,\"\"))),IF('Outil de classification'!E112=3,IntrusionVapeur_Classif!J6,IF('Outil de classification'!E112=2,IntrusionVapeur_Classif!I6,IF('Outil de classification'!E112=1,IntrusionVapeur_Classif!H6,\"\")))))","v":""},{"$f":"IF('Outil de classification'!E129=1,M6,IF('Outil de classification'!E129=2,L6,K6))","v":1}]
["Benzène ",8,10,10,8,10,10,null,null,8,1,1.2,1.4,{"$f":"IF(MAX(Calculs_Classif!N$58:N$62)>7,IF('Outil de classification'!E113=3,IntrusionVapeur_Classif!D7,IF('Outil de classification'!E113=2,IntrusionVapeur_Classif!C7,IF('Outil de classification'!E113=1,IntrusionVapeur_Classif!B7,\"\"))),IF('Outil de classification'!E$156=1,IF('Outil de classification'!E113=3,IntrusionVapeur_Classif!G7,IF('Outil de classification'!E113=2,IntrusionVapeur_Classif!F7,IF('Outil de classification'!E113=1,IntrusionVapeur_Classif!E7,\"\"))),IF('Outil de classification'!E113=3,IntrusionVapeur_Classif!J7,IF('Outil de classification'!E113=2,IntrusionVapeur_Classif!I7,IF('Outil de classification'!E113=1,IntrusionVapeur_Classif!H7,\"\")))))","v":""},{"$f":"IF('Outil de classification'!E130=1,M7,IF('Outil de classification'!E130=2,L7,K7))","v":1}]
["Ethylbenzène ",8,10,10,null,8,10,null,null,8,1,1.2,1.4,{"$f":"IF(MAX(Calculs_Classif!N$58:N$62)>7,IF('Outil de classification'!E114=3,IntrusionVapeur_Classif!D8,IF('Outil de classification'!E114=2,IntrusionVapeur_Classif!C8,IF('Outil de classification'!E114=1,IntrusionVapeur_Classif!B8,\"\"))),IF('Outil de classification'!E$156=1,IF('Outil de classification'!E114=3,IntrusionVapeur_Classif!G8,IF('Outil de classification'!E114=2,IntrusionVapeur_Classif!F8,IF('Outil de classification'!E114=1,IntrusionVapeur_Classif!E8,\"\"))),IF('Outil de classification'!E114=3,IntrusionVapeur_Classif!J8,IF('Outil de classification'!E114=2,IntrusionVapeur_Classif!I8,IF('Outil de classification'!E114=1,IntrusionVapeur_Classif!H8,\"\")))))","v":""},{"$f":"IF('Outil de classification'!E131=1,M8,IF('Outil de classification'!E131=2,L8,K8))","v":1}]
["Toluène ",null,8,10,null,null,8,null,null,8,1,1.2,1.4,{"$f":"IF(MAX(Calculs_Classif!N$58:N$62)>7,IF('Outil de classification'!E115=3,IntrusionVapeur_Classif!D9,IF('Outil de classification'!E115=2,IntrusionVapeur_Classif!C9,IF('Outil de classification'!E115=1,IntrusionVapeur_Classif!B9,\"\"))),IF('Outil de classification'!E$156=1,IF('Outil de classification'!E115=3,IntrusionVapeur_Classif!G9,IF('Outil de classification'!E115=2,IntrusionVapeur_Classif!F9,IF('Outil de classification'!E115=1,IntrusionVapeur_Classif!E9,\"\"))),IF('Outil de classification'!E115=3,IntrusionVapeur_Classif!J9,IF('Outil de classification'!E115=2,IntrusionVapeur_Classif!I9,IF('Outil de classification'!E115=1,IntrusionVapeur_Classif!H9,\"\")))))","v":""},{"$f":"IF('Outil de classification'!E132=1,M9,IF('Outil de classification'!E132=2,L9,K9))","v":1}]
["Xylènes",null,8,10,null,null,8,null,null,8,1,1.2,1.4,{"$f":"IF(MAX(Calculs_Classif!N$58:N$62)>7,IF('Outil de classification'!E116=3,IntrusionVapeur_Classif!D10,IF('Outil de classification'!E116=2,IntrusionVapeur_Classif!C10,IF('Outil de classification'!E116=1,IntrusionVapeur_Classif!B10,\"\"))),IF('Outil de classification'!E$156=1,IF('Outil de classification'!E116=3,IntrusionVapeur_Classif!G10,IF('Outil de classification'!E116=2,IntrusionVapeur_Classif!F10,IF('Outil de classification'!E116=1,IntrusionVapeur_Classif!E10,\"\"))),IF('Outil de classification'!E116=3,IntrusionVapeur_Classif!J10,IF('Outil de classification'!E116=2,IntrusionVapeur_Classif!I10,IF('Outil de classification'!E116=1,IntrusionVapeur_Classif!H10,\"\")))))","v":""},{"$f":"IF('Outil de classification'!E133=1,M10,IF('Outil de classification'!E133=2,L10,K10))","v":1}]
["Styrène ",null,8,10,null,null,8,null,null,8,1,1.2,1.4,{"$f":"IF(MAX(Calculs_Classif!N$58:N$62)>7,IF('Outil de classification'!E117=3,IntrusionVapeur_Classif!D11,IF('Outil de classification'!E117=2,IntrusionVapeur_Classif!C11,IF('Outil de classification'!E117=1,IntrusionVapeur_Classif!B11,\"\"))),IF('Outil de classification'!E$156=1,IF('Outil de classification'!E117=3,IntrusionVapeur_Classif!G11,IF('Outil de classification'!E117=2,IntrusionVapeur_Classif!F11,IF('Outil de classification'!E117=1,IntrusionVapeur_Classif!E11,\"\"))),IF('Outil de classification'!E117=3,IntrusionVapeur_Classif!J11,IF('Outil de classification'!E117=2,IntrusionVapeur_Classif!I11,IF('Outil de classification'!E117=1,IntrusionVapeur_Classif!H11,\"\")))))","v":""},{"$f":"IF('Outil de classification'!E134=1,M11,IF('Outil de classification'!E134=2,L11,K11))","v":1}]
["Chlorobenzène ",null,null,8,null,null,8,null,null,8,1,1.2,1.4,{"$f":"IF(MAX(Calculs_Classif!N$58:N$62)>7,IF('Outil de classification'!E118=3,IntrusionVapeur_Classif!D12,IF('Outil de classification'!E118=2,IntrusionVapeur_Classif!C12,IF('Outil de classification'!E118=1,IntrusionVapeur_Classif!B12,\"\"))),IF('Outil de classification'!E$156=1,IF('Outil de classification'!E118=3,IntrusionVapeur_Classif!G12,IF('Outil de classification'!E118=2,IntrusionVapeur_Classif!F12,IF('Outil de classification'!E118=1,IntrusionVapeur_Classif!E12,\"\"))),IF('Outil de classification'!E118=3,IntrusionVapeur_Classif!J12,IF('Outil de classification'!E118=2,IntrusionVapeur_Classif!I12,IF('Outil de classification'!E118=1,IntrusionVapeur_Classif!H12,\"\")))))","v":""},{"$f":"IF('Outil de classification'!E135=1,M12,IF('Outil de classification'!E135=2,L12,K12))","v":1}]
["Dichlorobenzene, 1,2- ",null,null,8,null,null,8,null,null,8,1,1.2,1.4,{"$f":"IF(MAX(Calculs_Classif!N$58:N$62)>7,IF('Outil de classification'!E119=3,IntrusionVapeur_Classif!D13,IF('Outil de classification'!E119=2,IntrusionVapeur_Classif!C13,IF('Outil de classification'!E119=1,IntrusionVapeur_Classif!B13,\"\"))),IF('Outil de classification'!E$156=1,IF('Outil de classification'!E119=3,IntrusionVapeur_Classif!G13,IF('Outil de classification'!E119=2,IntrusionVapeur_Classif!F13,IF('Outil de classification'!E119=1,IntrusionVapeur_Classif!E13,\"\"))),IF('Outil de classification'!E119=3,IntrusionVapeur_Classif!J13,IF('Outil de classification'!E119=2,IntrusionVapeur_Classif!I13,IF('Outil de classification'!E119=1,IntrusionVapeur_Classif!H13,\"\")))))","v":""},{"$f":"IF('Outil de classification'!E136=1,M13,IF('Outil de classification'!E136=2,L13,K13))","v":1}]
["Dichlorobenzene, 1,4- ",8,10,10,8,10,10,null,8,10,1,1.2,1.4,{"$f":"IF(MAX(Calculs_Classif!N$58:N$62)>7,IF('Outil de classification'!E120=3,IntrusionVapeur_Classif!D14,IF('Outil de classification'!E120=2,IntrusionVapeur_Classif!C14,IF('Outil de classification'!E120=1,IntrusionVapeur_Classif!B14,\"\"))),IF('Outil de classification'!E$156=1,IF('Outil de classification'!E120=3,IntrusionVapeur_Classif!G14,IF('Outil de classification'!E120=2,IntrusionVapeur_Classif!F14,IF('Outil de classification'!E120=1,IntrusionVapeur_Classif!E14,\"\"))),IF('Outil de classification'!E120=3,IntrusionVapeur_Classif!J14,IF('Outil de classification'!E120=2,IntrusionVapeur_Classif!I14,IF('Outil de classification'!E120=1,IntrusionVapeur_Classif!H14,\"\")))))","v":""},{"$f":"IF('Outil de classification'!E137=1,M14,IF('Outil de classification'!E137=2,L14,K14))","v":1}]
["HP C10-C50",8,10,10,null,8,10,null,null,8,1,1.2,1.4,{"$f":"IF(MAX(Calculs_Classif!N$58:N$62)>7,IF('Outil de classification'!E121=3,IntrusionVapeur_Classif!D15,IF('Outil de classification'!E121=2,IntrusionVapeur_Classif!C15,IF('Outil de classification'!E121=1,IntrusionVapeur_Classif!B15,\"\"))),IF('Outil de classification'!E$156=1,IF('Outil de classification'!E121=3,IntrusionVapeur_Classif!G15,IF('Outil de classification'!E121=2,IntrusionVapeur_Classif!F15,IF('Outil de classification'!E121=1,IntrusionVapeur_Classif!E15,\"\"))),IF('Outil de classification'!E121=3,IntrusionVapeur_Classif!J15,IF('Outil de classification'!E121=2,IntrusionVapeur_Classif!I15,IF('Outil de classification'!E121=1,IntrusionVapeur_Classif!H15,\"\")))))","v":""},{"$f":"IF('Outil de classification'!E138=1,M15,IF('Outil de classification'!E138=2,L15,K15))","v":1}]
["HAP légers",null,8,10,null,8,10,null,null,8,1,1.2,1.4,{"$f":"IF(MAX(Calculs_Classif!N$58:N$62)>7,IF('Outil de classification'!E122=3,IntrusionVapeur_Classif!D16,IF('Outil de classification'!E122=2,IntrusionVapeur_Classif!C16,IF('Outil de classification'!E122=1,IntrusionVapeur_Classif!B16,\"\"))),IF('Outil de classification'!E$156=1,IF('Outil de classification'!E122=3,IntrusionVapeur_Classif!G16,IF('Outil de classification'!E122=2,IntrusionVapeur_Classif!F16,IF('Outil de classification'!E122=1,IntrusionVapeur_Classif!E16,\"\"))),IF('Outil de classification'!E122=3,IntrusionVapeur_Classif!J16,IF('Outil de classification'!E122=2,IntrusionVapeur_Classif!I16,IF('Outil de classification'!E122=1,IntrusionVapeur_Classif!H16,\"\")))))","v":""},{"$f":"IF('Outil de classification'!E139=1,M16,IF('Outil de classification'!E139=2,L16,K16))","v":1}]
["Hydrocarbures aliphatiques chlorés",8,10,10,8,10,10,8,10,10,1,1.2,1.4,{"$f":"IF(MAX(Calculs_Classif!N$58:N$62)>7,IF('Outil de classification'!E123=3,IntrusionVapeur_Classif!D17,IF('Outil de classification'!E123=2,IntrusionVapeur_Classif!C17,IF('Outil de classification'!E123=1,IntrusionVapeur_Classif!B17,\"\"))),IF('Outil de classification'!E$156=1,IF('Outil de classification'!E123=3,IntrusionVapeur_Classif!G17,IF('Outil de classification'!E123=2,IntrusionVapeur_Classif!F17,IF('Outil de classification'!E123=1,IntrusionVapeur_Classif!E17,\"\"))),IF('Outil de classification'!E123=3,IntrusionVapeur_Classif!J17,IF('Outil de classification'!E123=2,IntrusionVapeur_Classif!I17,IF('Outil de classification'!E123=1,IntrusionVapeur_Classif!H17,\"\")))))","v":""},{"$f":"IF('Outil de classification'!E140=1,M17,IF('Outil de classification'!E140=2,L17,K17))","v":1}]
["Composés benzéniques non chlorés",8,10,10,8,10,10,8,10,10,1,1.2,1.4,{"$f":"IF(MAX(Calculs_Classif!N$58:N$62)>7,IF('Outil de classification'!E124=3,IntrusionVapeur_Classif!D18,IF('Outil de classification'!E124=2,IntrusionVapeur_Classif!C18,IF('Outil de classification'!E124=1,IntrusionVapeur_Classif!B18,\"\"))),IF('Outil de classification'!E$156=1,IF('Outil de classification'!E124=3,IntrusionVapeur_Classif!G18,IF('Outil de classification'!E124=2,IntrusionVapeur_Classif!F18,IF('Outil de classification'!E124=1,IntrusionVapeur_Classif!E18,\"\"))),IF('Outil de classification'!E124=3,IntrusionVapeur_Classif!J18,IF('Outil de classification'!E124=2,IntrusionVapeur_Classif!I18,IF('Outil de classification'!E124=1,IntrusionVapeur_Classif!H18,\"\")))))","v":""},{"$f":"IF('Outil de classification'!E141=1,M18,IF('Outil de classification'!E141=2,L18,K18))","v":1}]
["Biphényles polychlorés (BPC)",null,null,8,null,null,8,null,null,8,1,1.2,1.4,{"$f":"IF(MAX(Calculs_Classif!N$58:N$62)>7,IF('Outil de classification'!E125=3,IntrusionVapeur_Classif!D19,IF('Outil de classification'!E125=2,IntrusionVapeur_Classif!C19,IF('Outil de classification'!E125=1,IntrusionVapeur_Classif!B19,\"\"))),IF('Outil de classification'!E$156=1,IF('Outil de classification'!E125=3,IntrusionVapeur_Classif!G19,IF('Outil de classification'!E125=2,IntrusionVapeur_Classif!F19,IF('Outil de classification'!E125=1,IntrusionVapeur_Classif!E19,\"\"))),IF('Outil de classification'!E125=3,IntrusionVapeur_Classif!J19,IF('Outil de classification'!E125=2,IntrusionVapeur_Classif!I19,IF('Outil de classification'!E125=1,IntrusionVapeur_Classif!H19,\"\")))))","v":""},{"$f":"IF('Outil de classification'!E142=1,M19,IF('Outil de classification'!E142=2,L19,K19))","v":1}]
["Dioxines et furanes",null,null,8,null,null,8,null,null,8,1,1.2,1.4,{"$f":"IF(MAX(Calculs_Classif!N$58:N$62)>7,IF('Outil de classification'!E126=3,IntrusionVapeur_Classif!D20,IF('Outil de classification'!E126=2,IntrusionVapeur_Classif!C20,IF('Outil de classification'!E126=1,IntrusionVapeur_Classif!B20,\"\"))),IF('Outil de classification'!E$156=1,IF('Outil de classification'!E126=3,IntrusionVapeur_Classif!G20,IF('Outil de classification'!E126=2,IntrusionVapeur_Classif!F20,IF('Outil de classification'!E126=1,IntrusionVapeur_Classif!E20,\"\"))),IF('Outil de classification'!E126=3,IntrusionVapeur_Classif!J20,IF('Outil de classification'!E126=2,IntrusionVapeur_Classif!I20,IF('Outil de classification'!E126=1,IntrusionVapeur_Classif!H20,\"\")))))","v":""},{"$f":"IF('Outil de classification'!E143=1,M20,IF('Outil de classification'!E143=2,L20,K20))","v":1}]
[]
[]
["Eau souterraine"]
["Contaminants volatils","Usage associé aux critères B\nNappe superficielle\n(<1,2 m des fondations)",null,null,"Usage associé aux critères B\nNappe plus profonde\n(>1,2 m des fondations)",null,null,"Usage associé aux critères C\nNappe superficielle\n(<1,2 m des fondations)",null,null,"Usage associé aux critères C\nNappe plus profonde\n(>1,2 m des fondations)"]
[]
[]
[null,">LDR",">EC",">RES",">LDR",">EC",">RES",">LDR",">EC",">RES",">LDR",">EC",">RES",">50%","26-50%","1-25%"]
["Mercure",null,10,8,null,8,null,null,10,8,null,8,null,1,1.2,1.4,{"$f":"IF(MAX(Calculs_Classif!N$84:N$88)>7,IF('Outil de classification'!E$266=1,IF('Outil de classification'!E250=3,IntrusionVapeur_Classif!D28,IF('Outil de classification'!E250=2,IntrusionVapeur_Classif!C28,IF('Outil de classification'!E250=1,IntrusionVapeur_Classif!B28,\"\"))),IF('Outil de classification'!E250=3,IntrusionVapeur_Classif!G28,IF('Outil de classification'!E250=2,IntrusionVapeur_Classif!F28,IF('Outil de classification'!E250=1,IntrusionVapeur_Classif!E28,\"\")))),IF('Outil de classification'!E$266=1,IF('Outil de classification'!E250=3,IntrusionVapeur_Classif!J28,IF('Outil de classification'!E250=2,IntrusionVapeur_Classif!I28,IF('Outil de classification'!E250=1,IntrusionVapeur_Classif!H28,\"\"))),IF('Outil de classification'!E250=3,IntrusionVapeur_Classif!M28,IF('Outil de classification'!E250=2,IntrusionVapeur_Classif!L28,IF('Outil de classification'!E250=1,IntrusionVapeur_Classif!K28,\"\")))))","v":""},{"$f":"IF('Outil de classification'!E$267=1,P28,IF('Outil de classification'!E$267=2,O28,N28))","v":1}]
["Benzène ",8,10,null,null,8,10,null,8,10,null,null,8,1,1.2,1.4,{"$f":"IF(MAX(Calculs_Classif!N$84:N$88)>7,IF('Outil de classification'!E$266=1,IF('Outil de classification'!E251=3,IntrusionVapeur_Classif!D29,IF('Outil de classification'!E251=2,IntrusionVapeur_Classif!C29,IF('Outil de classification'!E251=1,IntrusionVapeur_Classif!B29,\"\"))),IF('Outil de classification'!E251=3,IntrusionVapeur_Classif!G29,IF('Outil de classification'!E251=2,IntrusionVapeur_Classif!F29,IF('Outil de classification'!E251=1,IntrusionVapeur_Classif!E29,\"\")))),IF('Outil de classification'!E$266=1,IF('Outil de classification'!E251=3,IntrusionVapeur_Classif!J29,IF('Outil de classification'!E251=2,IntrusionVapeur_Classif!I29,IF('Outil de classification'!E251=1,IntrusionVapeur_Classif!H29,\"\"))),IF('Outil de classification'!E251=3,IntrusionVapeur_Classif!M29,IF('Outil de classification'!E251=2,IntrusionVapeur_Classif!L29,IF('Outil de classification'!E251=1,IntrusionVapeur_Classif!K29,\"\")))))","v":""},{"$f":"IF('Outil de classification'!E$267=1,P29,IF('Outil de classification'!E$267=2,O29,N29))","v":1}]
["Ethylbenzène ",null,8,10,null,null,5,null,null,8,null,null,3,1,1.2,1.4,{"$f":"IF(MAX(Calculs_Classif!N$84:N$88)>7,IF('Outil de classification'!E$266=1,IF('Outil de classification'!E252=3,IntrusionVapeur_Classif!D30,IF('Outil de classification'!E252=2,IntrusionVapeur_Classif!C30,IF('Outil de classification'!E252=1,IntrusionVapeur_Classif!B30,\"\"))),IF('Outil de classification'!E252=3,IntrusionVapeur_Classif!G30,IF('Outil de classification'!E252=2,IntrusionVapeur_Classif!F30,IF('Outil de classification'!E252=1,IntrusionVapeur_Classif!E30,\"\")))),IF('Outil de classification'!E$266=1,IF('Outil de classification'!E252=3,IntrusionVapeur_Classif!J30,IF('Outil de classification'!E252=2,IntrusionVapeur_Classif!I30,IF('Outil de classification'!E252=1,IntrusionVapeur_Classif!H30,\"\"))),IF('Outil de classification'!E252=3,IntrusionVapeur_Classif!M30,IF('Outil de classification'!E252=2,IntrusionVapeur_Classif!L30,IF('Outil de classification'!E252=1,IntrusionVapeur_Classif!K30,\"\")))))","v":""},{"$f":"IF('Outil de classification'!E$267=1,P30,IF('Outil de classification'!E$267=2,O30,N30))","v":1}]
["Toluène ",null,null,8,null,null,5,null,null,5,null,null,3,1,1.2,1.4,{"$f":"IF(MAX(Calculs_Classif!N$84:N$88)>7,IF('Outil de classification'!E$266=1,IF('Outil de classification'!E253=3,IntrusionVapeur_Classif!D31,IF('Outil de classification'!E253=2,IntrusionVapeur_Classif!C31,IF('Outil de classification'!E253=1,IntrusionVapeur_Classif!B31,\"\"))),IF('Outil de classification'!E253=3,IntrusionVapeur_Classif!G31,IF('Outil de classification'!E253=2,IntrusionVapeur_Classif!F31,IF('Outil de classification'!E253=1,IntrusionVapeur_Classif!E31,\"\")))),IF('Outil de classification'!E$266=1,IF('Outil de classification'!E253=3,IntrusionVapeur_Classif!J31,IF('Outil de classification'!E253=2,IntrusionVapeur_Classif!I31,IF('Outil de classification'!E253=1,IntrusionVapeur_Classif!H31,\"\"))),IF('Outil de classification'!E253=3,IntrusionVapeur_Classif!M31,IF('Outil de classification'!E253=2,IntrusionVapeur_Classif!L31,IF('Outil de classification'!E253=1,IntrusionVapeur_Classif!K31,\"\")))))","v":""},{"$f":"IF('Outil de classification'!E$267=1,P31,IF('Outil de classification'!E$267=2,O31,N31))","v":1}]
["Xylènes",null,8,10,null,null,5,null,null,8,null,null,3,1,1.2,1.4,{"$f":"IF(MAX(Calculs_Classif!N$84:N$88)>7,IF('Outil de classification'!E$266=1,IF('Outil de classification'!E254=3,IntrusionVapeur_Classif!D32,IF('Outil de classification'!E254=2,IntrusionVapeur_Classif!C32,IF('Outil de classification'!E254=1,IntrusionVapeur_Classif!B32,\"\"))),IF('Outil de classification'!E254=3,IntrusionVapeur_Classif!G32,IF('Outil de classification'!E254=2,IntrusionVapeur_Classif!F32,IF('Outil de classification'!E254=1,IntrusionVapeur_Classif!E32,\"\")))),IF('Outil de classification'!E$266=1,IF('Outil de classification'!E254=3,IntrusionVapeur_Classif!J32,IF('Outil de classification'!E254=2,IntrusionVapeur_Classif!I32,IF('Outil de classification'!E254=1,IntrusionVapeur_Classif!H32,\"\"))),IF('Outil de classification'!E254=3,IntrusionVapeur_Classif!M32,IF('Outil de classification'!E254=2,IntrusionVapeur_Classif!L32,IF('Outil de classification'!E254=1,IntrusionVapeur_Classif!K32,\"\")))))","v":""},{"$f":"IF('Outil de classification'!E$267=1,P32,IF('Outil de classification'!E$267=2,O32,N32))","v":1}]
["Styrène ",null,8,10,null,null,5,null,null,8,null,null,3,1,1.2,1.4,{"$f":"IF(MAX(Calculs_Classif!N$84:N$88)>7,IF('Outil de classification'!E$266=1,IF('Outil de classification'!E255=3,IntrusionVapeur_Classif!D33,IF('Outil de classification'!E255=2,IntrusionVapeur_Classif!C33,IF('Outil de classification'!E255=1,IntrusionVapeur_Classif!B33,\"\"))),IF('Outil de classification'!E255=3,IntrusionVapeur_Classif!G33,IF('Outil de classification'!E255=2,IntrusionVapeur_Classif!F33,IF('Outil de classification'!E255=1,IntrusionVapeur_Classif!E33,\"\")))),IF('Outil de classification'!E$266=1,IF('Outil de classification'!E255=3,IntrusionVapeur_Classif!J33,IF('Outil de classification'!E255=2,IntrusionVapeur_Classif!I33,IF('Outil de classification'!E255=1,IntrusionVapeur_Classif!H33,\"\"))),IF('Outil de classification'!E255=3,IntrusionVapeur_Classif!M33,IF('Outil de classification'!E255=2,IntrusionVapeur_Classif!L33,IF('Outil de classification'!E255=1,IntrusionVapeur_Classif!K33,\"\")))))","v":""},{"$f":"IF('Outil de classification'!E$267=1,P33,IF('Outil de classification'!E$267=2,O33,N33))","v":1}]
["Chlorobenzène ",null,null,8,null,null,5,null,null,5,null,null,3,1,1.2,1.4,{"$f":"IF(MAX(Calculs_Classif!N$84:N$88)>7,IF('Outil de classification'!E$266=1,IF('Outil de classification'!E256=3,IntrusionVapeur_Classif!D34,IF('Outil de classification'!E256=2,IntrusionVapeur_Classif!C34,IF('Outil de classification'!E256=1,IntrusionVapeur_Classif!B34,\"\"))),IF('Outil de classification'!E256=3,IntrusionVapeur_Classif!G34,IF('Outil de classification'!E256=2,IntrusionVapeur_Classif!F34,IF('Outil de classification'!E256=1,IntrusionVapeur_Classif!E34,\"\")))),IF('Outil de classification'!E$266=1,IF('Outil de classification'!E256=3,IntrusionVapeur_Classif!J34,IF('Outil de classification'!E256=2,IntrusionVapeur_Classif!I34,IF('Outil de classification'!E256=1,IntrusionVapeur_Classif!H34,\"\"))),IF('Outil de classification'!E256=3,IntrusionVapeur_Classif!M34,IF('Outil de classification'!E256=2,IntrusionVapeur_Classif!L34,IF('Outil de classification'!E256=1,IntrusionVapeur_Classif!K34,\"\")))))","v":""},{"$f":"IF('Outil de classification'!E$267=1,P34,IF('Outil de classification'!E$267=2,O34,N34))","v":1}]
["Dichlorobenzene, 1,2- ",null,8,null,null,null,5,null,null,5,null,null,3,1,1.2,1.4,{"$f":"IF(MAX(Calculs_Classif!N$84:N$88)>7,IF('Outil de classification'!E$266=1,IF('Outil de classification'!E257=3,IntrusionVapeur_Classif!D35,IF('Outil de classification'!E257=2,IntrusionVapeur_Classif!C35,IF('Outil de classification'!E257=1,IntrusionVapeur_Classif!B35,\"\"))),IF('Outil de classification'!E257=3,IntrusionVapeur_Classif!G35,IF('Outil de classification'!E257=2,IntrusionVapeur_Classif!F35,IF('Outil de classification'!E257=1,IntrusionVapeur_Classif!E35,\"\")))),IF('Outil de classification'!E$266=1,IF('Outil de classification'!E257=3,IntrusionVapeur_Classif!J35,IF('Outil de classification'!E257=2,IntrusionVapeur_Classif!I35,IF('Outil de classification'!E257=1,IntrusionVapeur_Classif!H35,\"\"))),IF('Outil de classification'!E257=3,IntrusionVapeur_Classif!M35,IF('Outil de classification'!E257=2,IntrusionVapeur_Classif!L35,IF('Outil de classification'!E257=1,IntrusionVapeur_Classif!K35,\"\")))))","v":""},{"$f":"IF('Outil de classification'!E$267=1,P35,IF('Outil de classification'!E$267=2,O35,N35))","v":1}]
["Dichlorobenzene, 1,4- ",8,10,null,null,8,10,null,8,10,null,null,8,1,1.2,1.4,{"$f":"IF(MAX(Calculs_Classif!N$84:N$88)>7,IF('Outil de classification'!E$266=1,IF('Outil de classification'!E258=3,IntrusionVapeur_Classif!D36,IF('Outil de classification'!E258=2,IntrusionVapeur_Classif!C36,IF('Outil de classification'!E258=1,IntrusionVapeur_Classif!B36,\"\"))),IF('Outil de classification'!E258=3,IntrusionVapeur_Classif!G36,IF('Outil de classification'!E258=2,IntrusionVapeur_Classif!F36,IF('Outil de classification'!E258=1,IntrusionVapeur_Classif!E36,\"\")))),IF('Outil de classification'!E$266=1,IF('Outil de classification'!E258=3,IntrusionVapeur_Classif!J36,IF('Outil de classification'!E258=2,IntrusionVapeur_Classif!I36,IF('Outil de classification'!E258=1,IntrusionVapeur_Classif!H36,\"\"))),IF('Outil de classification'!E258=3,IntrusionVapeur_Classif!M36,IF('Outil de classification'!E258=2,IntrusionVapeur_Classif!L36,IF('Outil de classification'!E258=1,IntrusionVapeur_Classif!K36,\"\")))))","v":""},{"$f":"IF('Outil de classification'!E$267=1,P36,IF('Outil de classification'!E$267=2,O36,N36))","v":1}]
["HP C10-C50",8,null,10,null,null,8,8,null,10,null,null,3,1,1.2,1.4,{"$f":"IF(MAX(Calculs_Classif!N$84:N$88)>7,IF('Outil de classification'!E$266=1,IF('Outil de classification'!E259=3,IntrusionVapeur_Classif!D37,IF('Outil de classification'!E259=2,IntrusionVapeur_Classif!C37,IF('Outil de classification'!E259=1,IntrusionVapeur_Classif!B37,\"\"))),IF('Outil de classification'!E259=3,IntrusionVapeur_Classif!G37,IF('Outil de classification'!E259=2,IntrusionVapeur_Classif!F37,IF('Outil de classification'!E259=1,IntrusionVapeur_Classif!E37,\"\")))),IF('Outil de classification'!E$266=1,IF('Outil de classification'!E259=3,IntrusionVapeur_Classif!J37,IF('Outil de classification'!E259=2,IntrusionVapeur_Classif!I37,IF('Outil de classification'!E259=1,IntrusionVapeur_Classif!H37,\"\"))),IF('Outil de classification'!E259=3,IntrusionVapeur_Classif!M37,IF('Outil de classification'!E259=2,IntrusionVapeur_Classif!L37,IF('Outil de classification'!E259=1,IntrusionVapeur_Classif!K37,\"\")))))","v":""},{"$f":"IF('Outil de classification'!E$267=1,P37,IF('Outil de classification'!E$267=2,O37,N37))","v":1}]
["HAP légers",8,null,10,null,null,8,8,null,10,null,null,3,1,1.2,1.4,{"$f":"IF(MAX(Calculs_Classif!N$84:N$88)>7,IF('Outil de classification'!E$266=1,IF('Outil de classification'!E260=3,IntrusionVapeur_Classif!D38,IF('Outil de classification'!E260=2,IntrusionVapeur_Classif!C38,IF('Outil de classification'!E260=1,IntrusionVapeur_Classif!B38,\"\"))),IF('Outil de classification'!E260=3,IntrusionVapeur_Classif!G38,IF('Outil de classification'!E260=2,IntrusionVapeur_Classif!F38,IF('Outil de classification'!E260=1,IntrusionVapeur_Classif!E38,\"\")))),IF('Outil de classification'!E$266=1,IF('Outil de classification'!E260=3,IntrusionVapeur_Classif!J38,IF('Outil de classification'!E260=2,IntrusionVapeur_Classif!I38,IF('Outil de classification'!E260=1,IntrusionVapeur_Classif!H38,\"\"))),IF('Outil de classification'!E260=3,IntrusionVapeur_Classif!M38,IF('Outil de classification'!E260=2,IntrusionVapeur_Classif!L38,IF('Outil de classification'!E260=1,IntrusionVapeur_Classif!K38,\"\")))))","v":""},{"$f":"IF('Outil de classification'!E$267=1,P38,IF('Outil de classification'!E$267=2,O38,N38))","v":1}]
["Hydrocarbures aliphatiques chlorés",10,null,null,8,null,null,10,null,null,8,null,null,1,1.2,1.4,{"$f":"IF(MAX(Calculs_Classif!N$84:N$88)>7,IF('Outil de classification'!E$266=1,IF('Outil de classification'!E261=3,IntrusionVapeur_Classif!D39,IF('Outil de classification'!E261=2,IntrusionVapeur_Classif!C39,IF('Outil de classification'!E261=1,IntrusionVapeur_Classif!B39,\"\"))),IF('Outil de classification'!E261=3,IntrusionVapeur_Classif!G39,IF('Outil de classification'!E261=2,IntrusionVapeur_Classif!F39,IF('Outil de classification'!E261=1,IntrusionVapeur_Classif!E39,\"\")))),IF('Outil de classification'!E$266=1,IF('Outil de classification'!E261=3,IntrusionVapeur_Classif!J39,IF('Outil de classification'!E261=2,IntrusionVapeur_Classif!I39,IF('Outil de classification'!E261=1,IntrusionVapeur_Classif!H39,\"\"))),IF('Outil de classification'!E261=3,IntrusionVapeur_Classif!M39,IF('Outil de classification'!E261=2,IntrusionVapeur_Classif!L39,IF('Outil de classification'!E261=1,IntrusionVapeur_Classif!K39,\"\")))))","v":""},{"$f":"IF('Outil de classification'!E$267=1,P39,IF('Outil de classification'!E$267=2,O39,N39))","v":1}]
["Composés benzéniques non chlorés",10,null,null,8,null,null,10,null,null,8,null,null,1,1.2,1.4,{"$f":"IF(MAX(Calculs_Classif!N$84:N$88)>7,IF('Outil de classification'!E$266=1,IF('Outil de classification'!E262=3,IntrusionVapeur_Classif!D40,IF('Outil de classification'!E262=2,IntrusionVapeur_Classif!C40,IF('Outil de classification'!E262=1,IntrusionVapeur_Classif!B40,\"\"))),IF('Outil de classification'!E262=3,IntrusionVapeur_Classif!G40,IF('Outil de classification'!E262=2,IntrusionVapeur_Classif!F40,IF('Outil de classification'!E262=1,IntrusionVapeur_Classif!E40,\"\")))),IF('Outil de classification'!E$266=1,IF('Outil de classification'!E262=3,IntrusionVapeur_Classif!J40,IF('Outil de classification'!E262=2,IntrusionVapeur_Classif!I40,IF('Outil de classification'!E262=1,IntrusionVapeur_Classif!H40,\"\"))),IF('Outil de classification'!E262=3,IntrusionVapeur_Classif!M40,IF('Outil de classification'!E262=2,IntrusionVapeur_Classif!L40,IF('Outil de classification'!E262=1,IntrusionVapeur_Classif!K40,\"\")))))","v":""},{"$f":"IF('Outil de classification'!E$267=1,P40,IF('Outil de classification'!E$267=2,O40,N40))","v":1}]
["Biphényles polychlorés (BPC)",8,10,null,null,8,null,null,8,null,null,null,5,1,1.2,1.4,{"$f":"IF(MAX(Calculs_Classif!N$84:N$88)>7,IF('Outil de classification'!E$266=1,IF('Outil de classification'!E263=3,IntrusionVapeur_Classif!D41,IF('Outil de classification'!E263=2,IntrusionVapeur_Classif!C41,IF('Outil de classification'!E263=1,IntrusionVapeur_Classif!B41,\"\"))),IF('Outil de classification'!E263=3,IntrusionVapeur_Classif!G41,IF('Outil de classification'!E263=2,IntrusionVapeur_Classif!F41,IF('Outil de classification'!E263=1,IntrusionVapeur_Classif!E41,\"\")))),IF('Outil de classification'!E$266=1,IF('Outil de classification'!E263=3,IntrusionVapeur_Classif!J41,IF('Outil de classification'!E263=2,IntrusionVapeur_Classif!I41,IF('Outil de classification'!E263=1,IntrusionVapeur_Classif!H41,\"\"))),IF('Outil de classification'!E263=3,IntrusionVapeur_Classif!M41,IF('Outil de classification'!E263=2,IntrusionVapeur_Classif!L41,IF('Outil de classification'!E263=1,IntrusionVapeur_Classif!K41,\"\")))))","v":""},{"$f":"IF('Outil de classification'!E$267=1,P41,IF('Outil de classification'!E$267=2,O41,N41))","v":1}]
["Dioxines et furanes",null,8,null,null,null,3,null,null,5,null,null,3,1,1.2,1.4,{"$f":"IF(MAX(Calculs_Classif!N$84:N$88)>7,IF('Outil de classification'!E$266=1,IF('Outil de classification'!E264=3,IntrusionVapeur_Classif!D42,IF('Outil de classification'!E264=2,IntrusionVapeur_Classif!C42,IF('Outil de classification'!E264=1,IntrusionVapeur_Classif!B42,\"\"))),IF('Outil de classification'!E264=3,IntrusionVapeur_Classif!G42,IF('Outil de classification'!E264=2,IntrusionVapeur_Classif!F42,IF('Outil de classification'!E264=1,IntrusionVapeur_Classif!E42,\"\")))),IF('Outil de classification'!E$266=1,IF('Outil de classification'!E264=3,IntrusionVapeur_Classif!J42,IF('Outil de classification'!E264=2,IntrusionVapeur_Classif!I42,IF('Outil de classification'!E264=1,IntrusionVapeur_Classif!H42,\"\"))),IF('Outil de classification'!E264=3,IntrusionVapeur_Classif!M42,IF('Outil de classification'!E264=2,IntrusionVapeur_Classif!L42,IF('Outil de classification'!E264=1,IntrusionVapeur_Classif!K42,\"\")))))","v":""},{"$f":"IF('Outil de classification'!E$267=1,P42,IF('Outil de classification'!E$267=2,O42,N42))","v":1}]

{"sheet":"Menus_Classif","index":8,"n_rows":64,"n_cols":18,"rows_kept":64,"cut":false,"hidden":true,"merged":[]}
[null,null,"Sols",null,"Eau sout superfic",null,"Résidus miniers (classification)",null,"Eau de surface",null,"Sédiments",null,null,null,null,"Sols"]
[null,null,null,null,"< Directive 019",null,null,null,"> Directive 019"]
["Oui",null,"< B",null,"> Directive 019",null,"À faible risques (<Critère A)",null,"> CVAA",null,"Oui",null,"> 10 hectares (ha) ou 10 000 m3",null,"Oui","< B","Oui"]
["Non",null,"B-C",null,"> RES",null,"Lixiviables (>PES mais < Tableau 1, Annexe 2)",null,"> CVAC",null,"Non",null,"2 à 10 ha ou 1 000 à 10 000 m3",null,"Non","B-C","Possible"]
["Non anticipé (sur la base de la phase I ou connaissance du site)",null,"C-RESC",null,"> Seuil d'alerte",null,"Acidogènes (PN/PA >3 ou PNN< 20kg CaCO3/t)",null,"< Critère",null,null,null,"< 2 ha ou 1 000 m3",null,null,"C-RESC","Non"]
[null,null,"> RESC",null,"< Seuil d'alerte",null,"Cyanurés ",null,"Non anticipé",null,null,null,"Ne sais pas",null,null,"> RESC"]
[null,null,"Non anticipé",null,"Non anticipé",null,"Contaminés par des composés organiques (> Critère B)",null,null,null,null,null,null,null,null,"Non anticipé"]
[null,null,"Non",null,null,null,"Radioactifs (S>1)",null,null,null,"Condition terrain"]
[null,null,null,null,null,null,"Inflammable (point éclair <61⁰)",null,null,null,"Faible",null,">SI-A-2 (subsurface)"]
["Neige",null,null,null,"Sols surf",null,"À risques élevés (> Tableau 1, Annexe 2)",null,null,null,"Moyen",null,"Entre SI-A-2 et SI-A-2 (subsurface)"]
[null,null,"< A",null,"Sols à nu avec circulation",null,null,null,"Non",null,"Élevé",null,"Entre SI-A-1 et SI-A-2"]
["Déneigé régulièrement (0 à 10 % de l'année)",null,"A-B",null,"Sols à nu sans circulation",null,null,null,"Centre de la petite enfance, garderie",null,"Non applicable",null,"<SI-A-1",null,null,null,"Effuent","Pondération"]
["Si non déneigé, sud du 48è parallèle (10 à 30 % de l'année)",null,"B-C",null,"Végétalisés",null,null,null,"Établissement d’enseignement primaire",null,null,null,"Non anticipé"]
["Si non déneigé, nord du 48è parallèle (>30 % de l'année)",null,"C-RESC",null,"Pavés / bétonnés",null,null,null,"Établissement d’enseignement secondaire",null,null,null,null,null,null,null,"> Normes en vigueur pour le secteur d'activité",10]
[null,null,"> RESC",null,null,null,"Accessible",null,"Autre usage accueillant des enfants",null,"<A",null,"Eau sout prof",null,"Eau sout - HPC10C50",null,"< Normes",5]
["Accessibilité",null,"Non anticipé",null,"Prox eau surf",null,"Peu accessible",null,null,null,"A-B",null,"> EC",null,">10x LDR",null,"Non anticipé (non-mésuré)",0]
[null,null,"Non",null,null,null,"Non accessible",null,null,null,"B-C",null,"> Seuil d'alerte",null,"Entre 1-10x LDR"]
["Peu de restriction d'accès, contaminants non recouverts.",null,null,null,"0 à <100 m",null,null,null,"Milieu naturel",null,">C",null,"< Seuil d'alerte",null,"<LDR"]
["Accès contrôlé ou endroit éloigné; contaminants non recouverts.",null,null,null,"100 - 300 m",null,null,null,"Agricole",null,"Non anticipé",null,"Non anticipé",null,"Non anticipé",null,"Résidus miniers (teneurs)"]
["Peu de restriction d'accès, contaminants recouverts.",null,null,null,">300 m",null,null,null,"Résidentiel/institutionnel sensible",null,null,null,null,null,null,null,"< A"]
["Accès contrôlé ou endroit éloigné; contaminants recouverts.",null,null,null,null,null,null,null,"Commercial/institutionnel non sensible/chaussée, trottoir ou parc",null,null,null,">0,1%",null,null,null,"A-B"]
[null,null,null,null,null,null,null,null,"Industriel",null,null,null,"<0,1%",null,null,null,"B-C"]
[null,null,null,null,null,null,null,null,null,null,null,null,"Non anticipé",null,null,null,"C-RESC"]
["Topo",null,"Superficie",null,"Strati Sol Milieu aqua",null,"Aucun confinement",null,"Espèce à statut particulier",null,null,null,null,null,"Oui, bâtiment(s) occupé(s), usage résidentiel/institutionnel",null,"> RESC"]
[null,null,null,null,null,null,"Confinement partiel",null,"Milieu humide",null,">RES",null,">GW2-2",null,"Oui, bâtiment(s) occupé(s), usage commercial/industriel",null,"Non anticipé"]
["Pente forte (>27 degrés ou >50 %)",null,">50 %",null,"Sable",null,"Confinement intact",null,"Non",null,">EC",null,"Entre GW2-1 et GW2-2",null,"Oui, bâtiment(s) vacant(s)"]
["Pente moyenne (3-27 degrés ou 5-50 %)",null,"26-50 %",null,"Silt",null,null,null,null,null,">LDR",null,"<GW2-1",null,"Non",null,"Lixiviat de résidus miniers","pondération"]
["Pente faible (<3 degrés ou <5 %)",null,"1-25 %",null,"Argile",null,null,null,null,null,"<LDR",null,"Non anticipé"]
[null,null,"0 %",null,"Surface pavée",null,null,null,"Sable",null,"Non anticipé",null,null,null,null,null,"> Tableau 1 (Annexe 2 D019)",10]
[null,null,null,null,null,null,null,null,"Silt ou argile",null,null,null,null,null,"Temps plein",null,"< Tableau 1 (Annexe 2 D019)",5]
[null,null,null,null,null,null,null,null,null,null,null,null,null,null,"Temps partiel",null,"Non anticipé",0]
[null,null,null,null,null,null,null,null,null,null,null,null,null,null,"Aucun usage institutionnel sensible"]
["Berge",null,"Oui",null,"Instabilité importante et reconnue (talus déformé)"]
["Plaine inondable",null,"Non",null,"Instabilité de certains secteurs (visible et/ou documentée)"]
["Faible",null,"Anticipé",null,"Érosion dans les talus",null,null,null,null,null,null,null,null,null,null,null,"Soufre"]
["Nul",null,null,null,"Aucune instabilité"]
[null,null,null,null,null,null,null,null,null,null,null,null,null,null,null,null,"> 0,3%"]
["Sécurisation",null,null,null,"Ouvertures/ Infrastructures souterraines",null,"bâtiments/ parois / pentes",null,"Ouvrages de retenu",null,null,null,"Point éclair",null,null,null,"< 0,3%"]
[null,null,null,null,null,null,null,null,null,null,null,null,null,null,null,null,"Non-anticipé"]
["Oui (risque connu ou fortement soupçonné)",null,null,null,"Oui (ouvertures non-sécurisées)",null,"Oui (structure non-sécurisée)",null,"Oui (risque documenté lors d'une inspection géotechnique ou fortement soupçonné)",null,null,null,"< 37,8⁰C = Inflammable"]
["Non (aucun risque connu ni fortement soupçonné)",null,null,null,"Oui (ouvertures sécurisées)",null,"Oui (structure sécurisée)",null,"Non (aucun risque connu ni fortement soupçonné)",null,null,null,"> 37,8⁰C ",null,null,null,"Rayonnement ionisant (S)"]
["Non anticipé (sur la base de l'inspection réalisée ou connaissance du site)",null,null,null,"Non (absentes ou non-rapportées)",null,"Non",null,"Non anticipé (sur la base de l'inspection réalisée ou connaissance du site)",null,null,null,null,null,null,null,"S> 1"]
[null,null,null,null,null,null,null,null,null,null,null,null,null,null,null,null,"S< 1"]
["Classification ",null,null,null,null,null,null,null,null,null,null,null,null,null,null,null,"Non-anticipé"]
["Oui"]
["Non"]
["Non anticipé"]
[]
["Classification ",null,null,null,"Classification cyanure",null,"Classification lixiviable"]
["Oui (>RESC)",null,null,null,"Oui (>D019)",null,"Oui"]
["Oui (C-RESC)",null,null,null,"Non",null,"Non"]
["Non",null,null,null,"Non anticipé",null,"Non anticipé"]
["Non anticipé",null,null,null,null,null,"Zone d'incertitude avec un potentiel de DMA ou autre lixiviation de contaminants à moyen/long terme"]
[]
["Général LQE"]
["Cessation d'une activité désignée (A31.51 LQE)",null,null,null,"Granulométrie MRND ou MDR"]
["Changement d'usage (A31.53 LQE)",null,null,null,"Granulométrie fine"]
["Non",null,null,null,"Granulométrie grossière"]
[]
["Dangers immédiats"]
["Oui, connu"]
["Appréhendé"]
["Non appréhendé"]
["Non, connu"]

{"sheet":"Outil de priorisation des rehab","index":9,"n_rows":124,"n_cols":10,"rows_kept":124,"cut":false,"hidden":false,"merged":[[0,1,1,5],[2,3,9,5],[20,4,20,7],[20,8,20,9],[21,1,21,2],[21,4,21,7],[21,8,21,9],[24,1,24,2],[24,4,24,7],[24,8,24,9],[25,1,25,2],[25,4,25,7],[25,8,25,9],[22,1,22,2],[22,4,22,7],[22,8,22,9],[23,1,23,2],[23,4,23,7],[23,8,23,9],[28,1,28,2],[28,4,28,7],[28,8,28,9],[29,1,29,2],[29,4,29,7],[29,8,29,9],[26,1,26,2],[26,4,26,7],[26,8,26,9],[27,1,27,2],[27,4,27,7],[27,8,27,9],[33,1,33,3],[33,4,33,7],[33,8,33,9],[34,1,34,3],[35,1,35,3],[36,4,36,7],[36,8,36,9],[30,1,30,2],[30,4,30,7],[30,8,30,9],[31,1,31,2],[31,4,31,7],[31,8,31,9],[40,4,40,7],[40,8,40,9],[41,1,41,3],[42,4,42,7],[42,8,42,9],[43,4,43,7],[43,8,43,9],[37,4,37,7],[37,8,37,9],[38,4,38,7],[38,8,38,9],[39,4,39,7],[39,8,39,9],[49,1,49,3],[50,1,50,2],[50,4,50,7],[50,8,50,9],[51,1,51,2],[51,4,51,7],[51,8,51,9],[44,1,44,2],[44,4,44,7],[44,8,44,9],[45,1,45,3],[47,2,47,3],[48,1,48,3],[46,4,46,7],[46,8,46,9],[47,4,47,7],[47,8,47,9],[55,1,55,2],[55,4,55,7],[55,8,55,9],[56,1,56,3],[57,1,57,2],[58,2,58,3],[52,1,52,3],[53,1,53,2],[53,4,53,7],[53,8,53,9],[54,1,54,2],[54,4,54,7],[54,8,54,9],[57,4,57,7],[57,8,57,9],[58,4,58,7],[58,8,58,9],[79,1,79,2],[80,1,80,2],[83,3,84,3],[88,1,89,2],[92,3,93,3],[96,4,96,7],[59,1,59,2],[63,1,63,2],[64,1,64,2],[67,3,68,3],[72,1,72,2],[75,3,76,3],[61,2,61,3],[101,4,101,7],[101,8,101,9],[102,4,102,7],[102,8,102,9],[103,4,103,7],[103,8,103,9],[96,8,96,9],[97,1,97,3],[98,4,98,7],[98,8,98,9],[99,1,99,3],[100,1,100,2],[100,4,100,7],[100,8,100,9],[113,2,113,3],[115,2,115,3],[117,2,117,3],[119,2,119,3],[107,1,107,2],[107,4,107,7],[107,8,107,9],[108,1,108,3],[104,1,104,3],[105,4,105,7],[105,8,105,9],[106,1,106,2],[106,4,106,7],[106,8,106,9]]}
[null,"OUTIL DE PRIORISATION DE l'INTERVENTION EN RÉHABILITATION                                                        SITES CONTAMINÉS SELON LES CRITÈRES DE CONSTATATION DE LA NORME COMPTABLE"]
[]
[]
[null,"Effectué par :"]
[null,"Organisation : "]
[null,"Date (année-mois-jour) :"]
[null,"Version no. : "]
[null,"Révisé par :"]
[null,"Révision no. : "]
[null,"Date (année-mois-jour) :"]
[]
[null,"Légende :","Renseignement obligatoire (format choix de réponse)"]
[]
[null,null,"Renseignement obligatoire (format texte)"]
[]
[null,null,"Laisser vide ou ne pas éditer"]
[]
[null,null,"Notes ou références à inscrire au besoin"]
[]
[]
["1.","Généralités",null,null,"Justificatif",null,null,null,"Références"]
["1.1","Nom du site "]
["1.2","Étiquette d'identification de la fiche synthèse du PTSC et numéro de dossier interne"]
["1.3","Propriétaire ou locataire "]
["1.4","Adresse du site "]
["1.5","Latitude (NAD 83)"]
["1.6","Longitude (NAD 83)"]
["1.7","Numéro de lot et cadastre"]
["1.8","Activités désignées à l'annexe III du RPRT qui s'exercent ou se sont exercées sur le site (inscrire le ou les codes SCIAN)"]
["1.9","Est-ce qu'une cessation d'une activité désignée (A31.51 LQE) ou un changement d'usage (A31.53 LQE) est prévu?"]
["1.10","Superficie approximative du site (m2) "]
["1.11","Est-ce que le site est un site minier?"]
[]
["2.","Dangers immédiats (Section présente dans chaque méthode commune - doit être actualisée périodiquement)",null,null,"Justificatif",null,null,null,"Références"]
["2-A","Toxicologie et écotoxicologie"]
["2-A.1","Effets néfastes sur des personnes (toxicologie)"]
["2-A.1.1","Dépassement des normes dans l'eau potable"]
["2-A.1.2","Potager ou culture sur sols contaminés "]
["2-A.1.3","Substance radioactive ou danger biologique (bactéries, virus, moisissures, déjections animales, etc.) exposé et non confiné"]
["2-A.1.4","Vapeurs contaminées dans l'air intérieur d'un bâtiment"]
["2-A.1.5","Risque d'explosion lié à la présence de gaz dans un bâtiment ou une structure "]
["2-A.2","Effets néfastes sur les récepteurs écologiques (écotoxicologie)"]
["2-A.2.1","Résurgence d'une phase libre ou autre effluent toxique dans un cours d'eau"]
["2-A.2.2","Constat d'impacts manifestes et importants sur la faune ou la flore"]
["2-A.2.3","Source de contamination active présentant un danger immédiat pouvant être mitigé rapidement"]
["2-A.3","Autre"]
["2-A.3.1","Autre danger immédiat toxicologique ou écotoxicologique"]
["2-A.3.2","Description :"]
["2-B","Sécurisation (Risques nécessitant des travaux de sécurisation ou ayant fait l'objet de travaux partiels )"]
["2-B.1","Potentiel d'effondrement ou ouverture en surface"]
["2-B.1.1","Ouvertures profondes non sécurisées à partir de la surface  "]
["2-B.1.2","Infrastructures souterraines potentiellement instables et non sécurisées"]
["2-B.2","Instabilité physique"]
["2-B.2.1","Bâtiments ou infrastructures délabrés et non sécurisés"]
["2-B.2.2","Risque de chute ou d'ensevelissement"]
["2-B.2.3","Ouvrages de retenue potentiellement à risque de bris/défaut"]
["2-B.3","Autre"]
["2-B.3.1","Autre risque de sécurisation"]
["2-B.3.2","Description :"]
["2-C","Si un danger immédiat est identifié ou appréhendé, une cote DI-1 est obtenue et une action urgente est requise. Le processus de priorisation devra être poursuivi uniquement lorsque la situation aura été régularisée (risque mitigé ou calendrier d'intervention établi par une ressource compétente).",null,{"$f":"IF(OR(D37=\"Oui, connu\",D37=\"Appréhendé\",D38=\"Oui, connu\",D38=\"Appréhendé\",D39=\"Oui, connu\",D39=\"Appréhendé\",D40=\"Oui, connu\",D40=\"Appréhendé\",D41=\"Oui, connu\",D41=\"Appréhendé\",D43=\"Oui, connu\",D43=\"Appréhendé\",D44=\"Oui, connu\",D44=\"Appréhendé\",D45=\"Oui, connu\",D45=\"Appréhendé\",D47=\"Oui, connu\",D47=\"Appréhendé\",D51=\"Oui, connu\",D51=\"Appréhendé\",D52=\"Oui, connu\",D52=\"Appréhendé\",D54=\"Oui, connu\",D54=\"Appréhendé\",D55=\"Oui, connu\",D55=\"Appréhendé\",D56=\"Oui, connu\",D56=\"Appréhendé\",D58=\"Oui, connu\",D58=\"Appréhendé\"),\"DI-1\",IF(AND(OR(D37=\"Non, connu\",D37=\"Non appréhendé\"),OR(D38=\"Non, connu\",D38=\"Non appréhendé\"),OR(D39=\"Non, connu\",D39=\"Non appréhendé\"),OR(D40=\"Non, connu\",D40=\"Non appréhendé\"),OR(D41=\"Non, connu\",D41=\"Non appréhendé\"),OR(D43=\"Non, connu\",D43=\"Non appréhendé\"),OR(D44=\"Non, connu\",D44=\"Non appréhendé\"),OR(D45=\"Non, connu\",D45=\"Non appréhendé\"),OR(D47=\"Non, connu\",D47=\"Non appréhendé\"),OR(D51=\"Non, connu\",D51=\"Non appréhendé\"),OR(D52=\"Non, connu\",D52=\"Non appréhendé\"),OR(D54=\"Non, connu\",D54=\"Non appréhendé\"),OR(D55=\"Non, connu\",D55=\"Non appréhendé\"),OR(D56=\"Non, connu\",D56=\"Non appréhendé\"),OR(D58=\"Non, connu\",D58=\"Non appréhendé\")),\"DI-0\",\"\"))","v":""},null,null,null,null,true,false]
[]
[null,"Décrire les actions de mitigation réalisées, le calendrier d'intervention établi ou les vérifications liées à un danger immédiat appréhendé qui ont infirmé le doute :"]
[]
["3.","Exigences légales"]
["3.1","Est-ce qu'un délai pour entreprendre des travaux de réhabilitation est prescrit par une loi, un règlement, une ordonnance, demande d'autorisation en vertu de l'article 22 de LQE, etc.?"]
["3.2",null,"Si oui : "]
["3.3",null,"- Indiquer le délai "]
["3.4",null,"- Préciser cette exigence et joindre document de référence"]
[]
["3.5",null,"Si non : Poursuivre le processus de priorisation"]
[]
["4.","Exigences administratives "]
["4.1","Est-ce qu'un délai pour entreprendre des travaux de réhabilitation est prévu par une exigence administrative (source de financement, travaux connexes, plan d’action ministériel ou sectoriel, besoins stratégiques, orientation politique, engagement envers le public, etc.)?"]
["4.2",null,"Si oui : "]
["4.3",null,"- Indiquer le délai"]
["4.4",null,"- Préciser cette exigence, joindre document de référence"]
[]
["4.5",null,"Si non : Poursuivre le processus de priorisation"]
[]
["5.","Exigences légales spécifiques aux sites miniers"]
["5.1","Est-ce qu'un délai pour entreprendre des travaux de réhabilitation est prescrit par une loi, un règlement, une ordonnance, demande d'autorisation en vertu de l'article 22 de LQE, etc.?"]
["5.2",null,"Si oui : "]
["5.3"]
["5.4"]
[]
["5.5",null,"Si non : Poursuivre le processus de priorisation"]
[]
["6.","Exigences administratives spécifiques aux sites miniers"]
["6.1","Est-ce qu'un délai pour entreprendre des travaux de réhabilitation est prévu par une exigence administrative (source de financement, travaux connexes ou restauration conjointe avec un site minier à proximité dont le calendrier est déjà établi, plan d’action ministériel ou sectoriel, besoins stratégiques, orientation politique, engagement envers le public, etc.)?"]
[]
["6.2",null,"Si oui : "]
["6.3"]
["6.4"]
[]
["6.5",null,"Si non : Poursuivre le processus de priorisation"]
[]
["7.","Priorisation des interventions",null,null,"Justificatif",null,null,null,"Références"]
["7-A","Indice de classification selon les risques pour la santé humaine et pour l'environnement"]
["7-A.1","Indice de classification selon les risques (ICR) selon la méthode de classification selon les risques",null,{"$f":"'Outil de classification'!D303","v":""}]
["7-B","Acceptabilité sociale du projet de réhabilitation"]
["7-B.1","Le processus de réhabilitation a été étudié à la suite d’une préoccupation de citoyens, d'organismes environnementaux ou sociaux ou de la direction d’une organisation institutionnelle (autre que les MO) à l'égard de la contamination du site ou d'une pression médiatique "]
["7-B.2","Densité de la population du secteur du projet (d'une municipalité ou dans un rayon de 10 km par rapport au projet)"]
["7-B.3","Impacts d'une réhabilitation complétée sur la qualité du milieu de vie des usagers et du voisinage"]
["7-B.4","Impacts d'une réhabilitation complétée sur l'usage du territoire par les citoyens"]
["7-C","Aspects socioéconomiques"]
["7-C.1","Indice de défavorisation matérielle et sociale du territoire visé ou de la communauté"]
["7-C.2","Projet connexe à la réhabilitation (par exemple, projet d’entretien, de réfection, d’agrandissement, de réhabilitation conjointe ou successive, de construction d’infrastructures, etc.)"]
["7-C.3","Bénéfices économiques potentiels pendant le projet de réhabilitation ou à la suite d’une réhabilitation complétée "]
[null,"Conserver tout document justificatif de référence pour consultation ultérieure au besoin."]
[]
[null,"8.","Indice de priorisation de l'intervention en réhabilitation (IPR)",{"$f":"IFERROR(Calculs_Rehab!B2,\"En cours d'évaluation\")","v":"En cours d'évaluation"}]
[null,null,"Cote de priorisation de l'intervention en réhabilitation",{"$f":"IF(D111=\"En cours d'évaluation\",\"En cours d'évaluation\",Calculs_Rehab!B3)","v":"En cours d'évaluation"}]
[null,"PI-1","Indice de priorisation 0-20 %     - Délai recommandé de moins de 7 ans pour entreprendre l'intervention en réhabilitation ou, si une exigence légale ou "]
[null,null,"                                                         administrative  impose un délai entre 5 et 7 ans, appliquer ce délai plus court."]
[null,"PI-2","Indice de priorisation 21-50 %   - Délai recommandé de moins de 5 ans pour entreprendre l'intervention en réhabilitation ou, si une exigence légale ou"]
[null,null,"                                                          administrative impose un délai entre 3 et 5 ans, appliquer ce délai plus court."]
[null,"PI-3","Indice de priorisation 51-100 % - Délai recommandé de moins de 3 ans pour entreprendre l'intervention en réhabilitation ou, si une exigence légale ou"]
[null,null,"                                                          administrative impose un délai de moins de 3 ans, appliquer ce délai plus court."]
[null,"PI-1M","Site minier: Indice de priorisation 0-30 %     - Délai recommandé de moins de 15 ans pour entreprendre l'intervention en réhabilitation ou, si une exigence légale ou "]
[null,null,"                                                                              administrative impose un délai entre 10 et 15 ans, appliquer ce délai plus court."]
[null,"PI-2M","Site minier: Indice de priorisation 31-55 %   - Délai recommandé de moins de 10 ans pour entreprendre l'intervention en réhabilitation ou, si une exigence légale ou"]
[null,null,"                                                                              administrative impose un délai entre 5 et 10 ans, appliquer ce délai plus court."]
[null,"PI-3M","Site minier: Indice de priorisation 56-100 % - Délai recommandé de moins de 5 ans pour entreprendre l'intervention en réhabilitation ou, si une exigence légale ou "]
[null,null,"                                                                              administrative impose un délai de moins de 5 ans, appliquer ce délai plus court."]

{"sheet":"Calculs_Rehab","index":10,"n_rows":58,"n_cols":4,"rows_kept":58,"cut":false,"hidden":true,"merged":[[6,0,6,10],[1,1,1,2],[2,1,2,2],[3,0,3,10],[4,0,4,10],[5,0,5,10],[19,2,20,2],[19,3,20,3],[24,2,26,2],[24,3,26,3],[7,0,7,10],[8,0,8,10],[49,2,51,2],[49,3,51,3],[55,2,57,2],[55,3,57,3],[30,2,32,2],[30,3,32,3],[36,2,38,2],[36,3,38,3],[43,2,45,2],[43,3,45,3]]}
[]
["Indice de priorisation de l'invention en réhabilitation",{"$f":"IF(OR('Outil de priorisation des rehab'!D67=\"Moins de 3 ans\",'Outil de priorisation des rehab'!D75=\"Moins de 3 ans\",'Outil de priorisation des rehab'!D83=\"Moins de 5 ans\",'Outil de priorisation des rehab'!D92=\"Moins de 5 ans\"),\"\",D15+D20+D50+D25+D31+D37+D44+D56)","v":{"$error":"#VALUE!"}}]
["Cote de priorisation de l'invention en réhabilitation",{"$f":"IF('Outil de priorisation des rehab'!D32<>\"Oui\",IF(OR(Calculs_Rehab!B2>0.5,AND('Outil de priorisation des rehab'!D67<>0,'Outil de priorisation des rehab'!D67=\"Moins de 3 ans\"),AND('Outil de priorisation des rehab'!D75<>0,'Outil de priorisation des rehab'!D75=\"Moins de 3 ans\")),\"PI-3\",IF(OR(AND(B2<=0.5,B2>0.2),AND('Outil de priorisation des rehab'!D67<>0,'Outil de priorisation des rehab'!D67=\"Entre 3 et 5 ans\"),AND('Outil de priorisation des rehab'!D75<>0,'Outil de priorisation des rehab'!D75=\"Entre 3 et 5 ans\")),\"PI-2\",\"PI-1\")),IF(OR(Calculs_Rehab!B2>0.55,AND('Outil de priorisation des rehab'!D83<>0,'Outil de priorisation des rehab'!D83=\"Moins de 5 ans\"),AND('Outil de priorisation des rehab'!D92<>0,'Outil de priorisation des rehab'!D92=\"Moins de 5 ans\")),\"PI-3M\",IF(OR(AND(B2<=0.55,B2>0.3),AND('Outil de priorisation des rehab'!D83<>0,'Outil de priorisation des rehab'!D83=\"Entre 5 et 10 ans\"),AND('Outil de priorisation des rehab'!D92<>0,'Outil de priorisation des rehab'!D92=\"Entre 5 et 10 ans\")),\"PI-2M\",\"PI-1M\")))","v":{"$error":"#VALUE!"}}]
["PI-1 : Évaluation 0-20%  - Délai recommandé de moins de 7 ans pour entreprendre l'intervention de réhabilitation ou, si une exigence légale ou administrative impose un délai entre 5 et 7 ans, appliquer ce délai plus court."]
["PI-2 : Évaluation 21-50%  - Délai recommandé de moins de 5 ans pour entreprendre l'intervention de réhabilitation ou, si une exigence légale ou administrative impose un délai entre 3 et 5 ans, appliquer ce délai plus court."]
["PI-3 : Évaluation 51-100% - Délai recommandé de moins de 3 ans pour entreprendre l'intervention de réhabilitation ou, si une exigence légale ou administrative impose un délai de moins de 3 ans, appliquer ce délai plus court."]
["PI-1M : Évaluation 0-30%  - Délai recommandé de moins de 15 ans pour entreprendre l'intervention de réhabilitation ou, si une exigence légale ou administrative impose un délai entre 10 et 15 ans, appliquer ce délai plus court."]
["PI-2M : Évaluation 31-55%  - Délai recommandé de moins de 10 ans pour entreprendre l'intervention de réhabilitation ou, si une exigence légale ou administrative impose un délai entre 5 et 10 ans, appliquer ce délai plus court."]
["PI-3M : Évaluation 56-100% - Délai recommandé de moins de 5 ans pour entreprendre l'intervention de réhabilitation ou, si une exigence légale ou administrative impose un délai de moins de 5 ans, appliquer ce délai plus court."]
[]
["5. Priorisation des interventions"]
["CR. Indice de classification selon la risque pour la santé humaine et pour l'environnement"]
["Indice renseigné par la méthode de classification selon les risques"]
["Options","Cote","Pondération","Score"]
["Nombre entier entre 0 et 1000","N/A",0.6,{"$f":"IF('Outil de priorisation des rehab'!D99=\"\",\"\",C15*'Outil de priorisation des rehab'!D99/1000)","v":""}]
[]
["AS. Acceptabilité sociale du projet de réhabilitation"]
["AS1. Le projet de réhabilitation a été initié à la suite d’une préoccupation de citoyens, de groupes de pression et/ou de la direction d’une organisation ou d'une pression médiatique"]
["Options","Cote","Pondération","Score"]
["Oui",1,0.05,{"$f":"IF('Outil de priorisation des rehab'!D101=\"Oui\",C20*B20,IF('Outil de priorisation des rehab'!D101=\"Non\",C20*B21,\"\"))","v":""}]
["Non",0]
[]
["AS2. Densité de la population du secteur du projet (de une municipalité ou dans un rayon de 10 km par rapport au projet)"]
["Options","Cote","Pondération","Score"]
["Moins de 100 habitants par km2",0.25,0.05,{"$f":"IF('Outil de priorisation des rehab'!D102=Menus_Rehab!G50, C25*Menus_Rehab!H50, IF('Outil de priorisation des rehab'!D102=Menus_Rehab!G51, C25*Menus_Rehab!H51, IF('Outil de priorisation des rehab'!D102=Menus_Rehab!G52, C25*Menus_Rehab!H52, \"\")))","v":""}]
["Entre 100 et 500  habitants par km2",0.5]
["Plus de 500 habitants par km2",1]
[]
["AS3. Impacts d'une réhabilitation complétée sur la qualité du milieu de vie des usagers et voisins "]
["Options","Cote","Pondération","Score"]
["Pas d'impact sur la qualité de vie usagers et voisins ",0,0.05,{"$f":"IF('Outil de priorisation des rehab'!D103=Menus_Rehab!I50, C31*Menus_Rehab!J50, IF('Outil de priorisation des rehab'!D103=Menus_Rehab!I51, C31*Menus_Rehab!J51, IF('Outil de priorisation des rehab'!D103=Menus_Rehab!I52, C31*Menus_Rehab!J52, \"\")))","v":""}]
["Impacts positifs sur la qualité de vie usagers et voisins ",0.5]
["Impacts positifs sur la qualité de vie de la collectivité élargie",1]
[]
["AS4. Impacts d'une réhabilitation complétée sur l'usage du territoire par les citoyens"]
["Options","Cote","Pondération","Score"]
["Pas d'impact sur l'usage du territoire",0,0.05,{"$f":"IF('Outil de priorisation des rehab'!D104=Menus_Rehab!K50, C37*Menus_Rehab!L50, IF('Outil de priorisation des rehab'!D104=Menus_Rehab!K51, C37*Menus_Rehab!L51, IF('Outil de priorisation des rehab'!D104=Menus_Rehab!K52, C37*Menus_Rehab!L52,  \"\")))","v":""}]
["Impacts positifs en permettant de bonifier les usages courants",0.5]
["Impacts positifs en permettant de créer, de varier ou de transformer les usages courants",1]
[]
["SE.  Aspects sociaux-économiques"]
["SE1. Indicateur de défavorisation matérielle et sociale du territoire visé ou de la communauté"]
["Options","Cote","Pondération","Score"]
["Faible",0,7.4999999999999997E-2,{"$f":"IF('Outil de priorisation des rehab'!D106=Menus_Rehab!E56, C44*Menus_Rehab!F56, IF('Outil de priorisation des rehab'!D106=Menus_Rehab!E57, C44*Menus_Rehab!F57, IF('Outil de priorisation des rehab'!D106=Menus_Rehab!E58, C44*Menus_Rehab!F58, \"\")))","v":""}]
["Moyen",0.5]
["Élevé",1]
[]
["SE2. Projet connexe à la réhabilitation"]
["Options","Cote","Pondération","Score"]
["Aucun projet connexe prévu",0,0.05,{"$f":"IF('Outil de priorisation des rehab'!D107=Menus_Rehab!E50, C50*Menus_Rehab!F50, IF('Outil de priorisation des rehab'!D107=Menus_Rehab!E51, C50*Menus_Rehab!F51, IF('Outil de priorisation des rehab'!D107=Menus_Rehab!E52, C50*Menus_Rehab!F52, \"\")))","v":""}]
["Projet connexe potentiel prévu",0.5]
["Projet connexe connu prévu ",1]
[]
["SE3. Bénéfices économiques potentiels pendant le projet de réhabilitation ou à la suite d'une réhabilitation complétée"]
["Options","Cote","Pondération","Score"]
["Pas de bénéfice à la communauté sur le plan économique ",0,7.4999999999999997E-2,{"$f":"IF('Outil de priorisation des rehab'!D108=Menus_Rehab!G56, C56*Menus_Rehab!H56, IF('Outil de priorisation des rehab'!D108=Menus_Rehab!G57, C56*Menus_Rehab!H57, IF('Outil de priorisation des rehab'!D108=Menus_Rehab!G58, C56*Menus_Rehab!H58, \"\")))","v":""}]
["Pourrait bénéficier à certains acteurs ",0.5]
["Pourrait entrainer des retombées économiques pour plusieurs acteurs ou secteurs de l'économie  ",1]

{"sheet":"Menus_Rehab","index":11,"n_rows":71,"n_cols":18,"rows_kept":71,"cut":false,"hidden":true,"merged":[]}
[null,null,"Sols",null,"Eau sout superfic",null,"Résidus miniers (classification)",null,"Eau de surface",null,"Sédiments",null,null,null,null,"Sols"]
[]
["Oui",null,"< B",null,null,null,"À faible risques (<Critère A)",null,"> CVAA",null,"> CEF",null,"> 10 hectares (ha) ou 10 000 m3",null,"Oui","< B","Oui"]
["Non",null,"B-C",null,"> RES",null,"Lixiviables (>PES mais < Tableau 1, Annexe 2)",null,"> CVAC",null,"> CEP",null,"2 à 10 ha ou 1 000 à 10 000 m3",null,"Non","B-C","Possible"]
["Non anticipé (sur la base de la phase I ou connaissance du site)",null,"C-RESC",null,"> Seuil d'alerte",null,"Acidogènes (PN/PA >3 ou PNN< 20kg CaCO3/t)",null,"< Critère",null,"< Critère",null,"< 2 ha ou 1 000 m3",null,null,"C-RESC","Non"]
[null,null,"> RESC",null,"< Seuil d'alerte",null,"Cyanurés ",null,"Non anticipé",null,"Non anticipé",null,"Ne sais pas",null,null,"> RESC"]
[null,null,"Non anticipé",null,"Non anticipé",null,"Contaminés par des composés organiques (> Critère B)",null,null,null,null,null,null,null,null,"Non anticipé"]
[null,null,null,null,null,null,"Radioactifs (S>1)"]
[null,null,null,null,null,null,"Inflammable (point éclair <61⁰)",null,null,null,null,null,">SI-A-2 (subsurface)"]
["Neige",null,null,null,"Sols surf",null,"À risques élevés (> Tableau 1, Annexe 2)",null,null,null,null,null,"Entre SI-A-2 et SI-A-2 (subsurface)"]
[null,null,null,null,"Sols à nu avec circulation",null,null,null,"Non",null,null,null,"Entre SI-A-1 et SI-A-2"]
["Déneigé régulièrement (0 à 10 % de l'année)",null,null,null,"Sols à nu sans circulation",null,null,null,"Centre de la petite enfance, garderie",null,null,null,"<SI-A-1",null,null,null,"Effuent","Pondération"]
["Si non déneigé, sud du 48è parallèle (10 à 30 % de l'année)",null,null,null,"Végétalisés",null,null,null,"Établissement d’enseignement primaire",null,null,null,"Non anticipé"]
["Si non déneigé, nord du 48è parallèle (>30 % de l'année)",null,null,null,"Pavés / bétonnés",null,null,null,"Établissement d’enseignement secondaire",null,null,null,null,null,null,null,"> Normes en vigueur pour le secteur d'activité",10]
[null,null,null,null,null,null,"Accessible",null,"Autre usage accueillant des enfants",null,null,null,"Eau sout prof",null,null,null,"< Normes",5]
["Accessibilité",null,null,null,"Prox eau surf",null,"Peu accessible",null,null,null,null,null,"> EC",null,null,null,"Non anticipé (non-mésuré)",0]
[null,null,null,null,null,null,"Non accessible",null,null,null,null,null,"> Seuil d'alerte applicable"]
["Peu de restriction d'accès, contaminants non recouverts.",null,null,null,"0 à <100 m",null,null,null,null,null,null,null,"< Seuil d'alerte"]
["Accès contrôlé ou endroit éloigné; contaminants non recouverts.",null,null,null,"100 - 300 m",null,null,null,"Agricole",null,null,null,"Ne sais pas",null,null,null,"Résidus miniers (teneurs)"]
["Peu de restriction d'accès, contaminants recouverts.",null,null,null,">300 m",null,null,null,"Résidentiel/institutionnel sensible",null,null,null,null,null,null,null,"< A"]
["Accès contrôlé ou endroit éloigné; contaminants recouverts.",null,null,null,null,null,null,null,"Commercial",null,null,null,">0,1%",null,null,null,"A- B"]
[null,null,null,null,null,null,null,null,"Industriel",null,null,null,"<0,1%",null,null,null,"B-C"]
[null,null,null,null,null,null,null,null,null,null,null,null,"Non anticipé",null,null,null,"C-RESC"]
["Topo",null,null,null,"Strati Sol Milieu aqua",null,"Aucun confinement (>75%)",null,"Espèce à statut particulier",null,null,null,null,null,null,null,"> RESC"]
[null,null,null,null,null,null,"Confinement partiel (51-75%)",null,"Milieu humide",null,null,null,">GW2-2",null,null,null,"Non anticipé"]
["Pente forte",null,null,null,"Sable",null,"Confinement partiel (26-50%)",null,"Non",null,null,null,"Entre GW2-1 et GW2-2"]
["Pente moyenne",null,null,null,"Silt",null,"Confinement partiel (1-25%)",null,null,null,null,null,"<GW2-1",null,null,null,"Lixiviat de résidus miniers","pondération"]
["Pente faible",null,null,null,"Argile",null,null,null,null,null,null,null,"Non anticipé"]
[null,null,null,null,"Surface pavée",null,null,null,"Sable",null,null,null,null,null,null,null,"> Tableau 1 (Annexe 2 D019)",10]
[null,null,null,null,null,null,null,null,"Silt ou argile",null,null,null,null,null,null,null,"< Tableau 1 (Annexe 2 D019)",5]
[null,null,null,null,null,null,null,null,null,null,null,null,null,null,null,null,"Non anticipé",0]
[]
["Berge",null,null,null,"Instabilité importante et reconnue (talus déformé)"]
["Plaine inondable",null,null,null,"Instabilité de certains secteurs (visible et/ou documentée)"]
["Faible",null,null,null,"Érosion dans les talus",null,null,null,null,null,null,null,null,null,null,null,"Soufre"]
["Nul"]
["Général",null,null,null,"Général LQE",null,null,null,null,null,null,null,null,null,null,null,"> 0,3%"]
["Oui",null,null,null,"Cessation d'une activité désignée (A31.51 LQE)"]
["Non",null,null,null,"Changement d'usage (A31.53 LQE)"]
[null,null,null,null,"Non"]
["Sécurisation",null,null,null,"Ouvertures/ Infrastructures souterraines",null,"bâtiments/ parois / pentes",null,"Ouvrages de retenu",null,null,null,"Point éclair",null,null,null,"< 0,3%"]
[null,null,null,null,null,null,null,null,null,null,null,null,null,null,null,null,"Non-anticipé"]
["Oui (risque connu ou fortement soupçonné)",null,null,null,"Oui (ouvertures non-sécurisées)",null,"Oui (structure non-sécurisée)",null,"Oui (risque documenté lors d'une inspection géotechnique ou fortement soupçonné)",null,null,null,"< 37,8⁰C = Inflammable"]
["Non (aucun risque connu ni fortement soupçonné)",null,null,null,"Oui (ouvertures sécurisées)",null,"Oui (structure sécurisée)",null,"Non (aucun risque connu ni fortement soupçonné)",null,null,null,"> 37,8⁰C ",null,null,null,"Rayonnement ionisant (S)"]
["Non anticipé (sur la base de l'inspection réalisée ou connaissance du site)",null,null,null,"Non (absentes ou non-rapportées)",null,"Non",null,"Non anticipé (sur la base de l'inspection réalisée ou connaissance du site)",null,null,null,null,null,null,null,"S> 1"]
[null,null,null,null,null,null,null,null,null,null,null,null,null,null,null,null,"S< 1"]
["Priorisation des interventions",null,null,null,null,null,null,null,null,null,null,null,null,null,null,null,"Non-anticipé"]
["Critères de classification (selon la méthode de classification)",null,null,null,"Acceptabilité sociale du projet de réhabilitation"]
["CR-0",null,0,null,"Projet prévu par les MO connexe à la réhabilitation ",null,"Densité de la population du secteur du projet ",null,"Impacts d'une réhabilitation complétée ",null,"Impacts d'une réhabilitation sur l'usage du territoire par le public"]
["CR-1",null,0.33,null,"Aucun projet connexe prévu",0,"Moins de 100 habitants par km2",0.25,"Pas d'impact sur la qualité de vie des usagers et du voisinage ",0,"Pas d'impact sur l'usage du territoire ",0]
["CR-2",null,0.66,null,"Projet connexe potentiel prévu",0.5,"Entre 100 et 500  habitants par km2",0.5,"Impacts positifs sur la qualité de vie des usagers et du voisinage",0.5,"Impacts positifs sur l'usage du territoire en permettant de bonifier les usages courants",0.5]
["CR-3",null,1,null,"Projet connexe connu prévu ",1,"Plus de 500 habitants par km2",1,"Impacts positifs sur la qualité de vie de la collectivité élargie",1,"Impacts positifs sur l'usage du territoire en permettant de créer, de varier ou de transformer les usages courants",1]
[]
[null,null,null,null,"Aspects sociaux-économiques"]
[null,null,null,null,"Indicateur socio-économique du quartier ou de la communauté",null,"Bénéfices économiques potentiels suite au projet de réhabilitation"]
[null,null,null,null,"Faible",0,"Pas de bénéfice à la communauté sur le plan économique ",0]
[null,null,null,null,"Moyen",0.5,"Pourrait bénéficier à certains acteurs",0.5]
[null,null,null,null,"Élevé",1,"Pourrait entrainer des retombées économiques pour plusieurs acteurs ou secteurs de l'économie  ",1]
[]
["Exigences reglementaires ou administratives",null,null,null,"Exigences reglementaires ou administratives spécifiques aux sites miniers"]
["Moins de 3 ans",null,null,null,"Moins de 5 ans"]
["Entre 3 et 5 ans",null,null,null,"Entre 5 et 10 ans"]
["Entre 5 et 7 ans",null,null,null,"Entre 10 et 15 ans"]
["Plus de 7 ans",null,null,null,"Plus de 15 ans"]
[]
[]
["Dangers immédiats"]
["Oui, connu"]
["Appréhendé"]
["Non appréhendé"]
["Non, connu"]

{"sheet":"A-Outil sélection scénario","index":12,"n_rows":219,"n_cols":12,"rows_kept":219,"cut":false,"hidden":false,"merged":[[217,1,217,3],[217,5,217,8],[217,9,217,10],[218,1,218,3],[218,5,218,8],[218,9,218,10],[214,1,214,10],[215,1,215,3],[215,5,215,8],[215,9,215,10],[216,1,216,3],[216,5,216,8],[216,9,216,10],[212,1,212,3],[212,5,212,8],[212,9,212,10],[213,1,213,3],[213,5,213,8],[213,9,213,10],[210,1,210,3],[210,5,210,8],[210,9,210,10],[211,1,211,3],[211,5,211,8],[211,9,211,10],[207,1,207,10],[208,1,208,3],[208,5,208,8],[208,9,208,10],[209,1,209,3],[209,5,209,8],[209,9,209,10],[203,1,203,4],[204,1,204,3],[204,5,204,8],[204,9,204,10],[206,1,206,4],[206,5,206,8],[206,9,206,10],[200,1,200,10],[201,1,201,3],[201,5,201,8],[201,9,201,10],[202,1,202,3],[202,5,202,8],[202,9,202,10],[198,1,198,3],[198,5,198,8],[198,9,198,10],[199,1,199,3],[199,5,199,8],[199,9,199,10],[195,1,195,3],[195,5,195,8],[195,9,195,10],[196,1,196,10],[197,1,197,3],[197,5,197,8],[197,9,197,10],[192,1,192,10],[193,1,193,3],[193,5,193,8],[193,9,193,10],[194,1,194,3],[194,5,194,8],[194,9,194,10],[190,1,190,3],[190,5,190,8],[190,9,190,10],[191,1,191,3],[191,5,191,8],[191,9,191,10],[187,1,187,3],[187,5,187,8],[187,9,187,10],[188,1,188,10],[189,1,189,3],[189,5,189,8],[189,9,189,10],[184,1,184,10],[185,1,185,3],[185,5,185,8],[185,9,185,10],[186,1,186,3],[186,5,186,8],[186,9,186,10],[182,1,182,3],[182,5,182,8],[182,9,182,10],[183,1,183,3],[183,5,183,8],[183,9,183,10],[180,1,180,10],[181,1,181,3],[181,5,181,8],[181,9,181,10],[168,1,168,3],[168,5,168,8],[168,9,168,10],[169,1,169,3],[169,5,169,8],[169,9,169,10],[175,9,175,10],[179,1,179,3],[179,5,179,8],[179,9,179,10],[176,1,176,10],[177,1,177,3],[177,5,177,8],[177,9,177,10],[178,1,178,3],[178,5,178,8],[178,9,178,10],[170,1,170,3],[170,5,170,8],[170,9,170,10],[174,1,174,3],[174,5,174,8],[174,9,174,10],[175,1,175,3],[175,5,175,8],[160,1,160,3],[160,5,160,8],[160,9,160,10],[172,1,172,10],[173,1,173,3],[173,5,173,8],[173,9,173,10],[164,1,164,3],[164,5,164,8],[164,9,164,10],[165,1,165,3],[165,5,165,8],[165,9,165,10],[161,1,161,10],[162,1,162,3],[162,5,162,8],[162,9,162,10],[163,1,163,3],[163,5,163,8],[163,9,163,10],[166,1,166,10],[167,1,167,3],[167,5,167,8],[167,9,167,10],[156,1,156,2],[156,5,156,8],[156,9,156,10],[158,1,158,10],[159,1,159,3],[159,5,159,8],[159,9,159,10],[153,1,153,3],[153,5,153,8],[153,9,153,10],[154,1,154,4],[155,1,155,3],[155,5,155,8],[155,9,155,10],[150,1,150,3],[150,5,150,8],[151,1,151,10],[152,1,152,3],[152,5,152,8],[152,9,152,10],[147,1,147,10],[148,1,148,3],[148,5,148,8],[149,1,149,3],[149,5,149,8],[148,9,148,10],[149,9,149,10],[150,9,150,10],[144,1,144,3],[144,5,144,8],[145,1,145,3],[145,5,145,8],[146,1,146,3],[146,5,146,8],[146,9,146,10],[141,1,141,3],[141,5,141,8],[142,1,142,3],[142,5,142,8],[143,1,143,10],[141,9,141,10],[142,9,142,10],[144,9,144,10],[145,9,145,10],[138,1,138,3],[138,5,138,8],[138,9,138,10],[139,1,139,10],[140,1,140,3],[140,5,140,8],[135,1,135,10],[136,1,136,3],[136,5,136,8],[136,9,136,10],[137,1,137,3],[137,5,137,8],[137,9,137,10],[140,9,140,10],[133,1,133,3],[133,5,133,8],[134,1,134,3],[134,5,134,8],[120,1,120,3],[120,5,120,8],[120,9,120,10],[121,1,121,3],[121,5,121,8],[121,9,121,10],[132,9,132,10],[133,9,133,10],[134,9,134,10],[129,1,129,3],[129,5,129,8],[129,9,129,10],[130,1,130,3],[130,5,130,8],[130,9,130,10],[131,1,131,10],[132,1,132,3],[132,5,132,8],[127,1,127,10],[128,1,128,3],[128,5,128,8],[128,9,128,10],[114,1,114,3],[114,5,114,8],[114,9,114,10],[115,1,115,3],[115,5,115,8],[115,9,115,10],[117,1,117,10],[118,1,118,3],[118,5,118,8],[118,9,118,10],[119,1,119,3],[119,5,119,8],[119,9,119,10],[126,1,126,3],[126,5,126,8],[126,9,126,10],[112,1,112,10],[113,1,113,3],[113,5,113,8],[113,9,113,10],[123,1,123,10],[124,1,124,3],[124,5,124,8],[124,9,124,10],[125,1,125,3],[125,5,125,8],[125,9,125,10],[116,1,116,3],[116,5,116,8],[116,9,116,10],[109,1,109,10],[110,1,110,3],[110,5,110,8],[110,9,110,10],[111,1,111,3],[111,5,111,8],[111,9,111,10],[106,1,106,3],[106,5,106,8],[106,9,106,10],[107,1,107,2],[107,5,107,8],[107,9,107,10],[103,1,103,3],[103,5,103,8],[103,9,103,10],[105,1,105,4],[105,5,105,8],[105,9,105,10],[101,1,101,3],[101,5,101,8],[101,9,101,10],[102,1,102,3],[102,5,102,8],[102,9,102,10],[100,1,100,3],[100,5,100,8],[100,9,100,10],[98,1,98,3],[98,5,98,8],[98,9,98,10],[99,1,99,3],[99,5,99,8],[99,9,99,10],[95,1,95,3],[95,5,95,8],[95,9,95,10],[96,1,96,10],[97,1,97,3],[97,5,97,8],[97,9,97,10],[92,5,92,8],[92,9,92,10],[93,1,93,3],[93,5,93,8],[93,9,93,10],[94,1,94,3],[94,5,94,8],[94,9,94,10],[88,1,88,10],[89,1,89,3],[89,5,89,8],[89,9,89,10],[91,1,91,3],[91,5,91,8],[91,9,91,10],[86,1,86,3],[86,5,86,8],[86,9,86,10],[90,1,90,3],[87,1,87,3],[87,5,87,8],[87,9,87,10],[83,1,83,10],[84,1,84,3],[84,5,84,8],[84,9,84,10],[85,1,85,3],[85,5,85,8],[85,9,85,10],[81,1,81,3],[81,5,81,8],[81,9,81,10],[82,1,82,3],[82,5,82,8],[82,9,82,10],[79,1,79,3],[79,5,79,8],[79,9,79,10],[80,1,80,3],[80,5,80,8],[80,9,80,10],[77,1,77,3],[77,5,77,8],[77,9,77,10],[78,1,78,3],[78,5,78,8],[78,9,78,10],[73,5,73,8],[73,9,73,10],[74,1,74,2],[75,1,75,10],[76,1,76,3],[76,5,76,8],[76,9,76,10],[66,2,66,4],[67,1,67,3],[71,1,71,4],[71,5,71,8],[71,9,71,10],[66,5,66,8],[66,9,66,10],[73,1,73,2],[69,2,69,4],[63,1,63,3],[63,5,63,8],[63,9,63,10],[64,1,64,4],[65,1,65,3],[65,5,65,8],[65,9,65,10],[60,1,60,4],[61,1,61,3],[61,5,61,8],[61,9,61,10],[62,1,62,3],[62,5,62,8],[62,9,62,10],[57,1,57,4],[58,1,58,3],[58,5,58,8],[58,9,58,10],[59,1,59,3],[59,5,59,8],[59,9,59,10],[53,1,53,4],[54,1,54,3],[54,5,54,8],[54,9,54,10],[55,2,55,4],[56,1,56,4],[55,5,55,8],[55,9,55,10],[51,1,51,3],[51,5,51,8],[51,9,51,10],[52,1,52,3],[52,5,52,8],[52,9,52,10],[48,1,48,3],[48,5,48,8],[48,9,48,10],[49,1,49,4],[50,1,50,3],[50,5,50,8],[50,9,50,10],[46,1,46,3],[46,5,46,8],[46,9,46,10],[47,1,47,3],[47,5,47,8],[47,9,47,10],[42,1,42,4],[43,1,43,4],[44,1,44,3],[44,5,44,8],[44,9,44,10],[45,1,45,3],[45,5,45,8],[45,9,45,10],[38,1,38,3],[38,5,38,8],[38,9,38,10],[39,2,39,4],[41,1,41,4],[41,5,41,8],[41,9,41,10],[36,1,36,3],[36,5,36,8],[36,9,36,10],[37,1,37,3],[37,5,37,8],[37,9,37,10],[39,5,39,8],[39,9,39,10],[34,1,34,3],[34,5,34,8],[34,9,34,10],[35,1,35,3],[35,5,35,8],[35,9,35,10],[32,1,32,3],[32,5,32,8],[32,9,32,10],[33,1,33,3],[33,5,33,8],[33,9,33,10],[31,1,31,3],[31,5,31,8],[31,9,31,10],[28,1,28,4],[28,5,28,8],[28,9,28,10],[29,1,29,3],[29,5,29,8],[29,9,29,10],[0,1,0,5],[2,2,2,3],[3,2,3,3],[4,2,4,3],[5,2,5,3],[6,2,6,3],[30,1,30,3],[30,5,30,8],[30,9,30,10],[19,1,19,3],[25,1,25,3],[24,1,24,3],[23,1,23,3],[21,1,21,3],[20,1,20,3],[7,2,7,3],[8,2,8,3],[10,2,10,3],[12,2,12,3],[18,1,18,4],[22,1,22,3],[18,5,18,8],[18,9,18,10],[24,5,24,8],[24,9,24,10],[25,5,25,8],[25,9,25,10],[26,1,26,10],[19,5,19,8],[19,9,19,10],[20,5,20,8],[20,9,20,10],[21,5,21,8],[21,9,21,10],[22,5,22,8],[22,9,22,10],[23,5,23,8],[23,9,23,10]]}
[null,"OUTIL DE SÉLECTION DU SCÉNARIO DE RÉHABILITATION                                                                                                                     SITES CONTAMINÉS SELON LES CRITÈRES DE CONSTATATION DE LA NORME COMPTABLE"]
[]
[null,"Effectué par :"]
[null,"Organisation : "]
[null,"Date (année-mois-jour) :"]
[null,"Version no. : "]
[null,"Révisé par :"]
[null,"Révision no. : "]
[null,"Date (année-mois-jour) :"]
[]
[null,"Légende :","Renseignement obligatoire (format choix de réponse)"]
[]
[null,null,"Renseignement obligatoire (format texte)"]
[]
[null,null,"Laisser vide ou ne pas éditer"]
[]
[null,null,"Notes ou références à inscrire au besoin"]
[]
["0.","Exclusions à l'outil",null,null,null,"Justificatif",null,null,null,"Références"]
["0.1","Au moins un dépassement du critère d’usage applicable a été constaté dans les sols du site "]
["0.2","Il y a présence de roc contaminé, de sédiments contaminés non dragués, de résidus d'usinage ou de stériles miniers (sites miniers)"]
["0.3","Un enjeu environnemental a été identifié dans les sols pour les contaminants suivants : amiante, biogaz, dioxines, furanes, résidus d'explosifs, phtalates, composés benzéniques non chlorés et autres composés organiques non couverts dans l'outil "]
["0.4","Le site présente une problématique associée aux intrusions de vapeur dans au moins un bâtiment"]
["0.5","Le site est accessible par voie carrossable "]
["0.6","Le site est un ancien lieu d'élimination de matières résiduelles"]
["0.7","Le site est un milieu sensible (naturel, nordique, agricole) dont le niveau de contamination des sols est inférieur à celui que prévoit le critère B"]
["0.8",{"$f":"IF(OR($E$20=\"Non\",$E$21=\"Oui\",$E$22=\"Oui\",$E$23=\"Oui\",$E$24=\"Non\",$E$25=\"Oui\",$E$26=\"Oui\"),CONCATENATE(\"L'outil de sélection du scénario de réhabilitation n'est pas applicable pour ce site.\",\" Vous êtes invité à employer un processus distinct pour la sélection d'un scénario de réhabilitation pour ce site, en vous assurant d'intégrer les principes du développement durable dans les critères de sélection.\"),IF(AND($E$20=\"Oui\",$E$21=\"Non\",$E$22=\"Non\",$E$23=\"Non\",$E$24=\"Oui\",$E$25=\"Non\",$E$26=\"Non\"),\"L'outil de sélection du scénario de réhabilitation est applicable pour ce site.\",\"\"))","v":""}]
[]
["1.","Généralités",null,null,null,"Justificatif",null,null,null,"Références"]
["1.1","Nom du site "]
["1.2","Étiquette d'identification de la fiche synthèse du PTSC et numéro de dossier interne"]
["1.3","Propriétaire ou locataire "]
["1.4","Adresse du site "]
["1.5","Latitude (NAD 83)"]
["1.6","Longitude (NAD 83)"]
["1.7","Numéro de lot et cadastre"]
["1.8","Activités désignées à l'annexe III du RPRT qui s'exercent ou se sont exercées sur le site (inscrire le ou les codes SCIAN)"]
["1.9","Est-ce qu'une cessation d'une activité visée (A31.51 LQE) ou un changement d'usage (A31.53 LQE) est prévu?"]
["1.10","Superficie approximative du site (m2)"]
["1.11","Résumé des travaux de caractérisation et références pertinentes:\n\n\n"]
[]
["2.","Dangers immédiats (Section présente dans chaque méthode commune - doit être actualisée périodiquement)",null,null,null,"Justificatif",null,null,null,"Références"]
["2-A","Toxicologie et écotoxicologie"]
["2-A.1","Effets néfastes sur des personnes (toxicologie)"]
["2-A.1.1","Dépassement des normes dans l'eau potable"]
["2-A.1.2","Potager ou culture sur sols contaminés "]
["2-A.1.3","Substance radioactive ou danger biologique (bactéries, virus, moisissures, déjections animales, etc.) exposé et non confiné"]
["2-A.1.4","Vapeurs contaminées dans l'air intérieur d'un bâtiment"]
["2-A.1.5","Risque d'explosion lié à la présence de gaz dans un bâtiment ou une structure "]
["2-A.2","Effets néfastes sur les récepteurs écologiques (écotoxicologie)"]
["2-A.2.1","Résurgence d'une phase libre ou autre effluent toxique dans un cours d'eau"]
["2-A.2.2","Constat d'impacts manifestes et importants sur la faune ou la flore"]
["2-A.2.3","Source de contamination active présentant un danger immédiat pouvant être mitigé rapidement"]
["2-A.3","Autre"]
["2-A.3.1","Autre danger immédiat toxicologique ou écotoxicologique"]
["2-A.3.2","Description :"]
["2-B","Sécurisation (Risques nécessitant des travaux de sécurisation ou ayant fait l'objet de travaux partiels)"]
["2-B.1","Potentiel d'effondrement ou ouverture en surface"]
["2-B.1.1","Ouvertures profondes non sécurisées à partir de la surface  "]
["2-B.1.2","Infrastructures souterraines potentiellement instables et non sécurisées"]
["2-B.2","Instabilité physique"]
["2-B.2.1","Bâtiments ou infrastructures délabrés et non sécurisés"]
["2-B.2.2","Risque de chute ou d'ensevelissement"]
["2-B.2.3","Ouvrages de retenue potentiellement à risque de bris/défaut"]
["2-B.3","Autre"]
["2-B.3.1","Autre risque de sécurisation"]
["2-B.3.2","Description :"]
["2-C","Si un danger immédiat est identifié ou appréhendé, une cote DI-1 est obtenue et une action urgente est requise. Le processus de sélection du scénario de réhabilitation devra être poursuivie uniquement lorsque la situation aura été régularisée (risque mitigé ou calendrier d'intervention établi par un expert).",null,null,{"$f":"IF(OR(E45=\"Oui, connu\",E45=\"Appréhendé\",E46=\"Oui, connu\",D46=\"Appréhendé\",E47=\"Oui, connu\",E47=\"Appréhendé\",E48=\"Oui, connu\",E48=\"Appréhendé\",E49=\"Oui, connu\",E49=\"Appréhendé\",E51=\"Oui, connu\",E51=\"Appréhendé\",E52=\"Oui, connu\",E52=\"Appréhendé\",E53=\"Oui, connu\",E53=\"Appréhendé\",E55=\"Oui, connu\",E55=\"Appréhendé\",E59=\"Oui, connu\",E59=\"Appréhendé\",E60=\"Oui, connu\",E60=\"Appréhendé\",E62=\"Oui, connu\",E62=\"Appréhendé\",E63=\"Oui, connu\",E63=\"Appréhendé\",E64=\"Oui, connu\",E64=\"Appréhendé\",E66=\"Oui, connu\",E66=\"Appréhendé\"),\"DI-1\",IF(AND(OR(E45=\"Non, connu\",E45=\"Non appréhendé\"),OR(E46=\"Non, connu\",E46=\"Non appréhendé\"),OR(E47=\"Non, connu\",E47=\"Non appréhendé\"),OR(E48=\"Non, connu\",E48=\"Non appréhendé\"),OR(E49=\"Non, connu\",E49=\"Non appréhendé\"),OR(E51=\"Non, connu\",E51=\"Non appréhendé\"),OR(E52=\"Non, connu\",E52=\"Non appréhendé\"),OR(E53=\"Non, connu\",E53=\"Non appréhendé\"),OR(E55=\"Non, connu\",E55=\"Non appréhendé\"),OR(E59=\"Non, connu\",E59=\"Non appréhendé\"),OR(E60=\"Non, connu\",E60=\"Non appréhendé\"),OR(E62=\"Non, connu\",E62=\"Non appréhendé\"),OR(E63=\"Non, connu\",E63=\"Non appréhendé\"),OR(E64=\"Non, connu\",E64=\"Non appréhendé\"),OR(E66=\"Non, connu\",E66=\"Non appréhendé\")),\"DI-0\",\"\"))","v":""},null,null,null,true,false,false]
[]
[null,"Décrire les actions de mitigation réalisées, le calendrier d'intervention établi ou les vérifications liées à un danger immédiat appréhendé qui ont infirmé le doute :"]
[]
["3.","Usages, caractéristiques et contraintes du site",null,null,null,"Justificatif",null,null,null,"Références"]
["3-A","Objectif des travaux de réhabilitation"]
["3-A.1","Critère de référence pour la réhabilitation",null,{"$f":"IF(E74=\"Critère C : usage commercial/institutionnel non sensible/chaussée, trottoir et parc et industriel\",\"Attention : Si aucun dépassement du critère C n'a été constaté dans les sols du site, l'outil n'est pas applicable\",IF(E74=\"Critère B : milieux sensibles (naturel, nordique, agricole) ou usage résidentiel/institutionnel sensible  \",\"Attention : Si aucun dépassement du critère B n'a été constaté dans les sols du site, l'outil n'est pas applicable\",\"\"))","v":""},null,null,null,null,null,null,null,{"$f":"IF(E74=\"Critère B : milieux sensibles (naturel, nordique, agricole) ou usage résidentiel/institutionnel sensible  \",2,IF(E74=\"Critère C : usage commercial/institutionnel non sensible/chaussée, trottoir et parc et industriel\",3,\"\"))","v":""}]
["3-B","Contraintes"]
["3-B.1","Localisation"]
["3-B.1.1","Accessibilité à des installations électriques"]
["3-B.1.2","Disponibilité de main d'œuvre qualifiée - pour travaux de traitement"]
["3-B.1.3","Distance des lieux autorisés d'élimination par rapport au site"]
["3-B.1.4","Distance des sites d'approvisionnement des produits de traitement et équipements par rapport au site"]
["3-B.1.5","Distance des lieux habités par rapport au site"]
["3-B.1.6","Présence d'espèces menacées et vulnérables et/ou d'écosystèmes exceptionnels près du site"]
["3-B.1.7","Présence d'un milieu naturel sur le site (parc, jardins, forêt, etc) "]
["3-B.2","Calendrier"]
["3-B.2.1","Délai imposé pour terminer la réhabilitation"]
["3-B.2.2","Activité en cours ne permettant absolument pas l'opération d'un système de traitement in situ ou ex situ sur le site"]
["3-B.2.3","Dans le contexte d'un scénario de réhabilitation impliquant des travaux d'excavation, le projet s'insérerait bien dans les activités actuelles du MO"]
["3-B.2.4","Dans le contexte d'un scénario de réhabilitation n'impliquant pas de travaux d'excavation, le projet s'insérerait bien dans les activités actuelles du MO"]
["3-B.3","Espace "]
["3-B.3.1","Présence d'arbres dans la zone impactée par la réhabilitation"]
["3-B.3.2","Profondeur maximale atteinte par les sols contaminés du site"]
["3-B.3.3","Présence de matières dangereuses entreposées ou utilisées sur le site (barils, etc.) dans la zone impactée par la réhabilitation"]
["3-B.3.4","Espace disponible pour effectuer du traitement ex situ sur le site ou un autre site"]
["3-B.3.5","Le site doit être excavé pour construction dans un secteur qui couvre la totalité ou la grande majorité de la zone impactée par la réhabilitation Veuillez consulter le Guide de l'utilisateur"]
["3-B.3.6","Volume de sols conformes à excaver pour accéder aux sols à réhabiliter, à entreposer de façon temporaire et à remblayer lorsque l’ensemble des sols non conformes auront été excavés (m3)"]
["3-B.3.7","Contamination à plus de 3 m de profondeur aux limites de propriété nécessitant un ouvrage de soutènement en cas d'excavation - superficie de l'ouvrage requis (m2)"]
["3-B.4","Infrastructures actuelles"]
["3-B.4.1","Présence de bâtiments ou d'infrastructures hors sol en activité dans la zone impactée par la réhabilitation (contamination entre 0 et 4 m de prof.)"]
["3-B.4.2","Présence de bâtiments ou d'infrastructures hors sol en activité dans la zone impactée par la réhabilitation (contamination à plus de 4 m de prof.)"]
["3-B.4.3","Présence d'infrastructures souterraines en activité dans la zone impactée par la réhabilitation (réseau d'égout, fosse septique, champ d'épuration, etc.)"]
["3-B.4.4","Présence d'un réservoir hors sol ou souterrain en activité"]
["3-B.4.5","Présence d'infrastructures aériennes qui peuvent limiter l'utilisation de machinerie (fil électrique, pont, passerelle, etc.)"]
["3-B.4.6","Présence de remblai hétérogène, de matières résiduelles ou d'anciennes infrastructures - zone vadose"]
["3-B.4.7","Présence de remblai hétérogène, de matières résiduelles ou d'anciennes infrastructures - zone saturée"]
[]
["4.","État environnemental du site",null,null,null,"Justificatif",null,null,null,"Références"]
["4.1","Superficie approximative du site affecté par des sols excédant le critère d'usage (m2)"]
["4-A","Contamination des sols - Zone vadose"]
["4-A.1","Plage de contamination la plus élevée - Zone vadose"]
["4-A.1.1","Inorganique"]
["4-A.1.1.1","Métaux (et métalloïdes)",null,null,null,null,null,null,null,null,null,{"$f":"IF(E111=\"<B\",1,IF(E111=\"B-C\",2,IF(E111=\"C-RESC\",3,IF(E111=\">RESC\",4,IF(E111=\"Non anticipé\",0,0)))))","v":0}]
["4-A.1.1.2","Autres composés inorganiques",null,null,null,null,null,null,null,null,null,{"$f":"IF(E112=\"<B\",1,IF(E112=\"B-C\",2,IF(E112=\"C-RESC\",3,IF(E112=\">RESC\",4,IF(E112=\"Non anticipé\",0,0)))))","v":0}]
["4-A.1.2","Organique (produits pétroliers et COV)"]
["4-A.1.2.1","Hydrocarbures pétroliers (HP C10-C50)",null,null,null,null,null,null,null,null,null,{"$f":"IF(E114=\"<B\",1,IF(E114=\"B-C\",2,IF(E114=\"C-RESC\",3,IF(E114=\">RESC\",4,IF(E114=\"Non anticipé\",0,0)))))","v":0}]
["4-A.1.2.2","Hydrocarbures aromatiques monocycliques",null,null,null,null,null,null,null,null,null,{"$f":"IF(E115=\"<B\",1,IF(E115=\"B-C\",2,IF(E115=\"C-RESC\",3,IF(E115=\">RESC\",4,IF(E115=\"Non anticipé\",0,0)))))","v":0}]
["4-A.1.2.3","Hydrocarbures aliphatiques chlorés",null,null,null,null,null,null,null,null,null,{"$f":"IF(E116=\"<B\",1,IF(E116=\"B-C\",2,IF(E116=\"C-RESC\",3,IF(E116=\">RESC\",4,IF(E116=\"Non anticipé\",0,0)))))","v":0}]
["4-A.1.2.4","Chlorobenzènes",null,null,null,null,null,null,null,null,null,{"$f":"IF(E117=\"<B\",1,IF(E117=\"B-C\",2,IF(E117=\"C-RESC\",3,IF(E117=\">RESC\",4,IF(E117=\"Non anticipé\",0,0)))))","v":0}]
["4-A.1.3","Autres composés organiques"]
["4-A.1.3.1","Hydrocarbures aromatiques polycycliques",null,null,null,null,null,null,null,null,null,{"$f":"IF(E119=\"<B\",1,IF(E119=\"B-C\",2,IF(E119=\"C-RESC\",3,IF(E119=\">RESC\",4,IF(E119=\"Non anticipé\",0,0)))))","v":0}]
["4-A.1.3.2","Composés phénoliques",null,null,null,null,null,null,null,null,null,{"$f":"IF(E120=\"<B\",1,IF(E120=\"B-C\",2,IF(E120=\"C-RESC\",3,IF(E120=\">RESC\",4,IF(E120=\"Non anticipé\",0,0)))))","v":0}]
["4-A.1.3.3","Biphényles polychlorés (BPC)",null,null,null,null,null,null,null,null,null,{"$f":"IF(E121=\"<B\",1,IF(E121=\"B-C\",2,IF(E121=\"C-RESC\",3,IF(E121=\">RESC\",4,IF(E121=\"Non anticipé\",0,0)))))","v":0}]
["4-A.1.3.4","Pesticides",null,null,null,null,null,null,null,null,null,{"$f":"IF(E122=\"<B\",1,IF(E122=\"B-C\",2,IF(E122=\"C-RESC\",3,IF(E122=\">RESC\",4,IF(E122=\"Non anticipé\",0,0)))))","v":0}]
["4-A.2","Volumes de contamination - Zone vadose"]
["4-A.2.1","Inorganique uniquement - Volume par plage de contamination (m3) "]
["4-A.2.1.1","B-C - inorganique uniquement"]
["4-A.2.1.2","C-RESC - inorganique uniquement"]
["4-A.2.1.3","> RESC - inorganique uniquement"]
["4-A.2.2","Organique (produits pétroliers et COV) uniquement - Volume par plage de contamination (m3) "]
["4-A.2.2.1","B-C - organique (produits pétroliers et COV) uniquement"]
["4-A.2.2.2","C-RESC - organique (produits pétroliers et COV) uniquement"]
["4-A.2.2.3","> RESC - organique (produits pétroliers et COV) uniquement"]
["4-A.2.3","Autres composés organiques uniquement - Volume par plage de contamination (m3) "]
["4-A.2.3.1","B-C - autres composés organiques uniquement"]
["4-A.2.3.2","C-RESC - autres composés organiques uniquement"]
["4-A.2.3.3","> RESC - autres composés organiques uniquement"]
["4-A.2.4","Mixte: inorganique et organique (produits pétroliers et COV) - Volume par plage de contamination (m3) "]
["4-A.2.4.1","B-C - mixte : inorganique et organique (produits pétroliers et COV)"]
["4-A.2.4.2","C-RESC - mixte : inorganique et organique (produits pétroliers et COV)"]
["4-A.2.4.3","> RESC - mixte : inorganique et organique (produits pétroliers et COV)"]
["4-A.2.5","Mixte: inorganique et autres composés organiques - Volume par plage de contamination (m3) "]
["4-A.2.5.1","B-C - mixte : inorganique et autres composés organiques"]
["4-A.2.5.2","C-RESC - mixte : inorganique et autres composés organiques"]
["4-A.2.5.3","> RESC - mixte : inorganique et autres composés organiques"]
["4-A.2.6","Mixte: organique (produits pétroliers et COV) et autres composés organiques - Volume par plage de contamination (m3) "]
["4-A.2.6.1","B-C - mixte : organique (produits pétroliers et COV) et autres composés organiques"]
["4-A.2.6.2","C-RESC - mixte : organique (produits pétroliers et COV) et autres composés organiques"]
["4-A.2.6.3","> RESC - mixte : organique (produits pétroliers et COV) et autres composés organiques"]
["4-A.2.7","Mixte: inorganique, organique (produits pétroliers et COV) et autres composés organiques - Volume par plage de contamination (m3) "]
["4-A.2.7.1","B-C - mixte : inorganique, organique (produits pétroliers et COV) et autres composés organiques"]
["4-A.2.7.2","C-RESC - mixte : inorganique, organique (produits pétroliers et COV) et autres composés organiques"]
["4-A.2.7.3","> RESC - mixte : inorganique, organique (produits pétroliers et COV) et autres composés organiques"]
["4-A.2.8","Matières résiduelles (horizons distincts) - Volume par type de matière résiduelle (m3) "]
["4-A.2.8.1","MRND"]
["4-A.2.8.2","MDR"]
["4-A.3","Condition des sols - Zone vadose"]
["4-A.3.1","Conductivité hydraulique des sols de la zone vadose"]
["4-B","Contamination des sols - Zone saturée"]
["4-B.1","Plage de contamination la plus élevée - Zone saturée"]
["4-B.1.1","Inorganique"]
["4-B.1.1.1","Métaux (et métalloïdes)",null,null,null,null,null,null,null,null,null,{"$f":"IF(E160=\"<B\",1,IF(E160=\"B-C\",2,IF(E160=\"C-RESC\",3,IF(E160=\">RESC\",4,IF(E160=\"Non anticipé\",0,0)))))","v":0}]
["4-B.1.1.2","Autres composés inorganiques",null,null,null,null,null,null,null,null,null,{"$f":"IF(E161=\"<B\",1,IF(E161=\"B-C\",2,IF(E161=\"C-RESC\",3,IF(E161=\">RESC\",4,IF(E161=\"Non anticipé\",0,0)))))","v":0}]
["4-B.1.2","Organique (produits pétroliers et COV) "]
["4-B.1.2.1","Hydrocarbures pétroliers (HP C10-C50)",null,null,null,null,null,null,null,null,null,{"$f":"IF(E163=\"<B\",1,IF(E163=\"B-C\",2,IF(E163=\"C-RESC\",3,IF(E163=\">RESC\",4,IF(E163=\"Non anticipé\",0,0)))))","v":0}]
["4-B.1.2.2","Hydrocarbures aromatiques monocycliques",null,null,null,null,null,null,null,null,null,{"$f":"IF(E164=\"<B\",1,IF(E164=\"B-C\",2,IF(E164=\"C-RESC\",3,IF(E164=\">RESC\",4,IF(E164=\"Non anticipé\",0,0)))))","v":0}]
["4-B.1.2.3","Hydrocarbures aliphatiques chlorés",null,null,null,null,null,null,null,null,null,{"$f":"IF(E165=\"<B\",1,IF(E165=\"B-C\",2,IF(E165=\"C-RESC\",3,IF(E165=\">RESC\",4,IF(E165=\"Non anticipé\",0,0)))))","v":0}]
["4-B.1.2.4","Chlorobenzènes",null,null,null,null,null,null,null,null,null,{"$f":"IF(E166=\"<B\",1,IF(E166=\"B-C\",2,IF(E166=\"C-RESC\",3,IF(E166=\">RESC\",4,IF(E166=\"Non anticipé\",0,0)))))","v":0}]
["4-B.1.3","Autres composés organiques"]
["4-B.1.3.1","Hydrocarbures aromatiques polycycliques",null,null,null,null,null,null,null,null,null,{"$f":"IF(E168=\"<B\",1,IF(E168=\"B-C\",2,IF(E168=\"C-RESC\",3,IF(E168=\">RESC\",4,IF(E168=\"Non anticipé\",0,0)))))","v":0}]
["4-B.1.3.2","Composés phénoliques",null,null,null,null,null,null,null,null,null,{"$f":"IF(E169=\"<B\",1,IF(E169=\"B-C\",2,IF(E169=\"C-RESC\",3,IF(E169=\">RESC\",4,IF(E169=\"Non anticipé\",0,0)))))","v":0}]
["4-B.1.3.3","Biphényles polychlorés (BPC)",null,null,null,null,null,null,null,null,null,{"$f":"IF(E170=\"<B\",1,IF(E170=\"B-C\",2,IF(E170=\"C-RESC\",3,IF(E170=\">RESC\",4,IF(E170=\"Non anticipé\",0,0)))))","v":0}]
["4-B.1.3.4","Pesticides",null,null,null,null,null,null,null,null,null,{"$f":"IF(E171=\"<B\",1,IF(E171=\"B-C\",2,IF(E171=\"C-RESC\",3,IF(E171=\">RESC\",4,IF(E171=\"Non anticipé\",0,0)))))","v":0}]
["4-B.2","Volumes de contamination - Zone saturée"]
["4-B.2.1","Inorganique uniquement - Volume par plage de contamination (m3) "]
["4-B.2.1.1","B-C - inorganique uniquement"]
["4-B.2.1.2","C-RESC - inorganique uniquement"]
["4-B.2.1.3","> RESC - inorganique uniquement"]
["4-B.2.2","Organique (produits pétroliers et COV) uniquement - Volume par plage de contamination (m3) "]
["4-B.2.2.1","B-C - organique (produits pétroliers et COV) uniquement"]
["4-B.2.2.2","C-RESC - organique (produits pétroliers et COV) uniquement"]
["4-B.2.2.3","> RESC - organique (produits pétroliers et COV) uniquement"]
["4-B.2.3","Autres composés organiques uniquement - Volume par plage de contamination (m3) "]
["4-B.2.3.1","B-C - autres composés organiques uniquement"]
["4-B.2.3.2","C-RESC - autres composés organiques uniquement"]
["4-B.2.3.3","> RESC - autres composés organiques uniquement"]
["4-B.2.4","Mixte: inorganique et organique (produits pétroliers et COV) - Volume par plage de contamination (m3) "]
["4-B.2.4.1","B-C - mixte : inorganique et organique (produits pétroliers et COV)"]
["4-B.2.4.2","C-RESC - mixte : inorganique et organique (produits pétroliers et COV)"]
["4-B.2.4.3","> RESC - mixte : inorganique et organique (produits pétroliers et COV)"]
["4-B.2.5","Mixte: inorganique et autres composés organiques - Volume par plage de contamination (m3) "]
["4-B.2.5.1","B-C - mixte : inorganique et autres composés organiques"]
["4-B.2.5.2","C-RESC - mixte : inorganique et autres composés organiques"]
["4-B.2.5.3","> RESC - mixte : inorganique et autres composés organiques"]
["4-B.2.6","Mixte: organique (produits pétroliers et COV) et autres composés organiques - Volume par plage de contamination (m3) "]
["4-B.2.6.1","B-C - mixte : organique (produits pétroliers et COV) et autres composés organiques"]
["4-B.2.6.2","C-RESC - mixte : organique (produits pétroliers et COV) et autres composés organiques"]
["4-B.2.6.3","> RESC - mixte : organique (produits pétroliers et COV) et autres composés organiques"]
["4-B.2.7","Mixte: inorganique, organique (produits pétroliers et COV) et autres composés organiques - Volume par plage de contamination (m3) "]
["4-B.2.7.1","B-C - mixte : inorganique, organique (produits pétroliers et COV) et autres composés organiques"]
["4-B.2.7.2","C-RESC - mixte : inorganique, organique (produits pétroliers et COV) et autres composés organiques"]
["4-B.2.7.3","> RESC - mixte : inorganique, organique (produits pétroliers et COV) et autres composés organiques"]
["4-B.2.8","Matières résiduelles (horizons distincts) - Volume par type de matière résiduelle (m3) "]
["4-B.2.8.1","MRND"]
["4-B.2.8.2","MDR"]
["4-B.3","Condition des sols - Zone saturée"]
["4-B.3.1","Conductivité hydraulique des sols de la zone saturée"]
[]
["5.","Pondération des critères",null,null,null,"Justificatif",null,null,null,"Références"]
["5-A","Onglet B: Évaluation des méthodes de réhabilitation potentielles"]
["5-A.1","L'outil répartit équitablement le poids entre les critères de faisabilité technique, de dimension sociale, d'impact environnemental et de coût de réhabilitation (25%/critère). Est-ce que cette répartition est convenable au projet à l'étude? Si non, indiquer la distribution aux ligne 5-A.1.1 à 5-A.1.4."]
["5-A.1.1","Faisabilité technique",null,null,0.25]
["5-A.1.2","Dimension sociale",null,null,0.25]
["5-A.1.3","Impact environnemental",null,null,0.25]
["5-A.1.4","Coût de réhabilitation",null,null,0.25]
["5-A.1.5","Somme",null,null,{"$f":"SUM(E210:E213)","v":1}]
["5-B","Onglet C: Évaluation comparative des scénarios de réhabilitation aaplicables et sélection du scénario optimal"]
["5-B.1","L'outil associe un poids de 70 % à l'évaluation des scénarios potentiels et de 30 % au coût des scénarios potentiels en fonction du volume de la famille de contaminants. Est-ce que cette répartition est convenable au projet à l'étude? Si non, indiquer la distribution aux lignes 5-B.1.1 à 5-B.1.2."]
["5-B.1.1","Évaluation des scénarios applicables",null,null,0.7]
["5-B.1.2","Coût des scénarios applicables en fonction du volume de la famille de contaminants",null,null,0.3]
["5-B.1.3","Somme",null,null,{"$f":"SUM(E217:E218)","v":1}]

{"sheet":"Menu_scenario","index":13,"n_rows":36,"n_cols":11,"rows_kept":36,"cut":false,"hidden":true,"merged":[[29,0,29,5],[0,0,0,5],[6,0,6,5],[13,0,13,5],[14,0,14,5],[20,0,20,5],[21,0,21,5]]}
["Generalités"]
["General","General LQE","Dangers immédiats"]
["Oui","Cessation d'une activité désignée (A31.51 LQE)","Oui, connu"]
["Non","Changement d'usage (A31.53 LQE)","Appréhendé"]
[null,"Non","Non appréhendé"]
[null,null,"Non, connu"]
["Usages, caractéristiques et contraintes du site"]
["Critère de référence","Proximité eau de surface","Proximité source eau potable","Accessibilité","Délai imposé","Distance","Distance lieux habités",null,"Disponibilité main d'œuvre",null,"Profondeur contamination"]
["Critère B : milieux sensibles (naturel, nordique, agricole) ou usage résidentiel/institutionnel sensible  ","0-100 m","<1 km","Accessible","Aucun délai ","<300 km","0-0,5 km",null,"Peu ou pas accessible",null,"≤3 m"]
["Critère C : usage commercial/institutionnel non sensible/chaussée, trottoir et parc et industriel","100-300 m","1-2 km","Peu accessible","<1 an","300-500 km","0,5-1 km",null,"Moyennement accessible",null,">3 m"]
[null,"300-500 m","2-5 km","Non accessible","1-3 ans","500-750 km","1-5 km",null,"Très accessible"]
[null,">500 m","Aucune source d'eau potable (>5 km)",null,"3-5 ans",">750 km","> 5 km"]
[null,null,null,null,">5 ans"]
["Évaluation des besoins de caractérisation complémentaire"]
["Évaluation des caractérisations Phase I et Phase II"]
["Composés volatils"]
["Oui"]
["Non"]
["Pas de bâtiment"]
[]
["Etat environnemental du site"]
["Sols ou roc altéré"]
["Plage de contamination","Plage de contamination (volatils)","Granulométrie","Chemin préférentiel","Conductivité hydraulique","Profondeur contamination"]
["<B","<A","Sable, gravier ou pierre concassée","Oui","> 10-5 m/s"]
["B-C","A-B","Silt ou argile","Possible","Entre 10-7 m/s et 10-5 m/s"]
["C-RESC","B-C",null,"Non","< 10-7 m/s"]
[">RESC",">C"]
["Non anticipé","Non anticipé"]
[]
["Formulaire B"]
["Type de polluant organique","Taux d'excavation","$/tm","$/m3"]
["Produits chlorés","BC",40,{"$f":"C32*2.1","v":84}]
["Composés phénoliques","C-RESC",75,{"$f":"C33*2.1","v":157.5}]
["BPC",">RESC",95,{"$f":"C34*2.1","v":199.5}]
[null,"MRND",75,{"$f":"C35*2.1","v":157.5}]
[null,"MRD",125,{"$f":"C36*2.1","v":262.5}]

{"sheet":"B-Méthodes","index":14,"n_rows":194,"n_cols":30,"rows_kept":194,"cut":false,"hidden":false,"merged":[[189,29,189,30],[189,17,189,18],[189,19,189,20],[189,21,189,22],[189,23,189,24],[189,25,189,26],[189,27,189,28],[188,21,188,22],[188,23,188,24],[188,25,188,26],[188,27,188,28],[188,29,188,30],[189,7,189,8],[189,9,189,10],[189,11,189,12],[189,13,189,14],[189,15,189,16],[187,27,187,28],[187,29,187,30],[188,2,188,6],[188,7,188,8],[188,9,188,10],[188,11,188,12],[188,13,188,14],[188,15,188,16],[188,17,188,18],[188,19,188,20],[187,15,187,16],[187,17,187,18],[187,19,187,20],[187,21,187,22],[187,23,187,24],[187,25,187,26],[186,21,186,22],[186,23,186,24],[186,25,186,26],[186,27,186,28],[186,29,186,30],[187,2,187,6],[187,7,187,8],[187,9,187,10],[187,11,187,12],[187,13,187,14],[185,27,185,28],[185,29,185,30],[186,2,186,6],[186,7,186,8],[186,9,186,10],[186,11,186,12],[186,13,186,14],[186,15,186,16],[186,17,186,18],[186,19,186,20],[185,15,185,16],[185,17,185,18],[185,19,185,20],[185,21,185,22],[185,23,185,24],[185,25,185,26],[185,2,185,4],[185,5,185,6],[185,7,185,8],[185,9,185,10],[185,11,185,12],[185,13,185,14],[184,19,184,20],[184,21,184,22],[184,23,184,24],[184,25,184,26],[184,27,184,28],[184,29,184,30],[183,27,183,28],[183,29,183,30],[184,2,184,4],[184,5,184,6],[184,7,184,8],[184,9,184,10],[184,11,184,12],[184,13,184,14],[184,15,184,16],[184,17,184,18],[183,15,183,16],[183,17,183,18],[183,19,183,20],[183,21,183,22],[183,23,183,24],[183,25,183,26],[181,29,181,30],[182,2,182,4],[182,7,182,8],[182,9,182,10],[182,11,182,12],[182,13,182,14],[182,15,182,16],[182,17,182,18],[182,19,182,20],[182,21,182,22],[181,17,181,18],[181,19,181,20],[181,21,181,22],[181,23,181,24],[181,25,181,26],[181,27,181,28],[181,2,181,4],[181,7,181,8],[181,9,181,10],[181,11,181,12],[181,13,181,14],[181,15,181,16],[180,19,180,20],[180,21,180,22],[180,23,180,24],[180,25,180,26],[180,27,180,28],[180,29,180,30],[179,29,179,30],[180,1,188,1],[180,2,180,4],[180,5,182,6],[180,7,180,8],[180,9,180,10],[180,11,180,12],[180,13,180,14],[180,15,180,16],[180,17,180,18],[179,17,179,18],[179,19,179,20],[179,21,179,22],[179,23,179,24],[179,25,179,26],[179,27,179,28],[182,23,182,24],[182,25,182,26],[182,27,182,28],[182,29,182,30],[183,2,183,4],[183,5,183,6],[183,7,183,8],[183,9,183,10],[183,11,183,12],[183,13,183,14],[178,23,178,24],[178,25,178,26],[178,27,178,28],[178,29,178,30],[179,2,179,6],[179,7,179,8],[179,9,179,10],[179,11,179,12],[179,13,179,14],[179,15,179,16],[177,29,177,30],[178,2,178,6],[178,7,178,8],[178,9,178,10],[178,11,178,12],[178,13,178,14],[178,15,178,16],[178,17,178,18],[178,19,178,20],[178,21,178,22],[177,17,177,18],[177,19,177,20],[177,21,177,22],[177,23,177,24],[177,25,177,26],[177,27,177,28],[177,2,177,6],[177,7,177,8],[177,9,177,10],[177,11,177,12],[177,13,177,14],[177,15,177,16],[176,19,176,20],[176,21,176,22],[176,23,176,24],[176,25,176,26],[176,27,176,28],[176,29,176,30],[175,27,175,28],[175,29,175,30],[176,2,176,4],[176,5,176,6],[176,7,176,8],[176,9,176,10],[176,11,176,12],[176,13,176,14],[176,15,176,16],[176,17,176,18],[175,15,175,16],[175,17,175,18],[175,19,175,20],[175,21,175,22],[175,23,175,24],[175,25,175,26],[175,2,175,4],[175,5,175,6],[175,7,175,8],[175,9,175,10],[175,11,175,12],[175,13,175,14],[174,19,174,20],[174,21,174,22],[174,23,174,24],[174,25,174,26],[174,27,174,28],[174,29,174,30],[173,27,173,28],[173,29,173,30],[174,2,174,4],[174,5,174,6],[174,7,174,8],[174,9,174,10],[174,11,174,12],[174,13,174,14],[174,15,174,16],[174,17,174,18],[173,15,173,16],[173,17,173,18],[173,19,173,20],[173,21,173,22],[173,23,173,24],[173,25,173,26],[173,7,173,8],[173,9,173,10],[173,11,173,12],[173,13,173,14],[171,27,171,28],[171,29,171,30],[172,2,172,4],[172,7,172,8],[172,9,172,10],[172,11,172,12],[172,13,172,14],[172,15,172,16],[172,17,172,18],[172,19,172,20],[171,15,171,16],[171,17,171,18],[171,19,171,20],[171,21,171,22],[171,23,171,24],[171,25,171,26],[168,27,168,28],[168,29,168,30],[170,1,170,30],[171,1,179,1],[171,2,171,4],[171,5,173,6],[171,7,171,8],[171,9,171,10],[171,11,171,12],[171,13,171,14],[168,15,168,16],[168,17,168,18],[168,19,168,20],[168,21,168,22],[168,23,168,24],[168,25,168,26],[167,21,167,22],[167,23,167,24],[167,25,167,26],[167,27,167,28],[167,29,167,30],[168,1,168,6],[168,7,168,8],[168,9,168,10],[168,11,168,12],[168,13,168,14],[172,21,172,22],[172,23,172,24],[172,25,172,26],[172,27,172,28],[172,29,172,30],[173,2,173,4],[166,29,166,30],[167,1,167,4],[167,5,167,6],[167,7,167,8],[167,9,167,10],[167,11,167,12],[167,13,167,14],[167,15,167,16],[167,17,167,18],[167,19,167,20],[166,17,166,18],[166,19,166,20],[166,21,166,22],[166,23,166,24],[166,25,166,26],[166,27,166,28],[165,23,165,24],[165,25,165,26],[165,27,165,28],[165,29,165,30],[166,1,166,4],[166,7,166,8],[166,9,166,10],[166,11,166,12],[166,13,166,14],[166,15,166,16],[164,29,164,30],[165,1,165,4],[165,7,165,8],[165,9,165,10],[165,11,165,12],[165,13,165,14],[165,15,165,16],[165,17,165,18],[165,19,165,20],[165,21,165,22],[164,17,164,18],[164,19,164,20],[164,21,164,22],[164,23,164,24],[164,25,164,26],[164,27,164,28],[163,23,163,24],[163,25,163,26],[163,27,163,28],[163,29,163,30],[164,1,164,4],[164,7,164,8],[164,9,164,10],[164,11,164,12],[164,13,164,14],[164,15,164,16],[162,29,162,30],[163,1,163,4],[163,7,163,8],[163,9,163,10],[163,11,163,12],[163,13,163,14],[163,15,163,16],[163,17,163,18],[163,19,163,20],[163,21,163,22],[162,17,162,18],[162,19,162,20],[162,21,162,22],[162,23,162,24],[162,25,162,26],[162,27,162,28],[161,23,161,24],[161,25,161,26],[161,27,161,28],[161,29,161,30],[162,1,162,4],[162,7,162,8],[162,9,162,10],[162,11,162,12],[162,13,162,14],[162,15,162,16],[160,29,160,30],[161,1,161,4],[161,7,161,8],[161,9,161,10],[161,11,161,12],[161,13,161,14],[161,15,161,16],[161,17,161,18],[161,19,161,20],[161,21,161,22],[160,17,160,18],[160,19,160,20],[160,21,160,22],[160,23,160,24],[160,25,160,26],[160,27,160,28],[159,23,159,24],[159,25,159,26],[159,27,159,28],[159,29,159,30],[160,1,160,4],[160,7,160,8],[160,9,160,10],[160,11,160,12],[160,13,160,14],[160,15,160,16],[158,29,158,30],[159,1,159,4],[159,7,159,8],[159,9,159,10],[159,11,159,12],[159,13,159,14],[159,15,159,16],[159,17,159,18],[159,19,159,20],[159,21,159,22],[158,17,158,18],[158,19,158,20],[158,21,158,22],[158,23,158,24],[158,25,158,26],[158,27,158,28],[157,23,157,24],[157,25,157,26],[157,27,157,28],[157,29,157,30],[158,1,158,4],[158,7,158,8],[158,9,158,10],[158,11,158,12],[158,13,158,14],[158,15,158,16],[157,7,157,8],[157,9,157,10],[157,11,157,12],[157,13,157,14],[157,15,157,16],[157,17,157,18],[157,19,157,20],[157,21,157,22],[156,15,156,16],[156,17,156,18],[156,19,156,20],[156,21,156,22],[156,23,156,24],[156,25,156,26],[155,21,155,22],[155,23,155,24],[155,25,155,26],[156,1,156,6],[156,7,156,8],[156,9,156,10],[156,11,156,12],[156,13,156,14],[154,29,154,30],[155,1,155,4],[155,5,155,6],[155,7,155,8],[155,9,155,10],[155,11,155,12],[155,13,155,14],[155,15,155,16],[155,17,155,18],[155,19,155,20],[154,17,154,18],[154,19,154,20],[154,21,154,22],[154,23,154,24],[154,25,154,26],[154,27,154,28],[156,27,156,28],[156,29,156,30],[155,27,155,28],[155,29,155,30],[153,23,153,24],[153,25,153,26],[153,27,153,28],[153,29,153,30],[154,1,154,4],[154,7,154,8],[154,9,154,10],[154,11,154,12],[154,13,154,14],[154,15,154,16],[152,29,152,30],[153,1,153,4],[153,7,153,8],[153,9,153,10],[153,11,153,12],[153,13,153,14],[153,15,153,16],[153,17,153,18],[153,19,153,20],[153,21,153,22],[152,17,152,18],[152,19,152,20],[152,21,152,22],[152,23,152,24],[152,25,152,26],[152,27,152,28],[151,23,151,24],[151,25,151,26],[151,27,151,28],[151,29,151,30],[152,1,152,4],[152,7,152,8],[152,9,152,10],[152,11,152,12],[152,13,152,14],[152,15,152,16],[150,29,150,30],[151,1,151,4],[151,7,151,8],[151,9,151,10],[151,11,151,12],[151,13,151,14],[151,15,151,16],[151,17,151,18],[151,19,151,20],[151,21,151,22],[150,17,150,18],[150,19,150,20],[150,21,150,22],[150,23,150,24],[150,25,150,26],[150,27,150,28],[149,23,149,24],[149,25,149,26],[149,27,149,28],[149,29,149,30],[150,1,150,4],[150,7,150,8],[150,9,150,10],[150,11,150,12],[150,13,150,14],[150,15,150,16],[148,29,148,30],[149,1,149,4],[149,7,149,8],[149,9,149,10],[149,11,149,12],[149,13,149,14],[149,15,149,16],[149,17,149,18],[149,19,149,20],[149,21,149,22],[148,17,148,18],[148,19,148,20],[148,21,148,22],[148,23,148,24],[148,25,148,26],[148,27,148,28],[147,23,147,24],[147,25,147,26],[147,27,147,28],[147,29,147,30],[148,1,148,4],[148,7,148,8],[148,9,148,10],[148,11,148,12],[148,13,148,14],[148,15,148,16],[146,29,146,30],[147,1,147,4],[147,7,147,8],[147,9,147,10],[147,11,147,12],[147,13,147,14],[147,15,147,16],[147,17,147,18],[147,19,147,20],[147,21,147,22],[146,17,146,18],[146,19,146,20],[146,21,146,22],[146,23,146,24],[146,25,146,26],[146,27,146,28],[146,1,146,4],[146,7,146,8],[146,9,146,10],[146,11,146,12],[146,13,146,14],[146,15,146,16],[145,19,145,20],[145,21,145,22],[145,23,145,24],[145,25,145,26],[145,27,145,28],[145,29,145,30],[145,7,145,8],[145,9,145,10],[145,11,145,12],[145,13,145,14],[145,15,145,16],[145,17,145,18],[144,19,144,20],[144,21,144,22],[144,23,144,24],[144,25,144,26],[144,27,144,28],[144,29,144,30],[143,25,143,26],[143,27,143,28],[143,29,143,30],[144,5,144,6],[144,7,144,8],[144,9,144,10],[144,11,144,12],[144,13,144,14],[144,15,144,16],[144,17,144,18],[143,13,143,14],[143,15,143,16],[143,17,143,18],[143,19,143,20],[143,21,143,22],[143,23,143,24],[141,23,141,24],[141,25,141,26],[141,27,141,28],[141,29,141,30],[142,1,142,30],[143,1,144,4],[143,5,143,6],[143,7,143,8],[143,9,143,10],[143,11,143,12],[140,29,140,30],[141,1,141,6],[141,7,141,8],[141,9,141,10],[141,11,141,12],[141,13,141,14],[141,15,141,16],[141,17,141,18],[141,19,141,20],[141,21,141,22],[140,17,140,18],[140,19,140,20],[140,21,140,22],[140,23,140,24],[140,25,140,26],[140,27,140,28],[140,5,140,6],[140,7,140,8],[140,9,140,10],[140,11,140,12],[140,13,140,14],[140,15,140,16],[139,19,139,20],[139,21,139,22],[139,23,139,24],[139,25,139,26],[139,27,139,28],[139,29,139,30],[138,27,138,28],[138,29,138,30],[139,1,139,4],[139,5,139,6],[139,7,139,8],[139,9,139,10],[139,11,139,12],[139,13,139,14],[139,15,139,16],[139,17,139,18],[138,15,138,16],[138,17,138,18],[138,19,138,20],[138,21,138,22],[138,23,138,24],[138,25,138,26],[138,1,138,4],[138,5,138,6],[138,7,138,8],[138,9,138,10],[138,11,138,12],[138,13,138,14],[136,21,136,22],[136,25,136,26],[136,27,136,28],[136,29,136,30],[137,1,137,4],[137,5,137,6],[137,7,137,8],[137,9,137,10],[135,17,135,18],[136,1,136,4],[136,5,136,6],[136,7,136,8],[136,9,136,10],[136,15,136,16],[136,17,136,18],[135,1,135,4],[135,5,135,6],[135,7,135,8],[135,11,135,12],[135,13,135,14],[135,15,135,16],[133,17,133,18],[134,1,134,4],[134,5,134,6],[134,7,134,8],[134,11,134,12],[134,13,134,14],[134,15,134,16],[134,17,134,18],[133,1,133,4],[133,5,133,6],[133,7,133,8],[133,11,133,12],[133,13,133,14],[133,15,133,16],[131,17,131,18],[132,1,132,4],[132,5,132,6],[132,7,132,8],[132,11,132,12],[132,13,132,14],[132,15,132,16],[132,17,132,18],[131,1,131,4],[131,5,131,6],[131,7,131,8],[131,11,131,12],[131,13,131,14],[131,15,131,16],[129,29,129,30],[130,1,130,4],[130,5,130,6],[130,7,130,8],[130,11,130,12],[130,13,130,14],[130,15,130,16],[130,17,130,18],[129,17,129,18],[129,19,129,20],[129,21,129,22],[129,23,129,24],[129,25,129,26],[129,27,129,28],[128,23,128,24],[128,25,128,26],[128,27,128,28],[128,29,128,30],[129,1,129,6],[129,7,129,8],[129,9,129,10],[129,11,129,12],[129,13,129,14],[129,15,129,16],[127,29,127,30],[128,1,128,4],[128,7,128,8],[128,9,128,10],[128,11,128,12],[128,13,128,14],[128,15,128,16],[128,17,128,18],[128,19,128,20],[128,21,128,22],[127,17,127,18],[127,19,127,20],[127,21,127,22],[127,23,127,24],[127,25,127,26],[127,27,127,28],[126,23,126,24],[126,25,126,26],[126,27,126,28],[126,29,126,30],[127,1,127,4],[127,7,127,8],[127,9,127,10],[127,11,127,12],[127,13,127,14],[127,15,127,16],[125,29,125,30],[126,1,126,4],[126,7,126,8],[126,9,126,10],[126,11,126,12],[126,13,126,14],[126,15,126,16],[126,17,126,18],[126,19,126,20],[126,21,126,22],[125,17,125,18],[125,19,125,20],[125,21,125,22],[125,23,125,24],[125,25,125,26],[125,27,125,28],[125,1,125,4],[125,7,125,8],[125,9,125,10],[125,11,125,12],[125,13,125,14],[125,15,125,16],[124,19,124,20],[124,21,124,22],[124,23,124,24],[124,25,124,26],[124,27,124,28],[124,29,124,30],[120,29,120,30],[122,1,122,30],[123,1,123,30],[124,1,124,4],[124,7,124,8],[124,9,124,10],[124,11,124,12],[124,13,124,14],[124,15,124,16],[124,17,124,18],[120,17,120,18],[120,19,120,20],[120,21,120,22],[120,23,120,24],[120,25,120,26],[120,27,120,28],[119,21,119,22],[119,23,119,24],[119,25,119,26],[119,27,119,28],[119,29,119,30],[120,7,120,8],[120,9,120,10],[120,11,120,12],[120,13,120,14],[120,15,120,16],[118,27,118,28],[118,29,118,30],[119,1,119,6],[119,7,119,8],[119,9,119,10],[119,11,119,12],[119,13,119,14],[119,15,119,16],[119,17,119,18],[119,19,119,20],[118,15,118,16],[118,17,118,18],[118,19,118,20],[118,21,118,22],[118,23,118,24],[118,25,118,26],[117,21,117,22],[117,23,117,24],[117,25,117,26],[117,27,117,28],[117,29,117,30],[118,1,118,6],[118,7,118,8],[118,9,118,10],[118,11,118,12],[118,13,118,14],[115,29,115,30],[117,1,117,6],[117,7,117,8],[117,9,117,10],[117,11,117,12],[117,13,117,14],[117,15,117,16],[117,17,117,18],[117,19,117,20],[115,17,115,18],[115,19,115,20],[115,21,115,22],[115,23,115,24],[115,25,115,26],[115,27,115,28],[114,23,114,24],[114,25,114,26],[114,27,114,28],[114,29,114,30],[115,1,115,6],[115,7,115,8],[115,9,115,10],[115,11,115,12],[115,13,115,14],[115,15,115,16],[113,29,113,30],[114,1,114,6],[114,7,114,8],[114,9,114,10],[114,11,114,12],[114,13,114,14],[114,15,114,16],[114,17,114,18],[114,19,114,20],[114,21,114,22],[113,17,113,18],[113,19,113,20],[113,21,113,22],[113,23,113,24],[113,25,113,26],[113,27,113,28],[113,1,113,6],[113,7,113,8],[113,9,113,10],[113,11,113,12],[113,13,113,14],[113,15,113,16],[111,21,111,22],[111,23,111,24],[111,25,111,26],[111,27,111,28],[111,29,111,30],[110,27,110,28],[110,29,110,30],[111,1,111,6],[111,7,111,8],[111,9,111,10],[111,11,111,12],[111,13,111,14],[111,15,111,16],[111,17,111,18],[111,19,111,20],[110,15,110,16],[110,17,110,18],[110,19,110,20],[110,21,110,22],[110,23,110,24],[110,25,110,26],[109,21,109,22],[109,23,109,24],[109,25,109,26],[109,27,109,28],[109,29,109,30],[110,1,110,6],[110,7,110,8],[110,9,110,10],[110,11,110,12],[110,13,110,14],[107,29,107,30],[109,1,109,6],[109,7,109,8],[109,9,109,10],[109,11,109,12],[109,13,109,14],[109,15,109,16],[109,17,109,18],[109,19,109,20],[107,17,107,18],[107,19,107,20],[107,21,107,22],[107,23,107,24],[107,25,107,26],[107,27,107,28],[106,23,106,24],[106,25,106,26],[106,27,106,28],[106,29,106,30],[107,1,107,6],[107,7,107,8],[107,9,107,10],[107,11,107,12],[107,13,107,14],[107,15,107,16],[105,29,105,30],[106,1,106,6],[106,7,106,8],[106,9,106,10],[106,11,106,12],[106,13,106,14],[106,15,106,16],[106,17,106,18],[106,19,106,20],[106,21,106,22],[105,17,105,18],[105,19,105,20],[105,21,105,22],[105,23,105,24],[105,25,105,26],[105,27,105,28],[105,1,105,6],[105,7,105,8],[105,9,105,10],[105,11,105,12],[105,13,105,14],[105,15,105,16],[104,19,104,20],[104,21,104,22],[104,23,104,24],[104,25,104,26],[104,27,104,28],[104,29,104,30],[100,29,100,30],[102,1,102,30],[104,1,104,6],[104,7,104,8],[104,9,104,10],[104,11,104,12],[104,13,104,14],[104,15,104,16],[104,17,104,18],[100,17,100,18],[100,19,100,20],[100,21,100,22],[100,23,100,24],[100,25,100,26],[100,27,100,28],[99,21,99,22],[99,23,99,24],[99,25,99,26],[99,27,99,28],[99,29,99,30],[100,7,100,8],[100,9,100,10],[100,11,100,12],[100,13,100,14],[100,15,100,16],[98,27,98,28],[98,29,98,30],[99,1,99,6],[99,7,99,8],[99,9,99,10],[99,11,99,12],[99,13,99,14],[99,15,99,16],[99,17,99,18],[99,19,99,20],[98,15,98,16],[98,17,98,18],[98,19,98,20],[98,21,98,22]],"merged_total":1922,"flags":["merged_cut"]}
["Évaluation des méthodes de réhabilitation potentielles",null,null,null,null,null,null,"Méthodes de réhabilitation considérées"]
[null,null,null,null,null,null,null,1,null,2,null,3,null,4,null,5,null,6,null,7,null,8,null,9,null,10,null,11,null,12]
[null,null,null,null,null,null,null,null,null,null,null,"Traitement ex situ ",null,null,null,null,null,null,null,"Traitement in situ"]
[null,null,null,null,null,null,null,"Excavation et élimination",null,"Confinement avec analyse de risques",null,"Biopile",null,"Oxydation",null,"Solidification/stabilisation",null,"Thermique",null,"Phytoremédiation",null,"Biologique",null,"Oxydation chimique",null,"(Bio)ventilation",null,"(Bio)barbotage",null,"Lavage de sol"]
["1.","Faisabilité technique"]
["1-A","Conditions de terrain"]
["1-A.1","Durée de traitement"]
["1-A.1.1","Durée maximale:",{"$f":"'A-Outil sélection scénario'!E85","v":0},null,null,null,null,{"$f":"IF($C$8=\"<1 an\",\"S'applique\",IF($C$8=\"1-3 ans\",\"S'applique\",IF($C$8=\"3-5 ans\",\"S'applique\",IF($C$8=\">5 ans\",\"S'applique\",\"\"))))","v":""},null,{"$f":"IF($C$8=\"<1 an\",\"S'applique\",IF($C$8=\"1-3 ans\",\"S'applique\",IF($C$8=\"3-5 ans\",\"S'applique\",IF($C$8=\">5 ans\",\"S'applique\",\"\"))))","v":""},null,{"$f":"IF($C$8=\"<1 an\",\"S'applique\",IF($C$8=\"1-3 ans\",\"S'applique\",IF($C$8=\"3-5 ans\",\"S'applique\",IF($C$8=\">5 ans\",\"S'applique\",\"\"))))","v":""},null,{"$f":"IF($C$8=\"<1 an\",\"S'applique\",IF($C$8=\"1-3 ans\",\"S'applique\",IF($C$8=\"3-5 ans\",\"S'applique\",IF($C$8=\">5 ans\",\"S'applique\",\"\"))))","v":""},null,{"$f":"IF($C$8=\"<1 an\",\"S'applique\",IF($C$8=\"1-3 ans\",\"S'applique\",IF($C$8=\"3-5 ans\",\"S'applique\",IF($C$8=\">5 ans\",\"S'applique\",\"\"))))","v":""},null,{"$f":"IF($C$8=\"<1 an\",\"S'applique\",IF($C$8=\"1-3 ans\",\"S'applique\",IF($C$8=\"3-5 ans\",\"S'applique\",IF($C$8=\">5 ans\",\"S'applique\",\"\"))))","v":""},null,{"$f":"IF($C$8=\"<1 an\",\"Ne s'applique pas\",IF($C$8=\"1-3 ans\",\"Ne s'applique pas\",IF($C$8=\"3-5 ans\",\"Ne s'applique pas\",IF($C$8=\">5 ans\",\"S'applique\",\"\"))))","v":""},null,{"$f":"IF($C$8=\"<1 an\",\"Ne s'applique pas\",IF($C$8=\"1-3 ans\",\"S'applique\",IF($C$8=\"3-5 ans\",\"S'applique\",IF($C$8=\">5 ans\",\"S'applique\",\"\"))))","v":""},null,{"$f":"IF($C$8=\"<1 an\",\"S'applique\",IF($C$8=\"1-3 ans\",\"S'applique\",IF($C$8=\"3-5 ans\",\"S'applique\",IF($C$8=\">5 ans\",\"S'applique\",\"\"))))","v":""},null,"",null,"",null,""]
["1-A.2","Conductivité hydraulique"]
["1-A.2.1","Zone vadose contaminée",null,null,null,{"$f":"'A-Outil sélection scénario'!E108","v":0}]
["1-A.2.1.1","Conductivité hydraulique > 10-5 m/s",null,null,null,{"$f":"IF('A-Outil sélection scénario'!E156=\"> 10-5 m/s\",\"Oui\",\"Non\")","v":"Non"},null,{"$f":"IF($F$11=\"Oui\",\"S'applique\",\"-\")","v":"-"},null,{"$f":"IF($F$11=\"Oui\",\"S'applique\",\"-\")","v":"-"},null,{"$f":"IF($F$11=\"Oui\",\"S'applique\",\"-\")","v":"-"},null,{"$f":"IF($F$11=\"Oui\",\"S'applique\",\"-\")","v":"-"},null,{"$f":"IF($F$11=\"Oui\",\"S'applique\",\"-\")","v":"-"},null,{"$f":"IF($F$11=\"Oui\",\"S'applique\",\"-\")","v":"-"},null,{"$f":"IF($F$11=\"Oui\",\"S'applique\",\"-\")","v":"-"},null,{"$f":"IF($F$11=\"Oui\",\"S'applique\",\"-\")","v":"-"},null,{"$f":"IF($F$11=\"Oui\",\"S'applique\",\"-\")","v":"-"},null,{"$f":"IF($F$11=\"Oui\",\"S'applique\",\"-\")","v":"-"},null,{"$f":"IF($F$11=\"Oui\",\"Ne s'applique pas\",\"-\")","v":"-"},null,{"$f":"IF($F$11=\"Oui\",\"Ne s'applique pas\",\"-\")","v":"-"}]
["1-A.2.1.2","10-7 m/s < Conductivité hydraulique < 10-5 m/s",null,null,null,{"$f":"IF('A-Outil sélection scénario'!E156=\"Entre 10-7 m/s et 10-5 m/s\",\"Oui\",\"Non\")","v":"Non"},null,{"$f":"IF($F$12=\"Oui\",\"S'applique\",\"-\")","v":"-"},null,{"$f":"IF($F$12=\"Oui\",\"S'applique\",\"-\")","v":"-"},null,{"$f":"IF($F$12=\"Oui\",\"S'applique\",\"-\")","v":"-"},null,{"$f":"IF($F$12=\"Oui\",\"S'applique\",\"-\")","v":"-"},null,{"$f":"IF($F$12=\"Oui\",\"S'applique\",\"-\")","v":"-"},null,{"$f":"IF($F$12=\"Oui\",\"S'applique\",\"-\")","v":"-"},null,{"$f":"IF($F$12=\"Oui\",\"S'applique\",\"-\")","v":"-"},null,{"$f":"IF($F$12=\"Oui\",\"Ne s'applique pas\",\"-\")","v":"-"},null,{"$f":"IF($F$12=\"Oui\",\"S'applique\",\"-\")","v":"-"},null,{"$f":"IF($F$12=\"Oui\",\"Ne s'applique pas\",\"-\")","v":"-"},null,{"$f":"IF($F$12=\"Oui\",\"Ne s'applique pas\",\"-\")","v":"-"},null,{"$f":"IF($F$12=\"Oui\",\"Ne s'applique pas\",\"-\")","v":"-"}]
["1-A.2.1.3","Conductivité hydraulique < 10-7 m/s",null,null,null,{"$f":"IF('A-Outil sélection scénario'!E156=\"< 10-7 m/s\",\"Oui\",\"Non\")","v":"Non"},null,{"$f":"IF($F$13=\"Oui\",\"S'applique\",\"-\")","v":"-"},null,{"$f":"IF($F$13=\"Oui\",\"S'applique\",\"-\")","v":"-"},null,{"$f":"IF($F$13=\"Oui\",\"Ne s'applique pas\",\"-\")","v":"-"},null,{"$f":"IF($F$13=\"Oui\",\"Ne s'applique pas\",\"-\")","v":"-"},null,{"$f":"IF($F$13=\"Oui\",\"Ne s'applique pas\",\"-\")","v":"-"},null,{"$f":"IF($F$13=\"Oui\",\"Ne s'applique pas\",\"-\")","v":"-"},null,{"$f":"IF($F$13=\"Oui\",\"Ne s'applique pas\",\"-\")","v":"-"},null,{"$f":"IF($F$13=\"Oui\",\"Ne s'applique pas\",\"-\")","v":"-"},null,{"$f":"IF($F$13=\"Oui\",\"Ne s'applique pas\",\"-\")","v":"-"},null,{"$f":"IF($F$13=\"Oui\",\"Ne s'applique pas\",\"-\")","v":"-"},null,{"$f":"IF($F$13=\"Oui\",\"Ne s'applique pas\",\"-\")","v":"-"},null,{"$f":"IF($F$13=\"Oui\",\"Ne s'applique pas\",\"-\")","v":"-"}]
["1-A.2.2","Zone saturée contaminée",null,null,null,{"$f":"'A-Outil sélection scénario'!E157","v":0}]
["1-A.2.2.1","Conductivité hydraulique > 10-5 m/s",null,null,null,{"$f":"IF('A-Outil sélection scénario'!E205=\"> 10-5 m/s\",\"Oui\",\"Non\")","v":"Non"},null,{"$f":"IF($F$15=\"Oui\",\"S'applique\",\"-\")","v":"-"},null,{"$f":"IF($F$15=\"Oui\",\"S'applique\",\"-\")","v":"-"},null,{"$f":"IF($F$15=\"Oui\",\"S'applique\",\"-\")","v":"-"},null,{"$f":"IF($F$15=\"Oui\",\"S'applique\",\"-\")","v":"-"},null,{"$f":"IF($F$15=\"Oui\",\"S'applique\",\"-\")","v":"-"},null,{"$f":"IF($F$15=\"Oui\",\"S'applique\",\"-\")","v":"-"},null,{"$f":"IF($F$15=\"Oui\",\"Ne s'applique pas\",\"-\")","v":"-"},null,{"$f":"IF($F$15=\"Oui\",\"S'applique\",\"-\")","v":"-"},null,{"$f":"IF($F$15=\"Oui\",\"S'applique\",\"-\")","v":"-"},null,{"$f":"IF($F$15=\"Oui\",\"Ne s'applique pas\",\"-\")","v":"-"},null,{"$f":"IF($F$15=\"Oui\",\"S'applique\",\"-\")","v":"-"},null,{"$f":"IF($F$15=\"Oui\",\"S'applique\",\"-\")","v":"-"}]
["1-A.2.2.2","10-7 m/s < Conductivité hydraulique < 10-5 m/s",null,null,null,{"$f":"IF('A-Outil sélection scénario'!E205=\"Entre 10-7 m/s et 10-5 m/s\",\"Oui\",\"Non\")","v":"Non"},null,{"$f":"IF($F$16=\"Oui\",\"S'applique\",\"-\")","v":"-"},null,{"$f":"IF($F$16=\"Oui\",\"S'applique\",\"-\")","v":"-"},null,{"$f":"IF($F$16=\"Oui\",\"S'applique\",\"-\")","v":"-"},null,{"$f":"IF($F$16=\"Oui\",\"S'applique\",\"-\")","v":"-"},null,{"$f":"IF($F$16=\"Oui\",\"S'applique\",\"-\")","v":"-"},null,{"$f":"IF($F$16=\"Oui\",\"S'applique\",\"-\")","v":"-"},null,{"$f":"IF($F$16=\"Oui\",\"Ne s'applique pas\",\"-\")","v":"-"},null,{"$f":"IF($F$16=\"Oui\",\"Ne s'applique pas\",\"-\")","v":"-"},null,{"$f":"IF($F$16=\"Oui\",\"S'applique\",\"-\")","v":"-"},null,{"$f":"IF($F$16=\"Oui\",\"Ne s'applique pas\",\"-\")","v":"-"},null,{"$f":"IF($F$16=\"Oui\",\"Ne s'applique pas\",\"-\")","v":"-"},null,{"$f":"IF($F$16=\"Oui\",\"Ne s'applique pas\",\"-\")","v":"-"}]
["1-A.2.2.3","Conductivité hydraulique < 10-7 m/s",null,null,null,{"$f":"IF('A-Outil sélection scénario'!E205=\"< 10-7 m/s\",\"Oui\",\"Non\")","v":"Non"},null,{"$f":"IF($F$17=\"Oui\",\"S'applique\",\"-\")","v":"-"},null,{"$f":"IF($F$17=\"Oui\",\"S'applique\",\"-\")","v":"-"},null,{"$f":"IF($F$17=\"Oui\",\"Ne s'applique pas\",\"-\")","v":"-"},null,{"$f":"IF($F$17=\"Oui\",\"Ne s'applique pas\",\"-\")","v":"-"},null,{"$f":"IF($F$17=\"Oui\",\"Ne s'applique pas\",\"-\")","v":"-"},null,{"$f":"IF($F$17=\"Oui\",\"Ne s'applique pas\",\"-\")","v":"-"},null,{"$f":"IF($F$17=\"Oui\",\"Ne s'applique pas\",\"-\")","v":"-"},null,{"$f":"IF($F$17=\"Oui\",\"Ne s'applique pas\",\"-\")","v":"-"},null,{"$f":"IF($F$17=\"Oui\",\"Ne s'applique pas\",\"-\")","v":"-"},null,{"$f":"IF($F$17=\"Oui\",\"Ne s'applique pas\",\"-\")","v":"-"},null,{"$f":"IF($F$17=\"Oui\",\"Ne s'applique pas\",\"-\")","v":"-"},null,{"$f":"IF($F$17=\"Oui\",\"Ne s'applique pas\",\"-\")","v":"-"}]
["1-A.3","Autres considérations"]
["1-A.3.1","Activité en cours ne permettant absolument pas l'opération d'un système de traitement in situ ou ex situ sur le site",null,null,null,{"$f":"IF('A-Outil sélection scénario'!E86=\"Oui\",\"Oui\",IF('A-Outil sélection scénario'!E86=\"Non\",\"Non\",\"\"))","v":""},null,{"$f":"IF(OR($F$19=\"Non\",$F$19=\"Oui\"),\"S'applique\",\"-\")","v":"-"},null,{"$f":"IF(OR($F$19=\"Non\",$F$19=\"Oui\"),\"S'applique\",\"-\")","v":"-"},null,{"$f":"IF($F$19=\"Non\",\"S'applique\",IF($F$19=\"Oui\",\"Ne s'applique pas\",\"-\"))","v":"-"},null,{"$f":"IF($F$19=\"Non\",\"S'applique\",IF($F$19=\"Oui\",\"Ne s'applique pas\",\"-\"))","v":"-"},null,{"$f":"IF($F$19=\"Non\",\"S'applique\",IF($F$19=\"Oui\",\"Ne s'applique pas\",\"-\"))","v":"-"},null,{"$f":"IF($F$19=\"Non\",\"S'applique\",IF($F$19=\"Oui\",\"Ne s'applique pas\",\"-\"))","v":"-"},null,{"$f":"IF($F$19=\"Non\",\"S'applique\",IF($F$19=\"Oui\",\"Ne s'applique pas\",\"-\"))","v":"-"},null,{"$f":"IF($F$19=\"Non\",\"S'applique\",IF($F$19=\"Oui\",\"Ne s'applique pas\",\"-\"))","v":"-"},null,{"$f":"IF($F$19=\"Non\",\"S'applique\",IF($F$19=\"Oui\",\"Ne s'applique pas\",\"-\"))","v":"-"},null,{"$f":"IF($F$19=\"Non\",\"S'applique\",IF($F$19=\"Oui\",\"Ne s'applique pas\",\"-\"))","v":"-"},null,{"$f":"IF($F$19=\"Non\",\"S'applique\",IF($F$19=\"Oui\",\"Ne s'applique pas\",\"-\"))","v":"-"},null,{"$f":"IF($F$19=\"Non\",\"S'applique\",IF($F$19=\"Oui\",\"Ne s'applique pas\",\"-\"))","v":"-"}]
["1-A.3.2","Profondeur maximale de la contamination",null,null,null,{"$f":"'A-Outil sélection scénario'!E91","v":0},null,{"$f":"IF(OR($F$20=\"≤3 m\",$F$20=\">3 m\"),\"S'applique\",\"-\")","v":"-"},null,{"$f":"IF(OR($F$20=\"≤3 m\",$F$20=\">3 m\"),\"S'applique\",\"-\")","v":"-"},null,{"$f":"IF(OR($F$20=\"≤3 m\",$F$20=\">3 m\"),\"S'applique\",\"-\")","v":"-"},null,{"$f":"IF(OR($F$20=\"≤3 m\",$F$20=\">3 m\"),\"S'applique\",\"-\")","v":"-"},null,{"$f":"IF(OR($F$20=\"≤3 m\",$F$20=\">3 m\"),\"S'applique\",\"-\")","v":"-"},null,{"$f":"IF(OR($F$20=\"≤3 m\",$F$20=\">3 m\"),\"S'applique\",\"-\")","v":"-"},null,{"$f":"IF(F20=\"≤3 m\",\"S'applique\",IF(F20=\">3 m\",\"Ne s'applique pas\",\"-\"))","v":"-"},null,{"$f":"IF(OR($F$20=\"≤3 m\",$F$20=\">3 m\"),\"S'applique\",\"-\")","v":"-"},null,{"$f":"IF(OR($F$20=\"≤3 m\",$F$20=\">3 m\"),\"S'applique\",\"-\")","v":"-"},null,{"$f":"IF(OR($F$20=\"≤3 m\",$F$20=\">3 m\"),\"S'applique\",\"-\")","v":"-"},null,{"$f":"IF(OR($F$20=\"≤3 m\",$F$20=\">3 m\"),\"S'applique\",\"-\")","v":"-"},null,{"$f":"IF(OR($F$20=\"≤3 m\",$F$20=\">3 m\"),\"S'applique\",\"-\")","v":"-"}]
["1-A.3.3","Espace disponible pour effectuer du traitement ex situ sur le site ou un autre site",null,null,null,{"$f":"'A-Outil sélection scénario'!E93","v":0},null,{"$f":"IF($F$21=\"Oui\",\"-\",\"-\")","v":"-"},null,{"$f":"IF($F$21=\"Oui\",\"-\",\"-\")","v":"-"},null,{"$f":"IF($F$21=\"Oui\",\"S'applique\",IF($F$21=\"Non\",\"Ne s'applique pas\",\"-\"))","v":"-"},null,{"$f":"IF($F$21=\"Oui\",\"S'applique\",IF($F$21=\"Non\",\"Ne s'applique pas\",\"-\"))","v":"-"},null,{"$f":"IF($F$21=\"Oui\",\"S'applique\",IF($F$21=\"Non\",\"Ne s'applique pas\",\"-\"))","v":"-"},null,{"$f":"IF($F$21=\"Oui\",\"S'applique\",IF($F$21=\"Non\",\"Ne s'applique pas\",\"-\"))","v":"-"},null,{"$f":"IF($F$21=\"Oui\",\"-\",\"-\")","v":"-"},null,{"$f":"IF($F$21=\"Oui\",\"-\",\"-\")","v":"-"},null,{"$f":"IF($F$21=\"Oui\",\"-\",\"-\")","v":"-"},null,{"$f":"IF($F$21=\"Oui\",\"-\",\"-\")","v":"-"},null,{"$f":"IF($F$21=\"Oui\",\"-\",\"-\")","v":"-"},null,{"$f":"IF($F$21=\"Oui\",\"-\",\"-\")","v":"-"}]
["1-A.3.4","Présence de remblai hétérogène, de matières résiduelles ou d'anciennes infrastructures - Zone vadose",null,null,null,{"$f":"'A-Outil sélection scénario'!E103","v":0},null,{"$f":"IF($F$22=\"Oui\",\"S'applique\",\"-\")","v":"-"},null,{"$f":"IF($F$22=\"Oui\",\"S'applique\",\"-\")","v":"-"},null,{"$f":"IF($F$22=\"Oui\",\"S'applique\",\"-\")","v":"-"},null,{"$f":"IF($F$22=\"Oui\",\"S'applique\",\"-\")","v":"-"},null,{"$f":"IF($F$22=\"Oui\",\"S'applique\",\"-\")","v":"-"},null,{"$f":"IF($F$22=\"Oui\",\"S'applique\",\"-\")","v":"-"},null,{"$f":"IF($F$22=\"Oui\",\"Ne s'applique pas\",\"-\")","v":"-"},null,{"$f":"IF($F$22=\"Oui\",\"Ne s'applique pas\",\"-\")","v":"-"},null,{"$f":"IF($F$22=\"Oui\",\"Ne s'applique pas\",\"-\")","v":"-"},null,{"$f":"IF($F$22=\"Oui\",\"Ne s'applique pas\",\"-\")","v":"-"},null,{"$f":"IF($F$22=\"Oui\",\"Ne s'applique pas\",\"-\")","v":"-"},null,{"$f":"IF($F$22=\"Oui\",\"Ne s'applique pas\",\"-\")","v":"-"}]
["1-A.3.5","Présence de remblai hétérogène, de matières résiduelles ou d'anciennes infrastructures - Zone saturée",null,null,null,{"$f":"'A-Outil sélection scénario'!E104","v":0},null,{"$f":"IF($F$23=\"Oui\",\"S'applique\",\"-\")","v":"-"},null,{"$f":"IF($F$23=\"Oui\",\"S'applique\",\"-\")","v":"-"},null,{"$f":"IF($F$23=\"Oui\",\"S'applique\",\"-\")","v":"-"},null,{"$f":"IF($F$23=\"Oui\",\"S'applique\",\"-\")","v":"-"},null,{"$f":"IF($F$23=\"Oui\",\"S'applique\",\"-\")","v":"-"},null,{"$f":"IF($F$23=\"Oui\",\"S'applique\",\"-\")","v":"-"},null,{"$f":"IF($F$23=\"Oui\",\"Ne s'applique pas\",\"-\")","v":"-"},null,{"$f":"IF($F$23=\"Oui\",\"Ne s'applique pas\",\"-\")","v":"-"},null,{"$f":"IF($F$23=\"Oui\",\"Ne s'applique pas\",\"-\")","v":"-"},null,{"$f":"IF($F$23=\"Oui\",\"Ne s'applique pas\",\"-\")","v":"-"},null,{"$f":"IF($F$23=\"Oui\",\"Ne s'applique pas\",\"-\")","v":"-"},null,{"$f":"IF($F$23=\"Oui\",\"Ne s'applique pas\",\"-\")","v":"-"}]
["1-A.3.6","Présence de bâtiments ou d'infrastructures hors sol en activité dans la zone impactée par la réhabilitation (contamination à plus de 4 m de prof.)",null,null,null,{"$f":"'A-Outil sélection scénario'!E99","v":0},null,{"$f":"IF($F$24=\"Oui\",\"Ne s'applique pas\",\"-\")","v":"-"},null,{"$f":"IF($F$24=\"Oui\",\"S'applique\",\"-\")","v":"-"},null,{"$f":"IF($F$24=\"Oui\",\"Ne s'applique pas\",\"-\")","v":"-"},null,{"$f":"IF($F$24=\"Oui\",\"Ne s'applique pas\",\"-\")","v":"-"},null,{"$f":"IF($F$24=\"Oui\",\"Ne s'applique pas\",\"-\")","v":"-"},null,{"$f":"IF($F$24=\"Oui\",\"Ne s'applique pas\",\"-\")","v":"-"},null,{"$f":"IF($F$24=\"Oui\",\"S'applique\",\"-\")","v":"-"},null,{"$f":"IF($F$24=\"Oui\",\"S'applique\",\"-\")","v":"-"},null,{"$f":"IF($F$24=\"Oui\",\"S'applique\",\"-\")","v":"-"},null,{"$f":"IF($F$24=\"Oui\",\"S'applique\",\"-\")","v":"-"},null,{"$f":"IF($F$24=\"Oui\",\"S'applique\",\"-\")","v":"-"},null,{"$f":"IF($F$24=\"Oui\",\"S'applique\",\"-\")","v":"-"}]
["1-A.3.7","Le site doit être excavé pour construction dans un secteur qui couvre la totalité ou la grande majorité de la zone impactée par la réhabilitation",null,null,null,{"$f":"'A-Outil sélection scénario'!E94","v":0},null,{"$f":"IF($F$25=\"Oui\",\"S'applique\",\"-\")","v":"-"},null,{"$f":"IF($F$25=\"Oui\",\"Ne s'applique pas\",\"-\")","v":"-"},null,{"$f":"IF($F$25=\"Oui\",\"Ne s'applique pas\",\"-\")","v":"-"},null,{"$f":"IF($F$25=\"Oui\",\"Ne s'applique pas\",\"-\")","v":"-"},null,{"$f":"IF($F$25=\"Oui\",\"Ne s'applique pas\",\"-\")","v":"-"},null,{"$f":"IF($F$25=\"Oui\",\"Ne s'applique pas\",\"-\")","v":"-"},null,{"$f":"IF($F$25=\"Oui\",\"Ne s'applique pas\",\"-\")","v":"-"},null,{"$f":"IF($F$25=\"Oui\",\"Ne s'applique pas\",\"-\")","v":"-"},null,{"$f":"IF($F$25=\"Oui\",\"Ne s'applique pas\",\"-\")","v":"-"},null,{"$f":"IF($F$25=\"Oui\",\"Ne s'applique pas\",\"-\")","v":"-"},null,{"$f":"IF($F$25=\"Oui\",\"Ne s'applique pas\",\"-\")","v":"-"},null,{"$f":"IF($F$25=\"Oui\",\"Ne s'applique pas\",\"-\")","v":"-"}]
["1-A.4","Méthodes possibles selon les critères de pré-sélection pour la zone vadose",null,null,null,null,null,{"$f":"IF(OR(H8=\"Ne s'applique pas\",AND($F$11=\"Oui\",H11=\"Ne s'applique pas\"),(H20=\"Ne s'applique pas\"),AND($F$12=\"Oui\",H12=\"Ne s'applique pas\"),AND($F$13=\"Oui\",H13=\"Ne s'applique pas\"),AND($F$19=\"Oui\",H19=\"Ne s'applique pas\"),AND($F$21=\"Oui\",H21=\"Ne s'applique pas\"),AND($F$22=\"Oui\",H22=\"Ne s'applique pas\"),AND($F$24=\"Oui\",H24=\"Ne s'applique pas\"),AND($F$25=\"Oui\",H25=\"Ne s'applique pas\")),\"Ne s'applique pas\",\"S'applique\")","v":"S'applique"},null,{"$f":"IF(OR(J8=\"Ne s'applique pas\",AND($F$11=\"Oui\",J11=\"Ne s'applique pas\"),(J20=\"Ne s'applique pas\"),AND($F$12=\"Oui\",J12=\"Ne s'applique pas\"),AND($F$13=\"Oui\",J13=\"Ne s'applique pas\"),AND($F$19=\"Oui\",J19=\"Ne s'applique pas\"),AND($F$21=\"Oui\",J21=\"Ne s'applique pas\"),AND($F$22=\"Oui\",J22=\"Ne s'applique pas\"),AND($F$24=\"Oui\",J24=\"Ne s'applique pas\"),AND($F$25=\"Oui\",J25=\"Ne s'applique pas\")),\"Ne s'applique pas\",\"S'applique\")","v":"S'applique"},null,{"$f":"IF(OR(L8=\"Ne s'applique pas\",AND($F$11=\"Oui\",L11=\"Ne s'applique pas\"),(L20=\"Ne s'applique pas\"),AND($F$12=\"Oui\",L12=\"Ne s'applique pas\"),AND($F$13=\"Oui\",L13=\"Ne s'applique pas\"),AND($F$19=\"Oui\",L19=\"Ne s'applique pas\"),AND($F$21=\"Oui\",L21=\"Ne s'applique pas\"),AND($F$22=\"Oui\",L22=\"Ne s'applique pas\"),AND($F$24=\"Oui\",L24=\"Ne s'applique pas\"),AND($F$25=\"Oui\",L25=\"Ne s'applique pas\")),\"Ne s'applique pas\",\"S'applique\")","v":"S'applique"},null,{"$f":"IF(OR(N8=\"Ne s'applique pas\",AND($F$11=\"Oui\",N11=\"Ne s'applique pas\"),(N20=\"Ne s'applique pas\"),AND($F$12=\"Oui\",N12=\"Ne s'applique pas\"),AND($F$13=\"Oui\",N13=\"Ne s'applique pas\"),AND($F$19=\"Oui\",N19=\"Ne s'applique pas\"),AND($F$21=\"Oui\",N21=\"Ne s'applique pas\"),AND($F$22=\"Oui\",N22=\"Ne s'applique pas\"),AND($F$24=\"Oui\",N24=\"Ne s'applique pas\"),AND($F$25=\"Oui\",N25=\"Ne s'applique pas\")),\"Ne s'applique pas\",\"S'applique\")","v":"S'applique"},null,{"$f":"IF(OR(P8=\"Ne s'applique pas\",AND($F$11=\"Oui\",P11=\"Ne s'applique pas\"),(P20=\"Ne s'applique pas\"),AND($F$12=\"Oui\",P12=\"Ne s'applique pas\"),AND($F$13=\"Oui\",P13=\"Ne s'applique pas\"),AND($F$19=\"Oui\",P19=\"Ne s'applique pas\"),AND($F$21=\"Oui\",P21=\"Ne s'applique pas\"),AND($F$22=\"Oui\",P22=\"Ne s'applique pas\"),AND($F$24=\"Oui\",P24=\"Ne s'applique pas\"),AND($F$25=\"Oui\",P25=\"Ne s'applique pas\")),\"Ne s'applique pas\",\"S'applique\")","v":"S'applique"},null,{"$f":"IF(OR(R8=\"Ne s'applique pas\",AND($F$11=\"Oui\",R11=\"Ne s'applique pas\"),(R20=\"Ne s'applique pas\"),AND($F$12=\"Oui\",R12=\"Ne s'applique pas\"),AND($F$13=\"Oui\",R13=\"Ne s'applique pas\"),AND($F$19=\"Oui\",R19=\"Ne s'applique pas\"),AND($F$21=\"Oui\",R21=\"Ne s'applique pas\"),AND($F$22=\"Oui\",R22=\"Ne s'applique pas\"),AND($F$24=\"Oui\",R24=\"Ne s'applique pas\"),AND($F$25=\"Oui\",R25=\"Ne s'applique pas\")),\"Ne s'applique pas\",\"S'applique\")","v":"S'applique"},null,{"$f":"IF(OR(T8=\"Ne s'applique pas\",AND($F$11=\"Oui\",T11=\"Ne s'applique pas\"),(T20=\"Ne s'applique pas\"),AND($F$12=\"Oui\",T12=\"Ne s'applique pas\"),AND($F$13=\"Oui\",T13=\"Ne s'applique pas\"),AND($F$19=\"Oui\",T19=\"Ne s'applique pas\"),AND($F$21=\"Oui\",T21=\"Ne s'applique pas\"),AND($F$22=\"Oui\",T22=\"Ne s'applique pas\"),AND($F$24=\"Oui\",T24=\"Ne s'applique pas\"),AND($F$25=\"Oui\",T25=\"Ne s'applique pas\")),\"Ne s'applique pas\",\"S'applique\")","v":"S'applique"},null,{"$f":"IF(OR(V8=\"Ne s'applique pas\",AND($F$11=\"Oui\",V11=\"Ne s'applique pas\"),(V20=\"Ne s'applique pas\"),AND($F$12=\"Oui\",V12=\"Ne s'applique pas\"),AND($F$13=\"Oui\",V13=\"Ne s'applique pas\"),AND($F$19=\"Oui\",V19=\"Ne s'applique pas\"),AND($F$21=\"Oui\",V21=\"Ne s'applique pas\"),AND($F$22=\"Oui\",V22=\"Ne s'applique pas\"),AND($F$24=\"Oui\",V24=\"Ne s'applique pas\"),AND($F$25=\"Oui\",V25=\"Ne s'applique pas\")),\"Ne s'applique pas\",\"S'applique\")","v":"S'applique"},null,{"$f":"IF(OR(X8=\"Ne s'applique pas\",AND($F$11=\"Oui\",X11=\"Ne s'applique pas\"),(X20=\"Ne s'applique pas\"),AND($F$12=\"Oui\",X12=\"Ne s'applique pas\"),AND($F$13=\"Oui\",X13=\"Ne s'applique pas\"),AND($F$19=\"Oui\",X19=\"Ne s'applique pas\"),AND($F$21=\"Oui\",X21=\"Ne s'applique pas\"),AND($F$22=\"Oui\",X22=\"Ne s'applique pas\"),AND($F$24=\"Oui\",X24=\"Ne s'applique pas\"),AND($F$25=\"Oui\",X25=\"Ne s'applique pas\")),\"Ne s'applique pas\",\"S'applique\")","v":"S'applique"},null,{"$f":"IF(OR(Z8=\"Ne s'applique pas\",AND($F$11=\"Oui\",Z11=\"Ne s'applique pas\"),(Z20=\"Ne s'applique pas\"),AND($F$12=\"Oui\",Z12=\"Ne s'applique pas\"),AND($F$13=\"Oui\",Z13=\"Ne s'applique pas\"),AND($F$19=\"Oui\",Z19=\"Ne s'applique pas\"),AND($F$21=\"Oui\",Z21=\"Ne s'applique pas\"),AND($F$22=\"Oui\",Z22=\"Ne s'applique pas\"),AND($F$24=\"Oui\",Z24=\"Ne s'applique pas\"),AND($F$25=\"Oui\",Z25=\"Ne s'applique pas\")),\"Ne s'applique pas\",\"S'applique\")","v":"S'applique"},null,{"$f":"IF(OR(AB8=\"Ne s'applique pas\",AND($F$11=\"Oui\",AB11=\"Ne s'applique pas\"),(AB20=\"Ne s'applique pas\"),AND($F$12=\"Oui\",AB12=\"Ne s'applique pas\"),AND($F$13=\"Oui\",AB13=\"Ne s'applique pas\"),AND($F$19=\"Oui\",AB19=\"Ne s'applique pas\"),AND($F$21=\"Oui\",AB21=\"Ne s'applique pas\"),AND($F$22=\"Oui\",AB22=\"Ne s'applique pas\"),AND($F$24=\"Oui\",AB24=\"Ne s'applique pas\"),AND($F$25=\"Oui\",AB25=\"Ne s'applique pas\")),\"Ne s'applique pas\",\"S'applique\")","v":"S'applique"},null,{"$f":"IF(OR(AD8=\"Ne s'applique pas\",AND($F$11=\"Oui\",AD11=\"Ne s'applique pas\"),(AD20=\"Ne s'applique pas\"),AND($F$12=\"Oui\",AD12=\"Ne s'applique pas\"),AND($F$13=\"Oui\",AD13=\"Ne s'applique pas\"),AND($F$19=\"Oui\",AD19=\"Ne s'applique pas\"),AND($F$21=\"Oui\",AD21=\"Ne s'applique pas\"),AND($F$22=\"Oui\",AD22=\"Ne s'applique pas\"),AND($F$24=\"Oui\",AD24=\"Ne s'applique pas\"),AND($F$25=\"Oui\",AD25=\"Ne s'applique pas\")),\"Ne s'applique pas\",\"S'applique\")","v":"S'applique"}]
["1-A.5","Méthodes possibles selon les critères de pré-sélection pour la zone saturée",null,null,null,null,null,{"$f":"IF(OR(H8=\"Ne s'applique pas\",AND($F$15=\"Oui\",H15=\"Ne s'applique pas\"),(H20=\"Ne s'applique pas\"),AND($F$16=\"Oui\",H16=\"Ne s'applique pas\"),AND($F$17=\"Oui\",H17=\"Ne s'applique pas\"),AND($F$19=\"Oui\",H19=\"Ne s'applique pas\"),AND($F$21=\"Oui\",H21=\"Ne s'applique pas\"),AND($F$23=\"Oui\",H23=\"Ne s'applique pas\"),AND($F$24=\"Oui\",H24=\"Ne s'applique pas\"),AND($F$25=\"Oui\",H25=\"Ne s'applique pas\")),\"Ne s'applique pas\",\"S'applique\")","v":"S'applique"},null,{"$f":"IF(OR(J8=\"Ne s'applique pas\",AND($F$15=\"Oui\",J15=\"Ne s'applique pas\"),(J20=\"Ne s'applique pas\"),AND($F$16=\"Oui\",J16=\"Ne s'applique pas\"),AND($F$17=\"Oui\",J17=\"Ne s'applique pas\"),AND($F$19=\"Oui\",J19=\"Ne s'applique pas\"),AND($F$21=\"Oui\",J21=\"Ne s'applique pas\"),AND($F$23=\"Oui\",J23=\"Ne s'applique pas\"),AND($F$24=\"Oui\",J24=\"Ne s'applique pas\"),AND($F$25=\"Oui\",J25=\"Ne s'applique pas\")),\"Ne s'applique pas\",\"S'applique\")","v":"S'applique"},null,{"$f":"IF(OR(L8=\"Ne s'applique pas\",AND($F$15=\"Oui\",L15=\"Ne s'applique pas\"),(L20=\"Ne s'applique pas\"),AND($F$16=\"Oui\",L16=\"Ne s'applique pas\"),AND($F$17=\"Oui\",L17=\"Ne s'applique pas\"),AND($F$19=\"Oui\",L19=\"Ne s'applique pas\"),AND($F$21=\"Oui\",L21=\"Ne s'applique pas\"),AND($F$23=\"Oui\",L23=\"Ne s'applique pas\"),AND($F$24=\"Oui\",L24=\"Ne s'applique pas\"),AND($F$25=\"Oui\",L25=\"Ne s'applique pas\")),\"Ne s'applique pas\",\"S'applique\")","v":"S'applique"},null,{"$f":"IF(OR(N8=\"Ne s'applique pas\",AND($F$15=\"Oui\",N15=\"Ne s'applique pas\"),(N20=\"Ne s'applique pas\"),AND($F$16=\"Oui\",N16=\"Ne s'applique pas\"),AND($F$17=\"Oui\",N17=\"Ne s'applique pas\"),AND($F$19=\"Oui\",N19=\"Ne s'applique pas\"),AND($F$21=\"Oui\",N21=\"Ne s'applique pas\"),AND($F$23=\"Oui\",N23=\"Ne s'applique pas\"),AND($F$24=\"Oui\",N24=\"Ne s'applique pas\"),AND($F$25=\"Oui\",N25=\"Ne s'applique pas\")),\"Ne s'applique pas\",\"S'applique\")","v":"S'applique"},null,{"$f":"IF(OR(P8=\"Ne s'applique pas\",AND($F$15=\"Oui\",P15=\"Ne s'applique pas\"),(P20=\"Ne s'applique pas\"),AND($F$16=\"Oui\",P16=\"Ne s'applique pas\"),AND($F$17=\"Oui\",P17=\"Ne s'applique pas\"),AND($F$19=\"Oui\",P19=\"Ne s'applique pas\"),AND($F$21=\"Oui\",P21=\"Ne s'applique pas\"),AND($F$23=\"Oui\",P23=\"Ne s'applique pas\"),AND($F$24=\"Oui\",P24=\"Ne s'applique pas\"),AND($F$25=\"Oui\",P25=\"Ne s'applique pas\")),\"Ne s'applique pas\",\"S'applique\")","v":"S'applique"},null,{"$f":"IF(OR(R8=\"Ne s'applique pas\",AND($F$15=\"Oui\",R15=\"Ne s'applique pas\"),(R20=\"Ne s'applique pas\"),AND($F$16=\"Oui\",R16=\"Ne s'applique pas\"),AND($F$17=\"Oui\",R17=\"Ne s'applique pas\"),AND($F$19=\"Oui\",R19=\"Ne s'applique pas\"),AND($F$21=\"Oui\",R21=\"Ne s'applique pas\"),AND($F$23=\"Oui\",R23=\"Ne s'applique pas\"),AND($F$24=\"Oui\",R24=\"Ne s'applique pas\"),AND($F$25=\"Oui\",R25=\"Ne s'applique pas\")),\"Ne s'applique pas\",\"S'applique\")","v":"S'applique"},null,{"$f":"IF(OR(T8=\"Ne s'applique pas\",AND($F$15=\"Oui\",T15=\"Ne s'applique pas\"),(T20=\"Ne s'applique pas\"),AND($F$16=\"Oui\",T16=\"Ne s'applique pas\"),AND($F$17=\"Oui\",T17=\"Ne s'applique pas\"),AND($F$19=\"Oui\",T19=\"Ne s'applique pas\"),AND($F$21=\"Oui\",T21=\"Ne s'applique pas\"),AND($F$23=\"Oui\",T23=\"Ne s'applique pas\"),AND($F$24=\"Oui\",T24=\"Ne s'applique pas\"),AND($F$25=\"Oui\",T25=\"Ne s'applique pas\")),\"Ne s'applique pas\",\"S'applique\")","v":"S'applique"},null,{"$f":"IF(OR(V8=\"Ne s'applique pas\",AND($F$15=\"Oui\",V15=\"Ne s'applique pas\"),(V20=\"Ne s'applique pas\"),AND($F$16=\"Oui\",V16=\"Ne s'applique pas\"),AND($F$17=\"Oui\",V17=\"Ne s'applique pas\"),AND($F$19=\"Oui\",V19=\"Ne s'applique pas\"),AND($F$21=\"Oui\",V21=\"Ne s'applique pas\"),AND($F$23=\"Oui\",V23=\"Ne s'applique pas\"),AND($F$24=\"Oui\",V24=\"Ne s'applique pas\"),AND($F$25=\"Oui\",V25=\"Ne s'applique pas\")),\"Ne s'applique pas\",\"S'applique\")","v":"S'applique"},null,{"$f":"IF(OR(X8=\"Ne s'applique pas\",AND($F$15=\"Oui\",X15=\"Ne s'applique pas\"),(X20=\"Ne s'applique pas\"),AND($F$16=\"Oui\",X16=\"Ne s'applique pas\"),AND($F$17=\"Oui\",X17=\"Ne s'applique pas\"),AND($F$19=\"Oui\",X19=\"Ne s'applique pas\"),AND($F$21=\"Oui\",X21=\"Ne s'applique pas\"),AND($F$23=\"Oui\",X23=\"Ne s'applique pas\"),AND($F$24=\"Oui\",X24=\"Ne s'applique pas\"),AND($F$25=\"Oui\",X25=\"Ne s'applique pas\")),\"Ne s'applique pas\",\"S'applique\")","v":"S'applique"},null,{"$f":"IF(OR(Z8=\"Ne s'applique pas\",AND($F$15=\"Oui\",Z15=\"Ne s'applique pas\"),(Z20=\"Ne s'applique pas\"),AND($F$16=\"Oui\",Z16=\"Ne s'applique pas\"),AND($F$17=\"Oui\",Z17=\"Ne s'applique pas\"),AND($F$19=\"Oui\",Z19=\"Ne s'applique pas\"),AND($F$21=\"Oui\",Z21=\"Ne s'applique pas\"),AND($F$23=\"Oui\",Z23=\"Ne s'applique pas\"),AND($F$24=\"Oui\",Z24=\"Ne s'applique pas\"),AND($F$25=\"Oui\",Z25=\"Ne s'applique pas\")),\"Ne s'applique pas\",\"S'applique\")","v":"S'applique"},null,{"$f":"IF(OR(AB8=\"Ne s'applique pas\",AND($F$15=\"Oui\",AB15=\"Ne s'applique pas\"),(AB20=\"Ne s'applique pas\"),AND($F$16=\"Oui\",AB16=\"Ne s'applique pas\"),AND($F$17=\"Oui\",AB17=\"Ne s'applique pas\"),AND($F$19=\"Oui\",AB19=\"Ne s'applique pas\"),AND($F$21=\"Oui\",AB21=\"Ne s'applique pas\"),AND($F$23=\"Oui\",AB23=\"Ne s'applique pas\"),AND($F$24=\"Oui\",AB24=\"Ne s'applique pas\"),AND($F$25=\"Oui\",AB25=\"Ne s'applique pas\")),\"Ne s'applique pas\",\"S'applique\")","v":"S'applique"},null,{"$f":"IF(OR(AD8=\"Ne s'applique pas\",AND($F$15=\"Oui\",AD15=\"Ne s'applique pas\"),(AD20=\"Ne s'applique pas\"),AND($F$16=\"Oui\",AD16=\"Ne s'applique pas\"),AND($F$17=\"Oui\",AD17=\"Ne s'applique pas\"),AND($F$19=\"Oui\",AD19=\"Ne s'applique pas\"),AND($F$21=\"Oui\",AD21=\"Ne s'applique pas\"),AND($F$23=\"Oui\",AD23=\"Ne s'applique pas\"),AND($F$24=\"Oui\",AD24=\"Ne s'applique pas\"),AND($F$25=\"Oui\",AD25=\"Ne s'applique pas\")),\"Ne s'applique pas\",\"S'applique\")","v":"S'applique"}]
["1-B","Compatibilité des méthodes de réhabilitation en fonction des contaminants"]
["1-B.1","Zone vadose"]
["1-B.1.1","Groupe de contaminants"]
["1-B.1.1.1","Composés inorganiques"]
["1-B.1.1.1.1","Métaux",null,null,null,{"$f":"IF('A-Outil sélection scénario'!L111>='A-Outil sélection scénario'!$L$74,\"Oui\",\"Non\")","v":"Non"},null,{"$f":"IF($F$32=\"Oui\",\"S'applique\",\"-\")","v":"-"},null,{"$f":"IF($F$32=\"Oui\",\"S'applique\",\"-\")","v":"-"},null,{"$f":"IF($F$32=\"Oui\",\"Ne s'applique pas\",\"-\")","v":"-"},null,{"$f":"IF($F$32=\"Oui\",\"Avec restrictions\",\"-\")","v":"-"},null,{"$f":"IF($F$32=\"Oui\",\"S'applique\",\"-\")","v":"-"},null,{"$f":"IF($F$32=\"Oui\",\"Avec restrictions\",\"-\")","v":"-"},null,{"$f":"IF($F$32=\"Oui\",\"S'applique\",\"-\")","v":"-"},null,{"$f":"IF($F$32=\"Oui\",\"Ne s'applique pas\",\"-\")","v":"-"},null,{"$f":"IF($F$32=\"Oui\",\"Ne s'applique pas\",\"-\")","v":"-"},null,{"$f":"IF($F$32=\"Oui\",\"Ne s'applique pas\",\"-\")","v":"-"},null,{"$f":"IF($F$32=\"Oui\",\"Ne s'applique pas\",\"-\")","v":"-"},null,{"$f":"IF($F$32=\"Oui\",\"S'applique\",\"-\")","v":"-"}]
["1-B.1.1.1.2","Composés inorganiques non métalliques",null,null,null,{"$f":"IF('A-Outil sélection scénario'!L112>='A-Outil sélection scénario'!$L$74,\"Oui\",\"Non\")","v":"Non"},null,{"$f":"IF($F$33=\"Oui\",\"S'applique\",\"-\")","v":"-"},null,{"$f":"IF($F$33=\"Oui\",\"S'applique\",\"-\")","v":"-"},null,{"$f":"IF($F$33=\"Oui\",\"Ne s'applique pas\",\"-\")","v":"-"},null,{"$f":"IF($F$33=\"Oui\",\"Ne s'applique pas\",\"-\")","v":"-"},null,{"$f":"IF($F$33=\"Oui\",\"S'applique\",\"-\")","v":"-"},null,{"$f":"IF($F$33=\"Oui\",\"Ne s'applique pas\",\"-\")","v":"-"},null,{"$f":"IF($F$33=\"Oui\",\"S'applique\",\"-\")","v":"-"},null,{"$f":"IF($F$33=\"Oui\",\"Avec restrictions\",\"-\")","v":"-"},null,{"$f":"IF($F$33=\"Oui\",\"Ne s'applique pas\",\"-\")","v":"-"},null,{"$f":"IF($F$33=\"Oui\",\"Ne s'applique pas\",\"-\")","v":"-"},null,{"$f":"IF($F$33=\"Oui\",\"Ne s'applique pas\",\"-\")","v":"-"},null,{"$f":"IF($F$33=\"Oui\",\"S'applique\",\"-\")","v":"-"}]
["1-B.1.1.1.3","Applicabilité aux composés inorganiques de la zone vadose:",null,null,null,null,null,{"$f":"IF(OR(H32=\"Ne s'applique pas\",H33=\"Ne s'applique pas\"),\"Ne s'applique pas\",IF(AND(H32=\"-\",H33=\"-\"),\"-\",IF(OR(H32=\"Avec restrictions\",H33=\"Avec restrictions\"),\"Avec restrictions\",\"S'applique\")))","v":"-"},null,{"$f":"IF(OR(J32=\"Ne s'applique pas\",J33=\"Ne s'applique pas\"),\"Ne s'applique pas\",IF(AND(J32=\"-\",J33=\"-\"),\"-\",IF(OR(J32=\"Avec restrictions\",J33=\"Avec restrictions\"),\"Avec restrictions\",\"S'applique\")))","v":"-"},null,{"$f":"IF(OR(L32=\"Ne s'applique pas\",L33=\"Ne s'applique pas\"),\"Ne s'applique pas\",IF(AND(L32=\"-\",L33=\"-\"),\"-\",IF(OR(L32=\"Avec restrictions\",L33=\"Avec restrictions\"),\"Avec restrictions\",\"S'applique\")))","v":"-"},null,{"$f":"IF(OR(N32=\"Ne s'applique pas\",N33=\"Ne s'applique pas\"),\"Ne s'applique pas\",IF(AND(N32=\"-\",N33=\"-\"),\"-\",IF(OR(N32=\"Avec restrictions\",N33=\"Avec restrictions\"),\"Avec restrictions\",\"S'applique\")))","v":"-"},null,{"$f":"IF(OR(P32=\"Ne s'applique pas\",P33=\"Ne s'applique pas\"),\"Ne s'applique pas\",IF(AND(P32=\"-\",P33=\"-\"),\"-\",IF(OR(P32=\"Avec restrictions\",P33=\"Avec restrictions\"),\"Avec restrictions\",\"S'applique\")))","v":"-"},null,{"$f":"IF(OR(R32=\"Ne s'applique pas\",R33=\"Ne s'applique pas\"),\"Ne s'applique pas\",IF(AND(R32=\"-\",R33=\"-\"),\"-\",IF(OR(R32=\"Avec restrictions\",R33=\"Avec restrictions\"),\"Avec restrictions\",\"S'applique\")))","v":"-"},null,{"$f":"IF(OR(T32=\"Ne s'applique pas\",T33=\"Ne s'applique pas\"),\"Ne s'applique pas\",IF(AND(T32=\"-\",T33=\"-\"),\"-\",IF(OR(T32=\"Avec restrictions\",T33=\"Avec restrictions\"),\"Avec restrictions\",\"S'applique\")))","v":"-"},null,{"$f":"IF(OR(V32=\"Ne s'applique pas\",V33=\"Ne s'applique pas\"),\"Ne s'applique pas\",IF(AND(V32=\"-\",V33=\"-\"),\"-\",IF(OR(V32=\"Avec restrictions\",V33=\"Avec restrictions\"),\"Avec restrictions\",\"S'applique\")))","v":"-"},null,{"$f":"IF(OR(X32=\"Ne s'applique pas\",X33=\"Ne s'applique pas\"),\"Ne s'applique pas\",IF(AND(X32=\"-\",X33=\"-\"),\"-\",IF(OR(X32=\"Avec restrictions\",X33=\"Avec restrictions\"),\"Avec restrictions\",\"S'applique\")))","v":"-"},null,{"$f":"IF(OR(Z32=\"Ne s'applique pas\",Z33=\"Ne s'applique pas\"),\"Ne s'applique pas\",IF(AND(Z32=\"-\",Z33=\"-\"),\"-\",IF(OR(Z32=\"Avec restrictions\",Z33=\"Avec restrictions\"),\"Avec restrictions\",\"S'applique\")))","v":"-"},null,{"$f":"IF(OR(AB32=\"Ne s'applique pas\",AB33=\"Ne s'applique pas\"),\"Ne s'applique pas\",IF(AND(AB32=\"-\",AB33=\"-\"),\"-\",IF(OR(AB32=\"Avec restrictions\",AB33=\"Avec restrictions\"),\"Avec restrictions\",\"S'applique\")))","v":"-"},null,{"$f":"IF(OR(AD32=\"Ne s'applique pas\",AD33=\"Ne s'applique pas\"),\"Ne s'applique pas\",IF(AND(AD32=\"-\",AD33=\"-\"),\"-\",IF(OR(AD32=\"Avec restrictions\",AD33=\"Avec restrictions\"),\"Avec restrictions\",\"S'applique\")))","v":"-"}]
["1-B.1.1.2","Composés organiques (produits pétroliers et COV)"]
["1-B.1.1.2.1","Hydrocarbures pétroliers C10-C50",null,null,null,{"$f":"IF('A-Outil sélection scénario'!L114>='A-Outil sélection scénario'!$L$74,\"Oui\",\"Non\")","v":"Non"},null,{"$f":"IF($F$36=\"Oui\",\"S'applique\",\"-\")","v":"-"},null,{"$f":"IF($F$36=\"Oui\",\"Ne s'applique pas\",\"-\")","v":"-"},null,{"$f":"IF($F$36=\"Oui\",\"S'applique\",\"-\")","v":"-"},null,{"$f":"IF($F$36=\"Oui\",\"S'applique\",\"-\")","v":"-"},null,{"$f":"IF($F$36=\"Oui\",\"Ne s'applique pas\",\"-\")","v":"-"},null,{"$f":"IF($F$36=\"Oui\",\"S'applique\",\"-\")","v":"-"},null,{"$f":"IF($F$36=\"Oui\",\"S'applique\",\"-\")","v":"-"},null,{"$f":"IF($F$36=\"Oui\",\"S'applique\",\"-\")","v":"-"},null,{"$f":"IF($F$36=\"Oui\",\"S'applique\",\"-\")","v":"-"},null,{"$f":"IF($F$36=\"Oui\",\"S'applique\",\"-\")","v":"-"},null,{"$f":"IF($F$36=\"Oui\",\"Ne s'applique pas\",\"-\")","v":"-"},null,{"$f":"IF($F$36=\"Oui\",\"S'applique\",\"-\")","v":"-"}]
["1-B.1.1.2.2","Hydrocarbures aromatiques monocycliques",null,null,null,{"$f":"IF('A-Outil sélection scénario'!L115>='A-Outil sélection scénario'!$L$74,\"Oui\",\"Non\")","v":"Non"},null,{"$f":"IF($F$37=\"Oui\",\"S'applique\",\"-\")","v":"-"},null,{"$f":"IF($F$37=\"Oui\",\"Ne s'applique pas\",\"-\")","v":"-"},null,{"$f":"IF($F$37=\"Oui\",\"S'applique\",\"-\")","v":"-"},null,{"$f":"IF($F$37=\"Oui\",\"S'applique\",\"-\")","v":"-"},null,{"$f":"IF($F$37=\"Oui\",\"Ne s'applique pas\",\"-\")","v":"-"},null,{"$f":"IF($F$37=\"Oui\",\"S'applique\",\"-\")","v":"-"},null,{"$f":"IF($F$37=\"Oui\",\"S'applique\",\"-\")","v":"-"},null,{"$f":"IF($F$37=\"Oui\",\"S'applique\",\"-\")","v":"-"},null,{"$f":"IF($F$37=\"Oui\",\"Avec restrictions\",\"-\")","v":"-"},null,{"$f":"IF($F$37=\"Oui\",\"S'applique\",\"-\")","v":"-"},null,{"$f":"IF($F$37=\"Oui\",\"Ne s'applique pas\",\"-\")","v":"-"},null,{"$f":"IF($F$37=\"Oui\",\"S'applique\",\"-\")","v":"-"}]
["1-B.1.1.2.3","Hydrocarbures aliphatiques chlorés",null,null,null,{"$f":"IF('A-Outil sélection scénario'!L116>='A-Outil sélection scénario'!$L$74,\"Oui\",\"Non\")","v":"Non"},null,{"$f":"IF($F$38=\"Oui\",\"S'applique\",\"-\")","v":"-"},null,{"$f":"IF($F$38=\"Oui\",\"Ne s'applique pas\",\"-\")","v":"-"},null,{"$f":"IF($F$38=\"Oui\",\"Avec restrictions\",\"-\")","v":"-"},null,{"$f":"IF($F$38=\"Oui\",\"Avec restrictions\",\"-\")","v":"-"},null,{"$f":"IF($F$38=\"Oui\",\"Ne s'applique pas\",\"-\")","v":"-"},null,{"$f":"IF($F$38=\"Oui\",\"S'applique\",\"-\")","v":"-"},null,{"$f":"IF($F$38=\"Oui\",\"Avec restrictions\",\"-\")","v":"-"},null,{"$f":"IF($F$38=\"Oui\",\"S'applique\",\"-\")","v":"-"},null,{"$f":"IF($F$38=\"Oui\",\"Avec restrictions\",\"-\")","v":"-"},null,{"$f":"IF($F$38=\"Oui\",\"S'applique\",\"-\")","v":"-"},null,{"$f":"IF($F$38=\"Oui\",\"Ne s'applique pas\",\"-\")","v":"-"},null,{"$f":"IF($F$38=\"Oui\",\"S'applique\",\"-\")","v":"-"}]
["1-B.1.1.2.4","Chlorobenzène",null,null,null,{"$f":"IF('A-Outil sélection scénario'!L117>='A-Outil sélection scénario'!$L$74,\"Oui\",\"Non\")","v":"Non"},null,{"$f":"IF($F$39=\"Oui\",\"S'applique\",\"-\")","v":"-"},null,{"$f":"IF($F$39=\"Oui\",\"Ne s'applique pas\",\"-\")","v":"-"},null,{"$f":"IF($F$39=\"Oui\",\"Avec restrictions\",\"-\")","v":"-"},null,{"$f":"IF($F$39=\"Oui\",\"S'applique\",\"-\")","v":"-"},null,{"$f":"IF($F$39=\"Oui\",\"Ne s'applique pas\",\"-\")","v":"-"},null,{"$f":"IF($F$39=\"Oui\",\"S'applique\",\"-\")","v":"-"},null,{"$f":"IF($F$39=\"Oui\",\"Avec restrictions\",\"-\")","v":"-"},null,{"$f":"IF($F$39=\"Oui\",\"S'applique\",\"-\")","v":"-"},null,{"$f":"IF($F$39=\"Oui\",\"S'applique\",\"-\")","v":"-"},null,{"$f":"IF($F$39=\"Oui\",\"S'applique\",\"-\")","v":"-"},null,{"$f":"IF($F$39=\"Oui\",\"Ne s'applique pas\",\"-\")","v":"-"},null,{"$f":"IF($F$39=\"Oui\",\"S'applique\",\"-\")","v":"-"}]
["1-B.1.1.2.5","Applicabilité aux composés organiques (produits pétroliers et COV) de la zone vadose:",null,null,null,null,null,{"$f":"IF(OR(H38=\"Ne s'applique pas\",H39=\"Ne s'applique pas\",H36=\"Ne s'applique pas\",H37=\"Ne s'applique pas\"),\"Ne s'applique pas\",IF(AND(H36=\"-\",H37=\"-\",H38=\"-\",H39=\"-\"),\"-\",IF(OR(H36=\"Avec restrictions\",H37=\"Avec restrictions\",H38=\"Avec restrictions\",H39=\"Avec restrictions\"),\"Avec restrictions\",\"S'applique\")))","v":"-"},null,{"$f":"IF(OR(J38=\"Ne s'applique pas\",J39=\"Ne s'applique pas\",J36=\"Ne s'applique pas\",J37=\"Ne s'applique pas\"),\"Ne s'applique pas\",IF(AND(J36=\"-\",J37=\"-\",J38=\"-\",J39=\"-\"),\"-\",IF(OR(J36=\"Avec restrictions\",J37=\"Avec restrictions\",J38=\"Avec restrictions\",J39=\"Avec restrictions\"),\"Avec restrictions\",\"S'applique\")))","v":"-"},null,{"$f":"IF(OR(L38=\"Ne s'applique pas\",L39=\"Ne s'applique pas\",L36=\"Ne s'applique pas\",L37=\"Ne s'applique pas\"),\"Ne s'applique pas\",IF(AND(L36=\"-\",L37=\"-\",L38=\"-\",L39=\"-\"),\"-\",IF(OR(L36=\"Avec restrictions\",L37=\"Avec restrictions\",L38=\"Avec restrictions\",L39=\"Avec restrictions\"),\"Avec restrictions\",\"S'applique\")))","v":"-"},null,{"$f":"IF(OR(N38=\"Ne s'applique pas\",N39=\"Ne s'applique pas\",N36=\"Ne s'applique pas\",N37=\"Ne s'applique pas\"),\"Ne s'applique pas\",IF(AND(N36=\"-\",N37=\"-\",N38=\"-\",N39=\"-\"),\"-\",IF(OR(N36=\"Avec restrictions\",N37=\"Avec restrictions\",N38=\"Avec restrictions\",N39=\"Avec restrictions\"),\"Avec restrictions\",\"S'applique\")))","v":"-"},null,{"$f":"IF(OR(P38=\"Ne s'applique pas\",P39=\"Ne s'applique pas\",P36=\"Ne s'applique pas\",P37=\"Ne s'applique pas\"),\"Ne s'applique pas\",IF(AND(P36=\"-\",P37=\"-\",P38=\"-\",P39=\"-\"),\"-\",IF(OR(P36=\"Avec restrictions\",P37=\"Avec restrictions\",P38=\"Avec restrictions\",P39=\"Avec restrictions\"),\"Avec restrictions\",\"S'applique\")))","v":"-"},null,{"$f":"IF(OR(R38=\"Ne s'applique pas\",R39=\"Ne s'applique pas\",R36=\"Ne s'applique pas\",R37=\"Ne s'applique pas\"),\"Ne s'applique pas\",IF(AND(R36=\"-\",R37=\"-\",R38=\"-\",R39=\"-\"),\"-\",IF(OR(R36=\"Avec restrictions\",R37=\"Avec restrictions\",R38=\"Avec restrictions\",R39=\"Avec restrictions\"),\"Avec restrictions\",\"S'applique\")))","v":"-"},null,{"$f":"IF(OR(T38=\"Ne s'applique pas\",T39=\"Ne s'applique pas\",T36=\"Ne s'applique pas\",T37=\"Ne s'applique pas\"),\"Ne s'applique pas\",IF(AND(T36=\"-\",T37=\"-\",T38=\"-\",T39=\"-\"),\"-\",IF(OR(T36=\"Avec restrictions\",T37=\"Avec restrictions\",T38=\"Avec restrictions\",T39=\"Avec restrictions\"),\"Avec restrictions\",\"S'applique\")))","v":"-"},null,{"$f":"IF(OR(V38=\"Ne s'applique pas\",V39=\"Ne s'applique pas\",V36=\"Ne s'applique pas\",V37=\"Ne s'applique pas\"),\"Ne s'applique pas\",IF(AND(V36=\"-\",V37=\"-\",V38=\"-\",V39=\"-\"),\"-\",IF(OR(V36=\"Avec restrictions\",V37=\"Avec restrictions\",V38=\"Avec restrictions\",V39=\"Avec restrictions\"),\"Avec restrictions\",\"S'applique\")))","v":"-"},null,{"$f":"IF(OR(X38=\"Ne s'applique pas\",X39=\"Ne s'applique pas\",X36=\"Ne s'applique pas\",X37=\"Ne s'applique pas\"),\"Ne s'applique pas\",IF(AND(X36=\"-\",X37=\"-\",X38=\"-\",X39=\"-\"),\"-\",IF(OR(X36=\"Avec restrictions\",X37=\"Avec restrictions\",X38=\"Avec restrictions\",X39=\"Avec restrictions\"),\"Avec restrictions\",\"S'applique\")))","v":"-"},null,{"$f":"IF(OR(Z38=\"Ne s'applique pas\",Z39=\"Ne s'applique pas\",Z36=\"Ne s'applique pas\",Z37=\"Ne s'applique pas\"),\"Ne s'applique pas\",IF(AND(Z36=\"-\",Z37=\"-\",Z38=\"-\",Z39=\"-\"),\"-\",IF(OR(Z36=\"Avec restrictions\",Z37=\"Avec restrictions\",Z38=\"Avec restrictions\",Z39=\"Avec restrictions\"),\"Avec restrictions\",\"S'applique\")))","v":"-"},null,{"$f":"IF(OR(AB38=\"Ne s'applique pas\",AB39=\"Ne s'applique pas\",AB36=\"Ne s'applique pas\",AB37=\"Ne s'applique pas\"),\"Ne s'applique pas\",IF(AND(AB36=\"-\",AB37=\"-\",AB38=\"-\",AB39=\"-\"),\"-\",IF(OR(AB36=\"Avec restrictions\",AB37=\"Avec restrictions\",AB38=\"Avec restrictions\",AB39=\"Avec restrictions\"),\"Avec restrictions\",\"S'applique\")))","v":"-"},null,{"$f":"IF(OR(AD38=\"Ne s'applique pas\",AD39=\"Ne s'applique pas\",AD36=\"Ne s'applique pas\",AD37=\"Ne s'applique pas\"),\"Ne s'applique pas\",IF(AND(AD36=\"-\",AD37=\"-\",AD38=\"-\",AD39=\"-\"),\"-\",IF(OR(AD36=\"Avec restrictions\",AD37=\"Avec restrictions\",AD38=\"Avec restrictions\",AD39=\"Avec restrictions\"),\"Avec restrictions\",\"S'applique\")))","v":"-"}]
["1-B.1.1.3","Autres composés organiques"]
["1-B.1.1.3.1","Hydrocarbures aromatiques polycycliques",null,null,null,{"$f":"IF('A-Outil sélection scénario'!L119>='A-Outil sélection scénario'!$L$74,\"Oui\",\"Non\")","v":"Non"},null,{"$f":"IF($F$42=\"Oui\",\"S'applique\",\"-\")","v":"-"},null,{"$f":"IF($F$42=\"Oui\",\"S'applique\",\"-\")","v":"-"},null,{"$f":"IF($F$42=\"Oui\",\"Avec restrictions\",\"-\")","v":"-"},null,{"$f":"IF($F$42=\"Oui\",\"Avec restrictions\",\"-\")","v":"-"},null,{"$f":"IF($F$42=\"Oui\",\"Ne s'applique pas\",\"-\")","v":"-"},null,{"$f":"IF($F$42=\"Oui\",\"S'applique\",\"-\")","v":"-"},null,{"$f":"IF($F$42=\"Oui\",\"S'applique\",\"-\")","v":"-"},null,{"$f":"IF($F$42=\"Oui\",\"S'applique\",\"-\")","v":"-"},null,{"$f":"IF($F$42=\"Oui\",\"S'applique\",\"-\")","v":"-"},null,{"$f":"IF($F$42=\"Oui\",\"Avec restrictions\",\"-\")","v":"-"},null,{"$f":"IF($F$42=\"Oui\",\"Ne s'applique pas\",\"-\")","v":"-"},null,{"$f":"IF($F$42=\"Oui\",\"S'applique\",\"-\")","v":"-"}]
["1-B.1.1.3.2","Composés phénoliques",null,null,null,{"$f":"IF('A-Outil sélection scénario'!L120>='A-Outil sélection scénario'!$L$74,\"Oui\",\"Non\")","v":"Non"},null,{"$f":"IF($F$43=\"Oui\",\"S'applique\",\"-\")","v":"-"},null,{"$f":"IF($F$43=\"Oui\",\"S'applique\",\"-\")","v":"-"},null,{"$f":"IF($F$43=\"Oui\",\"Avec restrictions\",\"-\")","v":"-"},null,{"$f":"IF($F$43=\"Oui\",\"S'applique\",\"-\")","v":"-"},null,{"$f":"IF($F$43=\"Oui\",\"Ne s'applique pas\",\"-\")","v":"-"},null,{"$f":"IF($F$43=\"Oui\",\"Avec restrictions\",\"-\")","v":"-"},null,{"$f":"IF($F$43=\"Oui\",\"S'applique\",\"-\")","v":"-"},null,{"$f":"IF($F$43=\"Oui\",\"S'applique\",\"-\")","v":"-"},null,{"$f":"IF($F$43=\"Oui\",\"S'applique\",\"-\")","v":"-"},null,{"$f":"IF($F$43=\"Oui\",\"Avec restrictions\",\"-\")","v":"-"},null,{"$f":"IF($F$43=\"Oui\",\"Ne s'applique pas\",\"-\")","v":"-"},null,{"$f":"IF($F$43=\"Oui\",\"S'applique\",\"-\")","v":"-"}]
["1-B.1.1.3.3","Biphényles polychlorés",null,null,null,{"$f":"IF('A-Outil sélection scénario'!L121>='A-Outil sélection scénario'!$L$74,\"Oui\",\"Non\")","v":"Non"},null,{"$f":"IF($F$44=\"Oui\",\"S'applique\",\"-\")","v":"-"},null,{"$f":"IF($F$44=\"Oui\",\"Ne s'applique pas\",\"-\")","v":"-"},null,{"$f":"IF($F$44=\"Oui\",\"Ne s'applique pas\",\"-\")","v":"-"},null,{"$f":"IF($F$44=\"Oui\",\"Avec restrictions\",\"-\")","v":"-"},null,{"$f":"IF($F$44=\"Oui\",\"Ne s'applique pas\",\"-\")","v":"-"},null,{"$f":"IF($F$44=\"Oui\",\"S'applique\",\"-\")","v":"-"},null,{"$f":"IF($F$44=\"Oui\",\"S'applique\",\"-\")","v":"-"},null,{"$f":"IF($F$44=\"Oui\",\"Avec restrictions\",\"-\")","v":"-"},null,{"$f":"IF($F$44=\"Oui\",\"Avec restrictions\",\"-\")","v":"-"},null,{"$f":"IF($F$44=\"Oui\",\"Avec restrictions\",\"-\")","v":"-"},null,{"$f":"IF($F$44=\"Oui\",\"Ne s'applique pas\",\"-\")","v":"-"},null,{"$f":"IF($F$44=\"Oui\",\"S'applique\",\"-\")","v":"-"}]
["1-B.1.1.3.4","Pesticides",null,null,null,{"$f":"IF('A-Outil sélection scénario'!L122>='A-Outil sélection scénario'!$L$74,\"Oui\",\"Non\")","v":"Non"},null,{"$f":"IF($F$45=\"Oui\",\"S'applique\",\"-\")","v":"-"},null,{"$f":"IF($F$45=\"Oui\",\"S'applique\",\"-\")","v":"-"},null,{"$f":"IF($F$45=\"Oui\",\"Avec restrictions\",\"-\")","v":"-"},null,{"$f":"IF($F$45=\"Oui\",\"Avec restrictions\",\"-\")","v":"-"},null,{"$f":"IF($F$45=\"Oui\",\"Ne s'applique pas\",\"-\")","v":"-"},null,{"$f":"IF($F$45=\"Oui\",\"S'applique\",\"-\")","v":"-"},null,{"$f":"IF($F$45=\"Oui\",\"S'applique\",\"-\")","v":"-"},null,{"$f":"IF($F$45=\"Oui\",\"Avec restrictions\",\"-\")","v":"-"},null,{"$f":"IF($F$45=\"Oui\",\"Avec restrictions\",\"-\")","v":"-"},null,{"$f":"IF($F$45=\"Oui\",\"Avec restrictions\",\"-\")","v":"-"},null,{"$f":"IF($F$45=\"Oui\",\"Ne s'applique pas\",\"-\")","v":"-"},null,{"$f":"IF($F$45=\"Oui\",\"S'applique\",\"-\")","v":"-"}]
["1-B.1.1.3.5","Applicabilité aux autres composés organiques de la zone vadose:",null,null,null,null,null,{"$f":"IF(OR(H44=\"Ne s'applique pas\",H45=\"Ne s'applique pas\",H42=\"Ne s'applique pas\",H43=\"Ne s'applique pas\"),\"Ne s'applique pas\",IF(AND(H42=\"-\",H43=\"-\",H44=\"-\",H45=\"-\"),\"-\",IF(OR(H42=\"Avec restrictions\",H43=\"Avec restrictions\",H44=\"Avec restrictions\",H45=\"Avec restrictions\"),\"Avec restrictions\",\"S'applique\")))","v":"-"},null,{"$f":"IF(OR(J44=\"Ne s'applique pas\",J45=\"Ne s'applique pas\",J42=\"Ne s'applique pas\",J43=\"Ne s'applique pas\"),\"Ne s'applique pas\",IF(AND(J42=\"-\",J43=\"-\",J44=\"-\",J45=\"-\"),\"-\",IF(OR(J42=\"Avec restrictions\",J43=\"Avec restrictions\",J44=\"Avec restrictions\",J45=\"Avec restrictions\"),\"Avec restrictions\",\"S'applique\")))","v":"-"},null,{"$f":"IF(OR(L44=\"Ne s'applique pas\",L45=\"Ne s'applique pas\",L42=\"Ne s'applique pas\",L43=\"Ne s'applique pas\"),\"Ne s'applique pas\",IF(AND(L42=\"-\",L43=\"-\",L44=\"-\",L45=\"-\"),\"-\",IF(OR(L42=\"Avec restrictions\",L43=\"Avec restrictions\",L44=\"Avec restrictions\",L45=\"Avec restrictions\"),\"Avec restrictions\",\"S'applique\")))","v":"-"},null,{"$f":"IF(OR(N44=\"Ne s'applique pas\",N45=\"Ne s'applique pas\",N42=\"Ne s'applique pas\",N43=\"Ne s'applique pas\"),\"Ne s'applique pas\",IF(AND(N42=\"-\",N43=\"-\",N44=\"-\",N45=\"-\"),\"-\",IF(OR(N42=\"Avec restrictions\",N43=\"Avec restrictions\",N44=\"Avec restrictions\",N45=\"Avec restrictions\"),\"Avec restrictions\",\"S'applique\")))","v":"-"},null,{"$f":"IF(OR(P44=\"Ne s'applique pas\",P45=\"Ne s'applique pas\",P42=\"Ne s'applique pas\",P43=\"Ne s'applique pas\"),\"Ne s'applique pas\",IF(AND(P42=\"-\",P43=\"-\",P44=\"-\",P45=\"-\"),\"-\",IF(OR(P42=\"Avec restrictions\",P43=\"Avec restrictions\",P44=\"Avec restrictions\",P45=\"Avec restrictions\"),\"Avec restrictions\",\"S'applique\")))","v":"-"},null,{"$f":"IF(OR(R44=\"Ne s'applique pas\",R45=\"Ne s'applique pas\",R42=\"Ne s'applique pas\",R43=\"Ne s'applique pas\"),\"Ne s'applique pas\",IF(AND(R42=\"-\",R43=\"-\",R44=\"-\",R45=\"-\"),\"-\",IF(OR(R42=\"Avec restrictions\",R43=\"Avec restrictions\",R44=\"Avec restrictions\",R45=\"Avec restrictions\"),\"Avec restrictions\",\"S'applique\")))","v":"-"},null,{"$f":"IF(OR(T44=\"Ne s'applique pas\",T45=\"Ne s'applique pas\",T42=\"Ne s'applique pas\",T43=\"Ne s'applique pas\"),\"Ne s'applique pas\",IF(AND(T42=\"-\",T43=\"-\",T44=\"-\",T45=\"-\"),\"-\",IF(OR(T42=\"Avec restrictions\",T43=\"Avec restrictions\",T44=\"Avec restrictions\",T45=\"Avec restrictions\"),\"Avec restrictions\",\"S'applique\")))","v":"-"},null,{"$f":"IF(OR(V44=\"Ne s'applique pas\",V45=\"Ne s'applique pas\",V42=\"Ne s'applique pas\",V43=\"Ne s'applique pas\"),\"Ne s'applique pas\",IF(AND(V42=\"-\",V43=\"-\",V44=\"-\",V45=\"-\"),\"-\",IF(OR(V42=\"Avec restrictions\",V43=\"Avec restrictions\",V44=\"Avec restrictions\",V45=\"Avec restrictions\"),\"Avec restrictions\",\"S'applique\")))","v":"-"},null,{"$f":"IF(OR(X44=\"Ne s'applique pas\",X45=\"Ne s'applique pas\",X42=\"Ne s'applique pas\",X43=\"Ne s'applique pas\"),\"Ne s'applique pas\",IF(AND(X42=\"-\",X43=\"-\",X44=\"-\",X45=\"-\"),\"-\",IF(OR(X42=\"Avec restrictions\",X43=\"Avec restrictions\",X44=\"Avec restrictions\",X45=\"Avec restrictions\"),\"Avec restrictions\",\"S'applique\")))","v":"-"},null,{"$f":"IF(OR(Z44=\"Ne s'applique pas\",Z45=\"Ne s'applique pas\",Z42=\"Ne s'applique pas\",Z43=\"Ne s'applique pas\"),\"Ne s'applique pas\",IF(AND(Z42=\"-\",Z43=\"-\",Z44=\"-\",Z45=\"-\"),\"-\",IF(OR(Z42=\"Avec restrictions\",Z43=\"Avec restrictions\",Z44=\"Avec restrictions\",Z45=\"Avec restrictions\"),\"Avec restrictions\",\"S'applique\")))","v":"-"},null,{"$f":"IF(OR(AB44=\"Ne s'applique pas\",AB45=\"Ne s'applique pas\",AB42=\"Ne s'applique pas\",AB43=\"Ne s'applique pas\"),\"Ne s'applique pas\",IF(AND(AB42=\"-\",AB43=\"-\",AB44=\"-\",AB45=\"-\"),\"-\",IF(OR(AB42=\"Avec restrictions\",AB43=\"Avec restrictions\",AB44=\"Avec restrictions\",AB45=\"Avec restrictions\"),\"Avec restrictions\",\"S'applique\")))","v":"-"},null,{"$f":"IF(OR(AD44=\"Ne s'applique pas\",AD45=\"Ne s'applique pas\",AD42=\"Ne s'applique pas\",AD43=\"Ne s'applique pas\"),\"Ne s'applique pas\",IF(AND(AD42=\"-\",AD43=\"-\",AD44=\"-\",AD45=\"-\"),\"-\",IF(OR(AD42=\"Avec restrictions\",AD43=\"Avec restrictions\",AD44=\"Avec restrictions\",AD45=\"Avec restrictions\"),\"Avec restrictions\",\"S'applique\")))","v":"-"}]
["1-B.1.2","Sous-total zone vadose",null,null,null,null,null,{"$f":"IF(OR(AND($F$32=\"Oui\",H32=\"Ne s'applique pas\"),AND($F$33=\"Oui\",H33=\"Ne s'applique pas\"),AND($F$36=\"Oui\",H36=\"Ne s'applique pas\"),AND($F$37=\"Oui\",H37=\"Ne s'applique pas\"),AND($F$38=\"Oui\",H38=\"Ne s'applique pas\"),AND($F$39=\"Oui\",H39=\"Ne s'applique pas\"),AND($F$42=\"Oui\",H42=\"Ne s'applique pas\"),AND($F$43=\"Oui\",H43=\"Ne s'applique pas\"),AND($F$44=\"Oui\",H44=\"Ne s'applique pas\"),AND($F$45=\"Oui\",H45=\"Ne s'applique pas\")),\"Ne s'applique pas\",IF(OR(AND($F$32=\"Oui\",H32=\"Avec restrictions\"),AND($F$33=\"Oui\",H33=\"Avec restrictions\"),AND($F$36=\"Oui\",H36=\"Avec restrictions\"),AND($F$37=\"Oui\",H37=\"Avec restrictions\"),AND($F$38=\"Oui\",H38=\"Avec restrictions\"),AND($F$39=\"Oui\",H39=\"Avec restrictions\"),AND($F$42=\"Oui\",H42=\"Avec restrictions\"),AND($F$43=\"Oui\",H43=\"Avec restrictions\"),AND($F$44=\"Oui\",H44=\"Avec restrictions\"),AND($F$45=\"Oui\",H45=\"Avec restrictions\")),\"Avec restrictions\",IF(AND(H32=\"-\",H33=\"-\",H36=\"-\",H37=\"-\",H38=\"-\",H39=\"-\",H42=\"-\",H43=\"-\",H44=\"-\",H45=\"-\"),\"-\",\"S'applique\")))","v":"-"},null,{"$f":"IF(OR(AND($F$32=\"Oui\",J32=\"Ne s'applique pas\"),AND($F$33=\"Oui\",J33=\"Ne s'applique pas\"),AND($F$36=\"Oui\",J36=\"Ne s'applique pas\"),AND($F$37=\"Oui\",J37=\"Ne s'applique pas\"),AND($F$38=\"Oui\",J38=\"Ne s'applique pas\"),AND($F$39=\"Oui\",J39=\"Ne s'applique pas\"),AND($F$42=\"Oui\",J42=\"Ne s'applique pas\"),AND($F$43=\"Oui\",J43=\"Ne s'applique pas\"),AND($F$44=\"Oui\",J44=\"Ne s'applique pas\"),AND($F$45=\"Oui\",J45=\"Ne s'applique pas\")),\"Ne s'applique pas\",IF(OR(AND($F$32=\"Oui\",J32=\"Avec restrictions\"),AND($F$33=\"Oui\",J33=\"Avec restrictions\"),AND($F$36=\"Oui\",J36=\"Avec restrictions\"),AND($F$37=\"Oui\",J37=\"Avec restrictions\"),AND($F$38=\"Oui\",J38=\"Avec restrictions\"),AND($F$39=\"Oui\",J39=\"Avec restrictions\"),AND($F$42=\"Oui\",J42=\"Avec restrictions\"),AND($F$43=\"Oui\",J43=\"Avec restrictions\"),AND($F$44=\"Oui\",J44=\"Avec restrictions\"),AND($F$45=\"Oui\",J45=\"Avec restrictions\")),\"Avec restrictions\",IF(AND(J32=\"-\",J33=\"-\",J36=\"-\",J37=\"-\",J38=\"-\",J39=\"-\",J42=\"-\",J43=\"-\",J44=\"-\",J45=\"-\"),\"-\",\"S'applique\")))","v":"-"},null,{"$f":"IF(OR(AND($F$32=\"Oui\",L32=\"Ne s'applique pas\"),AND($F$33=\"Oui\",L33=\"Ne s'applique pas\"),AND($F$36=\"Oui\",L36=\"Ne s'applique pas\"),AND($F$37=\"Oui\",L37=\"Ne s'applique pas\"),AND($F$38=\"Oui\",L38=\"Ne s'applique pas\"),AND($F$39=\"Oui\",L39=\"Ne s'applique pas\"),AND($F$42=\"Oui\",L42=\"Ne s'applique pas\"),AND($F$43=\"Oui\",L43=\"Ne s'applique pas\"),AND($F$44=\"Oui\",L44=\"Ne s'applique pas\"),AND($F$45=\"Oui\",L45=\"Ne s'applique pas\")),\"Ne s'applique pas\",IF(OR(AND($F$32=\"Oui\",L32=\"Avec restrictions\"),AND($F$33=\"Oui\",L33=\"Avec restrictions\"),AND($F$36=\"Oui\",L36=\"Avec restrictions\"),AND($F$37=\"Oui\",L37=\"Avec restrictions\"),AND($F$38=\"Oui\",L38=\"Avec restrictions\"),AND($F$39=\"Oui\",L39=\"Avec restrictions\"),AND($F$42=\"Oui\",L42=\"Avec restrictions\"),AND($F$43=\"Oui\",L43=\"Avec restrictions\"),AND($F$44=\"Oui\",L44=\"Avec restrictions\"),AND($F$45=\"Oui\",L45=\"Avec restrictions\")),\"Avec restrictions\",IF(AND(L32=\"-\",L33=\"-\",L36=\"-\",L37=\"-\",L38=\"-\",L39=\"-\",L42=\"-\",L43=\"-\",L44=\"-\",L45=\"-\"),\"-\",\"S'applique\")))","v":"-"},null,{"$f":"IF(OR(AND($F$32=\"Oui\",N32=\"Ne s'applique pas\"),AND($F$33=\"Oui\",N33=\"Ne s'applique pas\"),AND($F$36=\"Oui\",N36=\"Ne s'applique pas\"),AND($F$37=\"Oui\",N37=\"Ne s'applique pas\"),AND($F$38=\"Oui\",N38=\"Ne s'applique pas\"),AND($F$39=\"Oui\",N39=\"Ne s'applique pas\"),AND($F$42=\"Oui\",N42=\"Ne s'applique pas\"),AND($F$43=\"Oui\",N43=\"Ne s'applique pas\"),AND($F$44=\"Oui\",N44=\"Ne s'applique pas\"),AND($F$45=\"Oui\",N45=\"Ne s'applique pas\")),\"Ne s'applique pas\",IF(OR(AND($F$32=\"Oui\",N32=\"Avec restrictions\"),AND($F$33=\"Oui\",N33=\"Avec restrictions\"),AND($F$36=\"Oui\",N36=\"Avec restrictions\"),AND($F$37=\"Oui\",N37=\"Avec restrictions\"),AND($F$38=\"Oui\",N38=\"Avec restrictions\"),AND($F$39=\"Oui\",N39=\"Avec restrictions\"),AND($F$42=\"Oui\",N42=\"Avec restrictions\"),AND($F$43=\"Oui\",N43=\"Avec restrictions\"),AND($F$44=\"Oui\",N44=\"Avec restrictions\"),AND($F$45=\"Oui\",N45=\"Avec restrictions\")),\"Avec restrictions\",IF(AND(N32=\"-\",N33=\"-\",N36=\"-\",N37=\"-\",N38=\"-\",N39=\"-\",N42=\"-\",N43=\"-\",N44=\"-\",N45=\"-\"),\"-\",\"S'applique\")))","v":"-"},null,{"$f":"IF(OR(AND($F$32=\"Oui\",P32=\"Ne s'applique pas\"),AND($F$33=\"Oui\",P33=\"Ne s'applique pas\"),AND($F$36=\"Oui\",P36=\"Ne s'applique pas\"),AND($F$37=\"Oui\",P37=\"Ne s'applique pas\"),AND($F$38=\"Oui\",P38=\"Ne s'applique pas\"),AND($F$39=\"Oui\",P39=\"Ne s'applique pas\"),AND($F$42=\"Oui\",P42=\"Ne s'applique pas\"),AND($F$43=\"Oui\",P43=\"Ne s'applique pas\"),AND($F$44=\"Oui\",P44=\"Ne s'applique pas\"),AND($F$45=\"Oui\",P45=\"Ne s'applique pas\")),\"Ne s'applique pas\",IF(OR(AND($F$32=\"Oui\",P32=\"Avec restrictions\"),AND($F$33=\"Oui\",P33=\"Avec restrictions\"),AND($F$36=\"Oui\",P36=\"Avec restrictions\"),AND($F$37=\"Oui\",P37=\"Avec restrictions\"),AND($F$38=\"Oui\",P38=\"Avec restrictions\"),AND($F$39=\"Oui\",P39=\"Avec restrictions\"),AND($F$42=\"Oui\",P42=\"Avec restrictions\"),AND($F$43=\"Oui\",P43=\"Avec restrictions\"),AND($F$44=\"Oui\",P44=\"Avec restrictions\"),AND($F$45=\"Oui\",P45=\"Avec restrictions\")),\"Avec restrictions\",IF(AND(P32=\"-\",P33=\"-\",P36=\"-\",P37=\"-\",P38=\"-\",P39=\"-\",P42=\"-\",P43=\"-\",P44=\"-\",P45=\"-\"),\"-\",\"S'applique\")))","v":"-"},null,{"$f":"IF(OR(AND($F$32=\"Oui\",R32=\"Ne s'applique pas\"),AND($F$33=\"Oui\",R33=\"Ne s'applique pas\"),AND($F$36=\"Oui\",R36=\"Ne s'applique pas\"),AND($F$37=\"Oui\",R37=\"Ne s'applique pas\"),AND($F$38=\"Oui\",R38=\"Ne s'applique pas\"),AND($F$39=\"Oui\",R39=\"Ne s'applique pas\"),AND($F$42=\"Oui\",R42=\"Ne s'applique pas\"),AND($F$43=\"Oui\",R43=\"Ne s'applique pas\"),AND($F$44=\"Oui\",R44=\"Ne s'applique pas\"),AND($F$45=\"Oui\",R45=\"Ne s'applique pas\")),\"Ne s'applique pas\",IF(OR(AND($F$32=\"Oui\",R32=\"Avec restrictions\"),AND($F$33=\"Oui\",R33=\"Avec restrictions\"),AND($F$36=\"Oui\",R36=\"Avec restrictions\"),AND($F$37=\"Oui\",R37=\"Avec restrictions\"),AND($F$38=\"Oui\",R38=\"Avec restrictions\"),AND($F$39=\"Oui\",R39=\"Avec restrictions\"),AND($F$42=\"Oui\",R42=\"Avec restrictions\"),AND($F$43=\"Oui\",R43=\"Avec restrictions\"),AND($F$44=\"Oui\",R44=\"Avec restrictions\"),AND($F$45=\"Oui\",R45=\"Avec restrictions\")),\"Avec restrictions\",IF(AND(R32=\"-\",R33=\"-\",R36=\"-\",R37=\"-\",R38=\"-\",R39=\"-\",R42=\"-\",R43=\"-\",R44=\"-\",R45=\"-\"),\"-\",\"S'applique\")))","v":"-"},null,{"$f":"IF(OR(AND($F$32=\"Oui\",T32=\"Ne s'applique pas\"),AND($F$33=\"Oui\",T33=\"Ne s'applique pas\"),AND($F$36=\"Oui\",T36=\"Ne s'applique pas\"),AND($F$37=\"Oui\",T37=\"Ne s'applique pas\"),AND($F$38=\"Oui\",T38=\"Ne s'applique pas\"),AND($F$39=\"Oui\",T39=\"Ne s'applique pas\"),AND($F$42=\"Oui\",T42=\"Ne s'applique pas\"),AND($F$43=\"Oui\",T43=\"Ne s'applique pas\"),AND($F$44=\"Oui\",T44=\"Ne s'applique pas\"),AND($F$45=\"Oui\",T45=\"Ne s'applique pas\")),\"Ne s'applique pas\",IF(OR(AND($F$32=\"Oui\",T32=\"Avec restrictions\"),AND($F$33=\"Oui\",T33=\"Avec restrictions\"),AND($F$36=\"Oui\",T36=\"Avec restrictions\"),AND($F$37=\"Oui\",T37=\"Avec restrictions\"),AND($F$38=\"Oui\",T38=\"Avec restrictions\"),AND($F$39=\"Oui\",T39=\"Avec restrictions\"),AND($F$42=\"Oui\",T42=\"Avec restrictions\"),AND($F$43=\"Oui\",T43=\"Avec restrictions\"),AND($F$44=\"Oui\",T44=\"Avec restrictions\"),AND($F$45=\"Oui\",T45=\"Avec restrictions\")),\"Avec restrictions\",IF(AND(T32=\"-\",T33=\"-\",T36=\"-\",T37=\"-\",T38=\"-\",T39=\"-\",T42=\"-\",T43=\"-\",T44=\"-\",T45=\"-\"),\"-\",\"S'applique\")))","v":"-"},null,{"$f":"IF(OR(AND($F$32=\"Oui\",V32=\"Ne s'applique pas\"),AND($F$33=\"Oui\",V33=\"Ne s'applique pas\"),AND($F$36=\"Oui\",V36=\"Ne s'applique pas\"),AND($F$37=\"Oui\",V37=\"Ne s'applique pas\"),AND($F$38=\"Oui\",V38=\"Ne s'applique pas\"),AND($F$39=\"Oui\",V39=\"Ne s'applique pas\"),AND($F$42=\"Oui\",V42=\"Ne s'applique pas\"),AND($F$43=\"Oui\",V43=\"Ne s'applique pas\"),AND($F$44=\"Oui\",V44=\"Ne s'applique pas\"),AND($F$45=\"Oui\",V45=\"Ne s'applique pas\")),\"Ne s'applique pas\",IF(OR(AND($F$32=\"Oui\",V32=\"Avec restrictions\"),AND($F$33=\"Oui\",V33=\"Avec restrictions\"),AND($F$36=\"Oui\",V36=\"Avec restrictions\"),AND($F$37=\"Oui\",V37=\"Avec restrictions\"),AND($F$38=\"Oui\",V38=\"Avec restrictions\"),AND($F$39=\"Oui\",V39=\"Avec restrictions\"),AND($F$42=\"Oui\",V42=\"Avec restrictions\"),AND($F$43=\"Oui\",V43=\"Avec restrictions\"),AND($F$44=\"Oui\",V44=\"Avec restrictions\"),AND($F$45=\"Oui\",V45=\"Avec restrictions\")),\"Avec restrictions\",IF(AND(V32=\"-\",V33=\"-\",V36=\"-\",V37=\"-\",V38=\"-\",V39=\"-\",V42=\"-\",V43=\"-\",V44=\"-\",V45=\"-\"),\"-\",\"S'applique\")))","v":"-"},null,{"$f":"IF(OR(AND($F$32=\"Oui\",X32=\"Ne s'applique pas\"),AND($F$33=\"Oui\",X33=\"Ne s'applique pas\"),AND($F$36=\"Oui\",X36=\"Ne s'applique pas\"),AND($F$37=\"Oui\",X37=\"Ne s'applique pas\"),AND($F$38=\"Oui\",X38=\"Ne s'applique pas\"),AND($F$39=\"Oui\",X39=\"Ne s'applique pas\"),AND($F$42=\"Oui\",X42=\"Ne s'applique pas\"),AND($F$43=\"Oui\",X43=\"Ne s'applique pas\"),AND($F$44=\"Oui\",X44=\"Ne s'applique pas\"),AND($F$45=\"Oui\",X45=\"Ne s'applique pas\")),\"Ne s'applique pas\",IF(OR(AND($F$32=\"Oui\",X32=\"Avec restrictions\"),AND($F$33=\"Oui\",X33=\"Avec restrictions\"),AND($F$36=\"Oui\",X36=\"Avec restrictions\"),AND($F$37=\"Oui\",X37=\"Avec restrictions\"),AND($F$38=\"Oui\",X38=\"Avec restrictions\"),AND($F$39=\"Oui\",X39=\"Avec restrictions\"),AND($F$42=\"Oui\",X42=\"Avec restrictions\"),AND($F$43=\"Oui\",X43=\"Avec restrictions\"),AND($F$44=\"Oui\",X44=\"Avec restrictions\"),AND($F$45=\"Oui\",X45=\"Avec restrictions\")),\"Avec restrictions\",IF(AND(X32=\"-\",X33=\"-\",X36=\"-\",X37=\"-\",X38=\"-\",X39=\"-\",X42=\"-\",X43=\"-\",X44=\"-\",X45=\"-\"),\"-\",\"S'applique\")))","v":"-"},null,{"$f":"IF(OR(AND($F$32=\"Oui\",Z32=\"Ne s'applique pas\"),AND($F$33=\"Oui\",Z33=\"Ne s'applique pas\"),AND($F$36=\"Oui\",Z36=\"Ne s'applique pas\"),AND($F$37=\"Oui\",Z37=\"Ne s'applique pas\"),AND($F$38=\"Oui\",Z38=\"Ne s'applique pas\"),AND($F$39=\"Oui\",Z39=\"Ne s'applique pas\"),AND($F$42=\"Oui\",Z42=\"Ne s'applique pas\"),AND($F$43=\"Oui\",Z43=\"Ne s'applique pas\"),AND($F$44=\"Oui\",Z44=\"Ne s'applique pas\"),AND($F$45=\"Oui\",Z45=\"Ne s'applique pas\")),\"Ne s'applique pas\",IF(OR(AND($F$32=\"Oui\",Z32=\"Avec restrictions\"),AND($F$33=\"Oui\",Z33=\"Avec restrictions\"),AND($F$36=\"Oui\",Z36=\"Avec restrictions\"),AND($F$37=\"Oui\",Z37=\"Avec restrictions\"),AND($F$38=\"Oui\",Z38=\"Avec restrictions\"),AND($F$39=\"Oui\",Z39=\"Avec restrictions\"),AND($F$42=\"Oui\",Z42=\"Avec restrictions\"),AND($F$43=\"Oui\",Z43=\"Avec restrictions\"),AND($F$44=\"Oui\",Z44=\"Avec restrictions\"),AND($F$45=\"Oui\",Z45=\"Avec restrictions\")),\"Avec restrictions\",IF(AND(Z32=\"-\",Z33=\"-\",Z36=\"-\",Z37=\"-\",Z38=\"-\",Z39=\"-\",Z42=\"-\",Z43=\"-\",Z44=\"-\",Z45=\"-\"),\"-\",\"S'applique\")))","v":"-"},null,{"$f":"IF(OR(AND($F$32=\"Oui\",AB32=\"Ne s'applique pas\"),AND($F$33=\"Oui\",AB33=\"Ne s'applique pas\"),AND($F$36=\"Oui\",AB36=\"Ne s'applique pas\"),AND($F$37=\"Oui\",AB37=\"Ne s'applique pas\"),AND($F$38=\"Oui\",AB38=\"Ne s'applique pas\"),AND($F$39=\"Oui\",AB39=\"Ne s'applique pas\"),AND($F$42=\"Oui\",AB42=\"Ne s'applique pas\"),AND($F$43=\"Oui\",AB43=\"Ne s'applique pas\"),AND($F$44=\"Oui\",AB44=\"Ne s'applique pas\"),AND($F$45=\"Oui\",AB45=\"Ne s'applique pas\")),\"Ne s'applique pas\",IF(OR(AND($F$32=\"Oui\",AB32=\"Avec restrictions\"),AND($F$33=\"Oui\",AB33=\"Avec restrictions\"),AND($F$36=\"Oui\",AB36=\"Avec restrictions\"),AND($F$37=\"Oui\",AB37=\"Avec restrictions\"),AND($F$38=\"Oui\",AB38=\"Avec restrictions\"),AND($F$39=\"Oui\",AB39=\"Avec restrictions\"),AND($F$42=\"Oui\",AB42=\"Avec restrictions\"),AND($F$43=\"Oui\",AB43=\"Avec restrictions\"),AND($F$44=\"Oui\",AB44=\"Avec restrictions\"),AND($F$45=\"Oui\",AB45=\"Avec restrictions\")),\"Avec restrictions\",IF(AND(AB32=\"-\",AB33=\"-\",AB36=\"-\",AB37=\"-\",AB38=\"-\",AB39=\"-\",AB42=\"-\",AB43=\"-\",AB44=\"-\",AB45=\"-\"),\"-\",\"S'applique\")))","v":"-"},null,{"$f":"IF(OR(AND($F$32=\"Oui\",AD32=\"Ne s'applique pas\"),AND($F$33=\"Oui\",AD33=\"Ne s'applique pas\"),AND($F$36=\"Oui\",AD36=\"Ne s'applique pas\"),AND($F$37=\"Oui\",AD37=\"Ne s'applique pas\"),AND($F$38=\"Oui\",AD38=\"Ne s'applique pas\"),AND($F$39=\"Oui\",AD39=\"Ne s'applique pas\"),AND($F$42=\"Oui\",AD42=\"Ne s'applique pas\"),AND($F$43=\"Oui\",AD43=\"Ne s'applique pas\"),AND($F$44=\"Oui\",AD44=\"Ne s'applique pas\"),AND($F$45=\"Oui\",AD45=\"Ne s'applique pas\")),\"Ne s'applique pas\",IF(OR(AND($F$32=\"Oui\",AD32=\"Avec restrictions\"),AND($F$33=\"Oui\",AD33=\"Avec restrictions\"),AND($F$36=\"Oui\",AD36=\"Avec restrictions\"),AND($F$37=\"Oui\",AD37=\"Avec restrictions\"),AND($F$38=\"Oui\",AD38=\"Avec restrictions\"),AND($F$39=\"Oui\",AD39=\"Avec restrictions\"),AND($F$42=\"Oui\",AD42=\"Avec restrictions\"),AND($F$43=\"Oui\",AD43=\"Avec restrictions\"),AND($F$44=\"Oui\",AD44=\"Avec restrictions\"),AND($F$45=\"Oui\",AD45=\"Avec restrictions\")),\"Avec restrictions\",IF(AND(AD32=\"-\",AD33=\"-\",AD36=\"-\",AD37=\"-\",AD38=\"-\",AD39=\"-\",AD42=\"-\",AD43=\"-\",AD44=\"-\",AD45=\"-\"),\"-\",\"S'applique\")))","v":"-"}]
["1-B.2","Zone saturée"]
["1-B.2.1","Groupe de contaminants"]
["1-B.2.1.1","Composés inorganiques"]
["1-B.2.1.1.1","Métaux",null,null,null,{"$f":"IF('A-Outil sélection scénario'!L160>='A-Outil sélection scénario'!$L$74,\"Oui\",\"Non\")","v":"Non"},null,{"$f":"IF($F$51=\"Oui\",\"S'applique\",\"-\")","v":"-"},null,{"$f":"IF($F$51=\"Oui\",\"S'applique\",\"-\")","v":"-"},null,{"$f":"IF($F$51=\"Oui\",\"Ne s'applique pas\",\"-\")","v":"-"},null,{"$f":"IF($F$51=\"Oui\",\"Avec restrictions\",\"-\")","v":"-"},null,{"$f":"IF($F$51=\"Oui\",\"S'applique\",\"-\")","v":"-"},null,{"$f":"IF($F$51=\"Oui\",\"Avec restrictions\",\"-\")","v":"-"},null,{"$f":"IF($F$51=\"Oui\",\"S'applique\",\"-\")","v":"-"},null,{"$f":"IF($F$51=\"Oui\",\"Ne s'applique pas\",\"-\")","v":"-"},null,{"$f":"IF($F$51=\"Oui\",\"Ne s'applique pas\",\"-\")","v":"-"},null,{"$f":"IF($F$51=\"Oui\",\"Ne s'applique pas\",\"-\")","v":"-"},null,{"$f":"IF($F$51=\"Oui\",\"Ne s'applique pas\",\"-\")","v":"-"},null,{"$f":"IF($F$51=\"Oui\",\"S'applique\",\"-\")","v":"-"}]
["1-B.2.1.1.2","Composés inorganiques non métalliques",null,null,null,{"$f":"IF('A-Outil sélection scénario'!L161>='A-Outil sélection scénario'!$L$74,\"Oui\",\"Non\")","v":"Non"},null,{"$f":"IF($F$52=\"Oui\",\"S'applique\",\"-\")","v":"-"},null,{"$f":"IF($F$52=\"Oui\",\"S'applique\",\"-\")","v":"-"},null,{"$f":"IF($F$52=\"Oui\",\"Ne s'applique pas\",\"-\")","v":"-"},null,{"$f":"IF($F$52=\"Oui\",\"Ne s'applique pas\",\"-\")","v":"-"},null,{"$f":"IF($F$52=\"Oui\",\"S'applique\",\"-\")","v":"-"},null,{"$f":"IF($F$52=\"Oui\",\"Ne s'applique pas\",\"-\")","v":"-"},null,{"$f":"IF($F$52=\"Oui\",\"S'applique\",\"-\")","v":"-"},null,{"$f":"IF($F$52=\"Oui\",\"Avec restrictions\",\"-\")","v":"-"},null,{"$f":"IF($F$52=\"Oui\",\"Ne s'applique pas\",\"-\")","v":"-"},null,{"$f":"IF($F$52=\"Oui\",\"Ne s'applique pas\",\"-\")","v":"-"},null,{"$f":"IF($F$52=\"Oui\",\"Ne s'applique pas\",\"-\")","v":"-"},null,{"$f":"IF($F$52=\"Oui\",\"S'applique\",\"-\")","v":"-"}]
["1-B.2.1.1.3","Applicabilité aux composés inorganiques de la zone saturée:",null,null,null,null,null,{"$f":"IF(OR(H51=\"Ne s'applique pas\",H52=\"Ne s'applique pas\"),\"Ne s'applique pas\",IF(AND(H51=\"-\",H52=\"-\"),\"-\",IF(OR(H51=\"Avec restrictions\",H52=\"Avec restrictions\"),\"Avec restrictions\",\"S'applique\")))","v":"-"},null,{"$f":"IF(OR(J51=\"Ne s'applique pas\",J52=\"Ne s'applique pas\"),\"Ne s'applique pas\",IF(AND(J51=\"-\",J52=\"-\"),\"-\",IF(OR(J51=\"Avec restrictions\",J52=\"Avec restrictions\"),\"Avec restrictions\",\"S'applique\")))","v":"-"},null,{"$f":"IF(OR(L51=\"Ne s'applique pas\",L52=\"Ne s'applique pas\"),\"Ne s'applique pas\",IF(AND(L51=\"-\",L52=\"-\"),\"-\",IF(OR(L51=\"Avec restrictions\",L52=\"Avec restrictions\"),\"Avec restrictions\",\"S'applique\")))","v":"-"},null,{"$f":"IF(OR(N51=\"Ne s'applique pas\",N52=\"Ne s'applique pas\"),\"Ne s'applique pas\",IF(AND(N51=\"-\",N52=\"-\"),\"-\",IF(OR(N51=\"Avec restrictions\",N52=\"Avec restrictions\"),\"Avec restrictions\",\"S'applique\")))","v":"-"},null,{"$f":"IF(OR(P51=\"Ne s'applique pas\",P52=\"Ne s'applique pas\"),\"Ne s'applique pas\",IF(AND(P51=\"-\",P52=\"-\"),\"-\",IF(OR(P51=\"Avec restrictions\",P52=\"Avec restrictions\"),\"Avec restrictions\",\"S'applique\")))","v":"-"},null,{"$f":"IF(OR(R51=\"Ne s'applique pas\",R52=\"Ne s'applique pas\"),\"Ne s'applique pas\",IF(AND(R51=\"-\",R52=\"-\"),\"-\",IF(OR(R51=\"Avec restrictions\",R52=\"Avec restrictions\"),\"Avec restrictions\",\"S'applique\")))","v":"-"},null,{"$f":"IF(OR(T51=\"Ne s'applique pas\",T52=\"Ne s'applique pas\"),\"Ne s'applique pas\",IF(AND(T51=\"-\",T52=\"-\"),\"-\",IF(OR(T51=\"Avec restrictions\",T52=\"Avec restrictions\"),\"Avec restrictions\",\"S'applique\")))","v":"-"},null,{"$f":"IF(OR(V51=\"Ne s'applique pas\",V52=\"Ne s'applique pas\"),\"Ne s'applique pas\",IF(AND(V51=\"-\",V52=\"-\"),\"-\",IF(OR(V51=\"Avec restrictions\",V52=\"Avec restrictions\"),\"Avec restrictions\",\"S'applique\")))","v":"-"},null,{"$f":"IF(OR(X51=\"Ne s'applique pas\",X52=\"Ne s'applique pas\"),\"Ne s'applique pas\",IF(AND(X51=\"-\",X52=\"-\"),\"-\",IF(OR(X51=\"Avec restrictions\",X52=\"Avec restrictions\"),\"Avec restrictions\",\"S'applique\")))","v":"-"},null,{"$f":"IF(OR(Z51=\"Ne s'applique pas\",Z52=\"Ne s'applique pas\"),\"Ne s'applique pas\",IF(AND(Z51=\"-\",Z52=\"-\"),\"-\",IF(OR(Z51=\"Avec restrictions\",Z52=\"Avec restrictions\"),\"Avec restrictions\",\"S'applique\")))","v":"-"},null,{"$f":"IF(OR(AB51=\"Ne s'applique pas\",AB52=\"Ne s'applique pas\"),\"Ne s'applique pas\",IF(AND(AB51=\"-\",AB52=\"-\"),\"-\",IF(OR(AB51=\"Avec restrictions\",AB52=\"Avec restrictions\"),\"Avec restrictions\",\"S'applique\")))","v":"-"},null,{"$f":"IF(OR(AD51=\"Ne s'applique pas\",AD52=\"Ne s'applique pas\"),\"Ne s'applique pas\",IF(AND(AD51=\"-\",AD52=\"-\"),\"-\",IF(OR(AD51=\"Avec restrictions\",AD52=\"Avec restrictions\"),\"Avec restrictions\",\"S'applique\")))","v":"-"}]
["1-B.2.1.2","Composés organiques (produits pétroliers et COV)"]
["1-B.2.1.2.1","Hydrocarbures pétroliers C10-C50",null,null,null,{"$f":"IF('A-Outil sélection scénario'!L163>='A-Outil sélection scénario'!$L$74,\"Oui\",\"Non\")","v":"Non"},null,{"$f":"IF($F$55=\"Oui\",\"S'applique\",\"-\")","v":"-"},null,{"$f":"IF($F$55=\"Oui\",\"Ne s'applique pas\",\"-\")","v":"-"},null,{"$f":"IF($F$55=\"Oui\",\"S'applique\",\"-\")","v":"-"},null,{"$f":"IF($F$55=\"Oui\",\"S'applique\",\"-\")","v":"-"},null,{"$f":"IF($F$55=\"Oui\",\"Ne s'applique pas\",\"-\")","v":"-"},null,{"$f":"IF($F$55=\"Oui\",\"S'applique\",\"-\")","v":"-"},null,{"$f":"IF($F$55=\"Oui\",\"S'applique\",\"-\")","v":"-"},null,{"$f":"IF($F$55=\"Oui\",\"S'applique\",\"-\")","v":"-"},null,{"$f":"IF($F$55=\"Oui\",\"S'applique\",\"-\")","v":"-"},null,{"$f":"IF($F$55=\"Oui\",\"Ne s'applique pas\",\"-\")","v":"-"},null,{"$f":"IF($F$55=\"Oui\",\"S'applique\",\"-\")","v":"-"},null,{"$f":"IF($F$55=\"Oui\",\"S'applique\",\"-\")","v":"-"}]
["1-B.2.1.2.2","Hydrocarbures aromatiques monocycliques",null,null,null,{"$f":"IF('A-Outil sélection scénario'!L164>='A-Outil sélection scénario'!$L$74,\"Oui\",\"Non\")","v":"Non"},null,{"$f":"IF($F$56=\"Oui\",\"S'applique\",\"-\")","v":"-"},null,{"$f":"IF($F$56=\"Oui\",\"Ne s'applique pas\",\"-\")","v":"-"},null,{"$f":"IF($F$56=\"Oui\",\"S'applique\",\"-\")","v":"-"},null,{"$f":"IF($F$56=\"Oui\",\"S'applique\",\"-\")","v":"-"},null,{"$f":"IF($F$56=\"Oui\",\"Ne s'applique pas\",\"-\")","v":"-"},null,{"$f":"IF($F$56=\"Oui\",\"S'applique\",\"-\")","v":"-"},null,{"$f":"IF($F$56=\"Oui\",\"S'applique\",\"-\")","v":"-"},null,{"$f":"IF($F$56=\"Oui\",\"S'applique\",\"-\")","v":"-"},null,{"$f":"IF($F$56=\"Oui\",\"Avec restrictions\",\"-\")","v":"-"},null,{"$f":"IF($F$56=\"Oui\",\"Ne s'applique pas\",\"-\")","v":"-"},null,{"$f":"IF($F$56=\"Oui\",\"S'applique\",\"-\")","v":"-"},null,{"$f":"IF($F$56=\"Oui\",\"S'applique\",\"-\")","v":"-"}]
["1-B.2.1.2.3","Hydrocarbures aliphatiques chlorés",null,null,null,{"$f":"IF('A-Outil sélection scénario'!L165>='A-Outil sélection scénario'!$L$74,\"Oui\",\"Non\")","v":"Non"},null,{"$f":"IF($F$57=\"Oui\",\"S'applique\",\"-\")","v":"-"},null,{"$f":"IF($F$57=\"Oui\",\"Ne s'applique pas\",\"-\")","v":"-"},null,{"$f":"IF($F$57=\"Oui\",\"Avec restrictions\",\"-\")","v":"-"},null,{"$f":"IF($F$57=\"Oui\",\"Avec restrictions\",\"-\")","v":"-"},null,{"$f":"IF($F$57=\"Oui\",\"Ne s'applique pas\",\"-\")","v":"-"},null,{"$f":"IF($F$57=\"Oui\",\"S'applique\",\"-\")","v":"-"},null,{"$f":"IF($F$57=\"Oui\",\"Avec restrictions\",\"-\")","v":"-"},null,{"$f":"IF($F$57=\"Oui\",\"S'applique\",\"-\")","v":"-"},null,{"$f":"IF($F$57=\"Oui\",\"Avec restrictions\",\"-\")","v":"-"},null,{"$f":"IF($F$57=\"Oui\",\"Ne s'applique pas\",\"-\")","v":"-"},null,{"$f":"IF($F$57=\"Oui\",\"S'applique\",\"-\")","v":"-"},null,{"$f":"IF($F$57=\"Oui\",\"S'applique\",\"-\")","v":"-"}]
["1-B.2.1.2.4","Chlorobenzène",null,null,null,{"$f":"IF('A-Outil sélection scénario'!L166>='A-Outil sélection scénario'!$L$74,\"Oui\",\"Non\")","v":"Non"},null,{"$f":"IF($F$58=\"Oui\",\"S'applique\",\"-\")","v":"-"},null,{"$f":"IF($F$58=\"Oui\",\"Ne s'applique pas\",\"-\")","v":"-"},null,{"$f":"IF($F$58=\"Oui\",\"Avec restrictions\",\"-\")","v":"-"},null,{"$f":"IF($F$58=\"Oui\",\"S'applique\",\"-\")","v":"-"},null,{"$f":"IF($F$58=\"Oui\",\"Ne s'applique pas\",\"-\")","v":"-"},null,{"$f":"IF($F$58=\"Oui\",\"S'applique\",\"-\")","v":"-"},null,{"$f":"IF($F$58=\"Oui\",\"Avec restrictions\",\"-\")","v":"-"},null,{"$f":"IF($F$58=\"Oui\",\"S'applique\",\"-\")","v":"-"},null,{"$f":"IF($F$58=\"Oui\",\"S'applique\",\"-\")","v":"-"},null,{"$f":"IF($F$58=\"Oui\",\"Ne s'applique pas\",\"-\")","v":"-"},null,{"$f":"IF($F$58=\"Oui\",\"S'applique\",\"-\")","v":"-"},null,{"$f":"IF($F$58=\"Oui\",\"S'applique\",\"-\")","v":"-"}]
["1-B.2.1.2.5","Applicabilité aux composés organiques (produits pétroliers et COV) de la zone saturée:",null,null,null,null,null,{"$f":"IF(OR(H57=\"Ne s'applique pas\",H58=\"Ne s'applique pas\",H55=\"Ne s'applique pas\",H56=\"Ne s'applique pas\"),\"Ne s'applique pas\",IF(AND(H55=\"-\",H56=\"-\",H57=\"-\",H58=\"-\"),\"-\",IF(OR(H55=\"Avec restrictions\",H56=\"Avec restrictions\",H57=\"Avec restrictions\",H58=\"Avec restrictions\"),\"Avec restrictions\",\"S'applique\")))","v":"-"},null,{"$f":"IF(OR(J57=\"Ne s'applique pas\",J58=\"Ne s'applique pas\",J55=\"Ne s'applique pas\",J56=\"Ne s'applique pas\"),\"Ne s'applique pas\",IF(AND(J55=\"-\",J56=\"-\",J57=\"-\",J58=\"-\"),\"-\",IF(OR(J55=\"Avec restrictions\",J56=\"Avec restrictions\",J57=\"Avec restrictions\",J58=\"Avec restrictions\"),\"Avec restrictions\",\"S'applique\")))","v":"-"},null,{"$f":"IF(OR(L57=\"Ne s'applique pas\",L58=\"Ne s'applique pas\",L55=\"Ne s'applique pas\",L56=\"Ne s'applique pas\"),\"Ne s'applique pas\",IF(AND(L55=\"-\",L56=\"-\",L57=\"-\",L58=\"-\"),\"-\",IF(OR(L55=\"Avec restrictions\",L56=\"Avec restrictions\",L57=\"Avec restrictions\",L58=\"Avec restrictions\"),\"Avec restrictions\",\"S'applique\")))","v":"-"},null,{"$f":"IF(OR(N57=\"Ne s'applique pas\",N58=\"Ne s'applique pas\",N55=\"Ne s'applique pas\",N56=\"Ne s'applique pas\"),\"Ne s'applique pas\",IF(AND(N55=\"-\",N56=\"-\",N57=\"-\",N58=\"-\"),\"-\",IF(OR(N55=\"Avec restrictions\",N56=\"Avec restrictions\",N57=\"Avec restrictions\",N58=\"Avec restrictions\"),\"Avec restrictions\",\"S'applique\")))","v":"-"},null,{"$f":"IF(OR(P57=\"Ne s'applique pas\",P58=\"Ne s'applique pas\",P55=\"Ne s'applique pas\",P56=\"Ne s'applique pas\"),\"Ne s'applique pas\",IF(AND(P55=\"-\",P56=\"-\",P57=\"-\",P58=\"-\"),\"-\",IF(OR(P55=\"Avec restrictions\",P56=\"Avec restrictions\",P57=\"Avec restrictions\",P58=\"Avec restrictions\"),\"Avec restrictions\",\"S'applique\")))","v":"-"},null,{"$f":"IF(OR(R57=\"Ne s'applique pas\",R58=\"Ne s'applique pas\",R55=\"Ne s'applique pas\",R56=\"Ne s'applique pas\"),\"Ne s'applique pas\",IF(AND(R55=\"-\",R56=\"-\",R57=\"-\",R58=\"-\"),\"-\",IF(OR(R55=\"Avec restrictions\",R56=\"Avec restrictions\",R57=\"Avec restrictions\",R58=\"Avec restrictions\"),\"Avec restrictions\",\"S'applique\")))","v":"-"},null,{"$f":"IF(OR(T57=\"Ne s'applique pas\",T58=\"Ne s'applique pas\",T55=\"Ne s'applique pas\",T56=\"Ne s'applique pas\"),\"Ne s'applique pas\",IF(AND(T55=\"-\",T56=\"-\",T57=\"-\",T58=\"-\"),\"-\",IF(OR(T55=\"Avec restrictions\",T56=\"Avec restrictions\",T57=\"Avec restrictions\",T58=\"Avec restrictions\"),\"Avec restrictions\",\"S'applique\")))","v":"-"},null,{"$f":"IF(OR(V57=\"Ne s'applique pas\",V58=\"Ne s'applique pas\",V55=\"Ne s'applique pas\",V56=\"Ne s'applique pas\"),\"Ne s'applique pas\",IF(AND(V55=\"-\",V56=\"-\",V57=\"-\",V58=\"-\"),\"-\",IF(OR(V55=\"Avec restrictions\",V56=\"Avec restrictions\",V57=\"Avec restrictions\",V58=\"Avec restrictions\"),\"Avec restrictions\",\"S'applique\")))","v":"-"},null,{"$f":"IF(OR(X57=\"Ne s'applique pas\",X58=\"Ne s'applique pas\",X55=\"Ne s'applique pas\",X56=\"Ne s'applique pas\"),\"Ne s'applique pas\",IF(AND(X55=\"-\",X56=\"-\",X57=\"-\",X58=\"-\"),\"-\",IF(OR(X55=\"Avec restrictions\",X56=\"Avec restrictions\",X57=\"Avec restrictions\",X58=\"Avec restrictions\"),\"Avec restrictions\",\"S'applique\")))","v":"-"},null,{"$f":"IF(OR(Z57=\"Ne s'applique pas\",Z58=\"Ne s'applique pas\",Z55=\"Ne s'applique pas\",Z56=\"Ne s'applique pas\"),\"Ne s'applique pas\",IF(AND(Z55=\"-\",Z56=\"-\",Z57=\"-\",Z58=\"-\"),\"-\",IF(OR(Z55=\"Avec restrictions\",Z56=\"Avec restrictions\",Z57=\"Avec restrictions\",Z58=\"Avec restrictions\"),\"Avec restrictions\",\"S'applique\")))","v":"-"},null,{"$f":"IF(OR(AB57=\"Ne s'applique pas\",AB58=\"Ne s'applique pas\",AB55=\"Ne s'applique pas\",AB56=\"Ne s'applique pas\"),\"Ne s'applique pas\",IF(AND(AB55=\"-\",AB56=\"-\",AB57=\"-\",AB58=\"-\"),\"-\",IF(OR(AB55=\"Avec restrictions\",AB56=\"Avec restrictions\",AB57=\"Avec restrictions\",AB58=\"Avec restrictions\"),\"Avec restrictions\",\"S'applique\")))","v":"-"},null,{"$f":"IF(OR(AD57=\"Ne s'applique pas\",AD58=\"Ne s'applique pas\",AD55=\"Ne s'applique pas\",AD56=\"Ne s'applique pas\"),\"Ne s'applique pas\",IF(AND(AD55=\"-\",AD56=\"-\",AD57=\"-\",AD58=\"-\"),\"-\",IF(OR(AD55=\"Avec restrictions\",AD56=\"Avec restrictions\",AD57=\"Avec restrictions\",AD58=\"Avec restrictions\"),\"Avec restrictions\",\"S'applique\")))","v":"-"}]
["1-B.2.1.3","Autres composés organiques"]
["1-B.2.1.3.1","Hydrocarbures aromatiques polycycliques",null,null,null,{"$f":"IF('A-Outil sélection scénario'!L168>='A-Outil sélection scénario'!$L$74,\"Oui\",\"Non\")","v":"Non"},null,{"$f":"IF($F$61=\"Oui\",\"S'applique\",\"-\")","v":"-"},null,{"$f":"IF($F$61=\"Oui\",\"S'applique\",\"-\")","v":"-"},null,{"$f":"IF($F$61=\"Oui\",\"Avec restrictions\",\"-\")","v":"-"},null,{"$f":"IF($F$61=\"Oui\",\"Avec restrictions\",\"-\")","v":"-"},null,{"$f":"IF($F$61=\"Oui\",\"Ne s'applique pas\",\"-\")","v":"-"},null,{"$f":"IF($F$61=\"Oui\",\"S'applique\",\"-\")","v":"-"},null,{"$f":"IF($F$61=\"Oui\",\"S'applique\",\"-\")","v":"-"},null,{"$f":"IF($F$61=\"Oui\",\"S'applique\",\"-\")","v":"-"},null,{"$f":"IF($F$61=\"Oui\",\"S'applique\",\"-\")","v":"-"},null,{"$f":"IF($F$61=\"Oui\",\"Ne s'applique pas\",\"-\")","v":"-"},null,{"$f":"IF($F$61=\"Oui\",\"Avec restrictions\",\"-\")","v":"-"},null,{"$f":"IF($F$61=\"Oui\",\"S'applique\",\"-\")","v":"-"}]
["1-B.2.1.3.2","Composés phénoliques",null,null,null,{"$f":"IF('A-Outil sélection scénario'!L169>='A-Outil sélection scénario'!$L$74,\"Oui\",\"Non\")","v":"Non"},null,{"$f":"IF($F$62=\"Oui\",\"S'applique\",\"-\")","v":"-"},null,{"$f":"IF($F$62=\"Oui\",\"S'applique\",\"-\")","v":"-"},null,{"$f":"IF($F$62=\"Oui\",\"Avec restrictions\",\"-\")","v":"-"},null,{"$f":"IF($F$62=\"Oui\",\"S'applique\",\"-\")","v":"-"},null,{"$f":"IF($F$62=\"Oui\",\"Ne s'applique pas\",\"-\")","v":"-"},null,{"$f":"IF($F$62=\"Oui\",\"Avec restrictions\",\"-\")","v":"-"},null,{"$f":"IF($F$62=\"Oui\",\"S'applique\",\"-\")","v":"-"},null,{"$f":"IF($F$62=\"Oui\",\"S'applique\",\"-\")","v":"-"},null,{"$f":"IF($F$62=\"Oui\",\"S'applique\",\"-\")","v":"-"},null,{"$f":"IF($F$62=\"Oui\",\"Ne s'applique pas\",\"-\")","v":"-"},null,{"$f":"IF($F$62=\"Oui\",\"S'applique\",\"-\")","v":"-"},null,{"$f":"IF($F$62=\"Oui\",\"S'applique\",\"-\")","v":"-"}]
["1-B.2.1.3.3","Biphényles polychlorés",null,null,null,{"$f":"IF('A-Outil sélection scénario'!L170>='A-Outil sélection scénario'!$L$74,\"Oui\",\"Non\")","v":"Non"},null,{"$f":"IF($F$63=\"Oui\",\"S'applique\",\"-\")","v":"-"},null,{"$f":"IF($F$63=\"Oui\",\"Ne s'applique pas\",\"-\")","v":"-"},null,{"$f":"IF($F$63=\"Oui\",\"Ne s'applique pas\",\"-\")","v":"-"},null,{"$f":"IF($F$63=\"Oui\",\"Avec restrictions\",\"-\")","v":"-"},null,{"$f":"IF($F$63=\"Oui\",\"Ne s'applique pas\",\"-\")","v":"-"},null,{"$f":"IF($F$63=\"Oui\",\"S'applique\",\"-\")","v":"-"},null,{"$f":"IF($F$63=\"Oui\",\"S'applique\",\"-\")","v":"-"},null,{"$f":"IF($F$63=\"Oui\",\"Avec restrictions\",\"-\")","v":"-"},null,{"$f":"IF($F$63=\"Oui\",\"Avec restrictions\",\"-\")","v":"-"},null,{"$f":"IF($F$63=\"Oui\",\"Ne s'applique pas\",\"-\")","v":"-"},null,{"$f":"IF($F$63=\"Oui\",\"Ne s'applique pas\",\"-\")","v":"-"},null,{"$f":"IF($F$63=\"Oui\",\"S'applique\",\"-\")","v":"-"}]
["1-B.2.1.3.4","Pesticides",null,null,null,{"$f":"IF('A-Outil sélection scénario'!L171>='A-Outil sélection scénario'!$L$74,\"Oui\",\"Non\")","v":"Non"},null,{"$f":"IF($F$64=\"Oui\",\"S'applique\",\"-\")","v":"-"},null,{"$f":"IF($F$64=\"Oui\",\"S'applique\",\"-\")","v":"-"},null,{"$f":"IF($F$64=\"Oui\",\"Avec restrictions\",\"-\")","v":"-"},null,{"$f":"IF($F$64=\"Oui\",\"Avec restrictions\",\"-\")","v":"-"},null,{"$f":"IF($F$64=\"Oui\",\"Ne s'applique pas\",\"-\")","v":"-"},null,{"$f":"IF($F$64=\"Oui\",\"S'applique\",\"-\")","v":"-"},null,{"$f":"IF($F$64=\"Oui\",\"S'applique\",\"-\")","v":"-"},null,{"$f":"IF($F$64=\"Oui\",\"Avec restrictions\",\"-\")","v":"-"},null,{"$f":"IF($F$64=\"Oui\",\"Avec restrictions\",\"-\")","v":"-"},null,{"$f":"IF($F$64=\"Oui\",\"Ne s'applique pas\",\"-\")","v":"-"},null,{"$f":"IF($F$64=\"Oui\",\"Avec restrictions\",\"-\")","v":"-"},null,{"$f":"IF($F$64=\"Oui\",\"S'applique\",\"-\")","v":"-"}]
["1-B.2.1.3.5","Applicabilité aux autres composés organiques de la zone saturée:",null,null,null,null,null,{"$f":"IF(OR(H63=\"Ne s'applique pas\",H64=\"Ne s'applique pas\",H61=\"Ne s'applique pas\",H62=\"Ne s'applique pas\"),\"Ne s'applique pas\",IF(AND(H61=\"-\",H62=\"-\",H63=\"-\",H64=\"-\"),\"-\",IF(OR(H61=\"Avec restrictions\",H62=\"Avec restrictions\",H63=\"Avec restrictions\",H64=\"Avec restrictions\"),\"Avec restrictions\",\"S'applique\")))","v":"-"},null,{"$f":"IF(OR(J63=\"Ne s'applique pas\",J64=\"Ne s'applique pas\",J61=\"Ne s'applique pas\",J62=\"Ne s'applique pas\"),\"Ne s'applique pas\",IF(AND(J61=\"-\",J62=\"-\",J63=\"-\",J64=\"-\"),\"-\",IF(OR(J61=\"Avec restrictions\",J62=\"Avec restrictions\",J63=\"Avec restrictions\",J64=\"Avec restrictions\"),\"Avec restrictions\",\"S'applique\")))","v":"-"},null,{"$f":"IF(OR(L63=\"Ne s'applique pas\",L64=\"Ne s'applique pas\",L61=\"Ne s'applique pas\",L62=\"Ne s'applique pas\"),\"Ne s'applique pas\",IF(AND(L61=\"-\",L62=\"-\",L63=\"-\",L64=\"-\"),\"-\",IF(OR(L61=\"Avec restrictions\",L62=\"Avec restrictions\",L63=\"Avec restrictions\",L64=\"Avec restrictions\"),\"Avec restrictions\",\"S'applique\")))","v":"-"},null,{"$f":"IF(OR(N63=\"Ne s'applique pas\",N64=\"Ne s'applique pas\",N61=\"Ne s'applique pas\",N62=\"Ne s'applique pas\"),\"Ne s'applique pas\",IF(AND(N61=\"-\",N62=\"-\",N63=\"-\",N64=\"-\"),\"-\",IF(OR(N61=\"Avec restrictions\",N62=\"Avec restrictions\",N63=\"Avec restrictions\",N64=\"Avec restrictions\"),\"Avec restrictions\",\"S'applique\")))","v":"-"},null,{"$f":"IF(OR(P63=\"Ne s'applique pas\",P64=\"Ne s'applique pas\",P61=\"Ne s'applique pas\",P62=\"Ne s'applique pas\"),\"Ne s'applique pas\",IF(AND(P61=\"-\",P62=\"-\",P63=\"-\",P64=\"-\"),\"-\",IF(OR(P61=\"Avec restrictions\",P62=\"Avec restrictions\",P63=\"Avec restrictions\",P64=\"Avec restrictions\"),\"Avec restrictions\",\"S'applique\")))","v":"-"},null,{"$f":"IF(OR(R63=\"Ne s'applique pas\",R64=\"Ne s'applique pas\",R61=\"Ne s'applique pas\",R62=\"Ne s'applique pas\"),\"Ne s'applique pas\",IF(AND(R61=\"-\",R62=\"-\",R63=\"-\",R64=\"-\"),\"-\",IF(OR(R61=\"Avec restrictions\",R62=\"Avec restrictions\",R63=\"Avec restrictions\",R64=\"Avec restrictions\"),\"Avec restrictions\",\"S'applique\")))","v":"-"},null,{"$f":"IF(OR(T63=\"Ne s'applique pas\",T64=\"Ne s'applique pas\",T61=\"Ne s'applique pas\",T62=\"Ne s'applique pas\"),\"Ne s'applique pas\",IF(AND(T61=\"-\",T62=\"-\",T63=\"-\",T64=\"-\"),\"-\",IF(OR(T61=\"Avec restrictions\",T62=\"Avec restrictions\",T63=\"Avec restrictions\",T64=\"Avec restrictions\"),\"Avec restrictions\",\"S'applique\")))","v":"-"},null,{"$f":"IF(OR(V63=\"Ne s'applique pas\",V64=\"Ne s'applique pas\",V61=\"Ne s'applique pas\",V62=\"Ne s'applique pas\"),\"Ne s'applique pas\",IF(AND(V61=\"-\",V62=\"-\",V63=\"-\",V64=\"-\"),\"-\",IF(OR(V61=\"Avec restrictions\",V62=\"Avec restrictions\",V63=\"Avec restrictions\",V64=\"Avec restrictions\"),\"Avec restrictions\",\"S'applique\")))","v":"-"},null,{"$f":"IF(OR(X63=\"Ne s'applique pas\",X64=\"Ne s'applique pas\",X61=\"Ne s'applique pas\",X62=\"Ne s'applique pas\"),\"Ne s'applique pas\",IF(AND(X61=\"-\",X62=\"-\",X63=\"-\",X64=\"-\"),\"-\",IF(OR(X61=\"Avec restrictions\",X62=\"Avec restrictions\",X63=\"Avec restrictions\",X64=\"Avec restrictions\"),\"Avec restrictions\",\"S'applique\")))","v":"-"},null,{"$f":"IF(OR(Z63=\"Ne s'applique pas\",Z64=\"Ne s'applique pas\",Z61=\"Ne s'applique pas\",Z62=\"Ne s'applique pas\"),\"Ne s'applique pas\",IF(AND(Z61=\"-\",Z62=\"-\",Z63=\"-\",Z64=\"-\"),\"-\",IF(OR(Z61=\"Avec restrictions\",Z62=\"Avec restrictions\",Z63=\"Avec restrictions\",Z64=\"Avec restrictions\"),\"Avec restrictions\",\"S'applique\")))","v":"-"},null,{"$f":"IF(OR(AB63=\"Ne s'applique pas\",AB64=\"Ne s'applique pas\",AB61=\"Ne s'applique pas\",AB62=\"Ne s'applique pas\"),\"Ne s'applique pas\",IF(AND(AB61=\"-\",AB62=\"-\",AB63=\"-\",AB64=\"-\"),\"-\",IF(OR(AB61=\"Avec restrictions\",AB62=\"Avec restrictions\",AB63=\"Avec restrictions\",AB64=\"Avec restrictions\"),\"Avec restrictions\",\"S'applique\")))","v":"-"},null,{"$f":"IF(OR(AD63=\"Ne s'applique pas\",AD64=\"Ne s'applique pas\",AD61=\"Ne s'applique pas\",AD62=\"Ne s'applique pas\"),\"Ne s'applique pas\",IF(AND(AD61=\"-\",AD62=\"-\",AD63=\"-\",AD64=\"-\"),\"-\",IF(OR(AD61=\"Avec restrictions\",AD62=\"Avec restrictions\",AD63=\"Avec restrictions\",AD64=\"Avec restrictions\"),\"Avec restrictions\",\"S'applique\")))","v":"-"}]
["1-B.2.2","Sous-total zone saturée",null,null,null,null,null,{"$f":"IF(OR(AND($F$51=\"Oui\",H51=\"Ne s'applique pas\"),AND($F$52=\"Oui\",H52=\"Ne s'applique pas\"),AND($F$55=\"Oui\",H55=\"Ne s'applique pas\"),AND($F$56=\"Oui\",H56=\"Ne s'applique pas\"),AND($F$57=\"Oui\",H57=\"Ne s'applique pas\"),AND($F$58=\"Oui\",H58=\"Ne s'applique pas\"),AND($F$61=\"Oui\",H61=\"Ne s'applique pas\"),AND($F$62=\"Oui\",H62=\"Ne s'applique pas\"),AND($F$63=\"Oui\",H63=\"Ne s'applique pas\"),AND($F$64=\"Oui\",H64=\"Ne s'applique pas\")),\"Ne s'applique pas\",IF(OR(AND($F$51=\"Oui\",H51=\"Avec restrictions\"),AND($F$52=\"Oui\",H52=\"Avec restrictions\"),AND($F$55=\"Oui\",H55=\"Avec restrictions\"),AND($F$56=\"Oui\",H56=\"Avec restrictions\"),AND($F$57=\"Oui\",H57=\"Avec restrictions\"),AND($F$58=\"Oui\",H58=\"Avec restrictions\"),AND($F$61=\"Oui\",H61=\"Avec restrictions\"),AND($F$62=\"Oui\",H62=\"Avec restrictions\"),AND($F$63=\"Oui\",H63=\"Avec restrictions\"),AND($F$64=\"Oui\",H64=\"Avec restrictions\")),\"Avec restrictions\",IF(AND(H51=\"-\",H52=\"-\",H55=\"-\",H56=\"-\",H57=\"-\",H58=\"-\",H61=\"-\",H62=\"-\",H63=\"-\",H64=\"-\"),\"-\",\"S'applique\")))","v":"-"},null,{"$f":"IF(OR(AND($F$51=\"Oui\",J51=\"Ne s'applique pas\"),AND($F$52=\"Oui\",J52=\"Ne s'applique pas\"),AND($F$55=\"Oui\",J55=\"Ne s'applique pas\"),AND($F$56=\"Oui\",J56=\"Ne s'applique pas\"),AND($F$57=\"Oui\",J57=\"Ne s'applique pas\"),AND($F$58=\"Oui\",J58=\"Ne s'applique pas\"),AND($F$61=\"Oui\",J61=\"Ne s'applique pas\"),AND($F$62=\"Oui\",J62=\"Ne s'applique pas\"),AND($F$63=\"Oui\",J63=\"Ne s'applique pas\"),AND($F$64=\"Oui\",J64=\"Ne s'applique pas\")),\"Ne s'applique pas\",IF(OR(AND($F$51=\"Oui\",J51=\"Avec restrictions\"),AND($F$52=\"Oui\",J52=\"Avec restrictions\"),AND($F$55=\"Oui\",J55=\"Avec restrictions\"),AND($F$56=\"Oui\",J56=\"Avec restrictions\"),AND($F$57=\"Oui\",J57=\"Avec restrictions\"),AND($F$58=\"Oui\",J58=\"Avec restrictions\"),AND($F$61=\"Oui\",J61=\"Avec restrictions\"),AND($F$62=\"Oui\",J62=\"Avec restrictions\"),AND($F$63=\"Oui\",J63=\"Avec restrictions\"),AND($F$64=\"Oui\",J64=\"Avec restrictions\")),\"Avec restrictions\",IF(AND(J51=\"-\",J52=\"-\",J55=\"-\",J56=\"-\",J57=\"-\",J58=\"-\",J61=\"-\",J62=\"-\",J63=\"-\",J64=\"-\"),\"-\",\"S'applique\")))","v":"-"},null,{"$f":"IF(OR(AND($F$51=\"Oui\",L51=\"Ne s'applique pas\"),AND($F$52=\"Oui\",L52=\"Ne s'applique pas\"),AND($F$55=\"Oui\",L55=\"Ne s'applique pas\"),AND($F$56=\"Oui\",L56=\"Ne s'applique pas\"),AND($F$57=\"Oui\",L57=\"Ne s'applique pas\"),AND($F$58=\"Oui\",L58=\"Ne s'applique pas\"),AND($F$61=\"Oui\",L61=\"Ne s'applique pas\"),AND($F$62=\"Oui\",L62=\"Ne s'applique pas\"),AND($F$63=\"Oui\",L63=\"Ne s'applique pas\"),AND($F$64=\"Oui\",L64=\"Ne s'applique pas\")),\"Ne s'applique pas\",IF(OR(AND($F$51=\"Oui\",L51=\"Avec restrictions\"),AND($F$52=\"Oui\",L52=\"Avec restrictions\"),AND($F$55=\"Oui\",L55=\"Avec restrictions\"),AND($F$56=\"Oui\",L56=\"Avec restrictions\"),AND($F$57=\"Oui\",L57=\"Avec restrictions\"),AND($F$58=\"Oui\",L58=\"Avec restrictions\"),AND($F$61=\"Oui\",L61=\"Avec restrictions\"),AND($F$62=\"Oui\",L62=\"Avec restrictions\"),AND($F$63=\"Oui\",L63=\"Avec restrictions\"),AND($F$64=\"Oui\",L64=\"Avec restrictions\")),\"Avec restrictions\",IF(AND(L51=\"-\",L52=\"-\",L55=\"-\",L56=\"-\",L57=\"-\",L58=\"-\",L61=\"-\",L62=\"-\",L63=\"-\",L64=\"-\"),\"-\",\"S'applique\")))","v":"-"},null,{"$f":"IF(OR(AND($F$51=\"Oui\",N51=\"Ne s'applique pas\"),AND($F$52=\"Oui\",N52=\"Ne s'applique pas\"),AND($F$55=\"Oui\",N55=\"Ne s'applique pas\"),AND($F$56=\"Oui\",N56=\"Ne s'applique pas\"),AND($F$57=\"Oui\",N57=\"Ne s'applique pas\"),AND($F$58=\"Oui\",N58=\"Ne s'applique pas\"),AND($F$61=\"Oui\",N61=\"Ne s'applique pas\"),AND($F$62=\"Oui\",N62=\"Ne s'applique pas\"),AND($F$63=\"Oui\",N63=\"Ne s'applique pas\"),AND($F$64=\"Oui\",N64=\"Ne s'applique pas\")),\"Ne s'applique pas\",IF(OR(AND($F$51=\"Oui\",N51=\"Avec restrictions\"),AND($F$52=\"Oui\",N52=\"Avec restrictions\"),AND($F$55=\"Oui\",N55=\"Avec restrictions\"),AND($F$56=\"Oui\",N56=\"Avec restrictions\"),AND($F$57=\"Oui\",N57=\"Avec restrictions\"),AND($F$58=\"Oui\",N58=\"Avec restrictions\"),AND($F$61=\"Oui\",N61=\"Avec restrictions\"),AND($F$62=\"Oui\",N62=\"Avec restrictions\"),AND($F$63=\"Oui\",N63=\"Avec restrictions\"),AND($F$64=\"Oui\",N64=\"Avec restrictions\")),\"Avec restrictions\",IF(AND(N51=\"-\",N52=\"-\",N55=\"-\",N56=\"-\",N57=\"-\",N58=\"-\",N61=\"-\",N62=\"-\",N63=\"-\",N64=\"-\"),\"-\",\"S'applique\")))","v":"-"},null,{"$f":"IF(OR(AND($F$51=\"Oui\",P51=\"Ne s'applique pas\"),AND($F$52=\"Oui\",P52=\"Ne s'applique pas\"),AND($F$55=\"Oui\",P55=\"Ne s'applique pas\"),AND($F$56=\"Oui\",P56=\"Ne s'applique pas\"),AND($F$57=\"Oui\",P57=\"Ne s'applique pas\"),AND($F$58=\"Oui\",P58=\"Ne s'applique pas\"),AND($F$61=\"Oui\",P61=\"Ne s'applique pas\"),AND($F$62=\"Oui\",P62=\"Ne s'applique pas\"),AND($F$63=\"Oui\",P63=\"Ne s'applique pas\"),AND($F$64=\"Oui\",P64=\"Ne s'applique pas\")),\"Ne s'applique pas\",IF(OR(AND($F$51=\"Oui\",P51=\"Avec restrictions\"),AND($F$52=\"Oui\",P52=\"Avec restrictions\"),AND($F$55=\"Oui\",P55=\"Avec restrictions\"),AND($F$56=\"Oui\",P56=\"Avec restrictions\"),AND($F$57=\"Oui\",P57=\"Avec restrictions\"),AND($F$58=\"Oui\",P58=\"Avec restrictions\"),AND($F$61=\"Oui\",P61=\"Avec restrictions\"),AND($F$62=\"Oui\",P62=\"Avec restrictions\"),AND($F$63=\"Oui\",P63=\"Avec restrictions\"),AND($F$64=\"Oui\",P64=\"Avec restrictions\")),\"Avec restrictions\",IF(AND(P51=\"-\",P52=\"-\",P55=\"-\",P56=\"-\",P57=\"-\",P58=\"-\",P61=\"-\",P62=\"-\",P63=\"-\",P64=\"-\"),\"-\",\"S'applique\")))","v":"-"},null,{"$f":"IF(OR(AND($F$51=\"Oui\",R51=\"Ne s'applique pas\"),AND($F$52=\"Oui\",R52=\"Ne s'applique pas\"),AND($F$55=\"Oui\",R55=\"Ne s'applique pas\"),AND($F$56=\"Oui\",R56=\"Ne s'applique pas\"),AND($F$57=\"Oui\",R57=\"Ne s'applique pas\"),AND($F$58=\"Oui\",R58=\"Ne s'applique pas\"),AND($F$61=\"Oui\",R61=\"Ne s'applique pas\"),AND($F$62=\"Oui\",R62=\"Ne s'applique pas\"),AND($F$63=\"Oui\",R63=\"Ne s'applique pas\"),AND($F$64=\"Oui\",R64=\"Ne s'applique pas\")),\"Ne s'applique pas\",IF(OR(AND($F$51=\"Oui\",R51=\"Avec restrictions\"),AND($F$52=\"Oui\",R52=\"Avec restrictions\"),AND($F$55=\"Oui\",R55=\"Avec restrictions\"),AND($F$56=\"Oui\",R56=\"Avec restrictions\"),AND($F$57=\"Oui\",R57=\"Avec restrictions\"),AND($F$58=\"Oui\",R58=\"Avec restrictions\"),AND($F$61=\"Oui\",R61=\"Avec restrictions\"),AND($F$62=\"Oui\",R62=\"Avec restrictions\"),AND($F$63=\"Oui\",R63=\"Avec restrictions\"),AND($F$64=\"Oui\",R64=\"Avec restrictions\")),\"Avec restrictions\",IF(AND(R51=\"-\",R52=\"-\",R55=\"-\",R56=\"-\",R57=\"-\",R58=\"-\",R61=\"-\",R62=\"-\",R63=\"-\",R64=\"-\"),\"-\",\"S'applique\")))","v":"-"},null,{"$f":"IF(OR(AND($F$51=\"Oui\",T51=\"Ne s'applique pas\"),AND($F$52=\"Oui\",T52=\"Ne s'applique pas\"),AND($F$55=\"Oui\",T55=\"Ne s'applique pas\"),AND($F$56=\"Oui\",T56=\"Ne s'applique pas\"),AND($F$57=\"Oui\",T57=\"Ne s'applique pas\"),AND($F$58=\"Oui\",T58=\"Ne s'applique pas\"),AND($F$61=\"Oui\",T61=\"Ne s'applique pas\"),AND($F$62=\"Oui\",T62=\"Ne s'applique pas\"),AND($F$63=\"Oui\",T63=\"Ne s'applique pas\"),AND($F$64=\"Oui\",T64=\"Ne s'applique pas\")),\"Ne s'applique pas\",IF(OR(AND($F$51=\"Oui\",T51=\"Avec restrictions\"),AND($F$52=\"Oui\",T52=\"Avec restrictions\"),AND($F$55=\"Oui\",T55=\"Avec restrictions\"),AND($F$56=\"Oui\",T56=\"Avec restrictions\"),AND($F$57=\"Oui\",T57=\"Avec restrictions\"),AND($F$58=\"Oui\",T58=\"Avec restrictions\"),AND($F$61=\"Oui\",T61=\"Avec restrictions\"),AND($F$62=\"Oui\",T62=\"Avec restrictions\"),AND($F$63=\"Oui\",T63=\"Avec restrictions\"),AND($F$64=\"Oui\",T64=\"Avec restrictions\")),\"Avec restrictions\",IF(AND(T51=\"-\",T52=\"-\",T55=\"-\",T56=\"-\",T57=\"-\",T58=\"-\",T61=\"-\",T62=\"-\",T63=\"-\",T64=\"-\"),\"-\",\"S'applique\")))","v":"-"},null,{"$f":"IF(OR(AND($F$51=\"Oui\",V51=\"Ne s'applique pas\"),AND($F$52=\"Oui\",V52=\"Ne s'applique pas\"),AND($F$55=\"Oui\",V55=\"Ne s'applique pas\"),AND($F$56=\"Oui\",V56=\"Ne s'applique pas\"),AND($F$57=\"Oui\",V57=\"Ne s'applique pas\"),AND($F$58=\"Oui\",V58=\"Ne s'applique pas\"),AND($F$61=\"Oui\",V61=\"Ne s'applique pas\"),AND($F$62=\"Oui\",V62=\"Ne s'applique pas\"),AND($F$63=\"Oui\",V63=\"Ne s'applique pas\"),AND($F$64=\"Oui\",V64=\"Ne s'applique pas\")),\"Ne s'applique pas\",IF(OR(AND($F$51=\"Oui\",V51=\"Avec restrictions\"),AND($F$52=\"Oui\",V52=\"Avec restrictions\"),AND($F$55=\"Oui\",V55=\"Avec restrictions\"),AND($F$56=\"Oui\",V56=\"Avec restrictions\"),AND($F$57=\"Oui\",V57=\"Avec restrictions\"),AND($F$58=\"Oui\",V58=\"Avec restrictions\"),AND($F$61=\"Oui\",V61=\"Avec restrictions\"),AND($F$62=\"Oui\",V62=\"Avec restrictions\"),AND($F$63=\"Oui\",V63=\"Avec restrictions\"),AND($F$64=\"Oui\",V64=\"Avec restrictions\")),\"Avec restrictions\",IF(AND(V51=\"-\",V52=\"-\",V55=\"-\",V56=\"-\",V57=\"-\",V58=\"-\",V61=\"-\",V62=\"-\",V63=\"-\",V64=\"-\"),\"-\",\"S'applique\")))","v":"-"},null,{"$f":"IF(OR(AND($F$51=\"Oui\",X51=\"Ne s'applique pas\"),AND($F$52=\"Oui\",X52=\"Ne s'applique pas\"),AND($F$55=\"Oui\",X55=\"Ne s'applique pas\"),AND($F$56=\"Oui\",X56=\"Ne s'applique pas\"),AND($F$57=\"Oui\",X57=\"Ne s'applique pas\"),AND($F$58=\"Oui\",X58=\"Ne s'applique pas\"),AND($F$61=\"Oui\",X61=\"Ne s'applique pas\"),AND($F$62=\"Oui\",X62=\"Ne s'applique pas\"),AND($F$63=\"Oui\",X63=\"Ne s'applique pas\"),AND($F$64=\"Oui\",X64=\"Ne s'applique pas\")),\"Ne s'applique pas\",IF(OR(AND($F$51=\"Oui\",X51=\"Avec restrictions\"),AND($F$52=\"Oui\",X52=\"Avec restrictions\"),AND($F$55=\"Oui\",X55=\"Avec restrictions\"),AND($F$56=\"Oui\",X56=\"Avec restrictions\"),AND($F$57=\"Oui\",X57=\"Avec restrictions\"),AND($F$58=\"Oui\",X58=\"Avec restrictions\"),AND($F$61=\"Oui\",X61=\"Avec restrictions\"),AND($F$62=\"Oui\",X62=\"Avec restrictions\"),AND($F$63=\"Oui\",X63=\"Avec restrictions\"),AND($F$64=\"Oui\",X64=\"Avec restrictions\")),\"Avec restrictions\",IF(AND(X51=\"-\",X52=\"-\",X55=\"-\",X56=\"-\",X57=\"-\",X58=\"-\",X61=\"-\",X62=\"-\",X63=\"-\",X64=\"-\"),\"-\",\"S'applique\")))","v":"-"},null,{"$f":"IF(OR(AND($F$51=\"Oui\",Z51=\"Ne s'applique pas\"),AND($F$52=\"Oui\",Z52=\"Ne s'applique pas\"),AND($F$55=\"Oui\",Z55=\"Ne s'applique pas\"),AND($F$56=\"Oui\",Z56=\"Ne s'applique pas\"),AND($F$57=\"Oui\",Z57=\"Ne s'applique pas\"),AND($F$58=\"Oui\",Z58=\"Ne s'applique pas\"),AND($F$61=\"Oui\",Z61=\"Ne s'applique pas\"),AND($F$62=\"Oui\",Z62=\"Ne s'applique pas\"),AND($F$63=\"Oui\",Z63=\"Ne s'applique pas\"),AND($F$64=\"Oui\",Z64=\"Ne s'applique pas\")),\"Ne s'applique pas\",IF(OR(AND($F$51=\"Oui\",Z51=\"Avec restrictions\"),AND($F$52=\"Oui\",Z52=\"Avec restrictions\"),AND($F$55=\"Oui\",Z55=\"Avec restrictions\"),AND($F$56=\"Oui\",Z56=\"Avec restrictions\"),AND($F$57=\"Oui\",Z57=\"Avec restrictions\"),AND($F$58=\"Oui\",Z58=\"Avec restrictions\"),AND($F$61=\"Oui\",Z61=\"Avec restrictions\"),AND($F$62=\"Oui\",Z62=\"Avec restrictions\"),AND($F$63=\"Oui\",Z63=\"Avec restrictions\"),AND($F$64=\"Oui\",Z64=\"Avec restrictions\")),\"Avec restrictions\",IF(AND(Z51=\"-\",Z52=\"-\",Z55=\"-\",Z56=\"-\",Z57=\"-\",Z58=\"-\",Z61=\"-\",Z62=\"-\",Z63=\"-\",Z64=\"-\"),\"-\",\"S'applique\")))","v":"-"},null,{"$f":"IF(OR(AND($F$51=\"Oui\",AB51=\"Ne s'applique pas\"),AND($F$52=\"Oui\",AB52=\"Ne s'applique pas\"),AND($F$55=\"Oui\",AB55=\"Ne s'applique pas\"),AND($F$56=\"Oui\",AB56=\"Ne s'applique pas\"),AND($F$57=\"Oui\",AB57=\"Ne s'applique pas\"),AND($F$58=\"Oui\",AB58=\"Ne s'applique pas\"),AND($F$61=\"Oui\",AB61=\"Ne s'applique pas\"),AND($F$62=\"Oui\",AB62=\"Ne s'applique pas\"),AND($F$63=\"Oui\",AB63=\"Ne s'applique pas\"),AND($F$64=\"Oui\",AB64=\"Ne s'applique pas\")),\"Ne s'applique pas\",IF(OR(AND($F$51=\"Oui\",AB51=\"Avec restrictions\"),AND($F$52=\"Oui\",AB52=\"Avec restrictions\"),AND($F$55=\"Oui\",AB55=\"Avec restrictions\"),AND($F$56=\"Oui\",AB56=\"Avec restrictions\"),AND($F$57=\"Oui\",AB57=\"Avec restrictions\"),AND($F$58=\"Oui\",AB58=\"Avec restrictions\"),AND($F$61=\"Oui\",AB61=\"Avec restrictions\"),AND($F$62=\"Oui\",AB62=\"Avec restrictions\"),AND($F$63=\"Oui\",AB63=\"Avec restrictions\"),AND($F$64=\"Oui\",AB64=\"Avec restrictions\")),\"Avec restrictions\",IF(AND(AB51=\"-\",AB52=\"-\",AB55=\"-\",AB56=\"-\",AB57=\"-\",AB58=\"-\",AB61=\"-\",AB62=\"-\",AB63=\"-\",AB64=\"-\"),\"-\",\"S'applique\")))","v":"-"},null,{"$f":"IF(OR(AND($F$51=\"Oui\",AD51=\"Ne s'applique pas\"),AND($F$52=\"Oui\",AD52=\"Ne s'applique pas\"),AND($F$55=\"Oui\",AD55=\"Ne s'applique pas\"),AND($F$56=\"Oui\",AD56=\"Ne s'applique pas\"),AND($F$57=\"Oui\",AD57=\"Ne s'applique pas\"),AND($F$58=\"Oui\",AD58=\"Ne s'applique pas\"),AND($F$61=\"Oui\",AD61=\"Ne s'applique pas\"),AND($F$62=\"Oui\",AD62=\"Ne s'applique pas\"),AND($F$63=\"Oui\",AD63=\"Ne s'applique pas\"),AND($F$64=\"Oui\",AD64=\"Ne s'applique pas\")),\"Ne s'applique pas\",IF(OR(AND($F$51=\"Oui\",AD51=\"Avec restrictions\"),AND($F$52=\"Oui\",AD52=\"Avec restrictions\"),AND($F$55=\"Oui\",AD55=\"Avec restrictions\"),AND($F$56=\"Oui\",AD56=\"Avec restrictions\"),AND($F$57=\"Oui\",AD57=\"Avec restrictions\"),AND($F$58=\"Oui\",AD58=\"Avec restrictions\"),AND($F$61=\"Oui\",AD61=\"Avec restrictions\"),AND($F$62=\"Oui\",AD62=\"Avec restrictions\"),AND($F$63=\"Oui\",AD63=\"Avec restrictions\"),AND($F$64=\"Oui\",AD64=\"Avec restrictions\")),\"Avec restrictions\",IF(AND(AD51=\"-\",AD52=\"-\",AD55=\"-\",AD56=\"-\",AD57=\"-\",AD58=\"-\",AD61=\"-\",AD62=\"-\",AD63=\"-\",AD64=\"-\"),\"-\",\"S'applique\")))","v":"-"}]
["1-C","Faisabilité technique - Sommaire des méthodes applicables (sections 1-A et 1-B)"]
["1-C.1","Zone vadose"]
["1-C.1.1","Composés inorganiques",null,null,null,null,null,{"$f":"IF(AND(H34=\"S'applique\",H26=\"S'applique\"),\"S'applique\",IF(H34=\"-\",\"-\",IF(OR(AND(H34=\"S'applique\",H26=\"Avec restrictions\"),AND(H34=\"Avec restrictions\",H26=\"S'applique\"),AND(H34=\"Avec restrictions\",H26=\"Avec restrictions\")),\"Avec restrictions\",IF(OR(H26=\"Ne s'applique pas\",H34=\"Ne s'applique pas\"),\"Ne s'applique pas\"))))","v":"-"},null,{"$f":"IF(AND(J34=\"S'applique\",J26=\"S'applique\"),\"S'applique\",IF(J34=\"-\",\"-\",IF(OR(AND(J34=\"S'applique\",J26=\"Avec restrictions\"),AND(J34=\"Avec restrictions\",J26=\"S'applique\"),AND(J34=\"Avec restrictions\",J26=\"Avec restrictions\")),\"Avec restrictions\",IF(OR(J26=\"Ne s'applique pas\",J34=\"Ne s'applique pas\"),\"Ne s'applique pas\"))))","v":"-"},null,{"$f":"IF(AND(L34=\"S'applique\",L26=\"S'applique\"),\"S'applique\",IF(L34=\"-\",\"-\",IF(OR(AND(L34=\"S'applique\",L26=\"Avec restrictions\"),AND(L34=\"Avec restrictions\",L26=\"S'applique\"),AND(L34=\"Avec restrictions\",L26=\"Avec restrictions\")),\"Avec restrictions\",IF(OR(L26=\"Ne s'applique pas\",L34=\"Ne s'applique pas\"),\"Ne s'applique pas\"))))","v":"-"},null,{"$f":"IF(AND(N34=\"S'applique\",N26=\"S'applique\"),\"S'applique\",IF(N34=\"-\",\"-\",IF(OR(AND(N34=\"S'applique\",N26=\"Avec restrictions\"),AND(N34=\"Avec restrictions\",N26=\"S'applique\"),AND(N34=\"Avec restrictions\",N26=\"Avec restrictions\")),\"Avec restrictions\",IF(OR(N26=\"Ne s'applique pas\",N34=\"Ne s'applique pas\"),\"Ne s'applique pas\"))))","v":"-"},null,{"$f":"IF(AND(P34=\"S'applique\",P26=\"S'applique\"),\"S'applique\",IF(P34=\"-\",\"-\",IF(OR(AND(P34=\"S'applique\",P26=\"Avec restrictions\"),AND(P34=\"Avec restrictions\",P26=\"S'applique\"),AND(P34=\"Avec restrictions\",P26=\"Avec restrictions\")),\"Avec restrictions\",IF(OR(P26=\"Ne s'applique pas\",P34=\"Ne s'applique pas\"),\"Ne s'applique pas\"))))","v":"-"},null,{"$f":"IF(AND(R34=\"S'applique\",R26=\"S'applique\"),\"S'applique\",IF(R34=\"-\",\"-\",IF(OR(AND(R34=\"S'applique\",R26=\"Avec restrictions\"),AND(R34=\"Avec restrictions\",R26=\"S'applique\"),AND(R34=\"Avec restrictions\",R26=\"Avec restrictions\")),\"Avec restrictions\",IF(OR(R26=\"Ne s'applique pas\",R34=\"Ne s'applique pas\"),\"Ne s'applique pas\"))))","v":"-"},null,{"$f":"IF(AND(T34=\"S'applique\",T26=\"S'applique\"),\"S'applique\",IF(T34=\"-\",\"-\",IF(OR(AND(T34=\"S'applique\",T26=\"Avec restrictions\"),AND(T34=\"Avec restrictions\",T26=\"S'applique\"),AND(T34=\"Avec restrictions\",T26=\"Avec restrictions\")),\"Avec restrictions\",IF(OR(T26=\"Ne s'applique pas\",T34=\"Ne s'applique pas\"),\"Ne s'applique pas\"))))","v":"-"},null,{"$f":"IF(AND(V34=\"S'applique\",V26=\"S'applique\"),\"S'applique\",IF(V34=\"-\",\"-\",IF(OR(AND(V34=\"S'applique\",V26=\"Avec restrictions\"),AND(V34=\"Avec restrictions\",V26=\"S'applique\"),AND(V34=\"Avec restrictions\",V26=\"Avec restrictions\")),\"Avec restrictions\",IF(OR(V26=\"Ne s'applique pas\",V34=\"Ne s'applique pas\"),\"Ne s'applique pas\"))))","v":"-"},null,{"$f":"IF(AND(X34=\"S'applique\",X26=\"S'applique\"),\"S'applique\",IF(X34=\"-\",\"-\",IF(OR(AND(X34=\"S'applique\",X26=\"Avec restrictions\"),AND(X34=\"Avec restrictions\",X26=\"S'applique\"),AND(X34=\"Avec restrictions\",X26=\"Avec restrictions\")),\"Avec restrictions\",IF(OR(X26=\"Ne s'applique pas\",X34=\"Ne s'applique pas\"),\"Ne s'applique pas\"))))","v":"-"},null,{"$f":"IF(AND(Z34=\"S'applique\",Z26=\"S'applique\"),\"S'applique\",IF(Z34=\"-\",\"-\",IF(OR(AND(Z34=\"S'applique\",Z26=\"Avec restrictions\"),AND(Z34=\"Avec restrictions\",Z26=\"S'applique\"),AND(Z34=\"Avec restrictions\",Z26=\"Avec restrictions\")),\"Avec restrictions\",IF(OR(Z26=\"Ne s'applique pas\",Z34=\"Ne s'applique pas\"),\"Ne s'applique pas\"))))","v":"-"},null,{"$f":"IF(AND(AB34=\"S'applique\",AB26=\"S'applique\"),\"S'applique\",IF(AB34=\"-\",\"-\",IF(OR(AND(AB34=\"S'applique\",AB26=\"Avec restrictions\"),AND(AB34=\"Avec restrictions\",AB26=\"S'applique\"),AND(AB34=\"Avec restrictions\",AB26=\"Avec restrictions\")),\"Avec restrictions\",IF(OR(AB26=\"Ne s'applique pas\",AB34=\"Ne s'applique pas\"),\"Ne s'applique pas\"))))","v":"-"},null,{"$f":"IF(AND(AD34=\"S'applique\",AD26=\"S'applique\"),\"S'applique\",IF(AD34=\"-\",\"-\",IF(OR(AND(AD34=\"S'applique\",AD26=\"Avec restrictions\"),AND(AD34=\"Avec restrictions\",AD26=\"S'applique\"),AND(AD34=\"Avec restrictions\",AD26=\"Avec restrictions\")),\"Avec restrictions\",IF(OR(AD26=\"Ne s'applique pas\",AD34=\"Ne s'applique pas\"),\"Ne s'applique pas\"))))","v":"-"}]
["1-C.1.2","Composés organiques (produits pétroliers et COV)",null,null,null,null,null,{"$f":"IF(AND(H40=\"S'applique\",H26=\"S'applique\"),\"S'applique\",IF(H40=\"-\",\"-\",IF(OR(AND(H40=\"S'applique\",H26=\"Avec restrictions\"),AND(H40=\"Avec restrictions\",H26=\"S'applique\"),AND(H40=\"Avec restrictions\",H26=\"Avec restrictions\")),\"Avec restrictions\",IF(OR(H26=\"Ne s'applique pas\",H40=\"Ne s'applique pas\"),\"Ne s'applique pas\"))))","v":"-"},null,{"$f":"IF(AND(J40=\"S'applique\",J26=\"S'applique\"),\"S'applique\",IF(J40=\"-\",\"-\",IF(OR(AND(J40=\"S'applique\",J26=\"Avec restrictions\"),AND(J40=\"Avec restrictions\",J26=\"S'applique\"),AND(J40=\"Avec restrictions\",J26=\"Avec restrictions\")),\"Avec restrictions\",IF(OR(J26=\"Ne s'applique pas\",J40=\"Ne s'applique pas\"),\"Ne s'applique pas\"))))","v":"-"},null,{"$f":"IF(AND(L40=\"S'applique\",L26=\"S'applique\"),\"S'applique\",IF(L40=\"-\",\"-\",IF(OR(AND(L40=\"S'applique\",L26=\"Avec restrictions\"),AND(L40=\"Avec restrictions\",L26=\"S'applique\"),AND(L40=\"Avec restrictions\",L26=\"Avec restrictions\")),\"Avec restrictions\",IF(OR(L26=\"Ne s'applique pas\",L40=\"Ne s'applique pas\"),\"Ne s'applique pas\"))))","v":"-"},null,{"$f":"IF(AND(N40=\"S'applique\",N26=\"S'applique\"),\"S'applique\",IF(N40=\"-\",\"-\",IF(OR(AND(N40=\"S'applique\",N26=\"Avec restrictions\"),AND(N40=\"Avec restrictions\",N26=\"S'applique\"),AND(N40=\"Avec restrictions\",N26=\"Avec restrictions\")),\"Avec restrictions\",IF(OR(N26=\"Ne s'applique pas\",N40=\"Ne s'applique pas\"),\"Ne s'applique pas\"))))","v":"-"},null,{"$f":"IF(AND(P40=\"S'applique\",P26=\"S'applique\"),\"S'applique\",IF(P40=\"-\",\"-\",IF(OR(AND(P40=\"S'applique\",P26=\"Avec restrictions\"),AND(P40=\"Avec restrictions\",P26=\"S'applique\"),AND(P40=\"Avec restrictions\",P26=\"Avec restrictions\")),\"Avec restrictions\",IF(OR(P26=\"Ne s'applique pas\",P40=\"Ne s'applique pas\"),\"Ne s'applique pas\"))))","v":"-"},null,{"$f":"IF(AND(R40=\"S'applique\",R26=\"S'applique\"),\"S'applique\",IF(R40=\"-\",\"-\",IF(OR(AND(R40=\"S'applique\",R26=\"Avec restrictions\"),AND(R40=\"Avec restrictions\",R26=\"S'applique\"),AND(R40=\"Avec restrictions\",R26=\"Avec restrictions\")),\"Avec restrictions\",IF(OR(R26=\"Ne s'applique pas\",R40=\"Ne s'applique pas\"),\"Ne s'applique pas\"))))","v":"-"},null,{"$f":"IF(AND(T40=\"S'applique\",T26=\"S'applique\"),\"S'applique\",IF(T40=\"-\",\"-\",IF(OR(AND(T40=\"S'applique\",T26=\"Avec restrictions\"),AND(T40=\"Avec restrictions\",T26=\"S'applique\"),AND(T40=\"Avec restrictions\",T26=\"Avec restrictions\")),\"Avec restrictions\",IF(OR(T26=\"Ne s'applique pas\",T40=\"Ne s'applique pas\"),\"Ne s'applique pas\"))))","v":"-"},null,{"$f":"IF(AND(V40=\"S'applique\",V26=\"S'applique\"),\"S'applique\",IF(V40=\"-\",\"-\",IF(OR(AND(V40=\"S'applique\",V26=\"Avec restrictions\"),AND(V40=\"Avec restrictions\",V26=\"S'applique\"),AND(V40=\"Avec restrictions\",V26=\"Avec restrictions\")),\"Avec restrictions\",IF(OR(V26=\"Ne s'applique pas\",V40=\"Ne s'applique pas\"),\"Ne s'applique pas\"))))","v":"-"},null,{"$f":"IF(AND(X40=\"S'applique\",X26=\"S'applique\"),\"S'applique\",IF(X40=\"-\",\"-\",IF(OR(AND(X40=\"S'applique\",X26=\"Avec restrictions\"),AND(X40=\"Avec restrictions\",X26=\"S'applique\"),AND(X40=\"Avec restrictions\",X26=\"Avec restrictions\")),\"Avec restrictions\",IF(OR(X26=\"Ne s'applique pas\",X40=\"Ne s'applique pas\"),\"Ne s'applique pas\"))))","v":"-"},null,{"$f":"IF(AND(Z40=\"S'applique\",Z26=\"S'applique\"),\"S'applique\",IF(Z40=\"-\",\"-\",IF(OR(AND(Z40=\"S'applique\",Z26=\"Avec restrictions\"),AND(Z40=\"Avec restrictions\",Z26=\"S'applique\"),AND(Z40=\"Avec restrictions\",Z26=\"Avec restrictions\")),\"Avec restrictions\",IF(OR(Z26=\"Ne s'applique pas\",Z40=\"Ne s'applique pas\"),\"Ne s'applique pas\"))))","v":"-"},null,{"$f":"IF(AND(AB40=\"S'applique\",AB26=\"S'applique\"),\"S'applique\",IF(AB40=\"-\",\"-\",IF(OR(AND(AB40=\"S'applique\",AB26=\"Avec restrictions\"),AND(AB40=\"Avec restrictions\",AB26=\"S'applique\"),AND(AB40=\"Avec restrictions\",AB26=\"Avec restrictions\")),\"Avec restrictions\",IF(OR(AB26=\"Ne s'applique pas\",AB40=\"Ne s'applique pas\"),\"Ne s'applique pas\"))))","v":"-"},null,{"$f":"IF(AND(AD40=\"S'applique\",AD26=\"S'applique\"),\"S'applique\",IF(AD40=\"-\",\"-\",IF(OR(AND(AD40=\"S'applique\",AD26=\"Avec restrictions\"),AND(AD40=\"Avec restrictions\",AD26=\"S'applique\"),AND(AD40=\"Avec restrictions\",AD26=\"Avec restrictions\")),\"Avec restrictions\",IF(OR(AD26=\"Ne s'applique pas\",AD40=\"Ne s'applique pas\"),\"Ne s'applique pas\"))))","v":"-"}]
["1-C.1.3","Autres composés organiques",null,null,null,null,null,{"$f":"IF(AND(H46=\"S'applique\",H26=\"S'applique\"),\"S'applique\",IF(H46=\"-\",\"-\",IF(OR(AND(H46=\"S'applique\",H26=\"Avec restrictions\"),AND(H46=\"Avec restrictions\",H26=\"S'applique\"),AND(H46=\"Avec restrictions\",H26=\"Avec restrictions\")),\"Avec restrictions\",IF(OR(H26=\"Ne s'applique pas\",H46=\"Ne s'applique pas\"),\"Ne s'applique pas\"))))","v":"-"},null,{"$f":"IF(AND(J46=\"S'applique\",J26=\"S'applique\"),\"S'applique\",IF(J46=\"-\",\"-\",IF(OR(AND(J46=\"S'applique\",J26=\"Avec restrictions\"),AND(J46=\"Avec restrictions\",J26=\"S'applique\"),AND(J46=\"Avec restrictions\",J26=\"Avec restrictions\")),\"Avec restrictions\",IF(OR(J26=\"Ne s'applique pas\",J46=\"Ne s'applique pas\"),\"Ne s'applique pas\"))))","v":"-"},null,{"$f":"IF(AND(L46=\"S'applique\",L26=\"S'applique\"),\"S'applique\",IF(L46=\"-\",\"-\",IF(OR(AND(L46=\"S'applique\",L26=\"Avec restrictions\"),AND(L46=\"Avec restrictions\",L26=\"S'applique\"),AND(L46=\"Avec restrictions\",L26=\"Avec restrictions\")),\"Avec restrictions\",IF(OR(L26=\"Ne s'applique pas\",L46=\"Ne s'applique pas\"),\"Ne s'applique pas\"))))","v":"-"},null,{"$f":"IF(AND(N46=\"S'applique\",N26=\"S'applique\"),\"S'applique\",IF(N46=\"-\",\"-\",IF(OR(AND(N46=\"S'applique\",N26=\"Avec restrictions\"),AND(N46=\"Avec restrictions\",N26=\"S'applique\"),AND(N46=\"Avec restrictions\",N26=\"Avec restrictions\")),\"Avec restrictions\",IF(OR(N26=\"Ne s'applique pas\",N46=\"Ne s'applique pas\"),\"Ne s'applique pas\"))))","v":"-"},null,{"$f":"IF(AND(P46=\"S'applique\",P26=\"S'applique\"),\"S'applique\",IF(P46=\"-\",\"-\",IF(OR(AND(P46=\"S'applique\",P26=\"Avec restrictions\"),AND(P46=\"Avec restrictions\",P26=\"S'applique\"),AND(P46=\"Avec restrictions\",P26=\"Avec restrictions\")),\"Avec restrictions\",IF(OR(P26=\"Ne s'applique pas\",P46=\"Ne s'applique pas\"),\"Ne s'applique pas\"))))","v":"-"},null,{"$f":"IF(AND(R46=\"S'applique\",R26=\"S'applique\"),\"S'applique\",IF(R46=\"-\",\"-\",IF(OR(AND(R46=\"S'applique\",R26=\"Avec restrictions\"),AND(R46=\"Avec restrictions\",R26=\"S'applique\"),AND(R46=\"Avec restrictions\",R26=\"Avec restrictions\")),\"Avec restrictions\",IF(OR(R26=\"Ne s'applique pas\",R46=\"Ne s'applique pas\"),\"Ne s'applique pas\"))))","v":"-"},null,{"$f":"IF(AND(T46=\"S'applique\",T26=\"S'applique\"),\"S'applique\",IF(T46=\"-\",\"-\",IF(OR(AND(T46=\"S'applique\",T26=\"Avec restrictions\"),AND(T46=\"Avec restrictions\",T26=\"S'applique\"),AND(T46=\"Avec restrictions\",T26=\"Avec restrictions\")),\"Avec restrictions\",IF(OR(T26=\"Ne s'applique pas\",T46=\"Ne s'applique pas\"),\"Ne s'applique pas\"))))","v":"-"},null,{"$f":"IF(AND(V46=\"S'applique\",V26=\"S'applique\"),\"S'applique\",IF(V46=\"-\",\"-\",IF(OR(AND(V46=\"S'applique\",V26=\"Avec restrictions\"),AND(V46=\"Avec restrictions\",V26=\"S'applique\"),AND(V46=\"Avec restrictions\",V26=\"Avec restrictions\")),\"Avec restrictions\",IF(OR(V26=\"Ne s'applique pas\",V46=\"Ne s'applique pas\"),\"Ne s'applique pas\"))))","v":"-"},null,{"$f":"IF(AND(X46=\"S'applique\",X26=\"S'applique\"),\"S'applique\",IF(X46=\"-\",\"-\",IF(OR(AND(X46=\"S'applique\",X26=\"Avec restrictions\"),AND(X46=\"Avec restrictions\",X26=\"S'applique\"),AND(X46=\"Avec restrictions\",X26=\"Avec restrictions\")),\"Avec restrictions\",IF(OR(X26=\"Ne s'applique pas\",X46=\"Ne s'applique pas\"),\"Ne s'applique pas\"))))","v":"-"},null,{"$f":"IF(AND(Z46=\"S'applique\",Z26=\"S'applique\"),\"S'applique\",IF(Z46=\"-\",\"-\",IF(OR(AND(Z46=\"S'applique\",Z26=\"Avec restrictions\"),AND(Z46=\"Avec restrictions\",Z26=\"S'applique\"),AND(Z46=\"Avec restrictions\",Z26=\"Avec restrictions\")),\"Avec restrictions\",IF(OR(Z26=\"Ne s'applique pas\",Z46=\"Ne s'applique pas\"),\"Ne s'applique pas\"))))","v":"-"},null,{"$f":"IF(AND(AB46=\"S'applique\",AB26=\"S'applique\"),\"S'applique\",IF(AB46=\"-\",\"-\",IF(OR(AND(AB46=\"S'applique\",AB26=\"Avec restrictions\"),AND(AB46=\"Avec restrictions\",AB26=\"S'applique\"),AND(AB46=\"Avec restrictions\",AB26=\"Avec restrictions\")),\"Avec restrictions\",IF(OR(AB26=\"Ne s'applique pas\",AB46=\"Ne s'applique pas\"),\"Ne s'applique pas\"))))","v":"-"},null,{"$f":"IF(AND(AD46=\"S'applique\",AD26=\"S'applique\"),\"S'applique\",IF(AD46=\"-\",\"-\",IF(OR(AND(AD46=\"S'applique\",AD26=\"Avec restrictions\"),AND(AD46=\"Avec restrictions\",AD26=\"S'applique\"),AND(AD46=\"Avec restrictions\",AD26=\"Avec restrictions\")),\"Avec restrictions\",IF(OR(AD26=\"Ne s'applique pas\",AD46=\"Ne s'applique pas\"),\"Ne s'applique pas\"))))","v":"-"}]
["1-C.2","Zone saturée"]
["1-C.2.1","Composés inorganiques",null,null,null,null,null,{"$f":"IF(AND(H53=\"S'applique\",H27=\"S'applique\"),\"S'applique\",IF(H53=\"-\",\"-\",IF(OR(AND(H53=\"S'applique\",H27=\"Avec restrictions\"),AND(H53=\"Avec restrictions\",H27=\"S'applique\"),AND(H53=\"Avec restrictions\",H27=\"Avec restrictions\")),\"Avec restrictions\",IF(OR(H27=\"Ne s'applique pas\",H53=\"Ne s'applique pas\"),\"Ne s'applique pas\"))))","v":"-"},null,{"$f":"IF(AND(J53=\"S'applique\",J27=\"S'applique\"),\"S'applique\",IF(J53=\"-\",\"-\",IF(OR(AND(J53=\"S'applique\",J27=\"Avec restrictions\"),AND(J53=\"Avec restrictions\",J27=\"S'applique\"),AND(J53=\"Avec restrictions\",J27=\"Avec restrictions\")),\"Avec restrictions\",IF(OR(J27=\"Ne s'applique pas\",J53=\"Ne s'applique pas\"),\"Ne s'applique pas\"))))","v":"-"},null,{"$f":"IF(AND(L53=\"S'applique\",L27=\"S'applique\"),\"S'applique\",IF(L53=\"-\",\"-\",IF(OR(AND(L53=\"S'applique\",L27=\"Avec restrictions\"),AND(L53=\"Avec restrictions\",L27=\"S'applique\"),AND(L53=\"Avec restrictions\",L27=\"Avec restrictions\")),\"Avec restrictions\",IF(OR(L27=\"Ne s'applique pas\",L53=\"Ne s'applique pas\"),\"Ne s'applique pas\"))))","v":"-"},null,{"$f":"IF(AND(N53=\"S'applique\",N27=\"S'applique\"),\"S'applique\",IF(N53=\"-\",\"-\",IF(OR(AND(N53=\"S'applique\",N27=\"Avec restrictions\"),AND(N53=\"Avec restrictions\",N27=\"S'applique\"),AND(N53=\"Avec restrictions\",N27=\"Avec restrictions\")),\"Avec restrictions\",IF(OR(N27=\"Ne s'applique pas\",N53=\"Ne s'applique pas\"),\"Ne s'applique pas\"))))","v":"-"},null,{"$f":"IF(AND(P53=\"S'applique\",P27=\"S'applique\"),\"S'applique\",IF(P53=\"-\",\"-\",IF(OR(AND(P53=\"S'applique\",P27=\"Avec restrictions\"),AND(P53=\"Avec restrictions\",P27=\"S'applique\"),AND(P53=\"Avec restrictions\",P27=\"Avec restrictions\")),\"Avec restrictions\",IF(OR(P27=\"Ne s'applique pas\",P53=\"Ne s'applique pas\"),\"Ne s'applique pas\"))))","v":"-"},null,{"$f":"IF(AND(R53=\"S'applique\",R27=\"S'applique\"),\"S'applique\",IF(R53=\"-\",\"-\",IF(OR(AND(R53=\"S'applique\",R27=\"Avec restrictions\"),AND(R53=\"Avec restrictions\",R27=\"S'applique\"),AND(R53=\"Avec restrictions\",R27=\"Avec restrictions\")),\"Avec restrictions\",IF(OR(R27=\"Ne s'applique pas\",R53=\"Ne s'applique pas\"),\"Ne s'applique pas\"))))","v":"-"},null,{"$f":"IF(AND(T53=\"S'applique\",T27=\"S'applique\"),\"S'applique\",IF(T53=\"-\",\"-\",IF(OR(AND(T53=\"S'applique\",T27=\"Avec restrictions\"),AND(T53=\"Avec restrictions\",T27=\"S'applique\"),AND(T53=\"Avec restrictions\",T27=\"Avec restrictions\")),\"Avec restrictions\",IF(OR(T27=\"Ne s'applique pas\",T53=\"Ne s'applique pas\"),\"Ne s'applique pas\"))))","v":"-"},null,{"$f":"IF(AND(V53=\"S'applique\",V27=\"S'applique\"),\"S'applique\",IF(V53=\"-\",\"-\",IF(OR(AND(V53=\"S'applique\",V27=\"Avec restrictions\"),AND(V53=\"Avec restrictions\",V27=\"S'applique\"),AND(V53=\"Avec restrictions\",V27=\"Avec restrictions\")),\"Avec restrictions\",IF(OR(V27=\"Ne s'applique pas\",V53=\"Ne s'applique pas\"),\"Ne s'applique pas\"))))","v":"-"},null,{"$f":"IF(AND(X53=\"S'applique\",X27=\"S'applique\"),\"S'applique\",IF(X53=\"-\",\"-\",IF(OR(AND(X53=\"S'applique\",X27=\"Avec restrictions\"),AND(X53=\"Avec restrictions\",X27=\"S'applique\"),AND(X53=\"Avec restrictions\",X27=\"Avec restrictions\")),\"Avec restrictions\",IF(OR(X27=\"Ne s'applique pas\",X53=\"Ne s'applique pas\"),\"Ne s'applique pas\"))))","v":"-"},null,{"$f":"IF(AND(Z53=\"S'applique\",Z27=\"S'applique\"),\"S'applique\",IF(Z53=\"-\",\"-\",IF(OR(AND(Z53=\"S'applique\",Z27=\"Avec restrictions\"),AND(Z53=\"Avec restrictions\",Z27=\"S'applique\"),AND(Z53=\"Avec restrictions\",Z27=\"Avec restrictions\")),\"Avec restrictions\",IF(OR(Z27=\"Ne s'applique pas\",Z53=\"Ne s'applique pas\"),\"Ne s'applique pas\"))))","v":"-"},null,{"$f":"IF(AND(AB53=\"S'applique\",AB27=\"S'applique\"),\"S'applique\",IF(AB53=\"-\",\"-\",IF(OR(AND(AB53=\"S'applique\",AB27=\"Avec restrictions\"),AND(AB53=\"Avec restrictions\",AB27=\"S'applique\"),AND(AB53=\"Avec restrictions\",AB27=\"Avec restrictions\")),\"Avec restrictions\",IF(OR(AB27=\"Ne s'applique pas\",AB53=\"Ne s'applique pas\"),\"Ne s'applique pas\"))))","v":"-"},null,{"$f":"IF(AND(AD53=\"S'applique\",AD27=\"S'applique\"),\"S'applique\",IF(AD53=\"-\",\"-\",IF(OR(AND(AD53=\"S'applique\",AD27=\"Avec restrictions\"),AND(AD53=\"Avec restrictions\",AD27=\"S'applique\"),AND(AD53=\"Avec restrictions\",AD27=\"Avec restrictions\")),\"Avec restrictions\",IF(OR(AD27=\"Ne s'applique pas\",AD53=\"Ne s'applique pas\"),\"Ne s'applique pas\"))))","v":"-"}]
["1-C.2.2","Composés organiques (produits pétroliers et COV)",null,null,null,null,null,{"$f":"IF(AND(H59=\"S'applique\",H27=\"S'applique\"),\"S'applique\",IF(H59=\"-\",\"-\",IF(OR(AND(H59=\"S'applique\",H27=\"Avec restrictions\"),AND(H59=\"Avec restrictions\",H27=\"S'applique\"),AND(H59=\"Avec restrictions\",H27=\"Avec restrictions\")),\"Avec restrictions\",IF(OR(H27=\"Ne s'applique pas\",H59=\"Ne s'applique pas\"),\"Ne s'applique pas\"))))","v":"-"},null,{"$f":"IF(AND(J59=\"S'applique\",J27=\"S'applique\"),\"S'applique\",IF(J59=\"-\",\"-\",IF(OR(AND(J59=\"S'applique\",J27=\"Avec restrictions\"),AND(J59=\"Avec restrictions\",J27=\"S'applique\"),AND(J59=\"Avec restrictions\",J27=\"Avec restrictions\")),\"Avec restrictions\",IF(OR(J27=\"Ne s'applique pas\",J59=\"Ne s'applique pas\"),\"Ne s'applique pas\"))))","v":"-"},null,{"$f":"IF(AND(L59=\"S'applique\",L27=\"S'applique\"),\"S'applique\",IF(L59=\"-\",\"-\",IF(OR(AND(L59=\"S'applique\",L27=\"Avec restrictions\"),AND(L59=\"Avec restrictions\",L27=\"S'applique\"),AND(L59=\"Avec restrictions\",L27=\"Avec restrictions\")),\"Avec restrictions\",IF(OR(L27=\"Ne s'applique pas\",L59=\"Ne s'applique pas\"),\"Ne s'applique pas\"))))","v":"-"},null,{"$f":"IF(AND(N59=\"S'applique\",N27=\"S'applique\"),\"S'applique\",IF(N59=\"-\",\"-\",IF(OR(AND(N59=\"S'applique\",N27=\"Avec restrictions\"),AND(N59=\"Avec restrictions\",N27=\"S'applique\"),AND(N59=\"Avec restrictions\",N27=\"Avec restrictions\")),\"Avec restrictions\",IF(OR(N27=\"Ne s'applique pas\",N59=\"Ne s'applique pas\"),\"Ne s'applique pas\"))))","v":"-"},null,{"$f":"IF(AND(P59=\"S'applique\",P27=\"S'applique\"),\"S'applique\",IF(P59=\"-\",\"-\",IF(OR(AND(P59=\"S'applique\",P27=\"Avec restrictions\"),AND(P59=\"Avec restrictions\",P27=\"S'applique\"),AND(P59=\"Avec restrictions\",P27=\"Avec restrictions\")),\"Avec restrictions\",IF(OR(P27=\"Ne s'applique pas\",P59=\"Ne s'applique pas\"),\"Ne s'applique pas\"))))","v":"-"},null,{"$f":"IF(AND(R59=\"S'applique\",R27=\"S'applique\"),\"S'applique\",IF(R59=\"-\",\"-\",IF(OR(AND(R59=\"S'applique\",R27=\"Avec restrictions\"),AND(R59=\"Avec restrictions\",R27=\"S'applique\"),AND(R59=\"Avec restrictions\",R27=\"Avec restrictions\")),\"Avec restrictions\",IF(OR(R27=\"Ne s'applique pas\",R59=\"Ne s'applique pas\"),\"Ne s'applique pas\"))))","v":"-"},null,{"$f":"IF(AND(T59=\"S'applique\",T27=\"S'applique\"),\"S'applique\",IF(T59=\"-\",\"-\",IF(OR(AND(T59=\"S'applique\",T27=\"Avec restrictions\"),AND(T59=\"Avec restrictions\",T27=\"S'applique\"),AND(T59=\"Avec restrictions\",T27=\"Avec restrictions\")),\"Avec restrictions\",IF(OR(T27=\"Ne s'applique pas\",T59=\"Ne s'applique pas\"),\"Ne s'applique pas\"))))","v":"-"},null,{"$f":"IF(AND(V59=\"S'applique\",V27=\"S'applique\"),\"S'applique\",IF(V59=\"-\",\"-\",IF(OR(AND(V59=\"S'applique\",V27=\"Avec restrictions\"),AND(V59=\"Avec restrictions\",V27=\"S'applique\"),AND(V59=\"Avec restrictions\",V27=\"Avec restrictions\")),\"Avec restrictions\",IF(OR(V27=\"Ne s'applique pas\",V59=\"Ne s'applique pas\"),\"Ne s'applique pas\"))))","v":"-"},null,{"$f":"IF(AND(X59=\"S'applique\",X27=\"S'applique\"),\"S'applique\",IF(X59=\"-\",\"-\",IF(OR(AND(X59=\"S'applique\",X27=\"Avec restrictions\"),AND(X59=\"Avec restrictions\",X27=\"S'applique\"),AND(X59=\"Avec restrictions\",X27=\"Avec restrictions\")),\"Avec restrictions\",IF(OR(X27=\"Ne s'applique pas\",X59=\"Ne s'applique pas\"),\"Ne s'applique pas\"))))","v":"-"},null,{"$f":"IF(AND(Z59=\"S'applique\",Z27=\"S'applique\"),\"S'applique\",IF(Z59=\"-\",\"-\",IF(OR(AND(Z59=\"S'applique\",Z27=\"Avec restrictions\"),AND(Z59=\"Avec restrictions\",Z27=\"S'applique\"),AND(Z59=\"Avec restrictions\",Z27=\"Avec restrictions\")),\"Avec restrictions\",IF(OR(Z27=\"Ne s'applique pas\",Z59=\"Ne s'applique pas\"),\"Ne s'applique pas\"))))","v":"-"},null,{"$f":"IF(AND(AB59=\"S'applique\",AB27=\"S'applique\"),\"S'applique\",IF(AB59=\"-\",\"-\",IF(OR(AND(AB59=\"S'applique\",AB27=\"Avec restrictions\"),AND(AB59=\"Avec restrictions\",AB27=\"S'applique\"),AND(AB59=\"Avec restrictions\",AB27=\"Avec restrictions\")),\"Avec restrictions\",IF(OR(AB27=\"Ne s'applique pas\",AB59=\"Ne s'applique pas\"),\"Ne s'applique pas\"))))","v":"-"},null,{"$f":"IF(AND(AD59=\"S'applique\",AD27=\"S'applique\"),\"S'applique\",IF(AD59=\"-\",\"-\",IF(OR(AND(AD59=\"S'applique\",AD27=\"Avec restrictions\"),AND(AD59=\"Avec restrictions\",AD27=\"S'applique\"),AND(AD59=\"Avec restrictions\",AD27=\"Avec restrictions\")),\"Avec restrictions\",IF(OR(AD27=\"Ne s'applique pas\",AD59=\"Ne s'applique pas\"),\"Ne s'applique pas\"))))","v":"-"}]
["1-C.2.3","Autres composés organiques",null,null,null,null,null,{"$f":"IF(AND(H65=\"S'applique\",H27=\"S'applique\"),\"S'applique\",IF(H65=\"-\",\"-\",IF(OR(AND(H65=\"S'applique\",H27=\"Avec restrictions\"),AND(H65=\"Avec restrictions\",H27=\"S'applique\"),AND(H65=\"Avec restrictions\",H27=\"Avec restrictions\")),\"Avec restrictions\",IF(OR(H27=\"Ne s'applique pas\",H65=\"Ne s'applique pas\"),\"Ne s'applique pas\"))))","v":"-"},null,{"$f":"IF(AND(J65=\"S'applique\",J27=\"S'applique\"),\"S'applique\",IF(J65=\"-\",\"-\",IF(OR(AND(J65=\"S'applique\",J27=\"Avec restrictions\"),AND(J65=\"Avec restrictions\",J27=\"S'applique\"),AND(J65=\"Avec restrictions\",J27=\"Avec restrictions\")),\"Avec restrictions\",IF(OR(J27=\"Ne s'applique pas\",J65=\"Ne s'applique pas\"),\"Ne s'applique pas\"))))","v":"-"},null,{"$f":"IF(AND(L65=\"S'applique\",L27=\"S'applique\"),\"S'applique\",IF(L65=\"-\",\"-\",IF(OR(AND(L65=\"S'applique\",L27=\"Avec restrictions\"),AND(L65=\"Avec restrictions\",L27=\"S'applique\"),AND(L65=\"Avec restrictions\",L27=\"Avec restrictions\")),\"Avec restrictions\",IF(OR(L27=\"Ne s'applique pas\",L65=\"Ne s'applique pas\"),\"Ne s'applique pas\"))))","v":"-"},null,{"$f":"IF(AND(N65=\"S'applique\",N27=\"S'applique\"),\"S'applique\",IF(N65=\"-\",\"-\",IF(OR(AND(N65=\"S'applique\",N27=\"Avec restrictions\"),AND(N65=\"Avec restrictions\",N27=\"S'applique\"),AND(N65=\"Avec restrictions\",N27=\"Avec restrictions\")),\"Avec restrictions\",IF(OR(N27=\"Ne s'applique pas\",N65=\"Ne s'applique pas\"),\"Ne s'applique pas\"))))","v":"-"},null,{"$f":"IF(AND(P65=\"S'applique\",P27=\"S'applique\"),\"S'applique\",IF(P65=\"-\",\"-\",IF(OR(AND(P65=\"S'applique\",P27=\"Avec restrictions\"),AND(P65=\"Avec restrictions\",P27=\"S'applique\"),AND(P65=\"Avec restrictions\",P27=\"Avec restrictions\")),\"Avec restrictions\",IF(OR(P27=\"Ne s'applique pas\",P65=\"Ne s'applique pas\"),\"Ne s'applique pas\"))))","v":"-"},null,{"$f":"IF(AND(R65=\"S'applique\",R27=\"S'applique\"),\"S'applique\",IF(R65=\"-\",\"-\",IF(OR(AND(R65=\"S'applique\",R27=\"Avec restrictions\"),AND(R65=\"Avec restrictions\",R27=\"S'applique\"),AND(R65=\"Avec restrictions\",R27=\"Avec restrictions\")),\"Avec restrictions\",IF(OR(R27=\"Ne s'applique pas\",R65=\"Ne s'applique pas\"),\"Ne s'applique pas\"))))","v":"-"},null,{"$f":"IF(AND(T65=\"S'applique\",T27=\"S'applique\"),\"S'applique\",IF(T65=\"-\",\"-\",IF(OR(AND(T65=\"S'applique\",T27=\"Avec restrictions\"),AND(T65=\"Avec restrictions\",T27=\"S'applique\"),AND(T65=\"Avec restrictions\",T27=\"Avec restrictions\")),\"Avec restrictions\",IF(OR(T27=\"Ne s'applique pas\",T65=\"Ne s'applique pas\"),\"Ne s'applique pas\"))))","v":"-"},null,{"$f":"IF(AND(V65=\"S'applique\",V27=\"S'applique\"),\"S'applique\",IF(V65=\"-\",\"-\",IF(OR(AND(V65=\"S'applique\",V27=\"Avec restrictions\"),AND(V65=\"Avec restrictions\",V27=\"S'applique\"),AND(V65=\"Avec restrictions\",V27=\"Avec restrictions\")),\"Avec restrictions\",IF(OR(V27=\"Ne s'applique pas\",V65=\"Ne s'applique pas\"),\"Ne s'applique pas\"))))","v":"-"},null,{"$f":"IF(AND(X65=\"S'applique\",X27=\"S'applique\"),\"S'applique\",IF(X65=\"-\",\"-\",IF(OR(AND(X65=\"S'applique\",X27=\"Avec restrictions\"),AND(X65=\"Avec restrictions\",X27=\"S'applique\"),AND(X65=\"Avec restrictions\",X27=\"Avec restrictions\")),\"Avec restrictions\",IF(OR(X27=\"Ne s'applique pas\",X65=\"Ne s'applique pas\"),\"Ne s'applique pas\"))))","v":"-"},null,{"$f":"IF(AND(Z65=\"S'applique\",Z27=\"S'applique\"),\"S'applique\",IF(Z65=\"-\",\"-\",IF(OR(AND(Z65=\"S'applique\",Z27=\"Avec restrictions\"),AND(Z65=\"Avec restrictions\",Z27=\"S'applique\"),AND(Z65=\"Avec restrictions\",Z27=\"Avec restrictions\")),\"Avec restrictions\",IF(OR(Z27=\"Ne s'applique pas\",Z65=\"Ne s'applique pas\"),\"Ne s'applique pas\"))))","v":"-"},null,{"$f":"IF(AND(AB65=\"S'applique\",AB27=\"S'applique\"),\"S'applique\",IF(AB65=\"-\",\"-\",IF(OR(AND(AB65=\"S'applique\",AB27=\"Avec restrictions\"),AND(AB65=\"Avec restrictions\",AB27=\"S'applique\"),AND(AB65=\"Avec restrictions\",AB27=\"Avec restrictions\")),\"Avec restrictions\",IF(OR(AB27=\"Ne s'applique pas\",AB65=\"Ne s'applique pas\"),\"Ne s'applique pas\"))))","v":"-"},null,{"$f":"IF(AND(AD65=\"S'applique\",AD27=\"S'applique\"),\"S'applique\",IF(AD65=\"-\",\"-\",IF(OR(AND(AD65=\"S'applique\",AD27=\"Avec restrictions\"),AND(AD65=\"Avec restrictions\",AD27=\"S'applique\"),AND(AD65=\"Avec restrictions\",AD27=\"Avec restrictions\")),\"Avec restrictions\",IF(OR(AD27=\"Ne s'applique pas\",AD65=\"Ne s'applique pas\"),\"Ne s'applique pas\"))))","v":"-"}]
["1-C.3",null,null,null,null,null,"Cotation",{"$f":"IFERROR(SUM(IF(H69=\"S'applique\",1,IF(H69=\"Avec restrictions\",0.5,0)),IF(H70=\"S'applique\",1,IF(H70=\"Avec restrictions\",0.5,0)),IF(H71=\"S'applique\",1,IF(H71=\"Avec restrictions\",0.5,0)),IF(H73=\"S'applique\",1,IF(H73=\"Avec restrictions\",0.5,0)),IF(H74=\"S'applique\",1,IF(H74=\"Avec restrictions\",0.5,0)),IF(H75=\"S'applique\",1,IF(H75=\"Avec restrictions\",0.5,0)))/(6-COUNTIF(H69:I75,\"-\")),0)","v":0},null,{"$f":"IFERROR(SUM(IF(J69=\"S'applique\",1,IF(J69=\"Avec restrictions\",0.5,0)),IF(J70=\"S'applique\",1,IF(J70=\"Avec restrictions\",0.5,0)),IF(J71=\"S'applique\",1,IF(J71=\"Avec restrictions\",0.5,0)),IF(J73=\"S'applique\",1,IF(J73=\"Avec restrictions\",0.5,0)),IF(J74=\"S'applique\",1,IF(J74=\"Avec restrictions\",0.5,0)),IF(J75=\"S'applique\",1,IF(J75=\"Avec restrictions\",0.5,0)))/(6-COUNTIF(J69:K75,\"-\")),0)","v":0},null,{"$f":"IFERROR(SUM(IF(L69=\"S'applique\",1,IF(L69=\"Avec restrictions\",0.5,0)),IF(L70=\"S'applique\",1,IF(L70=\"Avec restrictions\",0.5,0)),IF(L71=\"S'applique\",1,IF(L71=\"Avec restrictions\",0.5,0)),IF(L73=\"S'applique\",1,IF(L73=\"Avec restrictions\",0.5,0)),IF(L74=\"S'applique\",1,IF(L74=\"Avec restrictions\",0.5,0)),IF(L75=\"S'applique\",1,IF(L75=\"Avec restrictions\",0.5,0)))/(6-COUNTIF(L69:M75,\"-\")),)","v":0},null,{"$f":"IFERROR(SUM(IF(N69=\"S'applique\",1,IF(N69=\"Avec restrictions\",0.5,0)),IF(N70=\"S'applique\",1,IF(N70=\"Avec restrictions\",0.5,0)),IF(N71=\"S'applique\",1,IF(N71=\"Avec restrictions\",0.5,0)),IF(N73=\"S'applique\",1,IF(N73=\"Avec restrictions\",0.5,0)),IF(N74=\"S'applique\",1,IF(N74=\"Avec restrictions\",0.5,0)),IF(N75=\"S'applique\",1,IF(N75=\"Avec restrictions\",0.5,0)))/(6-COUNTIF(N69:O75,\"-\")),)","v":0},null,{"$f":"IFERROR(SUM(IF(P69=\"S'applique\",1,IF(P69=\"Avec restrictions\",0.5,0)),IF(P70=\"S'applique\",1,IF(P70=\"Avec restrictions\",0.5,0)),IF(P71=\"S'applique\",1,IF(P71=\"Avec restrictions\",0.5,0)),IF(P73=\"S'applique\",1,IF(P73=\"Avec restrictions\",0.5,0)),IF(P74=\"S'applique\",1,IF(P74=\"Avec restrictions\",0.5,0)),IF(P75=\"S'applique\",1,IF(P75=\"Avec restrictions\",0.5,0)))/(6-COUNTIF(P69:Q75,\"-\")),)","v":0},null,{"$f":"IFERROR(SUM(IF(R69=\"S'applique\",1,IF(R69=\"Avec restrictions\",0.5,0)),IF(R70=\"S'applique\",1,IF(R70=\"Avec restrictions\",0.5,0)),IF(R71=\"S'applique\",1,IF(R71=\"Avec restrictions\",0.5,0)),IF(R73=\"S'applique\",1,IF(R73=\"Avec restrictions\",0.5,0)),IF(R74=\"S'applique\",1,IF(R74=\"Avec restrictions\",0.5,0)),IF(R75=\"S'applique\",1,IF(R75=\"Avec restrictions\",0.5,0)))/(6-COUNTIF(R69:S75,\"-\")),0)","v":0},null,{"$f":"IFERROR(SUM(IF(T69=\"S'applique\",1,IF(T69=\"Avec restrictions\",0.5,0)),IF(T70=\"S'applique\",1,IF(T70=\"Avec restrictions\",0.5,0)),IF(T71=\"S'applique\",1,IF(T71=\"Avec restrictions\",0.5,0)),IF(T73=\"S'applique\",1,IF(T73=\"Avec restrictions\",0.5,0)),IF(T74=\"S'applique\",1,IF(T74=\"Avec restrictions\",0.5,0)),IF(T75=\"S'applique\",1,IF(T75=\"Avec restrictions\",0.5,0)))/(6-COUNTIF(T69:U75,\"-\")),0)","v":0},null,{"$f":"IFERROR(SUM(IF(V69=\"S'applique\",1,IF(V69=\"Avec restrictions\",0.5,0)),IF(V70=\"S'applique\",1,IF(V70=\"Avec restrictions\",0.5,0)),IF(V71=\"S'applique\",1,IF(V71=\"Avec restrictions\",0.5,0)),IF(V73=\"S'applique\",1,IF(V73=\"Avec restrictions\",0.5,0)),IF(V74=\"S'applique\",1,IF(V74=\"Avec restrictions\",0.5,0)),IF(V75=\"S'applique\",1,IF(V75=\"Avec restrictions\",0.5,0)))/(6-COUNTIF(V69:W75,\"-\")),0)","v":0},null,{"$f":"IFERROR(SUM(IF(X69=\"S'applique\",1,IF(X69=\"Avec restrictions\",0.5,0)),IF(X70=\"S'applique\",1,IF(X70=\"Avec restrictions\",0.5,0)),IF(X71=\"S'applique\",1,IF(X71=\"Avec restrictions\",0.5,0)),IF(X73=\"S'applique\",1,IF(X73=\"Avec restrictions\",0.5,0)),IF(X74=\"S'applique\",1,IF(X74=\"Avec restrictions\",0.5,0)),IF(X75=\"S'applique\",1,IF(X75=\"Avec restrictions\",0.5,0)))/(6-COUNTIF(X69:Y75,\"-\")),0)","v":0},null,{"$f":"IFERROR(SUM(IF(Z69=\"S'applique\",1,IF(Z69=\"Avec restrictions\",0.5,0)),IF(Z70=\"S'applique\",1,IF(Z70=\"Avec restrictions\",0.5,0)),IF(Z71=\"S'applique\",1,IF(Z71=\"Avec restrictions\",0.5,0)),IF(Z73=\"S'applique\",1,IF(Z73=\"Avec restrictions\",0.5,0)),IF(Z74=\"S'applique\",1,IF(Z74=\"Avec restrictions\",0.5,0)),IF(Z75=\"S'applique\",1,IF(Z75=\"Avec restrictions\",0.5,0)))/(6-COUNTIF(Z69:AA75,\"-\")),0)","v":0},null,{"$f":"IFERROR(SUM(IF(AB69=\"S'applique\",1,IF(AB69=\"Avec restrictions\",0.5,0)),IF(AB70=\"S'applique\",1,IF(AB70=\"Avec restrictions\",0.5,0)),IF(AB71=\"S'applique\",1,IF(AB71=\"Avec restrictions\",0.5,0)),IF(AB73=\"S'applique\",1,IF(AB73=\"Avec restrictions\",0.5,0)),IF(AB74=\"S'applique\",1,IF(AB74=\"Avec restrictions\",0.5,0)),IF(AB75=\"S'applique\",1,IF(AB75=\"Avec restrictions\",0.5,0)))/(6-COUNTIF(AB69:AC75,\"-\")),0)","v":0},null,{"$f":"IFERROR(SUM(IF(AD69=\"S'applique\",1,IF(AD69=\"Avec restrictions\",0.5,0)),IF(AD70=\"S'applique\",1,IF(AD70=\"Avec restrictions\",0.5,0)),IF(AD71=\"S'applique\",1,IF(AD71=\"Avec restrictions\",0.5,0)),IF(AD73=\"S'applique\",1,IF(AD73=\"Avec restrictions\",0.5,0)),IF(AD74=\"S'applique\",1,IF(AD74=\"Avec restrictions\",0.5,0)),IF(AD75=\"S'applique\",1,IF(AD75=\"Avec restrictions\",0.5,0)))/(6-COUNTIF(AD69:AE75,\"-\")),0)","v":0}]
["1-C.4",null,null,null,null,null,"Train technologique requis",{"$f":"IF(AND(OR(H69=\"-\",H69=\"Ne s'applique pas\"),OR(H70=\"-\",H70=\"Ne s'applique pas\"),OR(H71=\"-\",H71=\"Ne s'applique pas\"),OR(H73=\"-\",H73=\"Ne s'applique pas\"),OR(H74=\"-\",H74=\"Ne s'applique pas\"),OR(H75=\"-\",H75=\"Ne s'applique pas\")),\"-\",IF(AND(OR(H69=\"S'applique\",H69=\"-\",H69=\"Avec restrictions\"),OR(H70=\"S'applique\",H70=\"-\",H70=\"Avec restrictions\"),OR(H71=\"S'applique\",H71=\"-\",H71=\"Avec restrictions\"),OR(H73=\"S'applique\",H73=\"-\",H73=\"Avec restrictions\"),OR(H74=\"S'applique\",H74=\"-\",H74=\"Avec restrictions\"),OR(H75=\"S'applique\",H75=\"-\",H75=\"Avec restrictions\")),\"Non\",IF(OR(H69=\"Ne s'applique pas\",H70=\"Ne s'applique pas\",H71=\"Ne s'applique pas\",H73=\"Ne s'applique pas\",H74=\"Ne s'applique pas\",H75=\"Ne s'applique pas\"),\"Oui\",\"\")))","v":"-"},null,{"$f":"IF(AND(OR(J69=\"-\",J69=\"Ne s'applique pas\"),OR(J70=\"-\",J70=\"Ne s'applique pas\"),OR(J71=\"-\",J71=\"Ne s'applique pas\"),OR(J73=\"-\",J73=\"Ne s'applique pas\"),OR(J74=\"-\",J74=\"Ne s'applique pas\"),OR(J75=\"-\",J75=\"Ne s'applique pas\")),\"-\",IF(AND(OR(J69=\"S'applique\",J69=\"-\",J69=\"Avec restrictions\"),OR(J70=\"S'applique\",J70=\"-\",J70=\"Avec restrictions\"),OR(J71=\"S'applique\",J71=\"-\",J71=\"Avec restrictions\"),OR(J73=\"S'applique\",J73=\"-\",J73=\"Avec restrictions\"),OR(J74=\"S'applique\",J74=\"-\",J74=\"Avec restrictions\"),OR(J75=\"S'applique\",J75=\"-\",J75=\"Avec restrictions\")),\"Non\",IF(OR(J69=\"Ne s'applique pas\",J70=\"Ne s'applique pas\",J71=\"Ne s'applique pas\",J73=\"Ne s'applique pas\",J74=\"Ne s'applique pas\",J75=\"Ne s'applique pas\"),\"Oui\",\"\")))","v":"-"},null,{"$f":"IF(AND(OR(L69=\"-\",L69=\"Ne s'applique pas\"),OR(L70=\"-\",L70=\"Ne s'applique pas\"),OR(L71=\"-\",L71=\"Ne s'applique pas\"),OR(L73=\"-\",L73=\"Ne s'applique pas\"),OR(L74=\"-\",L74=\"Ne s'applique pas\"),OR(L75=\"-\",L75=\"Ne s'applique pas\")),\"-\",IF(AND(OR(L69=\"S'applique\",L69=\"-\",L69=\"Avec restrictions\"),OR(L70=\"S'applique\",L70=\"-\",L70=\"Avec restrictions\"),OR(L71=\"S'applique\",L71=\"-\",L71=\"Avec restrictions\"),OR(L73=\"S'applique\",L73=\"-\",L73=\"Avec restrictions\"),OR(L74=\"S'applique\",L74=\"-\",L74=\"Avec restrictions\"),OR(L75=\"S'applique\",L75=\"-\",L75=\"Avec restrictions\")),\"Non\",IF(OR(L69=\"Ne s'applique pas\",L70=\"Ne s'applique pas\",L71=\"Ne s'applique pas\",L73=\"Ne s'applique pas\",L74=\"Ne s'applique pas\",L75=\"Ne s'applique pas\"),\"Oui\",\"\")))","v":"-"},null,{"$f":"IF(AND(OR(N69=\"-\",N69=\"Ne s'applique pas\"),OR(N70=\"-\",N70=\"Ne s'applique pas\"),OR(N71=\"-\",N71=\"Ne s'applique pas\"),OR(N73=\"-\",N73=\"Ne s'applique pas\"),OR(N74=\"-\",N74=\"Ne s'applique pas\"),OR(N75=\"-\",N75=\"Ne s'applique pas\")),\"-\",IF(AND(OR(N69=\"S'applique\",N69=\"-\",N69=\"Avec restrictions\"),OR(N70=\"S'applique\",N70=\"-\",N70=\"Avec restrictions\"),OR(N71=\"S'applique\",N71=\"-\",N71=\"Avec restrictions\"),OR(N73=\"S'applique\",N73=\"-\",N73=\"Avec restrictions\"),OR(N74=\"S'applique\",N74=\"-\",N74=\"Avec restrictions\"),OR(N75=\"S'applique\",N75=\"-\",N75=\"Avec restrictions\")),\"Non\",IF(OR(N69=\"Ne s'applique pas\",N70=\"Ne s'applique pas\",N71=\"Ne s'applique pas\",N73=\"Ne s'applique pas\",N74=\"Ne s'applique pas\",N75=\"Ne s'applique pas\"),\"Oui\",\"\")))","v":"-"},null,{"$f":"IF(AND(OR(P69=\"-\",P69=\"Ne s'applique pas\"),OR(P70=\"-\",P70=\"Ne s'applique pas\"),OR(P71=\"-\",P71=\"Ne s'applique pas\"),OR(P73=\"-\",P73=\"Ne s'applique pas\"),OR(P74=\"-\",P74=\"Ne s'applique pas\"),OR(P75=\"-\",P75=\"Ne s'applique pas\")),\"-\",IF(AND(OR(P69=\"S'applique\",P69=\"-\",P69=\"Avec restrictions\"),OR(P70=\"S'applique\",P70=\"-\",P70=\"Avec restrictions\"),OR(P71=\"S'applique\",P71=\"-\",P71=\"Avec restrictions\"),OR(P73=\"S'applique\",P73=\"-\",P73=\"Avec restrictions\"),OR(P74=\"S'applique\",P74=\"-\",P74=\"Avec restrictions\"),OR(P75=\"S'applique\",P75=\"-\",P75=\"Avec restrictions\")),\"Non\",IF(OR(P69=\"Ne s'applique pas\",P70=\"Ne s'applique pas\",P71=\"Ne s'applique pas\",P73=\"Ne s'applique pas\",P74=\"Ne s'applique pas\",P75=\"Ne s'applique pas\"),\"Oui\",\"\")))","v":"-"},null,{"$f":"IF(AND(OR(R69=\"-\",R69=\"Ne s'applique pas\"),OR(R70=\"-\",R70=\"Ne s'applique pas\"),OR(R71=\"-\",R71=\"Ne s'applique pas\"),OR(R73=\"-\",R73=\"Ne s'applique pas\"),OR(R74=\"-\",R74=\"Ne s'applique pas\"),OR(R75=\"-\",R75=\"Ne s'applique pas\")),\"-\",IF(AND(OR(R69=\"S'applique\",R69=\"-\",R69=\"Avec restrictions\"),OR(R70=\"S'applique\",R70=\"-\",R70=\"Avec restrictions\"),OR(R71=\"S'applique\",R71=\"-\",R71=\"Avec restrictions\"),OR(R73=\"S'applique\",R73=\"-\",R73=\"Avec restrictions\"),OR(R74=\"S'applique\",R74=\"-\",R74=\"Avec restrictions\"),OR(R75=\"S'applique\",R75=\"-\",R75=\"Avec restrictions\")),\"Non\",IF(OR(R69=\"Ne s'applique pas\",R70=\"Ne s'applique pas\",R71=\"Ne s'applique pas\",R73=\"Ne s'applique pas\",R74=\"Ne s'applique pas\",R75=\"Ne s'applique pas\"),\"Oui\",\"\")))","v":"-"},null,{"$f":"IF(AND(OR(T69=\"-\",T69=\"Ne s'applique pas\"),OR(T70=\"-\",T70=\"Ne s'applique pas\"),OR(T71=\"-\",T71=\"Ne s'applique pas\"),OR(T73=\"-\",T73=\"Ne s'applique pas\"),OR(T74=\"-\",T74=\"Ne s'applique pas\"),OR(T75=\"-\",T75=\"Ne s'applique pas\")),\"-\",IF(AND(OR(T69=\"S'applique\",T69=\"-\",T69=\"Avec restrictions\"),OR(T70=\"S'applique\",T70=\"-\",T70=\"Avec restrictions\"),OR(T71=\"S'applique\",T71=\"-\",T71=\"Avec restrictions\"),OR(T73=\"S'applique\",T73=\"-\",T73=\"Avec restrictions\"),OR(T74=\"S'applique\",T74=\"-\",T74=\"Avec restrictions\"),OR(T75=\"S'applique\",T75=\"-\",T75=\"Avec restrictions\")),\"Non\",IF(OR(T69=\"Ne s'applique pas\",T70=\"Ne s'applique pas\",T71=\"Ne s'applique pas\",T73=\"Ne s'applique pas\",T74=\"Ne s'applique pas\",T75=\"Ne s'applique pas\"),\"Oui\",\"\")))","v":"-"},null,{"$f":"IF(AND(OR(V69=\"-\",V69=\"Ne s'applique pas\"),OR(V70=\"-\",V70=\"Ne s'applique pas\"),OR(V71=\"-\",V71=\"Ne s'applique pas\"),OR(V73=\"-\",V73=\"Ne s'applique pas\"),OR(V74=\"-\",V74=\"Ne s'applique pas\"),OR(V75=\"-\",V75=\"Ne s'applique pas\")),\"-\",IF(AND(OR(V69=\"S'applique\",V69=\"-\",V69=\"Avec restrictions\"),OR(V70=\"S'applique\",V70=\"-\",V70=\"Avec restrictions\"),OR(V71=\"S'applique\",V71=\"-\",V71=\"Avec restrictions\"),OR(V73=\"S'applique\",V73=\"-\",V73=\"Avec restrictions\"),OR(V74=\"S'applique\",V74=\"-\",V74=\"Avec restrictions\"),OR(V75=\"S'applique\",V75=\"-\",V75=\"Avec restrictions\")),\"Non\",IF(OR(V69=\"Ne s'applique pas\",V70=\"Ne s'applique pas\",V71=\"Ne s'applique pas\",V73=\"Ne s'applique pas\",V74=\"Ne s'applique pas\",V75=\"Ne s'applique pas\"),\"Oui\",\"\")))","v":"-"},null,{"$f":"IF(AND(OR(X69=\"-\",X69=\"Ne s'applique pas\"),OR(X70=\"-\",X70=\"Ne s'applique pas\"),OR(X71=\"-\",X71=\"Ne s'applique pas\"),OR(X73=\"-\",X73=\"Ne s'applique pas\"),OR(X74=\"-\",X74=\"Ne s'applique pas\"),OR(X75=\"-\",X75=\"Ne s'applique pas\")),\"-\",IF(AND(OR(X69=\"S'applique\",X69=\"-\",X69=\"Avec restrictions\"),OR(X70=\"S'applique\",X70=\"-\",X70=\"Avec restrictions\"),OR(X71=\"S'applique\",X71=\"-\",X71=\"Avec restrictions\"),OR(X73=\"S'applique\",X73=\"-\",X73=\"Avec restrictions\"),OR(X74=\"S'applique\",X74=\"-\",X74=\"Avec restrictions\"),OR(X75=\"S'applique\",X75=\"-\",X75=\"Avec restrictions\")),\"Non\",IF(OR(X69=\"Ne s'applique pas\",X70=\"Ne s'applique pas\",X71=\"Ne s'applique pas\",X73=\"Ne s'applique pas\",X74=\"Ne s'applique pas\",X75=\"Ne s'applique pas\"),\"Oui\",\"\")))","v":"-"},null,{"$f":"IF(AND(OR(Z69=\"-\",Z69=\"Ne s'applique pas\"),OR(Z70=\"-\",Z70=\"Ne s'applique pas\"),OR(Z71=\"-\",Z71=\"Ne s'applique pas\"),OR(Z73=\"-\",Z73=\"Ne s'applique pas\"),OR(Z74=\"-\",Z74=\"Ne s'applique pas\"),OR(Z75=\"-\",Z75=\"Ne s'applique pas\")),\"-\",IF(AND(OR(Z69=\"S'applique\",Z69=\"-\",Z69=\"Avec restrictions\"),OR(Z70=\"S'applique\",Z70=\"-\",Z70=\"Avec restrictions\"),OR(Z71=\"S'applique\",Z71=\"-\",Z71=\"Avec restrictions\"),OR(Z73=\"S'applique\",Z73=\"-\",Z73=\"Avec restrictions\"),OR(Z74=\"S'applique\",Z74=\"-\",Z74=\"Avec restrictions\"),OR(Z75=\"S'applique\",Z75=\"-\",Z75=\"Avec restrictions\")),\"Non\",IF(OR(Z69=\"Ne s'applique pas\",Z70=\"Ne s'applique pas\",Z71=\"Ne s'applique pas\",Z73=\"Ne s'applique pas\",Z74=\"Ne s'applique pas\",Z75=\"Ne s'applique pas\"),\"Oui\",\"\")))","v":"-"},null,{"$f":"IF(AND(OR(AB69=\"-\",AB69=\"Ne s'applique pas\"),OR(AB70=\"-\",AB70=\"Ne s'applique pas\"),OR(AB71=\"-\",AB71=\"Ne s'applique pas\"),OR(AB73=\"-\",AB73=\"Ne s'applique pas\"),OR(AB74=\"-\",AB74=\"Ne s'applique pas\"),OR(AB75=\"-\",AB75=\"Ne s'applique pas\")),\"-\",IF(AND(OR(AB69=\"S'applique\",AB69=\"-\",AB69=\"Avec restrictions\"),OR(AB70=\"S'applique\",AB70=\"-\",AB70=\"Avec restrictions\"),OR(AB71=\"S'applique\",AB71=\"-\",AB71=\"Avec restrictions\"),OR(AB73=\"S'applique\",AB73=\"-\",AB73=\"Avec restrictions\"),OR(AB74=\"S'applique\",AB74=\"-\",AB74=\"Avec restrictions\"),OR(AB75=\"S'applique\",AB75=\"-\",AB75=\"Avec restrictions\")),\"Non\",IF(OR(AB69=\"Ne s'applique pas\",AB70=\"Ne s'applique pas\",AB71=\"Ne s'applique pas\",AB73=\"Ne s'applique pas\",AB74=\"Ne s'applique pas\",AB75=\"Ne s'applique pas\"),\"Oui\",\"\")))","v":"-"},null,{"$f":"IF(AND(OR(AD69=\"-\",AD69=\"Ne s'applique pas\"),OR(AD70=\"-\",AD70=\"Ne s'applique pas\"),OR(AD71=\"-\",AD71=\"Ne s'applique pas\"),OR(AD73=\"-\",AD73=\"Ne s'applique pas\"),OR(AD74=\"-\",AD74=\"Ne s'applique pas\"),OR(AD75=\"-\",AD75=\"Ne s'applique pas\")),\"-\",IF(AND(OR(AD69=\"S'applique\",AD69=\"-\",AD69=\"Avec restrictions\"),OR(AD70=\"S'applique\",AD70=\"-\",AD70=\"Avec restrictions\"),OR(AD71=\"S'applique\",AD71=\"-\",AD71=\"Avec restrictions\"),OR(AD73=\"S'applique\",AD73=\"-\",AD73=\"Avec restrictions\"),OR(AD74=\"S'applique\",AD74=\"-\",AD74=\"Avec restrictions\"),OR(AD75=\"S'applique\",AD75=\"-\",AD75=\"Avec restrictions\")),\"Non\",IF(OR(AD69=\"Ne s'applique pas\",AD70=\"Ne s'applique pas\",AD71=\"Ne s'applique pas\",AD73=\"Ne s'applique pas\",AD74=\"Ne s'applique pas\",AD75=\"Ne s'applique pas\"),\"Oui\",\"\")))","v":"-"}]
[]
["2.","Dimension sociale"]
["2-A","Durée des travaux"]
["2-A.1","      Temps requis pour compléter la réhabilitation",null,null,null,null,null,{"$f":"IF(H77=\"-\",\"-\",2.75/3)","v":"-"},null,{"$f":"IF(J77=\"-\",\"-\",3/3)","v":"-"},null,{"$f":"IF(L77=\"-\",\"-\",2/3)","v":"-"},null,{"$f":"IF(N77=\"-\",\"-\",2/3)","v":"-"},null,{"$f":"IF(P77=\"-\",\"-\",2.5/3)","v":"-"},null,{"$f":"IF(R77=\"-\",\"-\",2.5/3)","v":"-"},null,{"$f":"IF(T77=\"-\",\"-\",0/3)","v":"-"},null,{"$f":"IF(V77=\"-\",\"-\",1/3)","v":"-"},null,{"$f":"IF(X77=\"-\",\"-\",1.5/3)","v":"-"},null,{"$f":"IF(Z77=\"-\",\"-\",1.5/3)","v":"-"},null,{"$f":"IF(AB77=\"-\",\"-\",1/3)","v":"-"},null,{"$f":"IF(AD77=\"-\",\"-\",1.5/3)","v":"-"}]
["2-B","Nuisances "]
["2-B.1","      Distance des lieux habités",null,null,null,null,null,{"$f":"IF(H77=\"-\",\"-\",IF('A-Outil sélection scénario'!$E$81=\"0-0,5 km\",0,IF('A-Outil sélection scénario'!$E$81=\"0,5-1 km\",1,IF('A-Outil sélection scénario'!$E$81=\"1-5 km\",2,IF('A-Outil sélection scénario'!$E$81=\"> 5 km\",3,0)))))","v":"-"},null,{"$f":"IF(J77=\"-\",\"-\",IF('A-Outil sélection scénario'!$E$81=\"0-0,5 km\",0,IF('A-Outil sélection scénario'!$E$81=\"0,5-1 km\",1,IF('A-Outil sélection scénario'!$E$81=\"1-5 km\",2,IF('A-Outil sélection scénario'!$E$81=\"> 5 km\",3,0)))))","v":"-"},null,{"$f":"IF(L77=\"-\",\"-\",IF('A-Outil sélection scénario'!$E$81=\"0-0,5 km\",0,IF('A-Outil sélection scénario'!$E$81=\"0,5-1 km\",1,IF('A-Outil sélection scénario'!$E$81=\"1-5 km\",2,IF('A-Outil sélection scénario'!$E$81=\"> 5 km\",3,0)))))","v":"-"},null,{"$f":"IF(N77=\"-\",\"-\",IF('A-Outil sélection scénario'!$E$81=\"0-0,5 km\",0,IF('A-Outil sélection scénario'!$E$81=\"0,5-1 km\",1,IF('A-Outil sélection scénario'!$E$81=\"1-5 km\",2,IF('A-Outil sélection scénario'!$E$81=\"> 5 km\",3,0)))))","v":"-"},null,{"$f":"IF(P77=\"-\",\"-\",IF('A-Outil sélection scénario'!$E$81=\"0-0,5 km\",0,IF('A-Outil sélection scénario'!$E$81=\"0,5-1 km\",1,IF('A-Outil sélection scénario'!$E$81=\"1-5 km\",2,IF('A-Outil sélection scénario'!$E$81=\"> 5 km\",3,0)))))","v":"-"},null,{"$f":"IF(R77=\"-\",\"-\",IF('A-Outil sélection scénario'!$E$81=\"0-0,5 km\",0,IF('A-Outil sélection scénario'!$E$81=\"0,5-1 km\",1,IF('A-Outil sélection scénario'!$E$81=\"1-5 km\",2,IF('A-Outil sélection scénario'!$E$81=\"> 5 km\",3,0)))))","v":"-"},null,{"$f":"IF(T77=\"-\",\"-\",IF('A-Outil sélection scénario'!$E$81=\"0-0,5 km\",0,IF('A-Outil sélection scénario'!$E$81=\"0,5-1 km\",1,IF('A-Outil sélection scénario'!$E$81=\"1-5 km\",2,IF('A-Outil sélection scénario'!$E$81=\"> 5 km\",3,0)))))","v":"-"},null,{"$f":"IF(V77=\"-\",\"-\",IF('A-Outil sélection scénario'!$E$81=\"0-0,5 km\",0,IF('A-Outil sélection scénario'!$E$81=\"0,5-1 km\",1,IF('A-Outil sélection scénario'!$E$81=\"1-5 km\",2,IF('A-Outil sélection scénario'!$E$81=\"> 5 km\",3,0)))))","v":"-"},null,{"$f":"IF(X77=\"-\",\"-\",IF('A-Outil sélection scénario'!$E$81=\"0-0,5 km\",0,IF('A-Outil sélection scénario'!$E$81=\"0,5-1 km\",1,IF('A-Outil sélection scénario'!$E$81=\"1-5 km\",2,IF('A-Outil sélection scénario'!$E$81=\"> 5 km\",3,0)))))","v":"-"},null,{"$f":"IF(Z77=\"-\",\"-\",IF('A-Outil sélection scénario'!$E$81=\"0-0,5 km\",0,IF('A-Outil sélection scénario'!$E$81=\"0,5-1 km\",1,IF('A-Outil sélection scénario'!$E$81=\"1-5 km\",2,IF('A-Outil sélection scénario'!$E$81=\"> 5 km\",3,0)))))","v":"-"},null,{"$f":"IF(AB77=\"-\",\"-\",IF('A-Outil sélection scénario'!$E$81=\"0-0,5 km\",0,IF('A-Outil sélection scénario'!$E$81=\"0,5-1 km\",1,IF('A-Outil sélection scénario'!$E$81=\"1-5 km\",2,IF('A-Outil sélection scénario'!$E$81=\"> 5 km\",3,0)))))","v":"-"},null,{"$f":"IF(AD77=\"-\",\"-\",IF('A-Outil sélection scénario'!$E$81=\"0-0,5 km\",0,IF('A-Outil sélection scénario'!$E$81=\"0,5-1 km\",1,IF('A-Outil sélection scénario'!$E$81=\"1-5 km\",2,IF('A-Outil sélection scénario'!$E$81=\"> 5 km\",3,0)))))","v":"-"}]
["2-B.2","      Impact sonore lors des travaux",null,null,null,null,null,{"$f":"IF(H77=\"-\",\"-\",1)","v":"-"},null,{"$f":"IF(J77=\"-\",\"-\",1.5)","v":"-"},null,{"$f":"IF(L77=\"-\",\"-\",1)","v":"-"},null,{"$f":"IF(N77=\"-\",\"-\",1)","v":"-"},null,{"$f":"IF(P77=\"-\",\"-\",0.5)","v":"-"},null,{"$f":"IF(R77=\"-\",\"-\",0.5)","v":"-"},null,{"$f":"IF(T77=\"-\",\"-\",3)","v":"-"},null,{"$f":"IF(V77=\"-\",\"-\",2.5)","v":"-"},null,{"$f":"IF(X77=\"-\",\"-\",2.5)","v":"-"},null,{"$f":"IF(Z77=\"-\",\"-\",2.5)","v":"-"},null,{"$f":"IF(AB77=\"-\",\"-\",2.5)","v":"-"},null,{"$f":"IF(AD77=\"-\",\"-\",2.5)","v":"-"}]
["2-B.3","      Poussières et odeurs lors des travaux",null,null,null,null,null,{"$f":"IF(H77=\"-\",\"-\",1.5)","v":"-"},null,{"$f":"IF(J77=\"-\",\"-\",2)","v":"-"},null,{"$f":"IF(L77=\"-\",\"-\",2)","v":"-"},null,{"$f":"IF(N77=\"-\",\"-\",2)","v":"-"},null,{"$f":"IF(P77=\"-\",\"-\",1.5)","v":"-"},null,{"$f":"IF(R77=\"-\",\"-\",1)","v":"-"},null,{"$f":"IF(T77=\"-\",\"-\",3)","v":"-"},null,{"$f":"IF(V77=\"-\",\"-\",2.5)","v":"-"},null,{"$f":"IF(X77=\"-\",\"-\",2.5)","v":"-"},null,{"$f":"IF(Z77=\"-\",\"-\",2.5)","v":"-"},null,{"$f":"IF(AB77=\"-\",\"-\",2.5)","v":"-"},null,{"$f":"IF(AD77=\"-\",\"-\",2.5)","v":"-"}]
["2-B.4","Sommation - Nuisances",null,null,null,null,null,{"$f":"IF(H77=\"-\",0,(H83*(H84+H85))/18)","v":0},null,{"$f":"IF(J77=\"-\",0,(J83*(J84+J85))/18)","v":0},null,{"$f":"IF(L77=\"-\",0,(L83*(L84+L85))/18)","v":0},null,{"$f":"IF(N77=\"-\",0,(N83*(N84+N85))/18)","v":0},null,{"$f":"IF(P77=\"-\",0,(P83*(P84+P85))/18)","v":0},null,{"$f":"IF(R77=\"-\",0,(R83*(R84+R85))/18)","v":0},null,{"$f":"IF(T77=\"-\",0,(T83*(T84+T85))/18)","v":0},null,{"$f":"IF(V77=\"-\",0,(V83*(V84+V85))/18)","v":0},null,{"$f":"IF(X77=\"-\",0,(X83*(X84+X85))/18)","v":0},null,{"$f":"IF(Z77=\"-\",0,(Z83*(Z84+Z85))/18)","v":0},null,{"$f":"IF(AB77=\"-\",0,(AB83*(AB84+AB85))/18)","v":0},null,{"$f":"IF(AD77=\"-\",0,(AD83*(AD84+AD85))/18)","v":0}]
["2-C","Impact - Santé et sécurité"]
["2-C.1","     Niveau de dangerosité des travaux pour les travailleurs - potentiel d'accident",null,null,null,null,null,{"$f":"IF(H77=\"-\",\"-\",2)","v":"-"},null,{"$f":"IF(J77=\"-\",\"-\",2.5)","v":"-"},null,{"$f":"IF(L77=\"-\",\"-\",2)","v":"-"},null,{"$f":"IF(N77=\"-\",\"-\",1)","v":"-"},null,{"$f":"IF(P77=\"-\",\"-\",2)","v":"-"},null,{"$f":"IF(R77=\"-\",\"-\",1.5)","v":"-"},null,{"$f":"IF(T77=\"-\",\"-\",3)","v":"-"},null,{"$f":"IF(V77=\"-\",\"-\",3)","v":"-"},null,{"$f":"IF(X77=\"-\",\"-\",1)","v":"-"},null,{"$f":"IF(Z77=\"-\",\"-\",3)","v":"-"},null,{"$f":"IF(AB77=\"-\",\"-\",3)","v":"-"},null,{"$f":"IF(AD77=\"-\",\"-\",2)","v":"-"}]
["2-C.2","     Niveau de dangerosité des travaux pour la population - potentiel d'accident",null,null,null,null,null,{"$f":"IF(H77=\"-\",\"-\",2)","v":"-"},null,{"$f":"IF(J77=\"-\",\"-\",2.5)","v":"-"},null,{"$f":"IF(L77=\"-\",\"-\",2)","v":"-"},null,{"$f":"IF(N77=\"-\",\"-\",1.5)","v":"-"},null,{"$f":"IF(P77=\"-\",\"-\",2)","v":"-"},null,{"$f":"IF(R77=\"-\",\"-\",1.5)","v":"-"},null,{"$f":"IF(T77=\"-\",\"-\",3)","v":"-"},null,{"$f":"IF(V77=\"-\",\"-\",3)","v":"-"},null,{"$f":"IF(X77=\"-\",\"-\",1.5)","v":"-"},null,{"$f":"IF(Z77=\"-\",\"-\",3)","v":"-"},null,{"$f":"IF(AB77=\"-\",\"-\",3)","v":"-"},null,{"$f":"IF(AD77=\"-\",\"-\",2)","v":"-"}]
["2-C.3","Sommation - Santé et sécurité",null,null,null,null,null,{"$f":"IF(H77=\"-\",0,(H88+H89)/6)","v":0},null,{"$f":"IF(J77=\"-\",0,(J88+J89)/6)","v":0},null,{"$f":"IF(L77=\"-\",0,(L88+L89)/6)","v":0},null,{"$f":"IF(N77=\"-\",0,(N88+N89)/6)","v":0},null,{"$f":"IF(P77=\"-\",0,(P88+P89)/6)","v":0},null,{"$f":"IF(R77=\"-\",0,(R88+R89)/6)","v":0},null,{"$f":"IF(T77=\"-\",0,(T88+T89)/6)","v":0},null,{"$f":"IF(V77=\"-\",0,(V88+V89)/6)","v":0},null,{"$f":"IF(X77=\"-\",0,(X88+X89)/6)","v":0},null,{"$f":"IF(Z77=\"-\",0,(Z88+Z89)/6)","v":0},null,{"$f":"IF(AB77=\"-\",0,(AB88+AB89)/6)","v":0},null,{"$f":"IF(AD77=\"-\",0,(AD88+AD89)/6)","v":0}]
["2-D","Emplois"]
["2-D.1","     Disponibilité de main d’œuvre qualifiée",null,null,null,null,null,{"$f":"IF(H77=\"-\",\"-\",3)","v":"-"},null,{"$f":"IF(J77=\"-\",\"-\",3)","v":"-"},null,{"$f":"IF(L77=\"-\",\"-\",IF('A-Outil sélection scénario'!$E$78=\"Peu ou pas accessible\",1,IF('A-Outil sélection scénario'!$E$78=\"Moyennement accessible\",2,IF('A-Outil sélection scénario'!$E$78=\"Très accessible\",3,0))))","v":"-"},null,{"$f":"IF(N77=\"-\",\"-\",IF('A-Outil sélection scénario'!$E$78=\"Peu ou pas accessible\",1,IF('A-Outil sélection scénario'!$E$78=\"Moyennement accessible\",2,IF('A-Outil sélection scénario'!$E$78=\"Très accessible\",3,0))))","v":"-"},null,{"$f":"IF(P77=\"-\",\"-\",IF('A-Outil sélection scénario'!$E$78=\"Peu ou pas accessible\",1,IF('A-Outil sélection scénario'!$E$78=\"Moyennement accessible\",2,IF('A-Outil sélection scénario'!$E$78=\"Très accessible\",3,0))))","v":"-"},null,{"$f":"IF(R77=\"-\",\"-\",IF('A-Outil sélection scénario'!$E$78=\"Peu ou pas accessible\",1,IF('A-Outil sélection scénario'!$E$78=\"Moyennement accessible\",2,IF('A-Outil sélection scénario'!$E$78=\"Très accessible\",3,0))))","v":"-"},null,{"$f":"IF(T77=\"-\",\"-\",IF('A-Outil sélection scénario'!$E$78=\"Peu ou pas accessible\",1,IF('A-Outil sélection scénario'!$E$78=\"Moyennement accessible\",2,IF('A-Outil sélection scénario'!$E$78=\"Très accessible\",3,0))))","v":"-"},null,{"$f":"IF(V77=\"-\",\"-\",IF('A-Outil sélection scénario'!$E$78=\"Peu ou pas accessible\",1,IF('A-Outil sélection scénario'!$E$78=\"Moyennement accessible\",2,IF('A-Outil sélection scénario'!$E$78=\"Très accessible\",3,0))))","v":"-"},null,{"$f":"IF(X77=\"-\",\"-\",IF('A-Outil sélection scénario'!$E$78=\"Peu ou pas accessible\",1,IF('A-Outil sélection scénario'!$E$78=\"Moyennement accessible\",2,IF('A-Outil sélection scénario'!$E$78=\"Très accessible\",3,0))))","v":"-"},null,{"$f":"IF(Z77=\"-\",\"-\",IF('A-Outil sélection scénario'!$E$78=\"Peu ou pas accessible\",1,IF('A-Outil sélection scénario'!$E$78=\"Moyennement accessible\",2,IF('A-Outil sélection scénario'!$E$78=\"Très accessible\",3,0))))","v":"-"},null,{"$f":"IF(AB77=\"-\",\"-\",IF('A-Outil sélection scénario'!$E$78=\"Peu ou pas accessible\",1,IF('A-Outil sélection scénario'!$E$78=\"Moyennement accessible\",2,IF('A-Outil sélection scénario'!$E$78=\"Très accessible\",3,0))))","v":"-"},null,{"$f":"IF(AD77=\"-\",\"-\",IF('A-Outil sélection scénario'!$E$78=\"Peu ou pas accessible\",1,IF('A-Outil sélection scénario'!$E$78=\"Moyennement accessible\",2,IF('A-Outil sélection scénario'!$E$78=\"Très accessible\",3,0))))","v":"-"}]
["2-D.2","     Retombées économiques locales durant les travaux",null,null,null,null,null,{"$f":"IF(H77=\"-\",\"-\",3)","v":"-"},null,{"$f":"IF(J77=\"-\",\"-\",2)","v":"-"},null,{"$f":"IF(L77=\"-\",\"-\",3)","v":"-"},null,{"$f":"IF(N77=\"-\",\"-\",3)","v":"-"},null,{"$f":"IF(P77=\"-\",\"-\",3)","v":"-"},null,{"$f":"IF(R77=\"-\",\"-\",3)","v":"-"},null,{"$f":"IF(T77=\"-\",\"-\",1)","v":"-"},null,{"$f":"IF(V77=\"-\",\"-\",1)","v":"-"},null,{"$f":"IF(X77=\"-\",\"-\",1)","v":"-"},null,{"$f":"IF(Z77=\"-\",\"-\",1)","v":"-"},null,{"$f":"IF(AB77=\"-\",\"-\",1)","v":"-"},null,{"$f":"IF(AD77=\"-\",\"-\",1)","v":"-"}]
["2-D.3","     Retombées économiques locales à long terme",null,null,null,null,null,{"$f":"IF(H77=\"-\",\"-\",3)","v":"-"},null,{"$f":"IF(J77=\"-\",\"-\",2.5)","v":"-"},null,{"$f":"IF(L77=\"-\",\"-\",3)","v":"-"},null,{"$f":"IF(N77=\"-\",\"-\",3)","v":"-"},null,{"$f":"IF(P77=\"-\",\"-\",3)","v":"-"},null,{"$f":"IF(R77=\"-\",\"-\",3)","v":"-"},null,{"$f":"IF(T77=\"-\",\"-\",3)","v":"-"},null,{"$f":"IF(V77=\"-\",\"-\",3)","v":"-"},null,{"$f":"IF(X77=\"-\",\"-\",3)","v":"-"},null,{"$f":"IF(Z77=\"-\",\"-\",3)","v":"-"},null,{"$f":"IF(AB77=\"-\",\"-\",3)","v":"-"},null,{"$f":"IF(AD77=\"-\",\"-\",3)","v":"-"}]
["2-D.4","Sommation - Emplois",null,null,null,null,null,{"$f":"IF(H77=\"-\",0,(H92*(H93+H94))/18)","v":0},null,{"$f":"IF(J77=\"-\",0,(J92*(J93+J94))/18)","v":0},null,{"$f":"IF(L77=\"-\",0,(L92*(L93+L94))/18)","v":0},null,{"$f":"IF(N77=\"-\",0,(N92*(N93+N94))/18)","v":0},null,{"$f":"IF(P77=\"-\",0,(P92*(P93+P94))/18)","v":0},null,{"$f":"IF(R77=\"-\",0,(R92*(R93+R94))/18)","v":0},null,{"$f":"IF(T77=\"-\",0,(T92*(T93+T94))/18)","v":0},null,{"$f":"IF(V77=\"-\",0,(V92*(V93+V94))/18)","v":0},null,{"$f":"IF(X77=\"-\",0,(X92*(X93+X94))/18)","v":0},null,{"$f":"IF(Z77=\"-\",0,(Z92*(Z93+Z94))/18)","v":0},null,{"$f":"IF(AB77=\"-\",0,(AB92*(AB93+AB94))/18)","v":0},null,{"$f":"IF(AD77=\"-\",0,(AD92*(AD93+AD94))/18)","v":0}]
["2-E","Acceptabilité sociale"]
["2-E.1","     Dans le contexte d’un scénario de réhabilitation impliquant des travaux d’excavation, le projet s’insérerait bien dans les activités actuelles du MO ",null,null,null,null,null,{"$f":"IF(H77=\"-\",\"-\",IF('A-Outil sélection scénario'!$E$87=\"Oui\",3,0))","v":"-"},null,"-",null,{"$f":"IF(L77=\"-\",\"-\",IF('A-Outil sélection scénario'!$E$87=\"Oui\",3,0))","v":"-"},null,{"$f":"IF(N77=\"-\",\"-\",IF('A-Outil sélection scénario'!$E$87=\"Oui\",3,0))","v":"-"},null,{"$f":"IF(P77=\"-\",\"-\",IF('A-Outil sélection scénario'!$E$87=\"Oui\",3,0))","v":"-"},null,{"$f":"IF(R77=\"-\",\"-\",IF('A-Outil sélection scénario'!$E$87=\"Oui\",3,0))","v":"-"},null,"-",null,"-",null,"-",null,"-",null,"-",null,"-"]
["2-E.2","     Dans le contexte d’un scénario de réhabilitation n'impliquant pas de travaux d’excavation, le projet s’insérerait bien dans les activités actuelles du MO ",null,null,null,null,null,"-",null,{"$f":"IF(J77=\"-\",\"-\",IF('A-Outil sélection scénario'!$E$88=\"Oui\",3,0))","v":"-"},null,"-",null,"-",null,"-",null,"-",null,{"$f":"IF(T77=\"-\",\"-\",IF('A-Outil sélection scénario'!$E$88=\"Oui\",3,0))","v":"-"},null,{"$f":"IF(V77=\"-\",\"-\",IF('A-Outil sélection scénario'!$E$88=\"Oui\",3,0))","v":"-"},null,{"$f":"IF(X77=\"-\",\"-\",IF('A-Outil sélection scénario'!$E$88=\"Oui\",3,0))","v":"-"},null,{"$f":"IF(Z77=\"-\",\"-\",IF('A-Outil sélection scénario'!$E$88=\"Oui\",3,0))","v":"-"},null,{"$f":"IF(AB77=\"-\",\"-\",IF('A-Outil sélection scénario'!$E$88=\"Oui\",3,0))","v":"-"},null,{"$f":"IF(AD77=\"-\",\"-\",IF('A-Outil sélection scénario'!$E$88=\"Oui\",3,0))","v":"-"}]
["2-E.3","     Acceptabilité sociale du projet par la communauté",null,null,null,null,null,{"$f":"IF(H77=\"-\",\"-\",2.5)","v":"-"},null,{"$f":"IF(J77=\"-\",\"-\",2)","v":"-"},null,{"$f":"IF(L77=\"-\",\"-\",2.5)","v":"-"},null,{"$f":"IF(N77=\"-\",\"-\",2.5)","v":"-"},null,{"$f":"IF(P77=\"-\",\"-\",2.5)","v":"-"},null,{"$f":"IF(R77=\"-\",\"-\",2.5)","v":"-"},null,{"$f":"IF(T77=\"-\",\"-\",3)","v":"-"},null,{"$f":"IF(V77=\"-\",\"-\",3)","v":"-"},null,{"$f":"IF(X77=\"-\",\"-\",3)","v":"-"},null,{"$f":"IF(Z77=\"-\",\"-\",3)","v":"-"},null,{"$f":"IF(AB77=\"-\",\"-\",3)","v":"-"},null,{"$f":"IF(AD77=\"-\",\"-\",3)","v":"-"}]
["2-E.4","Sommation - Acceptabilité sociale",null,null,null,null,null,{"$f":"IF(H77=\"-\",0,((H97+H99)/6))","v":0},null,{"$f":"IF(J77=\"-\",0,((J98+J99)/6))","v":0},null,{"$f":"IF(L77=\"-\",0,((L97+L99)/6))","v":0},null,{"$f":"IF(N77=\"-\",0,((N97+N99)/6))","v":0},null,{"$f":"IF(P77=\"-\",0,((P97+P99)/6))","v":0},null,{"$f":"IF(R77=\"-\",0,((R97+R99)/6))","v":0},null,{"$f":"IF(T77=\"-\",0,((T98+T99)/6))","v":0},null,{"$f":"IF(V77=\"-\",0,((V98+V99)/6))","v":0},null,{"$f":"IF(X77=\"-\",0,((X98+X99)/6))","v":0},null,{"$f":"IF(Z77=\"-\",0,((Z98+Z99)/6))","v":0},null,{"$f":"IF(AB77=\"-\",0,((AB98+AB99)/6))","v":0},null,{"$f":"IF(AD77=\"-\",0,((AD98+AD99)/6))","v":0}]
["2-F",null,null,null,null,null,"Cotation",{"$f":"IF(H77=\"-\",0,(H81+H86+H90+H95+H100)/5)","v":0},null,{"$f":"IF(J77=\"-\",0,(J81+J86+J90+J95+J100)/5)","v":0},null,{"$f":"IF(L77=\"-\",0,(L81+L86+L90+L95+L100)/5)","v":0},null,{"$f":"IF(N77=\"-\",0,(N81+N86+N90+N95+N100)/5)","v":0},null,{"$f":"IF(P77=\"-\",0,(P81+P86+P90+P95+P100)/5)","v":0},null,{"$f":"IF(R77=\"-\",0,(R81+R86+R90+R95+R100)/5)","v":0},null,{"$f":"IF(T77=\"-\",0,(T81+T86+T90+T95+T100)/5)","v":0},null,{"$f":"IF(V77=\"-\",0,(V81+V86+V90+V95+V100)/5)","v":0},null,{"$f":"IF(X77=\"-\",0,(X81+X86+X90+X95+X100)/5)","v":0},null,{"$f":"IF(Z77=\"-\",0,(Z81+Z86+Z90+Z95+Z100)/5)","v":0},null,{"$f":"IF(AB77=\"-\",0,(AB81+AB86+AB90+AB95+AB100)/5)","v":0},null,{"$f":"IF(AD77=\"-\",0,(AD81+AD86+AD90+AD95+AD100)/5)","v":0}]
[]
["3.","Impact environnemental"]
["3-A","Bilan Carbone"]
["3-A.1","     Accessibilité à des installations électriques",null,null,null,null,null,{"$f":"IF(H77=\"-\",\"-\",3)","v":"-"},null,{"$f":"IF(J77=\"-\",\"-\",3)","v":"-"},null,{"$f":"IF(L77=\"-\",\"-\",IF('A-Outil sélection scénario'!$E$77=\"Oui\",3,1.5))","v":"-"},null,{"$f":"IF(N77=\"-\",\"-\",IF('A-Outil sélection scénario'!$E$77=\"Oui\",3,1.5))","v":"-"},null,{"$f":"IF(P77=\"-\",\"-\",IF('A-Outil sélection scénario'!$E$77=\"Oui\",3,2))","v":"-"},null,{"$f":"IF(R77=\"-\",\"-\",IF('A-Outil sélection scénario'!$E$77=\"Oui\",3,0))","v":"-"},null,{"$f":"IF(T77=\"-\",\"-\",3)","v":"-"},null,{"$f":"IF(V77=\"-\",\"-\",IF('A-Outil sélection scénario'!$E$77=\"Oui\",3,1.5))","v":"-"},null,{"$f":"IF(X77=\"-\",\"-\",IF('A-Outil sélection scénario'!$E$77=\"Oui\",3,1.5))","v":"-"},null,{"$f":"IF(Z77=\"-\",\"-\",IF('A-Outil sélection scénario'!$E$77=\"Oui\",3,1.5))","v":"-"},null,{"$f":"IF(AB77=\"-\",\"-\",IF('A-Outil sélection scénario'!$E$77=\"Oui\",3,1.5))","v":"-"},null,{"$f":"IF(AD77=\"-\",\"-\",IF('A-Outil sélection scénario'!$E$77=\"Oui\",3,1.5))","v":"-"}]
["3-A.2","     Distance des lieux autorisés d'élimination par rapport au site",null,null,null,null,null,{"$f":"IF(H77=\"-\",\"-\",IF('A-Outil sélection scénario'!$E$79=\"<300 km\",3,IF('A-Outil sélection scénario'!$E$79=\"300-500 km\",2,IF('A-Outil sélection scénario'!$E$79=\"500-750 km\",1,IF('A-Outil sélection scénario'!$E$79=\">750 km\",0,0)))))","v":"-"},null,{"$f":"IF(J77=\"-\",\"-\",3)","v":"-"},null,{"$f":"IF(L77=\"-\",\"-\",3)","v":"-"},null,{"$f":"IF(N77=\"-\",\"-\",3)","v":"-"},null,{"$f":"IF(P77=\"-\",\"-\",3)","v":"-"},null,{"$f":"IF(R77=\"-\",\"-\",3)","v":"-"},null,{"$f":"IF(T77=\"-\",\"-\",3)","v":"-"},null,{"$f":"IF(V77=\"-\",\"-\",3)","v":"-"},null,{"$f":"IF(X77=\"-\",\"-\",3)","v":"-"},null,{"$f":"IF(Z77=\"-\",\"-\",3)","v":"-"},null,{"$f":"IF(AB77=\"-\",\"-\",3)","v":"-"},null,{"$f":"IF(AD77=\"-\",\"-\",3)","v":"-"}]
["3-A.3","     Distance des sites d'approvisionnement des produits et équipements par rapport au site",null,null,null,null,null,{"$f":"IF(H77=\"-\",\"-\",3)","v":"-"},null,{"$f":"IF(J77=\"-\",\"-\",3)","v":"-"},null,{"$f":"IF(L77=\"-\",\"-\",IF('A-Outil sélection scénario'!$E$80=\"<300 km\",3,IF('A-Outil sélection scénario'!$E$80=\"300-500 km\",2,IF('A-Outil sélection scénario'!$E$80=\"500-750 km\",1,IF('A-Outil sélection scénario'!$E$80=\">750 km\",0,0)))))","v":"-"},null,{"$f":"IF(N77=\"-\",\"-\",IF('A-Outil sélection scénario'!$E$80=\"<300 km\",3,IF('A-Outil sélection scénario'!$E$80=\"300-500 km\",2,IF('A-Outil sélection scénario'!$E$80=\"500-750 km\",1,IF('A-Outil sélection scénario'!$E$80=\">750 km\",0,0)))))","v":"-"},null,{"$f":"IF(P77=\"-\",\"-\",IF('A-Outil sélection scénario'!$E$80=\"<300 km\",3,IF('A-Outil sélection scénario'!$E$80=\"300-500 km\",2,IF('A-Outil sélection scénario'!$E$80=\"500-750 km\",1,IF('A-Outil sélection scénario'!$E$80=\">750 km\",0,0)))))","v":"-"},null,{"$f":"IF(R77=\"-\",\"-\",IF('A-Outil sélection scénario'!$E$80=\"<300 km\",3,IF('A-Outil sélection scénario'!$E$80=\"300-500 km\",2,IF('A-Outil sélection scénario'!$E$80=\"500-750 km\",1,IF('A-Outil sélection scénario'!$E$80=\">750 km\",0,0)))))","v":"-"},null,{"$f":"IF(T77=\"-\",\"-\",IF('A-Outil sélection scénario'!$E$80=\"<300 km\",3,IF('A-Outil sélection scénario'!$E$80=\"300-500 km\",2,IF('A-Outil sélection scénario'!$E$80=\"500-750 km\",1,IF('A-Outil sélection scénario'!$E$80=\">750 km\",0,0)))))","v":"-"},null,{"$f":"IF(V77=\"-\",\"-\",IF('A-Outil sélection scénario'!$E$80=\"<300 km\",3,IF('A-Outil sélection scénario'!$E$80=\"300-500 km\",2,IF('A-Outil sélection scénario'!$E$80=\"500-750 km\",1,IF('A-Outil sélection scénario'!$E$80=\">750 km\",0,0)))))","v":"-"},null,{"$f":"IF(X77=\"-\",\"-\",IF('A-Outil sélection scénario'!$E$80=\"<300 km\",3,IF('A-Outil sélection scénario'!$E$80=\"300-500 km\",2,IF('A-Outil sélection scénario'!$E$80=\"500-750 km\",1,IF('A-Outil sélection scénario'!$E$80=\">750 km\",0,0)))))","v":"-"},null,{"$f":"IF(Z77=\"-\",\"-\",IF('A-Outil sélection scénario'!$E$80=\"<300 km\",3,IF('A-Outil sélection scénario'!$E$80=\"300-500 km\",2,IF('A-Outil sélection scénario'!$E$80=\"500-750 km\",1,IF('A-Outil sélection scénario'!$E$80=\">750 km\",0,0)))))","v":"-"},null,{"$f":"IF(AB77=\"-\",\"-\",IF('A-Outil sélection scénario'!$E$80=\"<300 km\",3,IF('A-Outil sélection scénario'!$E$80=\"300-500 km\",2,IF('A-Outil sélection scénario'!$E$80=\"500-750 km\",1,IF('A-Outil sélection scénario'!$E$80=\">750 km\",0,0)))))","v":"-"},null,{"$f":"IF(AD77=\"-\",\"-\",IF('A-Outil sélection scénario'!$E$80=\"<300 km\",3,IF('A-Outil sélection scénario'!$E$80=\"300-500 km\",2,IF('A-Outil sélection scénario'!$E$80=\"500-750 km\",1,IF('A-Outil sélection scénario'!$E$80=\">750 km\",0,0)))))","v":"-"}]
["3-A.4","Sommation - Bilan carbone",null,null,null,null,null,{"$f":"IF(H77=\"-\",0,SUM(H105:I107)/9)","v":0},null,{"$f":"IF(J77=\"-\",0,SUM(J105:K107)/9)","v":0},null,{"$f":"IF(L77=\"-\",0,SUM(L105:M107)/9)","v":0},null,{"$f":"IF(N77=\"-\",0,SUM(N105:O107)/9)","v":0},null,{"$f":"IF(P77=\"-\",0,SUM(P105:Q107)/9)","v":0},null,{"$f":"IF(R77=\"-\",0,SUM(R105:S107)/9)","v":0},null,{"$f":"IF(T77=\"-\",0,SUM(T105:U107)/9)","v":0},null,{"$f":"IF(V77=\"-\",0,SUM(V105:W107)/9)","v":0},null,{"$f":"IF(X77=\"-\",0,SUM(X105:Y107)/9)","v":0},null,{"$f":"IF(Z77=\"-\",0,SUM(Z105:AA107)/9)","v":0},null,{"$f":"IF(AB77=\"-\",0,SUM(AB105:AC107)/9)","v":0},null,{"$f":"IF(AD77=\"-\",0,SUM(AD105:AE107)/9)","v":0}]
["3-B","Risque à l'environnement "]
["3-B.1","     Possibilité de générer des métabolites",null,null,null,null,null,{"$f":"IF(H77=\"-\",\"-\",3)","v":"-"},null,{"$f":"IF(J77=\"-\",\"-\",2.5)","v":"-"},null,{"$f":"IF(L77=\"-\",\"-\",2)","v":"-"},null,{"$f":"IF(N77=\"-\",\"-\",1)","v":"-"},null,{"$f":"IF(P77=\"-\",\"-\",2.5)","v":"-"},null,{"$f":"IF(R77=\"-\",\"-\",2)","v":"-"},null,{"$f":"IF(T77=\"-\",\"-\",2)","v":"-"},null,{"$f":"IF(V77=\"-\",\"-\",2)","v":"-"},null,{"$f":"IF(X77=\"-\",\"-\",1)","v":"-"},null,{"$f":"IF(Z77=\"-\",\"-\",2)","v":"-"},null,{"$f":"IF(AB77=\"-\",\"-\",2)","v":"-"},null,{"$f":"IF(AD77=\"-\",\"-\",2)","v":"-"}]
["3-B.2","     Risque de pas atteindre les objectifs de réhabilitation sur l'ensemble du site",null,null,null,null,null,{"$f":"IF(H77=\"-\",\"-\",3)","v":"-"},null,{"$f":"IF(J77=\"-\",\"-\",3)","v":"-"},null,{"$f":"IF(L77=\"-\",\"-\",2)","v":"-"},null,{"$f":"IF(N77=\"-\",\"-\",2)","v":"-"},null,{"$f":"IF(P77=\"-\",\"-\",2.5)","v":"-"},null,{"$f":"IF(R77=\"-\",\"-\",2.5)","v":"-"},null,{"$f":"IF(T77=\"-\",\"-\",1)","v":"-"},null,{"$f":"IF(V77=\"-\",\"-\",1)","v":"-"},null,{"$f":"IF(X77=\"-\",\"-\",1.5)","v":"-"},null,{"$f":"IF(Z77=\"-\",\"-\",1)","v":"-"},null,{"$f":"IF(AB77=\"-\",\"-\",1)","v":"-"},null,{"$f":"IF(AD77=\"-\",\"-\",1)","v":"-"}]
["3-B.3","Sommation - Risque environnement",null,null,null,null,null,{"$f":"IF(H77=\"-\",0,(H110+H111)/6)","v":0},null,{"$f":"IF(J77=\"-\",0,(J110+J111)/6)","v":0},null,{"$f":"IF(L77=\"-\",0,(L110+L111)/6)","v":0},null,{"$f":"IF(N77=\"-\",0,(N110+N111)/6)","v":0},null,{"$f":"IF(P77=\"-\",0,(P110+P111)/6)","v":0},null,{"$f":"IF(R77=\"-\",0,(R110+R111)/6)","v":0},null,{"$f":"IF(T77=\"-\",0,(T110+T111)/6)","v":0},null,{"$f":"IF(V77=\"-\",0,(V110+V111)/6)","v":0},null,{"$f":"IF(X77=\"-\",0,(X110+X111)/6)","v":0},null,{"$f":"IF(Z77=\"-\",0,(Z110+Z111)/6)","v":0},null,{"$f":"IF(AB77=\"-\",0,(AB110+AB111)/6)","v":0},null,{"$f":"IF(AD77=\"-\",0,(AD110+AD111)/6)","v":0}]
["3-C","Impact du choix du concept sur la biodiversité"]
["3-C.1","     Présence d'espèces menacées et vulnérables et/ou d'écosystèmes exceptionnels près du site",null,null,null,null,null,{"$f":"IF(H77=\"-\",\"-\",IF('A-Outil sélection scénario'!$E$82=\"Oui\",0,3))","v":"-"},null,{"$f":"IF(J77=\"-\",\"-\",IF('A-Outil sélection scénario'!$E$82=\"Oui\",1.5,3))","v":"-"},null,{"$f":"IF(L77=\"-\",\"-\",IF('A-Outil sélection scénario'!$E$82=\"Oui\",0,3))","v":"-"},null,{"$f":"IF(N77=\"-\",\"-\",IF('A-Outil sélection scénario'!$E$82=\"Oui\",0,3))","v":"-"},null,{"$f":"IF(P77=\"-\",\"-\",IF('A-Outil sélection scénario'!$E$82=\"Oui\",0,3))","v":"-"},null,{"$f":"IF(R77=\"-\",\"-\",IF('A-Outil sélection scénario'!$E$82=\"Oui\",0,3))","v":"-"},null,{"$f":"IF(T77=\"-\",\"-\",IF('A-Outil sélection scénario'!$E$82=\"Oui\",2.5,3))","v":"-"},null,{"$f":"IF(V77=\"-\",\"-\",IF('A-Outil sélection scénario'!$E$82=\"Oui\",2.5,3))","v":"-"},null,{"$f":"IF(X77=\"-\",\"-\",IF('A-Outil sélection scénario'!$E$82=\"Oui\",2.5,3))","v":"-"},null,{"$f":"IF(Z77=\"-\",\"-\",IF('A-Outil sélection scénario'!$E$82=\"Oui\",2.5,3))","v":"-"},null,{"$f":"IF(AB77=\"-\",\"-\",IF('A-Outil sélection scénario'!$E$82=\"Oui\",2.5,3))","v":"-"},null,{"$f":"IF(AD77=\"-\",\"-\",IF('A-Outil sélection scénario'!$E$82=\"Oui\",2.5,3))","v":"-"}]
["3-C.2","     Impact du mode de gestion ou de la technologie sur la biodiversité",null,null,null,null,null,{"$f":"IF(H77=\"-\",\"-\",IF('A-Outil sélection scénario'!$E$83=\"Oui\",0,3))","v":"-"},null,{"$f":"IF(J77=\"-\",\"-\",IF('A-Outil sélection scénario'!$E$83=\"Oui\",1.5,3))","v":"-"},null,{"$f":"IF(L77=\"-\",\"-\",IF('A-Outil sélection scénario'!$E$83=\"Oui\",0,3))","v":"-"},null,{"$f":"IF(N77=\"-\",\"-\",IF('A-Outil sélection scénario'!$E$83=\"Oui\",0,3))","v":"-"},null,{"$f":"IF(P77=\"-\",\"-\",IF('A-Outil sélection scénario'!$E$83=\"Oui\",0,3))","v":"-"},null,{"$f":"IF(R77=\"-\",\"-\",IF('A-Outil sélection scénario'!$E$83=\"Oui\",0,3))","v":"-"},null,{"$f":"IF(T77=\"-\",\"-\",IF('A-Outil sélection scénario'!$E$83=\"Oui\",2.5,3))","v":"-"},null,{"$f":"IF(V77=\"-\",\"-\",IF('A-Outil sélection scénario'!$E$83=\"Oui\",2.5,3))","v":"-"},null,{"$f":"IF(X77=\"-\",\"-\",IF('A-Outil sélection scénario'!$E$83=\"Oui\",2.5,3))","v":"-"},null,{"$f":"IF(Z77=\"-\",\"-\",IF('A-Outil sélection scénario'!$E$83=\"Oui\",2.5,3))","v":"-"},null,{"$f":"IF(AB77=\"-\",\"-\",IF('A-Outil sélection scénario'!$E$83=\"Oui\",2.5,3))","v":"-"},null,{"$f":"IF(AD77=\"-\",\"-\",IF('A-Outil sélection scénario'!$E$83=\"Oui\",2.5,3))","v":"-"}]
["3-C.3","Sommation - Biodiversité",null,null,null,null,null,{"$f":"IF(H77=\"-\",0,(H114+H115)/6)","v":0},null,{"$f":"IF(J77=\"-\",0,(J114+J115)/6)","v":0},null,{"$f":"IF(L77=\"-\",0,(L114+L115)/6)","v":0},null,{"$f":"IF(N77=\"-\",0,(N114+N115)/6)","v":0},null,{"$f":"IF(P77=\"-\",0,(P114+P115)/6)","v":0},null,{"$f":"IF(R77=\"-\",0,(R114+R115)/6)","v":0},null,{"$f":"IF(T77=\"-\",0,(T114+T115)/6)","v":0},null,{"$f":"IF(V77=\"-\",0,(V114+V115)/6)","v":0},null,{"$f":"IF(X77=\"-\",0,(X114+X115)/6)","v":0},null,{"$f":"IF(Z77=\"-\",0,(Z114+Z115)/6)","v":0},null,{"$f":"IF(AB77=\"-\",0,(AB114+AB115)/6)","v":0},null,{"$f":"IF(AD77=\"-\",0,(AD114+AD115)/6)","v":0}]
["3-D","Consommation de ressources naturelles"]
["3-D.1","     Utilisation d'eau fraîche lors des travaux",null,null,null,null,null,{"$f":"IF(H77=\"-\",\"-\",3)","v":"-"},null,{"$f":"IF(J77=\"-\",\"-\",3)","v":"-"},null,{"$f":"IF(L77=\"-\",\"-\",3)","v":"-"},null,{"$f":"IF(N77=\"-\",\"-\",3)","v":"-"},null,{"$f":"IF(P77=\"-\",\"-\",2)","v":"-"},null,{"$f":"IF(R77=\"-\",\"-\",3)","v":"-"},null,{"$f":"IF(T77=\"-\",\"-\",2)","v":"-"},null,{"$f":"IF(V77=\"-\",\"-\",3)","v":"-"},null,{"$f":"IF(X77=\"-\",\"-\",3)","v":"-"},null,{"$f":"IF(Z77=\"-\",\"-\",3)","v":"-"},null,{"$f":"IF(AB77=\"-\",\"-\",3)","v":"-"},null,{"$f":"IF(AD77=\"-\",\"-\",1)","v":"-"}]
["3-D.2","     Importation de sols d'emprunt",null,null,null,null,null,{"$f":"IF(H77=\"-\",\"-\",0)","v":"-"},null,{"$f":"IF(J77=\"-\",\"-\",1.5)","v":"-"},null,{"$f":"IF(L77=\"-\",\"-\",3)","v":"-"},null,{"$f":"IF(N77=\"-\",\"-\",3)","v":"-"},null,{"$f":"IF(P77=\"-\",\"-\",3)","v":"-"},null,{"$f":"IF(R77=\"-\",\"-\",3)","v":"-"},null,{"$f":"IF(T77=\"-\",\"-\",3)","v":"-"},null,{"$f":"IF(V77=\"-\",\"-\",3)","v":"-"},null,{"$f":"IF(X77=\"-\",\"-\",3)","v":"-"},null,{"$f":"IF(Z77=\"-\",\"-\",3)","v":"-"},null,{"$f":"IF(AB77=\"-\",\"-\",3)","v":"-"},null,{"$f":"IF(AD77=\"-\",\"-\",3)","v":"-"}]
["3-D.3","Sommation - Ressources naturelles",null,null,null,null,null,{"$f":"IF(H77=\"-\",0,(H118+H119)/6)","v":0},null,{"$f":"IF(J77=\"-\",0,(J118+J119)/6)","v":0},null,{"$f":"IF(L77=\"-\",0,(L118+L119)/6)","v":0},null,{"$f":"IF(N77=\"-\",0,(N118+N119)/6)","v":0},null,{"$f":"IF(P77=\"-\",0,(P118+P119)/6)","v":0},null,{"$f":"IF(R77=\"-\",0,(R118+R119)/6)","v":0},null,{"$f":"IF(T77=\"-\",0,(T118+T119)/6)","v":0},null,{"$f":"IF(V77=\"-\",0,(V118+V119)/6)","v":0},null,{"$f":"IF(X77=\"-\",0,(X118+X119)/6)","v":0},null,{"$f":"IF(Z77=\"-\",0,(Z118+Z119)/6)","v":0},null,{"$f":"IF(AB77=\"-\",0,(AB118+AB119)/6)","v":0},null,{"$f":"IF(AD77=\"-\",0,(AD118+AD119)/6)","v":0}]
["3-E",null,null,null,null,null,"Cotation",{"$f":"IF(H77=\"-\",0,(H108+H112+H116+H120)/4)","v":0},null,{"$f":"IF(J77=\"-\",0,(J108+J112+J116+J120)/4)","v":0},null,{"$f":"IF(L77=\"-\",0,(L108+L112+L116+L120)/4)","v":0},null,{"$f":"IF(N77=\"-\",0,(N108+N112+N116+N120)/4)","v":0},null,{"$f":"IF(P77=\"-\",0,(P108+P112+P116+P120)/4)","v":0},null,{"$f":"IF(R77=\"-\",0,(R108+R112+R116+R120)/4)","v":0},null,{"$f":"IF(T77=\"-\",0,(T108+T112+T116+T120)/4)","v":0},null,{"$f":"IF(V77=\"-\",0,(V108+V112+V116+V120)/4)","v":0},null,{"$f":"IF(X77=\"-\",0,(X108+X112+X116+X120)/4)","v":0},null,{"$f":"IF(Z77=\"-\",0,(Z108+Z112+Z116+Z120)/4)","v":0},null,{"$f":"IF(AB77=\"-\",0,(AB108+AB112+AB116+AB120)/4)","v":0},null,{"$f":"IF(AD77=\"-\",0,(AD108+AD112+AD116+AD120)/4)","v":0}]
[]
["4.","Estimation sommaire du coût des méthodes "]
["4-A","Facteurs influençant les couts "]
["4-A.1","Contamination à plus de 3 mètres de profondeur aux limites de propriété nécessitant un ouvrage de soutènement pour excaver - superficie de l'ouvrage requis",null,null,null,{"$f":"'A-Outil sélection scénario'!E96","v":0},"m2",{"$f":"IF(H77=\"-\",0,$F$125*350)","v":0},null,null,null,{"$f":"IF(L77=\"-\",0,$F$125*350)","v":0},null,{"$f":"IF(N77=\"-\",0,$F$125*350)","v":0},null,{"$f":"IF(P77=\"-\",0,$F$125*350)","v":0},null,{"$f":"IF(R77=\"-\",0,$F$125*350)","v":0}]
["4-A.2","Excavation, entreposage temporaire et remblayage de sols conformes",null,null,null,{"$f":"'A-Outil sélection scénario'!E95","v":0},"m3",{"$f":"IF(H77=\"-\",0,$F$126*10)","v":0},null,null,null,{"$f":"IF(L77=\"-\",0,$F$126*10)","v":0},null,{"$f":"IF(N77=\"-\",0,$F$126*10)","v":0},null,{"$f":"IF(P77=\"-\",0,$F$126*10)","v":0},null,{"$f":"IF(R77=\"-\",0,$F$126*10)","v":0}]
["4-A.3","Importation et remblayage de sols (y compris le confinement)",null,null,null,{"$f":"IF('A-Outil sélection scénario'!L74<3,SUM('A-Outil sélection scénario'!E125:E127,'A-Outil sélection scénario'!E129:E131,'A-Outil sélection scénario'!E133:E135,'A-Outil sélection scénario'!E137:E139,'A-Outil sélection scénario'!E141:E143,'A-Outil sélection scénario'!E145:E147,'A-Outil sélection scénario'!E149:E151,'A-Outil sélection scénario'!E174:E176,'A-Outil sélection scénario'!E178:E180,'A-Outil sélection scénario'!E182:E184,'A-Outil sélection scénario'!E186:E188,'A-Outil sélection scénario'!E190:E192,'A-Outil sélection scénario'!E194:E196,'A-Outil sélection scénario'!E198:E200),IF('A-Outil sélection scénario'!L74=3,SUM('A-Outil sélection scénario'!E126:E127,'A-Outil sélection scénario'!E130:E131,'A-Outil sélection scénario'!E134:E135,'A-Outil sélection scénario'!E138:E139,'A-Outil sélection scénario'!E142:E143,'A-Outil sélection scénario'!E146:E147,'A-Outil sélection scénario'!E150:E151,'A-Outil sélection scénario'!E175:E176,'A-Outil sélection scénario'!E179:E180,'A-Outil sélection scénario'!E183:E184,'A-Outil sélection scénario'!E187:E188,'A-Outil sélection scénario'!E191:E192,'A-Outil sélection scénario'!E195:E196,'A-Outil sélection scénario'!E199:E200),0))","v":0},"m3",{"$f":"IF(H77=\"-\",0,$F$127*20)","v":0},null,{"$f":"IF(J77=\"-\",0,'A-Outil sélection scénario'!E107*1*20)","v":0}]
["4-A.4","Remblayage des sols traités sur le site ",null,null,null,{"$f":"IF('A-Outil sélection scénario'!L74<3,SUM('A-Outil sélection scénario'!E125:E127,'A-Outil sélection scénario'!E129:E131,'A-Outil sélection scénario'!E133:E135,'A-Outil sélection scénario'!E137:E139,'A-Outil sélection scénario'!E141:E143,'A-Outil sélection scénario'!E145:E147,'A-Outil sélection scénario'!E149:E151,'A-Outil sélection scénario'!E174:E176,'A-Outil sélection scénario'!E178:E180,'A-Outil sélection scénario'!E182:E184,'A-Outil sélection scénario'!E186:E188,'A-Outil sélection scénario'!E190:E192,'A-Outil sélection scénario'!E194:E196,'A-Outil sélection scénario'!E198:E200),IF('A-Outil sélection scénario'!L74=3,SUM('A-Outil sélection scénario'!E126:E127,'A-Outil sélection scénario'!E130:E131,'A-Outil sélection scénario'!E134:E135,'A-Outil sélection scénario'!E138:E139,'A-Outil sélection scénario'!E142:E143,'A-Outil sélection scénario'!E146:E147,'A-Outil sélection scénario'!E150:E151,'A-Outil sélection scénario'!E175:E176,'A-Outil sélection scénario'!E179:E180,'A-Outil sélection scénario'!E183:E184,'A-Outil sélection scénario'!E187:E188,'A-Outil sélection scénario'!E191:E192,'A-Outil sélection scénario'!E195:E196,'A-Outil sélection scénario'!E199:E200),0))","v":0},"m3",null,null,null,null,{"$f":"IF(L77=\"-\",0,$F$128*10)","v":0},null,{"$f":"IF(N77=\"-\",0,$F$128*10)","v":0},null,{"$f":"IF(P77=\"-\",0,$F$128*10)","v":0},null,{"$f":"IF(R77=\"-\",0,$F$128*10)","v":0}]
["4-A.5","Traitement d'eau d'excavation",null,null,null,{"$f":"IF('A-Outil sélection scénario'!L74<3,0.1*SUM('A-Outil sélection scénario'!E174:E176,'A-Outil sélection scénario'!E178:E180,'A-Outil sélection scénario'!E182:E184,'A-Outil sélection scénario'!E186:E188,'A-Outil sélection scénario'!E190:E192,'A-Outil sélection scénario'!E194:E196,'A-Outil sélection scénario'!E198:E200),IF('A-Outil sélection scénario'!L74=3,0.1*SUM('A-Outil sélection scénario'!E175:E176,'A-Outil sélection scénario'!E179:E180,'A-Outil sélection scénario'!E183:E184,'A-Outil sélection scénario'!E187:E188,'A-Outil sélection scénario'!E191:E192,'A-Outil sélection scénario'!E195:E196,'A-Outil sélection scénario'!E199:E200),0))","v":0},"m3",{"$f":"IF(H77=\"-\",0,$F$129*1000)","v":0},null,null,null,{"$f":"IF(L77=\"-\",0,$F$129*1000)","v":0},null,{"$f":"IF(N77=\"-\",0,$F$129*1000)","v":0},null,{"$f":"IF(P77=\"-\",0,$F$129*1000)","v":0},null,{"$f":"IF(R77=\"-\",0,$F$129*1000)","v":0}]
["4-A.6","Cotation d'addition",null,null,null,null,null,{"$f":"SUM(H125:I129)","v":0},null,{"$f":"SUM(J125:K129)","v":0},null,{"$f":"SUM(L125:M129)","v":0},null,{"$f":"SUM(N125:O129)","v":0},null,{"$f":"SUM(P125:Q129)","v":0},null,{"$f":"SUM(R125:S129)","v":0},null,{"$f":"SUM(T125:U129)","v":0},null,{"$f":"SUM(V125:W129)","v":0},null,{"$f":"SUM(X125:Y129)","v":0},null,{"$f":"SUM(Z125:AA129)","v":0},null,{"$f":"SUM(AB125:AC129)","v":0},null,{"$f":"SUM(AD125:AE129)","v":0}]
["4-A.7","Présence d'infrastructures souterraines en activité dans la zone impactée par la réhabilitation (réseau d'égout, fosse septique, champ d'épuration, etc.)",null,null,null,{"$f":"'A-Outil sélection scénario'!E100","v":0},null,{"$f":"IF(H77=\"-\",\"-\",IF($F$131=\"Oui\",5%,\"-\"))","v":"-"},null,null,null,{"$f":"IF(L77=\"-\",\"-\",IF($F$131=\"Oui\",0.05,\"-\"))","v":"-"},null,{"$f":"IF(N77=\"-\",\"-\",IF($F$131=\"Oui\",0.05,\"-\"))","v":"-"},null,{"$f":"IF(P77=\"-\",\"-\",IF($F$131=\"Oui\",0.05,\"-\"))","v":"-"},null,{"$f":"IF(R77=\"-\",\"-\",IF($F$131=\"Oui\",0.05,\"-\"))","v":"-"}]
["4-A.8","Présence de bâtiments ou d'infrastructures hors sol en activité dans la impactée par la réhabilitation (contamination entre 0 et 4 m de prof.) - reprise en sous œuvre requise",null,null,null,{"$f":"'A-Outil sélection scénario'!E98","v":0},null,{"$f":"IF(H77=\"-\",\"-\",IF($F$132=\"Oui\",0.2,\"-\"))","v":"-"},null,null,null,{"$f":"IF(L77=\"-\",\"-\",IF($F$132=\"Oui\",0.2,\"-\"))","v":"-"},null,{"$f":"IF(N77=\"-\",\"-\",IF($F$132=\"Oui\",0.2,\"-\"))","v":"-"},null,{"$f":"IF(P77=\"-\",\"-\",IF($F$132=\"Oui\",0.2,\"-\"))","v":"-"},null,{"$f":"IF(R77=\"-\",\"-\",IF($F$132=\"Oui\",0.2,\"-\"))","v":"-"}]
["4-A.9","Présence d'un réservoir hors sol ou souterrain en activité",null,null,null,{"$f":"'A-Outil sélection scénario'!E101","v":0},null,{"$f":"IF(H77=\"-\",\"-\",IF($F$133=\"Oui\",0.05,\"-\"))","v":"-"},null,null,null,{"$f":"IF(L77=\"-\",\"-\",IF($F$133=\"Oui\",0.05,\"-\"))","v":"-"},null,{"$f":"IF(N77=\"-\",\"-\",IF($F$133=\"Oui\",0.05,\"-\"))","v":"-"},null,{"$f":"IF(P77=\"-\",\"-\",IF($F$133=\"Oui\",0.05,\"-\"))","v":"-"},null,{"$f":"IF(R77=\"-\",\"-\",IF($F$133=\"Oui\",0.05,\"-\"))","v":"-"}]
["4-A.10","Présence d'infrastructure aériennes qui peuvent limiter l'utilisation de machinerie (fil électrique, pont, passerelle, etc.)",null,null,null,{"$f":"'A-Outil sélection scénario'!E102","v":0},null,{"$f":"IF(H77=\"-\",\"-\",IF($F$134=\"Oui\",0.05,\"-\"))","v":"-"},null,null,null,{"$f":"IF(L77=\"-\",\"-\",IF($F$134=\"Oui\",0.05,\"-\"))","v":"-"},null,{"$f":"IF(N77=\"-\",\"-\",IF($F$134=\"Oui\",0.05,\"-\"))","v":"-"},null,{"$f":"IF(P77=\"-\",\"-\",IF($F$134=\"Oui\",0.05,\"-\"))","v":"-"},null,{"$f":"IF(R77=\"-\",\"-\",IF($F$134=\"Oui\",0.05,\"-\"))","v":"-"}]
["4-A.11","Présence d'arbres dans la zone impactée par la réhabilitation",null,null,null,{"$f":"'A-Outil sélection scénario'!E90","v":0},null,{"$f":"IF(H77=\"-\",\"-\",IF($F$135=\"Oui\",0.05,\"-\"))","v":"-"},null,null,null,{"$f":"IF(L77=\"-\",\"-\",IF($F$135=\"Oui\",0.05,\"-\"))","v":"-"},null,{"$f":"IF(N77=\"-\",\"-\",IF($F$135=\"Oui\",0.05,\"-\"))","v":"-"},null,{"$f":"IF(P77=\"-\",\"-\",IF($F$135=\"Oui\",0.05,\"-\"))","v":"-"},null,{"$f":"IF(R77=\"-\",\"-\",IF($F$135=\"Oui\",0.05,\"-\"))","v":"-"}]
["4-A.12","Présence de matières dangereuses utilisées sur le site (barils, etc.) dans le secteur de la zone impactée par la réhabilitation",null,null,null,{"$f":"'A-Outil sélection scénario'!E92","v":0},null,{"$f":"IF(H77=\"-\",\"-\",IF($F$136=\"Oui\",0.05,\"-\"))","v":"-"},null,null,null,{"$f":"IF(L77=\"-\",\"-\",IF($F$136=\"Oui\",0.05,\"-\"))","v":"-"},null,{"$f":"IF(N77=\"-\",\"-\",IF($F$136=\"Oui\",0.05,\"-\"))","v":"-"},null,{"$f":"IF(P77=\"-\",\"-\",IF($F$136=\"Oui\",0.05,\"-\"))","v":"-"},null,{"$f":"IF(R77=\"-\",\"-\",IF($F$136=\"Oui\",0.05,\"-\"))","v":"-"}]
["4-A.13","Accessibilité à des installations électriques",null,null,null,{"$f":"'A-Outil sélection scénario'!E77","v":0},null,null,null,null,null,null,null,null,null,{"$f":"IF(P77=\"-\",\"-\",IF($F$137=\"Non\",0.1,\"-\"))","v":"-"},null,{"$f":"IF(R77=\"-\",\"-\",IF($F$137=\"Non\",0.1,\"-\"))","v":"-"},null,null,null,{"$f":"IF(V77=\"-\",\"-\",IF($F$137=\"Non\",0.1,\"-\"))","v":"-"},null,null,null,{"$f":"IF(Z77=\"-\",\"-\",IF($F$137=\"Non\",0.1,\"-\"))","v":"-"},null,{"$f":"IF(AB77=\"-\",\"-\",IF($F$137=\"Non\",0.1,\"-\"))","v":"-"},null,{"$f":"IF(AD77=\"-\",\"-\",IF($F$137=\"Non\",0.1,\"-\"))","v":"-"}]
["4-A.14","Type de polluants organiques"]
["4-A.14","Distance des lieux autorisés d'élimination",null,null,null,{"$f":"'A-Outil sélection scénario'!E79","v":0},null,{"$f":"IF(H77=\"-\",\"-\",IF(F139=\"<300 km\",0,IF(F139=\"300-500 km\",0.02,IF(F139=\"500-750 km\",0.05,IF(F139=\">750 km\",0.1,\"-\")))))","v":"-"}]
["4-A.15","Distance des sites d'approvisionnement des produits de traitement au site",null,null,null,{"$f":"'A-Outil sélection scénario'!E80","v":0},null,null,null,null,null,{"$f":"IF(L77=\"-\",\"-\",IF($F$140=\"<300 km\",0,IF($F$140=\"300-500 km\",0.02,IF($F$140=\"500-750 km\",0.05,IF($F$140=\">750 km\",0.1,\"-\")))))","v":"-"},null,{"$f":"IF(N77=\"-\",\"-\",IF($F$140=\"<300 km\",0,IF($F$140=\"300-500 km\",0.02,IF($F$140=\"500-750 km\",0.05,IF($F$140=\">750 km\",0.1,\"-\")))))","v":"-"},null,{"$f":"IF(P77=\"-\",\"-\",IF($F$140=\"<300 km\",0,IF($F$140=\"300-500 km\",0.02,IF($F$140=\"500-750 km\",0.05,IF($F$140=\">750 km\",0.1,\"-\")))))","v":"-"},null,{"$f":"IF(R77=\"-\",\"-\",IF($F$140=\"<300 km\",0,IF($F$140=\"300-500 km\",0.02,IF($F$140=\"500-750 km\",0.05,IF($F$140=\">750 km\",0.1,\"-\")))))","v":"-"},null,{"$f":"IF(T77=\"-\",\"-\",IF($F$140=\"<300 km\",0,IF($F$140=\"300-500 km\",0.02,IF($F$140=\"500-750 km\",0.05,IF($F$140=\">750 km\",0.1,\"-\")))))","v":"-"},null,{"$f":"IF(V77=\"-\",\"-\",IF($F$140=\"<300 km\",0,IF($F$140=\"300-500 km\",0.02,IF($F$140=\"500-750 km\",0.05,IF($F$140=\">750 km\",0.1,\"-\")))))","v":"-"},null,{"$f":"IF(X77=\"-\",\"-\",IF($F$140=\"<300 km\",0,IF($F$140=\"300-500 km\",0.02,IF($F$140=\"500-750 km\",0.05,IF($F$140=\">750 km\",0.1,\"-\")))))","v":"-"},null,{"$f":"IF(Z77=\"-\",\"-\",IF($F$140=\"<300 km\",0,IF($F$140=\"300-500 km\",0.02,IF($F$140=\"500-750 km\",0.05,IF($F$140=\">750 km\",0.1,\"-\")))))","v":"-"},null,{"$f":"IF(AB77=\"-\",\"-\",IF($F$140=\"<300 km\",0,IF($F$140=\"300-500 km\",0.02,IF($F$140=\"500-750 km\",0.05,IF($F$140=\">750 km\",0.1,\"-\")))))","v":"-"},null,{"$f":"IF(AD77=\"-\",\"-\",IF($F$140=\"<300 km\",0,IF($F$140=\"300-500 km\",0.02,IF($F$140=\"500-750 km\",0.05,IF($F$140=\">750 km\",0.1,\"-\")))))","v":"-"}]
["4-A.17","Suivi post-réhabilitation prévu au plan de réhabilitation"]
["4-A.16","Cotation de majoration",null,null,null,null,null,{"$f":"SUM(H131:I140)","v":0},null,{"$f":"SUM(J131:K140)","v":0},null,{"$f":"SUM(L131:M140)","v":0},null,{"$f":"SUM(N131:O140)","v":0},null,{"$f":"SUM(P131:Q140)","v":0},null,{"$f":"SUM(R131:S140)","v":0},null,{"$f":"SUM(T131:U140)","v":0},null,{"$f":"SUM(V131:W140)","v":0},null,{"$f":"SUM(X131:Y140)","v":0},null,{"$f":"SUM(Z131:AA140)","v":0},null,{"$f":"SUM(AB131:AC140)","v":0},null,{"$f":"SUM(AD131:AE140)","v":0}]
["4-B","Coût générique en fonction du volume par famille de contaminants"]
["4-B.1","Coût unitaire par méthode",null,null,null,"Min ($/t)",null,"-",null,"-",null,30,null,{"$f":"60*1.5","v":90},null,70,null,{"$f":"1.5*75","v":112.5},null,{"$f":"1.5*18","v":27},null,25,null,{"$f":"1.5*30","v":45},null,{"$f":"1.5*20","v":30},null,{"$f":"1.5*15","v":22.5},null,{"$f":"1.5*45","v":67.5}]
["4-B.2",null,null,null,null,"Max ($/t)",null,"-",null,"-",null,60,null,{"$f":"1.5*150","v":225},null,110,null,{"$f":"1.5*150","v":225},null,{"$f":"1.5*40","v":60},null,50,null,{"$f":"1.5*90","v":135},null,{"$f":"1.5*50","v":75},null,{"$f":"1.5*55","v":82.5},null,{"$f":"1.5*120","v":180}]
["4-B.3","Zone vadose"]
["4-B.3.1","Composés inorganiques uniquement",null,null,null,{"$f":"IF('A-Outil sélection scénario'!L74<3,SUM('A-Outil sélection scénario'!E125,'A-Outil sélection scénario'!E126,'A-Outil sélection scénario'!E127),IF('A-Outil sélection scénario'!L74=3,SUM('A-Outil sélection scénario'!E126,'A-Outil sélection scénario'!E127),0))","v":0},"m3",{"$f":"IF(OR(H69=\"-\",H69=\"Ne s'applique pas\"),0,IF('A-Outil sélection scénario'!L74<3,('A-Outil sélection scénario'!E125*Menu_scenario!D32+'A-Outil sélection scénario'!E126*Menu_scenario!D33+'A-Outil sélection scénario'!E127*Menu_scenario!D34),IF('A-Outil sélection scénario'!L74=3,('A-Outil sélection scénario'!E126*Menu_scenario!D33+'A-Outil sélection scénario'!E127*Menu_scenario!D34),\"\")))","v":0},null,0,null,{"$f":"IF(OR(L69=\"-\",L69=\"Ne s'applique pas\"),0,(AVERAGE(L$144:M$145)*$F$147*2.1))","v":0},null,{"$f":"IF(OR(N69=\"-\",N69=\"Ne s'applique pas\"),0,(AVERAGE(N$144:O$145)*$F$147*2.1))","v":0},null,{"$f":"IF(OR(P69=\"-\",P69=\"Ne s'applique pas\"),0,(AVERAGE(P$144:Q$145)*$F$147*2.1))","v":0},null,{"$f":"IF(OR(R69=\"-\",R69=\"Ne s'applique pas\"),0,(AVERAGE(R$144:S$145)*$F$147*2.1))","v":0},null,{"$f":"IF(OR(T69=\"-\",T69=\"Ne s'applique pas\"),0,(AVERAGE(T$144:U$145)*$F$147*2.1))","v":0},null,{"$f":"IF(OR(V69=\"-\",V69=\"Ne s'applique pas\"),0,(AVERAGE(V$144:W$145)*$F$147*2.1))","v":0},null,{"$f":"IF(OR(X69=\"-\",X69=\"Ne s'applique pas\"),0,(AVERAGE(X$144:Y$145)*$F$147*2.1))","v":0},null,{"$f":"IF(OR(Z69=\"-\",Z69=\"Ne s'applique pas\"),0,(AVERAGE(Z$144:AA$145)*$F$147*2.1))","v":0},null,{"$f":"IF(OR(AB69=\"-\",AB69=\"Ne s'applique pas\"),0,(AVERAGE(AB$144:AC$145)*$F$147*2.1))","v":0},null,{"$f":"IF(OR(AD69=\"-\",AD69=\"Ne s'applique pas\"),0,(AVERAGE(AD$144:AE$145)*$F$147*2.1))","v":0}]
["4-B.3.2","Composés organiques (produits pétroliers et COV) uniquement",null,null,null,{"$f":"IF('A-Outil sélection scénario'!L74<3,SUM('A-Outil sélection scénario'!E129,'A-Outil sélection scénario'!E130,'A-Outil sélection scénario'!E131),IF('A-Outil sélection scénario'!L74=3,SUM('A-Outil sélection scénario'!E130,'A-Outil sélection scénario'!E131),0))","v":0},"m3",{"$f":"IF(OR(H70=\"-\",H70=\"Ne s'applique pas\"),0,IF('A-Outil sélection scénario'!L74<3,('A-Outil sélection scénario'!E129*Menu_scenario!D32+'A-Outil sélection scénario'!E130*Menu_scenario!D33+'A-Outil sélection scénario'!E131*Menu_scenario!D34),IF('A-Outil sélection scénario'!L74=3,('A-Outil sélection scénario'!E130*Menu_scenario!D33+'A-Outil sélection scénario'!E131*Menu_scenario!D34),\"\")))","v":0},null,0,null,{"$f":"IF(OR(L70=\"-\",L70=\"Ne s'applique pas\"),0,(AVERAGE(L$144:M$145)*$F$148*2.1))","v":0},null,{"$f":"IF(OR(N70=\"-\",N70=\"Ne s'applique pas\"),0,(AVERAGE(N$144:O$145)*$F$148*2.1))","v":0},null,{"$f":"IF(OR(P70=\"-\",P70=\"Ne s'applique pas\"),0,(AVERAGE(P$144:Q$145)*$F$148*2.1))","v":0},null,{"$f":"IF(OR(R70=\"-\",R70=\"Ne s'applique pas\"),0,(AVERAGE(R$144:S$145)*$F$148*2.1))","v":0},null,{"$f":"IF(OR(T70=\"-\",T70=\"Ne s'applique pas\"),0,(AVERAGE(T$144:U$145)*$F$148*2.1))","v":0},null,{"$f":"IF(OR(V70=\"-\",V70=\"Ne s'applique pas\"),0,(AVERAGE(V$144:W$145)*$F$148*2.1))","v":0},null,{"$f":"IF(OR(X70=\"-\",X70=\"Ne s'applique pas\"),0,(AVERAGE(X$144:Y$145)*$F$148*2.1))","v":0},null,{"$f":"IF(OR(Z70=\"-\",Z70=\"Ne s'applique pas\"),0,(AVERAGE(Z$144:AA$145)*$F$148*2.1))","v":0},null,{"$f":"IF(OR(AB70=\"-\",AB70=\"Ne s'applique pas\"),0,(AVERAGE(AB$144:AC$145)*$F$148*2.1))","v":0},null,{"$f":"IF(OR(AD70=\"-\",AD70=\"Ne s'applique pas\"),0,(AVERAGE(AD$144:AE$145)*$F$148*2.1))","v":0}]
["4-B.3.3","Autres composés organiques uniquement",null,null,null,{"$f":"IF('A-Outil sélection scénario'!L74<3,SUM('A-Outil sélection scénario'!E133,'A-Outil sélection scénario'!E134,'A-Outil sélection scénario'!E135),IF('A-Outil sélection scénario'!L74=3,SUM('A-Outil sélection scénario'!E134,'A-Outil sélection scénario'!E135),0))","v":0},"m3",{"$f":"IF(OR(H71=\"-\",H71=\"Ne s'applique pas\"),0,IF('A-Outil sélection scénario'!L74<3,('A-Outil sélection scénario'!E133*Menu_scenario!D32+'A-Outil sélection scénario'!E134*Menu_scenario!D33+'A-Outil sélection scénario'!E135*Menu_scenario!D34),IF('A-Outil sélection scénario'!L74=3,('A-Outil sélection scénario'!E134*Menu_scenario!D33+'A-Outil sélection scénario'!E135*Menu_scenario!D34),\"\")))","v":0},null,0,null,{"$f":"IF(OR(L71=\"-\",L71=\"Ne s'applique pas\"),0,(AVERAGE(L$144:M$145)*$F$149*2.1))","v":0},null,{"$f":"IF(OR(N71=\"-\",N71=\"Ne s'applique pas\"),0,(AVERAGE(N$144:O$145)*$F$149*2.1))","v":0},null,{"$f":"IF(OR(P71=\"-\",P71=\"Ne s'applique pas\"),0,(AVERAGE(P$144:Q$145)*$F$149*2.1))","v":0},null,{"$f":"IF(OR(R71=\"-\",R71=\"Ne s'applique pas\"),0,(AVERAGE(R$144:S$145)*$F$149*2.1))","v":0},null,{"$f":"IF(OR(T71=\"-\",T71=\"Ne s'applique pas\"),0,(AVERAGE(T$144:U$145)*$F$149*2.1))","v":0},null,{"$f":"IF(OR(V71=\"-\",V71=\"Ne s'applique pas\"),0,(AVERAGE(V$144:W$145)*$F$149*2.1))","v":0},null,{"$f":"IF(OR(X71=\"-\",X71=\"Ne s'applique pas\"),0,(AVERAGE(X$144:Y$145)*$F$149*2.1))","v":0},null,{"$f":"IF(OR(Z71=\"-\",Z71=\"Ne s'applique pas\"),0,(AVERAGE(Z$144:AA$145)*$F$149*2.1))","v":0},null,{"$f":"IF(OR(AB71=\"-\",AB71=\"Ne s'applique pas\"),0,(AVERAGE(AB$144:AC$145)*$F$149*2.1))","v":0},null,{"$f":"IF(OR(AD71=\"-\",AD71=\"Ne s'applique pas\"),0,(AVERAGE(AD$144:AE$145)*$F$149*2.1))","v":0}]
["4-B.3.4","Contamination mixte: inorganique et organique (produits pétroliers et COV)",null,null,null,{"$f":"IF('A-Outil sélection scénario'!L74<3,SUM('A-Outil sélection scénario'!E137,'A-Outil sélection scénario'!E138,'A-Outil sélection scénario'!E139),IF('A-Outil sélection scénario'!L74=3,SUM('A-Outil sélection scénario'!E138,'A-Outil sélection scénario'!E139),0))","v":0},"m3",{"$f":"IF(OR(H69=\"-\",H69=\"Ne s'applique pas\",H70=\"-\",H70=\"Ne s'applique pas\"),0,IF('A-Outil sélection scénario'!L74<3,(('A-Outil sélection scénario'!E137*Menu_scenario!D32)+('A-Outil sélection scénario'!E138*Menu_scenario!D33)+('A-Outil sélection scénario'!E139*Menu_scenario!D34)),IF('A-Outil sélection scénario'!L74=3,('A-Outil sélection scénario'!E138*Menu_scenario!D33)+('A-Outil sélection scénario'!E139*Menu_scenario!D34),\"\")))","v":0},null,0,null,{"$f":"IF(OR(L69=\"-\",L69=\"Ne s'applique pas\",L70=\"-\",L70=\"Ne s'applique pas\"),0,IF($F$150>0,(AVERAGE(L$144:M$145)*$F150*2.1),0))","v":0},null,{"$f":"IF(OR(N69=\"-\",N69=\"Ne s'applique pas\",N70=\"-\",N70=\"Ne s'applique pas\"),0,IF($F$150>0,(AVERAGE(N$144:O$145)*$F150*2.1),0))","v":0},null,{"$f":"IF(OR(P69=\"-\",P69=\"Ne s'applique pas\",P70=\"-\",P70=\"Ne s'applique pas\"),0,IF($F$150>0,(AVERAGE(P$144:Q$145)*$F150*2.1),0))","v":0},null,{"$f":"IF(OR(R69=\"-\",R69=\"Ne s'applique pas\",R70=\"-\",R70=\"Ne s'applique pas\"),0,IF($F$150>0,(AVERAGE(R$144:S$145)*$F150*2.1),0))","v":0},null,{"$f":"IF(OR(T69=\"-\",T69=\"Ne s'applique pas\",T70=\"-\",T70=\"Ne s'applique pas\"),0,IF($F$150>0,(AVERAGE(T$144:U$145)*$F150*2.1),0))","v":0},null,{"$f":"IF(OR(V69=\"-\",V69=\"Ne s'applique pas\",V70=\"-\",V70=\"Ne s'applique pas\"),0,IF($F$150>0,(AVERAGE(V$144:W$145)*$F150*2.1),0))","v":0},null,{"$f":"IF(OR(X69=\"-\",X69=\"Ne s'applique pas\",X70=\"-\",X70=\"Ne s'applique pas\"),0,IF($F$150>0,(AVERAGE(X$144:Y$145)*$F150*2.1),0))","v":0},null,{"$f":"IF(OR(Z69=\"-\",Z69=\"Ne s'applique pas\",Z70=\"-\",Z70=\"Ne s'applique pas\"),0,IF($F$150>0,(AVERAGE(Z$144:AA$145)*$F150*2.1),0))","v":0},null,{"$f":"IF(OR(AB69=\"-\",AB69=\"Ne s'applique pas\",AB70=\"-\",AB70=\"Ne s'applique pas\"),0,IF($F$150>0,(AVERAGE(AB$144:AC$145)*$F150*2.1),0))","v":0},null,{"$f":"IF(OR(AD69=\"-\",AD69=\"Ne s'applique pas\",AD70=\"-\",AD70=\"Ne s'applique pas\"),0,IF($F$150>0,(AVERAGE(AD$144:AE$145)*$F150*2.1),0))","v":0}]
["4-B.3.5","Contamination mixte: inorganique et autres composés organiques",null,null,null,{"$f":"IF('A-Outil sélection scénario'!L74<3,SUM('A-Outil sélection scénario'!E141,'A-Outil sélection scénario'!E142,'A-Outil sélection scénario'!E143),IF('A-Outil sélection scénario'!L74=3,SUM('A-Outil sélection scénario'!E142,'A-Outil sélection scénario'!E143),0))","v":0},"m3",{"$f":"IF(OR(H69=\"-\",H69=\"Ne s'applique pas\",H71=\"-\",H71=\"Ne s'applique pas\"),0,IF('A-Outil sélection scénario'!L74<3,(('A-Outil sélection scénario'!E141*Menu_scenario!D32)+('A-Outil sélection scénario'!E142*Menu_scenario!D33)+('A-Outil sélection scénario'!E143*Menu_scenario!D34)),IF('A-Outil sélection scénario'!L74=3,('A-Outil sélection scénario'!E142*Menu_scenario!D33)+('A-Outil sélection scénario'!E143*Menu_scenario!D34),\"\")))","v":0},null,0,null,{"$f":"IF(OR(L69=\"-\",L69=\"Ne s'applique pas\",L71=\"-\",L71=\"Ne s'applique pas\"),0,IF($F$151>0,(AVERAGE(L$144:M$145)*$F$151*2.1),0))","v":0},null,{"$f":"IF(OR(N69=\"-\",N69=\"Ne s'applique pas\",N71=\"-\",N71=\"Ne s'applique pas\"),0,IF($F$151>0,(AVERAGE(N$144:O$145)*$F$151*2.1),0))","v":0},null,{"$f":"IF(OR(P69=\"-\",P69=\"Ne s'applique pas\",P71=\"-\",P71=\"Ne s'applique pas\"),0,IF($F$151>0,(AVERAGE(P$144:Q$145)*$F$151),0))","v":0},null,{"$f":"IF(OR(R69=\"-\",R69=\"Ne s'applique pas\",R71=\"-\",R71=\"Ne s'applique pas\"),0,IF($F$151>0,(AVERAGE(R$144:S$145)*$F$151*2.1),0))","v":0},null,{"$f":"IF(OR(T69=\"-\",T69=\"Ne s'applique pas\",T71=\"-\",T71=\"Ne s'applique pas\"),0,IF($F$151>0,(AVERAGE(T$144:U$145)*$F$151*2.1),0))","v":0},null,{"$f":"IF(OR(V69=\"-\",V69=\"Ne s'applique pas\",V71=\"-\",V71=\"Ne s'applique pas\"),0,IF($F$151>0,(AVERAGE(V$144:W$145)*$F$151*2.1),0))","v":0},null,{"$f":"IF(OR(X69=\"-\",X69=\"Ne s'applique pas\",X71=\"-\",X71=\"Ne s'applique pas\"),0,IF($F$151>0,(AVERAGE(X$144:Y$145)*$F$151*2.1),0))","v":0},null,{"$f":"IF(OR(Z69=\"-\",Z69=\"Ne s'applique pas\",Z71=\"-\",Z71=\"Ne s'applique pas\"),0,IF($F$151>0,(AVERAGE(Z$144:AA$145)*$F$151*2.1),0))","v":0},null,{"$f":"IF(OR(AB69=\"-\",AB69=\"Ne s'applique pas\",AB71=\"-\",AB71=\"Ne s'applique pas\"),0,IF($F$151>0,(AVERAGE(AB$144:AC$145)*$F$151*2.1),0))","v":0},null,{"$f":"IF(OR(AD69=\"-\",AD69=\"Ne s'applique pas\",AD71=\"-\",AD71=\"Ne s'applique pas\"),0,IF($F$151>0,(AVERAGE(AD$144:AE$145)*$F$151*2.1),0))","v":0}]
["4-B.3.6","Contamination mixte: organique (produits pétroliers et COV) et autres composés organiques",null,null,null,{"$f":"IF('A-Outil sélection scénario'!L74<3,SUM('A-Outil sélection scénario'!E145,'A-Outil sélection scénario'!E146,'A-Outil sélection scénario'!E147),IF('A-Outil sélection scénario'!L74=3,SUM('A-Outil sélection scénario'!E146,'A-Outil sélection scénario'!E147),0))","v":0},"m3",{"$f":"IF(OR(H70=\"-\",H70=\"Ne s'applique pas\",H71=\"-\",H71=\"Ne s'applique pas\"),0,IF('A-Outil sélection scénario'!L74<3,(('A-Outil sélection scénario'!E145*Menu_scenario!D32)+('A-Outil sélection scénario'!E146*Menu_scenario!D33)+('A-Outil sélection scénario'!E147*Menu_scenario!D34)),IF('A-Outil sélection scénario'!L74=3,('A-Outil sélection scénario'!E146*Menu_scenario!D33)+('A-Outil sélection scénario'!E147*Menu_scenario!D34),\"\")))","v":0},null,0,null,{"$f":"IF(OR(L70=\"-\",L70=\"Ne s'applique pas\",L71=\"-\",L71=\"Ne s'applique pas\"),0,IF($F$152>0,(AVERAGE(L$144:M$145)*$F$152*2.1),0))","v":0},null,{"$f":"IF(OR(N70=\"-\",N70=\"Ne s'applique pas\",N71=\"-\",N71=\"Ne s'applique pas\"),0,IF($F$152>0,(AVERAGE(N$144:O$145)*$F$152*2.1),0))","v":0},null,{"$f":"IF(OR(P70=\"-\",P70=\"Ne s'applique pas\",P71=\"-\",P71=\"Ne s'applique pas\"),0,IF($F$152>0,(AVERAGE(P$144:Q$145)*$F$152),0))","v":0},null,{"$f":"IF(OR(R70=\"-\",R70=\"Ne s'applique pas\",R71=\"-\",R71=\"Ne s'applique pas\"),0,IF($F$152>0,(AVERAGE(R$144:S$145)*$F$152*2.1),0))","v":0},null,{"$f":"IF(OR(T70=\"-\",T70=\"Ne s'applique pas\",T71=\"-\",T71=\"Ne s'applique pas\"),0,IF($F$152>0,(AVERAGE(T$144:U$145)*$F$152*2.1),0))","v":0},null,{"$f":"IF(OR(V70=\"-\",V70=\"Ne s'applique pas\",V71=\"-\",V71=\"Ne s'applique pas\"),0,IF($F$152>0,(AVERAGE(V$144:W$145)*$F$152*2.1),0))","v":0},null,{"$f":"IF(OR(X70=\"-\",X70=\"Ne s'applique pas\",X71=\"-\",X71=\"Ne s'applique pas\"),0,IF($F$152>0,(AVERAGE(X$144:Y$145)*$F$152*2.1),0))","v":0},null,{"$f":"IF(OR(Z70=\"-\",Z70=\"Ne s'applique pas\",Z71=\"-\",Z71=\"Ne s'applique pas\"),0,IF($F$152>0,(AVERAGE(Z$144:AA$145)*$F$152*2.1),0))","v":0},null,{"$f":"IF(OR(AB70=\"-\",AB70=\"Ne s'applique pas\",AB71=\"-\",AB71=\"Ne s'applique pas\"),0,IF($F$152>0,(AVERAGE(AB$144:AC$145)*$F$152*2.1),0))","v":0},null,{"$f":"IF(OR(AD70=\"-\",AD70=\"Ne s'applique pas\",AD71=\"-\",AD71=\"Ne s'applique pas\"),0,IF($F$152>0,(AVERAGE(AD$144:AE$145)*$F$152*2.1),0))","v":0}]
["4-B.3.7","Contamination mixte: inorganique, organique (produits pétroliers et COV) et autres composés organique",null,null,null,{"$f":"IF('A-Outil sélection scénario'!L74<3,SUM('A-Outil sélection scénario'!E149,'A-Outil sélection scénario'!E150,'A-Outil sélection scénario'!E151),IF('A-Outil sélection scénario'!L74=3,SUM('A-Outil sélection scénario'!E150,'A-Outil sélection scénario'!E151),0))","v":0},"m3",{"$f":"IF(OR(H69=\"-\",H69=\"Ne s'applique pas\",H70=\"-\",H70=\"Ne s'applique pas\",H71=\"-\",H71=\"Ne s'applique pas\"),0,IF('A-Outil sélection scénario'!L74<3,(('A-Outil sélection scénario'!E149*Menu_scenario!D32)+('A-Outil sélection scénario'!E150*Menu_scenario!D33)+('A-Outil sélection scénario'!E151*Menu_scenario!D34)),IF('A-Outil sélection scénario'!L74=3,('A-Outil sélection scénario'!E150*Menu_scenario!D33)+('A-Outil sélection scénario'!E151*Menu_scenario!D34),\"\")))","v":0},null,0,null,{"$f":"IF(OR(L69=\"-\",L69=\"Ne s'applique pas\",L70=\"-\",L70=\"Ne s'applique pas\",L71=\"-\",L71=\"Ne s'applique pas\"),0,IF($F$153>0,(AVERAGE(L$144:M$145)*$F$153*2.1),0))","v":0},null,{"$f":"IF(OR(N69=\"-\",N69=\"Ne s'applique pas\",N70=\"-\",N70=\"Ne s'applique pas\",N71=\"-\",N71=\"Ne s'applique pas\"),0,IF($F$153>0,(AVERAGE(N$144:O$145)*$F$153*2.1),0))","v":0},null,{"$f":"IF(OR(P69=\"-\",P69=\"Ne s'applique pas\",P70=\"-\",P70=\"Ne s'applique pas\",P71=\"-\",P71=\"Ne s'applique pas\"),0,IF($F$153>0,(AVERAGE(P$144:Q$145)*$F$153*2.1),0))","v":0},null,{"$f":"IF(OR(R69=\"-\",R69=\"Ne s'applique pas\",R70=\"-\",R70=\"Ne s'applique pas\",R71=\"-\",R71=\"Ne s'applique pas\"),0,IF($F$153>0,(AVERAGE(R$144:S$145)*$F$153*2.1),0))","v":0},null,{"$f":"IF(OR(T69=\"-\",T69=\"Ne s'applique pas\",T70=\"-\",T70=\"Ne s'applique pas\",T71=\"-\",T71=\"Ne s'applique pas\"),0,IF($F$153>0,(AVERAGE(T$144:U$145)*$F$153*2.1),0))","v":0},null,{"$f":"IF(OR(V69=\"-\",V69=\"Ne s'applique pas\",V70=\"-\",V70=\"Ne s'applique pas\",V71=\"-\",V71=\"Ne s'applique pas\"),0,IF($F$153>0,(AVERAGE(V$144:W$145)*$F$153*2.1),0))","v":0},null,{"$f":"IF(OR(X69=\"-\",X69=\"Ne s'applique pas\",X70=\"-\",X70=\"Ne s'applique pas\",X71=\"-\",X71=\"Ne s'applique pas\"),0,IF($F$153>0,(AVERAGE(X$144:Y$145)*$F$153*2.1),0))","v":0},null,{"$f":"IF(OR(Z69=\"-\",Z69=\"Ne s'applique pas\",Z70=\"-\",Z70=\"Ne s'applique pas\",Z71=\"-\",Z71=\"Ne s'applique pas\"),0,IF($F$153>0,(AVERAGE(Z$144:AA$145)*$F$153*2.1),0))","v":0},null,{"$f":"IF(OR(AB69=\"-\",AB69=\"Ne s'applique pas\",AB70=\"-\",AB70=\"Ne s'applique pas\",AB71=\"-\",AB71=\"Ne s'applique pas\"),0,IF($F$153>0,(AVERAGE(AB$144:AC$145)*$F$153*2.1),0))","v":0},null,{"$f":"IF(OR(AD69=\"-\",AD69=\"Ne s'applique pas\",AD70=\"-\",AD70=\"Ne s'applique pas\",AD71=\"-\",AD71=\"Ne s'applique pas\"),0,IF($F$153>0,(AVERAGE(AD$144:AE$145)*$F$153*2.1),0))","v":0}]
["4-B.3.8","MRND",null,null,null,{"$f":"'A-Outil sélection scénario'!E153","v":0},"m3",{"$f":"IF(H77=\"-\",0,IF(OR(H22=\"-\",H22=\"Ne s'applique pas\"),0,(Menu_scenario!$D$35*$F$154)))","v":0},null,0,null,{"$f":"IF(L77=\"-\",0,IF(OR(L22=\"-\",L22=\"Ne s'applique pas\"),0,(Menu_scenario!$D$35*$F$154)))","v":0},null,{"$f":"IF(N77=\"-\",0,IF(OR(N22=\"-\",N22=\"Ne s'applique pas\"),0,(Menu_scenario!$D$35*$F$154)))","v":0},null,{"$f":"IF(P77=\"-\",0,IF(OR(P22=\"-\",P22=\"Ne s'applique pas\"),0,(Menu_scenario!$D$35*$F$154)))","v":0},null,{"$f":"IF(R77=\"-\",0,IF(OR(R22=\"-\",R22=\"Ne s'applique pas\"),0,(Menu_scenario!$D$35*$F$154)))","v":0},null,{"$f":"IF(T77=\"-\",0,IF(OR(T22=\"-\",T22=\"Ne s'applique pas\"),0,(AVERAGE(T$144:U$145)*$F$154*2.1)))","v":0},null,{"$f":"IF(V77=\"-\",0,IF(OR(V22=\"-\",V22=\"Ne s'applique pas\"),0,(AVERAGE(V$144:W$145)*$F$154*2.1)))","v":0},null,{"$f":"IF(X77=\"-\",0,IF(OR(X22=\"-\",X22=\"Ne s'applique pas\"),0,(AVERAGE(X$144:Y$145)*$F$154*2.1)))","v":0},null,{"$f":"IF(Z77=\"-\",0,IF(OR(Z22=\"-\",Z22=\"Ne s'applique pas\"),0,(AVERAGE(Z$144:AA$145)*$F$154*2.1)))","v":0},null,{"$f":"IF(AB77=\"-\",0,IF(OR(AB22=\"-\",AB22=\"Ne s'applique pas\"),0,(AVERAGE(AB$144:AC$145)*$F$154*2.1)))","v":0},null,{"$f":"IF(AD77=\"-\",0,IF(OR(AD22=\"-\",AD22=\"Ne s'applique pas\"),0,(AVERAGE(AD$144:AE$145)*$F$154*2.1)))","v":0}]
["4-B.3.9","MRD",null,null,null,{"$f":"'A-Outil sélection scénario'!E154","v":0},"m3",{"$f":"IF(H77=\"-\",0,IF(OR(H22=\"-\",H22=\"Ne s'applique pas\"),0,(Menu_scenario!$D$36*$F$155)))","v":0},null,0,null,{"$f":"IF(L77=\"-\",0,IF(OR(L22=\"-\",L22=\"Ne s'applique pas\"),0,(Menu_scenario!$D$36*$F$155)))","v":0},null,{"$f":"IF(N77=\"-\",0,IF(OR(N22=\"-\",N22=\"Ne s'applique pas\"),0,(Menu_scenario!$D$36*$F$155)))","v":0},null,{"$f":"IF(P77=\"-\",0,IF(OR(P22=\"-\",P22=\"Ne s'applique pas\"),0,(Menu_scenario!$D$36*$F$155)))","v":0},null,{"$f":"IF(R77=\"-\",0,IF(OR(R22=\"-\",R22=\"Ne s'applique pas\"),0,(Menu_scenario!$D$36*$F$155)))","v":0},null,{"$f":"IF(T77=\"-\",0,IF(OR(T22=\"-\",T22=\"Ne s'applique pas\"),0,(AVERAGE(T$144:U$145)*$F$155*2.1)))","v":0},null,{"$f":"IF(V77=\"-\",0,IF(OR(V22=\"-\",V22=\"Ne s'applique pas\"),0,(AVERAGE(V$144:W$145)*$F$155*2.1)))","v":0},null,{"$f":"IF(X77=\"-\",0,IF(OR(X22=\"-\",X22=\"Ne s'applique pas\"),0,(AVERAGE(X$144:Y$145)*$F$155*2.1)))","v":0},null,{"$f":"IF(Z77=\"-\",0,IF(OR(Z22=\"-\",Z22=\"Ne s'applique pas\"),0,(AVERAGE(Z$144:AA$145)*$F$155*2.1)))","v":0},null,{"$f":"IF(AB77=\"-\",0,IF(OR(AB22=\"-\",AB22=\"Ne s'applique pas\"),0,(AVERAGE(AB$144:AC$145)*$F$155*2.1)))","v":0},null,{"$f":"IF(AD77=\"-\",0,IF(OR(AD22=\"-\",AD22=\"Ne s'applique pas\"),0,(AVERAGE(AD$144:AE$145)*$F$155*2.1)))","v":0}]
["4-B.4","Somme avec addition et majoration",null,null,null,"$/m3",null,{"$f":"IFERROR(IF(SUM(H147:I155)=0,0,(SUM(H147:I155)*(1+H142)+H130)/H193),0)","v":0},null,{"$f":"IFERROR((SUM(J147:K155)*(1+J142)+J130)/J193,0)","v":0},null,{"$f":"IFERROR(IF(SUM(L147:M155)=0,0,(SUM(L147:M155)*(1+L142)+L130)/L193),0)","v":0},null,{"$f":"IFERROR(IF(SUM(N147:O155)=0,0,(SUM(N147:O155)*(1+N142)+N130)/N193),0)","v":0},null,{"$f":"IFERROR(IF(SUM(P147:Q155)=0,0,(SUM(P147:Q155)*(1+P142)+P130)/P193),0)","v":0},null,{"$f":"IFERROR(IF(SUM(R147:S155)=0,0,(SUM(R147:S155)*(1+R142)+R130)/R193),0)","v":0},null,{"$f":"IFERROR(IF(SUM(T147:U155)=0,0,(SUM(T147:U155)*(1+T142)+T130)/T193),0)","v":0},null,{"$f":"IFERROR(IF(SUM(V147:W155)=0,0,(SUM(V147:W155)*(1+V142)+V130)/V193),0)","v":0},null,{"$f":"IFERROR(IF(SUM(X147:Y155)=0,0,(SUM(X147:Y155)*(1+X142)+X130)/X193),0)","v":0},null,{"$f":"IFERROR(IF(SUM(Z147:AA155)=0,0,(SUM(Z147:AA155)*(1+Z142)+Z130)/Z193),0)","v":0},null,{"$f":"IFERROR(IF(SUM(AB147:AC155)=0,0,(SUM(AB147:AC155)*(1+AB142)+AB130)/AB193),0)","v":0},null,{"$f":"IFERROR(IF(SUM(AD147:AE155)=0,0,(SUM(AD147:AE155)*(1+AD142)+AD130)/AD193),0)","v":0}]
["4-B.5","Cotation",null,null,null,null,null,{"$f":"IFERROR(IF(H156=0,0,1/(H156/MIN(IF($H$156:$AE$156<>0,$H$156:$AE$156)))),0)","v":0},null,{"$f":"IFERROR(IF(J156=0,0,1/(J156/MIN(IF($H$156:$AE$156<>0,$H$156:$AE$156)))),0)","v":0},null,{"$f":"IFERROR(IF(L156=0,0,1/(L156/MIN(IF($H$156:$AE$156<>0,$H$156:$AE$156)))),0)","v":0},null,{"$f":"IFERROR(IF(N156=0,0,1/(N156/MIN(IF($H$156:$AE$156<>0,$H$156:$AE$156)))),0)","v":0},null,{"$f":"IFERROR(IF(P156=0,0,1/(P156/MIN(IF($H$156:$AE$156<>0,$H$156:$AE$156)))),0)","v":0},null,{"$f":"IFERROR(IF(R156=0,0,1/(R156/MIN(IF($H$156:$AE$156<>0,$H$156:$AE$156)))),0)","v":0},null,{"$f":"IFERROR(IF(T156=0,0,1/(T156/MIN(IF($H$156:$AE$156<>0,$H$156:$AE$156)))),0)","v":0},null,{"$f":"IFERROR(IF(V156=0,0,1/(V156/MIN(IF($H$156:$AE$156<>0,$H$156:$AE$156)))),0)","v":0},null,{"$f":"IFERROR(IF(X156=0,0,1/(X156/MIN(IF($H$156:$AE$156<>0,$H$156:$AE$156)))),0)","v":0},null,{"$f":"IFERROR(IF(Z156=0,0,1/(Z156/MIN(IF($H$156:$AE$156<>0,$H$156:$AE$156)))),0)","v":0},null,{"$f":"IFERROR(IF(AB156=0,0,1/(AB156/MIN(IF($H$156:$AE$156<>0,$H$156:$AE$156)))),0)","v":0},null,{"$f":"IFERROR(IF(AD156=0,0,1/(AD156/MIN(IF($H$156:$AE$156<>0,$H$156:$AE$156)))),0)","v":0}]
["4-B.6","Zone saturée"]
["4-B.6.1","Composés inorganiques uniquement",null,null,null,{"$f":"IF('A-Outil sélection scénario'!L74<3,SUM('A-Outil sélection scénario'!E174,'A-Outil sélection scénario'!E175,'A-Outil sélection scénario'!E176),IF('A-Outil sélection scénario'!L74=3,SUM('A-Outil sélection scénario'!E175,'A-Outil sélection scénario'!E176),0))","v":0},"m3",{"$f":"IF(OR(H73=\"-\",H73=\"Ne s'applique pas\"),0,IF('A-Outil sélection scénario'!L74<3,('A-Outil sélection scénario'!E174*Menu_scenario!D32+'A-Outil sélection scénario'!E175*Menu_scenario!D33+'A-Outil sélection scénario'!E176*Menu_scenario!D34),IF('A-Outil sélection scénario'!L74=3,('A-Outil sélection scénario'!E175*Menu_scenario!D33+'A-Outil sélection scénario'!E176*Menu_scenario!D34),\"\")))","v":0},null,0,null,{"$f":"IF(OR(L73=\"-\",L73=\"Ne s'applique pas\"),0,IF($F$159>0,(AVERAGE(L$144:M$145)*$F159*2.1),0))","v":0},null,{"$f":"IF(OR(N73=\"-\",N73=\"Ne s'applique pas\"),0,IF($F$159>0,(AVERAGE(N$144:O$145)*$F159*2.1),0))","v":0},null,{"$f":"IF(OR(P73=\"-\",P73=\"Ne s'applique pas\"),0,IF($F$159>0,(AVERAGE(P$144:Q$145)*$F159*2.1),0))","v":0},null,{"$f":"IF(OR(R73=\"-\",R73=\"Ne s'applique pas\"),0,IF($F$159>0,(AVERAGE(R$144:S$145)*$F159*2.1),0))","v":0},null,{"$f":"IF(OR(T73=\"-\",T73=\"Ne s'applique pas\"),0,IF($F$159>0,(AVERAGE(T$144:U$145)*$F159*2.1),0))","v":0},null,{"$f":"IF(OR(V73=\"-\",V73=\"Ne s'applique pas\"),0,IF($F$159>0,(AVERAGE(V$144:W$145)*$F159*2.1),0))","v":0},null,{"$f":"IF(OR(X73=\"-\",X73=\"Ne s'applique pas\"),0,IF($F$159>0,(AVERAGE(X$144:Y$145)*$F159*2.1),0))","v":0},null,{"$f":"IF(OR(Z73=\"-\",Z73=\"Ne s'applique pas\"),0,IF($F$159>0,(AVERAGE(Z$144:AA$145)*$F159*2.1),0))","v":0},null,{"$f":"IF(OR(AB73=\"-\",AB73=\"Ne s'applique pas\"),0,IF($F$159>0,(AVERAGE(AB$144:AC$145)*$F159*2.1),0))","v":0},null,{"$f":"IF(OR(AD73=\"-\",AD73=\"Ne s'applique pas\"),0,IF($F$159>0,(AVERAGE(AD$144:AE$145)*$F159*2.1),0))","v":0}]
["4-B.6.2","Composés organiques (produits pétroliers et COV) uniquement",null,null,null,{"$f":"IF('A-Outil sélection scénario'!L74<3,SUM('A-Outil sélection scénario'!E178,'A-Outil sélection scénario'!E179,'A-Outil sélection scénario'!E180),IF('A-Outil sélection scénario'!L74=3,SUM('A-Outil sélection scénario'!E179,'A-Outil sélection scénario'!E180),0))","v":0},"m3",{"$f":"IF(OR(H74=\"-\",H74=\"Ne s'applique pas\"),0,IF('A-Outil sélection scénario'!L74<3,('A-Outil sélection scénario'!E178*Menu_scenario!D32+'A-Outil sélection scénario'!E179*Menu_scenario!D33+'A-Outil sélection scénario'!E180*Menu_scenario!D34),IF('A-Outil sélection scénario'!L74=3,('A-Outil sélection scénario'!E179*Menu_scenario!D33+'A-Outil sélection scénario'!E180*Menu_scenario!D34),\"\")))","v":0},null,0,null,{"$f":"IF(OR(L74=\"-\",L74=\"Ne s'applique pas\"),0,IF($F$160>0,(AVERAGE(L$144:M$145)*$F160*2.1),0))","v":0},null,{"$f":"IF(OR(N74=\"-\",N74=\"Ne s'applique pas\"),0,IF($F$160>0,(AVERAGE(N$144:O$145)*$F160*2.1),0))","v":0},null,{"$f":"IF(OR(P74=\"-\",P74=\"Ne s'applique pas\"),0,IF($F$160>0,(AVERAGE(P$144:Q$145)*$F160*2.1),0))","v":0},null,{"$f":"IF(OR(R74=\"-\",R74=\"Ne s'applique pas\"),0,IF($F$160>0,(AVERAGE(R$144:S$145)*$F160*2.1),0))","v":0},null,{"$f":"IF(OR(T74=\"-\",T74=\"Ne s'applique pas\"),0,IF($F$160>0,(AVERAGE(T$144:U$145)*$F160*2.1),0))","v":0},null,{"$f":"IF(OR(V74=\"-\",V74=\"Ne s'applique pas\"),0,IF($F$160>0,(AVERAGE(V$144:W$145)*$F160*2.1),0))","v":0},null,{"$f":"IF(OR(X74=\"-\",X74=\"Ne s'applique pas\"),0,IF($F$160>0,(AVERAGE(X$144:Y$145)*$F160*2.1),0))","v":0},null,{"$f":"IF(OR(Z74=\"-\",Z74=\"Ne s'applique pas\"),0,IF($F$160>0,(AVERAGE(Z$144:AA$145)*$F160*2.1),0))","v":0},null,{"$f":"IF(OR(AB74=\"-\",AB74=\"Ne s'applique pas\"),0,IF($F$160>0,(AVERAGE(AB$144:AC$145)*$F160*2.1),0))","v":0},null,{"$f":"IF(OR(AD74=\"-\",AD74=\"Ne s'applique pas\"),0,IF($F$160>0,(AVERAGE(AD$144:AE$145)*$F160*2.1),0))","v":0}]
["4-B.6.3","Autres composés organiques uniquement",null,null,null,{"$f":"IF('A-Outil sélection scénario'!L74<3,SUM('A-Outil sélection scénario'!E182,'A-Outil sélection scénario'!E183,'A-Outil sélection scénario'!E184),IF('A-Outil sélection scénario'!L74=3,SUM('A-Outil sélection scénario'!E183,'A-Outil sélection scénario'!E184),0))","v":0},"m3",{"$f":"IF(OR(H75=\"-\",H75=\"Ne s'applique pas\"),0,IF('A-Outil sélection scénario'!L74<3,('A-Outil sélection scénario'!E182*Menu_scenario!D32+'A-Outil sélection scénario'!E183*Menu_scenario!D33+'A-Outil sélection scénario'!E184*Menu_scenario!D34),IF('A-Outil sélection scénario'!L74=3,('A-Outil sélection scénario'!E183*Menu_scenario!D33+'A-Outil sélection scénario'!E184*Menu_scenario!D34),\"\")))","v":0},null,0,null,{"$f":"IF(OR(L75=\"-\",L75=\"Ne s'applique pas\"),0,IF($F$161>0,(AVERAGE(L$144:M$145)*$F161*2.1),0))","v":0},null,{"$f":"IF(OR(N75=\"-\",N75=\"Ne s'applique pas\"),0,IF($F$161>0,(AVERAGE(N$144:O$145)*$F161*2.1),0))","v":0},null,{"$f":"IF(OR(P75=\"-\",P75=\"Ne s'applique pas\"),0,IF($F$161>0,(AVERAGE(P$144:Q$145)*$F161*2.1),0))","v":0},null,{"$f":"IF(OR(R75=\"-\",R75=\"Ne s'applique pas\"),0,IF($F$161>0,(AVERAGE(R$144:S$145)*$F161*2.1),0))","v":0},null,{"$f":"IF(OR(T75=\"-\",T75=\"Ne s'applique pas\"),0,IF($F$161>0,(AVERAGE(T$144:U$145)*$F161*2.1),0))","v":0},null,{"$f":"IF(OR(V75=\"-\",V75=\"Ne s'applique pas\"),0,IF($F$161>0,(AVERAGE(V$144:W$145)*$F161*2.1),0))","v":0},null,{"$f":"IF(OR(X75=\"-\",X75=\"Ne s'applique pas\"),0,IF($F$161>0,(AVERAGE(X$144:Y$145)*$F161*2.1),0))","v":0},null,{"$f":"IF(OR(Z75=\"-\",Z75=\"Ne s'applique pas\"),0,IF($F$161>0,(AVERAGE(Z$144:AA$145)*$F161*2.1),0))","v":0},null,{"$f":"IF(OR(AB75=\"-\",AB75=\"Ne s'applique pas\"),0,IF($F$161>0,(AVERAGE(AB$144:AC$145)*$F161*2.1),0))","v":0},null,{"$f":"IF(OR(AD75=\"-\",AD75=\"Ne s'applique pas\"),0,IF($F$161>0,(AVERAGE(AD$144:AE$145)*$F161*2.1),0))","v":0}]
["4-B.6.4","Contamination mixte: inorganique et organique (produits pétroliers et COV)",null,null,null,{"$f":"IF('A-Outil sélection scénario'!L74<3,SUM('A-Outil sélection scénario'!E186,'A-Outil sélection scénario'!E187,'A-Outil sélection scénario'!E188),IF('A-Outil sélection scénario'!L74=3,SUM('A-Outil sélection scénario'!E187,'A-Outil sélection scénario'!E188),0))","v":0},"m3",{"$f":"IF(OR(H73=\"-\",H73=\"Ne s'applique pas\",H74=\"-\",H74=\"Ne s'applique pas\"),0,IF('A-Outil sélection scénario'!L74<3,('A-Outil sélection scénario'!E186*Menu_scenario!D32+'A-Outil sélection scénario'!E187*Menu_scenario!D33+'A-Outil sélection scénario'!E188*Menu_scenario!D34),IF('A-Outil sélection scénario'!L74=3,('A-Outil sélection scénario'!E187*Menu_scenario!D33+'A-Outil sélection scénario'!E188*Menu_scenario!D34),\"\")))","v":0},null,0,null,{"$f":"IF(OR(L73=\"-\",L73=\"Ne s'applique pas\",L74=\"-\",L74=\"Ne s'applique pas\"),0,IF($F$162>0,(AVERAGE(L$144:M$145)*$F$162*2.1),0))","v":0},null,{"$f":"IF(OR(N73=\"-\",N73=\"Ne s'applique pas\",N74=\"-\",N74=\"Ne s'applique pas\"),0,IF($F$162>0,(AVERAGE(N$144:O$145)*$F$162*2.1),0))","v":0},null,{"$f":"IF(OR(P73=\"-\",P73=\"Ne s'applique pas\",P74=\"-\",P74=\"Ne s'applique pas\"),0,IF($F$162>0,(AVERAGE(P$144:Q$145)*$F$162*2.1),0))","v":0},null,{"$f":"IF(OR(R73=\"-\",R73=\"Ne s'applique pas\",R74=\"-\",R74=\"Ne s'applique pas\"),0,IF($F$162>0,(AVERAGE(R$144:S$145)*$F$162*2.1),0))","v":0},null,{"$f":"IF(OR(T73=\"-\",T73=\"Ne s'applique pas\",T74=\"-\",T74=\"Ne s'applique pas\"),0,IF($F$162>0,(AVERAGE(T$144:U$145)*$F$162*2.1),0))","v":0},null,{"$f":"IF(OR(V73=\"-\",V73=\"Ne s'applique pas\",V74=\"-\",V74=\"Ne s'applique pas\"),0,IF($F$162>0,(AVERAGE(V$144:W$145)*$F$162*2.1),0))","v":0},null,{"$f":"IF(OR(X73=\"-\",X73=\"Ne s'applique pas\",X74=\"-\",X74=\"Ne s'applique pas\"),0,IF($F$162>0,(AVERAGE(X$144:Y$145)*$F$162*2.1),0))","v":0},null,{"$f":"IF(OR(Z73=\"-\",Z73=\"Ne s'applique pas\",Z74=\"-\",Z74=\"Ne s'applique pas\"),0,IF($F$162>0,(AVERAGE(Z$144:AA$145)*$F$162*2.1),0))","v":0},null,{"$f":"IF(OR(AB73=\"-\",AB73=\"Ne s'applique pas\",AB74=\"-\",AB74=\"Ne s'applique pas\"),0,IF($F$162>0,(AVERAGE(AB$144:AC$145)*$F$162*2.1),0))","v":0},null,{"$f":"IF(OR(AD73=\"-\",AD73=\"Ne s'applique pas\",AD74=\"-\",AD74=\"Ne s'applique pas\"),0,IF($F$162>0,(AVERAGE(AD$144:AE$145)*$F$162*2.1),0))","v":0}]
["4-B.6.5","Contamination mixte: inorganique et autres composés organiques",null,null,null,{"$f":"IF('A-Outil sélection scénario'!L74<3,SUM('A-Outil sélection scénario'!E190,'A-Outil sélection scénario'!E191,'A-Outil sélection scénario'!E192),IF('A-Outil sélection scénario'!L74=3,SUM('A-Outil sélection scénario'!E191,'A-Outil sélection scénario'!E192),0))","v":0},"m3",{"$f":"IF(OR(H73=\"-\",H73=\"Ne s'applique pas\",H75=\"-\",H75=\"Ne s'applique pas\"),0,IF('A-Outil sélection scénario'!L74<3,('A-Outil sélection scénario'!E190*Menu_scenario!D32+'A-Outil sélection scénario'!E191*Menu_scenario!D33+'A-Outil sélection scénario'!E192*Menu_scenario!D34),IF('A-Outil sélection scénario'!L74=3,('A-Outil sélection scénario'!E191*Menu_scenario!D33+'A-Outil sélection scénario'!E192*Menu_scenario!D34),\"\")))","v":0},null,0,null,{"$f":"IF(OR(L73=\"-\",L73=\"Ne s'applique pas\",L75=\"-\",L75=\"Ne s'applique pas\"),0,IF($F$163>0,(AVERAGE(L$144:M$145)*$F$163*2.1),0))","v":0},null,{"$f":"IF(OR(N73=\"-\",N73=\"Ne s'applique pas\",N75=\"-\",N75=\"Ne s'applique pas\"),0,IF($F$163>0,(AVERAGE(N$144:O$145)*$F$163*2.1),0))","v":0},null,{"$f":"IF(OR(P73=\"-\",P73=\"Ne s'applique pas\",P75=\"-\",P75=\"Ne s'applique pas\"),0,IF($F$163>0,(AVERAGE(P$144:Q$145)*$F$163*2.1),0))","v":0},null,{"$f":"IF(OR(R73=\"-\",R73=\"Ne s'applique pas\",R75=\"-\",R75=\"Ne s'applique pas\"),0,IF($F$163>0,(AVERAGE(R$144:S$145)*$F$163*2.1),0))","v":0},null,{"$f":"IF(OR(T73=\"-\",T73=\"Ne s'applique pas\",T75=\"-\",T75=\"Ne s'applique pas\"),0,IF($F$163>0,(AVERAGE(T$144:U$145)*$F$163*2.1),0))","v":0},null,{"$f":"IF(OR(V73=\"-\",V73=\"Ne s'applique pas\",V75=\"-\",V75=\"Ne s'applique pas\"),0,IF($F$163>0,(AVERAGE(V$144:W$145)*$F$163*2.1),0))","v":0},null,{"$f":"IF(OR(X73=\"-\",X73=\"Ne s'applique pas\",X75=\"-\",X75=\"Ne s'applique pas\"),0,IF($F$163>0,(AVERAGE(X$144:Y$145)*$F$163*2.1),0))","v":0},null,{"$f":"IF(OR(Z73=\"-\",Z73=\"Ne s'applique pas\",Z75=\"-\",Z75=\"Ne s'applique pas\"),0,IF($F$163>0,(AVERAGE(Z$144:AA$145)*$F$163*2.1),0))","v":0},null,{"$f":"IF(OR(AB73=\"-\",AB73=\"Ne s'applique pas\",AB75=\"-\",AB75=\"Ne s'applique pas\"),0,IF($F$163>0,(AVERAGE(AB$144:AC$145)*$F$163*2.1),0))","v":0},null,{"$f":"IF(OR(AD73=\"-\",AD73=\"Ne s'applique pas\",AD75=\"-\",AD75=\"Ne s'applique pas\"),0,IF($F$163>0,(AVERAGE(AD$144:AE$145)*$F$163*2.1),0))","v":0}]
["4-B.6.6","Contamination mixte: organique (produits pétroliers et COV) et autres composés organiques",null,null,null,{"$f":"IF('A-Outil sélection scénario'!L74<3,SUM('A-Outil sélection scénario'!E194,'A-Outil sélection scénario'!E195,'A-Outil sélection scénario'!E196),IF('A-Outil sélection scénario'!L74=3,SUM('A-Outil sélection scénario'!E195,'A-Outil sélection scénario'!E196),0))","v":0},"m3",{"$f":"IF(OR(H74=\"-\",H74=\"Ne s'applique pas\",H75=\"-\",H75=\"Ne s'applique pas\"),0,IF('A-Outil sélection scénario'!L74<3,('A-Outil sélection scénario'!E194*Menu_scenario!D32+'A-Outil sélection scénario'!E195*Menu_scenario!D33+'A-Outil sélection scénario'!E196*Menu_scenario!D34),IF('A-Outil sélection scénario'!L74=3,('A-Outil sélection scénario'!E195*Menu_scenario!D33+'A-Outil sélection scénario'!E196*Menu_scenario!D34),\"\")))","v":0},null,0,null,{"$f":"IF(OR(L74=\"-\",L74=\"Ne s'applique pas\",L75=\"-\",L75=\"Ne s'applique pas\"),0,IF($F$164>0,(AVERAGE(L$144:M$145)*$F$164*2.1),0))","v":0},null,{"$f":"IF(OR(N74=\"-\",N74=\"Ne s'applique pas\",N75=\"-\",N75=\"Ne s'applique pas\"),0,IF($F$164>0,(AVERAGE(N$144:O$145)*$F$164*2.1),0))","v":0},null,{"$f":"IF(OR(P74=\"-\",P74=\"Ne s'applique pas\",P75=\"-\",P75=\"Ne s'applique pas\"),0,IF($F$164>0,(AVERAGE(P$144:Q$145)*$F$164*2.1),0))","v":0},null,{"$f":"IF(OR(R74=\"-\",R74=\"Ne s'applique pas\",R75=\"-\",R75=\"Ne s'applique pas\"),0,IF($F$164>0,(AVERAGE(R$144:S$145)*$F$164*2.1),0))","v":0},null,{"$f":"IF(OR(T74=\"-\",T74=\"Ne s'applique pas\",T75=\"-\",T75=\"Ne s'applique pas\"),0,IF($F$164>0,(AVERAGE(T$144:U$145)*$F$164*2.1),0))","v":0},null,{"$f":"IF(OR(V74=\"-\",V74=\"Ne s'applique pas\",V75=\"-\",V75=\"Ne s'applique pas\"),0,IF($F$164>0,(AVERAGE(V$144:W$145)*$F$164*2.1),0))","v":0},null,{"$f":"IF(OR(X74=\"-\",X74=\"Ne s'applique pas\",X75=\"-\",X75=\"Ne s'applique pas\"),0,IF($F$164>0,(AVERAGE(X$144:Y$145)*$F$164*2.1),0))","v":0},null,{"$f":"IF(OR(Z74=\"-\",Z74=\"Ne s'applique pas\",Z75=\"-\",Z75=\"Ne s'applique pas\"),0,IF($F$164>0,(AVERAGE(Z$144:AA$145)*$F$164*2.1),0))","v":0},null,{"$f":"IF(OR(AB74=\"-\",AB74=\"Ne s'applique pas\",AB75=\"-\",AB75=\"Ne s'applique pas\"),0,IF($F$164>0,(AVERAGE(AB$144:AC$145)*$F$164*2.1),0))","v":0},null,{"$f":"IF(OR(AD74=\"-\",AD74=\"Ne s'applique pas\",AD75=\"-\",AD75=\"Ne s'applique pas\"),0,IF($F$164>0,(AVERAGE(AD$144:AE$145)*$F$164*2.1),0))","v":0}]
["4-B.6.7","Contamination mixte: inorganique, organique (produits pétroliers et COV) et autres composés organique",null,null,null,{"$f":"IF('A-Outil sélection scénario'!L74<3,SUM('A-Outil sélection scénario'!E198,'A-Outil sélection scénario'!E199,'A-Outil sélection scénario'!E200),IF('A-Outil sélection scénario'!L74=3,SUM('A-Outil sélection scénario'!E199,'A-Outil sélection scénario'!E200),0))","v":0},"m3",{"$f":"IF(OR(H73=\"-\",H73=\"Ne s'applique pas\",H74=\"-\",H74=\"Ne s'applique pas\",H75=\"-\",H75=\"Ne s'applique pas\"),0,IF('A-Outil sélection scénario'!L74<3,('A-Outil sélection scénario'!E198*Menu_scenario!D32+'A-Outil sélection scénario'!E199*Menu_scenario!D33+'A-Outil sélection scénario'!E200*Menu_scenario!D34),IF('A-Outil sélection scénario'!L74=3,('A-Outil sélection scénario'!E199*Menu_scenario!D33+'A-Outil sélection scénario'!E200*Menu_scenario!D34),\"\")))","v":0},null,0,null,{"$f":"IF(OR(L73=\"-\",L73=\"Ne s'applique pas\",L74=\"-\",L74=\"Ne s'applique pas\",L75=\"-\",L75=\"Ne s'applique pas\"),0,IF($F$165>0,(AVERAGE(L$144:M$145)*$F$165*2.1),0))","v":0},null,{"$f":"IF(OR(N73=\"-\",N73=\"Ne s'applique pas\",N74=\"-\",N74=\"Ne s'applique pas\",N75=\"-\",N75=\"Ne s'applique pas\"),0,IF($F$165>0,(AVERAGE(N$144:O$145)*$F$165*2.1),0))","v":0},null,{"$f":"IF(OR(P73=\"-\",P73=\"Ne s'applique pas\",P74=\"-\",P74=\"Ne s'applique pas\",P75=\"-\",P75=\"Ne s'applique pas\"),0,IF($F$165>0,(AVERAGE(P$144:Q$145)*$F$165*2.1),0))","v":0},null,{"$f":"IF(OR(R73=\"-\",R73=\"Ne s'applique pas\",R74=\"-\",R74=\"Ne s'applique pas\",R75=\"-\",R75=\"Ne s'applique pas\"),0,IF($F$165>0,(AVERAGE(R$144:S$145)*$F$165*2.1),0))","v":0},null,{"$f":"IF(OR(T73=\"-\",T73=\"Ne s'applique pas\",T74=\"-\",T74=\"Ne s'applique pas\",T75=\"-\",T75=\"Ne s'applique pas\"),0,IF($F$165>0,(AVERAGE(T$144:U$145)*$F$165*2.1),0))","v":0},null,{"$f":"IF(OR(V73=\"-\",V73=\"Ne s'applique pas\",V74=\"-\",V74=\"Ne s'applique pas\",V75=\"-\",V75=\"Ne s'applique pas\"),0,IF($F$165>0,(AVERAGE(V$144:W$145)*$F$165*2.1),0))","v":0},null,{"$f":"IF(OR(X73=\"-\",X73=\"Ne s'applique pas\",X74=\"-\",X74=\"Ne s'applique pas\",X75=\"-\",X75=\"Ne s'applique pas\"),0,IF($F$165>0,(AVERAGE(X$144:Y$145)*$F$165*2.1),0))","v":0},null,{"$f":"IF(OR(Z73=\"-\",Z73=\"Ne s'applique pas\",Z74=\"-\",Z74=\"Ne s'applique pas\",Z75=\"-\",Z75=\"Ne s'applique pas\"),0,IF($F$165>0,(AVERAGE(Z$144:AA$145)*$F$165*2.1),0))","v":0},null,{"$f":"IF(OR(AB73=\"-\",AB73=\"Ne s'applique pas\",AB74=\"-\",AB74=\"Ne s'applique pas\",AB75=\"-\",AB75=\"Ne s'applique pas\"),0,IF($F$165>0,(AVERAGE(AB$144:AC$145)*$F$165*2.1),0))","v":0},null,{"$f":"IF(OR(AD73=\"-\",AD73=\"Ne s'applique pas\",AD74=\"-\",AD74=\"Ne s'applique pas\",AD75=\"-\",AD75=\"Ne s'applique pas\"),0,IF($F$165>0,(AVERAGE(AD$144:AE$145)*$F$165*2.1),0))","v":0}]
["4-B.6.8","MRND",null,null,null,{"$f":"'A-Outil sélection scénario'!E202","v":0},"m3",{"$f":"IF(H77=\"-\",0,IF(OR(H23=\"-\",H23=\"Ne s'applique pas\"),0,(Menu_scenario!$D$35*$F$166)))","v":0},null,0,null,{"$f":"IF(L77=\"-\",0,IF(OR(L23=\"-\",L23=\"Ne s'applique pas\"),0,(Menu_scenario!$D$35*$F$166)))","v":0},null,{"$f":"IF(N77=\"-\",0,IF(OR(N23=\"-\",N23=\"Ne s'applique pas\"),0,(Menu_scenario!$D$35*$F$166)))","v":0},null,{"$f":"IF(P77=\"-\",0,IF(OR(P23=\"-\",P23=\"Ne s'applique pas\"),0,(Menu_scenario!$D$35*$F$166)))","v":0},null,{"$f":"IF(R77=\"-\",0,IF(OR(R23=\"-\",R23=\"Ne s'applique pas\"),0,(Menu_scenario!$D$35*$F$166)))","v":0},null,{"$f":"IF(T77=\"-\",0,IF(OR(T23=\"-\",T23=\"Ne s'applique pas\"),0,(AVERAGE(T$144:U$145)*$F$166*2.1)))","v":0},null,{"$f":"IF(V77=\"-\",0,IF(OR(V23=\"-\",V23=\"Ne s'applique pas\"),0,(AVERAGE(V$144:W$145)*$F$166*2.1)))","v":0},null,{"$f":"IF(X77=\"-\",0,IF(OR(X23=\"-\",X23=\"Ne s'applique pas\"),0,(AVERAGE(X$144:Y$145)*$F$166*2.1)))","v":0},null,{"$f":"IF(Z77=\"-\",0,IF(OR(Z23=\"-\",Z23=\"Ne s'applique pas\"),0,(AVERAGE(Z$144:AA$145)*$F$166*2.1)))","v":0},null,{"$f":"IF(AB77=\"-\",0,IF(OR(AB23=\"-\",AB23=\"Ne s'applique pas\"),0,(AVERAGE(AB$144:AC$145)*$F$166*2.1)))","v":0},null,{"$f":"IF(AD77=\"-\",0,IF(OR(AD23=\"-\",AD23=\"Ne s'applique pas\"),0,(AVERAGE(AD$144:AE$145)*$F$166*2.1)))","v":0}]
["4-B.6.9","MRD",null,null,null,{"$f":"'A-Outil sélection scénario'!E203","v":0},"m3",{"$f":"IF(H77=\"-\",0,IF(OR(H23=\"-\",H23=\"Ne s'applique pas\"),0,(Menu_scenario!$D$36*$F$167)))","v":0},null,0,null,{"$f":"IF(L77=\"-\",0,IF(OR(L23=\"-\",L23=\"Ne s'applique pas\"),0,(Menu_scenario!$D$36*$F$167)))","v":0},null,{"$f":"IF(N77=\"-\",0,IF(OR(N23=\"-\",N23=\"Ne s'applique pas\"),0,(Menu_scenario!$D$36*$F$167)))","v":0},null,{"$f":"IF(P77=\"-\",0,IF(OR(P23=\"-\",P23=\"Ne s'applique pas\"),0,(Menu_scenario!$D$36*$F$167)))","v":0},null,{"$f":"IF(R77=\"-\",0,IF(OR(R23=\"-\",R23=\"Ne s'applique pas\"),0,(Menu_scenario!$D$36*$F$167)))","v":0},null,{"$f":"IF(T77=\"-\",0,IF(OR(T23=\"-\",T23=\"Ne s'applique pas\"),0,(AVERAGE(T$144:U$145)*$F$167*2.1)))","v":0},null,{"$f":"IF(V77=\"-\",0,IF(OR(V23=\"-\",V23=\"Ne s'applique pas\"),0,(AVERAGE(V$144:W$145)*$F$167*2.1)))","v":0},null,{"$f":"IF(X77=\"-\",0,IF(OR(X23=\"-\",X23=\"Ne s'applique pas\"),0,(AVERAGE(X$144:Y$145)*$F$167*2.1)))","v":0},null,{"$f":"IF(Z77=\"-\",0,IF(OR(Z23=\"-\",Z23=\"Ne s'applique pas\"),0,(AVERAGE(Z$144:AA$145)*$F$167*2.1)))","v":0},null,{"$f":"IF(AB77=\"-\",0,IF(OR(AB23=\"-\",AB23=\"Ne s'applique pas\"),0,(AVERAGE(AB$144:AC$145)*$F$167*2.1)))","v":0},null,{"$f":"IF(AD77=\"-\",0,IF(OR(AD23=\"-\",AD23=\"Ne s'applique pas\"),0,(AVERAGE(AD$144:AE$145)*$F$167*2.1)))","v":0}]
["4-B.7","Somme avec addition et majoration",null,null,null,"$/m3",null,{"$f":"IF(SUM(H159:I167)=0,0,(SUM(H159:I167)*(1+H142)+H130)/H194)","v":0},null,{"$f":"IFERROR((SUM(J159:K167)*(1+J142)+J130)/J194,0)","v":0},null,{"$f":"IFERROR(IF(SUM(L159:M167)=0,0,(SUM(L159:M167)*(1+L142)+L130)/L194),0)","v":0},null,{"$f":"IFERROR(IF(SUM(N159:O167)=0,0,(SUM(N159:O167)*(1+N142)+N130)/N194),0)","v":0},null,{"$f":"IFERROR(IF(SUM(P159:Q167)=0,0,(SUM(P159:Q167)*(1+P142)+P130)/P194),0)","v":0},null,{"$f":"IFERROR(IF(SUM(R159:S167)=0,0,(SUM(R159:S167)*(1+R142)+R130)/R194),0)","v":0},null,{"$f":"IFERROR(IF(SUM(T159:U167)=0,0,(SUM(T159:U167)*(1+T142)+T130)/T194),0)","v":0},null,{"$f":"IFERROR(IF(SUM(V159:W167)=0,0,(SUM(V159:W167)*(1+V142)+V130)/V194),0)","v":0},null,{"$f":"IFERROR(IF(SUM(X159:Y167)=0,0,(SUM(X159:Y167)*(1+X142)+X130)/X194),0)","v":0},null,{"$f":"IFERROR(IF(SUM(Z159:AA167)=0,0,(SUM(Z159:AA167)*(1+Z142)+Z130)/Z194),0)","v":0},null,{"$f":"IFERROR(IF(SUM(AB159:AC167)=0,0,(SUM(AB159:AC167)*(1+AB142)+AB130)/AB194),0)","v":0},null,{"$f":"IFERROR(IF(SUM(AD159:AE167)=0,0,(SUM(AD159:AE167)*(1+AD142)+AD130)/AD194),0)","v":0}]
["4-B.8","Cotation",null,null,null,null,null,{"$f":"IFERROR(IF(H168=0,0,1/(H168/MIN(IF($H$168:$AE$168<>0,$H$168:$AE$168)))),0)","v":0},null,{"$f":"IFERROR(IF(J168=0,0,1/(J168/MIN(IF($H$168:$AE$168<>0,$H$168:$AE$168)))),0)","v":0},null,{"$f":"IFERROR(IF(L168=0,0,1/(L168/MIN(IF($H$168:$AE$168<>0,$H$168:$AE$168)))),0)","v":0},null,{"$f":"IFERROR(IF(N168=0,0,1/(N168/MIN(IF($H$168:$AE$168<>0,$H$168:$AE$168)))),0)","v":0},null,{"$f":"IFERROR(IF(P168=0,0,1/(P168/MIN(IF($H$168:$AE$168<>0,$H$168:$AE$168)))),0)","v":0},null,{"$f":"IFERROR(IF(R168=0,0,1/(R168/MIN(IF($H$168:$AE$168<>0,$H$168:$AE$168)))),0)","v":0},null,{"$f":"IFERROR(IF(T168=0,0,1/(T168/MIN(IF($H$168:$AE$168<>0,$H$168:$AE$168)))),0)","v":0},null,{"$f":"IFERROR(IF(V168=0,0,1/(V168/MIN(IF($H$168:$AE$168<>0,$H$168:$AE$168)))),0)","v":0},null,{"$f":"IFERROR(IF(X168=0,0,1/(X168/MIN(IF($H$168:$AE$168<>0,$H$168:$AE$168)))),0)","v":0},null,{"$f":"IFERROR(IF(Z168=0,0,1/(Z168/MIN(IF($H$168:$AE$168<>0,$H$168:$AE$168)))),0)","v":0},null,{"$f":"IFERROR(IF(AB168=0,0,1/(AB168/MIN(IF($H$168:$AE$168<>0,$H$168:$AE$168)))),0)","v":0},null,{"$f":"IFERROR(IF(AD168=0,0,1/(AD168/MIN(IF($H$168:$AE$168<>0,$H$168:$AE$168)))),0)","v":0}]
[null,null,null,null,null,null,null,null,null,null,null,{"$f":"SUM(L178:L180,L187:L189)","v":0},null,{"$f":"SUM(N178:N180,N187:N189)","v":0},null,{"$f":"SUM(P178:P180,P187:P189)","v":0},null,{"$f":"SUM(R178:R180,R187:R189)","v":0},null,{"$f":"SUM(T178:T180,T187:T189)","v":0},null,{"$f":"SUM(V178:V180,V187:V189)","v":0},null,{"$f":"SUM(X178:X180,X187:X189)","v":0},null,{"$f":"SUM(Z178:Z180,Z187:Z189)","v":0},null,{"$f":"SUM(AB178:AB180,AB187:AB189)","v":0},null,{"$f":"SUM(AD178:AD180,AD187:AD189)","v":0}]
["5.","Évaluation des méthodes de réhabilitation potentielles"]
["5.1","Réhabilitation de la zone vadose","Faisabilité technique - inorganique",null,null,{"$f":"IF('A-Outil sélection scénario'!E209=\"Oui\",0.25,'A-Outil sélection scénario'!E210)","v":0.25},null,{"$f":"IF(H34=\"-\",0,IF(OR(H26=\"Ne s'applique pas\",H34=\"Ne s'applique pas\"),0,IF(AND(H26=\"S'applique\",H34=\"S'applique\"),1,IF(AND(H26=\"S'applique\",H34=\"Avec restrictions\"),0.5,\"-\"))))","v":0},null,{"$f":"IF(J34=\"-\",0,IF(OR(J26=\"Ne s'applique pas\",J34=\"Ne s'applique pas\"),0,IF(AND(J26=\"S'applique\",J34=\"S'applique\"),1,IF(AND(J26=\"S'applique\",J34=\"Avec restrictions\"),0.5,\"-\"))))","v":0},null,{"$f":"IF(L34=\"-\",0,IF(OR(L26=\"Ne s'applique pas\",L34=\"Ne s'applique pas\"),0,IF(AND(L26=\"S'applique\",L34=\"S'applique\"),1,IF(AND(L26=\"S'applique\",L34=\"Avec restrictions\"),0.5,\"-\"))))","v":0},null,{"$f":"IF(N34=\"-\",0,IF(OR(N26=\"Ne s'applique pas\",N34=\"Ne s'applique pas\"),0,IF(AND(N26=\"S'applique\",N34=\"S'applique\"),1,IF(AND(N26=\"S'applique\",N34=\"Avec restrictions\"),0.5,\"-\"))))","v":0},null,{"$f":"IF(P34=\"-\",0,IF(OR(P26=\"Ne s'applique pas\",P34=\"Ne s'applique pas\"),0,IF(AND(P26=\"S'applique\",P34=\"S'applique\"),1,IF(AND(P26=\"S'applique\",P34=\"Avec restrictions\"),0.5,\"-\"))))","v":0},null,{"$f":"IF(R34=\"-\",0,IF(OR(R26=\"Ne s'applique pas\",R34=\"Ne s'applique pas\"),0,IF(AND(R26=\"S'applique\",R34=\"S'applique\"),1,IF(AND(R26=\"S'applique\",R34=\"Avec restrictions\"),0.5,\"-\"))))","v":0},null,{"$f":"IF(T34=\"-\",0,IF(OR(T26=\"Ne s'applique pas\",T34=\"Ne s'applique pas\"),0,IF(AND(T26=\"S'applique\",T34=\"S'applique\"),1,IF(AND(T26=\"S'applique\",T34=\"Avec restrictions\"),0.5,\"-\"))))","v":0},null,{"$f":"IF(V34=\"-\",0,IF(OR(V26=\"Ne s'applique pas\",V34=\"Ne s'applique pas\"),0,IF(AND(V26=\"S'applique\",V34=\"S'applique\"),1,IF(AND(V26=\"S'applique\",V34=\"Avec restrictions\"),0.5,\"-\"))))","v":0},null,{"$f":"IF(X34=\"-\",0,IF(OR(X26=\"Ne s'applique pas\",X34=\"Ne s'applique pas\"),0,IF(AND(X26=\"S'applique\",X34=\"S'applique\"),1,IF(AND(X26=\"S'applique\",X34=\"Avec restrictions\"),0.5,\"-\"))))","v":0},null,{"$f":"IF(Z34=\"-\",0,IF(OR(Z26=\"Ne s'applique pas\",Z34=\"Ne s'applique pas\"),0,IF(AND(Z26=\"S'applique\",Z34=\"S'applique\"),1,IF(AND(Z26=\"S'applique\",Z34=\"Avec restrictions\"),0.5,\"-\"))))","v":0},null,{"$f":"IF(AB34=\"-\",0,IF(OR(AB26=\"Ne s'applique pas\",AB34=\"Ne s'applique pas\"),0,IF(AND(AB26=\"S'applique\",AB34=\"S'applique\"),1,IF(AND(AB26=\"S'applique\",AB34=\"Avec restrictions\"),0.5,\"-\"))))","v":0},null,{"$f":"IF(AD34=\"-\",0,IF(OR(AD26=\"Ne s'applique pas\",AD34=\"Ne s'applique pas\"),0,IF(AND(AD26=\"S'applique\",AD34=\"S'applique\"),1,IF(AND(AD26=\"S'applique\",AD34=\"Avec restrictions\"),0.5,\"-\"))))","v":0}]
["5.2",null,"Faisabilité technique - organique (produits pétroliers, COV)",null,null,null,null,{"$f":"IF(H40=\"-\",0,IF(OR(H26=\"Ne s'applique pas\",H40=\"Ne s'applique pas\"),0,IF(AND(H26=\"S'applique\",H40=\"S'applique\"),1,IF(AND(H26=\"S'applique\",H40=\"Avec restrictions\"),0.5,\"-\"))))","v":0},null,{"$f":"IF(J40=\"-\",0,IF(OR(J26=\"Ne s'applique pas\",J40=\"Ne s'applique pas\"),0,IF(AND(J26=\"S'applique\",J40=\"S'applique\"),1,IF(AND(J26=\"S'applique\",J40=\"Avec restrictions\"),0.5,\"-\"))))","v":0},null,{"$f":"IF(L40=\"-\",0,IF(OR(L26=\"Ne s'applique pas\",L40=\"Ne s'applique pas\"),0,IF(AND(L26=\"S'applique\",L40=\"S'applique\"),1,IF(AND(L26=\"S'applique\",L40=\"Avec restrictions\"),0.5,\"-\"))))","v":0},null,{"$f":"IF(N40=\"-\",0,IF(OR(N26=\"Ne s'applique pas\",N40=\"Ne s'applique pas\"),0,IF(AND(N26=\"S'applique\",N40=\"S'applique\"),1,IF(AND(N26=\"S'applique\",N40=\"Avec restrictions\"),0.5,\"-\"))))","v":0},null,{"$f":"IF(P40=\"-\",0,IF(OR(P26=\"Ne s'applique pas\",P40=\"Ne s'applique pas\"),0,IF(AND(P26=\"S'applique\",P40=\"S'applique\"),1,IF(AND(P26=\"S'applique\",P40=\"Avec restrictions\"),0.5,\"-\"))))","v":0},null,{"$f":"IF(R40=\"-\",0,IF(OR(R26=\"Ne s'applique pas\",R40=\"Ne s'applique pas\"),0,IF(AND(R26=\"S'applique\",R40=\"S'applique\"),1,IF(AND(R26=\"S'applique\",R40=\"Avec restrictions\"),0.5,\"-\"))))","v":0},null,{"$f":"IF(T40=\"-\",0,IF(OR(T26=\"Ne s'applique pas\",T40=\"Ne s'applique pas\"),0,IF(AND(T26=\"S'applique\",T40=\"S'applique\"),1,IF(AND(T26=\"S'applique\",T40=\"Avec restrictions\"),0.5,\"-\"))))","v":0},null,{"$f":"IF(V40=\"-\",0,IF(OR(V26=\"Ne s'applique pas\",V40=\"Ne s'applique pas\"),0,IF(AND(V26=\"S'applique\",V40=\"S'applique\"),1,IF(AND(V26=\"S'applique\",V40=\"Avec restrictions\"),0.5,\"-\"))))","v":0},null,{"$f":"IF(X40=\"-\",0,IF(OR(X26=\"Ne s'applique pas\",X40=\"Ne s'applique pas\"),0,IF(AND(X26=\"S'applique\",X40=\"S'applique\"),1,IF(AND(X26=\"S'applique\",X40=\"Avec restrictions\"),0.5,\"-\"))))","v":0},null,{"$f":"IF(Z40=\"-\",0,IF(OR(Z26=\"Ne s'applique pas\",Z40=\"Ne s'applique pas\"),0,IF(AND(Z26=\"S'applique\",Z40=\"S'applique\"),1,IF(AND(Z26=\"S'applique\",Z40=\"Avec restrictions\"),0.5,\"-\"))))","v":0},null,{"$f":"IF(AB40=\"-\",0,IF(OR(AB26=\"Ne s'applique pas\",AB40=\"Ne s'applique pas\"),0,IF(AND(AB26=\"S'applique\",AB40=\"S'applique\"),1,IF(AND(AB26=\"S'applique\",AB40=\"Avec restrictions\"),0.5,\"-\"))))","v":0},null,{"$f":"IF(AD40=\"-\",0,IF(OR(AD26=\"Ne s'applique pas\",AD40=\"Ne s'applique pas\"),0,IF(AND(AD26=\"S'applique\",AD40=\"S'applique\"),1,IF(AND(AD26=\"S'applique\",AD40=\"Avec restrictions\"),0.5,\"-\"))))","v":0}]
["5.3",null,"Faisabilité technique - autres composés organiques",null,null,null,null,{"$f":"IF(H46=\"-\",0,IF(OR(H26=\"Ne s'applique pas\",H46=\"Ne s'applique pas\"),0,IF(AND(H26=\"S'applique\",H46=\"S'applique\"),1,IF(AND(H26=\"S'applique\",H46=\"Avec restrictions\"),0.5,\"-\"))))","v":0},null,{"$f":"IF(J46=\"-\",0,IF(OR(J26=\"Ne s'applique pas\",J46=\"Ne s'applique pas\"),0,IF(AND(J26=\"S'applique\",J46=\"S'applique\"),1,IF(AND(J26=\"S'applique\",J46=\"Avec restrictions\"),0.5,\"-\"))))","v":0},null,{"$f":"IF(L46=\"-\",0,IF(OR(L26=\"Ne s'applique pas\",L46=\"Ne s'applique pas\"),0,IF(AND(L26=\"S'applique\",L46=\"S'applique\"),1,IF(AND(L26=\"S'applique\",L46=\"Avec restrictions\"),0.5,\"-\"))))","v":0},null,{"$f":"IF(N46=\"-\",0,IF(OR(N26=\"Ne s'applique pas\",N46=\"Ne s'applique pas\"),0,IF(AND(N26=\"S'applique\",N46=\"S'applique\"),1,IF(AND(N26=\"S'applique\",N46=\"Avec restrictions\"),0.5,\"-\"))))","v":0},null,{"$f":"IF(P46=\"-\",0,IF(OR(P26=\"Ne s'applique pas\",P46=\"Ne s'applique pas\"),0,IF(AND(P26=\"S'applique\",P46=\"S'applique\"),1,IF(AND(P26=\"S'applique\",P46=\"Avec restrictions\"),0.5,\"-\"))))","v":0},null,{"$f":"IF(R46=\"-\",0,IF(OR(R26=\"Ne s'applique pas\",R46=\"Ne s'applique pas\"),0,IF(AND(R26=\"S'applique\",R46=\"S'applique\"),1,IF(AND(R26=\"S'applique\",R46=\"Avec restrictions\"),0.5,\"-\"))))","v":0},null,{"$f":"IF(T46=\"-\",0,IF(OR(T26=\"Ne s'applique pas\",T46=\"Ne s'applique pas\"),0,IF(AND(T26=\"S'applique\",T46=\"S'applique\"),1,IF(AND(T26=\"S'applique\",T46=\"Avec restrictions\"),0.5,\"-\"))))","v":0},null,{"$f":"IF(V46=\"-\",0,IF(OR(V26=\"Ne s'applique pas\",V46=\"Ne s'applique pas\"),0,IF(AND(V26=\"S'applique\",V46=\"S'applique\"),1,IF(AND(V26=\"S'applique\",V46=\"Avec restrictions\"),0.5,\"-\"))))","v":0},null,{"$f":"IF(X46=\"-\",0,IF(OR(X26=\"Ne s'applique pas\",X46=\"Ne s'applique pas\"),0,IF(AND(X26=\"S'applique\",X46=\"S'applique\"),1,IF(AND(X26=\"S'applique\",X46=\"Avec restrictions\"),0.5,\"-\"))))","v":0},null,{"$f":"IF(Z46=\"-\",0,IF(OR(Z26=\"Ne s'applique pas\",Z46=\"Ne s'applique pas\"),0,IF(AND(Z26=\"S'applique\",Z46=\"S'applique\"),1,IF(AND(Z26=\"S'applique\",Z46=\"Avec restrictions\"),0.5,\"-\"))))","v":0},null,{"$f":"IF(AB46=\"-\",0,IF(OR(AB26=\"Ne s'applique pas\",AB46=\"Ne s'applique pas\"),0,IF(AND(AB26=\"S'applique\",AB46=\"S'applique\"),1,IF(AND(AB26=\"S'applique\",AB46=\"Avec restrictions\"),0.5,\"-\"))))","v":0},null,{"$f":"IF(AD46=\"-\",0,IF(OR(AD26=\"Ne s'applique pas\",AD46=\"Ne s'applique pas\"),0,IF(AND(AD26=\"S'applique\",AD46=\"S'applique\"),1,IF(AND(AD26=\"S'applique\",AD46=\"Avec restrictions\"),0.5,\"-\"))))","v":0}]
["5.4",null,"Dimension sociale",null,null,{"$f":"IF('A-Outil sélection scénario'!E209=\"Oui\",0.25,'A-Outil sélection scénario'!E211)","v":0.25},null,{"$f":"H101","v":0},null,{"$f":"J101","v":0},null,{"$f":"L101","v":0},null,{"$f":"N101","v":0},null,{"$f":"P101","v":0},null,{"$f":"R101","v":0},null,{"$f":"T101","v":0},null,{"$f":"V101","v":0},null,{"$f":"X101","v":0},null,{"$f":"Z101","v":0},null,{"$f":"AB101","v":0},null,{"$f":"AD101","v":0}]
["5.5",null,"Impact environnemental",null,null,{"$f":"IF('A-Outil sélection scénario'!E209=\"Oui\",0.25,'A-Outil sélection scénario'!E212)","v":0.25},null,{"$f":"H121","v":0},null,{"$f":"J121","v":0},null,{"$f":"L121","v":0},null,{"$f":"N121","v":0},null,{"$f":"P121","v":0},null,{"$f":"R121","v":0},null,{"$f":"T121","v":0},null,{"$f":"V121","v":0},null,{"$f":"X121","v":0},null,{"$f":"Z121","v":0},null,{"$f":"AB121","v":0},null,{"$f":"AD121","v":0}]
["5.6",null,"Coûts de réhabilitation",null,null,{"$f":"IF('A-Outil sélection scénario'!E209=\"Oui\",0.25,'A-Outil sélection scénario'!E213)","v":0.25},null,{"$f":"H157","v":0},null,{"$f":"J157","v":0},null,{"$f":"L157","v":0},null,{"$f":"N157","v":0},null,{"$f":"P157","v":0},null,{"$f":"R157","v":0},null,{"$f":"T157","v":0},null,{"$f":"V157","v":0},null,{"$f":"X157","v":0},null,{"$f":"Z157","v":0},null,{"$f":"AB157","v":0},null,{"$f":"AD157","v":0}]
["5.7",null,"Notation - Composés inorganiques",null,null,null,null,{"$f":"IF(OR(H172=0,H172=\"-\"),0,(H172*$F$172/(COUNTIF(H172:I174,1)+COUNTIF(H172:I174,0.5)))+($F$175*H175)+($F$176*H176)+($F$177*H177))","v":0},null,{"$f":"IF(OR(J172=0,J172=\"-\"),0,(J172*$F$172/(COUNTIF(J172:K174,1)+COUNTIF(J172:K174,0.5)))+($F$175*J175)+($F$176*J176)+($F$177*J177))","v":0},null,{"$f":"IF(OR(L172=0,L172=\"-\"),0,(L172*$F$172/(COUNTIF(L172:M174,1)+COUNTIF(L172:M174,0.5)))+($F$175*L175)+($F$176*L176)+($F$177*L177))","v":0},null,{"$f":"IF(OR(N172=0,N172=\"-\"),0,(N172*$F$172/(COUNTIF(N172:O174,1)+COUNTIF(N172:O174,0.5)))+($F$175*N175)+($F$176*N176)+($F$177*N177))","v":0},null,{"$f":"IF(OR(P172=0,P172=\"-\"),0,(P172*$F$172/(COUNTIF(P172:Q174,1)+COUNTIF(P172:Q174,0.5)))+($F$175*P175)+($F$176*P176)+($F$177*P177))","v":0},null,{"$f":"IF(OR(R172=0,R172=\"-\"),0,(R172*$F$172/(COUNTIF(R172:S174,1)+COUNTIF(R172:S174,0.5)))+($F$175*R175)+($F$176*R176)+($F$177*R177))","v":0},null,{"$f":"IF(OR(T172=0,T172=\"-\"),0,(T172*$F$172/(COUNTIF(T172:U174,1)+COUNTIF(T172:U174,0.5)))+($F$175*T175)+($F$176*T176)+($F$177*T177))","v":0},null,{"$f":"IF(OR(V172=0,V172=\"-\"),0,(V172*$F$172/(COUNTIF(V172:W174,1)+COUNTIF(V172:W174,0.5)))+($F$175*V175)+($F$176*V176)+($F$177*V177))","v":0},null,{"$f":"IF(OR(X172=0,X172=\"-\"),0,(X172*$F$172/(COUNTIF(X172:Y174,1)+COUNTIF(X172:Y174,0.5)))+($F$175*X175)+($F$176*X176)+($F$177*X177))","v":0},null,{"$f":"IF(OR(Z172=0,Z172=\"-\"),0,(Z172*$F$172/(COUNTIF(Z172:AA174,1)+COUNTIF(Z172:AA174,0.5)))+($F$175*Z175)+($F$176*Z176)+($F$177*Z177))","v":0},null,{"$f":"IF(OR(AB172=0,AB172=\"-\"),0,(AB172*$F$172/(COUNTIF(AB172:AC174,1)+COUNTIF(AB172:AC174,0.5)))+($F$175*AB175)+($F$176*AB176)+($F$177*AB177))","v":0},null,{"$f":"IF(OR(AD172=0,AD172=\"-\"),0,(AD172*$F$172/(COUNTIF(AD172:AE174,1)+COUNTIF(AD172:AE174,0.5)))+($F$175*AD175)+($F$176*AD176)+($F$177*AD177))","v":0}]
["5.8",null,"Notation - Composés organiques (produits pétroliers et COV)",null,null,null,null,{"$f":"IF(OR(H173=0,H173=\"-\"),0,(H173*$F$172/(COUNTIF(H172:I174,1)+COUNTIF(H172:I174,0.5)))+($F$175*H175)+($F$176*H176)+($F$177*H177))","v":0},null,{"$f":"IF(OR(J173=0,J173=\"-\"),0,(J173*$F$172/(COUNTIF(J172:K174,1)+COUNTIF(J172:K174,0.5)))+($F$175*J175)+($F$176*J176)+($F$177*J177))","v":0},null,{"$f":"IF(OR(L173=0,L173=\"-\"),0,(L173*$F$172/(COUNTIF(L172:M174,1)+COUNTIF(L172:M174,0.5)))+($F$175*L175)+($F$176*L176)+($F$177*L177))","v":0},null,{"$f":"IF(OR(N173=0,N173=\"-\"),0,(N173*$F$172/(COUNTIF(N172:O174,1)+COUNTIF(N172:O174,0.5)))+($F$175*N175)+($F$176*N176)+($F$177*N177))","v":0},null,{"$f":"IF(OR(P173=0,P173=\"-\"),0,(P173*$F$172/(COUNTIF(P172:Q174,1)+COUNTIF(P172:Q174,0.5)))+($F$175*P175)+($F$176*P176)+($F$177*P177))","v":0},null,{"$f":"IF(OR(R173=0,R173=\"-\"),0,(R173*$F$172/(COUNTIF(R172:S174,1)+COUNTIF(R172:S174,0.5)))+($F$175*R175)+($F$176*R176)+($F$177*R177))","v":0},null,{"$f":"IF(OR(T173=0,T173=\"-\"),0,(T173*$F$172/(COUNTIF(T172:U174,1)+COUNTIF(T172:U174,0.5)))+($F$175*T175)+($F$176*T176)+($F$177*T177))","v":0},null,{"$f":"IF(OR(V173=0,V173=\"-\"),0,(V173*$F$172/(COUNTIF(V172:W174,1)+COUNTIF(V172:W174,0.5)))+($F$175*V175)+($F$176*V176)+($F$177*V177))","v":0},null,{"$f":"IF(OR(X173=0,X173=\"-\"),0,(X173*$F$172/(COUNTIF(X172:Y174,1)+COUNTIF(X172:Y174,0.5)))+($F$175*X175)+($F$176*X176)+($F$177*X177))","v":0},null,{"$f":"IF(OR(Z173=0,Z173=\"-\"),0,(Z173*$F$172/(COUNTIF(Z172:AA174,1)+COUNTIF(Z172:AA174,0.5)))+($F$175*Z175)+($F$176*Z176)+($F$177*Z177))","v":0},null,{"$f":"IF(OR(AB173=0,AB173=\"-\"),0,(AB173*$F$172/(COUNTIF(AB172:AC174,1)+COUNTIF(AB172:AC174,0.5)))+($F$175*AB175)+($F$176*AB176)+($F$177*AB177))","v":0},null,{"$f":"IF(OR(AD173=0,AD173=\"-\"),0,(AD173*$F$172/(COUNTIF(AD172:AE174,1)+COUNTIF(AD172:AE174,0.5)))+($F$175*AD175)+($F$176*AD176)+($F$177*AD177))","v":0}]
["5.9",null,"Notation - Autres composés organiques",null,null,null,null,{"$f":"IF(OR(H174=0,H174=\"-\"),0,(H174*$F$172/(COUNTIF(H172:I174,1)+COUNTIF(H172:I174,0.5)))+($F$175*H175)+($F$176*H176)+($F$177*H177))","v":0},null,{"$f":"IF(OR(J174=0,J174=\"-\"),0,(J174*$F$172/(COUNTIF(J172:K174,1)+COUNTIF(J172:K174,0.5)))+($F$175*J175)+($F$176*J176)+($F$177*J177))","v":0},null,{"$f":"IF(OR(L174=0,L174=\"-\"),0,(L174*$F$172/(COUNTIF(L172:M174,1)+COUNTIF(L172:M174,0.5)))+($F$175*L175)+($F$176*L176)+($F$177*L177))","v":0},null,{"$f":"IF(OR(N174=0,N174=\"-\"),0,(N174*$F$172/(COUNTIF(N172:O174,1)+COUNTIF(N172:O174,0.5)))+($F$175*N175)+($F$176*N176)+($F$177*N177))","v":0},null,{"$f":"IF(OR(P174=0,P174=\"-\"),0,(P174*$F$172/(COUNTIF(P172:Q174,1)+COUNTIF(P172:Q174,0.5)))+($F$175*P175)+($F$176*P176)+($F$177*P177))","v":0},null,{"$f":"IF(OR(R174=0,R174=\"-\"),0,(R174*$F$172/(COUNTIF(R172:S174,1)+COUNTIF(R172:S174,0.5)))+($F$175*R175)+($F$176*R176)+($F$177*R177))","v":0},null,{"$f":"IF(OR(T174=0,T174=\"-\"),0,(T174*$F$172/(COUNTIF(T172:U174,1)+COUNTIF(T172:U174,0.5)))+($F$175*T175)+($F$176*T176)+($F$177*T177))","v":0},null,{"$f":"IF(OR(V174=0,V174=\"-\"),0,(V174*$F$172/(COUNTIF(V172:W174,1)+COUNTIF(V172:W174,0.5)))+($F$175*V175)+($F$176*V176)+($F$177*V177))","v":0},null,{"$f":"IF(OR(X174=0,X174=\"-\"),0,(X174*$F$172/(COUNTIF(X172:Y174,1)+COUNTIF(X172:Y174,0.5)))+($F$175*X175)+($F$176*X176)+($F$177*X177))","v":0},null,{"$f":"IF(OR(Z174=0,Z174=\"-\"),0,(Z174*$F$172/(COUNTIF(Z172:AA174,1)+COUNTIF(Z172:AA174,0.5)))+($F$175*Z175)+($F$176*Z176)+($F$177*Z177))","v":0},null,{"$f":"IF(OR(AB174=0,AB174=\"-\"),0,(AB174*$F$172/(COUNTIF(AB172:AC174,1)+COUNTIF(AB172:AC174,0.5)))+($F$175*AB175)+($F$176*AB176)+($F$177*AB177))","v":0},null,{"$f":"IF(OR(AD174=0,AD174=\"-\"),0,(AD174*$F$172/(COUNTIF(AD172:AE174,1)+COUNTIF(AD172:AE174,0.5)))+($F$175*AD175)+($F$176*AD176)+($F$177*AD177))","v":0}]
["5.10","Réhabilitation de la zone saturée","Faisabilité technique - inorganique",null,null,{"$f":"IF('A-Outil sélection scénario'!E209=\"Oui\",0.25,'A-Outil sélection scénario'!E210)","v":0.25},null,{"$f":"IF(H53=\"-\",0,IF(OR(H27=\"Ne s'applique pas\",H53=\"Ne s'applique pas\"),0,IF(AND(H27=\"S'applique\",H53=\"S'applique\"),1,IF(AND(H27=\"S'applique\",H53=\"Avec restrictions\"),0.5,\"-\"))))","v":0},null,{"$f":"IF(J53=\"-\",0,IF(OR(J27=\"Ne s'applique pas\",J53=\"Ne s'applique pas\"),0,IF(AND(J27=\"S'applique\",J53=\"S'applique\"),1,IF(AND(J27=\"S'applique\",J53=\"Avec restrictions\"),0.5,\"-\"))))","v":0},null,{"$f":"IF(L53=\"-\",0,IF(OR(L27=\"Ne s'applique pas\",L53=\"Ne s'applique pas\"),0,IF(AND(L27=\"S'applique\",L53=\"S'applique\"),1,IF(AND(L27=\"S'applique\",L53=\"Avec restrictions\"),0.5,\"-\"))))","v":0},null,{"$f":"IF(N53=\"-\",0,IF(OR(N27=\"Ne s'applique pas\",N53=\"Ne s'applique pas\"),0,IF(AND(N27=\"S'applique\",N53=\"S'applique\"),1,IF(AND(N27=\"S'applique\",N53=\"Avec restrictions\"),0.5,\"-\"))))","v":0},null,{"$f":"IF(P53=\"-\",0,IF(OR(P27=\"Ne s'applique pas\",P53=\"Ne s'applique pas\"),0,IF(AND(P27=\"S'applique\",P53=\"S'applique\"),1,IF(AND(P27=\"S'applique\",P53=\"Avec restrictions\"),0.5,\"-\"))))","v":0},null,{"$f":"IF(R53=\"-\",0,IF(OR(R27=\"Ne s'applique pas\",R53=\"Ne s'applique pas\"),0,IF(AND(R27=\"S'applique\",R53=\"S'applique\"),1,IF(AND(R27=\"S'applique\",R53=\"Avec restrictions\"),0.5,\"-\"))))","v":0},null,{"$f":"IF(T53=\"-\",0,IF(OR(T27=\"Ne s'applique pas\",T53=\"Ne s'applique pas\"),0,IF(AND(T27=\"S'applique\",T53=\"S'applique\"),1,IF(AND(T27=\"S'applique\",T53=\"Avec restrictions\"),0.5,\"-\"))))","v":0},null,{"$f":"IF(V53=\"-\",0,IF(OR(V27=\"Ne s'applique pas\",V53=\"Ne s'applique pas\"),0,IF(AND(V27=\"S'applique\",V53=\"S'applique\"),1,IF(AND(V27=\"S'applique\",V53=\"Avec restrictions\"),0.5,\"-\"))))","v":0},null,{"$f":"IF(X53=\"-\",0,IF(OR(X27=\"Ne s'applique pas\",X53=\"Ne s'applique pas\"),0,IF(AND(X27=\"S'applique\",X53=\"S'applique\"),1,IF(AND(X27=\"S'applique\",X53=\"Avec restrictions\"),0.5,\"-\"))))","v":0},null,{"$f":"IF(Z53=\"-\",0,IF(OR(Z27=\"Ne s'applique pas\",Z53=\"Ne s'applique pas\"),0,IF(AND(Z27=\"S'applique\",Z53=\"S'applique\"),1,IF(AND(Z27=\"S'applique\",Z53=\"Avec restrictions\"),0.5,\"-\"))))","v":0},null,{"$f":"IF(AB53=\"-\",0,IF(OR(AB27=\"Ne s'applique pas\",AB53=\"Ne s'applique pas\"),0,IF(AND(AB27=\"S'applique\",AB53=\"S'applique\"),1,IF(AND(AB27=\"S'applique\",AB53=\"Avec restrictions\"),0.5,\"-\"))))","v":0},null,{"$f":"IF(AD53=\"-\",0,IF(OR(AD27=\"Ne s'applique pas\",AD53=\"Ne s'applique pas\"),0,IF(AND(AD27=\"S'applique\",AD53=\"S'applique\"),1,IF(AND(AD27=\"S'applique\",AD53=\"Avec restrictions\"),0.5,\"-\"))))","v":0}]
["5.11",null,"Faisabilité technique - organique (produits pétroliers, COV)",null,null,null,null,{"$f":"IF(H59=\"-\",0,IF(OR(H27=\"Ne s'applique pas\",H59=\"Ne s'applique pas\"),0,IF(AND(H27=\"S'applique\",H59=\"S'applique\"),1,IF(AND(H27=\"S'applique\",H59=\"Avec restrictions\"),0.5,\"-\"))))","v":0},null,{"$f":"IF(J59=\"-\",0,IF(OR(J27=\"Ne s'applique pas\",J59=\"Ne s'applique pas\"),0,IF(AND(J27=\"S'applique\",J59=\"S'applique\"),1,IF(AND(J27=\"S'applique\",J59=\"Avec restrictions\"),0.5,\"-\"))))","v":0},null,{"$f":"IF(L59=\"-\",0,IF(OR(L27=\"Ne s'applique pas\",L59=\"Ne s'applique pas\"),0,IF(AND(L27=\"S'applique\",L59=\"S'applique\"),1,IF(AND(L27=\"S'applique\",L59=\"Avec restrictions\"),0.5,\"-\"))))","v":0},null,{"$f":"IF(N59=\"-\",0,IF(OR(N27=\"Ne s'applique pas\",N59=\"Ne s'applique pas\"),0,IF(AND(N27=\"S'applique\",N59=\"S'applique\"),1,IF(AND(N27=\"S'applique\",N59=\"Avec restrictions\"),0.5,\"-\"))))","v":0},null,{"$f":"IF(P59=\"-\",0,IF(OR(P27=\"Ne s'applique pas\",P59=\"Ne s'applique pas\"),0,IF(AND(P27=\"S'applique\",P59=\"S'applique\"),1,IF(AND(P27=\"S'applique\",P59=\"Avec restrictions\"),0.5,\"-\"))))","v":0},null,{"$f":"IF(R59=\"-\",0,IF(OR(R27=\"Ne s'applique pas\",R59=\"Ne s'applique pas\"),0,IF(AND(R27=\"S'applique\",R59=\"S'applique\"),1,IF(AND(R27=\"S'applique\",R59=\"Avec restrictions\"),0.5,\"-\"))))","v":0},null,{"$f":"IF(T59=\"-\",0,IF(OR(T27=\"Ne s'applique pas\",T59=\"Ne s'applique pas\"),0,IF(AND(T27=\"S'applique\",T59=\"S'applique\"),1,IF(AND(T27=\"S'applique\",T59=\"Avec restrictions\"),0.5,\"-\"))))","v":0},null,{"$f":"IF(V59=\"-\",0,IF(OR(V27=\"Ne s'applique pas\",V59=\"Ne s'applique pas\"),0,IF(AND(V27=\"S'applique\",V59=\"S'applique\"),1,IF(AND(V27=\"S'applique\",V59=\"Avec restrictions\"),0.5,\"-\"))))","v":0},null,{"$f":"IF(X59=\"-\",0,IF(OR(X27=\"Ne s'applique pas\",X59=\"Ne s'applique pas\"),0,IF(AND(X27=\"S'applique\",X59=\"S'applique\"),1,IF(AND(X27=\"S'applique\",X59=\"Avec restrictions\"),0.5,\"-\"))))","v":0},null,{"$f":"IF(Z59=\"-\",0,IF(OR(Z27=\"Ne s'applique pas\",Z59=\"Ne s'applique pas\"),0,IF(AND(Z27=\"S'applique\",Z59=\"S'applique\"),1,IF(AND(Z27=\"S'applique\",Z59=\"Avec restrictions\"),0.5,\"-\"))))","v":0},null,{"$f":"IF(AB59=\"-\",0,IF(OR(AB27=\"Ne s'applique pas\",AB59=\"Ne s'applique pas\"),0,IF(AND(AB27=\"S'applique\",AB59=\"S'applique\"),1,IF(AND(AB27=\"S'applique\",AB59=\"Avec restrictions\"),0.5,\"-\"))))","v":0},null,{"$f":"IF(AD59=\"-\",0,IF(OR(AD27=\"Ne s'applique pas\",AD59=\"Ne s'applique pas\"),0,IF(AND(AD27=\"S'applique\",AD59=\"S'applique\"),1,IF(AND(AD27=\"S'applique\",AD59=\"Avec restrictions\"),0.5,\"-\"))))","v":0}]
["5.12",null,"Faisabilité technique - autres composés organiques",null,null,null,null,{"$f":"IF(H65=\"-\",0,IF(OR(H27=\"Ne s'applique pas\",H65=\"Ne s'applique pas\"),0,IF(AND(H27=\"S'applique\",H65=\"S'applique\"),1,IF(AND(H27=\"S'applique\",H65=\"Avec restrictions\"),0.5,\"-\"))))","v":0},null,{"$f":"IF(J65=\"-\",0,IF(OR(J27=\"Ne s'applique pas\",J65=\"Ne s'applique pas\"),0,IF(AND(J27=\"S'applique\",J65=\"S'applique\"),1,IF(AND(J27=\"S'applique\",J65=\"Avec restrictions\"),0.5,\"-\"))))","v":0},null,{"$f":"IF(L65=\"-\",0,IF(OR(L27=\"Ne s'applique pas\",L65=\"Ne s'applique pas\"),0,IF(AND(L27=\"S'applique\",L65=\"S'applique\"),1,IF(AND(L27=\"S'applique\",L65=\"Avec restrictions\"),0.5,\"-\"))))","v":0},null,{"$f":"IF(N65=\"-\",0,IF(OR(N27=\"Ne s'applique pas\",N65=\"Ne s'applique pas\"),0,IF(AND(N27=\"S'applique\",N65=\"S'applique\"),1,IF(AND(N27=\"S'applique\",N65=\"Avec restrictions\"),0.5,\"-\"))))","v":0},null,{"$f":"IF(P65=\"-\",0,IF(OR(P27=\"Ne s'applique pas\",P65=\"Ne s'applique pas\"),0,IF(AND(P27=\"S'applique\",P65=\"S'applique\"),1,IF(AND(P27=\"S'applique\",P65=\"Avec restrictions\"),0.5,\"-\"))))","v":0},null,{"$f":"IF(R65=\"-\",0,IF(OR(R27=\"Ne s'applique pas\",R65=\"Ne s'applique pas\"),0,IF(AND(R27=\"S'applique\",R65=\"S'applique\"),1,IF(AND(R27=\"S'applique\",R65=\"Avec restrictions\"),0.5,\"-\"))))","v":0},null,{"$f":"IF(T65=\"-\",0,IF(OR(T27=\"Ne s'applique pas\",T65=\"Ne s'applique pas\"),0,IF(AND(T27=\"S'applique\",T65=\"S'applique\"),1,IF(AND(T27=\"S'applique\",T65=\"Avec restrictions\"),0.5,\"-\"))))","v":0},null,{"$f":"IF(V65=\"-\",0,IF(OR(V27=\"Ne s'applique pas\",V65=\"Ne s'applique pas\"),0,IF(AND(V27=\"S'applique\",V65=\"S'applique\"),1,IF(AND(V27=\"S'applique\",V65=\"Avec restrictions\"),0.5,\"-\"))))","v":0},null,{"$f":"IF(X65=\"-\",0,IF(OR(X27=\"Ne s'applique pas\",X65=\"Ne s'applique pas\"),0,IF(AND(X27=\"S'applique\",X65=\"S'applique\"),1,IF(AND(X27=\"S'applique\",X65=\"Avec restrictions\"),0.5,\"-\"))))","v":0},null,{"$f":"IF(Z65=\"-\",0,IF(OR(Z27=\"Ne s'applique pas\",Z65=\"Ne s'applique pas\"),0,IF(AND(Z27=\"S'applique\",Z65=\"S'applique\"),1,IF(AND(Z27=\"S'applique\",Z65=\"Avec restrictions\"),0.5,\"-\"))))","v":0},null,{"$f":"IF(AB65=\"-\",0,IF(OR(AB27=\"Ne s'applique pas\",AB65=\"Ne s'applique pas\"),0,IF(AND(AB27=\"S'applique\",AB65=\"S'applique\"),1,IF(AND(AB27=\"S'applique\",AB65=\"Avec restrictions\"),0.5,\"-\"))))","v":0},null,{"$f":"IF(AD65=\"-\",0,IF(OR(AD27=\"Ne s'applique pas\",AD65=\"Ne s'applique pas\"),0,IF(AND(AD27=\"S'applique\",AD65=\"S'applique\"),1,IF(AND(AD27=\"S'applique\",AD65=\"Avec restrictions\"),0.5,\"-\"))))","v":0}]
["5.13",null,"Dimension sociale",null,null,{"$f":"IF('A-Outil sélection scénario'!E209=\"Oui\",0.25,'A-Outil sélection scénario'!E211)","v":0.25},null,{"$f":"H101","v":0},null,{"$f":"J101","v":0},null,{"$f":"L101","v":0},null,{"$f":"N101","v":0},null,{"$f":"P101","v":0},null,{"$f":"R101","v":0},null,{"$f":"T101","v":0},null,{"$f":"V101","v":0},null,{"$f":"X101","v":0},null,{"$f":"Z101","v":0},null,{"$f":"AB101","v":0},null,{"$f":"AD101","v":0}]
["5.14",null,"Impact environnemental",null,null,{"$f":"IF('A-Outil sélection scénario'!E209=\"Oui\",0.25,'A-Outil sélection scénario'!E212)","v":0.25},null,{"$f":"H121","v":0},null,{"$f":"J121","v":0},null,{"$f":"L121","v":0},null,{"$f":"N121","v":0},null,{"$f":"P121","v":0},null,{"$f":"R121","v":0},null,{"$f":"T121","v":0},null,{"$f":"V121","v":0},null,{"$f":"X121","v":0},null,{"$f":"Z121","v":0},null,{"$f":"AB121","v":0},null,{"$f":"AD121","v":0}]
["5.15",null,"Coûts de réhabilitation",null,null,{"$f":"IF('A-Outil sélection scénario'!E209=\"Oui\",0.25,'A-Outil sélection scénario'!E213)","v":0.25},null,{"$f":"H169","v":0},null,{"$f":"J169","v":0},null,{"$f":"L169","v":0},null,{"$f":"N169","v":0},null,{"$f":"P169","v":0},null,{"$f":"R169","v":0},null,{"$f":"T169","v":0},null,{"$f":"V169","v":0},null,{"$f":"X169","v":0},null,{"$f":"Z169","v":0},null,{"$f":"AB169","v":0},null,{"$f":"AD169","v":0}]
["5.16",null,"Notation - Composés inorganiques",null,null,null,null,{"$f":"IF(H181=0,0,(H181*$F$181/(COUNTIF(H181:I183,1)+COUNTIF(H181:I183,0.5)))+($F$184*H184)+($F$185*H185)+($F$186*H186))","v":0},null,{"$f":"IF(J181=0,0,(J181*$F$181/(COUNTIF(J181:K183,1)+COUNTIF(J181:K183,0.5)))+($F$184*J184)+($F$185*J185)+($F$186*J186))","v":0},null,{"$f":"IF(L181=0,0,(L181*$F$181/(COUNTIF(L181:M183,1)+COUNTIF(L181:M183,0.5)))+($F$184*L184)+($F$185*L185)+($F$186*L186))","v":0},null,{"$f":"IF(N181=0,0,(N181*$F$181/(COUNTIF(N181:O183,1)+COUNTIF(N181:O183,0.5)))+($F$184*N184)+($F$185*N185)+($F$186*N186))","v":0},null,{"$f":"IF(P181=0,0,(P181*$F$181/(COUNTIF(P181:Q183,1)+COUNTIF(P181:Q183,0.5)))+($F$184*P184)+($F$185*P185)+($F$186*P186))","v":0},null,{"$f":"IF(R181=0,0,(R181*$F$181/(COUNTIF(R181:S183,1)+COUNTIF(R181:S183,0.5)))+($F$184*R184)+($F$185*R185)+($F$186*R186))","v":0},null,{"$f":"IF(T181=0,0,(T181*$F$181/(COUNTIF(T181:U183,1)+COUNTIF(T181:U183,0.5)))+($F$184*T184)+($F$185*T185)+($F$186*T186))","v":0},null,{"$f":"IF(V181=0,0,(V181*$F$181/(COUNTIF(V181:W183,1)+COUNTIF(V181:W183,0.5)))+($F$184*V184)+($F$185*V185)+($F$186*V186))","v":0},null,{"$f":"IF(X181=0,0,(X181*$F$181/(COUNTIF(X181:Y183,1)+COUNTIF(X181:Y183,0.5)))+($F$184*X184)+($F$185*X185)+($F$186*X186))","v":0},null,{"$f":"IF(Z181=0,0,(Z181*$F$181/(COUNTIF(Z181:AA183,1)+COUNTIF(Z181:AA183,0.5)))+($F$184*Z184)+($F$185*Z185)+($F$186*Z186))","v":0},null,{"$f":"IF(AB181=0,0,(AB181*$F$181/(COUNTIF(AB181:AC183,1)+COUNTIF(AB181:AC183,0.5)))+($F$184*AB184)+($F$185*AB185)+($F$186*AB186))","v":0},null,{"$f":"IF(AD181=0,0,(AD181*$F$181/(COUNTIF(AD181:AE183,1)+COUNTIF(AD181:AE183,0.5)))+($F$184*AD184)+($F$185*AD185)+($F$186*AD186))","v":0}]
["5.17",null,"Notation - Composés organiques (produits pétroliers et COV)",null,null,null,null,{"$f":"IF(H182=0,0,(H182*$F$181/(COUNTIF(H181:I183,1)+COUNTIF(H181:I183,0.5)))+($F$184*H184)+($F$185*H185)+($F$186*H186))","v":0},null,{"$f":"IF(J182=0,0,(J182*$F$181/(COUNTIF(J181:K183,1)+COUNTIF(J181:K183,0.5)))+($F$184*J184)+($F$185*J185)+($F$186*J186))","v":0},null,{"$f":"IF(L182=0,0,(L182*$F$181/(COUNTIF(L181:M183,1)+COUNTIF(L181:M183,0.5)))+($F$184*L184)+($F$185*L185)+($F$186*L186))","v":0},null,{"$f":"IF(N182=0,0,(N182*$F$181/(COUNTIF(N181:O183,1)+COUNTIF(N181:O183,0.5)))+($F$184*N184)+($F$185*N185)+($F$186*N186))","v":0},null,{"$f":"IF(P182=0,0,(P182*$F$181/(COUNTIF(P181:Q183,1)+COUNTIF(P181:Q183,0.5)))+($F$184*P184)+($F$185*P185)+($F$186*P186))","v":0},null,{"$f":"IF(R182=0,0,(R182*$F$181/(COUNTIF(R181:S183,1)+COUNTIF(R181:S183,0.5)))+($F$184*R184)+($F$185*R185)+($F$186*R186))","v":0},null,{"$f":"IF(T182=0,0,(T182*$F$181/(COUNTIF(T181:U183,1)+COUNTIF(T181:U183,0.5)))+($F$184*T184)+($F$185*T185)+($F$186*T186))","v":0},null,{"$f":"IF(V182=0,0,(V182*$F$181/(COUNTIF(V181:W183,1)+COUNTIF(V181:W183,0.5)))+($F$184*V184)+($F$185*V185)+($F$186*V186))","v":0},null,{"$f":"IF(X182=0,0,(X182*$F$181/(COUNTIF(X181:Y183,1)+COUNTIF(X181:Y183,0.5)))+($F$184*X184)+($F$185*X185)+($F$186*X186))","v":0},null,{"$f":"IF(Z182=0,0,(Z182*$F$181/(COUNTIF(Z181:AA183,1)+COUNTIF(Z181:AA183,0.5)))+($F$184*Z184)+($F$185*Z185)+($F$186*Z186))","v":0},null,{"$f":"IF(AB182=0,0,(AB182*$F$181/(COUNTIF(AB181:AC183,1)+COUNTIF(AB181:AC183,0.5)))+($F$184*AB184)+($F$185*AB185)+($F$186*AB186))","v":0},null,{"$f":"IF(AD182=0,0,(AD182*$F$181/(COUNTIF(AD181:AE183,1)+COUNTIF(AD181:AE183,0.5)))+($F$184*AD184)+($F$185*AD185)+($F$186*AD186))","v":0}]
["5.18",null,"Notation - Autres composés organiques",null,null,null,null,{"$f":"IF(H183=0,0,(H183*$F$181/(COUNTIF(H181:I183,1)+COUNTIF(H181:I183,0.5)))+($F$184*H184)+($F$185*H185)+($F$186*H186))","v":0},null,{"$f":"IF(J183=0,0,(J183*$F$181/(COUNTIF(J181:K183,1)+COUNTIF(J181:K183,0.5)))+($F$184*J184)+($F$185*J185)+($F$186*J186))","v":0},null,{"$f":"IF(L183=0,0,(L183*$F$181/(COUNTIF(L181:M183,1)+COUNTIF(L181:M183,0.5)))+($F$184*L184)+($F$185*L185)+($F$186*L186))","v":0},null,{"$f":"IF(N183=0,0,(N183*$F$181/(COUNTIF(N181:O183,1)+COUNTIF(N181:O183,0.5)))+($F$184*N184)+($F$185*N185)+($F$186*N186))","v":0},null,{"$f":"IF(P183=0,0,(P183*$F$181/(COUNTIF(P181:Q183,1)+COUNTIF(P181:Q183,0.5)))+($F$184*P184)+($F$185*P185)+($F$186*P186))","v":0},null,{"$f":"IF(R183=0,0,(R183*$F$181/(COUNTIF(R181:S183,1)+COUNTIF(R181:S183,0.5)))+($F$184*R184)+($F$185*R185)+($F$186*R186))","v":0},null,{"$f":"IF(T183=0,0,(T183*$F$181/(COUNTIF(T181:U183,1)+COUNTIF(T181:U183,0.5)))+($F$184*T184)+($F$185*T185)+($F$186*T186))","v":0},null,{"$f":"IF(V183=0,0,(V183*$F$181/(COUNTIF(V181:W183,1)+COUNTIF(V181:W183,0.5)))+($F$184*V184)+($F$185*V185)+($F$186*V186))","v":0},null,{"$f":"IF(X183=0,0,(X183*$F$181/(COUNTIF(X181:Y183,1)+COUNTIF(X181:Y183,0.5)))+($F$184*X184)+($F$185*X185)+($F$186*X186))","v":0},null,{"$f":"IF(Z183=0,0,(Z183*$F$181/(COUNTIF(Z181:AA183,1)+COUNTIF(Z181:AA183,0.5)))+($F$184*Z184)+($F$185*Z185)+($F$186*Z186))","v":0},null,{"$f":"IF(AB183=0,0,(AB183*$F$181/(COUNTIF(AB181:AC183,1)+COUNTIF(AB181:AC183,0.5)))+($F$184*AB184)+($F$185*AB185)+($F$186*AB186))","v":0},null,{"$f":"IF(AD183=0,0,(AD183*$F$181/(COUNTIF(AD181:AE183,1)+COUNTIF(AD181:AE183,0.5)))+($F$184*AD184)+($F$185*AD185)+($F$186*AD186))","v":0}]
["5.19",null,null,null,null,null,null,"Excavation et élimination",null,"Confinement avec analyse de risques",null,"Biopile",null,"Oxydation",null,"Solidification/stabilisation",null,"Thermique",null,"Phytoremediation",null,"Biologique",null,"Oxydation chimique",null,"(Bio)ventilation",null,"(Bio)barbotage",null,"Lavage de sol"]
[]
[]
[null,null,null,null,null,null,null,{"$f":"IF(H147<>0,$F147,0)+IF(H148<>0,$F148,0)+IF(H149<>0,$F149,0)+IF(H150<>0,$F150,0)+IF(H151<>0,$F151,0)+IF(H152<>0,$F152,0)+IF(H153<>0,$F153,0)+IF(H154<>0,$F154,0)+IF(H155<>0,$F155,0)","v":0},null,{"$f":"F147+F149+F151+F154+F155","v":0},null,{"$f":"IF(L147<>0,$F147,0)+IF(L148<>0,$F148,0)+IF(L149<>0,$F149,0)+IF(L150<>0,$F150,0)+IF(L151<>0,$F151,0)+IF(L152<>0,$F152,0)+IF(L153<>0,$F153,0)+IF(L154<>0,$F154,0)+IF(L155<>0,$F155,0)","v":0},null,{"$f":"IF(N147<>0,$F147,0)+IF(N148<>0,$F148,0)+IF(N149<>0,$F149,0)+IF(N150<>0,$F150,0)+IF(N151<>0,$F151,0)+IF(N152<>0,$F152,0)+IF(N153<>0,$F153,0)+IF(N154<>0,$F154,0)+IF(N155<>0,$F155,0)","v":0},null,0,null,0,null,0,null,0,null,0,null,0,null,0,null,0]
[null,null,null,null,null,null,null,{"$f":"IF(H159<>0,$F159,0)+IF(H160<>0,$F160,0)+IF(H161<>0,$F161,0)+IF(H162<>0,$F162,0)+IF(H163<>0,$F163,0)+IF(H164<>0,$F164,0)+IF(H165<>0,$F165,0)+IF(H166<>0,$F166,0)+IF(H167<>0,$F167,0)","v":0},null,{"$f":"F159+F161+F163+F166+F167","v":0},null,{"$f":"IF(L159<>0,$F159,0)+IF(L160<>0,$F160,0)+IF(L161<>0,$F161,0)+IF(L162<>0,$F162,0)+IF(L163<>0,$F163,0)+IF(L164<>0,$F164,0)+IF(L165<>0,$F165,0)+IF(L166<>0,$F166,0)+IF(L167<>0,$F167,0)","v":0},null,0,null,0,null,0,null,0,null,0,null,0,null,0,null,0,null,0]

{"sheet":"Combinaison de méthodes","index":15,"n_rows":9,"n_cols":67,"rows_kept":9,"cut":false,"hidden":true,"merged":[[4,16,4,21],[4,22,4,27],[4,28,4,51],[4,52,4,66],[2,46,2,51],[2,52,2,56],[2,57,2,60],[2,61,2,63],[2,64,2,65],[4,0,6,0],[4,1,5,1],[4,2,4,5],[4,6,4,11],[4,12,4,15],[1,0,3,0],[1,1,2,11],[1,12,2,21],[1,22,1,51],[1,52,1,66],[2,22,2,24],[2,25,2,26],[2,28,2,33],[2,34,2,39],[2,40,2,45]]}
["Score",{"$f":"IF(AND('B-Méthodes'!H69=\"Ne s'applique pas\",'B-Méthodes'!J69=\"Ne s'applique pas\"),\"\",IF(AND('B-Méthodes'!H70=\"Ne s'applique pas\",'B-Méthodes'!J70=\"Ne s'applique pas\"),\"\",IF(AND('B-Méthodes'!H71=\"Ne s'applique pas\",'B-Méthodes'!J71=\"Ne s'applique pas\"),\"\",IF(AND('B-Méthodes'!H73=\"Ne s'applique pas\",'B-Méthodes'!J73=\"Ne s'applique pas\"),\"\",IF(AND('B-Méthodes'!H74=\"Ne s'applique pas\",'B-Méthodes'!J74=\"Ne s'applique pas\"),\"\",IF(AND('B-Méthodes'!H75=\"Ne s'applique pas\",'B-Méthodes'!J75=\"Ne s'applique pas\"),\"\",MAX('B-Méthodes'!H178,'B-Méthodes'!J178)+MAX('B-Méthodes'!H179,'B-Méthodes'!J179)+MAX('B-Méthodes'!H180,'B-Méthodes'!J180)+MAX('B-Méthodes'!H187,'B-Méthodes'!J187)+MAX('B-Méthodes'!H188,'B-Méthodes'!J188)+MAX('B-Méthodes'!H189,'B-Méthodes'!J189)))))))","v":0},{"$f":"IF(OR('B-Méthodes'!H77:I77=\"-\",'B-Méthodes'!L77:M77=\"-\"),\"\",IF(AND('B-Méthodes'!H69=\"Ne s'applique pas\",'B-Méthodes'!L69=\"Ne s'applique pas\"),\"\",IF(AND('B-Méthodes'!H70=\"Ne s'applique pas\",'B-Méthodes'!L70=\"Ne s'applique pas\"),\"\",IF(AND('B-Méthodes'!H71=\"Ne s'applique pas\",'B-Méthodes'!L71=\"Ne s'applique pas\"),\"\",IF(AND('B-Méthodes'!H73=\"Ne s'applique pas\",'B-Méthodes'!L73=\"Ne s'applique pas\"),\"\",IF(AND('B-Méthodes'!H74=\"Ne s'applique pas\",'B-Méthodes'!L74=\"Ne s'applique pas\"),\"\",IF(AND('B-Méthodes'!H75=\"Ne s'applique pas\",'B-Méthodes'!L75=\"Ne s'applique pas\"),\"\",MAX('B-Méthodes'!H178,'B-Méthodes'!L178)+MAX('B-Méthodes'!H179,'B-Méthodes'!L179)+MAX('B-Méthodes'!H180,'B-Méthodes'!L180)+MAX('B-Méthodes'!H187,'B-Méthodes'!L187)+MAX('B-Méthodes'!H188,'B-Méthodes'!L188)+MAX('B-Méthodes'!H189,'B-Méthodes'!L189))))))))","v":""},{"$f":"IF(OR('B-Méthodes'!H77:I77=\"-\",'B-Méthodes'!N77:O77=\"-\"),\"\",IF(AND('B-Méthodes'!H69=\"Ne s'applique pas\",'B-Méthodes'!N69=\"Ne s'applique pas\"),\"\",IF(AND('B-Méthodes'!H70=\"Ne s'applique pas\",'B-Méthodes'!N70=\"Ne s'applique pas\"),\"\",IF(AND('B-Méthodes'!H71=\"Ne s'applique pas\",'B-Méthodes'!N71=\"Ne s'applique pas\"),\"\",IF(AND('B-Méthodes'!H73=\"Ne s'applique pas\",'B-Méthodes'!N73=\"Ne s'applique pas\"),\"\",IF(AND('B-Méthodes'!H74=\"Ne s'applique pas\",'B-Méthodes'!N74=\"Ne s'applique pas\"),\"\",IF(AND('B-Méthodes'!H75=\"Ne s'applique pas\",'B-Méthodes'!N75=\"Ne s'applique pas\"),\"\",MAX('B-Méthodes'!H178,'B-Méthodes'!N178)+MAX('B-Méthodes'!H179,'B-Méthodes'!N179)+MAX('B-Méthodes'!H180,'B-Méthodes'!N180)+MAX('B-Méthodes'!H187,'B-Méthodes'!N187)+MAX('B-Méthodes'!H188,'B-Méthodes'!N188)+MAX('B-Méthodes'!H189,'B-Méthodes'!N189))))))))","v":""},{"$f":"IF(OR('B-Méthodes'!H77:I77=\"-\",'B-Méthodes'!P77:Q77=\"-\"),\"\",IF(AND('B-Méthodes'!H69=\"Ne s'applique pas\",'B-Méthodes'!P69=\"Ne s'applique pas\"),\"\",IF(AND('B-Méthodes'!H70=\"Ne s'applique pas\",'B-Méthodes'!P70=\"Ne s'applique pas\"),\"\",IF(AND('B-Méthodes'!H71=\"Ne s'applique pas\",'B-Méthodes'!P71=\"Ne s'applique pas\"),\"\",IF(AND('B-Méthodes'!H73=\"Ne s'applique pas\",'B-Méthodes'!P73=\"Ne s'applique pas\"),\"\",IF(AND('B-Méthodes'!H74=\"Ne s'applique pas\",'B-Méthodes'!P74=\"Ne s'applique pas\"),\"\",IF(AND('B-Méthodes'!H75=\"Ne s'applique pas\",'B-Méthodes'!P75=\"Ne s'applique pas\"),\"\",MAX('B-Méthodes'!H178,'B-Méthodes'!P178)+MAX('B-Méthodes'!H179,'B-Méthodes'!P179)+MAX('B-Méthodes'!H180,'B-Méthodes'!P180)+MAX('B-Méthodes'!H187,'B-Méthodes'!P187)+MAX('B-Méthodes'!H188,'B-Méthodes'!P188)+MAX('B-Méthodes'!H189,'B-Méthodes'!P189))))))))","v":""},{"$f":"IF(OR('B-Méthodes'!H77:I77=\"-\",'B-Méthodes'!R77:S77=\"-\"),\"\",IF(AND('B-Méthodes'!H69=\"Ne s'applique pas\",'B-Méthodes'!R69=\"Ne s'applique pas\"),\"\",IF(AND('B-Méthodes'!H70=\"Ne s'applique pas\",'B-Méthodes'!R70=\"Ne s'applique pas\"),\"\",IF(AND('B-Méthodes'!H71=\"Ne s'applique pas\",'B-Méthodes'!R71=\"Ne s'applique pas\"),\"\",IF(AND('B-Méthodes'!H73=\"Ne s'applique pas\",'B-Méthodes'!R73=\"Ne s'applique pas\"),\"\",IF(AND('B-Méthodes'!H74=\"Ne s'applique pas\",'B-Méthodes'!R74=\"Ne s'applique pas\"),\"\",IF(AND('B-Méthodes'!H75=\"Ne s'applique pas\",'B-Méthodes'!R75=\"Ne s'applique pas\"),\"\",MAX('B-Méthodes'!H178,'B-Méthodes'!R178)+MAX('B-Méthodes'!H179,'B-Méthodes'!R179)+MAX('B-Méthodes'!H180,'B-Méthodes'!R180)+MAX('B-Méthodes'!H187,'B-Méthodes'!R187)+MAX('B-Méthodes'!H188,'B-Méthodes'!R188)+MAX('B-Méthodes'!H189,'B-Méthodes'!R189))))))))","v":""},{"$f":"IF(OR('B-Méthodes'!H77:I77=\"-\",'B-Méthodes'!T77:U77=\"-\"),\"\",IF(AND('B-Méthodes'!H69=\"Ne s'applique pas\",'B-Méthodes'!T69=\"Ne s'applique pas\"),\"\",IF(AND('B-Méthodes'!H70=\"Ne s'applique pas\",'B-Méthodes'!T70=\"Ne s'applique pas\"),\"\",IF(AND('B-Méthodes'!H71=\"Ne s'applique pas\",'B-Méthodes'!T71=\"Ne s'applique pas\"),\"\",IF(AND('B-Méthodes'!H73=\"Ne s'applique pas\",'B-Méthodes'!T73=\"Ne s'applique pas\"),\"\",IF(AND('B-Méthodes'!H74=\"Ne s'applique pas\",'B-Méthodes'!T74=\"Ne s'applique pas\"),\"\",IF(AND('B-Méthodes'!H75=\"Ne s'applique pas\",'B-Méthodes'!T75=\"Ne s'applique pas\"),\"\",MAX('B-Méthodes'!H178,'B-Méthodes'!T178)+MAX('B-Méthodes'!H179,'B-Méthodes'!T179)+MAX('B-Méthodes'!H180,'B-Méthodes'!T180)+MAX('B-Méthodes'!H187,'B-Méthodes'!T187)+MAX('B-Méthodes'!H188,'B-Méthodes'!T188)+MAX('B-Méthodes'!H189,'B-Méthodes'!T189))))))))","v":""},{"$f":"IF(OR('B-Méthodes'!H77:I77=\"-\",'B-Méthodes'!V77:W77=\"-\"),\"\",IF(AND('B-Méthodes'!H69=\"Ne s'applique pas\",'B-Méthodes'!V69=\"Ne s'applique pas\"),\"\",IF(AND('B-Méthodes'!H70=\"Ne s'applique pas\",'B-Méthodes'!V70=\"Ne s'applique pas\"),\"\",IF(AND('B-Méthodes'!H71=\"Ne s'applique pas\",'B-Méthodes'!V71=\"Ne s'applique pas\"),\"\",IF(AND('B-Méthodes'!H73=\"Ne s'applique pas\",'B-Méthodes'!V73=\"Ne s'applique pas\"),\"\",IF(AND('B-Méthodes'!H74=\"Ne s'applique pas\",'B-Méthodes'!V74=\"Ne s'applique pas\"),\"\",IF(AND('B-Méthodes'!H75=\"Ne s'applique pas\",'B-Méthodes'!V75=\"Ne s'applique pas\"),\"\",MAX('B-Méthodes'!H178,'B-Méthodes'!V178)+MAX('B-Méthodes'!H179,'B-Méthodes'!V179)+MAX('B-Méthodes'!H180,'B-Méthodes'!V180)+MAX('B-Méthodes'!H187,'B-Méthodes'!V187)+MAX('B-Méthodes'!H188,'B-Méthodes'!V188)+MAX('B-Méthodes'!H189,'B-Méthodes'!V189))))))))","v":""},{"$f":"IF(OR('B-Méthodes'!H77:I77=\"-\",'B-Méthodes'!X77:Y77=\"-\"),\"\",IF(AND('B-Méthodes'!H69=\"Ne s'applique pas\",'B-Méthodes'!X69=\"Ne s'applique pas\"),\"\",IF(AND('B-Méthodes'!H70=\"Ne s'applique pas\",'B-Méthodes'!X70=\"Ne s'applique pas\"),\"\",IF(AND('B-Méthodes'!H71=\"Ne s'applique pas\",'B-Méthodes'!X71=\"Ne s'applique pas\"),\"\",IF(AND('B-Méthodes'!H73=\"Ne s'applique pas\",'B-Méthodes'!X73=\"Ne s'applique pas\"),\"\",IF(AND('B-Méthodes'!H74=\"Ne s'applique pas\",'B-Méthodes'!X74=\"Ne s'applique pas\"),\"\",IF(AND('B-Méthodes'!H75=\"Ne s'applique pas\",'B-Méthodes'!X75=\"Ne s'applique pas\"),\"\",MAX('B-Méthodes'!H178,'B-Méthodes'!X178)+MAX('B-Méthodes'!H179,'B-Méthodes'!X179)+MAX('B-Méthodes'!H180,'B-Méthodes'!X180)+MAX('B-Méthodes'!H187,'B-Méthodes'!X187)+MAX('B-Méthodes'!H188,'B-Méthodes'!X188)+MAX('B-Méthodes'!H189,'B-Méthodes'!X189))))))))","v":""},{"$f":"IF(OR('B-Méthodes'!H77:I77=\"-\",'B-Méthodes'!Z77:AA77=\"-\"),\"\",IF(AND('B-Méthodes'!H69=\"Ne s'applique pas\",'B-Méthodes'!Z69=\"Ne s'applique pas\"),\"\",IF(AND('B-Méthodes'!H70=\"Ne s'applique pas\",'B-Méthodes'!Z70=\"Ne s'applique pas\"),\"\",IF(AND('B-Méthodes'!H71=\"Ne s'applique pas\",'B-Méthodes'!Z71=\"Ne s'applique pas\"),\"\",IF(AND('B-Méthodes'!H73=\"Ne s'applique pas\",'B-Méthodes'!Z73=\"Ne s'applique pas\"),\"\",IF(AND('B-Méthodes'!H74=\"Ne s'applique pas\",'B-Méthodes'!Z74=\"Ne s'applique pas\"),\"\",IF(AND('B-Méthodes'!H75=\"Ne s'applique pas\",'B-Méthodes'!Z75=\"Ne s'applique pas\"),\"\",MAX('B-Méthodes'!H178,'B-Méthodes'!Z178)+MAX('B-Méthodes'!H179,'B-Méthodes'!Z179)+MAX('B-Méthodes'!H180,'B-Méthodes'!Z180)+MAX('B-Méthodes'!H187,'B-Méthodes'!Z187)+MAX('B-Méthodes'!H188,'B-Méthodes'!Z188)+MAX('B-Méthodes'!H189,'B-Méthodes'!Z189))))))))","v":""},{"$f":"IF(OR('B-Méthodes'!H77:I77=\"-\",'B-Méthodes'!AB77:AC77=\"-\"),\"\",IF(AND('B-Méthodes'!H69=\"Ne s'applique pas\",'B-Méthodes'!AB69=\"Ne s'applique pas\"),\"\",IF(AND('B-Méthodes'!H70=\"Ne s'applique pas\",'B-Méthodes'!AB70=\"Ne s'applique pas\"),\"\",IF(AND('B-Méthodes'!H71=\"Ne s'applique pas\",'B-Méthodes'!AB71=\"Ne s'applique pas\"),\"\",IF(AND('B-Méthodes'!H73=\"Ne s'applique pas\",'B-Méthodes'!AB73=\"Ne s'applique pas\"),\"\",IF(AND('B-Méthodes'!H74=\"Ne s'applique pas\",'B-Méthodes'!AB74=\"Ne s'applique pas\"),\"\",IF(AND('B-Méthodes'!H75=\"Ne s'applique pas\",'B-Méthodes'!AB75=\"Ne s'applique pas\"),\"\",MAX('B-Méthodes'!H178,'B-Méthodes'!AB178)+MAX('B-Méthodes'!H179,'B-Méthodes'!AB179)+MAX('B-Méthodes'!H180,'B-Méthodes'!AB180)+MAX('B-Méthodes'!H187,'B-Méthodes'!AB187)+MAX('B-Méthodes'!H188,'B-Méthodes'!AB188)+MAX('B-Méthodes'!H189,'B-Méthodes'!AB189))))))))","v":""},{"$f":"IF(OR('B-Méthodes'!H77:I77=\"-\",'B-Méthodes'!AD77:AE77=\"-\"),\"\",IF(AND('B-Méthodes'!H69=\"Ne s'applique pas\",'B-Méthodes'!AD69=\"Ne s'applique pas\"),\"\",IF(AND('B-Méthodes'!H70=\"Ne s'applique pas\",'B-Méthodes'!AD70=\"Ne s'applique pas\"),\"\",IF(AND('B-Méthodes'!H71=\"Ne s'applique pas\",'B-Méthodes'!AD71=\"Ne s'applique pas\"),\"\",IF(AND('B-Méthodes'!H73=\"Ne s'applique pas\",'B-Méthodes'!AD73=\"Ne s'applique pas\"),\"\",IF(AND('B-Méthodes'!H74=\"Ne s'applique pas\",'B-Méthodes'!AD74=\"Ne s'applique pas\"),\"\",IF(AND('B-Méthodes'!H75=\"Ne s'applique pas\",'B-Méthodes'!AD75=\"Ne s'applique pas\"),\"\",MAX('B-Méthodes'!H178,'B-Méthodes'!AD178)+MAX('B-Méthodes'!H179,'B-Méthodes'!AD179)+MAX('B-Méthodes'!H180,'B-Méthodes'!AD180)+MAX('B-Méthodes'!H187,'B-Méthodes'!AD187)+MAX('B-Méthodes'!H188,'B-Méthodes'!AD188)+MAX('B-Méthodes'!H189,'B-Méthodes'!AD189))))))))","v":""},{"$f":"IF(OR('B-Méthodes'!J77:K77=\"-\",'B-Méthodes'!L77:M77=\"-\"),\"\",IF(AND('B-Méthodes'!J69=\"Ne s'applique pas\",'B-Méthodes'!L69=\"Ne s'applique pas\"),\"\",IF(AND('B-Méthodes'!J70=\"Ne s'applique pas\",'B-Méthodes'!L70=\"Ne s'applique pas\"),\"\",IF(AND('B-Méthodes'!J71=\"Ne s'applique pas\",'B-Méthodes'!L71=\"Ne s'applique pas\"),\"\",IF(AND('B-Méthodes'!J73=\"Ne s'applique pas\",'B-Méthodes'!L73=\"Ne s'applique pas\"),\"\",IF(AND('B-Méthodes'!J74=\"Ne s'applique pas\",'B-Méthodes'!L74=\"Ne s'applique pas\"),\"\",IF(AND('B-Méthodes'!J75=\"Ne s'applique pas\",'B-Méthodes'!L75=\"Ne s'applique pas\"),\"\",MAX('B-Méthodes'!J178,'B-Méthodes'!L178)+MAX('B-Méthodes'!J179,'B-Méthodes'!L179)+MAX('B-Méthodes'!J180,'B-Méthodes'!L180)+MAX('B-Méthodes'!J187,'B-Méthodes'!L187)+MAX('B-Méthodes'!J188,'B-Méthodes'!L188)+MAX('B-Méthodes'!J189,'B-Méthodes'!L189))))))))","v":""},{"$f":"IF(OR('B-Méthodes'!J77:K77=\"-\",'B-Méthodes'!N77:O77=\"-\"),\"\",IF(AND('B-Méthodes'!J69=\"Ne s'applique pas\",'B-Méthodes'!N69=\"Ne s'applique pas\"),\"\",IF(AND('B-Méthodes'!J70=\"Ne s'applique pas\",'B-Méthodes'!N70=\"Ne s'applique pas\"),\"\",IF(AND('B-Méthodes'!J71=\"Ne s'applique pas\",'B-Méthodes'!N71=\"Ne s'applique pas\"),\"\",IF(AND('B-Méthodes'!J73=\"Ne s'applique pas\",'B-Méthodes'!N73=\"Ne s'applique pas\"),\"\",IF(AND('B-Méthodes'!J74=\"Ne s'applique pas\",'B-Méthodes'!N74=\"Ne s'applique pas\"),\"\",IF(AND('B-Méthodes'!J75=\"Ne s'applique pas\",'B-Méthodes'!N75=\"Ne s'applique pas\"),\"\",MAX('B-Méthodes'!J178,'B-Méthodes'!N178)+MAX('B-Méthodes'!J179,'B-Méthodes'!N179)+MAX('B-Méthodes'!J180,'B-Méthodes'!N180)+MAX('B-Méthodes'!J187,'B-Méthodes'!N187)+MAX('B-Méthodes'!J188,'B-Méthodes'!N188)+MAX('B-Méthodes'!J189,'B-Méthodes'!N189))))))))","v":""},{"$f":"IF(OR('B-Méthodes'!J77:K77=\"-\",'B-Méthodes'!P77:Q77=\"-\"),\"\",IF(AND('B-Méthodes'!J69=\"Ne s'applique pas\",'B-Méthodes'!P69=\"Ne s'applique pas\"),\"\",IF(AND('B-Méthodes'!J70=\"Ne s'applique pas\",'B-Méthodes'!P70=\"Ne s'applique pas\"),\"\",IF(AND('B-Méthodes'!J71=\"Ne s'applique pas\",'B-Méthodes'!P71=\"Ne s'applique pas\"),\"\",IF(AND('B-Méthodes'!J73=\"Ne s'applique pas\",'B-Méthodes'!P73=\"Ne s'applique pas\"),\"\",IF(AND('B-Méthodes'!J74=\"Ne s'applique pas\",'B-Méthodes'!P74=\"Ne s'applique pas\"),\"\",IF(AND('B-Méthodes'!J75=\"Ne s'applique pas\",'B-Méthodes'!P75=\"Ne s'applique pas\"),\"\",MAX('B-Méthodes'!J178,'B-Méthodes'!P178)+MAX('B-Méthodes'!J179,'B-Méthodes'!P179)+MAX('B-Méthodes'!J180,'B-Méthodes'!P180)+MAX('B-Méthodes'!J187,'B-Méthodes'!P187)+MAX('B-Méthodes'!J188,'B-Méthodes'!P188)+MAX('B-Méthodes'!J189,'B-Méthodes'!P189))))))))","v":""},{"$f":"IF(OR('B-Méthodes'!J77:K77=\"-\",'B-Méthodes'!R77:S77=\"-\"),\"\",IF(AND('B-Méthodes'!J69=\"Ne s'applique pas\",'B-Méthodes'!R69=\"Ne s'applique pas\"),\"\",IF(AND('B-Méthodes'!J70=\"Ne s'applique pas\",'B-Méthodes'!R70=\"Ne s'applique pas\"),\"\",IF(AND('B-Méthodes'!J71=\"Ne s'applique pas\",'B-Méthodes'!R71=\"Ne s'applique pas\"),\"\",IF(AND('B-Méthodes'!J73=\"Ne s'applique pas\",'B-Méthodes'!R73=\"Ne s'applique pas\"),\"\",IF(AND('B-Méthodes'!J74=\"Ne s'applique pas\",'B-Méthodes'!R74=\"Ne s'applique pas\"),\"\",IF(AND('B-Méthodes'!J75=\"Ne s'applique pas\",'B-Méthodes'!R75=\"Ne s'applique pas\"),\"\",MAX('B-Méthodes'!J178,'B-Méthodes'!R178)+MAX('B-Méthodes'!J179,'B-Méthodes'!R179)+MAX('B-Méthodes'!J180,'B-Méthodes'!R180)+MAX('B-Méthodes'!J187,'B-Méthodes'!R187)+MAX('B-Méthodes'!J188,'B-Méthodes'!R188)+MAX('B-Méthodes'!J189,'B-Méthodes'!R189))))))))","v":""},{"$f":"IF(OR('B-Méthodes'!J77:K77=\"-\",'B-Méthodes'!T77:U77=\"-\"),\"\",IF(AND('B-Méthodes'!J69=\"Ne s'applique pas\",'B-Méthodes'!T69=\"Ne s'applique pas\"),\"\",IF(AND('B-Méthodes'!J70=\"Ne s'applique pas\",'B-Méthodes'!T70=\"Ne s'applique pas\"),\"\",IF(AND('B-Méthodes'!J71=\"Ne s'applique pas\",'B-Méthodes'!T71=\"Ne s'applique pas\"),\"\",IF(AND('B-Méthodes'!J73=\"Ne s'applique pas\",'B-Méthodes'!T73=\"Ne s'applique pas\"),\"\",IF(AND('B-Méthodes'!J74=\"Ne s'applique pas\",'B-Méthodes'!T74=\"Ne s'applique pas\"),\"\",IF(AND('B-Méthodes'!J75=\"Ne s'applique pas\",'B-Méthodes'!T75=\"Ne s'applique pas\"),\"\",MAX('B-Méthodes'!J178,'B-Méthodes'!T178)+MAX('B-Méthodes'!J179,'B-Méthodes'!T179)+MAX('B-Méthodes'!J180,'B-Méthodes'!T180)+MAX('B-Méthodes'!J187,'B-Méthodes'!T187)+MAX('B-Méthodes'!J188,'B-Méthodes'!T188)+MAX('B-Méthodes'!J189,'B-Méthodes'!T189))))))))","v":""},{"$f":"IF(OR('B-Méthodes'!J77:K77=\"-\",'B-Méthodes'!V77:W77=\"-\"),\"\",IF(AND('B-Méthodes'!J69=\"Ne s'applique pas\",'B-Méthodes'!V69=\"Ne s'applique pas\"),\"\",IF(AND('B-Méthodes'!J70=\"Ne s'applique pas\",'B-Méthodes'!V70=\"Ne s'applique pas\"),\"\",IF(AND('B-Méthodes'!J71=\"Ne s'applique pas\",'B-Méthodes'!V71=\"Ne s'applique pas\"),\"\",IF(AND('B-Méthodes'!J73=\"Ne s'applique pas\",'B-Méthodes'!V73=\"Ne s'applique pas\"),\"\",IF(AND('B-Méthodes'!J74=\"Ne s'applique pas\",'B-Méthodes'!V74=\"Ne s'applique pas\"),\"\",IF(AND('B-Méthodes'!J75=\"Ne s'applique pas\",'B-Méthodes'!V75=\"Ne s'applique pas\"),\"\",MAX('B-Méthodes'!J178,'B-Méthodes'!V178)+MAX('B-Méthodes'!J179,'B-Méthodes'!V179)+MAX('B-Méthodes'!J180,'B-Méthodes'!V180)+MAX('B-Méthodes'!J187,'B-Méthodes'!V187)+MAX('B-Méthodes'!J188,'B-Méthodes'!V188)+MAX('B-Méthodes'!J189,'B-Méthodes'!V189))))))))","v":""},{"$f":"IF(OR('B-Méthodes'!J77:K77=\"-\",'B-Méthodes'!X77:Y77=\"-\"),\"\",IF(AND('B-Méthodes'!J69=\"Ne s'applique pas\",'B-Méthodes'!X69=\"Ne s'applique pas\"),\"\",IF(AND('B-Méthodes'!J70=\"Ne s'applique pas\",'B-Méthodes'!X70=\"Ne s'applique pas\"),\"\",IF(AND('B-Méthodes'!J71=\"Ne s'applique pas\",'B-Méthodes'!X71=\"Ne s'applique pas\"),\"\",IF(AND('B-Méthodes'!J73=\"Ne s'applique pas\",'B-Méthodes'!X73=\"Ne s'applique pas\"),\"\",IF(AND('B-Méthodes'!J74=\"Ne s'applique pas\",'B-Méthodes'!X74=\"Ne s'applique pas\"),\"\",IF(AND('B-Méthodes'!J75=\"Ne s'applique pas\",'B-Méthodes'!X75=\"Ne s'applique pas\"),\"\",MAX('B-Méthodes'!J178,'B-Méthodes'!X178)+MAX('B-Méthodes'!J179,'B-Méthodes'!X179)+MAX('B-Méthodes'!J180,'B-Méthodes'!X180)+MAX('B-Méthodes'!J187,'B-Méthodes'!X187)+MAX('B-Méthodes'!J188,'B-Méthodes'!X188)+MAX('B-Méthodes'!J189,'B-Méthodes'!X189))))))))","v":""},{"$f":"IF(OR('B-Méthodes'!J77:K77=\"-\",'B-Méthodes'!Z77:AA77=\"-\"),\"\",IF(AND('B-Méthodes'!J69=\"Ne s'applique pas\",'B-Méthodes'!Z69=\"Ne s'applique pas\"),\"\",IF(AND('B-Méthodes'!J70=\"Ne s'applique pas\",'B-Méthodes'!Z70=\"Ne s'applique pas\"),\"\",IF(AND('B-Méthodes'!J71=\"Ne s'applique pas\",'B-Méthodes'!Z71=\"Ne s'applique pas\"),\"\",IF(AND('B-Méthodes'!J73=\"Ne s'applique pas\",'B-Méthodes'!Z73=\"Ne s'applique pas\"),\"\",IF(AND('B-Méthodes'!J74=\"Ne s'applique pas\",'B-Méthodes'!Z74=\"Ne s'applique pas\"),\"\",IF(AND('B-Méthodes'!J75=\"Ne s'applique pas\",'B-Méthodes'!Z75=\"Ne s'applique pas\"),\"\",MAX('B-Méthodes'!J178,'B-Méthodes'!Z178)+MAX('B-Méthodes'!J179,'B-Méthodes'!Z179)+MAX('B-Méthodes'!J180,'B-Méthodes'!Z180)+MAX('B-Méthodes'!J187,'B-Méthodes'!Z187)+MAX('B-Méthodes'!J188,'B-Méthodes'!Z188)+MAX('B-Méthodes'!J189,'B-Méthodes'!Z189))))))))","v":""},{"$f":"IF(OR('B-Méthodes'!J77:K77=\"-\",'B-Méthodes'!AB77:AC77=\"-\"),\"\",IF(AND('B-Méthodes'!J69=\"Ne s'applique pas\",'B-Méthodes'!AB69=\"Ne s'applique pas\"),\"\",IF(AND('B-Méthodes'!J70=\"Ne s'applique pas\",'B-Méthodes'!AB70=\"Ne s'applique pas\"),\"\",IF(AND('B-Méthodes'!J71=\"Ne s'applique pas\",'B-Méthodes'!AB71=\"Ne s'applique pas\"),\"\",IF(AND('B-Méthodes'!J73=\"Ne s'applique pas\",'B-Méthodes'!AB73=\"Ne s'applique pas\"),\"\",IF(AND('B-Méthodes'!J74=\"Ne s'applique pas\",'B-Méthodes'!AB74=\"Ne s'applique pas\"),\"\",IF(AND('B-Méthodes'!J75=\"Ne s'applique pas\",'B-Méthodes'!AB75=\"Ne s'applique pas\"),\"\",MAX('B-Méthodes'!J178,'B-Méthodes'!AB178)+MAX('B-Méthodes'!J179,'B-Méthodes'!AB179)+MAX('B-Méthodes'!J180,'B-Méthodes'!AB180)+MAX('B-Méthodes'!J187,'B-Méthodes'!AB187)+MAX('B-Méthodes'!J188,'B-Méthodes'!AB188)+MAX('B-Méthodes'!J189,'B-Méthodes'!AB189))))))))","v":""},{"$f":"IF(OR('B-Méthodes'!J77:K77=\"-\",'B-Méthodes'!AC77:AD77=\"-\"),\"\",IF(AND('B-Méthodes'!J69=\"Ne s'applique pas\",'B-Méthodes'!AD69=\"Ne s'applique pas\"),\"\",IF(AND('B-Méthodes'!J70=\"Ne s'applique pas\",'B-Méthodes'!AD70=\"Ne s'applique pas\"),\"\",IF(AND('B-Méthodes'!J71=\"Ne s'applique pas\",'B-Méthodes'!AD71=\"Ne s'applique pas\"),\"\",IF(AND('B-Méthodes'!J73=\"Ne s'applique pas\",'B-Méthodes'!AD73=\"Ne s'applique pas\"),\"\",IF(AND('B-Méthodes'!J74=\"Ne s'applique pas\",'B-Méthodes'!AD74=\"Ne s'applique pas\"),\"\",IF(AND('B-Méthodes'!J75=\"Ne s'applique pas\",'B-Méthodes'!AD75=\"Ne s'applique pas\"),\"\",MAX('B-Méthodes'!J178,'B-Méthodes'!AD178)+MAX('B-Méthodes'!J179,'B-Méthodes'!AD179)+MAX('B-Méthodes'!J180,'B-Méthodes'!AD180)+MAX('B-Méthodes'!J187,'B-Méthodes'!AD187)+MAX('B-Méthodes'!J188,'B-Méthodes'!AD188)+MAX('B-Méthodes'!J189,'B-Méthodes'!AD189))))))))","v":""},{"$f":"IF(OR('B-Méthodes'!L77:M77=\"-\",'B-Méthodes'!N77:O77=\"-\"),\"\",IF(AND('B-Méthodes'!L69=\"Ne s'applique pas\",'B-Méthodes'!N69=\"Ne s'applique pas\"),\"\",IF(AND('B-Méthodes'!L70=\"Ne s'applique pas\",'B-Méthodes'!N70=\"Ne s'applique pas\"),\"\",IF(AND('B-Méthodes'!L71=\"Ne s'applique pas\",'B-Méthodes'!N71=\"Ne s'applique pas\"),\"\",IF(AND('B-Méthodes'!L73=\"Ne s'applique pas\",'B-Méthodes'!N73=\"Ne s'applique pas\"),\"\",IF(AND('B-Méthodes'!L74=\"Ne s'applique pas\",'B-Méthodes'!N74=\"Ne s'applique pas\"),\"\",IF(AND('B-Méthodes'!L75=\"Ne s'applique pas\",'B-Méthodes'!N75=\"Ne s'applique pas\"),\"\",MAX('B-Méthodes'!L178,'B-Méthodes'!N178)+MAX('B-Méthodes'!L179,'B-Méthodes'!N179)+MAX('B-Méthodes'!L180,'B-Méthodes'!N180)+MAX('B-Méthodes'!L187,'B-Méthodes'!N187)+MAX('B-Méthodes'!L188,'B-Méthodes'!N188)+MAX('B-Méthodes'!L189,'B-Méthodes'!N189))))))))","v":""},{"$f":"IF(OR('B-Méthodes'!L77:M77=\"-\",'B-Méthodes'!P77:Q77=\"-\"),\"\",IF(AND('B-Méthodes'!L69=\"Ne s'applique pas\",'B-Méthodes'!P69=\"Ne s'applique pas\"),\"\",IF(AND('B-Méthodes'!L70=\"Ne s'applique pas\",'B-Méthodes'!P70=\"Ne s'applique pas\"),\"\",IF(AND('B-Méthodes'!L71=\"Ne s'applique pas\",'B-Méthodes'!P71=\"Ne s'applique pas\"),\"\",IF(AND('B-Méthodes'!L73=\"Ne s'applique pas\",'B-Méthodes'!P73=\"Ne s'applique pas\"),\"\",IF(AND('B-Méthodes'!L74=\"Ne s'applique pas\",'B-Méthodes'!P74=\"Ne s'applique pas\"),\"\",IF(AND('B-Méthodes'!L75=\"Ne s'applique pas\",'B-Méthodes'!P75=\"Ne s'applique pas\"),\"\",MAX('B-Méthodes'!L178,'B-Méthodes'!P178)+MAX('B-Méthodes'!L179,'B-Méthodes'!P179)+MAX('B-Méthodes'!L180,'B-Méthodes'!P180)+MAX('B-Méthodes'!L187,'B-Méthodes'!P187)+MAX('B-Méthodes'!L188,'B-Méthodes'!P188)+MAX('B-Méthodes'!L189,'B-Méthodes'!P189))))))))","v":""},{"$f":"IF(OR('B-Méthodes'!L77:M77=\"-\",'B-Méthodes'!R77:S77=\"-\"),\"\",IF(AND('B-Méthodes'!L69=\"Ne s'applique pas\",'B-Méthodes'!R69=\"Ne s'applique pas\"),\"\",IF(AND('B-Méthodes'!L70=\"Ne s'applique pas\",'B-Méthodes'!R70=\"Ne s'applique pas\"),\"\",IF(AND('B-Méthodes'!L71=\"Ne s'applique pas\",'B-Méthodes'!R71=\"Ne s'applique pas\"),\"\",IF(AND('B-Méthodes'!L73=\"Ne s'applique pas\",'B-Méthodes'!R73=\"Ne s'applique pas\"),\"\",IF(AND('B-Méthodes'!L74=\"Ne s'applique pas\",'B-Méthodes'!R74=\"Ne s'applique pas\"),\"\",IF(AND('B-Méthodes'!L75=\"Ne s'applique pas\",'B-Méthodes'!R75=\"Ne s'applique pas\"),\"\",MAX('B-Méthodes'!L178,'B-Méthodes'!R178)+MAX('B-Méthodes'!L179,'B-Méthodes'!R179)+MAX('B-Méthodes'!L180,'B-Méthodes'!R180)+MAX('B-Méthodes'!L187,'B-Méthodes'!R187)+MAX('B-Méthodes'!L188,'B-Méthodes'!R188)+MAX('B-Méthodes'!L189,'B-Méthodes'!R189))))))))","v":""},{"$f":"IF(OR('B-Méthodes'!N77:O77=\"-\",'B-Méthodes'!P77:Q77=\"-\"),\"\",IF(AND('B-Méthodes'!N69=\"Ne s'applique pas\",'B-Méthodes'!P69=\"Ne s'applique pas\"),\"\",IF(AND('B-Méthodes'!N70=\"Ne s'applique pas\",'B-Méthodes'!P70=\"Ne s'applique pas\"),\"\",IF(AND('B-Méthodes'!N71=\"Ne s'applique pas\",'B-Méthodes'!P71=\"Ne s'applique pas\"),\"\",IF(AND('B-Méthodes'!N73=\"Ne s'applique pas\",'B-Méthodes'!P73=\"Ne s'applique pas\"),\"\",IF(AND('B-Méthodes'!N74=\"Ne s'applique pas\",'B-Méthodes'!P74=\"Ne s'applique pas\"),\"\",IF(AND('B-Méthodes'!N75=\"Ne s'applique pas\",'B-Méthodes'!P75=\"Ne s'applique pas\"),\"\",MAX('B-Méthodes'!N178,'B-Méthodes'!P178)+MAX('B-Méthodes'!N179,'B-Méthodes'!P179)+MAX('B-Méthodes'!N180,'B-Méthodes'!P180)+MAX('B-Méthodes'!N187,'B-Méthodes'!P187)+MAX('B-Méthodes'!N188,'B-Méthodes'!P188)+MAX('B-Méthodes'!N189,'B-Méthodes'!P189))))))))","v":""},{"$f":"IF(OR('B-Méthodes'!N77:O77=\"-\",'B-Méthodes'!R77:S77=\"-\"),\"\",IF(AND('B-Méthodes'!N69=\"Ne s'applique pas\",'B-Méthodes'!R69=\"Ne s'applique pas\"),\"\",IF(AND('B-Méthodes'!N70=\"Ne s'applique pas\",'B-Méthodes'!R70=\"Ne s'applique pas\"),\"\",IF(AND('B-Méthodes'!N71=\"Ne s'applique pas\",'B-Méthodes'!R71=\"Ne s'applique pas\"),\"\",IF(AND('B-Méthodes'!N73=\"Ne s'applique pas\",'B-Méthodes'!R73=\"Ne s'applique pas\"),\"\",IF(AND('B-Méthodes'!N74=\"Ne s'applique pas\",'B-Méthodes'!R74=\"Ne s'applique pas\"),\"\",IF(AND('B-Méthodes'!N75=\"Ne s'applique pas\",'B-Méthodes'!R75=\"Ne s'applique pas\"),\"\",MAX('B-Méthodes'!N178,'B-Méthodes'!R178)+MAX('B-Méthodes'!N179,'B-Méthodes'!R179)+MAX('B-Méthodes'!N180,'B-Méthodes'!R180)+MAX('B-Méthodes'!N187,'B-Méthodes'!R187)+MAX('B-Méthodes'!N188,'B-Méthodes'!R188)+MAX('B-Méthodes'!N189,'B-Méthodes'!R189))))))))","v":""},{"$f":"IF(OR('B-Méthodes'!P77:Q77=\"-\",'B-Méthodes'!R77:S77=\"-\"),\"\",IF(AND('B-Méthodes'!P69=\"Ne s'applique pas\",'B-Méthodes'!R69=\"Ne s'applique pas\"),\"\",IF(AND('B-Méthodes'!P70=\"Ne s'applique pas\",'B-Méthodes'!R70=\"Ne s'applique pas\"),\"\",IF(AND('B-Méthodes'!P71=\"Ne s'applique pas\",'B-Méthodes'!R71=\"Ne s'applique pas\"),\"\",IF(AND('B-Méthodes'!P73=\"Ne s'applique pas\",'B-Méthodes'!R73=\"Ne s'applique pas\"),\"\",IF(AND('B-Méthodes'!P74=\"Ne s'applique pas\",'B-Méthodes'!R74=\"Ne s'applique pas\"),\"\",IF(AND('B-Méthodes'!P75=\"Ne s'applique pas\",'B-Méthodes'!R75=\"Ne s'applique pas\"),\"\",MAX('B-Méthodes'!P178,'B-Méthodes'!R178)+MAX('B-Méthodes'!P179,'B-Méthodes'!R179)+MAX('B-Méthodes'!P180,'B-Méthodes'!R180)+MAX('B-Méthodes'!P187,'B-Méthodes'!R187)+MAX('B-Méthodes'!P188,'B-Méthodes'!R188)+MAX('B-Méthodes'!P189,'B-Méthodes'!R189))))))))","v":""},{"$f":"IF(OR('B-Méthodes'!L77:M77=\"-\",'B-Méthodes'!T77:U77=\"-\"),\"\",IF(AND('B-Méthodes'!L69=\"Ne s'applique pas\",'B-Méthodes'!T69=\"Ne s'applique pas\"),\"\",IF(AND('B-Méthodes'!L70=\"Ne s'applique pas\",'B-Méthodes'!T70=\"Ne s'applique pas\"),\"\",IF(AND('B-Méthodes'!L71=\"Ne s'applique pas\",'B-Méthodes'!T71=\"Ne s'applique pas\"),\"\",IF(AND('B-Méthodes'!L73=\"Ne s'applique pas\",'B-Méthodes'!T73=\"Ne s'applique pas\"),\"\",IF(AND('B-Méthodes'!L74=\"Ne s'applique pas\",'B-Méthodes'!T74=\"Ne s'applique pas\"),\"\",IF(AND('B-Méthodes'!L75=\"Ne s'applique pas\",'B-Méthodes'!T75=\"Ne s'applique pas\"),\"\",MAX('B-Méthodes'!L178,'B-Méthodes'!T178)+MAX('B-Méthodes'!L179,'B-Méthodes'!T179)+MAX('B-Méthodes'!L180,'B-Méthodes'!T180)+MAX('B-Méthodes'!L187,'B-Méthodes'!T187)+MAX('B-Méthodes'!L188,'B-Méthodes'!T188)+MAX('B-Méthodes'!L189,'B-Méthodes'!T189))))))))","v":""},{"$f":"IF(OR('B-Méthodes'!L77:M77=\"-\",'B-Méthodes'!V77:W77=\"-\"),\"\",IF(AND('B-Méthodes'!L69=\"Ne s'applique pas\",'B-Méthodes'!V69=\"Ne s'applique pas\"),\"\",IF(AND('B-Méthodes'!L70=\"Ne s'applique pas\",'B-Méthodes'!V70=\"Ne s'applique pas\"),\"\",IF(AND('B-Méthodes'!L71=\"Ne s'applique pas\",'B-Méthodes'!V71=\"Ne s'applique pas\"),\"\",IF(AND('B-Méthodes'!L73=\"Ne s'applique pas\",'B-Méthodes'!V73=\"Ne s'applique pas\"),\"\",IF(AND('B-Méthodes'!L74=\"Ne s'applique pas\",'B-Méthodes'!V74=\"Ne s'applique pas\"),\"\",IF(AND('B-Méthodes'!L75=\"Ne s'applique pas\",'B-Méthodes'!V75=\"Ne s'applique pas\"),\"\",MAX('B-Méthodes'!L178,'B-Méthodes'!V178)+MAX('B-Méthodes'!L179,'B-Méthodes'!V179)+MAX('B-Méthodes'!L180,'B-Méthodes'!V180)+MAX('B-Méthodes'!L187,'B-Méthodes'!V187)+MAX('B-Méthodes'!L188,'B-Méthodes'!V188)+MAX('B-Méthodes'!L189,'B-Méthodes'!V189))))))))","v":""},{"$f":"IF(OR('B-Méthodes'!L77:M77=\"-\",'B-Méthodes'!X77:Y77=\"-\"),\"\",IF(AND('B-Méthodes'!L69=\"Ne s'applique pas\",'B-Méthodes'!X69=\"Ne s'applique pas\"),\"\",IF(AND('B-Méthodes'!L70=\"Ne s'applique pas\",'B-Méthodes'!X70=\"Ne s'applique pas\"),\"\",IF(AND('B-Méthodes'!L71=\"Ne s'applique pas\",'B-Méthodes'!X71=\"Ne s'applique pas\"),\"\",IF(AND('B-Méthodes'!L73=\"Ne s'applique pas\",'B-Méthodes'!X73=\"Ne s'applique pas\"),\"\",IF(AND('B-Méthodes'!L74=\"Ne s'applique pas\",'B-Méthodes'!X74=\"Ne s'applique pas\"),\"\",IF(AND('B-Méthodes'!L75=\"Ne s'applique pas\",'B-Méthodes'!X75=\"Ne s'applique pas\"),\"\",MAX('B-Méthodes'!L178,'B-Méthodes'!X178)+MAX('B-Méthodes'!L179,'B-Méthodes'!X179)+MAX('B-Méthodes'!L180,'B-Méthodes'!X180)+MAX('B-Méthodes'!L187,'B-Méthodes'!X187)+MAX('B-Méthodes'!L188,'B-Méthodes'!X188)+MAX('B-Méthodes'!L189,'B-Méthodes'!X189))))))))","v":""},{"$f":"IF(OR('B-Méthodes'!L77:M77=\"-\",'B-Méthodes'!Z77:AA77=\"-\"),\"\",IF(AND('B-Méthodes'!L69=\"Ne s'applique pas\",'B-Méthodes'!Z69=\"Ne s'applique pas\"),\"\",IF(AND('B-Méthodes'!L70=\"Ne s'applique pas\",'B-Méthodes'!Z70=\"Ne s'applique pas\"),\"\",IF(AND('B-Méthodes'!L71=\"Ne s'applique pas\",'B-Méthodes'!Z71=\"Ne s'applique pas\"),\"\",IF(AND('B-Méthodes'!L73=\"Ne s'applique pas\",'B-Méthodes'!Z73=\"Ne s'applique pas\"),\"\",IF(AND('B-Méthodes'!L74=\"Ne s'applique pas\",'B-Méthodes'!Z74=\"Ne s'applique pas\"),\"\",IF(AND('B-Méthodes'!L75=\"Ne s'applique pas\",'B-Méthodes'!Z75=\"Ne s'applique pas\"),\"\",MAX('B-Méthodes'!L178,'B-Méthodes'!Z178)+MAX('B-Méthodes'!L179,'B-Méthodes'!Z179)+MAX('B-Méthodes'!L180,'B-Méthodes'!Z180)+MAX('B-Méthodes'!L187,'B-Méthodes'!Z187)+MAX('B-Méthodes'!L188,'B-Méthodes'!Z188)+MAX('B-Méthodes'!L189,'B-Méthodes'!Z189))))))))","v":""},{"$f":"IF(OR('B-Méthodes'!L77:M77=\"-\",'B-Méthodes'!AB77:AC77=\"-\"),\"\",IF(AND('B-Méthodes'!L69=\"Ne s'applique pas\",'B-Méthodes'!AB69=\"Ne s'applique pas\"),\"\",IF(AND('B-Méthodes'!L70=\"Ne s'applique pas\",'B-Méthodes'!AB70=\"Ne s'applique pas\"),\"\",IF(AND('B-Méthodes'!L71=\"Ne s'applique pas\",'B-Méthodes'!AB71=\"Ne s'applique pas\"),\"\",IF(AND('B-Méthodes'!L73=\"Ne s'applique pas\",'B-Méthodes'!AB73=\"Ne s'applique pas\"),\"\",IF(AND('B-Méthodes'!L74=\"Ne s'applique pas\",'B-Méthodes'!AB74=\"Ne s'applique pas\"),\"\",IF(AND('B-Méthodes'!L75=\"Ne s'applique pas\",'B-Méthodes'!AB75=\"Ne s'applique pas\"),\"\",MAX('B-Méthodes'!L178,'B-Méthodes'!AB178)+MAX('B-Méthodes'!L179,'B-Méthodes'!AB179)+MAX('B-Méthodes'!L180,'B-Méthodes'!AB180)+MAX('B-Méthodes'!L187,'B-Méthodes'!AB187)+MAX('B-Méthodes'!L188,'B-Méthodes'!AB188)+MAX('B-Méthodes'!L189,'B-Méthodes'!AB189))))))))","v":""},{"$f":"IF(OR('B-Méthodes'!L77:M77=\"-\",'B-Méthodes'!AD77:AE77=\"-\"),\"\",IF(AND('B-Méthodes'!L69=\"Ne s'applique pas\",'B-Méthodes'!AD69=\"Ne s'applique pas\"),\"\",IF(AND('B-Méthodes'!L70=\"Ne s'applique pas\",'B-Méthodes'!AD70=\"Ne s'applique pas\"),\"\",IF(AND('B-Méthodes'!L71=\"Ne s'applique pas\",'B-Méthodes'!AD71=\"Ne s'applique pas\"),\"\",IF(AND('B-Méthodes'!L73=\"Ne s'applique pas\",'B-Méthodes'!AD73=\"Ne s'applique pas\"),\"\",IF(AND('B-Méthodes'!L74=\"Ne s'applique pas\",'B-Méthodes'!AD74=\"Ne s'applique pas\"),\"\",IF(AND('B-Méthodes'!L75=\"Ne s'applique pas\",'B-Méthodes'!AD75=\"Ne s'applique pas\"),\"\",MAX('B-Méthodes'!L178,'B-Méthodes'!AD178)+MAX('B-Méthodes'!L179,'B-Méthodes'!AD179)+MAX('B-Méthodes'!L180,'B-Méthodes'!AD180)+MAX('B-Méthodes'!L187,'B-Méthodes'!AD187)+MAX('B-Méthodes'!L188,'B-Méthodes'!AD188)+MAX('B-Méthodes'!L189,'B-Méthodes'!AD189))))))))","v":""},{"$f":"IF(OR('B-Méthodes'!N77:O77=\"-\",'B-Méthodes'!T77:U77=\"-\"),\"\",IF(AND('B-Méthodes'!N69=\"Ne s'applique pas\",'B-Méthodes'!T69=\"Ne s'applique pas\"),\"\",IF(AND('B-Méthodes'!N70=\"Ne s'applique pas\",'B-Méthodes'!T70=\"Ne s'applique pas\"),\"\",IF(AND('B-Méthodes'!N71=\"Ne s'applique pas\",'B-Méthodes'!T71=\"Ne s'applique pas\"),\"\",IF(AND('B-Méthodes'!N73=\"Ne s'applique pas\",'B-Méthodes'!T73=\"Ne s'applique pas\"),\"\",IF(AND('B-Méthodes'!N74=\"Ne s'applique pas\",'B-Méthodes'!T74=\"Ne s'applique pas\"),\"\",IF(AND('B-Méthodes'!N75=\"Ne s'applique pas\",'B-Méthodes'!T75=\"Ne s'applique pas\"),\"\",MAX('B-Méthodes'!N178,'B-Méthodes'!T178)+MAX('B-Méthodes'!N179,'B-Méthodes'!T179)+MAX('B-Méthodes'!N180,'B-Méthodes'!T180)+MAX('B-Méthodes'!N187,'B-Méthodes'!T187)+MAX('B-Méthodes'!N188,'B-Méthodes'!T188)+MAX('B-Méthodes'!N189,'B-Méthodes'!T189))))))))","v":""},{"$f":"IF(OR('B-Méthodes'!N77:O77=\"-\",'B-Méthodes'!V77:W77=\"-\"),\"\",IF(AND('B-Méthodes'!N69=\"Ne s'applique pas\",'B-Méthodes'!V69=\"Ne s'applique pas\"),\"\",IF(AND('B-Méthodes'!N70=\"Ne s'applique pas\",'B-Méthodes'!V70=\"Ne s'applique pas\"),\"\",IF(AND('B-Méthodes'!N71=\"Ne s'applique pas\",'B-Méthodes'!V71=\"Ne s'applique pas\"),\"\",IF(AND('B-Méthodes'!N73=\"Ne s'applique pas\",'B-Méthodes'!V73=\"Ne s'applique pas\"),\"\",IF(AND('B-Méthodes'!N74=\"Ne s'applique pas\",'B-Méthodes'!V74=\"Ne s'applique pas\"),\"\",IF(AND('B-Méthodes'!N75=\"Ne s'applique pas\",'B-Méthodes'!V75=\"Ne s'applique pas\"),\"\",MAX('B-Méthodes'!N178,'B-Méthodes'!V178)+MAX('B-Méthodes'!N179,'B-Méthodes'!V179)+MAX('B-Méthodes'!N180,'B-Méthodes'!V180)+MAX('B-Méthodes'!N187,'B-Méthodes'!V187)+MAX('B-Méthodes'!N188,'B-Méthodes'!V188)+MAX('B-Méthodes'!N189,'B-Méthodes'!V189))))))))","v":""},{"$f":"IF(OR('B-Méthodes'!N77:O77=\"-\",'B-Méthodes'!X77:Y77=\"-\"),\"\",IF(AND('B-Méthodes'!N69=\"Ne s'applique pas\",'B-Méthodes'!X69=\"Ne s'applique pas\"),\"\",IF(AND('B-Méthodes'!N70=\"Ne s'applique pas\",'B-Méthodes'!X70=\"Ne s'applique pas\"),\"\",IF(AND('B-Méthodes'!N71=\"Ne s'applique pas\",'B-Méthodes'!X71=\"Ne s'applique pas\"),\"\",IF(AND('B-Méthodes'!N73=\"Ne s'applique pas\",'B-Méthodes'!X73=\"Ne s'applique pas\"),\"\",IF(AND('B-Méthodes'!N74=\"Ne s'applique pas\",'B-Méthodes'!X74=\"Ne s'applique pas\"),\"\",IF(AND('B-Méthodes'!N75=\"Ne s'applique pas\",'B-Méthodes'!X75=\"Ne s'applique pas\"),\"\",MAX('B-Méthodes'!N178,'B-Méthodes'!X178)+MAX('B-Méthodes'!N179,'B-Méthodes'!X179)+MAX('B-Méthodes'!N180,'B-Méthodes'!X180)+MAX('B-Méthodes'!N187,'B-Méthodes'!X187)+MAX('B-Méthodes'!N188,'B-Méthodes'!X188)+MAX('B-Méthodes'!N189,'B-Méthodes'!X189))))))))","v":""},{"$f":"IF(OR('B-Méthodes'!N77:O77=\"-\",'B-Méthodes'!Z77:AA77=\"-\"),\"\",IF(AND('B-Méthodes'!N69=\"Ne s'applique pas\",'B-Méthodes'!Z69=\"Ne s'applique pas\"),\"\",IF(AND('B-Méthodes'!N70=\"Ne s'applique pas\",'B-Méthodes'!Z70=\"Ne s'applique pas\"),\"\",IF(AND('B-Méthodes'!N71=\"Ne s'applique pas\",'B-Méthodes'!Z71=\"Ne s'applique pas\"),\"\",IF(AND('B-Méthodes'!N73=\"Ne s'applique pas\",'B-Méthodes'!Z73=\"Ne s'applique pas\"),\"\",IF(AND('B-Méthodes'!N74=\"Ne s'applique pas\",'B-Méthodes'!Z74=\"Ne s'applique pas\"),\"\",IF(AND('B-Méthodes'!N75=\"Ne s'applique pas\",'B-Méthodes'!Z75=\"Ne s'applique pas\"),\"\",MAX('B-Méthodes'!N178,'B-Méthodes'!Z178)+MAX('B-Méthodes'!N179,'B-Méthodes'!Z179)+MAX('B-Méthodes'!N180,'B-Méthodes'!Z180)+MAX('B-Méthodes'!N187,'B-Méthodes'!Z187)+MAX('B-Méthodes'!N188,'B-Méthodes'!Z188)+MAX('B-Méthodes'!N189,'B-Méthodes'!Z189))))))))","v":""},{"$f":"IF(OR('B-Méthodes'!N77:O77=\"-\",'B-Méthodes'!AB77:AC77=\"-\"),\"\",IF(AND('B-Méthodes'!N69=\"Ne s'applique pas\",'B-Méthodes'!AB69=\"Ne s'applique pas\"),\"\",IF(AND('B-Méthodes'!N70=\"Ne s'applique pas\",'B-Méthodes'!AB70=\"Ne s'applique pas\"),\"\",IF(AND('B-Méthodes'!N71=\"Ne s'applique pas\",'B-Méthodes'!AB71=\"Ne s'applique pas\"),\"\",IF(AND('B-Méthodes'!N73=\"Ne s'applique pas\",'B-Méthodes'!AB73=\"Ne s'applique pas\"),\"\",IF(AND('B-Méthodes'!N74=\"Ne s'applique pas\",'B-Méthodes'!AB74=\"Ne s'applique pas\"),\"\",IF(AND('B-Méthodes'!N75=\"Ne s'applique pas\",'B-Méthodes'!AB75=\"Ne s'applique pas\"),\"\",MAX('B-Méthodes'!N178,'B-Méthodes'!AB178)+MAX('B-Méthodes'!N179,'B-Méthodes'!AB179)+MAX('B-Méthodes'!N180,'B-Méthodes'!AB180)+MAX('B-Méthodes'!N187,'B-Méthodes'!AB187)+MAX('B-Méthodes'!N188,'B-Méthodes'!AB188)+MAX('B-Méthodes'!N189,'B-Méthodes'!AB189))))))))","v":""},{"$f":"IF(OR('B-Méthodes'!N77:O77=\"-\",'B-Méthodes'!AD77:AE77=\"-\"),\"\",IF(AND('B-Méthodes'!N69=\"Ne s'applique pas\",'B-Méthodes'!AD69=\"Ne s'applique pas\"),\"\",IF(AND('B-Méthodes'!N70=\"Ne s'applique pas\",'B-Méthodes'!AD70=\"Ne s'applique pas\"),\"\",IF(AND('B-Méthodes'!N71=\"Ne s'applique pas\",'B-Méthodes'!AD71=\"Ne s'applique pas\"),\"\",IF(AND('B-Méthodes'!N73=\"Ne s'applique pas\",'B-Méthodes'!AD73=\"Ne s'applique pas\"),\"\",IF(AND('B-Méthodes'!N74=\"Ne s'applique pas\",'B-Méthodes'!AD74=\"Ne s'applique pas\"),\"\",IF(AND('B-Méthodes'!N75=\"Ne s'applique pas\",'B-Méthodes'!AD75=\"Ne s'applique pas\"),\"\",MAX('B-Méthodes'!N178,'B-Méthodes'!AD178)+MAX('B-Méthodes'!N179,'B-Méthodes'!AD179)+MAX('B-Méthodes'!N180,'B-Méthodes'!AD180)+MAX('B-Méthodes'!N187,'B-Méthodes'!AD187)+MAX('B-Méthodes'!N188,'B-Méthodes'!AD188)+MAX('B-Méthodes'!N189,'B-Méthodes'!AD189))))))))","v":""},{"$f":"IF(OR('B-Méthodes'!P77:Q77=\"-\",'B-Méthodes'!T77:U77=\"-\"),\"\",IF(AND('B-Méthodes'!P69=\"Ne s'applique pas\",'B-Méthodes'!T69=\"Ne s'applique pas\"),\"\",IF(AND('B-Méthodes'!P70=\"Ne s'applique pas\",'B-Méthodes'!T70=\"Ne s'applique pas\"),\"\",IF(AND('B-Méthodes'!P71=\"Ne s'applique pas\",'B-Méthodes'!T71=\"Ne s'applique pas\"),\"\",IF(AND('B-Méthodes'!P73=\"Ne s'applique pas\",'B-Méthodes'!T73=\"Ne s'applique pas\"),\"\",IF(AND('B-Méthodes'!P74=\"Ne s'applique pas\",'B-Méthodes'!T74=\"Ne s'applique pas\"),\"\",IF(AND('B-Méthodes'!P75=\"Ne s'applique pas\",'B-Méthodes'!T75=\"Ne s'applique pas\"),\"\",MAX('B-Méthodes'!P178,'B-Méthodes'!T178)+MAX('B-Méthodes'!P179,'B-Méthodes'!T179)+MAX('B-Méthodes'!P180,'B-Méthodes'!T180)+MAX('B-Méthodes'!P187,'B-Méthodes'!T187)+MAX('B-Méthodes'!P188,'B-Méthodes'!T188)+MAX('B-Méthodes'!P189,'B-Méthodes'!T189))))))))","v":""},{"$f":"IF(OR('B-Méthodes'!P77:Q77=\"-\",'B-Méthodes'!V77:W77=\"-\"),\"\",IF(AND('B-Méthodes'!P69=\"Ne s'applique pas\",'B-Méthodes'!V69=\"Ne s'applique pas\"),\"\",IF(AND('B-Méthodes'!P70=\"Ne s'applique pas\",'B-Méthodes'!V70=\"Ne s'applique pas\"),\"\",IF(AND('B-Méthodes'!P71=\"Ne s'applique pas\",'B-Méthodes'!V71=\"Ne s'applique pas\"),\"\",IF(AND('B-Méthodes'!P73=\"Ne s'applique pas\",'B-Méthodes'!V73=\"Ne s'applique pas\"),\"\",IF(AND('B-Méthodes'!P74=\"Ne s'applique pas\",'B-Méthodes'!V74=\"Ne s'applique pas\"),\"\",IF(AND('B-Méthodes'!P75=\"Ne s'applique pas\",'B-Méthodes'!V75=\"Ne s'applique pas\"),\"\",MAX('B-Méthodes'!P178,'B-Méthodes'!V178)+MAX('B-Méthodes'!P179,'B-Méthodes'!V179)+MAX('B-Méthodes'!P180,'B-Méthodes'!V180)+MAX('B-Méthodes'!P187,'B-Méthodes'!V187)+MAX('B-Méthodes'!P188,'B-Méthodes'!V188)+MAX('B-Méthodes'!P189,'B-Méthodes'!V189))))))))","v":""},{"$f":"IF(OR('B-Méthodes'!P77:Q77=\"-\",'B-Méthodes'!X77:Y77=\"-\"),\"\",IF(AND('B-Méthodes'!P69=\"Ne s'applique pas\",'B-Méthodes'!X69=\"Ne s'applique pas\"),\"\",IF(AND('B-Méthodes'!P70=\"Ne s'applique pas\",'B-Méthodes'!X70=\"Ne s'applique pas\"),\"\",IF(AND('B-Méthodes'!P71=\"Ne s'applique pas\",'B-Méthodes'!X71=\"Ne s'applique pas\"),\"\",IF(AND('B-Méthodes'!P73=\"Ne s'applique pas\",'B-Méthodes'!X73=\"Ne s'applique pas\"),\"\",IF(AND('B-Méthodes'!P74=\"Ne s'applique pas\",'B-Méthodes'!X74=\"Ne s'applique pas\"),\"\",IF(AND('B-Méthodes'!P75=\"Ne s'applique pas\",'B-Méthodes'!X75=\"Ne s'applique pas\"),\"\",MAX('B-Méthodes'!P178,'B-Méthodes'!X178)+MAX('B-Méthodes'!P179,'B-Méthodes'!X179)+MAX('B-Méthodes'!P180,'B-Méthodes'!X180)+MAX('B-Méthodes'!P187,'B-Méthodes'!X187)+MAX('B-Méthodes'!P188,'B-Méthodes'!X188)+MAX('B-Méthodes'!P189,'B-Méthodes'!X189))))))))","v":""},{"$f":"IF(OR('B-Méthodes'!P77:Q77=\"-\",'B-Méthodes'!Z77:AA77=\"-\"),\"\",IF(AND('B-Méthodes'!P69=\"Ne s'applique pas\",'B-Méthodes'!Z69=\"Ne s'applique pas\"),\"\",IF(AND('B-Méthodes'!P70=\"Ne s'applique pas\",'B-Méthodes'!Z70=\"Ne s'applique pas\"),\"\",IF(AND('B-Méthodes'!P71=\"Ne s'applique pas\",'B-Méthodes'!Z71=\"Ne s'applique pas\"),\"\",IF(AND('B-Méthodes'!P73=\"Ne s'applique pas\",'B-Méthodes'!Z73=\"Ne s'applique pas\"),\"\",IF(AND('B-Méthodes'!P74=\"Ne s'applique pas\",'B-Méthodes'!Z74=\"Ne s'applique pas\"),\"\",IF(AND('B-Méthodes'!P75=\"Ne s'applique pas\",'B-Méthodes'!Z75=\"Ne s'applique pas\"),\"\",MAX('B-Méthodes'!P178,'B-Méthodes'!Z178)+MAX('B-Méthodes'!P179,'B-Méthodes'!Z179)+MAX('B-Méthodes'!P180,'B-Méthodes'!Z180)+MAX('B-Méthodes'!P187,'B-Méthodes'!Z187)+MAX('B-Méthodes'!P188,'B-Méthodes'!Z188)+MAX('B-Méthodes'!P189,'B-Méthodes'!Z189))))))))","v":""},{"$f":"IF(OR('B-Méthodes'!P77:Q77=\"-\",'B-Méthodes'!AB77:AC77=\"-\"),\"\",IF(AND('B-Méthodes'!P69=\"Ne s'applique pas\",'B-Méthodes'!AB69=\"Ne s'applique pas\"),\"\",IF(AND('B-Méthodes'!P70=\"Ne s'applique pas\",'B-Méthodes'!AB70=\"Ne s'applique pas\"),\"\",IF(AND('B-Méthodes'!P71=\"Ne s'applique pas\",'B-Méthodes'!AB71=\"Ne s'applique pas\"),\"\",IF(AND('B-Méthodes'!P73=\"Ne s'applique pas\",'B-Méthodes'!AB73=\"Ne s'applique pas\"),\"\",IF(AND('B-Méthodes'!P74=\"Ne s'applique pas\",'B-Méthodes'!AB74=\"Ne s'applique pas\"),\"\",IF(AND('B-Méthodes'!P75=\"Ne s'applique pas\",'B-Méthodes'!AB75=\"Ne s'applique pas\"),\"\",MAX('B-Méthodes'!P178,'B-Méthodes'!AB178)+MAX('B-Méthodes'!P179,'B-Méthodes'!AB179)+MAX('B-Méthodes'!P180,'B-Méthodes'!AB180)+MAX('B-Méthodes'!P187,'B-Méthodes'!AB187)+MAX('B-Méthodes'!P188,'B-Méthodes'!AB188)+MAX('B-Méthodes'!P189,'B-Méthodes'!AB189))))))))","v":""},{"$f":"IF(OR('B-Méthodes'!P77:Q77=\"-\",'B-Méthodes'!AD77:AE77=\"-\"),\"\",IF(AND('B-Méthodes'!P69=\"Ne s'applique pas\",'B-Méthodes'!AD69=\"Ne s'applique pas\"),\"\",IF(AND('B-Méthodes'!P70=\"Ne s'applique pas\",'B-Méthodes'!AD70=\"Ne s'applique pas\"),\"\",IF(AND('B-Méthodes'!P71=\"Ne s'applique pas\",'B-Méthodes'!AD71=\"Ne s'applique pas\"),\"\",IF(AND('B-Méthodes'!P73=\"Ne s'applique pas\",'B-Méthodes'!AD73=\"Ne s'applique pas\"),\"\",IF(AND('B-Méthodes'!P74=\"Ne s'applique pas\",'B-Méthodes'!AD74=\"Ne s'applique pas\"),\"\",IF(AND('B-Méthodes'!P75=\"Ne s'applique pas\",'B-Méthodes'!AD75=\"Ne s'applique pas\"),\"\",MAX('B-Méthodes'!P178,'B-Méthodes'!AD178)+MAX('B-Méthodes'!P179,'B-Méthodes'!AD179)+MAX('B-Méthodes'!P180,'B-Méthodes'!AD180)+MAX('B-Méthodes'!P187,'B-Méthodes'!AD187)+MAX('B-Méthodes'!P188,'B-Méthodes'!AD188)+MAX('B-Méthodes'!P189,'B-Méthodes'!AD189))))))))","v":""},{"$f":"IF(OR('B-Méthodes'!R77:S77=\"-\",'B-Méthodes'!T77:U77=\"-\"),\"\",IF(AND('B-Méthodes'!R69=\"Ne s'applique pas\",'B-Méthodes'!T69=\"Ne s'applique pas\"),\"\",IF(AND('B-Méthodes'!R70=\"Ne s'applique pas\",'B-Méthodes'!T70=\"Ne s'applique pas\"),\"\",IF(AND('B-Méthodes'!R71=\"Ne s'applique pas\",'B-Méthodes'!T71=\"Ne s'applique pas\"),\"\",IF(AND('B-Méthodes'!R73=\"Ne s'applique pas\",'B-Méthodes'!T73=\"Ne s'applique pas\"),\"\",IF(AND('B-Méthodes'!R74=\"Ne s'applique pas\",'B-Méthodes'!T74=\"Ne s'applique pas\"),\"\",IF(AND('B-Méthodes'!R75=\"Ne s'applique pas\",'B-Méthodes'!T75=\"Ne s'applique pas\"),\"\",MAX('B-Méthodes'!R178,'B-Méthodes'!T178)+MAX('B-Méthodes'!R179,'B-Méthodes'!T179)+MAX('B-Méthodes'!R180,'B-Méthodes'!T180)+MAX('B-Méthodes'!R187,'B-Méthodes'!T187)+MAX('B-Méthodes'!R188,'B-Méthodes'!T188)+MAX('B-Méthodes'!R189,'B-Méthodes'!T189))))))))","v":""},{"$f":"IF(OR('B-Méthodes'!R77:S77=\"-\",'B-Méthodes'!V77:W77=\"-\"),\"\",IF(AND('B-Méthodes'!R69=\"Ne s'applique pas\",'B-Méthodes'!V69=\"Ne s'applique pas\"),\"\",IF(AND('B-Méthodes'!R70=\"Ne s'applique pas\",'B-Méthodes'!V70=\"Ne s'applique pas\"),\"\",IF(AND('B-Méthodes'!R71=\"Ne s'applique pas\",'B-Méthodes'!V71=\"Ne s'applique pas\"),\"\",IF(AND('B-Méthodes'!R73=\"Ne s'applique pas\",'B-Méthodes'!V73=\"Ne s'applique pas\"),\"\",IF(AND('B-Méthodes'!R74=\"Ne s'applique pas\",'B-Méthodes'!V74=\"Ne s'applique pas\"),\"\",IF(AND('B-Méthodes'!R75=\"Ne s'applique pas\",'B-Méthodes'!V75=\"Ne s'applique pas\"),\"\",MAX('B-Méthodes'!R178,'B-Méthodes'!V178)+MAX('B-Méthodes'!R179,'B-Méthodes'!V179)+MAX('B-Méthodes'!R180,'B-Méthodes'!V180)+MAX('B-Méthodes'!R187,'B-Méthodes'!V187)+MAX('B-Méthodes'!R188,'B-Méthodes'!V188)+MAX('B-Méthodes'!R189,'B-Méthodes'!V189))))))))","v":""},{"$f":"IF(OR('B-Méthodes'!R77:S77=\"-\",'B-Méthodes'!X77:Y77=\"-\"),\"\",IF(AND('B-Méthodes'!R69=\"Ne s'applique pas\",'B-Méthodes'!X69=\"Ne s'applique pas\"),\"\",IF(AND('B-Méthodes'!R70=\"Ne s'applique pas\",'B-Méthodes'!X70=\"Ne s'applique pas\"),\"\",IF(AND('B-Méthodes'!R71=\"Ne s'applique pas\",'B-Méthodes'!X71=\"Ne s'applique pas\"),\"\",IF(AND('B-Méthodes'!R73=\"Ne s'applique pas\",'B-Méthodes'!X73=\"Ne s'applique pas\"),\"\",IF(AND('B-Méthodes'!R74=\"Ne s'applique pas\",'B-Méthodes'!X74=\"Ne s'applique pas\"),\"\",IF(AND('B-Méthodes'!R75=\"Ne s'applique pas\",'B-Méthodes'!X75=\"Ne s'applique pas\"),\"\",MAX('B-Méthodes'!R178,'B-Méthodes'!X178)+MAX('B-Méthodes'!R179,'B-Méthodes'!X179)+MAX('B-Méthodes'!R180,'B-Méthodes'!X180)+MAX('B-Méthodes'!R187,'B-Méthodes'!X187)+MAX('B-Méthodes'!R188,'B-Méthodes'!X188)+MAX('B-Méthodes'!R189,'B-Méthodes'!X189))))))))","v":""},{"$f":"IF(OR('B-Méthodes'!R77:S77=\"-\",'B-Méthodes'!Z77:AA77=\"-\"),\"\",IF(AND('B-Méthodes'!R69=\"Ne s'applique pas\",'B-Méthodes'!Z69=\"Ne s'applique pas\"),\"\",IF(AND('B-Méthodes'!R70=\"Ne s'applique pas\",'B-Méthodes'!Z70=\"Ne s'applique pas\"),\"\",IF(AND('B-Méthodes'!R71=\"Ne s'applique pas\",'B-Méthodes'!Z71=\"Ne s'applique pas\"),\"\",IF(AND('B-Méthodes'!R73=\"Ne s'applique pas\",'B-Méthodes'!Z73=\"Ne s'applique pas\"),\"\",IF(AND('B-Méthodes'!R74=\"Ne s'applique pas\",'B-Méthodes'!Z74=\"Ne s'applique pas\"),\"\",IF(AND('B-Méthodes'!R75=\"Ne s'applique pas\",'B-Méthodes'!Z75=\"Ne s'applique pas\"),\"\",MAX('B-Méthodes'!R178,'B-Méthodes'!Z178)+MAX('B-Méthodes'!R179,'B-Méthodes'!Z179)+MAX('B-Méthodes'!R180,'B-Méthodes'!Z180)+MAX('B-Méthodes'!R187,'B-Méthodes'!Z187)+MAX('B-Méthodes'!R188,'B-Méthodes'!Z188)+MAX('B-Méthodes'!R189,'B-Méthodes'!Z189))))))))","v":""},{"$f":"IF(OR('B-Méthodes'!R77:S77=\"-\",'B-Méthodes'!AB77:AC77=\"-\"),\"\",IF(AND('B-Méthodes'!R69=\"Ne s'applique pas\",'B-Méthodes'!AB69=\"Ne s'applique pas\"),\"\",IF(AND('B-Méthodes'!R70=\"Ne s'applique pas\",'B-Méthodes'!AB70=\"Ne s'applique pas\"),\"\",IF(AND('B-Méthodes'!R71=\"Ne s'applique pas\",'B-Méthodes'!AB71=\"Ne s'applique pas\"),\"\",IF(AND('B-Méthodes'!R73=\"Ne s'applique pas\",'B-Méthodes'!AB73=\"Ne s'applique pas\"),\"\",IF(AND('B-Méthodes'!R74=\"Ne s'applique pas\",'B-Méthodes'!AB74=\"Ne s'applique pas\"),\"\",IF(AND('B-Méthodes'!R75=\"Ne s'applique pas\",'B-Méthodes'!AB75=\"Ne s'applique pas\"),\"\",MAX('B-Méthodes'!R178,'B-Méthodes'!AB178)+MAX('B-Méthodes'!R179,'B-Méthodes'!AB179)+MAX('B-Méthodes'!R180,'B-Méthodes'!AB180)+MAX('B-Méthodes'!R187,'B-Méthodes'!AB187)+MAX('B-Méthodes'!R188,'B-Méthodes'!AB188)+MAX('B-Méthodes'!R189,'B-Méthodes'!AB189))))))))","v":""},{"$f":"IF(OR('B-Méthodes'!R77:S77=\"-\",'B-Méthodes'!AD77:AE77=\"-\"),\"\",IF(AND('B-Méthodes'!R69=\"Ne s'applique pas\",'B-Méthodes'!AD69=\"Ne s'applique pas\"),\"\",IF(AND('B-Méthodes'!R70=\"Ne s'applique pas\",'B-Méthodes'!AD70=\"Ne s'applique pas\"),\"\",IF(AND('B-Méthodes'!R71=\"Ne s'applique pas\",'B-Méthodes'!AD71=\"Ne s'applique pas\"),\"\",IF(AND('B-Méthodes'!R73=\"Ne s'applique pas\",'B-Méthodes'!AD73=\"Ne s'applique pas\"),\"\",IF(AND('B-Méthodes'!R74=\"Ne s'applique pas\",'B-Méthodes'!AD74=\"Ne s'applique pas\"),\"\",IF(AND('B-Méthodes'!R75=\"Ne s'applique pas\",'B-Méthodes'!AD75=\"Ne s'applique pas\"),\"\",MAX('B-Méthodes'!R178,'B-Méthodes'!AD178)+MAX('B-Méthodes'!R179,'B-Méthodes'!AD179)+MAX('B-Méthodes'!R180,'B-Méthodes'!AD180)+MAX('B-Méthodes'!R187,'B-Méthodes'!AD187)+MAX('B-Méthodes'!R188,'B-Méthodes'!AD188)+MAX('B-Méthodes'!R189,'B-Méthodes'!AD189))))))))","v":""},{"$f":"IF(OR('B-Méthodes'!T77:U77=\"-\",'B-Méthodes'!V77:W77=\"-\"),\"\",IF(AND('B-Méthodes'!T69=\"Ne s'applique pas\",'B-Méthodes'!V69=\"Ne s'applique pas\"),\"\",IF(AND('B-Méthodes'!T70=\"Ne s'applique pas\",'B-Méthodes'!V70=\"Ne s'applique pas\"),\"\",IF(AND('B-Méthodes'!T71=\"Ne s'applique pas\",'B-Méthodes'!V71=\"Ne s'applique pas\"),\"\",IF(AND('B-Méthodes'!T73=\"Ne s'applique pas\",'B-Méthodes'!V73=\"Ne s'applique pas\"),\"\",IF(AND('B-Méthodes'!T74=\"Ne s'applique pas\",'B-Méthodes'!V74=\"Ne s'applique pas\"),\"\",IF(AND('B-Méthodes'!T75=\"Ne s'applique pas\",'B-Méthodes'!V75=\"Ne s'applique pas\"),\"\",MAX('B-Méthodes'!T178,'B-Méthodes'!V178)+MAX('B-Méthodes'!T179,'B-Méthodes'!V179)+MAX('B-Méthodes'!T180,'B-Méthodes'!V180)+MAX('B-Méthodes'!T187,'B-Méthodes'!V187)+MAX('B-Méthodes'!T188,'B-Méthodes'!V188)+MAX('B-Méthodes'!T189,'B-Méthodes'!V189))))))))","v":""},{"$f":"IF(OR('B-Méthodes'!T77:U77=\"-\",'B-Méthodes'!X77:Y77=\"-\"),\"\",IF(AND('B-Méthodes'!T69=\"Ne s'applique pas\",'B-Méthodes'!X69=\"Ne s'applique pas\"),\"\",IF(AND('B-Méthodes'!T70=\"Ne s'applique pas\",'B-Méthodes'!X70=\"Ne s'applique pas\"),\"\",IF(AND('B-Méthodes'!T71=\"Ne s'applique pas\",'B-Méthodes'!X71=\"Ne s'applique pas\"),\"\",IF(AND('B-Méthodes'!T73=\"Ne s'applique pas\",'B-Méthodes'!X73=\"Ne s'applique pas\"),\"\",IF(AND('B-Méthodes'!T74=\"Ne s'applique pas\",'B-Méthodes'!X74=\"Ne s'applique pas\"),\"\",IF(AND('B-Méthodes'!T75=\"Ne s'applique pas\",'B-Méthodes'!X75=\"Ne s'applique pas\"),\"\",MAX('B-Méthodes'!T178,'B-Méthodes'!X178)+MAX('B-Méthodes'!T179,'B-Méthodes'!X179)+MAX('B-Méthodes'!T180,'B-Méthodes'!X180)+MAX('B-Méthodes'!T187,'B-Méthodes'!X187)+MAX('B-Méthodes'!T188,'B-Méthodes'!X188)+MAX('B-Méthodes'!T189,'B-Méthodes'!X189))))))))","v":""},{"$f":"IF(OR('B-Méthodes'!T77:U77=\"-\",'B-Méthodes'!Z77:AA77=\"-\"),\"\",IF(AND('B-Méthodes'!T69=\"Ne s'applique pas\",'B-Méthodes'!Z69=\"Ne s'applique pas\"),\"\",IF(AND('B-Méthodes'!T70=\"Ne s'applique pas\",'B-Méthodes'!Z70=\"Ne s'applique pas\"),\"\",IF(AND('B-Méthodes'!T71=\"Ne s'applique pas\",'B-Méthodes'!Z71=\"Ne s'applique pas\"),\"\",IF(AND('B-Méthodes'!T73=\"Ne s'applique pas\",'B-Méthodes'!Z73=\"Ne s'applique pas\"),\"\",IF(AND('B-Méthodes'!T74=\"Ne s'applique pas\",'B-Méthodes'!Z74=\"Ne s'applique pas\"),\"\",IF(AND('B-Méthodes'!T75=\"Ne s'applique pas\",'B-Méthodes'!Z75=\"Ne s'applique pas\"),\"\",MAX('B-Méthodes'!T178,'B-Méthodes'!Z178)+MAX('B-Méthodes'!T179,'B-Méthodes'!Z179)+MAX('B-Méthodes'!T180,'B-Méthodes'!Z180)+MAX('B-Méthodes'!T187,'B-Méthodes'!Z187)+MAX('B-Méthodes'!T188,'B-Méthodes'!Z188)+MAX('B-Méthodes'!T189,'B-Méthodes'!Z189))))))))","v":""},{"$f":"IF(OR('B-Méthodes'!T77:U77=\"-\",'B-Méthodes'!AB77:AC77=\"-\"),\"\",IF(AND('B-Méthodes'!T69=\"Ne s'applique pas\",'B-Méthodes'!AB69=\"Ne s'applique pas\"),\"\",IF(AND('B-Méthodes'!T70=\"Ne s'applique pas\",'B-Méthodes'!AB70=\"Ne s'applique pas\"),\"\",IF(AND('B-Méthodes'!T71=\"Ne s'applique pas\",'B-Méthodes'!AB71=\"Ne s'applique pas\"),\"\",IF(AND('B-Méthodes'!T73=\"Ne s'applique pas\",'B-Méthodes'!AB73=\"Ne s'applique pas\"),\"\",IF(AND('B-Méthodes'!T74=\"Ne s'applique pas\",'B-Méthodes'!AB74=\"Ne s'applique pas\"),\"\",IF(AND('B-Méthodes'!T75=\"Ne s'applique pas\",'B-Méthodes'!AB75=\"Ne s'applique pas\"),\"\",MAX('B-Méthodes'!T178,'B-Méthodes'!AB178)+MAX('B-Méthodes'!T179,'B-Méthodes'!AB179)+MAX('B-Méthodes'!T180,'B-Méthodes'!AB180)+MAX('B-Méthodes'!T187,'B-Méthodes'!AB187)+MAX('B-Méthodes'!T188,'B-Méthodes'!AB188)+MAX('B-Méthodes'!T189,'B-Méthodes'!AB189))))))))","v":""},{"$f":"IF(OR('B-Méthodes'!T77:U77=\"-\",'B-Méthodes'!AD77:AE77=\"-\"),\"\",IF(AND('B-Méthodes'!T69=\"Ne s'applique pas\",'B-Méthodes'!AD69=\"Ne s'applique pas\"),\"\",IF(AND('B-Méthodes'!T70=\"Ne s'applique pas\",'B-Méthodes'!AD70=\"Ne s'applique pas\"),\"\",IF(AND('B-Méthodes'!T71=\"Ne s'applique pas\",'B-Méthodes'!AD71=\"Ne s'applique pas\"),\"\",IF(AND('B-Méthodes'!T73=\"Ne s'applique pas\",'B-Méthodes'!AD73=\"Ne s'applique pas\"),\"\",IF(AND('B-Méthodes'!T74=\"Ne s'applique pas\",'B-Méthodes'!AD74=\"Ne s'applique pas\"),\"\",IF(AND('B-Méthodes'!T75=\"Ne s'applique pas\",'B-Méthodes'!AD75=\"Ne s'applique pas\"),\"\",MAX('B-Méthodes'!T178,'B-Méthodes'!AD178)+MAX('B-Méthodes'!T179,'B-Méthodes'!AD179)+MAX('B-Méthodes'!T180,'B-Méthodes'!AD180)+MAX('B-Méthodes'!T187,'B-Méthodes'!AD187)+MAX('B-Méthodes'!T188,'B-Méthodes'!AD188)+MAX('B-Méthodes'!T189,'B-Méthodes'!AD189))))))))","v":""},{"$f":"IF(OR('B-Méthodes'!V77:W77=\"-\",'B-Méthodes'!X77:Y77=\"-\"),\"\",IF(AND('B-Méthodes'!V69=\"Ne s'applique pas\",'B-Méthodes'!X69=\"Ne s'applique pas\"),\"\",IF(AND('B-Méthodes'!V70=\"Ne s'applique pas\",'B-Méthodes'!X70=\"Ne s'applique pas\"),\"\",IF(AND('B-Méthodes'!V71=\"Ne s'applique pas\",'B-Méthodes'!X71=\"Ne s'applique pas\"),\"\",IF(AND('B-Méthodes'!V73=\"Ne s'applique pas\",'B-Méthodes'!X73=\"Ne s'applique pas\"),\"\",IF(AND('B-Méthodes'!V74=\"Ne s'applique pas\",'B-Méthodes'!X74=\"Ne s'applique pas\"),\"\",IF(AND('B-Méthodes'!V75=\"Ne s'applique pas\",'B-Méthodes'!X75=\"Ne s'applique pas\"),\"\",MAX('B-Méthodes'!V178,'B-Méthodes'!X178)+MAX('B-Méthodes'!V179,'B-Méthodes'!X179)+MAX('B-Méthodes'!V180,'B-Méthodes'!X180)+MAX('B-Méthodes'!V187,'B-Méthodes'!X187)+MAX('B-Méthodes'!V188,'B-Méthodes'!X188)+MAX('B-Méthodes'!V189,'B-Méthodes'!X189))))))))","v":""},{"$f":"IF(OR('B-Méthodes'!V77:W77=\"-\",'B-Méthodes'!Z77:AA77=\"-\"),\"\",IF(AND('B-Méthodes'!V69=\"Ne s'applique pas\",'B-Méthodes'!Z69=\"Ne s'applique pas\"),\"\",IF(AND('B-Méthodes'!V70=\"Ne s'applique pas\",'B-Méthodes'!Z70=\"Ne s'applique pas\"),\"\",IF(AND('B-Méthodes'!V71=\"Ne s'applique pas\",'B-Méthodes'!Z71=\"Ne s'applique pas\"),\"\",IF(AND('B-Méthodes'!V73=\"Ne s'applique pas\",'B-Méthodes'!Z73=\"Ne s'applique pas\"),\"\",IF(AND('B-Méthodes'!V74=\"Ne s'applique pas\",'B-Méthodes'!Z74=\"Ne s'applique pas\"),\"\",IF(AND('B-Méthodes'!V75=\"Ne s'applique pas\",'B-Méthodes'!Z75=\"Ne s'applique pas\"),\"\",MAX('B-Méthodes'!V178,'B-Méthodes'!Z178)+MAX('B-Méthodes'!V179,'B-Méthodes'!Z179)+MAX('B-Méthodes'!V180,'B-Méthodes'!Z180)+MAX('B-Méthodes'!V187,'B-Méthodes'!Z187)+MAX('B-Méthodes'!V188,'B-Méthodes'!Z188)+MAX('B-Méthodes'!V189,'B-Méthodes'!Z189))))))))","v":""},{"$f":"IF(OR('B-Méthodes'!V77:W77=\"-\",'B-Méthodes'!AB77:AC77=\"-\"),\"\",IF(AND('B-Méthodes'!V69=\"Ne s'applique pas\",'B-Méthodes'!AB69=\"Ne s'applique pas\"),\"\",IF(AND('B-Méthodes'!V70=\"Ne s'applique pas\",'B-Méthodes'!AB70=\"Ne s'applique pas\"),\"\",IF(AND('B-Méthodes'!V71=\"Ne s'applique pas\",'B-Méthodes'!AB71=\"Ne s'applique pas\"),\"\",IF(AND('B-Méthodes'!V73=\"Ne s'applique pas\",'B-Méthodes'!AB73=\"Ne s'applique pas\"),\"\",IF(AND('B-Méthodes'!V74=\"Ne s'applique pas\",'B-Méthodes'!AB74=\"Ne s'applique pas\"),\"\",IF(AND('B-Méthodes'!V75=\"Ne s'applique pas\",'B-Méthodes'!AB75=\"Ne s'applique pas\"),\"\",MAX('B-Méthodes'!V178,'B-Méthodes'!AB178)+MAX('B-Méthodes'!V179,'B-Méthodes'!AB179)+MAX('B-Méthodes'!V180,'B-Méthodes'!AB180)+MAX('B-Méthodes'!V187,'B-Méthodes'!AB187)+MAX('B-Méthodes'!V188,'B-Méthodes'!AB188)+MAX('B-Méthodes'!V189,'B-Méthodes'!AB189))))))))","v":""},{"$f":"IF(OR('B-Méthodes'!V77:W77=\"-\",'B-Méthodes'!AD77:AE77=\"-\"),\"\",IF(AND('B-Méthodes'!V69=\"Ne s'applique pas\",'B-Méthodes'!AD69=\"Ne s'applique pas\"),\"\",IF(AND('B-Méthodes'!V70=\"Ne s'applique pas\",'B-Méthodes'!AD70=\"Ne s'applique pas\"),\"\",IF(AND('B-Méthodes'!V71=\"Ne s'applique pas\",'B-Méthodes'!AD71=\"Ne s'applique pas\"),\"\",IF(AND('B-Méthodes'!V73=\"Ne s'applique pas\",'B-Méthodes'!AD73=\"Ne s'applique pas\"),\"\",IF(AND('B-Méthodes'!V74=\"Ne s'applique pas\",'B-Méthodes'!AD74=\"Ne s'applique pas\"),\"\",IF(AND('B-Méthodes'!V75=\"Ne s'applique pas\",'B-Méthodes'!AD75=\"Ne s'applique pas\"),\"\",MAX('B-Méthodes'!V178,'B-Méthodes'!AD178)+MAX('B-Méthodes'!V179,'B-Méthodes'!AD179)+MAX('B-Méthodes'!V180,'B-Méthodes'!AD180)+MAX('B-Méthodes'!V187,'B-Méthodes'!AD187)+MAX('B-Méthodes'!V188,'B-Méthodes'!AD188)+MAX('B-Méthodes'!V189,'B-Méthodes'!AD189))))))))","v":""},{"$f":"IF(OR('B-Méthodes'!X77:Y77=\"-\",'B-Méthodes'!Z77:AA77=\"-\"),\"\",IF(AND('B-Méthodes'!X69=\"Ne s'applique pas\",'B-Méthodes'!Z69=\"Ne s'applique pas\"),\"\",IF(AND('B-Méthodes'!X70=\"Ne s'applique pas\",'B-Méthodes'!Z70=\"Ne s'applique pas\"),\"\",IF(AND('B-Méthodes'!X71=\"Ne s'applique pas\",'B-Méthodes'!Z71=\"Ne s'applique pas\"),\"\",IF(AND('B-Méthodes'!X73=\"Ne s'applique pas\",'B-Méthodes'!Z73=\"Ne s'applique pas\"),\"\",IF(AND('B-Méthodes'!X74=\"Ne s'applique pas\",'B-Méthodes'!Z74=\"Ne s'applique pas\"),\"\",IF(AND('B-Méthodes'!X75=\"Ne s'applique pas\",'B-Méthodes'!Z75=\"Ne s'applique pas\"),\"\",MAX('B-Méthodes'!X178,'B-Méthodes'!Z178)+MAX('B-Méthodes'!X179,'B-Méthodes'!Z179)+MAX('B-Méthodes'!X180,'B-Méthodes'!Z180)+MAX('B-Méthodes'!X187,'B-Méthodes'!Z187)+MAX('B-Méthodes'!X188,'B-Méthodes'!Z188)+MAX('B-Méthodes'!X189,'B-Méthodes'!Z189))))))))","v":""},{"$f":"IF(OR('B-Méthodes'!X77:Y77=\"-\",'B-Méthodes'!AB77:AC77=\"-\"),\"\",IF(AND('B-Méthodes'!X69=\"Ne s'applique pas\",'B-Méthodes'!AB69=\"Ne s'applique pas\"),\"\",IF(AND('B-Méthodes'!X70=\"Ne s'applique pas\",'B-Méthodes'!AB70=\"Ne s'applique pas\"),\"\",IF(AND('B-Méthodes'!X71=\"Ne s'applique pas\",'B-Méthodes'!AB71=\"Ne s'applique pas\"),\"\",IF(AND('B-Méthodes'!X73=\"Ne s'applique pas\",'B-Méthodes'!AB73=\"Ne s'applique pas\"),\"\",IF(AND('B-Méthodes'!X74=\"Ne s'applique pas\",'B-Méthodes'!AB74=\"Ne s'applique pas\"),\"\",IF(AND('B-Méthodes'!X75=\"Ne s'applique pas\",'B-Méthodes'!AB75=\"Ne s'applique pas\"),\"\",MAX('B-Méthodes'!X178,'B-Méthodes'!AB178)+MAX('B-Méthodes'!X179,'B-Méthodes'!AB179)+MAX('B-Méthodes'!X180,'B-Méthodes'!AB180)+MAX('B-Méthodes'!X187,'B-Méthodes'!AB187)+MAX('B-Méthodes'!X188,'B-Méthodes'!AB188)+MAX('B-Méthodes'!X189,'B-Méthodes'!AB189))))))))","v":""},{"$f":"IF(OR('B-Méthodes'!X77:Y77=\"-\",'B-Méthodes'!AD77:AE77=\"-\"),\"\",IF(AND('B-Méthodes'!X69=\"Ne s'applique pas\",'B-Méthodes'!AD69=\"Ne s'applique pas\"),\"\",IF(AND('B-Méthodes'!X70=\"Ne s'applique pas\",'B-Méthodes'!AD70=\"Ne s'applique pas\"),\"\",IF(AND('B-Méthodes'!X71=\"Ne s'applique pas\",'B-Méthodes'!AD71=\"Ne s'applique pas\"),\"\",IF(AND('B-Méthodes'!X73=\"Ne s'applique pas\",'B-Méthodes'!AD73=\"Ne s'applique pas\"),\"\",IF(AND('B-Méthodes'!X74=\"Ne s'applique pas\",'B-Méthodes'!AD74=\"Ne s'applique pas\"),\"\",IF(AND('B-Méthodes'!X75=\"Ne s'applique pas\",'B-Méthodes'!AD75=\"Ne s'applique pas\"),\"\",MAX('B-Méthodes'!X178,'B-Méthodes'!AD178)+MAX('B-Méthodes'!X179,'B-Méthodes'!AD179)+MAX('B-Méthodes'!X180,'B-Méthodes'!AD180)+MAX('B-Méthodes'!X187,'B-Méthodes'!AD187)+MAX('B-Méthodes'!X188,'B-Méthodes'!AD188)+MAX('B-Méthodes'!X189,'B-Méthodes'!AD189))))))))","v":""},{"$f":"IF(OR('B-Méthodes'!Z77:AA77=\"-\",'B-Méthodes'!AB77:AC77=\"-\"),\"\",IF(AND('B-Méthodes'!Z69=\"Ne s'applique pas\",'B-Méthodes'!AB69=\"Ne s'applique pas\"),\"\",IF(AND('B-Méthodes'!Z70=\"Ne s'applique pas\",'B-Méthodes'!AB70=\"Ne s'applique pas\"),\"\",IF(AND('B-Méthodes'!Z71=\"Ne s'applique pas\",'B-Méthodes'!AB71=\"Ne s'applique pas\"),\"\",IF(AND('B-Méthodes'!Z73=\"Ne s'applique pas\",'B-Méthodes'!AB73=\"Ne s'applique pas\"),\"\",IF(AND('B-Méthodes'!Z74=\"Ne s'applique pas\",'B-Méthodes'!AB74=\"Ne s'applique pas\"),\"\",IF(AND('B-Méthodes'!Z75=\"Ne s'applique pas\",'B-Méthodes'!AB75=\"Ne s'applique pas\"),\"\",MAX('B-Méthodes'!Z178,'B-Méthodes'!AB178)+MAX('B-Méthodes'!Z179,'B-Méthodes'!AB179)+MAX('B-Méthodes'!Z180,'B-Méthodes'!AB180)+MAX('B-Méthodes'!Z187,'B-Méthodes'!AB187)+MAX('B-Méthodes'!Z188,'B-Méthodes'!AB188)+MAX('B-Méthodes'!Z189,'B-Méthodes'!AB189))))))))","v":""},{"$f":"IF(OR('B-Méthodes'!Z77:AA77=\"-\",'B-Méthodes'!AD77:AE77=\"-\"),\"\",IF(AND('B-Méthodes'!Z69=\"Ne s'applique pas\",'B-Méthodes'!AD69=\"Ne s'applique pas\"),\"\",IF(AND('B-Méthodes'!Z70=\"Ne s'applique pas\",'B-Méthodes'!AD70=\"Ne s'applique pas\"),\"\",IF(AND('B-Méthodes'!Z71=\"Ne s'applique pas\",'B-Méthodes'!AD71=\"Ne s'applique pas\"),\"\",IF(AND('B-Méthodes'!Z73=\"Ne s'applique pas\",'B-Méthodes'!AD73=\"Ne s'applique pas\"),\"\",IF(AND('B-Méthodes'!Z74=\"Ne s'applique pas\",'B-Méthodes'!AD74=\"Ne s'applique pas\"),\"\",IF(AND('B-Méthodes'!Z75=\"Ne s'applique pas\",'B-Méthodes'!AD75=\"Ne s'applique pas\"),\"\",MAX('B-Méthodes'!Z178,'B-Méthodes'!AD178)+MAX('B-Méthodes'!Z179,'B-Méthodes'!AD179)+MAX('B-Méthodes'!Z180,'B-Méthodes'!AD180)+MAX('B-Méthodes'!Z187,'B-Méthodes'!AD187)+MAX('B-Méthodes'!Z188,'B-Méthodes'!AD188)+MAX('B-Méthodes'!Z189,'B-Méthodes'!AD189))))))))","v":""},{"$f":"IF(OR('B-Méthodes'!AB77:AC77=\"-\",'B-Méthodes'!AD77:AE77=\"-\"),\"\",IF(AND('B-Méthodes'!AB69=\"Ne s'applique pas\",'B-Méthodes'!AD69=\"Ne s'applique pas\"),\"\",IF(AND('B-Méthodes'!AB70=\"Ne s'applique pas\",'B-Méthodes'!AD70=\"Ne s'applique pas\"),\"\",IF(AND('B-Méthodes'!AB71=\"Ne s'applique pas\",'B-Méthodes'!AD71=\"Ne s'applique pas\"),\"\",IF(AND('B-Méthodes'!AB73=\"Ne s'applique pas\",'B-Méthodes'!AD73=\"Ne s'applique pas\"),\"\",IF(AND('B-Méthodes'!AB74=\"Ne s'applique pas\",'B-Méthodes'!AD74=\"Ne s'applique pas\"),\"\",IF(AND('B-Méthodes'!AB75=\"Ne s'applique pas\",'B-Méthodes'!AD75=\"Ne s'applique pas\"),\"\",MAX('B-Méthodes'!AB178,'B-Méthodes'!AD178)+MAX('B-Méthodes'!AB179,'B-Méthodes'!AD179)+MAX('B-Méthodes'!AB180,'B-Méthodes'!AD180)+MAX('B-Méthodes'!AB187,'B-Méthodes'!AD187)+MAX('B-Méthodes'!AB188,'B-Méthodes'!AD188)+MAX('B-Méthodes'!AB189,'B-Méthodes'!AD189))))))))","v":""}]
["Méthode 1","Excavation et élimination",null,null,null,null,null,null,null,null,null,null,"Confinement avec analyse de risques",null,null,null,null,null,null,null,null,null,"Traitement ex-situ ",null,null,null,null,null,null,null,null,null,null,null,null,null,null,null,null,null,null,null,null,null,null,null,null,null,null,null,null,null,"Traitement in-situ"]
[null,null,null,null,null,null,null,null,null,null,null,null,null,null,null,null,null,null,null,null,null,null,"Biopile",null,null,"Oxydation",null,"S/S","Biopile",null,null,null,null,null,"Oxydation",null,null,null,null,null,"S/S",null,null,null,null,null,"Thermique",null,null,null,null,null,"Phytoremediation",null,null,null,null,"Biologique",null,null,null,"Oxydation chimique",null,null,"Ventilation",null,"Barbotage"]
[null,1,1,1,1,1,1,1,1,1,1,1,2,2,2,2,2,2,2,2,2,2,3,3,3,4,4,5,3,3,3,3,3,3,4,4,4,4,4,4,5,5,5,5,5,5,6,6,6,6,6,6,7,7,7,7,7,8,8,8,8,9,9,9,10,10,11]
["Méthode 2","Confinement avec analyse de risques","Traitement ex-situ ",null,null,null,"Traitement in-situ",null,null,null,null,null,"Traitement ex-situ ",null,null,null,"Traitement in-situ",null,null,null,null,null,"Traitement ex-situ ",null,null,null,null,null,"Traitement in-situ",null,null,null,null,null,null,null,null,null,null,null,null,null,null,null,null,null,null,null,null,null,null,null,"Traitement in-situ"]
[null,null,"Biopile","Oxydation","S/S","Thermique","Phytoremediation","Biologique","Oxydation chimique","Ventilation","Barbotage","Lavage de sol","Biopile","Oxydation","S/S","Thermique","Phytoremediation","Biologique","Oxydation chimique","Ventilation","Barbotage","Lavage de sol","Oxydation","S/S","Thermique","S/S","Thermique","Thermique","Phytoremediation","Biologique","Oxydation chimique","Ventilation","Barbotage","Lavage de sol","Phytoremediation","Biologique","Oxydation chimique","Ventilation","Barbotage","Lavage de sol","Phytoremediation","Biologique","Oxydation chimique","Ventilation","Barbotage","Lavage de sol","Phytoremediation","Biologique","Oxydation chimique","Ventilation","Barbotage","Lavage de sol","Biologique","Oxydation chimique","Ventilation","Barbotage","Lavage de sol","Oxydation chimique","Ventilation","Barbotage","Lavage de sol","Ventilation","Barbotage","Lavage de sol","Barbotage","Lavage de sol","Lavage de sol"]
[null,2,3,4,5,6,7,8,9,10,11,12,3,4,5,6,7,8,9,10,11,12,4,5,6,5,6,6,7,8,9,10,11,12,7,8,9,10,11,12,7,8,9,10,11,12,7,8,9,10,11,12,8,9,10,11,12,9,10,11,12,10,11,12,11,12,12]
[null,null,null,null,null,null,null,null,null,null,null,null,null,null,null,null,null,null,null,null,null,null,{"$f":"HLOOKUP(MAX(W1:AB1),W1:AB7,4,FALSE)","v":{"$error":"#N/A"}},null,null,null,null,null,{"$f":"HLOOKUP(MAX(AC1:AZ1),AC1:AZ6,4,FALSE)","v":{"$error":"#N/A"}},null,null,null,null,null,null,null,null,null,null,null,null,null,null,null,null,null,null,null,null,null,null,null,{"$f":"HLOOKUP(MAX(BA1:BO1),BA1:BO6,4,FALSE)","v":{"$error":"#N/A"}}]
[null,null,{"$f":"HLOOKUP(MAX(C1:F1),C1:F7,7,FALSE)","v":{"$error":"#N/A"}},null,null,null,{"$f":"HLOOKUP(MAX(G1:L1),G1:L7,7,FALSE)","v":{"$error":"#N/A"}},null,null,null,null,null,{"$f":"HLOOKUP(MAX(M1:P1),M1:P7,7,FALSE)","v":{"$error":"#N/A"}},null,null,null,{"$f":"HLOOKUP(MAX(Q1:V1),Q1:V7,7,FALSE)","v":{"$error":"#N/A"}},null,null,null,null,null,{"$f":"HLOOKUP(MAX(W1:AB1),W1:AB7,7,FALSE)","v":{"$error":"#N/A"}},null,null,null,null,null,{"$f":"HLOOKUP(MAX(AC1:AZ1),AC1:AZ7,7,FALSE)","v":{"$error":"#N/A"}},null,null,null,null,null,null,null,null,null,null,null,null,null,null,null,null,null,null,null,null,null,null,null,{"$f":"HLOOKUP(MAX(BA1:BO1),BA1:BO7,7,FALSE)","v":{"$error":"#N/A"}}]

{"sheet":"C-Scénarios","index":16,"n_rows":57,"n_cols":31,"rows_kept":57,"cut":false,"hidden":false,"merged":[[56,0,56,30],[50,27,50,28],[50,29,50,30],[51,1,51,30],[52,4,52,6],[54,16,54,23],[55,16,55,23],[50,15,50,16],[50,17,50,18],[50,19,50,20],[50,21,50,22],[50,23,50,24],[50,25,50,26],[49,1,50,6],[49,7,50,8],[49,9,50,10],[49,11,50,12],[49,13,50,14],[49,15,49,16],[49,17,49,18],[49,19,49,20],[49,21,49,22],[49,23,49,24],[49,25,49,26],[49,27,49,28],[49,29,49,30],[47,25,48,26],[47,27,48,28],[47,29,48,30],[45,27,45,28],[45,29,45,30],[46,7,46,8],[46,9,46,10],[46,11,46,12],[46,13,46,14],[46,15,46,16],[46,29,46,30],[47,7,48,8],[47,9,48,10],[47,11,48,12],[47,13,48,14],[47,15,48,16],[47,17,48,18],[47,19,48,20],[47,21,48,22],[47,23,48,24],[46,17,46,18],[46,19,46,20],[46,21,46,22],[46,23,46,24],[46,25,46,26],[46,27,46,28],[44,1,44,5],[44,7,44,8],[44,9,44,10],[44,11,44,12],[44,13,44,14],[44,27,44,28],[44,29,44,30],[45,1,45,6],[45,7,45,8],[45,9,45,10],[45,11,45,12],[45,13,45,14],[45,15,45,16],[45,17,45,18],[45,19,45,20],[44,15,44,16],[44,17,44,18],[44,19,44,20],[44,21,44,22],[44,23,44,24],[44,25,44,26],[45,21,45,22],[45,23,45,24],[45,25,45,26],[42,1,42,5],[42,7,42,30],[43,1,43,5],[43,7,43,8],[43,9,43,10],[43,11,43,12],[43,13,43,14],[43,15,43,16],[43,17,43,18],[43,19,43,20],[43,21,43,22],[43,23,43,24],[43,25,43,26],[43,27,43,28],[43,29,43,30],[39,21,39,22],[39,23,39,24],[39,25,39,26],[39,27,39,28],[39,29,39,30],[41,1,41,30],[38,27,38,28],[38,29,38,30],[39,1,39,6],[39,7,39,8],[39,9,39,10],[39,11,39,12],[39,13,39,14],[39,15,39,16],[39,17,39,18],[39,19,39,20],[38,15,38,16],[38,17,38,18],[38,19,38,20],[38,21,38,22],[38,23,38,24],[38,25,38,26],[37,21,37,22],[37,23,37,24],[37,25,37,26],[37,27,37,28],[37,29,37,30],[38,1,38,6],[38,7,38,8],[38,9,38,10],[38,11,38,12],[38,13,38,14],[37,1,37,6],[37,7,37,8],[37,9,37,10],[37,11,37,12],[37,13,37,14],[37,15,37,16],[37,17,37,18],[37,19,37,20],[36,15,36,16],[36,17,36,18],[36,19,36,20],[35,21,35,22],[35,23,35,24],[35,25,35,26],[35,27,35,28],[35,29,35,30],[36,1,36,6],[36,7,36,8],[36,9,36,10],[36,11,36,12],[36,13,36,14],[36,27,36,28],[36,29,36,30],[36,21,36,22],[36,23,36,24],[36,25,36,26],[35,1,35,6],[35,7,35,8],[35,9,35,10],[35,11,35,12],[35,13,35,14],[35,15,35,16],[35,17,35,18],[35,19,35,20],[34,15,34,16],[34,17,34,18],[34,19,34,20],[33,21,33,22],[33,23,33,24],[33,25,33,26],[33,27,33,28],[33,29,33,30],[34,1,34,6],[34,7,34,8],[34,9,34,10],[34,11,34,12],[34,13,34,14],[34,27,34,28],[34,29,34,30],[34,21,34,22],[34,23,34,24],[34,25,34,26],[33,1,33,6],[33,7,33,8],[33,9,33,10],[33,11,33,12],[33,13,33,14],[33,15,33,16],[33,17,33,18],[33,19,33,20],[32,15,32,16],[32,17,32,18],[32,19,32,20],[31,27,31,28],[31,29,31,30],[32,1,32,6],[32,7,32,8],[32,9,32,10],[32,11,32,12],[32,13,32,14],[32,27,32,28],[32,29,32,30],[32,21,32,22],[32,23,32,24],[32,25,32,26],[30,1,30,6],[30,7,30,8],[30,9,30,10],[30,11,30,12],[30,13,30,14],[30,27,30,28],[30,29,30,30],[31,1,31,6],[31,7,31,8],[31,9,31,10],[31,11,31,12],[31,13,31,14],[31,15,31,16],[31,17,31,18],[31,19,31,20],[30,15,30,16],[30,17,30,18],[30,19,30,20],[30,21,30,22],[30,23,30,24],[30,25,30,26],[31,21,31,22],[31,23,31,24],[31,25,31,26],[28,1,28,30],[29,1,29,6],[29,7,29,8],[29,9,29,10],[29,11,29,12],[29,13,29,14],[29,15,29,16],[29,17,29,18],[29,19,29,20],[29,21,29,22],[29,23,29,24],[29,25,29,26],[29,27,29,28],[29,29,29,30],[26,23,26,24],[26,25,26,26],[26,27,26,28],[26,29,26,30],[27,1,27,6],[27,7,27,8],[27,9,27,10],[27,11,27,12],[27,13,27,14],[27,15,27,16],[27,29,27,30],[27,17,27,18],[27,19,27,20],[27,21,27,22],[27,23,27,24],[27,25,27,26],[27,27,27,28],[26,1,26,6],[26,7,26,8],[26,9,26,10],[26,11,26,12],[26,13,26,14],[26,15,26,16],[26,17,26,18],[26,19,26,20],[26,21,26,22],[24,23,24,24],[24,25,24,26],[24,27,24,28],[24,29,24,30],[25,1,25,6],[25,7,25,8],[25,9,25,10],[25,11,25,12],[25,13,25,14],[25,15,25,16],[25,29,25,30],[25,17,25,18],[25,19,25,20],[25,21,25,22],[25,23,25,24],[25,25,25,26],[25,27,25,28],[24,1,24,6],[24,7,24,8],[24,9,24,10],[24,11,24,12],[24,13,24,14],[24,15,24,16],[24,17,24,18],[24,19,24,20],[24,21,24,22],[22,23,22,24],[22,25,22,26],[22,27,22,28],[22,29,22,30],[23,1,23,6],[23,7,23,8],[23,9,23,10],[23,11,23,12],[23,13,23,14],[23,15,23,16],[23,29,23,30],[23,17,23,18],[23,19,23,20],[23,21,23,22],[23,23,23,24],[23,25,23,26],[23,27,23,28],[22,1,22,6],[22,7,22,8],[22,9,22,10],[22,11,22,12],[22,13,22,14],[22,15,22,16],[22,17,22,18],[22,19,22,20],[22,21,22,22],[20,27,20,28],[20,29,20,30],[21,1,21,6],[21,7,21,8],[21,9,21,10],[21,11,21,12],[21,13,21,14],[21,15,21,16],[21,29,21,30],[21,17,21,18],[21,19,21,20],[21,21,21,22],[21,23,21,24],[21,25,21,26],[21,27,21,28],[19,29,19,30],[20,1,20,6],[20,7,20,8],[20,9,20,10],[20,11,20,12],[20,13,20,14],[20,15,20,16],[20,17,20,18],[20,19,20,20],[20,21,20,22],[19,17,19,18],[19,19,19,20],[19,21,19,22],[19,23,19,24],[19,25,19,26],[19,27,19,28],[19,1,19,6],[19,7,19,8],[19,9,19,10],[19,11,19,12],[19,13,19,14],[19,15,19,16],[20,23,20,24],[20,25,20,26],[16,23,16,24],[16,25,16,26],[16,27,16,28],[16,29,16,30],[17,1,17,30],[18,1,18,30],[15,29,15,30],[16,1,16,6],[16,7,16,8],[16,9,16,10],[16,11,16,12],[16,13,16,14],[16,15,16,16],[16,17,16,18],[16,19,16,20],[16,21,16,22],[15,17,15,18],[15,19,15,20],[15,21,15,22],[15,23,15,24],[15,25,15,26],[15,27,15,28],[15,1,15,6],[15,7,15,8],[15,9,15,10],[15,11,15,12],[15,13,15,14],[15,15,15,16],[13,1,13,6],[13,7,13,8],[13,9,13,10],[13,11,13,12],[13,13,13,14],[14,1,14,6],[14,7,14,8],[14,9,14,10],[14,11,14,12],[14,13,14,14],[11,1,11,30],[12,1,12,6],[12,7,12,8],[12,9,12,10],[12,11,12,12],[12,13,12,14],[9,1,9,6],[9,7,9,8],[9,9,9,10],[9,11,9,12],[9,13,9,14],[10,1,10,6],[10,7,10,8],[10,9,10,10],[10,11,10,12],[10,13,10,14],[4,29,4,30],[5,15,5,16],[5,17,5,18],[5,19,5,20],[5,21,5,22],[5,23,5,24],[5,25,5,26],[5,27,5,28],[5,29,5,30],[4,17,4,18],[4,19,4,20],[4,21,4,22],[4,23,4,24],[4,25,4,26],[4,27,4,28],[4,15,4,16],[1,17,1,18],[1,19,1,20],[1,21,1,22],[4,9,5,10],[8,1,8,6],[8,7,8,8],[8,9,8,10],[8,11,8,12],[8,13,8,14],[4,1,5,6],[4,7,5,8],[4,13,5,14],[4,11,5,12],[2,19,3,20],[2,21,3,22],[2,23,3,24],[2,25,3,26],[2,27,3,28],[6,1,6,30],[7,1,7,30],[4,0,5,0],[0,1,3,6],[2,29,3,30],[1,23,1,24],[1,25,1,26],[1,27,1,28],[1,29,1,30],[2,7,3,8],[2,9,3,10],[2,11,3,12],[2,13,3,14],[2,15,3,16],[2,17,3,18],[0,7,0,30],[1,7,1,8],[1,9,1,10],[1,11,1,12],[1,13,1,14],[1,15,1,16]]}
[null,"Évaluation comparative des scénarios de réhabilitation applicables et sélection du scénario optimal",null,null,null,null,null,"Scénarios de réhabilitation considérés"]
[null,null,null,null,null,null,null,1,null,2,null,3,null,4,null,"1 & 2",null,"1 & 3",null,"1 & 4",null,"2 & 3",null,"2 & 4",null,"3 & 3",null,"3 & 4",null,"4 & 4"]
[null,null,null,null,null,null,null,"Cas de base  Excavation et élimination",null,"Confinement avec analyse de risques",null,"Traitement ex situ",null,"Traitement in situ",null,"Excavation et AR",null,"Excavation et traitement ex situ",null,"Excavation et traitement in situ",null,"Analyse de risques et traitement ex situ",null,"Analyse de risques et traitement in situ",null,"Deux traitements ex situ",null,"Traitements in situ et ex situ",null,"Deux traitements in situ"]
[]
["1.","Identification des méthodes retenues par scénario",null,null,null,null,null,{"$f":"IF('B-Méthodes'!H77=\"Non\",\"Excavation et élimination\",\"-\")","v":"-"},null,{"$f":"IF('B-Méthodes'!J77=\"Non\",\"Confinement avec analyse de risques\",\"-\")","v":"-"},null,{"$f":"IF(OR('B-Méthodes'!L77=\"Non\",'B-Méthodes'!N77=\"Non\",'B-Méthodes'!P77=\"Non\",'B-Méthodes'!R77=\"Non\"),HLOOKUP(MAX('B-Méthodes'!L170:R170),'B-Méthodes'!L170:S190,21,FALSE),\"-\")","v":"-"},null,{"$f":"IF(OR('B-Méthodes'!T77=\"Non\",'B-Méthodes'!V77=\"Non\",'B-Méthodes'!X77=\"Non\",'B-Méthodes'!Z77=\"Non\",'B-Méthodes'!AB77=\"Non\",'B-Méthodes'!AD77=\"Non\"),HLOOKUP(MAX('B-Méthodes'!T170:AE170),'B-Méthodes'!T170:AE190,21,FALSE),\"-\")","v":"-"},null,{"$f":"IF(SUM('Combinaison de méthodes'!B1)>0,\"Excavation et élimination\",\"-\")","v":"-"},null,{"$f":"IF(SUM('Combinaison de méthodes'!C1:F1)>0,\"Excavation et élimination\",\"-\")","v":"-"},null,{"$f":"IF(SUM('Combinaison de méthodes'!G1:L1)>0,\"Excavation et élimination\",\"-\")","v":"-"},null,{"$f":"IF(SUM('Combinaison de méthodes'!M1:P1)>0,\"Confinement avec analyse de risques\",\"-\")","v":"-"},null,{"$f":"IF(SUM('Combinaison de méthodes'!Q1:V1)>0,\"Confinement avec analyse de risques\",\"-\")","v":"-"},null,{"$f":"IF(SUM('Combinaison de méthodes'!W1:AB1)>0,HLOOKUP('Combinaison de méthodes'!W8,'B-Méthodes'!H2:AD190,189,FALSE),\"-\")","v":"-"},null,{"$f":"IF(SUM('Combinaison de méthodes'!AC1:AZ1)>0,HLOOKUP('Combinaison de méthodes'!AC8,'B-Méthodes'!H2:AD190,189,FALSE),\"-\")","v":"-"},null,{"$f":"IF(SUM('Combinaison de méthodes'!BA1:BO1)>0,HLOOKUP('Combinaison de méthodes'!BA8,'B-Méthodes'!H2:AD190,189,FALSE),\"-\")","v":"-"}]
[null,null,null,null,null,null,null,null,null,null,null,null,null,null,null,{"$f":"IF(SUM('Combinaison de méthodes'!B1)>0,\"Confinement avec analyse de risques\",\"-\")","v":"-"},null,{"$f":"IF(SUM('Combinaison de méthodes'!C1:F1)>0,HLOOKUP('Combinaison de méthodes'!C9,'B-Méthodes'!H2:AD190,189,FALSE),\"-\")","v":"-"},null,{"$f":"IF(SUM('Combinaison de méthodes'!G1:L1)>0,HLOOKUP('Combinaison de méthodes'!G9,'B-Méthodes'!H2:AD190,189,FALSE),\"-\")","v":"-"},null,{"$f":"IF(SUM('Combinaison de méthodes'!M1:P1)>0,HLOOKUP('Combinaison de méthodes'!M9,'B-Méthodes'!H2:AD190,189,FALSE),\"-\")","v":"-"},null,{"$f":"IF(SUM('Combinaison de méthodes'!Q1:V1)>0,HLOOKUP('Combinaison de méthodes'!Q9,'B-Méthodes'!H2:AD190,189,FALSE),\"-\")","v":"-"},null,{"$f":"IF(SUM('Combinaison de méthodes'!W1:AB1)>0,HLOOKUP('Combinaison de méthodes'!W9,'B-Méthodes'!H2:AD190,189,FALSE),\"-\")","v":"-"},null,{"$f":"IF(SUM('Combinaison de méthodes'!AC1:AZ1)>0,HLOOKUP('Combinaison de méthodes'!AC9,'B-Méthodes'!H2:AD190,189,FALSE),\"-\")","v":"-"},null,{"$f":"IF(SUM('Combinaison de méthodes'!BA1:BO1)>0,HLOOKUP('Combinaison de méthodes'!BA9,'B-Méthodes'!H2:AD190,189,FALSE),\"-\")","v":"-"}]
["1-A","Évaluation des scénarios applicables"]
["1-A.1","Zone vadose"]
["1-A.1.1","Composés inorganiques",null,null,null,null,null,{"$f":"IF('B-Méthodes'!H77=\"Non\",'B-Méthodes'!H178,\"-\")","v":"-"},null,{"$f":"IF('B-Méthodes'!J77=\"Non\",'B-Méthodes'!J178,\"-\")","v":"-"},null,{"$f":"IF(OR('B-Méthodes'!L77=\"Non\",'B-Méthodes'!N77=\"Non\",'B-Méthodes'!P77=\"Non\",'B-Méthodes'!R77=\"Non\"),HLOOKUP(MAX('B-Méthodes'!L170:R170),'B-Méthodes'!L170:R189,9,FALSE),\"-\")","v":"-"},null,{"$f":"IF(OR('B-Méthodes'!T77=\"Non\",'B-Méthodes'!V77=\"Non\",'B-Méthodes'!X77=\"Non\",'B-Méthodes'!Z77=\"Non\",'B-Méthodes'!AB77=\"Non\",'B-Méthodes'!AD77=\"Non\"),HLOOKUP(MAX('B-Méthodes'!T170:AD170),'B-Méthodes'!T170:AD189,9,FALSE),\"-\")","v":"-"},null,{"$f":"IF(SUM('Combinaison de méthodes'!B1)>0,MAX('B-Méthodes'!H178,'B-Méthodes'!J178),\"-\")","v":"-"},{"$f":"IF(OR(P9=0,P9=\"-\"),\"-\",IF('Combinaison de méthodes'!B1>0,HLOOKUP(MAX('B-Méthodes'!H178,'B-Méthodes'!J178),'B-Méthodes'!B178:AE190,13,FALSE),\"-\"))","v":"-"},{"$f":"IF(SUM('Combinaison de méthodes'!C1:F1)>0,MAX('B-Méthodes'!H178,HLOOKUP('Combinaison de méthodes'!C9,'B-Méthodes'!H2:AD189,177,FALSE)),\"-\")","v":"-"},{"$f":"IF(R9=0,\"-\",IF(SUM('Combinaison de méthodes'!C1:F1)>0,HLOOKUP(MAX('B-Méthodes'!H178,HLOOKUP('Combinaison de méthodes'!C9,'B-Méthodes'!H2:AD189,177,FALSE)),'B-Méthodes'!B178:AE190,13,FALSE),\"-\"))","v":"-"},{"$f":"IF(SUM('Combinaison de méthodes'!G1:L1)>0,MAX('B-Méthodes'!H178,HLOOKUP('Combinaison de méthodes'!G9,'B-Méthodes'!H2:AD180,177,FALSE)),\"-\")","v":"-"},{"$f":"IF(T9=0,\"-\",IF(SUM('Combinaison de méthodes'!G1:L1)>0,HLOOKUP(MAX('B-Méthodes'!H178,HLOOKUP('Combinaison de méthodes'!G9,'B-Méthodes'!H2:AD180,177,FALSE)),'B-Méthodes'!B178:AE190,13,FALSE),\"-\"))","v":"-"},{"$f":"IF(SUM('Combinaison de méthodes'!M1:P1)>0,MAX('B-Méthodes'!J178,HLOOKUP('Combinaison de méthodes'!M9,'B-Méthodes'!H2:AD180,177,FALSE)),\"-\")","v":"-"},{"$f":"IF(V9=0,\"-\",IF(SUM('Combinaison de méthodes'!M1:P1)>0,HLOOKUP(MAX('B-Méthodes'!J178,HLOOKUP('Combinaison de méthodes'!M9,'B-Méthodes'!H2:AD180,177,FALSE)),'B-Méthodes'!B178:AE190,13,FALSE),\"-\"))","v":"-"},{"$f":"IF(SUM('Combinaison de méthodes'!Q1:V1)>0,MAX('B-Méthodes'!J178,HLOOKUP('Combinaison de méthodes'!Q9,'B-Méthodes'!H2:AD180,177,FALSE)),\"-\")","v":"-"},{"$f":"IF(X9=0,\"-\",IF(SUM('Combinaison de méthodes'!Q1:V1)>0,HLOOKUP(MAX('B-Méthodes'!J178,HLOOKUP('Combinaison de méthodes'!Q9,'B-Méthodes'!H2:AD180,177,FALSE)),'B-Méthodes'!B178:AE190,13,FALSE),\"-\"))","v":"-"},{"$f":"IF(SUM('Combinaison de méthodes'!W1:AB1)>0,MAX(HLOOKUP('Combinaison de méthodes'!W8,'B-Méthodes'!H2:AD180,177,FALSE),HLOOKUP('Combinaison de méthodes'!W9,'B-Méthodes'!H2:AD180,177,FALSE)),\"-\")","v":"-"},{"$f":"IF(Z9=0,\"-\",IF(SUM('Combinaison de méthodes'!W1:AB1)>0,HLOOKUP(MAX(HLOOKUP('Combinaison de méthodes'!W8,'B-Méthodes'!H2:AD180,177,FALSE),HLOOKUP('Combinaison de méthodes'!W9,'B-Méthodes'!H2:AD180,177,FALSE)),'B-Méthodes'!B178:AE190,13,FALSE),\"-\"))","v":"-"},{"$f":"IF(SUM('Combinaison de méthodes'!AC1:AZ1)>0,MAX(HLOOKUP('Combinaison de méthodes'!AC8,'B-Méthodes'!H2:AD180,177,FALSE),HLOOKUP('Combinaison de méthodes'!AC9,'B-Méthodes'!H2:AD180,177,FALSE)),\"-\")","v":"-"},{"$f":"IF(AB9=0,\"-\",IF(SUM('Combinaison de méthodes'!AC1:AZ1)>0,HLOOKUP(MAX(HLOOKUP('Combinaison de méthodes'!AC8,'B-Méthodes'!H2:AD180,177,FALSE),HLOOKUP('Combinaison de méthodes'!AC9,'B-Méthodes'!H2:AD180,177,FALSE)),'B-Méthodes'!B178:AE190,13,FALSE),\"-\"))","v":"-"},{"$f":"IF(SUM('Combinaison de méthodes'!BA1:BO1)>0,MAX(HLOOKUP('Combinaison de méthodes'!BA8,'B-Méthodes'!H2:AD180,177,FALSE),HLOOKUP('Combinaison de méthodes'!BA9,'B-Méthodes'!H2:AD180,177,FALSE)),\"-\")","v":"-"},{"$f":"IF(AD9=0,\"-\",IF(SUM('Combinaison de méthodes'!BA1:BO1)>0,HLOOKUP(MAX(HLOOKUP('Combinaison de méthodes'!BA8,'B-Méthodes'!H2:AD180,177,FALSE),HLOOKUP('Combinaison de méthodes'!BA9,'B-Méthodes'!H2:AD180,177,FALSE)),'B-Méthodes'!B178:AE190,13,FALSE),\"-\"))","v":"-"}]
["1-A.1.2","Composés organiques (produits pétroliers et COV)",null,null,null,null,null,{"$f":"IF('B-Méthodes'!H77=\"Non\",'B-Méthodes'!H179,\"-\")","v":"-"},null,{"$f":"IF('B-Méthodes'!J77=\"Non\",'B-Méthodes'!J179,\"-\")","v":"-"},null,{"$f":"IF(OR('B-Méthodes'!L77=\"Non\",'B-Méthodes'!N77=\"Non\",'B-Méthodes'!P77=\"Non\",'B-Méthodes'!R77=\"Non\"),HLOOKUP(MAX('B-Méthodes'!L170:R170),'B-Méthodes'!L170:R189,10,FALSE),\"-\")","v":"-"},null,{"$f":"IF(OR('B-Méthodes'!T77=\"Non\",'B-Méthodes'!V77=\"Non\",'B-Méthodes'!X77=\"Non\",'B-Méthodes'!Z77=\"Non\",'B-Méthodes'!AB77=\"Non\",'B-Méthodes'!AD77=\"Non\"),HLOOKUP(MAX('B-Méthodes'!T170:AD170),'B-Méthodes'!T170:AD189,10,FALSE),\"-\")","v":"-"},null,{"$f":"IF(SUM('Combinaison de méthodes'!B1)>0,MAX('B-Méthodes'!H179,'B-Méthodes'!J179),\"-\")","v":"-"},{"$f":"IF(OR(P10=0,P10=\"-\"),\"-\",IF('Combinaison de méthodes'!B1>0,HLOOKUP(MAX('B-Méthodes'!H179,'B-Méthodes'!J179),'B-Méthodes'!B179:AE190,12,FALSE),\"-\"))","v":"-"},{"$f":"IF(SUM('Combinaison de méthodes'!C1:F1)>0,MAX('B-Méthodes'!H179,HLOOKUP('Combinaison de méthodes'!C9,'B-Méthodes'!H2:AD189,178,FALSE)),\"-\")","v":"-"},{"$f":"IF(R10=0,\"-\",IF(SUM('Combinaison de méthodes'!C1:F1)>0,HLOOKUP(MAX('B-Méthodes'!H179,HLOOKUP('Combinaison de méthodes'!C9,'B-Méthodes'!H2:AD189,178,FALSE)),'B-Méthodes'!B179:AE190,12,FALSE),\"-\"))","v":"-"},{"$f":"IF(SUM('Combinaison de méthodes'!G1:L1)>0,MAX('B-Méthodes'!H179,HLOOKUP('Combinaison de méthodes'!G9,'B-Méthodes'!H2:AD180,178,FALSE)),\"-\")","v":"-"},{"$f":"IF(T10=0,\"-\",IF(SUM('Combinaison de méthodes'!G1:L1)>0,HLOOKUP(MAX('B-Méthodes'!H179,HLOOKUP('Combinaison de méthodes'!G9,'B-Méthodes'!H2:AD180,178,FALSE)),'B-Méthodes'!B179:AE190,12,FALSE),\"-\"))","v":"-"},{"$f":"IF(SUM('Combinaison de méthodes'!M1:P1)>0,MAX('B-Méthodes'!J179,HLOOKUP('Combinaison de méthodes'!M9,'B-Méthodes'!H2:AD180,178,FALSE)),\"-\")","v":"-"},{"$f":"IF(V10=0,\"-\",IF(SUM('Combinaison de méthodes'!M1:P1)>0,HLOOKUP(MAX('B-Méthodes'!J179,HLOOKUP('Combinaison de méthodes'!M9,'B-Méthodes'!H2:AD180,178,FALSE)),'B-Méthodes'!B179:AE190,12,FALSE),\"-\"))","v":"-"},{"$f":"IF(SUM('Combinaison de méthodes'!Q1:V1)>0,MAX('B-Méthodes'!J179,HLOOKUP('Combinaison de méthodes'!Q9,'B-Méthodes'!H2:AD180,178,FALSE)),\"-\")","v":"-"},{"$f":"IF(X10=0,\"-\",IF(SUM('Combinaison de méthodes'!Q1:V1)>0,HLOOKUP(MAX('B-Méthodes'!J179,HLOOKUP('Combinaison de méthodes'!Q9,'B-Méthodes'!H2:AD180,178,FALSE)),'B-Méthodes'!B179:AE190,12,FALSE),\"-\"))","v":"-"},{"$f":"IF(SUM('Combinaison de méthodes'!W1:AB1)>0,MAX(HLOOKUP('Combinaison de méthodes'!W8,'B-Méthodes'!H2:AD180,178,FALSE),HLOOKUP('Combinaison de méthodes'!W9,'B-Méthodes'!H2:AD180,178,FALSE)),\"-\")","v":"-"},{"$f":"IF(Z10=0,\"-\",IF(SUM('Combinaison de méthodes'!W1:AB1)>0,HLOOKUP(MAX(HLOOKUP('Combinaison de méthodes'!W8,'B-Méthodes'!H2:AD180,178,FALSE),HLOOKUP('Combinaison de méthodes'!W9,'B-Méthodes'!H2:AD180,178,FALSE)),'B-Méthodes'!B179:AE190,12,FALSE),\"-\"))","v":"-"},{"$f":"IF(SUM('Combinaison de méthodes'!AC1:AZ1)>0,MAX(HLOOKUP('Combinaison de méthodes'!AC8,'B-Méthodes'!H2:AD180,178,FALSE),HLOOKUP('Combinaison de méthodes'!AC9,'B-Méthodes'!H2:AD180,178,FALSE)),\"-\")","v":"-"},{"$f":"IF(AB10=0,\"-\",IF(SUM('Combinaison de méthodes'!AC1:AZ1)>0,HLOOKUP(MAX(HLOOKUP('Combinaison de méthodes'!AC8,'B-Méthodes'!H2:AD180,178,FALSE),HLOOKUP('Combinaison de méthodes'!AC9,'B-Méthodes'!H2:AD180,178,FALSE)),'B-Méthodes'!B179:AE190,12,FALSE),\"-\"))","v":"-"},{"$f":"IF(SUM('Combinaison de méthodes'!BA1:BO1)>0,MAX(HLOOKUP('Combinaison de méthodes'!BA8,'B-Méthodes'!H2:AD180,178,FALSE),HLOOKUP('Combinaison de méthodes'!BA9,'B-Méthodes'!H2:AD180,178,FALSE)),\"-\")","v":"-"},{"$f":"IF(AD10=0,\"-\",IF(SUM('Combinaison de méthodes'!BA1:BO1)>0,HLOOKUP(MAX(HLOOKUP('Combinaison de méthodes'!BA8,'B-Méthodes'!H2:AD180,178,FALSE),HLOOKUP('Combinaison de méthodes'!BA9,'B-Méthodes'!H2:AD180,178,FALSE)),'B-Méthodes'!B179:AE190,12,FALSE),\"-\"))","v":"-"}]
["1-A.1.3","Autres composés organiques",null,null,null,null,null,{"$f":"IF('B-Méthodes'!H77=\"Non\",'B-Méthodes'!H180,\"-\")","v":"-"},null,{"$f":"IF('B-Méthodes'!J77=\"Non\",'B-Méthodes'!J180,\"-\")","v":"-"},null,{"$f":"IF(OR('B-Méthodes'!L77=\"Non\",'B-Méthodes'!N77=\"Non\",'B-Méthodes'!P77=\"Non\",'B-Méthodes'!R77=\"Non\"),HLOOKUP(MAX('B-Méthodes'!L170:R170),'B-Méthodes'!L170:R189,11,FALSE),\"-\")","v":"-"},null,{"$f":"IF(OR('B-Méthodes'!T77=\"Non\",'B-Méthodes'!V77=\"Non\",'B-Méthodes'!X77=\"Non\",'B-Méthodes'!Z77=\"Non\",'B-Méthodes'!AB77=\"Non\",'B-Méthodes'!AD77=\"Non\"),HLOOKUP(MAX('B-Méthodes'!T170:AD170),'B-Méthodes'!T170:AD189,11,FALSE),\"-\")","v":"-"},null,{"$f":"IF(SUM('Combinaison de méthodes'!B1)>0,MAX('B-Méthodes'!H180,'B-Méthodes'!J180),\"-\")","v":"-"},{"$f":"IF(OR(P11=\"-\",P11=0),\"-\",IF('Combinaison de méthodes'!B1>0,HLOOKUP(MAX('B-Méthodes'!H180,'B-Méthodes'!J180),'B-Méthodes'!B180:AE190,11,FALSE),\"-\"))","v":"-"},{"$f":"IF(SUM('Combinaison de méthodes'!C1:F1)>0,MAX('B-Méthodes'!H180,HLOOKUP('Combinaison de méthodes'!C9,'B-Méthodes'!H2:AD189,179,FALSE)),\"-\")","v":"-"},{"$f":"IF(R11=0,\"-\",IF(SUM('Combinaison de méthodes'!C1:F1)>0,HLOOKUP(MAX('B-Méthodes'!H180,HLOOKUP('Combinaison de méthodes'!C9,'B-Méthodes'!H2:AD189,179,FALSE)),'B-Méthodes'!B180:AE190,11,FALSE),\"-\"))","v":"-"},{"$f":"IF(SUM('Combinaison de méthodes'!G1:L1)>0,MAX('B-Méthodes'!H180,HLOOKUP('Combinaison de méthodes'!G9,'B-Méthodes'!H2:AD180,179,FALSE)),\"-\")","v":"-"},{"$f":"IF(T11=0,\"-\",IF(SUM('Combinaison de méthodes'!G1:L1)>0,HLOOKUP(MAX('B-Méthodes'!H180,HLOOKUP('Combinaison de méthodes'!G9,'B-Méthodes'!H2:AD180,179,FALSE)),'B-Méthodes'!B180:AE190,11,FALSE),\"-\"))","v":"-"},{"$f":"IF(SUM('Combinaison de méthodes'!M1:P1)>0,MAX('B-Méthodes'!J180,HLOOKUP('Combinaison de méthodes'!M9,'B-Méthodes'!H2:AD180,179,FALSE)),\"-\")","v":"-"},{"$f":"IF(V11=0,\"-\",IF(SUM('Combinaison de méthodes'!M1:P1)>0,HLOOKUP(MAX('B-Méthodes'!J180,HLOOKUP('Combinaison de méthodes'!M9,'B-Méthodes'!H2:AD180,179,FALSE)),'B-Méthodes'!B180:AE190,11,FALSE),\"-\"))","v":"-"},{"$f":"IF(SUM('Combinaison de méthodes'!Q1:V1)>0,MAX('B-Méthodes'!J180,HLOOKUP('Combinaison de méthodes'!Q9,'B-Méthodes'!H2:AD180,179,FALSE)),\"-\")","v":"-"},{"$f":"IF(X11=0,\"-\",IF(SUM('Combinaison de méthodes'!Q1:V1)>0,HLOOKUP(MAX('B-Méthodes'!J180,HLOOKUP('Combinaison de méthodes'!Q9,'B-Méthodes'!H2:AD180,179,FALSE)),'B-Méthodes'!B180:AE190,11,FALSE),\"-\"))","v":"-"},{"$f":"IF(SUM('Combinaison de méthodes'!W1:AB1)>0,MAX(HLOOKUP('Combinaison de méthodes'!W8,'B-Méthodes'!H2:AD180,179,FALSE),HLOOKUP('Combinaison de méthodes'!W9,'B-Méthodes'!H2:AD180,179,FALSE)),\"-\")","v":"-"},{"$f":"IF(Z11=0,\"-\",IF(SUM('Combinaison de méthodes'!W1:AB1)>0,HLOOKUP(MAX(HLOOKUP('Combinaison de méthodes'!W8,'B-Méthodes'!H2:AD180,179,FALSE),HLOOKUP('Combinaison de méthodes'!W9,'B-Méthodes'!H2:AD180,179,FALSE)),'B-Méthodes'!B180:AE190,11,FALSE),\"-\"))","v":"-"},{"$f":"IF(SUM('Combinaison de méthodes'!AC1:AZ1)>0,MAX(HLOOKUP('Combinaison de méthodes'!AC8,'B-Méthodes'!H2:AD180,179,FALSE),HLOOKUP('Combinaison de méthodes'!AC9,'B-Méthodes'!H2:AD180,179,FALSE)),\"-\")","v":"-"},{"$f":"IF(AB11=0,\"-\",IF(SUM('Combinaison de méthodes'!AC1:AZ1)>0,HLOOKUP(MAX(HLOOKUP('Combinaison de méthodes'!AC8,'B-Méthodes'!H2:AD180,179,FALSE),HLOOKUP('Combinaison de méthodes'!AC9,'B-Méthodes'!H2:AD180,179,FALSE)),'B-Méthodes'!B180:AE190,11,FALSE),\"-\"))","v":"-"},{"$f":"IF(SUM('Combinaison de méthodes'!BA1:BO1)>0,MAX(HLOOKUP('Combinaison de méthodes'!BA8,'B-Méthodes'!H2:AD180,179,FALSE),HLOOKUP('Combinaison de méthodes'!BA9,'B-Méthodes'!H2:AD180,179,FALSE)),\"-\")","v":"-"},{"$f":"IF(AD11=0,\"-\",IF(SUM('Combinaison de méthodes'!BA1:BO1)>0,HLOOKUP(MAX(HLOOKUP('Combinaison de méthodes'!BA8,'B-Méthodes'!H2:AD180,179,FALSE),HLOOKUP('Combinaison de méthodes'!BA9,'B-Méthodes'!H2:AD180,179,FALSE)),'B-Méthodes'!B180:AE190,11,FALSE),\"-\"))","v":"-"}]
["1-A.2","Zone saturée"]
["1-A.2.1","Composés inorganiques",null,null,null,null,null,{"$f":"IF('B-Méthodes'!H77=\"Non\",'B-Méthodes'!H187,\"-\")","v":"-"},null,{"$f":"IF('B-Méthodes'!J77=\"Non\",'B-Méthodes'!J187,\"-\")","v":"-"},null,{"$f":"IF(OR('B-Méthodes'!L77=\"Non\",'B-Méthodes'!N77=\"Non\",'B-Méthodes'!P77=\"Non\",'B-Méthodes'!R77=\"Non\"),HLOOKUP(MAX('B-Méthodes'!L170:R170),'B-Méthodes'!L170:R189,18,FALSE),\"-\")","v":"-"},null,{"$f":"IF(OR('B-Méthodes'!T77=\"Non\",'B-Méthodes'!V77=\"Non\",'B-Méthodes'!X77=\"Non\",'B-Méthodes'!Z77=\"Non\",'B-Méthodes'!AB77=\"Non\",'B-Méthodes'!AD77=\"Non\"),HLOOKUP(MAX('B-Méthodes'!T170:AD170),'B-Méthodes'!T170:AD189,18,FALSE),\"-\")","v":"-"},null,{"$f":"IF(SUM('Combinaison de méthodes'!B1)>0,MAX('B-Méthodes'!H187,'B-Méthodes'!J187),\"-\")","v":"-"},{"$f":"IF(OR(P13=\"-\",P13=0),\"-\",IF('Combinaison de méthodes'!B1>0,HLOOKUP(MAX('B-Méthodes'!H187,'B-Méthodes'!J187),'B-Méthodes'!B187:AE190,4,FALSE),\"-\"))","v":"-"},{"$f":"IF(SUM('Combinaison de méthodes'!C1:F1)>0,MAX('B-Méthodes'!H187,HLOOKUP('Combinaison de méthodes'!C9,'B-Méthodes'!H2:AD189,186,FALSE)),\"-\")","v":"-"},{"$f":"IF(R13=0,\"-\",IF(SUM('Combinaison de méthodes'!C1:F1)>0,HLOOKUP(MAX('B-Méthodes'!H187,HLOOKUP('Combinaison de méthodes'!C9,'B-Méthodes'!H2:AD189,186,FALSE)),'B-Méthodes'!B187:AE190,4,FALSE),\"-\"))","v":"-"},{"$f":"IF(SUM('Combinaison de méthodes'!G1:L1)>0,MAX('B-Méthodes'!H187,HLOOKUP('Combinaison de méthodes'!G9,'B-Méthodes'!H2:AD189,186,FALSE)),\"-\")","v":"-"},{"$f":"IF(T13=0,\"-\",IF(SUM('Combinaison de méthodes'!G1:L1)>0,HLOOKUP(MAX('B-Méthodes'!H187,HLOOKUP('Combinaison de méthodes'!G9,'B-Méthodes'!H2:AD189,186,FALSE)),'B-Méthodes'!B187:AE190,4,FALSE),\"-\"))","v":"-"},{"$f":"IF(SUM('Combinaison de méthodes'!M1:P1)>0,MAX('B-Méthodes'!J187,HLOOKUP('Combinaison de méthodes'!M9,'B-Méthodes'!H2:AD189,186,FALSE)),\"-\")","v":"-"},{"$f":"IF(V13=0,\"-\",IF(SUM('Combinaison de méthodes'!M1:P1)>0,HLOOKUP(MAX('B-Méthodes'!J187,HLOOKUP('Combinaison de méthodes'!M9,'B-Méthodes'!H2:AD189,186,FALSE)),'B-Méthodes'!B187:AE190,4,FALSE),\"-\"))","v":"-"},{"$f":"IF(SUM('Combinaison de méthodes'!Q1:V1)>0,MAX('B-Méthodes'!J187,HLOOKUP('Combinaison de méthodes'!Q9,'B-Méthodes'!H2:AD189,186,FALSE)),\"-\")","v":"-"},{"$f":"IF(X13=0,\"-\",IF(SUM('Combinaison de méthodes'!Q1:V1)>0,HLOOKUP(MAX('B-Méthodes'!J187,HLOOKUP('Combinaison de méthodes'!Q9,'B-Méthodes'!H2:AD189,186,FALSE)),'B-Méthodes'!B187:AE190,4,FALSE),\"-\"))","v":"-"},{"$f":"IF(SUM('Combinaison de méthodes'!W1:AB1)>0,MAX(HLOOKUP('Combinaison de méthodes'!W8,'B-Méthodes'!H2:AD189,186,FALSE),HLOOKUP('Combinaison de méthodes'!W9,'B-Méthodes'!H2:AD189,186,FALSE)),\"-\")","v":"-"},{"$f":"IF(Z13=0,\"-\",IF(SUM('Combinaison de méthodes'!W1:AB1)>0,HLOOKUP(MAX(HLOOKUP('Combinaison de méthodes'!W8,'B-Méthodes'!H2:AD189,186,FALSE),HLOOKUP('Combinaison de méthodes'!W9,'B-Méthodes'!H2:AD189,186,FALSE)),'B-Méthodes'!B187:AE190,4,FALSE),\"-\"))","v":"-"},{"$f":"IF(SUM('Combinaison de méthodes'!AC1:AZ1)>0,MAX(HLOOKUP('Combinaison de méthodes'!AC8,'B-Méthodes'!H2:AD189,186,FALSE),HLOOKUP('Combinaison de méthodes'!AC9,'B-Méthodes'!H2:AD189,186,FALSE)),\"-\")","v":"-"},{"$f":"IF(AB13=0,\"-\",IF(SUM('Combinaison de méthodes'!AC1:AZ1)>0,HLOOKUP(MAX(HLOOKUP('Combinaison de méthodes'!AC8,'B-Méthodes'!H2:AD189,186,FALSE),HLOOKUP('Combinaison de méthodes'!AC9,'B-Méthodes'!H2:AD189,186,FALSE)),'B-Méthodes'!B187:AE190,4,FALSE),\"-\"))","v":"-"},{"$f":"IF(SUM('Combinaison de méthodes'!BA1:BO1)>0,MAX(HLOOKUP('Combinaison de méthodes'!BA8,'B-Méthodes'!H2:AD189,186,FALSE),HLOOKUP('Combinaison de méthodes'!BA9,'B-Méthodes'!H2:AD189,186,FALSE)),\"-\")","v":"-"},{"$f":"IF(AD13=0,\"-\",IF(SUM('Combinaison de méthodes'!BA1:BO1)>0,HLOOKUP(MAX(HLOOKUP('Combinaison de méthodes'!BA8,'B-Méthodes'!H2:AD189,186,FALSE),HLOOKUP('Combinaison de méthodes'!BA9,'B-Méthodes'!H2:AD189,186,FALSE)),'B-Méthodes'!B187:AE190,4,FALSE),\"-\"))","v":"-"}]
["1-A.2.2","Composés organiques (produits pétroliers et COV)",null,null,null,null,null,{"$f":"IF('B-Méthodes'!H77=\"Non\",'B-Méthodes'!H188,\"-\")","v":"-"},null,{"$f":"IF('B-Méthodes'!J77=\"Non\",'B-Méthodes'!J188,\"-\")","v":"-"},null,{"$f":"IF(OR('B-Méthodes'!L77=\"Non\",'B-Méthodes'!N77=\"Non\",'B-Méthodes'!P77=\"Non\",'B-Méthodes'!R77=\"Non\"),HLOOKUP(MAX('B-Méthodes'!L170:R170),'B-Méthodes'!L170:R189,19,FALSE),\"-\")","v":"-"},null,{"$f":"IF(OR('B-Méthodes'!T77=\"Non\",'B-Méthodes'!V77=\"Non\",'B-Méthodes'!X77=\"Non\",'B-Méthodes'!Z77=\"Non\",'B-Méthodes'!AB77=\"Non\",'B-Méthodes'!AD77=\"Non\"),HLOOKUP(MAX('B-Méthodes'!T170:AD170),'B-Méthodes'!T170:AD189,19,FALSE),\"-\")","v":"-"},null,{"$f":"IF(SUM('Combinaison de méthodes'!B1)>0,MAX('B-Méthodes'!H188,'B-Méthodes'!J188),\"-\")","v":"-"},{"$f":"IF(OR(P14=\"-\",P14=0),\"-\",IF('Combinaison de méthodes'!B1>0,HLOOKUP(MAX('B-Méthodes'!H188,'B-Méthodes'!J188),'B-Méthodes'!B188:AE190,3,FALSE),\"-\"))","v":"-"},{"$f":"IF(SUM('Combinaison de méthodes'!C1:F1)>0,MAX('B-Méthodes'!H188,HLOOKUP('Combinaison de méthodes'!C9,'B-Méthodes'!H2:AD189,187,FALSE)),\"-\")","v":"-"},{"$f":"IF(R14=0,\"-\",IF(SUM('Combinaison de méthodes'!C1:F1)>0,HLOOKUP(MAX('B-Méthodes'!H188,HLOOKUP('Combinaison de méthodes'!C9,'B-Méthodes'!H2:AD189,187,FALSE)),'B-Méthodes'!B188:AE190,3,FALSE),\"-\"))","v":"-"},{"$f":"IF(SUM('Combinaison de méthodes'!G1:L1)>0,MAX('B-Méthodes'!H188,HLOOKUP('Combinaison de méthodes'!G9,'B-Méthodes'!H2:AD189,187,FALSE)),\"-\")","v":"-"},{"$f":"IF(T14=0,\"-\",IF(SUM('Combinaison de méthodes'!G1:L1)>0,HLOOKUP(MAX('B-Méthodes'!H188,HLOOKUP('Combinaison de méthodes'!G9,'B-Méthodes'!H2:AD189,187,FALSE)),'B-Méthodes'!B188:AE190,3,FALSE),\"-\"))","v":"-"},{"$f":"IF(SUM('Combinaison de méthodes'!M1:P1)>0,MAX('B-Méthodes'!J188,HLOOKUP('Combinaison de méthodes'!M9,'B-Méthodes'!H2:AD189,187,FALSE)),\"-\")","v":"-"},{"$f":"IF(V14=0,\"-\",IF(SUM('Combinaison de méthodes'!M1:P1)>0,HLOOKUP(MAX('B-Méthodes'!J188,HLOOKUP('Combinaison de méthodes'!M9,'B-Méthodes'!H2:AD189,187,FALSE)),'B-Méthodes'!B188:AE190,3,FALSE),\"-\"))","v":"-"},{"$f":"IF(SUM('Combinaison de méthodes'!Q1:V1)>0,MAX('B-Méthodes'!J188,HLOOKUP('Combinaison de méthodes'!Q9,'B-Méthodes'!H2:AD189,187,FALSE)),\"-\")","v":"-"},{"$f":"IF(X14=0,\"-\",IF(SUM('Combinaison de méthodes'!Q1:V1)>0,HLOOKUP(MAX('B-Méthodes'!J188,HLOOKUP('Combinaison de méthodes'!Q9,'B-Méthodes'!H2:AD189,187,FALSE)),'B-Méthodes'!B188:AE190,3,FALSE),\"-\"))","v":"-"},{"$f":"IF(SUM('Combinaison de méthodes'!W1:AB1)>0,MAX(HLOOKUP('Combinaison de méthodes'!W8,'B-Méthodes'!H2:AD189,187,FALSE),HLOOKUP('Combinaison de méthodes'!W9,'B-Méthodes'!H2:AD189,187,FALSE)),\"-\")","v":"-"},{"$f":"IF(Z14=0,\"-\",IF(SUM('Combinaison de méthodes'!W1:AB1)>0,HLOOKUP(MAX(HLOOKUP('Combinaison de méthodes'!W8,'B-Méthodes'!H2:AD189,187,FALSE),HLOOKUP('Combinaison de méthodes'!W9,'B-Méthodes'!H2:AD189,187,FALSE)),'B-Méthodes'!B188:AE190,3,FALSE),\"-\"))","v":"-"},{"$f":"IF(SUM('Combinaison de méthodes'!AC1:AZ1)>0,MAX(HLOOKUP('Combinaison de méthodes'!AC8,'B-Méthodes'!H2:AD189,187,FALSE),HLOOKUP('Combinaison de méthodes'!AC9,'B-Méthodes'!H2:AD189,187,FALSE)),\"-\")","v":"-"},{"$f":"IF(AB14=0,\"-\",IF(SUM('Combinaison de méthodes'!AC1:AZ1)>0,HLOOKUP(MAX(HLOOKUP('Combinaison de méthodes'!AC8,'B-Méthodes'!H2:AD189,187,FALSE),HLOOKUP('Combinaison de méthodes'!AC9,'B-Méthodes'!H2:AD189,187,FALSE)),'B-Méthodes'!B188:AE190,3,FALSE),\"-\"))","v":"-"},{"$f":"IF(SUM('Combinaison de méthodes'!BA1:BO1)>0,MAX(HLOOKUP('Combinaison de méthodes'!BA8,'B-Méthodes'!H2:AD189,187,FALSE),HLOOKUP('Combinaison de méthodes'!BA9,'B-Méthodes'!H2:AD189,187,FALSE)),\"-\")","v":"-"},{"$f":"IF(AD14=0,\"-\",IF(SUM('Combinaison de méthodes'!BA1:BO1)>0,HLOOKUP(MAX(HLOOKUP('Combinaison de méthodes'!BA8,'B-Méthodes'!H2:AD189,187,FALSE),HLOOKUP('Combinaison de méthodes'!BA9,'B-Méthodes'!H2:AD189,187,FALSE)),'B-Méthodes'!B188:AE190,3,FALSE),\"-\"))","v":"-"}]
["1-A.2.3","Autres composés organiques",null,null,null,null,null,{"$f":"IF('B-Méthodes'!H77=\"Non\",'B-Méthodes'!H189,\"-\")","v":"-"},null,{"$f":"IF('B-Méthodes'!J77=\"Non\",'B-Méthodes'!J189,\"-\")","v":"-"},null,{"$f":"IF(OR('B-Méthodes'!L77=\"Non\",'B-Méthodes'!N77=\"Non\",'B-Méthodes'!P77=\"Non\",'B-Méthodes'!R77=\"Non\"),HLOOKUP(MAX('B-Méthodes'!L170:R170),'B-Méthodes'!L170:R189,20,FALSE),\"-\")","v":"-"},null,{"$f":"IF(OR('B-Méthodes'!T77=\"Non\",'B-Méthodes'!V77=\"Non\",'B-Méthodes'!X77=\"Non\",'B-Méthodes'!Z77=\"Non\",'B-Méthodes'!AB77=\"Non\",'B-Méthodes'!AD77=\"Non\"),HLOOKUP(MAX('B-Méthodes'!T170:AD170),'B-Méthodes'!T170:AD189,20,FALSE),\"-\")","v":"-"},null,{"$f":"IF(SUM('Combinaison de méthodes'!B1)>0,MAX('B-Méthodes'!H189,'B-Méthodes'!J189),\"-\")","v":"-"},{"$f":"IF(OR(P15=\"-\",P15=0),\"-\",IF('Combinaison de méthodes'!B1>0,HLOOKUP(MAX('B-Méthodes'!H189,'B-Méthodes'!J189),'B-Méthodes'!B189:AE190,2,FALSE),\"-\"))","v":"-"},{"$f":"IF(SUM('Combinaison de méthodes'!C1:F1)>0,MAX('B-Méthodes'!H189,HLOOKUP('Combinaison de méthodes'!C9,'B-Méthodes'!H2:AD189,188,FALSE)),\"-\")","v":"-"},{"$f":"IF(R15=0,\"-\",IF(SUM('Combinaison de méthodes'!C1:F1)>0,HLOOKUP(MAX('B-Méthodes'!H189,HLOOKUP('Combinaison de méthodes'!C9,'B-Méthodes'!H2:AD189,188,FALSE)),'B-Méthodes'!B189:AE190,2,FALSE),\"-\"))","v":"-"},{"$f":"IF(SUM('Combinaison de méthodes'!G1:L1)>0,MAX('B-Méthodes'!H189,HLOOKUP('Combinaison de méthodes'!G9,'B-Méthodes'!H2:AD189,188,FALSE)),\"-\")","v":"-"},{"$f":"IF(T15=0,\"-\",IF(SUM('Combinaison de méthodes'!G1:L1)>0,HLOOKUP(MAX('B-Méthodes'!H189,HLOOKUP('Combinaison de méthodes'!G9,'B-Méthodes'!H2:AD189,188,FALSE)),'B-Méthodes'!B189:AE190,2,FALSE),\"-\"))","v":"-"},{"$f":"IF(SUM('Combinaison de méthodes'!M1:P1)>0,MAX('B-Méthodes'!J189,HLOOKUP('Combinaison de méthodes'!M9,'B-Méthodes'!H2:AD189,188,FALSE)),\"-\")","v":"-"},{"$f":"IF(V15=0,\"-\",IF(SUM('Combinaison de méthodes'!M1:P1)>0,HLOOKUP(MAX('B-Méthodes'!J189,HLOOKUP('Combinaison de méthodes'!M9,'B-Méthodes'!H2:AD189,188,FALSE)),'B-Méthodes'!B189:AE190,2,FALSE),\"-\"))","v":"-"},{"$f":"IF(SUM('Combinaison de méthodes'!Q1:V1)>0,MAX('B-Méthodes'!J189,HLOOKUP('Combinaison de méthodes'!Q9,'B-Méthodes'!H2:AD189,188,FALSE)),\"-\")","v":"-"},{"$f":"IF(X15=0,\"-\",IF(SUM('Combinaison de méthodes'!Q1:V1)>0,HLOOKUP(MAX('B-Méthodes'!J189,HLOOKUP('Combinaison de méthodes'!Q9,'B-Méthodes'!H2:AD189,188,FALSE)),'B-Méthodes'!B189:AE190,2,FALSE),\"-\"))","v":"-"},{"$f":"IF(SUM('Combinaison de méthodes'!W1:AB1)>0,MAX(HLOOKUP('Combinaison de méthodes'!W8,'B-Méthodes'!H2:AD189,188,FALSE),HLOOKUP('Combinaison de méthodes'!W9,'B-Méthodes'!H2:AD189,188,FALSE)),\"-\")","v":"-"},{"$f":"IF(Z15=0,\"-\",IF(SUM('Combinaison de méthodes'!W1:AB1)>0,HLOOKUP(MAX(HLOOKUP('Combinaison de méthodes'!W8,'B-Méthodes'!H2:AD189,188,FALSE),HLOOKUP('Combinaison de méthodes'!W9,'B-Méthodes'!H2:AD189,188,FALSE)),'B-Méthodes'!B189:AE190,2,FALSE),\"-\"))","v":"-"},{"$f":"IF(SUM('Combinaison de méthodes'!AC1:AZ1)>0,MAX(HLOOKUP('Combinaison de méthodes'!AC8,'B-Méthodes'!H2:AD189,188,FALSE),HLOOKUP('Combinaison de méthodes'!AC9,'B-Méthodes'!H2:AD189,188,FALSE)),\"-\")","v":"-"},{"$f":"IF(AB15=0,\"-\",IF(SUM('Combinaison de méthodes'!AC1:AZ1)>0,HLOOKUP(MAX(HLOOKUP('Combinaison de méthodes'!AC8,'B-Méthodes'!H2:AD189,188,FALSE),HLOOKUP('Combinaison de méthodes'!AC9,'B-Méthodes'!H2:AD189,188,FALSE)),'B-Méthodes'!B189:AE190,2,FALSE),\"-\"))","v":"-"},{"$f":"IF(SUM('Combinaison de méthodes'!BA1:BO1)>0,MAX(HLOOKUP('Combinaison de méthodes'!BA8,'B-Méthodes'!H2:AD189,188,FALSE),HLOOKUP('Combinaison de méthodes'!BA9,'B-Méthodes'!H2:AD189,188,FALSE)),\"-\")","v":"-"},{"$f":"IF(AD15=0,\"-\",IF(SUM('Combinaison de méthodes'!BA1:BO1)>0,HLOOKUP(MAX(HLOOKUP('Combinaison de méthodes'!BA8,'B-Méthodes'!H2:AD189,188,FALSE),HLOOKUP('Combinaison de méthodes'!BA9,'B-Méthodes'!H2:AD189,188,FALSE)),'B-Méthodes'!B189:AE190,2,FALSE),\"-\"))","v":"-"}]
["1-A.3","Somme",null,null,null,null,null,{"$f":"SUM(H9:I11,H13:I15)","v":0},null,{"$f":"SUM(J9:K11,J13:K15)","v":0},null,{"$f":"SUM(L9:M11,L13:M15)","v":0},null,{"$f":"SUM(N9:O11,N13:O15)","v":0},null,{"$f":"SUM(P9:P11,P13:P15)","v":0},null,{"$f":"SUM(R9:R11,R13:R15)","v":0},null,{"$f":"SUM(T9:T11,T13:T15)","v":0},null,{"$f":"SUM(V9:V11,V13:V15)","v":0},null,{"$f":"SUM(X9:X11,X13:X15)","v":0},null,{"$f":"SUM(Z9:Z11,Z13:Z15)","v":0},null,{"$f":"SUM(AB9:AB11,AB13:AB15)","v":0},null,{"$f":"SUM(AD9:AD11,AD13:AD15)","v":0}]
["1-A.4","Score",null,null,null,null,null,{"$f":"IF(H16=0,0,H16/MAX($H$16:$AE$16))","v":0},null,{"$f":"IF(J16=0,0,J16/MAX($H$16:$AE$16))","v":0},null,{"$f":"IF(L16=0,0,L16/MAX($H$16:$AE$16))","v":0},null,{"$f":"IF(N16=0,0,N16/MAX($H$16:$AE$16))","v":0},null,{"$f":"IF(P16=0,0,P16/MAX($H$16:$AE$16))","v":0},null,{"$f":"IF(R16=0,0,R16/MAX($H$16:$AE$16))","v":0},null,{"$f":"IF(T16=0,0,T16/MAX($H$16:$AE$16))","v":0},null,{"$f":"IF(V16=0,0,V16/MAX($H$16:$AE$16))","v":0},null,{"$f":"IF(X16=0,0,X16/MAX($H$16:$AE$16))","v":0},null,{"$f":"IF(Z16=0,0,Z16/MAX($H$16:$AE$16))","v":0},null,{"$f":"IF(AB16=0,0,AB16/MAX($H$16:$AE$16))","v":0},null,{"$f":"IF(AD16=0,0,AD16/MAX($H$16:$AE$16))","v":0}]
["1-B","Coût des scénarios applicables en fonction du volume par famille de contaminants"]
["1-B.1","Zone vadose"]
["1-B.1.1","Évaluation des coûts - inorganiques uniquement ($)",null,null,null,null,null,{"$f":"IF($H$5=\"-\",0,'B-Méthodes'!H147)","v":0},null,{"$f":"IF($J$5=\"-\",0,'B-Méthodes'!J147)","v":0},null,{"$f":"IF($L$5=\"-\",0,HLOOKUP(HLOOKUP(MAX('B-Méthodes'!L170:R170),'B-Méthodes'!L170:S190,21,FALSE),'B-Méthodes'!L4:S169,144,FALSE))","v":0},null,{"$f":"IF($N$5=\"-\",0,HLOOKUP(HLOOKUP(MAX('B-Méthodes'!T170:AD170),'B-Méthodes'!T170:AD190,21,FALSE),'B-Méthodes'!T4:AD169,144,FALSE))","v":0},null,{"$f":"IF(Q9=\"-\",0,IF('Combinaison de méthodes'!$B$1>0,HLOOKUP(Q9,'B-Méthodes'!H4:AE190,144,FALSE),0))","v":0},null,{"$f":"IF(S9=\"-\",0,IF(SUM('Combinaison de méthodes'!C1:F1)>0,HLOOKUP(S9,'B-Méthodes'!H4:AE190,144,FALSE),0))","v":0},null,{"$f":"IF(U9=\"-\",0,IF(SUM('Combinaison de méthodes'!G1:L1)>0,HLOOKUP(U9,'B-Méthodes'!H4:AE190,144,FALSE),\"-\"))","v":0},null,{"$f":"IF(W9=\"-\",0,IF(SUM('Combinaison de méthodes'!M1:P1)>0,HLOOKUP(W9,'B-Méthodes'!H4:AE190,144,FALSE),\"-\"))","v":0},null,{"$f":"IF(Y9=\"-\",0,IF(SUM('Combinaison de méthodes'!Q1:V1)>0,HLOOKUP(Y9,'B-Méthodes'!H4:AE190,144,FALSE),\"-\"))","v":0},null,{"$f":"IF(AA9=\"-\",0,IF(SUM('Combinaison de méthodes'!W1:AB1)>0,HLOOKUP(AA9,'B-Méthodes'!H4:AE190,144,FALSE),\"-\"))","v":0},null,{"$f":"IF(AC9=\"-\",0,IF(SUM('Combinaison de méthodes'!AC1:AZ1)>0,HLOOKUP(AC9,'B-Méthodes'!H4:AE190,144,FALSE),\"-\"))","v":0},null,{"$f":"IF(AE9=\"-\",0,IF(SUM('Combinaison de méthodes'!BA1:BO1)>0,HLOOKUP(AE9,'B-Méthodes'!H4:AE190,144,FALSE),\"-\"))","v":0}]
["1-B.1.2","Évaluation des coûts - organiques (produits pétroliers et COV) uniquement ($)",null,null,null,null,null,{"$f":"IF($H$5=\"-\",0,'B-Méthodes'!H148)","v":0},null,{"$f":"IF($J$5=\"-\",0,'B-Méthodes'!J148)","v":0},null,{"$f":"IF($L$5=\"-\",0,HLOOKUP(HLOOKUP(MAX('B-Méthodes'!L170:R170),'B-Méthodes'!L170:S190,21,FALSE),'B-Méthodes'!L4:S169,145,FALSE))","v":0},null,{"$f":"IF($N$5=\"-\",0,HLOOKUP(HLOOKUP(MAX('B-Méthodes'!T170:AD170),'B-Méthodes'!T170:AD190,21,FALSE),'B-Méthodes'!T4:AD169,145,FALSE))","v":0},null,{"$f":"IF(Q10=\"-\",0,IF('Combinaison de méthodes'!$B$1>0,HLOOKUP(Q10,'B-Méthodes'!H4:AE190,145,FALSE),0))","v":0},null,{"$f":"IF(S10=\"-\",0,IF(SUM('Combinaison de méthodes'!C1:F1)>0,HLOOKUP(S10,'B-Méthodes'!H4:AE190,145,FALSE),0))","v":0},null,{"$f":"IF(U10=\"-\",0,IF(SUM('Combinaison de méthodes'!G1:L1)>0,HLOOKUP(U10,'B-Méthodes'!H4:AE190,145,FALSE),\"-\"))","v":0},null,{"$f":"IF(W10=\"-\",0,IF(SUM('Combinaison de méthodes'!M1:P1)>0,HLOOKUP(W10,'B-Méthodes'!H4:AE190,145,FALSE),\"-\"))","v":0},null,{"$f":"IF(Y10=\"-\",0,IF(SUM('Combinaison de méthodes'!Q1:V1)>0,HLOOKUP(Y10,'B-Méthodes'!H4:AE190,145,FALSE),\"-\"))","v":0},null,{"$f":"IF(AA10=\"-\",0,IF(SUM('Combinaison de méthodes'!W1:AB1)>0,HLOOKUP(AA10,'B-Méthodes'!H4:AE190,145,FALSE),\"-\"))","v":0},null,{"$f":"IF(AC10=\"-\",0,IF(SUM('Combinaison de méthodes'!AC1:AZ1)>0,HLOOKUP(AC10,'B-Méthodes'!H4:AE190,145,FALSE),\"-\"))","v":0},null,{"$f":"IF(AE10=\"-\",0,IF(SUM('Combinaison de méthodes'!BA1:BO1)>0,HLOOKUP(AE10,'B-Méthodes'!H4:AE190,145,FALSE),\"-\"))","v":0}]
["1-B.1.3","Évaluation des coûts - autres organiques uniquement ($)",null,null,null,null,null,{"$f":"IF($H$5=\"-\",0,'B-Méthodes'!H149)","v":0},null,{"$f":"IF($J$5=\"-\",0,'B-Méthodes'!J149)","v":0},null,{"$f":"IF($L$5=\"-\",0,HLOOKUP(HLOOKUP(MAX('B-Méthodes'!L170:R170),'B-Méthodes'!L170:S190,21,FALSE),'B-Méthodes'!L4:S169,146,FALSE))","v":0},null,{"$f":"IF($N$5=\"-\",0,HLOOKUP(HLOOKUP(MAX('B-Méthodes'!T170:AD170),'B-Méthodes'!T170:AD190,21,FALSE),'B-Méthodes'!T4:AD169,146,FALSE))","v":0},null,{"$f":"IF(Q11=\"-\",0,IF('Combinaison de méthodes'!$B$1>0,HLOOKUP(Q11,'B-Méthodes'!H4:AE190,146,FALSE),0))","v":0},null,{"$f":"IF(S11=\"-\",0,IF(SUM('Combinaison de méthodes'!C1:F1)>0,HLOOKUP(S11,'B-Méthodes'!H4:AE190,146,FALSE),0))","v":0},null,{"$f":"IF(U11=\"-\",0,IF(SUM('Combinaison de méthodes'!G1:L1)>0,HLOOKUP(U11,'B-Méthodes'!H4:AE190,146,FALSE),\"-\"))","v":0},null,{"$f":"IF(W11=\"-\",0,IF(SUM('Combinaison de méthodes'!M1:P1)>0,HLOOKUP(W11,'B-Méthodes'!H4:AE190,146,FALSE),\"-\"))","v":0},null,{"$f":"IF(Y11=\"-\",0,IF(SUM('Combinaison de méthodes'!Q1:V1)>0,HLOOKUP(Y11,'B-Méthodes'!H4:AE190,146,FALSE),\"-\"))","v":0},null,{"$f":"IF(AA11=\"-\",0,IF(SUM('Combinaison de méthodes'!W1:AB1)>0,HLOOKUP(AA11,'B-Méthodes'!H4:AE190,146,FALSE),\"-\"))","v":0},null,{"$f":"IF(AC11=\"-\",0,IF(SUM('Combinaison de méthodes'!AC1:AZ1)>0,HLOOKUP(AC11,'B-Méthodes'!H4:AE190,146,FALSE),\"-\"))","v":0},null,{"$f":"IF(AE11=\"-\",0,IF(SUM('Combinaison de méthodes'!BA1:BO1)>0,HLOOKUP(AE11,'B-Méthodes'!H4:AE190,146,FALSE),\"-\"))","v":0}]
["1-B.1.4","Évaluation des coûts - mixte: inorganique et organique (produits pétroliers et COV) ($)",null,null,null,null,null,{"$f":"IF($H$5=\"-\",0,'B-Méthodes'!H150)","v":0},null,{"$f":"IF($J$5=\"-\",0,'B-Méthodes'!J150)","v":0},null,{"$f":"IF($L$5=\"-\",0,HLOOKUP(HLOOKUP(MAX('B-Méthodes'!L170:R170),'B-Méthodes'!L170:S190,21,FALSE),'B-Méthodes'!L4:S169,147,FALSE))","v":0},null,{"$f":"IF($N$5=\"-\",0,HLOOKUP(HLOOKUP(MAX('B-Méthodes'!T170:AD170),'B-Méthodes'!T170:AD190,21,FALSE),'B-Méthodes'!T4:AD169,147,FALSE))","v":0},null,{"$f":"IF(OR(Q9=\"-\",Q10=\"-\"),0,IF('B-Méthodes'!F150=0,0,IF('Combinaison de méthodes'!$B$1>0,IF(AND(HLOOKUP(Q9,'B-Méthodes'!H4:AE190,147,FALSE)<>0,HLOOKUP(Q10,'B-Méthodes'!H4:AE190,147,FALSE)<>0),MIN(HLOOKUP(Q9,'B-Méthodes'!H4:AE190,147,FALSE),HLOOKUP(Q10,'B-Méthodes'!H4:AE190,147,FALSE)),MAX(HLOOKUP(Q9,'B-Méthodes'!H4:AE190,147,FALSE),HLOOKUP(Q10,'B-Méthodes'!H4:AE190,147,FALSE))),0)))","v":0},null,{"$f":"IF(OR(S9=\"-\",S10=\"-\"),0,IF('B-Méthodes'!F150=0,0,IF(SUM('Combinaison de méthodes'!C1:F1)>0,IF(AND(HLOOKUP(S9,'B-Méthodes'!H4:AE190,147,FALSE)<>0,HLOOKUP(S10,'B-Méthodes'!H4:AE190,147,FALSE)<>0),MIN(HLOOKUP(S9,'B-Méthodes'!H4:AE190,147,FALSE),HLOOKUP(S10,'B-Méthodes'!H4:AE190,147,FALSE)),MAX(HLOOKUP(S9,'B-Méthodes'!H4:AE190,147,FALSE),HLOOKUP(S10,'B-Méthodes'!H4:AE190,147,FALSE))),0)))","v":0},null,{"$f":"IF(OR(U9=\"-\",U10=\"-\"),0,IF('B-Méthodes'!F150=0,0,IF(SUM('Combinaison de méthodes'!G1:L1)>0,IF(AND(HLOOKUP(U9,'B-Méthodes'!H4:AE190,147,FALSE)<>0,HLOOKUP(U10,'B-Méthodes'!H4:AE190,147,FALSE)<>0),MIN(HLOOKUP(U9,'B-Méthodes'!H4:AE190,147,FALSE),HLOOKUP(U10,'B-Méthodes'!H4:AE190,147,FALSE)),MAX(HLOOKUP(U9,'B-Méthodes'!H4:AE190,147,FALSE),HLOOKUP(U10,'B-Méthodes'!H4:AE190,147,FALSE))),0)))","v":0},null,{"$f":"IF(OR(W9=\"-\",W10=\"-\"),0,IF('B-Méthodes'!F150=0,0,IF(SUM('Combinaison de méthodes'!M1:P1)>0,IF(AND(HLOOKUP(W9,'B-Méthodes'!H4:AE190,147,FALSE)<>0,HLOOKUP(W10,'B-Méthodes'!H4:AE190,147,FALSE)<>0),MIN(HLOOKUP(W9,'B-Méthodes'!H4:AE190,147,FALSE),HLOOKUP(W10,'B-Méthodes'!H4:AE190,147,FALSE)),MAX(HLOOKUP(W9,'B-Méthodes'!H4:AE190,147,FALSE),HLOOKUP(W10,'B-Méthodes'!H4:AE190,147,FALSE))),0)))","v":0},null,{"$f":"IF(OR(Y9=\"-\",Y10=\"-\"),0,IF('B-Méthodes'!F150=0,0,IF(SUM('Combinaison de méthodes'!Q1:V1)>0,IF(AND(HLOOKUP(Y9,'B-Méthodes'!H4:AE190,147,FALSE)<>0,HLOOKUP(Y10,'B-Méthodes'!H4:AE190,147,FALSE)<>0),MIN(HLOOKUP(Y9,'B-Méthodes'!H4:AE190,147,FALSE),HLOOKUP(Y10,'B-Méthodes'!H4:AE190,147,FALSE)),MAX(HLOOKUP(Y9,'B-Méthodes'!H4:AE190,147,FALSE),HLOOKUP(Y10,'B-Méthodes'!H4:AE190,147,FALSE))),0)))","v":0},null,{"$f":"IF(OR(AA9=\"-\",AA10=\"-\"),0,IF('B-Méthodes'!F150=0,0,IF(SUM('Combinaison de méthodes'!W1:AB1)>0,IF(AND(HLOOKUP(AA9,'B-Méthodes'!H4:AE190,147,FALSE)<>0,HLOOKUP(AA10,'B-Méthodes'!H4:AE190,147,FALSE)<>0),MIN(HLOOKUP(AA9,'B-Méthodes'!H4:AE190,147,FALSE),HLOOKUP(AA10,'B-Méthodes'!H4:AE190,147,FALSE)),MAX(HLOOKUP(AA9,'B-Méthodes'!H4:AE190,147,FALSE),HLOOKUP(AA10,'B-Méthodes'!H4:AE190,147,FALSE))),0)))","v":0},null,{"$f":"IF(OR(AC9=\"-\",AC10=\"-\"),0,IF('B-Méthodes'!F150=0,0,IF(SUM('Combinaison de méthodes'!AC1:AZ1)>0,IF(AND(HLOOKUP(AC9,'B-Méthodes'!H4:AE190,147,FALSE)<>0,HLOOKUP(AC10,'B-Méthodes'!H4:AE190,147,FALSE)<>0),MIN(HLOOKUP(AC9,'B-Méthodes'!H4:AE190,147,FALSE),HLOOKUP(AC10,'B-Méthodes'!H4:AE190,147,FALSE)),MAX(HLOOKUP(AC9,'B-Méthodes'!H4:AE190,147,FALSE),HLOOKUP(AC10,'B-Méthodes'!H4:AE190,147,FALSE))),0)))","v":0},null,{"$f":"IF(OR(AE9=\"-\",AE10=\"-\"),0,IF('B-Méthodes'!F150=0,0,IF(SUM('Combinaison de méthodes'!BA1:BO1)>0,IF(AND(HLOOKUP(AE9,'B-Méthodes'!H4:AE190,147,FALSE)<>0,HLOOKUP(AE10,'B-Méthodes'!H4:AE190,147,FALSE)<>0),MIN(HLOOKUP(AE9,'B-Méthodes'!H4:AE190,147,FALSE),HLOOKUP(AE10,'B-Méthodes'!H4:AE190,147,FALSE)),MAX(HLOOKUP(AE9,'B-Méthodes'!H4:AE190,147,FALSE),HLOOKUP(AE10,'B-Méthodes'!H4:AE190,147,FALSE))),0)))","v":0}]
["1-B.1.5","Évaluation des coûts - mixte: inorganique et autres composés organiques ($)",null,null,null,null,null,{"$f":"IF($H$5=\"-\",0,'B-Méthodes'!H151)","v":0},null,{"$f":"IF($J$5=\"-\",0,'B-Méthodes'!J151)","v":0},null,{"$f":"IF($L$5=\"-\",0,HLOOKUP(HLOOKUP(MAX('B-Méthodes'!L170:R170),'B-Méthodes'!L170:S190,21,FALSE),'B-Méthodes'!L4:S169,148,FALSE))","v":0},null,{"$f":"IF($N$5=\"-\",0,HLOOKUP(HLOOKUP(MAX('B-Méthodes'!T170:AD170),'B-Méthodes'!T170:AD190,21,FALSE),'B-Méthodes'!T4:AD169,148,FALSE))","v":0},null,{"$f":"IF(OR(Q9=\"-\",Q11=\"-\"),0,IF('B-Méthodes'!F151=0,0,IF('Combinaison de méthodes'!$B$1>0,IF(AND(HLOOKUP(Q9,'B-Méthodes'!H4:AE190,148,FALSE)<>0,HLOOKUP(Q11,'B-Méthodes'!H4:AE190,148,FALSE)<>0),MIN(HLOOKUP(Q9,'B-Méthodes'!H4:AE190,148,FALSE),HLOOKUP(Q11,'B-Méthodes'!H4:AE190,148,FALSE)),MAX(HLOOKUP(Q9,'B-Méthodes'!H4:AE190,148,FALSE),HLOOKUP(Q11,'B-Méthodes'!H4:AE190,148,FALSE))),0)))","v":0},null,{"$f":"IF(OR(S9=\"-\",S11=\"-\"),0,IF('B-Méthodes'!F151=0,0,IF(SUM('Combinaison de méthodes'!C1:F1)>0,IF(AND(HLOOKUP(S9,'B-Méthodes'!H4:AE190,148,FALSE)<>0,HLOOKUP(S11,'B-Méthodes'!H4:AE190,148,FALSE)<>0),MIN(HLOOKUP(S9,'B-Méthodes'!H4:AE190,148,FALSE),HLOOKUP(S11,'B-Méthodes'!H4:AE190,148,FALSE)),MAX(HLOOKUP(S9,'B-Méthodes'!H4:AE190,148,FALSE),HLOOKUP(S11,'B-Méthodes'!H4:AE190,148,FALSE))),0)))","v":0},null,{"$f":"IF(OR(U9=\"-\",U11=\"-\"),0,IF('B-Méthodes'!F151=0,0,IF(SUM('Combinaison de méthodes'!G1:L1)>0,IF(AND(HLOOKUP(U9,'B-Méthodes'!H4:AE190,148,FALSE)<>0,HLOOKUP(U11,'B-Méthodes'!H4:AE190,148,FALSE)<>0),MIN(HLOOKUP(U9,'B-Méthodes'!H4:AE190,148,FALSE),HLOOKUP(U11,'B-Méthodes'!H4:AE190,148,FALSE)),MAX(HLOOKUP(U9,'B-Méthodes'!H4:AE190,148,FALSE),HLOOKUP(U11,'B-Méthodes'!H4:AE190,148,FALSE))),0)))","v":0},null,{"$f":"IF(OR(W9=\"-\",W11=\"-\"),0,IF('B-Méthodes'!F151=0,0,IF(SUM('Combinaison de méthodes'!M1:P1)>0,IF(AND(HLOOKUP(W9,'B-Méthodes'!H4:AE190,148,FALSE)<>0,HLOOKUP(W11,'B-Méthodes'!H4:AE190,148,FALSE)<>0),MIN(HLOOKUP(W9,'B-Méthodes'!H4:AE190,148,FALSE),HLOOKUP(W11,'B-Méthodes'!H4:AE190,148,FALSE)),MAX(HLOOKUP(W9,'B-Méthodes'!H4:AE190,148,FALSE),HLOOKUP(W11,'B-Méthodes'!H4:AE190,148,FALSE))),0)))","v":0},null,{"$f":"IF(OR(Y9=\"-\",Y11=\"-\"),0,IF('B-Méthodes'!F151=0,0,IF(SUM('Combinaison de méthodes'!Q1:V1)>0,IF(AND(HLOOKUP(Y9,'B-Méthodes'!H4:AE190,148,FALSE)<>0,HLOOKUP(Y11,'B-Méthodes'!H4:AE190,148,FALSE)<>0),MIN(HLOOKUP(Y9,'B-Méthodes'!H4:AE190,148,FALSE),HLOOKUP(Y11,'B-Méthodes'!H4:AE190,148,FALSE)),MAX(HLOOKUP(Y9,'B-Méthodes'!H4:AE190,148,FALSE),HLOOKUP(Y11,'B-Méthodes'!H4:AE190,148,FALSE))),0)))","v":0},null,{"$f":"IF(OR(AA9=\"-\",AA11=\"-\"),0,IF('B-Méthodes'!F151=0,0,IF(SUM('Combinaison de méthodes'!W1:AB1)>0,IF(AND(HLOOKUP(AA9,'B-Méthodes'!H4:AE190,148,FALSE)<>0,HLOOKUP(AA11,'B-Méthodes'!H4:AE190,148,FALSE)<>0),MIN(HLOOKUP(AA9,'B-Méthodes'!H4:AE190,148,FALSE),HLOOKUP(AA11,'B-Méthodes'!H4:AE190,148,FALSE)),MAX(HLOOKUP(AA9,'B-Méthodes'!H4:AE190,148,FALSE),HLOOKUP(AA11,'B-Méthodes'!H4:AE190,148,FALSE))),0)))","v":0},null,{"$f":"IF(OR(AC9=\"-\",AC11=\"-\"),0,IF('B-Méthodes'!F151=0,0,IF(SUM('Combinaison de méthodes'!AC1:AZ1)>0,IF(AND(HLOOKUP(AC9,'B-Méthodes'!H4:AE190,148,FALSE)<>0,HLOOKUP(AC11,'B-Méthodes'!H4:AE190,148,FALSE)<>0),MIN(HLOOKUP(AC9,'B-Méthodes'!H4:AE190,148,FALSE),HLOOKUP(AC11,'B-Méthodes'!H4:AE190,148,FALSE)),MAX(HLOOKUP(AC9,'B-Méthodes'!H4:AE190,148,FALSE),HLOOKUP(AC11,'B-Méthodes'!H4:AE190,148,FALSE))),0)))","v":0},null,{"$f":"IF(OR(AE9=\"-\",AE11=\"-\"),0,IF('B-Méthodes'!F151=0,0,IF(SUM('Combinaison de méthodes'!BA1:BO1)>0,IF(AND(HLOOKUP(AE9,'B-Méthodes'!H4:AE190,148,FALSE)<>0,HLOOKUP(AE11,'B-Méthodes'!H4:AE190,148,FALSE)<>0),MIN(HLOOKUP(AE9,'B-Méthodes'!H4:AE190,148,FALSE),HLOOKUP(AE11,'B-Méthodes'!H4:AE190,148,FALSE)),MAX(HLOOKUP(AE9,'B-Méthodes'!H4:AE190,148,FALSE),HLOOKUP(AE11,'B-Méthodes'!H4:AE190,148,FALSE))),0)))","v":0}]
["1-B.1.6","Évaluation des coûts - mixte: organique (produits pétroliers et COV) et autres composés organiques ($)",null,null,null,null,null,{"$f":"IF($H$5=\"-\",0,'B-Méthodes'!H152)","v":0},null,{"$f":"IF($J$5=\"-\",0,'B-Méthodes'!J152)","v":0},null,{"$f":"IF($L$5=\"-\",0,HLOOKUP(HLOOKUP(MAX('B-Méthodes'!L170:R170),'B-Méthodes'!L170:S190,21,FALSE),'B-Méthodes'!L4:S169,149,FALSE))","v":0},null,{"$f":"IF($N$5=\"-\",0,HLOOKUP(HLOOKUP(MAX('B-Méthodes'!T170:AD170),'B-Méthodes'!T170:AD190,21,FALSE),'B-Méthodes'!T4:AD169,149,FALSE))","v":0},null,{"$f":"IF(OR(Q11=\"-\",Q10=\"-\"),0,IF('B-Méthodes'!F152=0,0,IF('Combinaison de méthodes'!$B$1>0,IF(AND(HLOOKUP(Q10,'B-Méthodes'!H4:AE190,149,FALSE)<>0,HLOOKUP(Q11,'B-Méthodes'!H4:AE190,149,FALSE)<>0),MIN(HLOOKUP(Q10,'B-Méthodes'!H4:AE190,149,FALSE),HLOOKUP(Q11,'B-Méthodes'!H4:AE190,149,FALSE)),MAX(HLOOKUP(Q10,'B-Méthodes'!H4:AE190,149,FALSE),HLOOKUP(Q11,'B-Méthodes'!H4:AE190,149,FALSE))),0)))","v":0},null,{"$f":"IF(OR(S11=\"-\",S10=\"-\"),0,IF('B-Méthodes'!F152=0,0,IF(SUM('Combinaison de méthodes'!C1:F1)>0,IF(AND(HLOOKUP(S10,'B-Méthodes'!H4:AE190,149,FALSE)<>0,HLOOKUP(S11,'B-Méthodes'!H4:AE190,149,FALSE)<>0),MIN(HLOOKUP(S10,'B-Méthodes'!H4:AE190,149,FALSE),HLOOKUP(S11,'B-Méthodes'!H4:AE190,149,FALSE)),MAX(HLOOKUP(S10,'B-Méthodes'!H4:AE190,149,FALSE),HLOOKUP(S11,'B-Méthodes'!H4:AE190,149,FALSE))),0)))","v":0},null,{"$f":"IF(OR(U11=\"-\",U10=\"-\"),0,IF('B-Méthodes'!F152=0,0,IF(SUM('Combinaison de méthodes'!G1:L1)>0,IF(AND(HLOOKUP(U10,'B-Méthodes'!H4:AE190,149,FALSE)<>0,HLOOKUP(U11,'B-Méthodes'!H4:AE190,149,FALSE)<>0),MIN(HLOOKUP(U10,'B-Méthodes'!H4:AE190,149,FALSE),HLOOKUP(U11,'B-Méthodes'!H4:AE190,149,FALSE)),MAX(HLOOKUP(U10,'B-Méthodes'!H4:AE190,149,FALSE),HLOOKUP(U11,'B-Méthodes'!H4:AE190,149,FALSE))),0)))","v":0},null,{"$f":"IF(OR(W11=\"-\",W10=\"-\"),0,IF('B-Méthodes'!F152=0,0,IF(SUM('Combinaison de méthodes'!M1:P1)>0,IF(AND(HLOOKUP(W10,'B-Méthodes'!H4:AE190,149,FALSE)<>0,HLOOKUP(W11,'B-Méthodes'!H4:AE190,149,FALSE)<>0),MIN(HLOOKUP(W10,'B-Méthodes'!H4:AE190,149,FALSE),HLOOKUP(W11,'B-Méthodes'!H4:AE190,149,FALSE)),MAX(HLOOKUP(W10,'B-Méthodes'!H4:AE190,149,FALSE),HLOOKUP(W11,'B-Méthodes'!H4:AE190,149,FALSE))),0)))","v":0},null,{"$f":"IF(OR(Y11=\"-\",Y10=\"-\"),0,IF('B-Méthodes'!F152=0,0,IF(SUM('Combinaison de méthodes'!Q1:V1)>0,IF(AND(HLOOKUP(Y10,'B-Méthodes'!H4:AE190,149,FALSE)<>0,HLOOKUP(Y11,'B-Méthodes'!H4:AE190,149,FALSE)<>0),MIN(HLOOKUP(Y10,'B-Méthodes'!H4:AE190,149,FALSE),HLOOKUP(Y11,'B-Méthodes'!H4:AE190,149,FALSE)),MAX(HLOOKUP(Y10,'B-Méthodes'!H4:AE190,149,FALSE),HLOOKUP(Y11,'B-Méthodes'!H4:AE190,149,FALSE))),0)))","v":0},null,{"$f":"IF(OR(AA11=\"-\",AA10=\"-\"),0,IF('B-Méthodes'!F152=0,0,IF(SUM('Combinaison de méthodes'!W1:AB1)>0,IF(AND(HLOOKUP(AA10,'B-Méthodes'!H4:AE190,149,FALSE)<>0,HLOOKUP(AA11,'B-Méthodes'!H4:AE190,149,FALSE)<>0),MIN(HLOOKUP(AA10,'B-Méthodes'!H4:AE190,149,FALSE),HLOOKUP(AA11,'B-Méthodes'!H4:AE190,149,FALSE)),MAX(HLOOKUP(AA10,'B-Méthodes'!H4:AE190,149,FALSE),HLOOKUP(AA11,'B-Méthodes'!H4:AE190,149,FALSE))),0)))","v":0},null,{"$f":"IF(OR(AC11=\"-\",AC10=\"-\"),0,IF('B-Méthodes'!F152=0,0,IF(SUM('Combinaison de méthodes'!AC1:AZ1)>0,IF(AND(HLOOKUP(AC10,'B-Méthodes'!H4:AE190,149,FALSE)<>0,HLOOKUP(AC11,'B-Méthodes'!H4:AE190,149,FALSE)<>0),MIN(HLOOKUP(AC10,'B-Méthodes'!H4:AE190,149,FALSE),HLOOKUP(AC11,'B-Méthodes'!H4:AE190,149,FALSE)),MAX(HLOOKUP(AC10,'B-Méthodes'!H4:AE190,149,FALSE),HLOOKUP(AC11,'B-Méthodes'!H4:AE190,149,FALSE))),0)))","v":0},null,{"$f":"IF(OR(AE11=\"-\",AE10=\"-\"),0,IF('B-Méthodes'!F152=0,0,IF(SUM('Combinaison de méthodes'!BA1:BO1)>0,IF(AND(HLOOKUP(AE10,'B-Méthodes'!H4:AE190,149,FALSE)<>0,HLOOKUP(AE11,'B-Méthodes'!H4:AE190,149,FALSE)<>0),MIN(HLOOKUP(AE10,'B-Méthodes'!H4:AE190,149,FALSE),HLOOKUP(AE11,'B-Méthodes'!H4:AE190,149,FALSE)),MAX(HLOOKUP(AE10,'B-Méthodes'!H4:AE190,149,FALSE),HLOOKUP(AE11,'B-Méthodes'!H4:AE190,149,FALSE))),0)))","v":0}]
["1-B.1.7","Évaluation des coûts - mixte: inorganique, organique (produits pétroliers et COV) et autres composés organique ($)",null,null,null,null,null,{"$f":"IF($H$5=\"-\",0,'B-Méthodes'!H153)","v":0},null,{"$f":"IF($J$5=\"-\",0,'B-Méthodes'!J153)","v":0},null,{"$f":"IF($L$5=\"-\",0,HLOOKUP(HLOOKUP(MAX('B-Méthodes'!L170:R170),'B-Méthodes'!L170:S190,21,FALSE),'B-Méthodes'!L4:S169,150,FALSE))","v":0},null,{"$f":"IF($N$5=\"-\",0,HLOOKUP(HLOOKUP(MAX('B-Méthodes'!T170:AD170),'B-Méthodes'!T170:AD190,21,FALSE),'B-Méthodes'!T4:AD169,150,FALSE))","v":0},null,{"$f":"IF(OR(Q9=\"-\",Q10=\"-\",Q11=\"-\"),0,IF('B-Méthodes'!F153=0,0,IF('Combinaison de méthodes'!$B$1>0,IF(AND(HLOOKUP(Q9,'B-Méthodes'!H4:AE190,150,FALSE)<>0,HLOOKUP(Q10,'B-Méthodes'!H4:AE190,150,FALSE)<>0,HLOOKUP(Q11,'B-Méthodes'!H4:AE190,150,FALSE)<>0),MIN(HLOOKUP(Q9,'B-Méthodes'!H4:AE190,150,FALSE),HLOOKUP(Q10,'B-Méthodes'!H4:AE190,150,FALSE),HLOOKUP(Q11,'B-Méthodes'!H4:AE190,150,FALSE)),IF(AND(HLOOKUP(Q9,'B-Méthodes'!H4:AE190,150,FALSE)=0,HLOOKUP(Q10,'B-Méthodes'!H4:AE190,150,FALSE)=0),HLOOKUP(Q11,'B-Méthodes'!H4:AE190,150,FALSE),IF(AND(HLOOKUP(Q9,'B-Méthodes'!H4:AE190,150,FALSE)=0,HLOOKUP(Q11,'B-Méthodes'!H4:AE190,150,FALSE)=0),HLOOKUP(Q10,'B-Méthodes'!H4:AE190,150,FALSE),IF(AND(HLOOKUP(Q11,'B-Méthodes'!H4:AE190,150,FALSE)=0,HLOOKUP(Q10,'B-Méthodes'!H4:AE190,150,FALSE)=0),HLOOKUP(Q9,'B-Méthodes'!H4:AE190,150,FALSE),IF(HLOOKUP(Q9,'B-Méthodes'!H4:AE190,150,FALSE)=0,MIN(HLOOKUP(Q10,'B-Méthodes'!H4:AE190,150,FALSE),HLOOKUP(Q11,'B-Méthodes'!H4:AE190,150,FALSE)),IF(HLOOKUP(Q10,'B-Méthodes'!H4:AE190,150,FALSE)=0,MIN(HLOOKUP(Q9,'B-Méthodes'!H4:AE190,150,FALSE),HLOOKUP(Q11,'B-Méthodes'!H4:AE190,150,FALSE)),IF(HLOOKUP(Q11,'B-Méthodes'!H4:AE190,150,FALSE)=0,MIN(HLOOKUP(Q10,'B-Méthodes'!H4:AE190,150,FALSE),HLOOKUP(Q9,'B-Méthodes'!H4:AE190,150,FALSE)),0))))))),0)))","v":0},null,{"$f":"IF(OR(S9=\"-\",S10=\"-\",S11=\"-\"),0,IF('B-Méthodes'!F153=0,0,IF(SUM('Combinaison de méthodes'!C1:F1)>0,IF(AND(HLOOKUP(S9,'B-Méthodes'!H4:AE190,150,FALSE)<>0,HLOOKUP(S10,'B-Méthodes'!H4:AE190,150,FALSE)<>0,HLOOKUP(S11,'B-Méthodes'!H4:AE190,150,FALSE)<>0),MIN(HLOOKUP(S9,'B-Méthodes'!H4:AE190,150,FALSE),HLOOKUP(S10,'B-Méthodes'!H4:AE190,150,FALSE),HLOOKUP(S11,'B-Méthodes'!H4:AE190,150,FALSE)),IF(AND(HLOOKUP(S9,'B-Méthodes'!H4:AE190,150,FALSE)=0,HLOOKUP(S10,'B-Méthodes'!H4:AE190,150,FALSE)=0),HLOOKUP(S11,'B-Méthodes'!H4:AE190,150,FALSE),IF(AND(HLOOKUP(S9,'B-Méthodes'!H4:AE190,150,FALSE)=0,HLOOKUP(S11,'B-Méthodes'!H4:AE190,150,FALSE)=0),HLOOKUP(S10,'B-Méthodes'!H4:AE190,150,FALSE),IF(AND(HLOOKUP(S11,'B-Méthodes'!H4:AE190,150,FALSE)=0,HLOOKUP(S10,'B-Méthodes'!H4:AE190,150,FALSE)=0),HLOOKUP(S9,'B-Méthodes'!H4:AE190,150,FALSE),IF(HLOOKUP(S9,'B-Méthodes'!H4:AE190,150,FALSE)=0,MIN(HLOOKUP(S10,'B-Méthodes'!H4:AE190,150,FALSE),HLOOKUP(S11,'B-Méthodes'!H4:AE190,150,FALSE)),IF(HLOOKUP(S10,'B-Méthodes'!H4:AE190,150,FALSE)=0,MIN(HLOOKUP(S9,'B-Méthodes'!H4:AE190,150,FALSE),HLOOKUP(S11,'B-Méthodes'!H4:AE190,150,FALSE)),IF(HLOOKUP(S11,'B-Méthodes'!H4:AE190,150,FALSE)=0,MIN(HLOOKUP(S10,'B-Méthodes'!H4:AE190,150,FALSE),HLOOKUP(S9,'B-Méthodes'!H4:AE190,150,FALSE)),0))))))),0)))","v":0},null,{"$f":"IF(OR(U9=\"-\",U10=\"-\",U11=\"-\"),0,IF('B-Méthodes'!F153=0,0,IF(SUM('Combinaison de méthodes'!G1:L1)>0,IF(AND(HLOOKUP(U9,'B-Méthodes'!H4:AE190,150,FALSE)<>0,HLOOKUP(U10,'B-Méthodes'!H4:AE190,150,FALSE)<>0,HLOOKUP(U11,'B-Méthodes'!H4:AE190,150,FALSE)<>0),MIN(HLOOKUP(U9,'B-Méthodes'!H4:AE190,150,FALSE),HLOOKUP(U10,'B-Méthodes'!H4:AE190,150,FALSE),HLOOKUP(U11,'B-Méthodes'!H4:AE190,150,FALSE)),IF(AND(HLOOKUP(U9,'B-Méthodes'!H4:AE190,150,FALSE)=0,HLOOKUP(U10,'B-Méthodes'!H4:AE190,150,FALSE)=0),HLOOKUP(U11,'B-Méthodes'!H4:AE190,150,FALSE),IF(AND(HLOOKUP(U9,'B-Méthodes'!H4:AE190,150,FALSE)=0,HLOOKUP(U11,'B-Méthodes'!H4:AE190,150,FALSE)=0),HLOOKUP(U10,'B-Méthodes'!H4:AE190,150,FALSE),IF(AND(HLOOKUP(U11,'B-Méthodes'!H4:AE190,150,FALSE)=0,HLOOKUP(U10,'B-Méthodes'!H4:AE190,150,FALSE)=0),HLOOKUP(U9,'B-Méthodes'!H4:AE190,150,FALSE),IF(HLOOKUP(U9,'B-Méthodes'!H4:AE190,150,FALSE)=0,MIN(HLOOKUP(U10,'B-Méthodes'!H4:AE190,150,FALSE),HLOOKUP(U11,'B-Méthodes'!H4:AE190,150,FALSE)),IF(HLOOKUP(U10,'B-Méthodes'!H4:AE190,150,FALSE)=0,MIN(HLOOKUP(U9,'B-Méthodes'!H4:AE190,150,FALSE),HLOOKUP(U11,'B-Méthodes'!H4:AE190,150,FALSE)),IF(HLOOKUP(U11,'B-Méthodes'!H4:AE190,150,FALSE)=0,MIN(HLOOKUP(U10,'B-Méthodes'!H4:AE190,150,FALSE),HLOOKUP(U9,'B-Méthodes'!H4:AE190,150,FALSE)),0))))))),0)))","v":0},null,{"$f":"IF(OR(W9=\"-\",W10=\"-\",W11=\"-\"),0,IF('B-Méthodes'!F153=0,0,IF(SUM('Combinaison de méthodes'!M1:P1)>0,IF(AND(HLOOKUP(W9,'B-Méthodes'!H4:AE190,150,FALSE)<>0,HLOOKUP(W10,'B-Méthodes'!H4:AE190,150,FALSE)<>0,HLOOKUP(W11,'B-Méthodes'!H4:AE190,150,FALSE)<>0),MIN(HLOOKUP(W9,'B-Méthodes'!H4:AE190,150,FALSE),HLOOKUP(W10,'B-Méthodes'!H4:AE190,150,FALSE),HLOOKUP(W11,'B-Méthodes'!H4:AE190,150,FALSE)),IF(AND(HLOOKUP(W9,'B-Méthodes'!H4:AE190,150,FALSE)=0,HLOOKUP(W10,'B-Méthodes'!H4:AE190,150,FALSE)=0),HLOOKUP(W11,'B-Méthodes'!H4:AE190,150,FALSE),IF(AND(HLOOKUP(W9,'B-Méthodes'!H4:AE190,150,FALSE)=0,HLOOKUP(W11,'B-Méthodes'!H4:AE190,150,FALSE)=0),HLOOKUP(W10,'B-Méthodes'!H4:AE190,150,FALSE),IF(AND(HLOOKUP(W11,'B-Méthodes'!H4:AE190,150,FALSE)=0,HLOOKUP(W10,'B-Méthodes'!H4:AE190,150,FALSE)=0),HLOOKUP(W9,'B-Méthodes'!H4:AE190,150,FALSE),IF(HLOOKUP(W9,'B-Méthodes'!H4:AE190,150,FALSE)=0,MIN(HLOOKUP(W10,'B-Méthodes'!H4:AE190,150,FALSE),HLOOKUP(W11,'B-Méthodes'!H4:AE190,150,FALSE)),IF(HLOOKUP(W10,'B-Méthodes'!H4:AE190,150,FALSE)=0,MIN(HLOOKUP(W9,'B-Méthodes'!H4:AE190,150,FALSE),HLOOKUP(W11,'B-Méthodes'!H4:AE190,150,FALSE)),IF(HLOOKUP(W11,'B-Méthodes'!H4:AE190,150,FALSE)=0,MIN(HLOOKUP(W10,'B-Méthodes'!H4:AE190,150,FALSE),HLOOKUP(W9,'B-Méthodes'!H4:AE190,150,FALSE)),0))))))),0)))","v":0},null,{"$f":"IF(OR(Y9=\"-\",Y10=\"-\",Y11=\"-\"),0,IF('B-Méthodes'!F153=0,0,IF(SUM('Combinaison de méthodes'!Q1:V1)>0,IF(AND(HLOOKUP(Y9,'B-Méthodes'!H4:AE190,150,FALSE)<>0,HLOOKUP(Y10,'B-Méthodes'!H4:AE190,150,FALSE)<>0,HLOOKUP(Y11,'B-Méthodes'!H4:AE190,150,FALSE)<>0),MIN(HLOOKUP(Y9,'B-Méthodes'!H4:AE190,150,FALSE),HLOOKUP(Y10,'B-Méthodes'!H4:AE190,150,FALSE),HLOOKUP(Y11,'B-Méthodes'!H4:AE190,150,FALSE)),IF(AND(HLOOKUP(Y9,'B-Méthodes'!H4:AE190,150,FALSE)=0,HLOOKUP(Y10,'B-Méthodes'!H4:AE190,150,FALSE)=0),HLOOKUP(Y11,'B-Méthodes'!H4:AE190,150,FALSE),IF(AND(HLOOKUP(Y9,'B-Méthodes'!H4:AE190,150,FALSE)=0,HLOOKUP(Y11,'B-Méthodes'!H4:AE190,150,FALSE)=0),HLOOKUP(Y10,'B-Méthodes'!H4:AE190,150,FALSE),IF(AND(HLOOKUP(Y11,'B-Méthodes'!H4:AE190,150,FALSE)=0,HLOOKUP(Y10,'B-Méthodes'!H4:AE190,150,FALSE)=0),HLOOKUP(Y9,'B-Méthodes'!H4:AE190,150,FALSE),IF(HLOOKUP(Y9,'B-Méthodes'!H4:AE190,150,FALSE)=0,MIN(HLOOKUP(Y10,'B-Méthodes'!H4:AE190,150,FALSE),HLOOKUP(Y11,'B-Méthodes'!H4:AE190,150,FALSE)),IF(HLOOKUP(Y10,'B-Méthodes'!H4:AE190,150,FALSE)=0,MIN(HLOOKUP(Y9,'B-Méthodes'!H4:AE190,150,FALSE),HLOOKUP(Y11,'B-Méthodes'!H4:AE190,150,FALSE)),IF(HLOOKUP(Y11,'B-Méthodes'!H4:AE190,150,FALSE)=0,MIN(HLOOKUP(Y10,'B-Méthodes'!H4:AE190,150,FALSE),HLOOKUP(Y9,'B-Méthodes'!H4:AE190,150,FALSE)),0))))))),0)))","v":0},null,{"$f":"IF(OR(AA9=\"-\",AA10=\"-\",AA11=\"-\"),0,IF('B-Méthodes'!F153=0,0,IF(SUM('Combinaison de méthodes'!W1:AB1)>0,IF(AND(HLOOKUP(AA9,'B-Méthodes'!H4:AE190,150,FALSE)<>0,HLOOKUP(AA10,'B-Méthodes'!H4:AE190,150,FALSE)<>0,HLOOKUP(AA11,'B-Méthodes'!H4:AE190,150,FALSE)<>0),MIN(HLOOKUP(AA9,'B-Méthodes'!H4:AE190,150,FALSE),HLOOKUP(AA10,'B-Méthodes'!H4:AE190,150,FALSE),HLOOKUP(AA11,'B-Méthodes'!H4:AE190,150,FALSE)),IF(AND(HLOOKUP(AA9,'B-Méthodes'!H4:AE190,150,FALSE)=0,HLOOKUP(AA10,'B-Méthodes'!H4:AE190,150,FALSE)=0),HLOOKUP(AA11,'B-Méthodes'!H4:AE190,150,FALSE),IF(AND(HLOOKUP(AA9,'B-Méthodes'!H4:AE190,150,FALSE)=0,HLOOKUP(AA11,'B-Méthodes'!H4:AE190,150,FALSE)=0),HLOOKUP(AA10,'B-Méthodes'!H4:AE190,150,FALSE),IF(AND(HLOOKUP(AA11,'B-Méthodes'!H4:AE190,150,FALSE)=0,HLOOKUP(AA10,'B-Méthodes'!H4:AE190,150,FALSE)=0),HLOOKUP(AA9,'B-Méthodes'!H4:AE190,150,FALSE),IF(HLOOKUP(AA9,'B-Méthodes'!H4:AE190,150,FALSE)=0,MIN(HLOOKUP(AA10,'B-Méthodes'!H4:AE190,150,FALSE),HLOOKUP(AA11,'B-Méthodes'!H4:AE190,150,FALSE)),IF(HLOOKUP(AA10,'B-Méthodes'!H4:AE190,150,FALSE)=0,MIN(HLOOKUP(AA9,'B-Méthodes'!H4:AE190,150,FALSE),HLOOKUP(AA11,'B-Méthodes'!H4:AE190,150,FALSE)),IF(HLOOKUP(AA11,'B-Méthodes'!H4:AE190,150,FALSE)=0,MIN(HLOOKUP(AA10,'B-Méthodes'!H4:AE190,150,FALSE),HLOOKUP(AA9,'B-Méthodes'!H4:AE190,150,FALSE)),0))))))),0)))","v":0},null,{"$f":"IF(OR(AC9=\"-\",AC10=\"-\",AC11=\"-\"),0,IF('B-Méthodes'!F153=0,0,IF(SUM('Combinaison de méthodes'!AC1:AZ1)>0,IF(AND(HLOOKUP(AC9,'B-Méthodes'!H4:AE190,150,FALSE)<>0,HLOOKUP(AC10,'B-Méthodes'!H4:AE190,150,FALSE)<>0,HLOOKUP(AC11,'B-Méthodes'!H4:AE190,150,FALSE)<>0),MIN(HLOOKUP(AC9,'B-Méthodes'!H4:AE190,150,FALSE),HLOOKUP(AC10,'B-Méthodes'!H4:AE190,150,FALSE),HLOOKUP(AC11,'B-Méthodes'!H4:AE190,150,FALSE)),IF(AND(HLOOKUP(AC9,'B-Méthodes'!H4:AE190,150,FALSE)=0,HLOOKUP(AC10,'B-Méthodes'!H4:AE190,150,FALSE)=0),HLOOKUP(AC11,'B-Méthodes'!H4:AE190,150,FALSE),IF(AND(HLOOKUP(AC9,'B-Méthodes'!H4:AE190,150,FALSE)=0,HLOOKUP(AC11,'B-Méthodes'!H4:AE190,150,FALSE)=0),HLOOKUP(AC10,'B-Méthodes'!H4:AE190,150,FALSE),IF(AND(HLOOKUP(AC11,'B-Méthodes'!H4:AE190,150,FALSE)=0,HLOOKUP(AC10,'B-Méthodes'!H4:AE190,150,FALSE)=0),HLOOKUP(AC9,'B-Méthodes'!H4:AE190,150,FALSE),IF(HLOOKUP(AC9,'B-Méthodes'!H4:AE190,150,FALSE)=0,MIN(HLOOKUP(AC10,'B-Méthodes'!H4:AE190,150,FALSE),HLOOKUP(AC11,'B-Méthodes'!H4:AE190,150,FALSE)),IF(HLOOKUP(AC10,'B-Méthodes'!H4:AE190,150,FALSE)=0,MIN(HLOOKUP(AC9,'B-Méthodes'!H4:AE190,150,FALSE),HLOOKUP(AC11,'B-Méthodes'!H4:AE190,150,FALSE)),IF(HLOOKUP(AC11,'B-Méthodes'!H4:AE190,150,FALSE)=0,MIN(HLOOKUP(AC10,'B-Méthodes'!H4:AE190,150,FALSE),HLOOKUP(AC9,'B-Méthodes'!H4:AE190,150,FALSE)),0))))))),0)))","v":0},null,{"$f":"IF(OR(AE9=\"-\",AE10=\"-\",AE11=\"-\"),0,IF('B-Méthodes'!F153=0,0,IF(SUM('Combinaison de méthodes'!BA1:BO1)>0,IF(AND(HLOOKUP(AE9,'B-Méthodes'!H4:AE190,150,FALSE)<>0,HLOOKUP(AE10,'B-Méthodes'!H4:AE190,150,FALSE)<>0,HLOOKUP(AE11,'B-Méthodes'!H4:AE190,150,FALSE)<>0),MIN(HLOOKUP(AE9,'B-Méthodes'!H4:AE190,150,FALSE),HLOOKUP(AE10,'B-Méthodes'!H4:AE190,150,FALSE),HLOOKUP(AE11,'B-Méthodes'!H4:AE190,150,FALSE)),IF(AND(HLOOKUP(AE9,'B-Méthodes'!H4:AE190,150,FALSE)=0,HLOOKUP(AE10,'B-Méthodes'!H4:AE190,150,FALSE)=0),HLOOKUP(AE11,'B-Méthodes'!H4:AE190,150,FALSE),IF(AND(HLOOKUP(AE9,'B-Méthodes'!H4:AE190,150,FALSE)=0,HLOOKUP(AE11,'B-Méthodes'!H4:AE190,150,FALSE)=0),HLOOKUP(AE10,'B-Méthodes'!H4:AE190,150,FALSE),IF(AND(HLOOKUP(AE11,'B-Méthodes'!H4:AE190,150,FALSE)=0,HLOOKUP(AE10,'B-Méthodes'!H4:AE190,150,FALSE)=0),HLOOKUP(AE9,'B-Méthodes'!H4:AE190,150,FALSE),IF(HLOOKUP(AE9,'B-Méthodes'!H4:AE190,150,FALSE)=0,MIN(HLOOKUP(AE10,'B-Méthodes'!H4:AE190,150,FALSE),HLOOKUP(AE11,'B-Méthodes'!H4:AE190,150,FALSE)),IF(HLOOKUP(AE10,'B-Méthodes'!H4:AE190,150,FALSE)=0,MIN(HLOOKUP(AE9,'B-Méthodes'!H4:AE190,150,FALSE),HLOOKUP(AE11,'B-Méthodes'!H4:AE190,150,FALSE)),IF(HLOOKUP(AE11,'B-Méthodes'!H4:AE190,150,FALSE)=0,MIN(HLOOKUP(AE10,'B-Méthodes'!H4:AE190,150,FALSE),HLOOKUP(AE9,'B-Méthodes'!H4:AE190,150,FALSE)),0))))))),0)))","v":0}]
["1-B.1.8","Évaluation des coûts - MRND",null,null,null,null,null,{"$f":"IF($H$5=\"-\",0,'B-Méthodes'!H154)","v":0},null,{"$f":"IF($J$5=\"-\",0,'B-Méthodes'!J154)","v":0},null,{"$f":"IF($L$5=\"-\",0,HLOOKUP(HLOOKUP(MAX('B-Méthodes'!L170:R170),'B-Méthodes'!L170:S190,21,FALSE),'B-Méthodes'!L4:S169,151,FALSE))","v":0},null,{"$f":"IF($N$5=\"-\",0,HLOOKUP(HLOOKUP(MAX('B-Méthodes'!T170:AD170),'B-Méthodes'!T170:AD190,21,FALSE),'B-Méthodes'!T4:AD169,151,FALSE))","v":0},null,{"$f":"IF(OR($P$5=\"-\",$P$6=\"-\"),0,IF('B-Méthodes'!$F$154=0,0,IF('Combinaison de méthodes'!$B$1>0,IF(AND(HLOOKUP($P$5,'B-Méthodes'!$H$4:$AE$190,151,FALSE)<>0,HLOOKUP($P$6,'B-Méthodes'!$H$4:$AE$190,151,FALSE)<>0),MIN(HLOOKUP($P$5,'B-Méthodes'!$H$4:$AE$190,151,FALSE),HLOOKUP($P$6,'B-Méthodes'!$H$4:$AE$190,151,FALSE)),MAX(HLOOKUP($P$5,'B-Méthodes'!$H$4:$AE$190,151,FALSE),HLOOKUP($P$6,'B-Méthodes'!$H$4:$AE$190,151,FALSE))),0)))","v":0},null,{"$f":"IF(OR($R$5=\"-\",$R$6=\"-\"),0,IF('B-Méthodes'!$F$154=0,0,IF(SUM('Combinaison de méthodes'!$C$1:$F$1)>0,IF(AND(HLOOKUP($R$5,'B-Méthodes'!$H$4:$AE$190,151,FALSE)<>0,HLOOKUP($R$6,'B-Méthodes'!$H$4:$AE$190,151,FALSE)<>0),MIN(HLOOKUP($R$5,'B-Méthodes'!$H$4:$AE$190,151,FALSE),HLOOKUP($R$6,'B-Méthodes'!$H$4:$AE$190,151,FALSE)),MAX(HLOOKUP($R$5,'B-Méthodes'!$H$4:$AE$190,151,FALSE),HLOOKUP($R$6,'B-Méthodes'!$H$4:$AE$190,151,FALSE))),0)))","v":0},null,{"$f":"IF(OR($T$5=\"-\",$T$6=\"-\"),0,IF('B-Méthodes'!$F$154=0,0,IF(SUM('Combinaison de méthodes'!$G$1:$L$1)>0,IF(AND(HLOOKUP($T$5,'B-Méthodes'!$H$4:$AE$190,151,FALSE)<>0,HLOOKUP($T$6,'B-Méthodes'!$H$4:$AE$190,151,FALSE)<>0),MIN(HLOOKUP($T$5,'B-Méthodes'!$H$4:$AE$190,151,FALSE),HLOOKUP($T$6,'B-Méthodes'!$H$4:$AE$190,151,FALSE)),MAX(HLOOKUP($T$5,'B-Méthodes'!$H$4:$AE$190,151,FALSE),HLOOKUP($T$6,'B-Méthodes'!$H$4:$AE$190,151,FALSE))),0)))","v":0},null,{"$f":"IF(OR($V$5=\"-\",$V$6=\"-\"),0,IF('B-Méthodes'!$F$154=0,0,IF(SUM('Combinaison de méthodes'!$M$1:$P$1)>0,IF(AND(HLOOKUP($V$5,'B-Méthodes'!$H$4:$AE$190,151,FALSE)<>0,HLOOKUP($V$6,'B-Méthodes'!$H$4:$AE$190,151,FALSE)<>0),MIN(HLOOKUP($V$5,'B-Méthodes'!$H$4:$AE$190,151,FALSE),HLOOKUP($V$6,'B-Méthodes'!$H$4:$AE$190,151,FALSE)),MAX(HLOOKUP($V$5,'B-Méthodes'!$H$4:$AE$190,151,FALSE),HLOOKUP($V$6,'B-Méthodes'!$H$4:$AE$190,151,FALSE))),0)))","v":0},null,{"$f":"IF(OR($X$5=\"-\",$X$6=\"-\"),0,IF('B-Méthodes'!$F$154=0,0,IF(SUM('Combinaison de méthodes'!$Q$1:$V$1)>0,IF(AND(HLOOKUP($X$5,'B-Méthodes'!$H$4:$AE$190,151,FALSE)<>0,HLOOKUP($X$6,'B-Méthodes'!$H$4:$AE$190,151,FALSE)<>0),MIN(HLOOKUP($X$5,'B-Méthodes'!$H$4:$AE$190,151,FALSE),HLOOKUP($X$6,'B-Méthodes'!$H$4:$AE$190,151,FALSE)),MAX(HLOOKUP($X$5,'B-Méthodes'!$H$4:$AE$190,151,FALSE),HLOOKUP($X$6,'B-Méthodes'!$H$4:$AE$190,151,FALSE))),0)))","v":0},null,{"$f":"IF(OR($Z$5=\"-\",$Z$6=\"-\"),0,IF('B-Méthodes'!$F$154=0,0,IF(SUM('Combinaison de méthodes'!$W$1:$AB$1)>0,IF(AND(HLOOKUP($Z$5,'B-Méthodes'!$H$4:$AE$190,151,FALSE)<>0,HLOOKUP($Z$6,'B-Méthodes'!$H$4:$AE$190,151,FALSE)<>0),MIN(HLOOKUP($Z$5,'B-Méthodes'!$H$4:$AE$190,151,FALSE),HLOOKUP($Z$6,'B-Méthodes'!$H$4:$AE$190,151,FALSE)),MAX(HLOOKUP($Z$5,'B-Méthodes'!$H$4:$AE$190,151,FALSE),HLOOKUP($Z$6,'B-Méthodes'!$H$4:$AE$190,151,FALSE))),0)))","v":0},null,{"$f":"IF(OR($AB$5=\"-\",$AB$6=\"-\"),0,IF('B-Méthodes'!$F$154=0,0,IF(SUM('Combinaison de méthodes'!$AC$1:$AZ$1)>0,IF(AND(HLOOKUP($AB$5,'B-Méthodes'!$H$4:$AE$190,151,FALSE)<>0,HLOOKUP($AB$6,'B-Méthodes'!$H$4:$AE$190,151,FALSE)<>0),MIN(HLOOKUP($AB$5,'B-Méthodes'!$H$4:$AE$190,151,FALSE),HLOOKUP($AB$6,'B-Méthodes'!$H$4:$AE$190,151,FALSE)),MAX(HLOOKUP($AB$5,'B-Méthodes'!$H$4:$AE$190,151,FALSE),HLOOKUP($AB$6,'B-Méthodes'!$H$4:$AE$190,151,FALSE))),0)))","v":0},null,{"$f":"IF(OR($AD$5=\"-\",$AD$6=\"-\"),0,IF('B-Méthodes'!$F$154=0,0,IF(SUM('Combinaison de méthodes'!$BA$1:$BO$1)>0,IF(AND(HLOOKUP($AD$5,'B-Méthodes'!$H$4:$AE$190,151,FALSE)<>0,HLOOKUP($AD$6,'B-Méthodes'!$H$4:$AE$190,151,FALSE)<>0),MIN(HLOOKUP($AD$5,'B-Méthodes'!$H$4:$AE$190,151,FALSE),HLOOKUP($AD$6,'B-Méthodes'!$H$4:$AE$190,151,FALSE)),MAX(HLOOKUP($AD$5,'B-Méthodes'!$H$4:$AE$190,151,FALSE),HLOOKUP($AD$6,'B-Méthodes'!$H$4:$AE$190,151,FALSE))),0)))","v":0}]
["1-B.1.9","Évaluation des coûts - MRD",null,null,null,null,null,{"$f":"IF($H$5=\"-\",0,'B-Méthodes'!H155)","v":0},null,{"$f":"IF($J$5=\"-\",0,'B-Méthodes'!J155)","v":0},null,{"$f":"IF($L$5=\"-\",0,HLOOKUP(HLOOKUP(MAX('B-Méthodes'!L170:R170),'B-Méthodes'!L170:S190,21,FALSE),'B-Méthodes'!L4:S169,152,FALSE))","v":0},null,{"$f":"IF($N$5=\"-\",0,HLOOKUP(HLOOKUP(MAX('B-Méthodes'!T170:AD170),'B-Méthodes'!T170:AD190,21,FALSE),'B-Méthodes'!T4:AD169,152,FALSE))","v":0},null,{"$f":"IF(OR($P$5=\"-\",$P$6=\"-\"),0,IF('B-Méthodes'!$F$155=0,0,IF('Combinaison de méthodes'!$B$1>0,IF(AND(HLOOKUP($P$5,'B-Méthodes'!$H$4:$AE$190,152,FALSE)<>0,HLOOKUP($P$6,'B-Méthodes'!$H$4:$AE$190,152,FALSE)<>0),MIN(HLOOKUP($P$5,'B-Méthodes'!$H$4:$AE$190,152,FALSE),HLOOKUP($P$6,'B-Méthodes'!$H$4:$AE$190,152,FALSE)),MAX(HLOOKUP($P$5,'B-Méthodes'!$H$4:$AE$190,152,FALSE),HLOOKUP($P$6,'B-Méthodes'!$H$4:$AE$190,152,FALSE))),0)))","v":0},null,{"$f":"IF(OR($R$5=\"-\",$R$6=\"-\"),0,IF('B-Méthodes'!$F$155=0,0,IF(SUM('Combinaison de méthodes'!$C$1:$F$1)>0,IF(AND(HLOOKUP($R$5,'B-Méthodes'!$H$4:$AE$190,152,FALSE)<>0,HLOOKUP($R$6,'B-Méthodes'!$H$4:$AE$190,152,FALSE)<>0),MIN(HLOOKUP($R$5,'B-Méthodes'!$H$4:$AE$190,152,FALSE),HLOOKUP($R$6,'B-Méthodes'!$H$4:$AE$190,152,FALSE)),MAX(HLOOKUP($R$5,'B-Méthodes'!$H$4:$AE$190,152,FALSE),HLOOKUP($R$6,'B-Méthodes'!$H$4:$AE$190,152,FALSE))),0)))","v":0},null,{"$f":"IF(OR($T$5=\"-\",$T$6=\"-\"),0,IF('B-Méthodes'!$F$155=0,0,IF(SUM('Combinaison de méthodes'!$G$1:$L$1)>0,IF(AND(HLOOKUP($T$5,'B-Méthodes'!$H$4:$AE$190,152,FALSE)<>0,HLOOKUP($T$6,'B-Méthodes'!$H$4:$AE$190,152,FALSE)<>0),MIN(HLOOKUP($T$5,'B-Méthodes'!$H$4:$AE$190,152,FALSE),HLOOKUP($T$6,'B-Méthodes'!$H$4:$AE$190,152,FALSE)),MAX(HLOOKUP($T$5,'B-Méthodes'!$H$4:$AE$190,152,FALSE),HLOOKUP($T$6,'B-Méthodes'!$H$4:$AE$190,152,FALSE))),0)))","v":0},null,{"$f":"IF(OR($V$5=\"-\",$V$6=\"-\"),0,IF('B-Méthodes'!$F$155=0,0,IF(SUM('Combinaison de méthodes'!$M$1:$P$1)>0,IF(AND(HLOOKUP($V$5,'B-Méthodes'!$H$4:$AE$190,152,FALSE)<>0,HLOOKUP($V$6,'B-Méthodes'!$H$4:$AE$190,152,FALSE)<>0),MIN(HLOOKUP($V$5,'B-Méthodes'!$H$4:$AE$190,152,FALSE),HLOOKUP($V$6,'B-Méthodes'!$H$4:$AE$190,152,FALSE)),MAX(HLOOKUP($V$5,'B-Méthodes'!$H$4:$AE$190,152,FALSE),HLOOKUP($V$6,'B-Méthodes'!$H$4:$AE$190,152,FALSE))),0)))","v":0},null,{"$f":"IF(OR($X$5=\"-\",$X$6=\"-\"),0,IF('B-Méthodes'!$F$155=0,0,IF(SUM('Combinaison de méthodes'!$Q$1:$V$1)>0,IF(AND(HLOOKUP($X$5,'B-Méthodes'!$H$4:$AE$190,152,FALSE)<>0,HLOOKUP($X$6,'B-Méthodes'!$H$4:$AE$190,152,FALSE)<>0),MIN(HLOOKUP($X$5,'B-Méthodes'!$H$4:$AE$190,152,FALSE),HLOOKUP($X$6,'B-Méthodes'!$H$4:$AE$190,152,FALSE)),MAX(HLOOKUP($X$5,'B-Méthodes'!$H$4:$AE$190,152,FALSE),HLOOKUP($X$6,'B-Méthodes'!$H$4:$AE$190,152,FALSE))),0)))","v":0},null,{"$f":"IF(OR($Z$5=\"-\",$Z$6=\"-\"),0,IF('B-Méthodes'!$F$155=0,0,IF(SUM('Combinaison de méthodes'!$W$1:$AB$1)>0,IF(AND(HLOOKUP($Z$5,'B-Méthodes'!$H$4:$AE$190,152,FALSE)<>0,HLOOKUP($Z$6,'B-Méthodes'!$H$4:$AE$190,152,FALSE)<>0),MIN(HLOOKUP($Z$5,'B-Méthodes'!$H$4:$AE$190,152,FALSE),HLOOKUP($Z$6,'B-Méthodes'!$H$4:$AE$190,152,FALSE)),MAX(HLOOKUP($Z$5,'B-Méthodes'!$H$4:$AE$190,152,FALSE),HLOOKUP($Z$6,'B-Méthodes'!$H$4:$AE$190,152,FALSE))),0)))","v":0},null,{"$f":"IF(OR($AB$5=\"-\",$AB$6=\"-\"),0,IF('B-Méthodes'!$F$155=0,0,IF(SUM('Combinaison de méthodes'!$AC$1:$AZ$1)>0,IF(AND(HLOOKUP($AB$5,'B-Méthodes'!$H$4:$AE$190,152,FALSE)<>0,HLOOKUP($AB$6,'B-Méthodes'!$H$4:$AE$190,152,FALSE)<>0),MIN(HLOOKUP($AB$5,'B-Méthodes'!$H$4:$AE$190,152,FALSE),HLOOKUP($AB$6,'B-Méthodes'!$H$4:$AE$190,152,FALSE)),MAX(HLOOKUP($AB$5,'B-Méthodes'!$H$4:$AE$190,152,FALSE),HLOOKUP($AB$6,'B-Méthodes'!$H$4:$AE$190,152,FALSE))),0)))","v":0},null,{"$f":"IF(OR($AD$5=\"-\",$AD$6=\"-\"),0,IF('B-Méthodes'!$F$155=0,0,IF(SUM('Combinaison de méthodes'!$BA$1:$BO$1)>0,IF(AND(HLOOKUP($AD$5,'B-Méthodes'!$H$4:$AE$190,152,FALSE)<>0,HLOOKUP($AD$6,'B-Méthodes'!$H$4:$AE$190,152,FALSE)<>0),MIN(HLOOKUP($AD$5,'B-Méthodes'!$H$4:$AE$190,152,FALSE),HLOOKUP($AD$6,'B-Méthodes'!$H$4:$AE$190,152,FALSE)),MAX(HLOOKUP($AD$5,'B-Méthodes'!$H$4:$AE$190,152,FALSE),HLOOKUP($AD$6,'B-Méthodes'!$H$4:$AE$190,152,FALSE))),0)))","v":0}]
["1-B.2","Zone saturée"]
["1-B.2.1","Évaluation des coûts - inorganiques uniquement ($)",null,null,null,null,null,{"$f":"IF($H$5=\"-\",0,'B-Méthodes'!H159)","v":0},null,{"$f":"IF($J$5=\"-\",0,'B-Méthodes'!J159)","v":0},null,{"$f":"IF($L$5=\"-\",0,HLOOKUP(HLOOKUP(MAX('B-Méthodes'!L170:R170),'B-Méthodes'!L170:S190,21,FALSE),'B-Méthodes'!L4:S169,156,FALSE))","v":0},null,{"$f":"IF($N$5=\"-\",0,HLOOKUP(HLOOKUP(MAX('B-Méthodes'!T170:AD170),'B-Méthodes'!T170:AD190,21,FALSE),'B-Méthodes'!T4:AD169,156,FALSE))","v":0},null,{"$f":"IF(Q13=\"-\",0,IF('Combinaison de méthodes'!$B$1>0,HLOOKUP(Q13,'B-Méthodes'!H4:AE190,156,FALSE),0))","v":0},null,{"$f":"IF(S13=\"-\",0,IF(SUM('Combinaison de méthodes'!C1:F1)>0,HLOOKUP(S13,'B-Méthodes'!H4:AE190,156,FALSE),0))","v":0},null,{"$f":"IF(U13=\"-\",0,IF(SUM('Combinaison de méthodes'!G1:L1)>0,HLOOKUP(U13,'B-Méthodes'!H4:AE190,156,FALSE),0))","v":0},null,{"$f":"IF(W13=\"-\",0,IF(SUM('Combinaison de méthodes'!M1:P1)>0,HLOOKUP(W13,'B-Méthodes'!H4:AE190,156,FALSE),0))","v":0},null,{"$f":"IF(Y13=\"-\",0,IF(SUM('Combinaison de méthodes'!Q1:V1)>0,HLOOKUP(Y13,'B-Méthodes'!H4:AE190,156,FALSE),0))","v":0},null,{"$f":"IF(AA13=\"-\",0,IF(SUM('Combinaison de méthodes'!W1:AB1)>0,HLOOKUP(AA13,'B-Méthodes'!H4:AE190,156,FALSE),0))","v":0},null,{"$f":"IF(AC13=\"-\",0,IF(SUM('Combinaison de méthodes'!AC1:AZ1)>0,HLOOKUP(AC13,'B-Méthodes'!H4:AE190,156,FALSE),0))","v":0},null,{"$f":"IF(AE13=\"-\",0,IF(SUM('Combinaison de méthodes'!BA1:BO1)>0,HLOOKUP(AE13,'B-Méthodes'!H4:AE190,156,FALSE),0))","v":0}]
["1-B.2.2","Évaluation des coûts - organiques (produits pétroliers) uniquement ($)",null,null,null,null,null,{"$f":"IF($H$5=\"-\",0,'B-Méthodes'!H160)","v":0},null,{"$f":"IF($J$5=\"-\",0,'B-Méthodes'!J160)","v":0},null,{"$f":"IF($L$5=\"-\",0,HLOOKUP(HLOOKUP(MAX('B-Méthodes'!L170:R170),'B-Méthodes'!L170:S190,21,FALSE),'B-Méthodes'!L4:S169,157,FALSE))","v":0},null,{"$f":"IF($N$5=\"-\",0,HLOOKUP(HLOOKUP(MAX('B-Méthodes'!T170:AD170),'B-Méthodes'!T170:AD190,21,FALSE),'B-Méthodes'!T4:AD169,157,FALSE))","v":0},null,{"$f":"IF(Q14=\"-\",0,IF('Combinaison de méthodes'!$B$1>0,HLOOKUP(Q14,'B-Méthodes'!H4:AE190,157,FALSE),0))","v":0},null,{"$f":"IF(S14=\"-\",0,IF(SUM('Combinaison de méthodes'!C1:F1)>0,HLOOKUP(S14,'B-Méthodes'!H4:AE190,157,FALSE),0))","v":0},null,{"$f":"IF(U14=\"-\",0,IF(SUM('Combinaison de méthodes'!G1:L1)>0,HLOOKUP(U14,'B-Méthodes'!H4:AE190,157,FALSE),0))","v":0},null,{"$f":"IF(W14=\"-\",0,IF(SUM('Combinaison de méthodes'!M1:P1)>0,HLOOKUP(W14,'B-Méthodes'!H4:AE190,157,FALSE),0))","v":0},null,{"$f":"IF(Y14=\"-\",0,IF(SUM('Combinaison de méthodes'!Q1:V1)>0,HLOOKUP(Y14,'B-Méthodes'!H4:AE190,157,FALSE),0))","v":0},null,{"$f":"IF(AA14=\"-\",0,IF(SUM('Combinaison de méthodes'!W1:AB1)>0,HLOOKUP(AA14,'B-Méthodes'!H4:AE190,157,FALSE),0))","v":0},null,{"$f":"IF(AC14=\"-\",0,IF(SUM('Combinaison de méthodes'!AC1:AZ1)>0,HLOOKUP(AC14,'B-Méthodes'!H4:AE190,157,FALSE),0))","v":0},null,{"$f":"IF(AE14=\"-\",0,IF(SUM('Combinaison de méthodes'!BA1:BO1)>0,HLOOKUP(AE14,'B-Méthodes'!H4:AE190,157,FALSE),0))","v":0}]
["1-B.2.3","Évaluation des coûts - autres organiques uniquement ($)",null,null,null,null,null,{"$f":"IF($H$5=\"-\",0,'B-Méthodes'!H161)","v":0},null,{"$f":"IF($J$5=\"-\",0,'B-Méthodes'!J161)","v":0},null,{"$f":"IF($L$5=\"-\",0,HLOOKUP(HLOOKUP(MAX('B-Méthodes'!L170:R170),'B-Méthodes'!L170:S190,21,FALSE),'B-Méthodes'!L4:S169,158,FALSE))","v":0},null,{"$f":"IF($N$5=\"-\",0,HLOOKUP(HLOOKUP(MAX('B-Méthodes'!T170:AD170),'B-Méthodes'!T170:AD190,21,FALSE),'B-Méthodes'!T4:AD169,158,FALSE))","v":0},null,{"$f":"IF(Q15=\"-\",0,IF('Combinaison de méthodes'!$B$1>0,HLOOKUP(Q15,'B-Méthodes'!H4:AE190,158,FALSE),0))","v":0},null,{"$f":"IF(S15=\"-\",0,IF(SUM('Combinaison de méthodes'!C1:F1)>0,HLOOKUP(S15,'B-Méthodes'!H4:AE190,158,FALSE),0))","v":0},null,{"$f":"IF(U15=\"-\",0,IF(SUM('Combinaison de méthodes'!G1:L1)>0,HLOOKUP(U15,'B-Méthodes'!H4:AE190,158,FALSE),0))","v":0},null,{"$f":"IF(W15=\"-\",0,IF(SUM('Combinaison de méthodes'!M1:P1)>0,HLOOKUP(W15,'B-Méthodes'!H4:AE190,158,FALSE),0))","v":0},null,{"$f":"IF(Y15=\"-\",0,IF(SUM('Combinaison de méthodes'!Q1:V1)>0,HLOOKUP(Y15,'B-Méthodes'!H4:AE190,158,FALSE),0))","v":0},null,{"$f":"IF(AA15=\"-\",0,IF(SUM('Combinaison de méthodes'!W1:AB1)>0,HLOOKUP(AA15,'B-Méthodes'!H4:AE190,158,FALSE),0))","v":0},null,{"$f":"IF(AC15=\"-\",0,IF(SUM('Combinaison de méthodes'!AC1:AZ1)>0,HLOOKUP(AC15,'B-Méthodes'!H4:AE190,158,FALSE),0))","v":0},null,{"$f":"IF(AE15=\"-\",0,IF(SUM('Combinaison de méthodes'!BA1:BO1)>0,HLOOKUP(AE15,'B-Méthodes'!H4:AE190,158,FALSE),0))","v":0}]
["1-B.2.4","Évaluation des coûts - mixte: inorganique et organique (produits pétroliers et COV) ($)",null,null,null,null,null,{"$f":"IF($H$5=\"-\",0,'B-Méthodes'!H162)","v":0},null,{"$f":"IF($J$5=\"-\",0,'B-Méthodes'!J162)","v":0},null,{"$f":"IF($L$5=\"-\",0,HLOOKUP(HLOOKUP(MAX('B-Méthodes'!L170:R170),'B-Méthodes'!L170:S190,21,FALSE),'B-Méthodes'!L4:S169,159,FALSE))","v":0},null,{"$f":"IF($N$5=\"-\",0,HLOOKUP(HLOOKUP(MAX('B-Méthodes'!T170:AD170),'B-Méthodes'!T170:AD190,21,FALSE),'B-Méthodes'!T4:AD169,159,FALSE))","v":0},null,{"$f":"IF(OR(Q13=\"-\",Q14=\"-\"),0,IF('B-Méthodes'!F162=0,0,IF('Combinaison de méthodes'!$B$1>0,IF(AND(HLOOKUP(Q13,'B-Méthodes'!H4:AE190,159,FALSE)<>0,HLOOKUP(Q14,'B-Méthodes'!H4:AE190,159,FALSE)<>0),MIN(HLOOKUP(Q13,'B-Méthodes'!H4:AE190,159,FALSE),HLOOKUP(Q14,'B-Méthodes'!H4:AE190,159,FALSE)),MAX(HLOOKUP(Q13,'B-Méthodes'!H4:AE190,159,FALSE),HLOOKUP(Q14,'B-Méthodes'!H4:AE190,159,FALSE))),0)))","v":0},null,{"$f":"IF(OR(S13=\"-\",S14=\"-\"),0,IF('B-Méthodes'!F162=0,0,IF(SUM('Combinaison de méthodes'!C1:F1)>0,IF(AND(HLOOKUP(S13,'B-Méthodes'!H4:AE190,159,FALSE)<>0,HLOOKUP(S14,'B-Méthodes'!H4:AE190,159,FALSE)<>0),MIN(HLOOKUP(S13,'B-Méthodes'!H4:AE190,159,FALSE),HLOOKUP(S14,'B-Méthodes'!H4:AE190,159,FALSE)),MAX(HLOOKUP(S13,'B-Méthodes'!H4:AE190,159,FALSE),HLOOKUP(S14,'B-Méthodes'!H4:AE190,159,FALSE))),0)))","v":0},null,{"$f":"IF(OR(U13=\"-\",U14=\"-\"),0,IF('B-Méthodes'!F162=0,0,IF(SUM('Combinaison de méthodes'!G1:L1)>0,IF(AND(HLOOKUP(U13,'B-Méthodes'!H4:AE190,159,FALSE)<>0,HLOOKUP(U14,'B-Méthodes'!H4:AE190,159,FALSE)<>0),MIN(HLOOKUP(U13,'B-Méthodes'!H4:AE190,159,FALSE),HLOOKUP(U14,'B-Méthodes'!H4:AE190,159,FALSE)),MAX(HLOOKUP(U13,'B-Méthodes'!H4:AE190,159,FALSE),HLOOKUP(U14,'B-Méthodes'!H4:AE190,159,FALSE))),0)))","v":0},null,{"$f":"IF(OR(W13=\"-\",W14=\"-\"),0,IF('B-Méthodes'!F162=0,0,IF(SUM('Combinaison de méthodes'!M1:P1)>0,IF(AND(HLOOKUP(W13,'B-Méthodes'!H4:AE190,159,FALSE)<>0,HLOOKUP(W14,'B-Méthodes'!H4:AE190,159,FALSE)<>0),MIN(HLOOKUP(W13,'B-Méthodes'!H4:AE190,159,FALSE),HLOOKUP(W14,'B-Méthodes'!H4:AE190,159,FALSE)),MAX(HLOOKUP(W13,'B-Méthodes'!H4:AE190,159,FALSE),HLOOKUP(W14,'B-Méthodes'!H4:AE190,159,FALSE))),0)))","v":0},null,{"$f":"IF(OR(Y13=\"-\",Y14=\"-\"),0,IF('B-Méthodes'!F162=0,0,IF(SUM('Combinaison de méthodes'!Q1:V1)>0,IF(AND(HLOOKUP(Y13,'B-Méthodes'!H4:AE190,159,FALSE)<>0,HLOOKUP(Y14,'B-Méthodes'!H4:AE190,159,FALSE)<>0),MIN(HLOOKUP(Y13,'B-Méthodes'!H4:AE190,159,FALSE),HLOOKUP(Y14,'B-Méthodes'!H4:AE190,159,FALSE)),MAX(HLOOKUP(Y13,'B-Méthodes'!H4:AE190,159,FALSE),HLOOKUP(Y14,'B-Méthodes'!H4:AE190,159,FALSE))),0)))","v":0},null,{"$f":"IF(OR(AA13=\"-\",AA14=\"-\"),0,IF('B-Méthodes'!F162=0,0,IF(SUM('Combinaison de méthodes'!W1:AB1)>0,IF(AND(HLOOKUP(AA13,'B-Méthodes'!H4:AE190,159,FALSE)<>0,HLOOKUP(AA14,'B-Méthodes'!H4:AE190,159,FALSE)<>0),MIN(HLOOKUP(AA13,'B-Méthodes'!H4:AE190,159,FALSE),HLOOKUP(AA14,'B-Méthodes'!H4:AE190,159,FALSE)),MAX(HLOOKUP(AA13,'B-Méthodes'!H4:AE190,159,FALSE),HLOOKUP(AA14,'B-Méthodes'!H4:AE190,159,FALSE))),0)))","v":0},null,{"$f":"IF(OR(AC13=\"-\",AC14=\"-\"),0,IF('B-Méthodes'!F162=0,0,IF(SUM('Combinaison de méthodes'!AC1:AZ1)>0,IF(AND(HLOOKUP(AC13,'B-Méthodes'!H4:AE190,159,FALSE)<>0,HLOOKUP(AC14,'B-Méthodes'!H4:AE190,159,FALSE)<>0),MIN(HLOOKUP(AC13,'B-Méthodes'!H4:AE190,159,FALSE),HLOOKUP(AC14,'B-Méthodes'!H4:AE190,159,FALSE)),MAX(HLOOKUP(AC13,'B-Méthodes'!H4:AE190,159,FALSE),HLOOKUP(AC14,'B-Méthodes'!H4:AE190,159,FALSE))),0)))","v":0},null,{"$f":"IF(OR(AE13=\"-\",AE14=\"-\"),0,IF('B-Méthodes'!F162=0,0,IF(SUM('Combinaison de méthodes'!BA1:BO1)>0,IF(AND(HLOOKUP(AE13,'B-Méthodes'!H4:AE190,159,FALSE)<>0,HLOOKUP(AE14,'B-Méthodes'!H4:AE190,159,FALSE)<>0),MIN(HLOOKUP(AE13,'B-Méthodes'!H4:AE190,159,FALSE),HLOOKUP(AE14,'B-Méthodes'!H4:AE190,159,FALSE)),MAX(HLOOKUP(AE13,'B-Méthodes'!H4:AE190,159,FALSE),HLOOKUP(AE14,'B-Méthodes'!H4:AE190,159,FALSE))),0)))","v":0}]
["1-B.2.5","Évaluation des coûts - mixte: inorganique et autres composés organiques ($)",null,null,null,null,null,{"$f":"IF($H$5=\"-\",0,'B-Méthodes'!H163)","v":0},null,{"$f":"IF($J$5=\"-\",0,'B-Méthodes'!J163)","v":0},null,{"$f":"IF($L$5=\"-\",0,HLOOKUP(HLOOKUP(MAX('B-Méthodes'!L170:R170),'B-Méthodes'!L170:S190,21,FALSE),'B-Méthodes'!L4:S169,160,FALSE))","v":0},null,{"$f":"IF($N$5=\"-\",0,HLOOKUP(HLOOKUP(MAX('B-Méthodes'!T170:AD170),'B-Méthodes'!T170:AD190,21,FALSE),'B-Méthodes'!T4:AD169,160,FALSE))","v":0},null,{"$f":"IF(OR(Q13=\"-\",Q15=\"-\"),0,IF('B-Méthodes'!F163=0,0,IF('Combinaison de méthodes'!$B$1>0,IF(AND(HLOOKUP(Q13,'B-Méthodes'!H4:AE190,160,FALSE)<>0,HLOOKUP(Q15,'B-Méthodes'!H4:AE190,160,FALSE)<>0),MIN(HLOOKUP(Q13,'B-Méthodes'!H4:AE190,160,FALSE),HLOOKUP(Q15,'B-Méthodes'!H4:AE190,160,FALSE)),MAX(HLOOKUP(Q13,'B-Méthodes'!H4:AE190,160,FALSE),HLOOKUP(Q15,'B-Méthodes'!H4:AE190,160,FALSE))),0)))","v":0},null,{"$f":"IF(OR(S13=\"-\",S15=\"-\"),0,IF('B-Méthodes'!F163=0,0,IF(SUM('Combinaison de méthodes'!C1:F1)>0,IF(AND(HLOOKUP(S13,'B-Méthodes'!H4:AE190,160,FALSE)<>0,HLOOKUP(S15,'B-Méthodes'!H4:AE190,160,FALSE)<>0),MIN(HLOOKUP(S13,'B-Méthodes'!H4:AE190,160,FALSE),HLOOKUP(S15,'B-Méthodes'!H4:AE190,160,FALSE)),MAX(HLOOKUP(S13,'B-Méthodes'!H4:AE190,160,FALSE),HLOOKUP(S15,'B-Méthodes'!H4:AE190,160,FALSE))),0)))","v":0},null,{"$f":"IF(OR(U13=\"-\",U15=\"-\"),0,IF('B-Méthodes'!F163=0,0,IF(SUM('Combinaison de méthodes'!G1:L1)>0,IF(AND(HLOOKUP(U13,'B-Méthodes'!H4:AE190,160,FALSE)<>0,HLOOKUP(U15,'B-Méthodes'!H4:AE190,160,FALSE)<>0),MIN(HLOOKUP(U13,'B-Méthodes'!H4:AE190,160,FALSE),HLOOKUP(U15,'B-Méthodes'!H4:AE190,160,FALSE)),MAX(HLOOKUP(U13,'B-Méthodes'!H4:AE190,160,FALSE),HLOOKUP(U15,'B-Méthodes'!H4:AE190,160,FALSE))),0)))","v":0},null,{"$f":"IF(OR(W13=\"-\",W15=\"-\"),0,IF('B-Méthodes'!F163=0,0,IF(SUM('Combinaison de méthodes'!M1:P1)>0,IF(AND(HLOOKUP(W13,'B-Méthodes'!H4:AE190,160,FALSE)<>0,HLOOKUP(W15,'B-Méthodes'!H4:AE190,160,FALSE)<>0),MIN(HLOOKUP(W13,'B-Méthodes'!H4:AE190,160,FALSE),HLOOKUP(W15,'B-Méthodes'!H4:AE190,160,FALSE)),MAX(HLOOKUP(W13,'B-Méthodes'!H4:AE190,160,FALSE),HLOOKUP(W15,'B-Méthodes'!H4:AE190,160,FALSE))),0)))","v":0},null,{"$f":"IF(OR(Y13=\"-\",Y15=\"-\"),0,IF('B-Méthodes'!F163=0,0,IF(SUM('Combinaison de méthodes'!Q1:V1)>0,IF(AND(HLOOKUP(Y13,'B-Méthodes'!H4:AE190,160,FALSE)<>0,HLOOKUP(Y15,'B-Méthodes'!H4:AE190,160,FALSE)<>0),MIN(HLOOKUP(Y13,'B-Méthodes'!H4:AE190,160,FALSE),HLOOKUP(Y15,'B-Méthodes'!H4:AE190,160,FALSE)),MAX(HLOOKUP(Y13,'B-Méthodes'!H4:AE190,160,FALSE),HLOOKUP(Y15,'B-Méthodes'!H4:AE190,160,FALSE))),0)))","v":0},null,{"$f":"IF(OR(AA13=\"-\",AA15=\"-\"),0,IF('B-Méthodes'!F163=0,0,IF(SUM('Combinaison de méthodes'!W1:AB1)>0,IF(AND(HLOOKUP(AA13,'B-Méthodes'!H4:AE190,160,FALSE)<>0,HLOOKUP(AA15,'B-Méthodes'!H4:AE190,160,FALSE)<>0),MIN(HLOOKUP(AA13,'B-Méthodes'!H4:AE190,160,FALSE),HLOOKUP(AA15,'B-Méthodes'!H4:AE190,160,FALSE)),MAX(HLOOKUP(AA13,'B-Méthodes'!H4:AE190,160,FALSE),HLOOKUP(AA15,'B-Méthodes'!H4:AE190,160,FALSE))),0)))","v":0},null,{"$f":"IF(OR(AC13=\"-\",AC15=\"-\"),0,IF('B-Méthodes'!F163=0,0,IF(SUM('Combinaison de méthodes'!AC1:AZ1)>0,IF(AND(HLOOKUP(AC13,'B-Méthodes'!H4:AE190,160,FALSE)<>0,HLOOKUP(AC15,'B-Méthodes'!H4:AE190,160,FALSE)<>0),MIN(HLOOKUP(AC13,'B-Méthodes'!H4:AE190,160,FALSE),HLOOKUP(AC15,'B-Méthodes'!H4:AE190,160,FALSE)),MAX(HLOOKUP(AC13,'B-Méthodes'!H4:AE190,160,FALSE),HLOOKUP(AC15,'B-Méthodes'!H4:AE190,160,FALSE))),0)))","v":0},null,{"$f":"IF(OR(AE13=\"-\",AE15=\"-\"),0,IF('B-Méthodes'!F163=0,0,IF(SUM('Combinaison de méthodes'!BA1:BO1)>0,IF(AND(HLOOKUP(AE13,'B-Méthodes'!H4:AE190,160,FALSE)<>0,HLOOKUP(AE15,'B-Méthodes'!H4:AE190,160,FALSE)<>0),MIN(HLOOKUP(AE13,'B-Méthodes'!H4:AE190,160,FALSE),HLOOKUP(AE15,'B-Méthodes'!H4:AE190,160,FALSE)),MAX(HLOOKUP(AE13,'B-Méthodes'!H4:AE190,160,FALSE),HLOOKUP(AE15,'B-Méthodes'!H4:AE190,160,FALSE))),0)))","v":0}]
["1-B.2.6","Évaluation des coûts - mixte: organique (produits pétroliers et COV) et autres composés organiques ($)",null,null,null,null,null,{"$f":"IF($H$5=\"-\",0,'B-Méthodes'!H164)","v":0},null,{"$f":"IF($J$5=\"-\",0,'B-Méthodes'!J164)","v":0},null,{"$f":"IF($L$5=\"-\",0,HLOOKUP(HLOOKUP(MAX('B-Méthodes'!L170:R170),'B-Méthodes'!L170:S190,21,FALSE),'B-Méthodes'!L4:S169,161,FALSE))","v":0},null,{"$f":"IF($N$5=\"-\",0,HLOOKUP(HLOOKUP(MAX('B-Méthodes'!T170:AD170),'B-Méthodes'!T170:AD190,21,FALSE),'B-Méthodes'!T4:AD169,161,FALSE))","v":0},null,{"$f":"IF(OR(Q15=\"-\",Q14=\"-\"),0,IF('B-Méthodes'!F164=0,0,IF('Combinaison de méthodes'!$B$1>0,IF(AND(HLOOKUP(Q14,'B-Méthodes'!H4:AE190,161,FALSE)<>0,HLOOKUP(Q15,'B-Méthodes'!H4:AE190,161,FALSE)<>0),MIN(HLOOKUP(Q14,'B-Méthodes'!H4:AE190,161,FALSE),HLOOKUP(Q15,'B-Méthodes'!H4:AE190,161,FALSE)),MAX(HLOOKUP(Q14,'B-Méthodes'!H4:AE190,161,FALSE),HLOOKUP(Q15,'B-Méthodes'!H4:AE190,161,FALSE))),0)))","v":0},null,{"$f":"IF(OR(S15=\"-\",S14=\"-\"),0,IF('B-Méthodes'!F164=0,0,IF(SUM('Combinaison de méthodes'!C1:F1)>0,IF(AND(HLOOKUP(S14,'B-Méthodes'!H4:AE190,161,FALSE)<>0,HLOOKUP(S15,'B-Méthodes'!H4:AE190,161,FALSE)<>0),MIN(HLOOKUP(S14,'B-Méthodes'!H4:AE190,161,FALSE),HLOOKUP(S15,'B-Méthodes'!H4:AE190,161,FALSE)),MAX(HLOOKUP(S14,'B-Méthodes'!H4:AE190,161,FALSE),HLOOKUP(S15,'B-Méthodes'!H4:AE190,161,FALSE))),0)))","v":0},null,{"$f":"IF(OR(U15=\"-\",U14=\"-\"),0,IF('B-Méthodes'!F164=0,0,IF(SUM('Combinaison de méthodes'!G1:L1)>0,IF(AND(HLOOKUP(U14,'B-Méthodes'!H4:AE190,161,FALSE)<>0,HLOOKUP(U15,'B-Méthodes'!H4:AE190,161,FALSE)<>0),MIN(HLOOKUP(U14,'B-Méthodes'!H4:AE190,161,FALSE),HLOOKUP(U15,'B-Méthodes'!H4:AE190,161,FALSE)),MAX(HLOOKUP(U14,'B-Méthodes'!H4:AE190,161,FALSE),HLOOKUP(U15,'B-Méthodes'!H4:AE190,161,FALSE))),0)))","v":0},null,{"$f":"IF(OR(W15=\"-\",W14=\"-\"),0,IF('B-Méthodes'!F164=0,0,IF(SUM('Combinaison de méthodes'!M1:P1)>0,IF(AND(HLOOKUP(W14,'B-Méthodes'!H4:AE190,161,FALSE)<>0,HLOOKUP(W15,'B-Méthodes'!H4:AE190,161,FALSE)<>0),MIN(HLOOKUP(W14,'B-Méthodes'!H4:AE190,161,FALSE),HLOOKUP(W15,'B-Méthodes'!H4:AE190,161,FALSE)),MAX(HLOOKUP(W14,'B-Méthodes'!H4:AE190,161,FALSE),HLOOKUP(W15,'B-Méthodes'!H4:AE190,161,FALSE))),0)))","v":0},null,{"$f":"IF(OR(Y15=\"-\",Y14=\"-\"),0,IF('B-Méthodes'!F164=0,0,IF(SUM('Combinaison de méthodes'!Q1:V1)>0,IF(AND(HLOOKUP(Y14,'B-Méthodes'!H4:AE190,161,FALSE)<>0,HLOOKUP(Y15,'B-Méthodes'!H4:AE190,161,FALSE)<>0),MIN(HLOOKUP(Y14,'B-Méthodes'!H4:AE190,161,FALSE),HLOOKUP(Y15,'B-Méthodes'!H4:AE190,161,FALSE)),MAX(HLOOKUP(Y14,'B-Méthodes'!H4:AE190,161,FALSE),HLOOKUP(Y15,'B-Méthodes'!H4:AE190,161,FALSE))),0)))","v":0},null,{"$f":"IF(OR(AA15=\"-\",AA14=\"-\"),0,IF('B-Méthodes'!F164=0,0,IF(SUM('Combinaison de méthodes'!W1:AB1)>0,IF(AND(HLOOKUP(AA14,'B-Méthodes'!H4:AE190,161,FALSE)<>0,HLOOKUP(AA15,'B-Méthodes'!H4:AE190,161,FALSE)<>0),MIN(HLOOKUP(AA14,'B-Méthodes'!H4:AE190,161,FALSE),HLOOKUP(AA15,'B-Méthodes'!H4:AE190,161,FALSE)),MAX(HLOOKUP(AA14,'B-Méthodes'!H4:AE190,161,FALSE),HLOOKUP(AA15,'B-Méthodes'!H4:AE190,161,FALSE))),0)))","v":0},null,{"$f":"IF(OR(AC15=\"-\",AC14=\"-\"),0,IF('B-Méthodes'!F164=0,0,IF(SUM('Combinaison de méthodes'!AC1:AZ1)>0,IF(AND(HLOOKUP(AC14,'B-Méthodes'!H4:AE190,161,FALSE)<>0,HLOOKUP(AC15,'B-Méthodes'!H4:AE190,161,FALSE)<>0),MIN(HLOOKUP(AC14,'B-Méthodes'!H4:AE190,161,FALSE),HLOOKUP(AC15,'B-Méthodes'!H4:AE190,161,FALSE)),MAX(HLOOKUP(AC14,'B-Méthodes'!H4:AE190,161,FALSE),HLOOKUP(AC15,'B-Méthodes'!H4:AE190,161,FALSE))),0)))","v":0},null,{"$f":"IF(OR(AE15=\"-\",AE14=\"-\"),0,IF('B-Méthodes'!F164=0,0,IF(SUM('Combinaison de méthodes'!BA1:BO1)>0,IF(AND(HLOOKUP(AE14,'B-Méthodes'!H4:AE190,161,FALSE)<>0,HLOOKUP(AE15,'B-Méthodes'!H4:AE190,161,FALSE)<>0),MIN(HLOOKUP(AE14,'B-Méthodes'!H4:AE190,161,FALSE),HLOOKUP(AE15,'B-Méthodes'!H4:AE190,161,FALSE)),MAX(HLOOKUP(AE14,'B-Méthodes'!H4:AE190,161,FALSE),HLOOKUP(AE15,'B-Méthodes'!H4:AE190,161,FALSE))),0)))","v":0}]
["1-B.2.7","Évaluation des coûts - mixte: inorganique, organique (produits pétroliers et COV) et autres composés organique ($)",null,null,null,null,null,{"$f":"IF($H$5=\"-\",0,'B-Méthodes'!H165)","v":0},null,{"$f":"IF($J$5=\"-\",0,'B-Méthodes'!J165)","v":0},null,{"$f":"IF($L$5=\"-\",0,HLOOKUP(HLOOKUP(MAX('B-Méthodes'!L170:R170),'B-Méthodes'!L170:S190,21,FALSE),'B-Méthodes'!L4:S169,162,FALSE))","v":0},null,{"$f":"IF($N$5=\"-\",0,HLOOKUP(HLOOKUP(MAX('B-Méthodes'!T170:AD170),'B-Méthodes'!T170:AD190,21,FALSE),'B-Méthodes'!T4:AD169,162,FALSE))","v":0},null,{"$f":"IF(OR(Q13=\"-\",Q14=\"-\",Q15=\"-\"),0,IF('B-Méthodes'!F165=0,0,IF('Combinaison de méthodes'!$B$1>0,IF(AND(HLOOKUP(Q13,'B-Méthodes'!H4:AE190,162,FALSE)<>0,HLOOKUP(Q14,'B-Méthodes'!H4:AE190,162,FALSE)<>0,HLOOKUP(Q15,'B-Méthodes'!H4:AE190,162,FALSE)<>0),MIN(HLOOKUP(Q13,'B-Méthodes'!H4:AE190,162,FALSE),HLOOKUP(Q14,'B-Méthodes'!H4:AE190,162,FALSE),HLOOKUP(Q15,'B-Méthodes'!H4:AE190,162,FALSE)),IF(AND(HLOOKUP(Q13,'B-Méthodes'!H4:AE190,162,FALSE)=0,HLOOKUP(Q14,'B-Méthodes'!H4:AE190,162,FALSE)=0),HLOOKUP(Q15,'B-Méthodes'!H4:AE190,162,FALSE),IF(AND(HLOOKUP(Q13,'B-Méthodes'!H4:AE190,162,FALSE)=0,HLOOKUP(Q15,'B-Méthodes'!H4:AE190,162,FALSE)=0),HLOOKUP(Q14,'B-Méthodes'!H4:AE190,162,FALSE),IF(AND(HLOOKUP(Q15,'B-Méthodes'!H4:AE190,162,FALSE)=0,HLOOKUP(Q14,'B-Méthodes'!H4:AE190,162,FALSE)=0),HLOOKUP(Q13,'B-Méthodes'!H4:AE190,162,FALSE),IF(HLOOKUP(Q13,'B-Méthodes'!H4:AE190,162,FALSE)=0,MIN(HLOOKUP(Q102,'B-Méthodes'!H4:AE190,162,FALSE),HLOOKUP(Q15,'B-Méthodes'!H4:AE190,162,FALSE)),IF(HLOOKUP(Q14,'B-Méthodes'!H4:AE190,162,FALSE)=0,MIN(HLOOKUP(Q13,'B-Méthodes'!H4:AE190,162,FALSE),HLOOKUP(Q15,'B-Méthodes'!H4:AE190,162,FALSE)),IF(HLOOKUP(Q15,'B-Méthodes'!H4:AE190,162,FALSE)=0,MIN(HLOOKUP(Q14,'B-Méthodes'!H4:AE190,162,FALSE),HLOOKUP(Q13,'B-Méthodes'!H4:AE190,162,FALSE)),0))))))),0)))","v":0},null,{"$f":"IF(OR(S13=\"-\",S14=\"-\",S15=\"-\"),0,IF('B-Méthodes'!F165=0,0,IF(SUM('Combinaison de méthodes'!C1:F1)>0,IF(AND(HLOOKUP(S13,'B-Méthodes'!H4:AE190,162,FALSE)<>0,HLOOKUP(S14,'B-Méthodes'!H4:AE190,162,FALSE)<>0,HLOOKUP(S15,'B-Méthodes'!H4:AE190,162,FALSE)<>0),MIN(HLOOKUP(S13,'B-Méthodes'!H4:AE190,162,FALSE),HLOOKUP(S14,'B-Méthodes'!H4:AE190,162,FALSE),HLOOKUP(S15,'B-Méthodes'!H4:AE190,162,FALSE)),IF(AND(HLOOKUP(S13,'B-Méthodes'!H4:AE190,162,FALSE)=0,HLOOKUP(S14,'B-Méthodes'!H4:AE190,162,FALSE)=0),HLOOKUP(S15,'B-Méthodes'!H4:AE190,162,FALSE),IF(AND(HLOOKUP(S13,'B-Méthodes'!H4:AE190,162,FALSE)=0,HLOOKUP(S15,'B-Méthodes'!H4:AE190,162,FALSE)=0),HLOOKUP(S14,'B-Méthodes'!H4:AE190,162,FALSE),IF(AND(HLOOKUP(S15,'B-Méthodes'!H4:AE190,162,FALSE)=0,HLOOKUP(S14,'B-Méthodes'!H4:AE190,162,FALSE)=0),HLOOKUP(S13,'B-Méthodes'!H4:AE190,162,FALSE),IF(HLOOKUP(S13,'B-Méthodes'!H4:AE190,162,FALSE)=0,MIN(HLOOKUP(S14,'B-Méthodes'!H4:AE190,162,FALSE),HLOOKUP(S15,'B-Méthodes'!H4:AE190,162,FALSE)),IF(HLOOKUP(S14,'B-Méthodes'!H4:AE190,162,FALSE)=0,MIN(HLOOKUP(S13,'B-Méthodes'!H4:AE190,162,FALSE),HLOOKUP(S15,'B-Méthodes'!H4:AE190,162,FALSE)),IF(HLOOKUP(S15,'B-Méthodes'!H4:AE190,162,FALSE)=0,MIN(HLOOKUP(S14,'B-Méthodes'!H4:AE190,162,FALSE),HLOOKUP(S13,'B-Méthodes'!H4:AE190,162,FALSE)),0))))))),0)))","v":0},null,{"$f":"IF(OR(U13=\"-\",U14=\"-\",U15=\"-\"),0,IF('B-Méthodes'!F165=0,0,IF(SUM('Combinaison de méthodes'!G1:L1)>0,IF(AND(HLOOKUP(U13,'B-Méthodes'!H4:AE190,162,FALSE)<>0,HLOOKUP(U14,'B-Méthodes'!H4:AE190,162,FALSE)<>0,HLOOKUP(U15,'B-Méthodes'!H4:AE190,162,FALSE)<>0),MIN(HLOOKUP(U13,'B-Méthodes'!H4:AE190,162,FALSE),HLOOKUP(U14,'B-Méthodes'!H4:AE190,162,FALSE),HLOOKUP(U15,'B-Méthodes'!H4:AE190,162,FALSE)),IF(AND(HLOOKUP(U13,'B-Méthodes'!H4:AE190,162,FALSE)=0,HLOOKUP(U14,'B-Méthodes'!H4:AE190,162,FALSE)=0),HLOOKUP(U15,'B-Méthodes'!H4:AE190,162,FALSE),IF(AND(HLOOKUP(U13,'B-Méthodes'!H4:AE190,162,FALSE)=0,HLOOKUP(U15,'B-Méthodes'!H4:AE190,162,FALSE)=0),HLOOKUP(U14,'B-Méthodes'!H4:AE190,162,FALSE),IF(AND(HLOOKUP(U15,'B-Méthodes'!H4:AE190,162,FALSE)=0,HLOOKUP(U14,'B-Méthodes'!H4:AE190,162,FALSE)=0),HLOOKUP(U13,'B-Méthodes'!H4:AE190,162,FALSE),IF(HLOOKUP(U13,'B-Méthodes'!H4:AE190,162,FALSE)=0,MIN(HLOOKUP(U14,'B-Méthodes'!H4:AE190,162,FALSE),HLOOKUP(U15,'B-Méthodes'!H4:AE190,162,FALSE)),IF(HLOOKUP(U14,'B-Méthodes'!H4:AE190,162,FALSE)=0,MIN(HLOOKUP(U13,'B-Méthodes'!H4:AE190,162,FALSE),HLOOKUP(U15,'B-Méthodes'!H4:AE190,162,FALSE)),IF(HLOOKUP(U15,'B-Méthodes'!H4:AE190,162,FALSE)=0,MIN(HLOOKUP(U14,'B-Méthodes'!H4:AE190,162,FALSE),HLOOKUP(U13,'B-Méthodes'!H4:AE190,162,FALSE)),0))))))),0)))","v":0},null,{"$f":"IF(OR(W13=\"-\",W14=\"-\",W15=\"-\"),0,IF('B-Méthodes'!F165=0,0,IF(SUM('Combinaison de méthodes'!M1:P1)>0,IF(AND(HLOOKUP(W13,'B-Méthodes'!H4:AE190,162,FALSE)<>0,HLOOKUP(W14,'B-Méthodes'!H4:AE190,162,FALSE)<>0,HLOOKUP(W15,'B-Méthodes'!H4:AE190,162,FALSE)<>0),MIN(HLOOKUP(W13,'B-Méthodes'!H4:AE190,162,FALSE),HLOOKUP(W14,'B-Méthodes'!H4:AE190,162,FALSE),HLOOKUP(W15,'B-Méthodes'!H4:AE190,162,FALSE)),IF(AND(HLOOKUP(W13,'B-Méthodes'!H4:AE190,162,FALSE)=0,HLOOKUP(W14,'B-Méthodes'!H4:AE190,162,FALSE)=0),HLOOKUP(W15,'B-Méthodes'!H4:AE190,162,FALSE),IF(AND(HLOOKUP(W13,'B-Méthodes'!H4:AE190,162,FALSE)=0,HLOOKUP(W15,'B-Méthodes'!H4:AE190,162,FALSE)=0),HLOOKUP(W14,'B-Méthodes'!H4:AE190,162,FALSE),IF(AND(HLOOKUP(W15,'B-Méthodes'!H4:AE190,162,FALSE)=0,HLOOKUP(W14,'B-Méthodes'!H4:AE190,162,FALSE)=0),HLOOKUP(W13,'B-Méthodes'!H4:AE190,162,FALSE),IF(HLOOKUP(W13,'B-Méthodes'!H4:AE190,162,FALSE)=0,MIN(HLOOKUP(W14,'B-Méthodes'!H4:AE190,162,FALSE),HLOOKUP(W15,'B-Méthodes'!H4:AE190,162,FALSE)),IF(HLOOKUP(W14,'B-Méthodes'!H4:AE190,162,FALSE)=0,MIN(HLOOKUP(W13,'B-Méthodes'!H4:AE190,162,FALSE),HLOOKUP(W15,'B-Méthodes'!H4:AE190,162,FALSE)),IF(HLOOKUP(W15,'B-Méthodes'!H4:AE190,162,FALSE)=0,MIN(HLOOKUP(W14,'B-Méthodes'!H4:AE190,162,FALSE),HLOOKUP(W13,'B-Méthodes'!H4:AE190,162,FALSE)),0))))))),0)))","v":0},null,{"$f":"IF(OR(Y13=\"-\",Y14=\"-\",Y15=\"-\"),0,IF('B-Méthodes'!F165=0,0,IF(SUM('Combinaison de méthodes'!Q1:V1)>0,IF(AND(HLOOKUP(Y13,'B-Méthodes'!H4:AE190,162,FALSE)<>0,HLOOKUP(Y14,'B-Méthodes'!H4:AE190,162,FALSE)<>0,HLOOKUP(Y15,'B-Méthodes'!H4:AE190,162,FALSE)<>0),MIN(HLOOKUP(Y13,'B-Méthodes'!H4:AE190,162,FALSE),HLOOKUP(Y14,'B-Méthodes'!H4:AE190,162,FALSE),HLOOKUP(Y15,'B-Méthodes'!H4:AE190,162,FALSE)),IF(AND(HLOOKUP(Y13,'B-Méthodes'!H4:AE190,162,FALSE)=0,HLOOKUP(Y14,'B-Méthodes'!H4:AE190,162,FALSE)=0),HLOOKUP(Y15,'B-Méthodes'!H4:AE190,162,FALSE),IF(AND(HLOOKUP(Y13,'B-Méthodes'!H4:AE190,162,FALSE)=0,HLOOKUP(Y15,'B-Méthodes'!H4:AE190,162,FALSE)=0),HLOOKUP(Y14,'B-Méthodes'!H4:AE190,162,FALSE),IF(AND(HLOOKUP(Y15,'B-Méthodes'!H4:AE190,162,FALSE)=0,HLOOKUP(Y14,'B-Méthodes'!H4:AE190,162,FALSE)=0),HLOOKUP(Y13,'B-Méthodes'!H4:AE190,162,FALSE),IF(HLOOKUP(Y13,'B-Méthodes'!H4:AE190,162,FALSE)=0,MIN(HLOOKUP(Y14,'B-Méthodes'!H4:AE190,162,FALSE),HLOOKUP(Y15,'B-Méthodes'!H4:AE190,162,FALSE)),IF(HLOOKUP(Y14,'B-Méthodes'!H4:AE190,162,FALSE)=0,MIN(HLOOKUP(Y13,'B-Méthodes'!H4:AE190,162,FALSE),HLOOKUP(Y15,'B-Méthodes'!H4:AE190,162,FALSE)),IF(HLOOKUP(Y15,'B-Méthodes'!H4:AE190,162,FALSE)=0,MIN(HLOOKUP(Y14,'B-Méthodes'!H4:AE190,162,FALSE),HLOOKUP(Y13,'B-Méthodes'!H4:AE190,162,FALSE)),0))))))),0)))","v":0},null,{"$f":"IF(OR(AA13=\"-\",AA14=\"-\",AA15=\"-\"),0,IF('B-Méthodes'!F165=0,0,IF(SUM('Combinaison de méthodes'!W1:AB1)>0,IF(AND(HLOOKUP(AA13,'B-Méthodes'!H4:AE190,162,FALSE)<>0,HLOOKUP(AA14,'B-Méthodes'!H4:AE190,162,FALSE)<>0,HLOOKUP(AA15,'B-Méthodes'!H4:AE190,162,FALSE)<>0),MIN(HLOOKUP(AA13,'B-Méthodes'!H4:AE190,162,FALSE),HLOOKUP(AA14,'B-Méthodes'!H4:AE190,162,FALSE),HLOOKUP(AA15,'B-Méthodes'!H4:AE190,162,FALSE)),IF(AND(HLOOKUP(AA13,'B-Méthodes'!H4:AE190,162,FALSE)=0,HLOOKUP(AA14,'B-Méthodes'!H4:AE190,162,FALSE)=0),HLOOKUP(AA15,'B-Méthodes'!H4:AE190,162,FALSE),IF(AND(HLOOKUP(AA13,'B-Méthodes'!H4:AE190,162,FALSE)=0,HLOOKUP(AA15,'B-Méthodes'!H4:AE190,162,FALSE)=0),HLOOKUP(AA14,'B-Méthodes'!H4:AE190,162,FALSE),IF(AND(HLOOKUP(AA15,'B-Méthodes'!H4:AE190,162,FALSE)=0,HLOOKUP(AA14,'B-Méthodes'!H4:AE190,162,FALSE)=0),HLOOKUP(AA13,'B-Méthodes'!H4:AE190,162,FALSE),IF(HLOOKUP(AA13,'B-Méthodes'!H4:AE190,162,FALSE)=0,MIN(HLOOKUP(AA14,'B-Méthodes'!H4:AE190,162,FALSE),HLOOKUP(AA15,'B-Méthodes'!H4:AE190,162,FALSE)),IF(HLOOKUP(AA14,'B-Méthodes'!H4:AE190,162,FALSE)=0,MIN(HLOOKUP(AA13,'B-Méthodes'!H4:AE190,162,FALSE),HLOOKUP(AA15,'B-Méthodes'!H4:AE190,162,FALSE)),IF(HLOOKUP(AA15,'B-Méthodes'!H4:AE190,162,FALSE)=0,MIN(HLOOKUP(AA14,'B-Méthodes'!H4:AE190,162,FALSE),HLOOKUP(AA13,'B-Méthodes'!H4:AE190,162,FALSE)),0))))))),0)))","v":0},null,{"$f":"IF(OR(AC13=\"-\",AC14=\"-\",AC15=\"-\"),0,IF('B-Méthodes'!F165=0,0,IF(SUM('Combinaison de méthodes'!AC1:AZ1)>0,IF(AND(HLOOKUP(AC13,'B-Méthodes'!H4:AE190,162,FALSE)<>0,HLOOKUP(AC14,'B-Méthodes'!H4:AE190,162,FALSE)<>0,HLOOKUP(AC15,'B-Méthodes'!H4:AE190,162,FALSE)<>0),MIN(HLOOKUP(AC13,'B-Méthodes'!H4:AE190,162,FALSE),HLOOKUP(AC14,'B-Méthodes'!H4:AE190,162,FALSE),HLOOKUP(AC15,'B-Méthodes'!H4:AE190,162,FALSE)),IF(AND(HLOOKUP(AC13,'B-Méthodes'!H4:AE190,162,FALSE)=0,HLOOKUP(AC14,'B-Méthodes'!H4:AE190,162,FALSE)=0),HLOOKUP(AC15,'B-Méthodes'!H4:AE190,162,FALSE),IF(AND(HLOOKUP(AC13,'B-Méthodes'!H4:AE190,162,FALSE)=0,HLOOKUP(AC15,'B-Méthodes'!H4:AE190,162,FALSE)=0),HLOOKUP(AC14,'B-Méthodes'!H4:AE190,162,FALSE),IF(AND(HLOOKUP(AC15,'B-Méthodes'!H4:AE190,162,FALSE)=0,HLOOKUP(AC14,'B-Méthodes'!H4:AE190,162,FALSE)=0),HLOOKUP(AC13,'B-Méthodes'!H4:AE190,162,FALSE),IF(HLOOKUP(AC13,'B-Méthodes'!H4:AE190,162,FALSE)=0,MIN(HLOOKUP(AC14,'B-Méthodes'!H4:AE190,162,FALSE),HLOOKUP(AC15,'B-Méthodes'!H4:AE190,162,FALSE)),IF(HLOOKUP(AC14,'B-Méthodes'!H4:AE190,162,FALSE)=0,MIN(HLOOKUP(AC13,'B-Méthodes'!H4:AE190,162,FALSE),HLOOKUP(AC15,'B-Méthodes'!H4:AE190,162,FALSE)),IF(HLOOKUP(AC15,'B-Méthodes'!H4:AE190,162,FALSE)=0,MIN(HLOOKUP(AC14,'B-Méthodes'!H4:AE190,162,FALSE),HLOOKUP(AC13,'B-Méthodes'!H4:AE190,162,FALSE)),0))))))),0)))","v":0},null,{"$f":"IF(OR(AE13=\"-\",AE14=\"-\",AE15=\"-\"),0,IF('B-Méthodes'!F165=0,0,IF(SUM('Combinaison de méthodes'!BA1:BO1)>0,IF(AND(HLOOKUP(AE13,'B-Méthodes'!H4:AE190,162,FALSE)<>0,HLOOKUP(AE14,'B-Méthodes'!H4:AE190,162,FALSE)<>0,HLOOKUP(AE15,'B-Méthodes'!H4:AE190,162,FALSE)<>0),MIN(HLOOKUP(AE13,'B-Méthodes'!H4:AE190,162,FALSE),HLOOKUP(AE14,'B-Méthodes'!H4:AE190,162,FALSE),HLOOKUP(AE15,'B-Méthodes'!H4:AE190,162,FALSE)),IF(AND(HLOOKUP(AE13,'B-Méthodes'!H4:AE190,162,FALSE)=0,HLOOKUP(AE14,'B-Méthodes'!H4:AE190,162,FALSE)=0),HLOOKUP(AE15,'B-Méthodes'!H4:AE190,162,FALSE),IF(AND(HLOOKUP(AE13,'B-Méthodes'!H4:AE190,162,FALSE)=0,HLOOKUP(AE15,'B-Méthodes'!H4:AE190,162,FALSE)=0),HLOOKUP(AE14,'B-Méthodes'!H4:AE190,162,FALSE),IF(AND(HLOOKUP(AE15,'B-Méthodes'!H4:AE190,162,FALSE)=0,HLOOKUP(AE14,'B-Méthodes'!H4:AE190,162,FALSE)=0),HLOOKUP(AE13,'B-Méthodes'!H4:AE190,162,FALSE),IF(HLOOKUP(AE13,'B-Méthodes'!H4:AE190,162,FALSE)=0,MIN(HLOOKUP(AE14,'B-Méthodes'!H4:AE190,162,FALSE),HLOOKUP(AE15,'B-Méthodes'!H4:AE190,162,FALSE)),IF(HLOOKUP(AE14,'B-Méthodes'!H4:AE190,162,FALSE)=0,MIN(HLOOKUP(AE13,'B-Méthodes'!H4:AE190,162,FALSE),HLOOKUP(AE15,'B-Méthodes'!H4:AE190,162,FALSE)),IF(HLOOKUP(AE15,'B-Méthodes'!H4:AE190,162,FALSE)=0,MIN(HLOOKUP(AE14,'B-Méthodes'!H4:AE190,162,FALSE),HLOOKUP(AE13,'B-Méthodes'!H4:AE190,162,FALSE)),0))))))),0)))","v":0}]
["1-B.2.8","Évaluation des coûts - MRND",null,null,null,null,null,{"$f":"IF(H$5=\"-\",0,'B-Méthodes'!H166)","v":0},null,{"$f":"IF(J$5=\"-\",0,'B-Méthodes'!J166)","v":0},null,{"$f":"IF($L$5=\"-\",0,HLOOKUP(HLOOKUP(MAX('B-Méthodes'!L170:R170),'B-Méthodes'!L170:S190,21,FALSE),'B-Méthodes'!L4:S169,163,FALSE))","v":0},null,{"$f":"IF($N$5=\"-\",0,HLOOKUP(HLOOKUP(MAX('B-Méthodes'!T170:AD170),'B-Méthodes'!T170:AD190,21,FALSE),'B-Méthodes'!T4:AD169,163,FALSE))","v":0},null,{"$f":"IF(OR($P$5=\"-\",$P$6=\"-\"),0,IF('B-Méthodes'!$F$154=0,0,IF('Combinaison de méthodes'!$B$1>0,IF(AND(HLOOKUP($P$5,'B-Méthodes'!$H$4:$AE$190,163,FALSE)<>0,HLOOKUP($P$6,'B-Méthodes'!$H$4:$AE$190,163,FALSE)<>0),MIN(HLOOKUP($P$5,'B-Méthodes'!$H$4:$AE$190,163,FALSE),HLOOKUP($P$6,'B-Méthodes'!$H$4:$AE$190,163,FALSE)),MAX(HLOOKUP($P$5,'B-Méthodes'!$H$4:$AE$190,163,FALSE),HLOOKUP($P$6,'B-Méthodes'!$H$4:$AE$190,163,FALSE))),0)))","v":0},null,{"$f":"IF(OR($R$5=\"-\",$R$6=\"-\"),0,IF('B-Méthodes'!$F$154=0,0,IF(SUM('Combinaison de méthodes'!$C$1:$F$1)>0,IF(AND(HLOOKUP($R$5,'B-Méthodes'!$H$4:$AE$190,163,FALSE)<>0,HLOOKUP($R$6,'B-Méthodes'!$H$4:$AE$190,163,FALSE)<>0),MIN(HLOOKUP($R$5,'B-Méthodes'!$H$4:$AE$190,163,FALSE),HLOOKUP($R$6,'B-Méthodes'!$H$4:$AE$190,163,FALSE)),MAX(HLOOKUP($R$5,'B-Méthodes'!$H$4:$AE$190,163,FALSE),HLOOKUP($R$6,'B-Méthodes'!$H$4:$AE$190,163,FALSE))),0)))","v":0},null,{"$f":"IF(OR($T$5=\"-\",$T$6=\"-\"),0,IF('B-Méthodes'!$F$154=0,0,IF(SUM('Combinaison de méthodes'!$G$1:$L$1)>0,IF(AND(HLOOKUP($T$5,'B-Méthodes'!$H$4:$AE$190,163,FALSE)<>0,HLOOKUP($T$6,'B-Méthodes'!$H$4:$AE$190,163,FALSE)<>0),MIN(HLOOKUP($T$5,'B-Méthodes'!$H$4:$AE$190,163,FALSE),HLOOKUP($T$6,'B-Méthodes'!$H$4:$AE$190,163,FALSE)),MAX(HLOOKUP($T$5,'B-Méthodes'!$H$4:$AE$190,163,FALSE),HLOOKUP($T$6,'B-Méthodes'!$H$4:$AE$190,163,FALSE))),0)))","v":0},null,{"$f":"IF(OR($V$5=\"-\",$V$6=\"-\"),0,IF('B-Méthodes'!$F$154=0,0,IF(SUM('Combinaison de méthodes'!$M$1:$P$1)>0,IF(AND(HLOOKUP($V$5,'B-Méthodes'!$H$4:$AE$190,163,FALSE)<>0,HLOOKUP($V$6,'B-Méthodes'!$H$4:$AE$190,163,FALSE)<>0),MIN(HLOOKUP($V$5,'B-Méthodes'!$H$4:$AE$190,163,FALSE),HLOOKUP($V$6,'B-Méthodes'!$H$4:$AE$190,163,FALSE)),MAX(HLOOKUP($V$5,'B-Méthodes'!$H$4:$AE$190,163,FALSE),HLOOKUP($V$6,'B-Méthodes'!$H$4:$AE$190,163,FALSE))),0)))","v":0},null,{"$f":"IF(OR($X$5=\"-\",$X$6=\"-\"),0,IF('B-Méthodes'!$F$154=0,0,IF(SUM('Combinaison de méthodes'!$Q$1:$V$1)>0,IF(AND(HLOOKUP($X$5,'B-Méthodes'!$H$4:$AE$190,163,FALSE)<>0,HLOOKUP($X$6,'B-Méthodes'!$H$4:$AE$190,163,FALSE)<>0),MIN(HLOOKUP($X$5,'B-Méthodes'!$H$4:$AE$190,163,FALSE),HLOOKUP($X$6,'B-Méthodes'!$H$4:$AE$190,163,FALSE)),MAX(HLOOKUP($X$5,'B-Méthodes'!$H$4:$AE$190,163,FALSE),HLOOKUP($X$6,'B-Méthodes'!$H$4:$AE$190,163,FALSE))),0)))","v":0},null,{"$f":"IF(OR($Z$5=\"-\",$Z$6=\"-\"),0,IF('B-Méthodes'!$F$154=0,0,IF(SUM('Combinaison de méthodes'!$W$1:$AB$1)>0,IF(AND(HLOOKUP($Z$5,'B-Méthodes'!$H$4:$AE$190,163,FALSE)<>0,HLOOKUP($Z$6,'B-Méthodes'!$H$4:$AE$190,163,FALSE)<>0),MIN(HLOOKUP($Z$5,'B-Méthodes'!$H$4:$AE$190,163,FALSE),HLOOKUP($Z$6,'B-Méthodes'!$H$4:$AE$190,163,FALSE)),MAX(HLOOKUP($Z$5,'B-Méthodes'!$H$4:$AE$190,163,FALSE),HLOOKUP($Z$6,'B-Méthodes'!$H$4:$AE$190,163,FALSE))),0)))","v":0},null,{"$f":"IF(OR($AB$5=\"-\",$AB$6=\"-\"),0,IF('B-Méthodes'!$F$154=0,0,IF(SUM('Combinaison de méthodes'!$AC$1:$AZ$1)>0,IF(AND(HLOOKUP($AB$5,'B-Méthodes'!$H$4:$AE$190,163,FALSE)<>0,HLOOKUP($AB$6,'B-Méthodes'!$H$4:$AE$190,163,FALSE)<>0),MIN(HLOOKUP($AB$5,'B-Méthodes'!$H$4:$AE$190,163,FALSE),HLOOKUP($AB$6,'B-Méthodes'!$H$4:$AE$190,163,FALSE)),MAX(HLOOKUP($AB$5,'B-Méthodes'!$H$4:$AE$190,163,FALSE),HLOOKUP($AB$6,'B-Méthodes'!$H$4:$AE$190,163,FALSE))),0)))","v":0},null,{"$f":"IF(OR($AD$5=\"-\",$AD$6=\"-\"),0,IF('B-Méthodes'!$F$154=0,0,IF(SUM('Combinaison de méthodes'!$BA$1:$BO$1)>0,IF(AND(HLOOKUP($AD$5,'B-Méthodes'!$H$4:$AE$190,163,FALSE)<>0,HLOOKUP($AD$6,'B-Méthodes'!$H$4:$AE$190,163,FALSE)<>0),MIN(HLOOKUP($AD$5,'B-Méthodes'!$H$4:$AE$190,163,FALSE),HLOOKUP($AD$6,'B-Méthodes'!$H$4:$AE$190,163,FALSE)),MAX(HLOOKUP($AD$5,'B-Méthodes'!$H$4:$AE$190,163,FALSE),HLOOKUP($AD$6,'B-Méthodes'!$H$4:$AE$190,163,FALSE))),0)))","v":0}]
["1-B.2.9","Évaluation des coûts - MRD",null,null,null,null,null,{"$f":"IF(H$5=\"-\",0,'B-Méthodes'!H167)","v":0},null,{"$f":"IF(J$5=\"-\",0,'B-Méthodes'!J167)","v":0},null,{"$f":"IF($L$5=\"-\",0,HLOOKUP(HLOOKUP(MAX('B-Méthodes'!L170:R170),'B-Méthodes'!L170:S190,21,FALSE),'B-Méthodes'!L4:S169,164,FALSE))","v":0},null,{"$f":"IF($N$5=\"-\",0,HLOOKUP(HLOOKUP(MAX('B-Méthodes'!T170:AD170),'B-Méthodes'!T170:AD190,21,FALSE),'B-Méthodes'!T4:AD169,164,FALSE))","v":0},null,{"$f":"IF(OR($P$5=\"-\",$P$6=\"-\"),0,IF('B-Méthodes'!$F$155=0,0,IF('Combinaison de méthodes'!$B$1>0,IF(AND(HLOOKUP($P$5,'B-Méthodes'!$H$4:$AE$190,164,FALSE)<>0,HLOOKUP($P$6,'B-Méthodes'!$H$4:$AE$190,164,FALSE)<>0),MIN(HLOOKUP($P$5,'B-Méthodes'!$H$4:$AE$190,164,FALSE),HLOOKUP($P$6,'B-Méthodes'!$H$4:$AE$190,164,FALSE)),MAX(HLOOKUP($P$5,'B-Méthodes'!$H$4:$AE$190,164,FALSE),HLOOKUP($P$6,'B-Méthodes'!$H$4:$AE$190,164,FALSE))),0)))","v":0},null,{"$f":"IF(OR($R$5=\"-\",$R$6=\"-\"),0,IF('B-Méthodes'!$F$155=0,0,IF(SUM('Combinaison de méthodes'!$C$1:$F$1)>0,IF(AND(HLOOKUP($R$5,'B-Méthodes'!$H$4:$AE$190,164,FALSE)<>0,HLOOKUP($R$6,'B-Méthodes'!$H$4:$AE$190,164,FALSE)<>0),MIN(HLOOKUP($R$5,'B-Méthodes'!$H$4:$AE$190,164,FALSE),HLOOKUP($R$6,'B-Méthodes'!$H$4:$AE$190,164,FALSE)),MAX(HLOOKUP($R$5,'B-Méthodes'!$H$4:$AE$190,164,FALSE),HLOOKUP($R$6,'B-Méthodes'!$H$4:$AE$190,164,FALSE))),0)))","v":0},null,{"$f":"IF(OR($T$5=\"-\",$T$6=\"-\"),0,IF('B-Méthodes'!$F$155=0,0,IF(SUM('Combinaison de méthodes'!$G$1:$L$1)>0,IF(AND(HLOOKUP($T$5,'B-Méthodes'!$H$4:$AE$190,164,FALSE)<>0,HLOOKUP($T$6,'B-Méthodes'!$H$4:$AE$190,164,FALSE)<>0),MIN(HLOOKUP($T$5,'B-Méthodes'!$H$4:$AE$190,164,FALSE),HLOOKUP($T$6,'B-Méthodes'!$H$4:$AE$190,164,FALSE)),MAX(HLOOKUP($T$5,'B-Méthodes'!$H$4:$AE$190,164,FALSE),HLOOKUP($T$6,'B-Méthodes'!$H$4:$AE$190,164,FALSE))),0)))","v":0},null,{"$f":"IF(OR($V$5=\"-\",$V$6=\"-\"),0,IF('B-Méthodes'!$F$155=0,0,IF(SUM('Combinaison de méthodes'!$M$1:$P$1)>0,IF(AND(HLOOKUP($V$5,'B-Méthodes'!$H$4:$AE$190,164,FALSE)<>0,HLOOKUP($V$6,'B-Méthodes'!$H$4:$AE$190,164,FALSE)<>0),MIN(HLOOKUP($V$5,'B-Méthodes'!$H$4:$AE$190,164,FALSE),HLOOKUP($V$6,'B-Méthodes'!$H$4:$AE$190,164,FALSE)),MAX(HLOOKUP($V$5,'B-Méthodes'!$H$4:$AE$190,164,FALSE),HLOOKUP($V$6,'B-Méthodes'!$H$4:$AE$190,164,FALSE))),0)))","v":0},null,{"$f":"IF(OR($X$5=\"-\",$X$6=\"-\"),0,IF('B-Méthodes'!$F$155=0,0,IF(SUM('Combinaison de méthodes'!$Q$1:$V$1)>0,IF(AND(HLOOKUP($X$5,'B-Méthodes'!$H$4:$AE$190,164,FALSE)<>0,HLOOKUP($X$6,'B-Méthodes'!$H$4:$AE$190,164,FALSE)<>0),MIN(HLOOKUP($X$5,'B-Méthodes'!$H$4:$AE$190,164,FALSE),HLOOKUP($X$6,'B-Méthodes'!$H$4:$AE$190,164,FALSE)),MAX(HLOOKUP($X$5,'B-Méthodes'!$H$4:$AE$190,164,FALSE),HLOOKUP($X$6,'B-Méthodes'!$H$4:$AE$190,164,FALSE))),0)))","v":0},null,{"$f":"IF(OR($Z$5=\"-\",$Z$6=\"-\"),0,IF('B-Méthodes'!$F$155=0,0,IF(SUM('Combinaison de méthodes'!$W$1:$AB$1)>0,IF(AND(HLOOKUP($Z$5,'B-Méthodes'!$H$4:$AE$190,164,FALSE)<>0,HLOOKUP($Z$6,'B-Méthodes'!$H$4:$AE$190,164,FALSE)<>0),MIN(HLOOKUP($Z$5,'B-Méthodes'!$H$4:$AE$190,164,FALSE),HLOOKUP($Z$6,'B-Méthodes'!$H$4:$AE$190,164,FALSE)),MAX(HLOOKUP($Z$5,'B-Méthodes'!$H$4:$AE$190,164,FALSE),HLOOKUP($Z$6,'B-Méthodes'!$H$4:$AE$190,164,FALSE))),0)))","v":0},null,{"$f":"IF(OR($AB$5=\"-\",$AB$6=\"-\"),0,IF('B-Méthodes'!$F$155=0,0,IF(SUM('Combinaison de méthodes'!$AC$1:$AZ$1)>0,IF(AND(HLOOKUP($AB$5,'B-Méthodes'!$H$4:$AE$190,164,FALSE)<>0,HLOOKUP($AB$6,'B-Méthodes'!$H$4:$AE$190,164,FALSE)<>0),MIN(HLOOKUP($AB$5,'B-Méthodes'!$H$4:$AE$190,164,FALSE),HLOOKUP($AB$6,'B-Méthodes'!$H$4:$AE$190,164,FALSE)),MAX(HLOOKUP($AB$5,'B-Méthodes'!$H$4:$AE$190,164,FALSE),HLOOKUP($AB$6,'B-Méthodes'!$H$4:$AE$190,164,FALSE))),0)))","v":0},null,{"$f":"IF(OR($AD$5=\"-\",$AD$6=\"-\"),0,IF('B-Méthodes'!$F$155=0,0,IF(SUM('Combinaison de méthodes'!$BA$1:$BO$1)>0,IF(AND(HLOOKUP($AD$5,'B-Méthodes'!$H$4:$AE$190,164,FALSE)<>0,HLOOKUP($AD$6,'B-Méthodes'!$H$4:$AE$190,164,FALSE)<>0),MIN(HLOOKUP($AD$5,'B-Méthodes'!$H$4:$AE$190,164,FALSE),HLOOKUP($AD$6,'B-Méthodes'!$H$4:$AE$190,164,FALSE)),MAX(HLOOKUP($AD$5,'B-Méthodes'!$H$4:$AE$190,164,FALSE),HLOOKUP($AD$6,'B-Méthodes'!$H$4:$AE$190,164,FALSE))),0)))","v":0}]
["1-B.3","Coût moyen du scénario",null,null,null,null,null,{"$f":"SUM(H20:I28,H30:I38)","v":0},null,{"$f":"SUM(J20:K28,J30:K38)","v":0},null,{"$f":"SUM(L20:M28,L30:M38)","v":0},null,{"$f":"SUM(N20:O28,N30:O38)","v":0},null,{"$f":"SUM(P20:Q28,P30:Q38)","v":0},null,{"$f":"SUM(R20:S28,R30:S38)","v":0},null,{"$f":"SUM(T20:U28,T30:U38)","v":0},null,{"$f":"SUM(V20:W28,V30:W38)","v":0},null,{"$f":"SUM(X20:Y28,X30:Y38)","v":0},null,{"$f":"SUM(Z20:AA28,Z30:AA38)","v":0},null,{"$f":"SUM(AB20:AC28,AB30:AC38)","v":0},null,{"$f":"SUM(AD20:AE28,AD30:AE38)","v":0}]
["1-B.4","Score",null,null,null,null,null,{"$f":"IF(H39=0,0,1/(H39/MIN(IF($H$39:$AE$39<>0,$H$39:$AE$39))))","v":0},null,{"$f":"IF(J39=0,0,1/(J39/MIN(IF($H$39:$AE$39<>0,$H$39:$AE$39))))","v":0},null,{"$f":"IF(L39=0,0,1/(L39/MIN(IF($H$39:$AE$39<>0,$H$39:$AE$39))))","v":0},null,{"$f":"IF(N39=0,0,1/(N39/MIN(IF($H$39:$AE$39<>0,$H$39:$AE$39))))","v":0},null,{"$f":"IF(P39=0,0,1/(P39/MIN(IF($H$39:$AE$39<>0,$H$39:$AE$39))))","v":0},null,{"$f":"IF(R39=0,0,1/(R39/MIN(IF($H$39:$AE$39<>0,$H$39:$AE$39))))","v":0},null,{"$f":"IF(T39=0,0,1/(T39/MIN(IF($H$39:$AE$39<>0,$H$39:$AE$39))))","v":0},null,{"$f":"IF(V39=0,0,1/(V39/MIN(IF($H$39:$AE$39<>0,$H$39:$AE$39))))","v":0},null,{"$f":"IF(X39=0,0,1/(X39/MIN(IF($H$39:$AE$39<>0,$H$39:$AE$39))))","v":0},null,{"$f":"IF(Z39=0,0,1/(Z39/MIN(IF($H$39:$AE$39<>0,$H$39:$AE$39))))","v":0},null,{"$f":"IF(AB39=0,0,1/(AB39/MIN(IF($H$39:$AE$39<>0,$H$39:$AE$39))))","v":0},null,{"$f":"IF(AD39=0,0,1/(AD39/MIN(IF($H$39:$AE$39<>0,$H$39:$AE$39))))","v":0}]
[]
["2.","Sommaire: Évaluation comparative des scénarios de réhabilitation"]
["2-A","Élément",null,null,null,null,"Poids","Score par scénario"]
["2-A.1","Évaluation des scénarios applicables",null,null,null,null,{"$f":"IF('A-Outil sélection scénario'!E216=\"Oui\",0.7,'A-Outil sélection scénario'!E217)","v":0.7},{"$f":"H17","v":0},null,{"$f":"J17","v":0},null,{"$f":"L17","v":0},null,{"$f":"N17","v":0},null,{"$f":"P17","v":0},null,{"$f":"R17","v":0},null,{"$f":"T17","v":0},null,{"$f":"V17","v":0},null,{"$f":"X17","v":0},null,{"$f":"Z17","v":0},null,{"$f":"AB17","v":0},null,{"$f":"AD17","v":0}]
["2-A.2","Coût des scénarios applicables en fonction du volume de la famille de contaminant",null,null,null,null,{"$f":"IF('A-Outil sélection scénario'!E216=\"Oui\",0.3,'A-Outil sélection scénario'!E218)","v":0.3},{"$f":"H40","v":0},null,{"$f":"J40","v":0},null,{"$f":"L40","v":0},null,{"$f":"N40","v":0},null,{"$f":"P40","v":0},null,{"$f":"R40","v":0},null,{"$f":"T40","v":0},null,{"$f":"V40","v":0},null,{"$f":"X40","v":0},null,{"$f":"Z40","v":0},null,{"$f":"AB40","v":0},null,{"$f":"AD40","v":0}]
["2-A.3","TOTAL",null,null,null,null,null,{"$f":"H44*$G$44+H45*$G$45","v":0},null,{"$f":"J44*$G$44+J45*$G$45","v":0},null,{"$f":"L44*$G$44+L45*$G$45","v":0},null,{"$f":"N44*$G$44+N45*$G$45","v":0},null,{"$f":"P44*$G$44+P45*$G$45","v":0},null,{"$f":"R44*$G$44+R45*$G$45","v":0},null,{"$f":"T44*$G$44+T45*$G$45","v":0},null,{"$f":"V44*$G$44+V45*$G$45","v":0},null,{"$f":"X44*$G$44+X45*$G$45","v":0},null,{"$f":"Z44*$G$44+Z45*$G$45","v":0},null,{"$f":"AB44*$G$44+AB45*$G$45","v":0},null,{"$f":"AD44*$G$44+AD45*$G$45","v":0}]
[null,null,null,null,null,null,null,1,null,2,null,3,null,4,null,"1 & 2",null,"1 & 3",null,"1 & 4",null,"2 & 3",null,"2 & 4",null,"3 & 3",null,"3 & 4",null,"4 & 4"]
[null,null,null,null,null,null,null," Excavation et élimination",null,"Confinement avec analyse de risques",null,"Traitement ex situ",null,"Traitement in situ",null,"Excavation et AR",null,"Excavation et traitement ex situ",null,"Excavation et traitement in situ",null,"Analyse de risques et traitement ex situ",null,"Analyse de risques et traitement in situ",null,"Deux traitements ex situ",null,"Traitements in situ et ex situ",null,"Deux traitements in situ"]
[]
[null,"Identification des méthodes retenues par scénario",null,null,null,null,null,{"$f":"H5","v":"-"},null,{"$f":"J5","v":"-"},null,{"$f":"L5","v":"-"},null,{"$f":"N5","v":"-"},null,{"$f":"P5","v":"-"},null,{"$f":"R5","v":"-"},null,{"$f":"T5","v":"-"},null,{"$f":"V5","v":"-"},null,{"$f":"X5","v":"-"},null,{"$f":"Z5","v":"-"},null,{"$f":"AB5","v":"-"},null,{"$f":"AD5","v":"-"}]
[null,null,null,null,null,null,null,null,null,null,null,null,null,null,null,{"$f":"P6","v":"-"},null,{"$f":"R6","v":"-"},null,{"$f":"T6","v":"-"},null,{"$f":"V6","v":"-"},null,{"$f":"X6","v":"-"},null,{"$f":"Z6","v":"-"},null,{"$f":"AB6","v":"-"},null,{"$f":"AD6","v":"-"}]
["2-B","Résultat"]
["2-B.1",null,null,null,null,null,null,null,null,null,null,null,null,"Scénario",null,null,{"$f":"IF(AND(H46=0,J46=0,L46=0,P46=0,N46=0,R46=0,T46=0,V46=0,X46=0,Z46=0,AB46=0,AD46=0),\"Aucun scénario applicable\",HLOOKUP(MAX(H46:AE46),H46:AE51,2,FALSE))","v":"Aucun scénario applicable"}]
["2-B.2",null,null,null,null,null,null,null,null,null,null,null,null,{"$f":"IF(Q53=\"Aucun scénario applicable\",\"-\",HLOOKUP(Q53,H47:AE51,2,FALSE))","v":"-"}]
["2-B.3",null,null,null,null,null,null,null,null,null,null,null,null,"Méthode a:",null,null,{"$f":"IF(Q53=\"Aucun scénario applicable\",\"-\",HLOOKUP(Q53,H47:AE51,4,FALSE))","v":"-"}]
["2-B.4",null,null,null,null,null,null,null,null,null,null,null,null,"Méthode b:",null,null,{"$f":"IF(OR(Q53=1,Q53=2,Q53=3,Q53=4,Q53=\"Aucun scénario applicable\"),\"-\",HLOOKUP(Q53,H47:AE51,5,FALSE))","v":"-"}]
["Il est de la responsabilité de l'utilisateur de confirmer la faisabilité du scénario de réhabilitation. Veuillez consulter la section Validation du Guide de l'utilisateur."]

{"sheet":"Dangers immédiats","index":17,"n_rows":86,"n_cols":12,"rows_kept":86,"cut":false,"hidden":false,"merged":[[58,1,58,3],[60,2,60,4],[55,1,55,4],[56,1,56,3],[56,6,56,9],[50,1,50,3],[50,6,50,9],[50,10,50,11],[51,1,51,4],[52,1,52,3],[52,6,52,9],[52,10,52,11],[56,10,56,11],[57,2,57,4],[57,6,57,9],[57,10,57,11],[53,1,53,3],[53,6,53,9],[53,10,53,11],[54,1,54,3],[54,6,54,9],[54,10,54,11],[49,1,49,3],[49,6,49,9],[49,10,49,11],[43,1,43,3],[43,6,43,9],[43,10,43,11],[44,1,44,4],[45,1,45,3],[45,6,45,9],[45,10,45,11],[46,2,46,4],[46,6,46,9],[46,10,46,11],[47,1,47,4],[48,1,48,4],[39,1,39,3],[39,6,39,9],[39,10,39,11],[40,1,40,4],[41,1,41,3],[41,6,41,9],[41,10,41,11],[42,1,42,3],[42,6,42,9],[42,10,42,11],[36,1,36,3],[36,6,36,9],[36,10,36,11],[37,1,37,3],[37,6,37,9],[37,10,37,11],[38,1,38,3],[38,6,38,9],[38,10,38,11],[35,1,35,3],[35,6,35,9],[35,10,35,11],[1,4,8,5],[2,2,2,3],[3,2,3,3],[4,2,4,3],[5,2,5,3],[6,2,6,3],[7,2,7,3],[8,2,8,3],[9,6,9,9],[9,10,9,11],[10,2,10,3],[32,1,32,4],[32,6,32,9],[32,10,32,11],[33,1,33,4],[34,1,34,4],[24,10,24,11],[21,1,21,3],[21,6,21,9],[21,10,21,11],[22,1,22,3],[22,6,22,9],[22,10,22,11],[12,2,12,3],[16,2,16,3],[19,6,19,9],[19,10,19,11],[20,1,20,3],[20,6,20,9],[20,10,20,11],[0,1,0,6],[29,1,29,3],[29,6,29,9],[29,10,29,11],[30,1,30,3],[30,6,30,9],[30,10,30,11],[27,1,27,3],[27,6,27,9],[27,10,27,11],[28,1,28,3],[28,6,28,9],[28,10,28,11],[25,1,25,3],[25,6,25,9],[25,10,25,11],[26,1,26,3],[26,6,26,9],[26,10,26,11],[23,1,23,3],[23,6,23,9],[23,10,23,11],[24,1,24,3],[24,6,24,9]]}
[null,"IDENTIFICATION ET MITIGATION DES DANGERS IMMÉDIATS SITES CONTAMINÉS SELON LES CRITÈRES DE CONSTATATION DE LA NORME COMPTABLE"]
[]
[null,"Effectué par :"]
[null,"Organisation : "]
[null,"Date (année-mois-jour) :"]
[null,"Version no. : "]
[null,"Révisé par :"]
[null,"Révision no. : "]
[null,"Date (année-mois-jour) :"]
[]
[null,"Légende :","Renseignement obligatoire (format choix de réponse)"]
[]
[null,null,"Renseignement obligatoire (format texte)"]
[]
[null,null,"Laisser vide ou ne pas éditer"]
[]
[null,null,"Notes ou références à inscrire au besoin"]
[]
[]
["1.","Généralités",null,null,null,null,"Justificatif",null,null,null,"Références"]
["1.1","Nom du site "]
["1.2","Étiquette d'identification de la fiche synthèse du PTSC et numéro de dossier interne"]
["1.3","Propriétaire ou locataire "]
["1.4","Adresse du site "]
["1.5","Latitude (NAD 83)"]
["1.6","Longitude (NAD 83)"]
["1.7","Numéro de lot et cadastre"]
["1.8","Activités désignées à l'annexe III du RPRT qui s'exercent ou se sont exercées sur le site (inscrire le ou les codes SCIAN)"]
["1.9","Est-ce qu'une cessation d'une activité désignée (A31.51 LQE) ou un changement d'usage (A31.53 LQE) est prévu?"]
["1.10","Superficie approximative du site (m2) "]
["1.11","Présence de résidus miniers sur le site"]
[]
["2.","Dangers immédiats (Section présente dans chaque méthode commune - doit être actualisée périodiquement)",null,null,null,null,"Justificatif",null,null,null,"Références"]
["2-A","Toxicologie et écotoxicologie"]
["2-A.1","Effets néfastes sur des personnes (toxicologie)"]
["2-A.1.1","Dépassement des normes dans l'eau potable"]
["2-A.1.2","Potager ou culture sur sols contaminés "]
["2-A.1.3","Substance radioactive ou danger biologique (bactéries, virus, moisissures, déjections animales, etc.) exposé et non confiné"]
["2-A.1.4","Vapeurs contaminées dans l'air intérieur d'un bâtiment"]
["2-A.1.5","Risque d'explosion lié à la présence de gaz dans un bâtiment ou une structure "]
["2-A.2","Effets néfastes sur les récepteurs écologiques (écotoxicologie)"]
["2-A.2.1","Résurgence d'une phase libre ou autre effluent toxique dans un cours d'eau"]
["2-A.2.2","Constat d'impacts manifestes et importants sur la faune ou la flore"]
["2-A.2.3","Source de contamination active présentant un danger immédiat pouvant être mitigé rapidement"]
["2-A.3","Autre "]
["2-A.3.1","Autre danger immédiat toxicologique ou écotoxicologique"]
["2-A.3.2","Description :"]
["2-B","Sécurisation (Risques nécessitant des travaux de sécurisation ou ayant fait l'objet de travaux partiels )"]
["2-B.1","Potentiel d'effondrement ou ouverture en surface"]
["2-B.1.1","Ouvertures profondes non sécurisées à partir de la surface  "]
["2-B.1.2","Infrastructures souterraines potentiellement instables et non sécurisées"]
["2-B.2","Instabilité physique"]
["2-B.2.1","Bâtiments ou infrastructures délabrés et non sécurisés"]
["2-B.2.2","Risque de chute ou d'ensevelissement "]
["2-B.2.3","Ouvrages de retenue potentiellement à risque de bris/défaut"]
["2-B.3","Autre"]
["2-B.3.1","Autre risque de sécurisation"]
["2-B.3.2","Description :"]
["2-C","Si un danger immédiat est identifié ou appréhendé, une cote DI-1 est obtenue et une action urgente est requise. Le processus de priorisation devra être poursuivi uniquement lorsque la situation aura été régularisée (risque mitigé ou calendrier d'intervention établi par une ressource compétente).",null,null,{"$f":"IF(OR(E36=\"Oui, connu\",E36=\"Appréhendé\",E37=\"Oui, connu\",E37=\"Appréhendé\",E38=\"Oui, connu\",E38=\"Appréhendé\",E39=\"Oui, connu\",E39=\"Appréhendé\",E40=\"Oui, connu\",E40=\"Appréhendé\",E42=\"Oui, connu\",E42=\"Appréhendé\",E43=\"Oui, connu\",E43=\"Appréhendé\",E44=\"Oui, connu\",E44=\"Appréhendé\",E46=\"Oui, connu\",E46=\"Appréhendé\",E50=\"Oui, connu\",E50=\"Appréhendé\",E51=\"Oui, connu\",E51=\"Appréhendé\",E53=\"Oui, connu\",E53=\"Appréhendé\",E54=\"Oui, connu\",E54=\"Appréhendé\",E55=\"Oui, connu\",E55=\"Appréhendé\",E57=\"Oui, connu\",E57=\"Appréhendé\"),\"DI-1\",IF(AND(OR(E36=\"Non, connu\",E36=\"Non appréhendé\"),OR(E37=\"Non, connu\",E37=\"Non appréhendé\"),OR(E38=\"Non, connu\",E38=\"Non appréhendé\"),OR(E39=\"Non, connu\",E39=\"Non appréhendé\"),OR(E40=\"Non, connu\",E40=\"Non appréhendé\"),OR(E42=\"Non, connu\",E42=\"Non appréhendé\"),OR(E43=\"Non, connu\",E43=\"Non appréhendé\"),OR(E44=\"Non, connu\",E44=\"Non appréhendé\"),OR(E46=\"Non, connu\",E46=\"Non appréhendé\"),OR(E50=\"Non, connu\",E50=\"Non appréhendé\"),OR(E51=\"Non, connu\",E51=\"Non appréhendé\"),OR(E53=\"Non, connu\",E53=\"Non appréhendé\"),OR(E54=\"Non, connu\",E54=\"Non appréhendé\"),OR(E55=\"Non, connu\",E55=\"Non appréhendé\"),OR(E57=\"Non, connu\",E57=\"Non appréhendé\")),\"DI-0\",\"\"))","v":""},null,null,null,false,null,null,false]
[]
[null,"Décrire les actions de mitigation réalisées, le calendrier d'intervention établi ou les vérifications liées à un danger immédiat appréhendé qui ont infirmé le doute :"]
[]
[]
[]
[]
[]
[]
[]
[]
[]
[]
[]
[]
[]
[]
[]
[]
[]
[]
[]
[]
[]
[]
[]
[]
[null,null,null,null,null,null,null,null,true]