{"text_format":"1","workbook":"xlsx","n_sheets":12,"sheets":["PROCESSSUS TYPIQUE","1. IDENTITÉ","2. CARBURANT (Véhicules légers)","2. CARBURANT (Véhicules lourds)","3. KM POLLUANTS","5. NOMBRE DE VÉHICULES","4. KM ZÉRO ÉMISSION","Transition","RÉSUMÉ","Conversion","ListeMO","Validation"],"not_rendered":{"charts":0,"images":4,"macros":1,"external_links":4,"defined_names":567,"comments":5,"pivot_tables":0},"unopened":[],"bounds":{"document_bytes":16777216,"sheet_cells":100000,"rows_first":2000,"rows_last":500,"rows_between":2000,"halvings":0,"cell_chars":16384,"cell_head_chars":4096},"cells_cut":0,"cells_raw":0,"read":"whole","date_system":"1900"}

{"sheet":"PROCESSSUS TYPIQUE","index":0,"n_rows":17,"n_cols":4,"rows_kept":17,"cut":false,"hidden":false,"merged":[[1,1,1,3],[16,1,16,3]]}
[]
[null,"PROCESSUS DE COLLECTE DE DONNÉES ÉNERGÉTIQUES POUR LE TRANSPORT"]
[null,"Colonne1","Adéquate","Place à amélioration"]
[null,"1. La majorité des MO ne possède pas de véhicules lourds, mais parmi les MO qui en possèdent, les données énergétiques de ces véhicules sont saisies de la même manière que celles des véhicules légers. ","x"]
[null,"2. Pour les litres et les montants dépensés en carburant, il n’y a pas de tendance quant au choix des outils utilisés pour la saisie des données."]
[null,"3. Pour le kilométrage, cette valeur est obtenue en vérifiant l’odomètre de chacun des véhicules dans la plupart des cas. ","x"]
[null,"4. Pour le nombre de véhicules, cette donnée provient généralement d’une application maison. De plus, ce chiffre représente une photo de la flotte en date du 31 mars ou d’une autre journée. Cependant, au sujet de la consommation, la donnée remise au MELCCFP contient généralement les valeurs de carburant pour tous les véhicules ayant roulé durant l’année. ","x"]
[null,"5. La validation des données énergétiques est généralement effectuée une fois par année.",null,"x"]
[null,"6. Lorsqu’une nouvelle personne est en charge de la collecte des données énergétiques au sein d’un MO, sa formation consiste généralement en une transmission sommaire des informations. ",null,"x"]
[null,"7. La compilation est effectuée dans une application maison ou encore dans le fichier du MELCCFP. ","x"]
[null,"8. Parmi ceux qui font des locations de longue durée, les données énergétiques de ces véhicules sont majoritairement remises au MELCCFP. Ce n’est pas le cas pour les locations de courte durée. ","x"]
[null,"9. L’analyse de l’évolution des consommations n’est pas effectuée par la majorité des MO; les MO qui font ce type d’analyse sont majoritairement de gros joueurs.",null,"x"]
[null,"10. Les documents contenant les données énergétiques, transmis au MELCCFP, doivent d’abord être révisés par une personne en autorité dans la plupart des cas.","x"]
[null,"11. Dans le cas des gros joueurs, les données font généralement partie d’une publication publiée sous la gouverne du MO. ","x"]
[null,"12. Le fichier de saisie du MELCCFP est utilisé par une grande partie des MO ","x"]
[]
[null,"Au printemps 2015, les MO ont été contactés afin de participer à une enquête au sujet de leur collecte de données énergétiques effectuée à l'automne de chaque année. Cette enquête contenait des questionnaires qui portaient sur les bâtiments et les véhicules. Le tableau ci-dessus décrit sommairement le processus de cueillette de données énergétiques typiques ; il s'agit d'une synthèse illustrant ce que la majorité des répondants ont choisi comme réponse à chacune des questions. Notez qu'il s'agit du regroupement des réponses les plus répandues et non pas le processus d'un MO en particulier. Chaque affirmation affichée est évaluée afin de savoir si elle représente une étape adéquate dans le processus ou s'il pourrait y avoir place à l'amélioration."]

{"sheet":"1. IDENTITÉ","index":1,"n_rows":75,"n_cols":4,"rows_kept":75,"cut":false,"hidden":false,"merged":[]}
[]
[]
["Dernière mise à jour : 2024-09-18"]
[null,"Version 22__01-11-2016"]
[]
[]
[]
["Identité et coordonnées","  Veuillez inscrire l'information dans les cellules ombragées en bleu pâle."]
[]
["Ministère ou organisme :","NOM DE L'ENTITÉ","    ← Veuillez utiliser la liste déroulante pour choisir le nom de votre organisation"]
["Code du ministère ou de l'organisme :",{"$f":"IF(ISERROR(VLOOKUP(B10,ListeMO!A3:B1004,2,FALSE)),0,VLOOKUP(B10,ListeMO!A3:B1004,2,FALSE))","v":0}]
["Initiale ou acronyme :"]
["Nom de la personne responsable :"]
["Titre :"]
["Adresse :"]
["Ville :"]
["Téléphone :"]
["Courriel :"]
["Année financière :","1er avril au 31 mars","    ← Veuillez utiliser la liste déroulante pour choisir la période de l'année financière"]
["Date :"]
["Année de référence :"]
[]
["Types de véhicules :",1]
[]
[]
["1er janvier au 31 décembre"]
["1er avril au 31 mars"]
["1er mai au 30 avril"]
["1er juin au 31 mai"]
["1er juillet au 30 juin"]
[]
["Objectif du document :"]
["     Recueillir l'information sur la consommation de carburant liée aux déplacements professionnels"]
["     et suivre son évolution."]
["L'onglet 2. CARBURANT est réservé aux données sur les véhicules de l'organisme. Celles relatives aux véhicules de location de courte durée"]
["ou aux véhicules personnels doivent être saisies dans l'onglet 3. KM POLLUANTS)"]
["*Pour le carburant, il est important de fournir les montants pour les dépenses ET pour la consommation."]
[]
[]
[]
["2009-2010"]
["2010-2011"]
["2011-2012"]
["2012-2013"]
["2013-2014"]
["2014-2015"]
["2015-2016"]
["2016-2017"]
["2018-2019"]
["2019-2020"]
["2020-2021"]
[2009]
[2010]
[2011]
[2012]
[2013]
[2014]
[2015]
[2016]
[2017]
[2018]
[2019]
[2020]
[]
["Exemple de calculs des émissions de gaz à effet de serre (GES)"]
["Le calcul des émissions de GES dans le présent fichier s'effectue en considérant la multiplication d'une quantité de carburant par le facteur d'émission qui lui est associé.  "]
["Voici un exemple pour une quantité d'essence de 100 000 litres:"]
["quantité d'essence consommée, en litres:",100000,"valeur 1",": provenant de la compilation de l'organisation"]
["facteur d'émission associé à un litre d'essence:",{"$f":"L_ess_to_GES","v":2.317356E-3},"valeur 2",": provenant de l'onglet Conversion"]
[]
["quantité d'émissions de GES correspondante à la consommation d'essence:"]
[null,{"$f":"B68*B69","v":231.73560000000001},"valeur 3",": multiplication des valeurs 1 et 2"]
[]
["Dans le cas des autres déplacements (voir onglet KM polluants), le calcul se fait en considérant plutôt une quantité de km parcourus, selon le type de déplacement effectué, "]
["et le facteur d'émission associé."]

{"sheet":"2. CARBURANT (Véhicules légers)","index":2,"n_rows":51,"n_cols":47,"rows_kept":51,"cut":false,"hidden":false,"merged":[[0,25,0,30]]}
[null,null,null,null,null,null,null,null,null,null,null,null,null,null,null,null,null,null,null,null,null,null,null,null,null,"Ce tableau est réservé aux données de véhicules de l'organisme (celles relatives aux véhicules de location de courte durée ou aux véhicules personnels doivent être saisies dans l'onglet 3. KM POLLUANTS)"]
[null," Saisir les données de dépenses annuelles dans les cellules ombragées en bleu pâle.",null,null,null,null,null,null,"Réél",null,null," Saisir les données de dépenses annuelles dans les cellules ombragées en bleu pâle.",null,null,null,null,null,null,null,null,null,null,null,null,null,null,null," Saisir les données de dépenses annuelles dans les cellules ombragées en bleu pâle."]
[null,null,null,null,null,null,null,null,"Estimé"]
[null," Si des données de consommation de carburant sont disponibles, utiliser les",null,null,null,null,null,null,null,null,null," Si des données de consommation de carburant sont disponibles, utiliser les",null,null,null,null,null,null,null,null,null,null,null,null,null,null,null," Si des données de consommation de carburant sont disponibles, utiliser les"]
[null,null,null,null,null,null,null,"cellules ombragées en vert pâle ou en jaune pâle, après avoir choisi \" Réel \" dans la colonne R/E. ",null,null,null,null,null,null,null,null,null,null,null,null,null,null,null,null,null,null,null,"cellules ombragées en vert pâle ou en jaune pâle, après avoir choisi \" Réel \" dans la colonne R/E. "]
[]
[]
[null,null,null,"DÉPENSES ANNUELLES EN CARBURANT",null,null,null,null,null,null,null,null,null,"DÉPENSES ANNUELLES EN CARBURANT",null,null,null,null,null,null,null,null,null,null,null,null,null,null,null,"DÉPENSES ANNUELLES EN CARBURANT"]
[null,"2002-2003",null,"2003-2004",null,"2004-2005",null,"2005-2006",null,"2006-2007",null,"2007-2008",null,"2008-2009",null,"2009-2010",null,"2010-2011",null,"2011-2012",null,"2012-2013",null,"2013-2014",null,"2014-2015",null,"2015-2016",null,"2016-2017",null,"2017-2018",null,"2018-2019",null,"2019-2020",null,"2020-2021",null,"2021-2022",null,"2022-2023",null,"2023-2024",null,"2024-2025"]
["Dépenses des carburants traditionnels"]
["Essence [$]"]
["Diesel [$]"]
["Gaz naturel [$]"]
["Propane [$]"]
[]
["Dépenses en biocarburants"]
["Essence éthanol  [$]"]
["Biodiesel [$]"]
[]
["Total [$]",{"$f":"SUM(B11:B14,B17:B18)","v":0},null,{"$f":"SUM(D11:D14,D17:D18)","v":0},null,{"$f":"SUM(F11:F14,F17:F18)","v":0},null,{"$f":"SUM(H11:H14,H17:H18)","v":0},null,{"$f":"SUM(J11:J14,J17:J18)","v":0},null,{"$f":"SUM(L11:L14,L17:L18)","v":0},null,{"$f":"SUM(N11:N14,N17:N18)","v":0},null,{"$f":"SUM(P11:P14,P17:P18)","v":0},null,{"$f":"SUM(R11:R14,R17:R18)","v":0},null,{"$f":"SUM(T11:T14,T17:T18)","v":0},null,{"$f":"SUM(V11:V14,V17:V18)","v":0},null,{"$f":"SUM(X11:X14,X17:X18)","v":0},null,{"$f":"SUM(Z11:Z14,Z17:Z18)","v":0},null,{"$f":"SUM(AB11:AB14,AB17:AB18)","v":0},null,{"$f":"SUM(AD11:AD14,AD17:AD18)","v":0},null,{"$f":"SUM(AF11:AF14,AF17:AF18)","v":0},null,{"$f":"SUM(AH11:AH14,AH17:AH18)","v":0},null,{"$f":"SUM(AJ11:AJ14,AJ17:AJ18)","v":0},null,{"$f":"SUM(AL11:AL14,AL17:AL18)","v":0},null,{"$f":"SUM(AN11:AN14,AN17:AN18)","v":0},null,{"$f":"SUM(AP11:AP14,AP17:AP18)","v":0},null,{"$f":"SUM(AR11:AR14,AR17:AR18)","v":0},null,{"$f":"SUM(AT11:AT14,AT17:AT18)","v":0}]
[null,null,null,{"$f":"CONCATENATE(\"CAD_vehic_instit_\",MID(D9,3,2),\"_\",MID(D9,8,2))","v":"CAD_vehic_instit_03_04"},null,{"$f":"CONCATENATE(\"CAD_vehic_instit_\",MID(F9,3,2),\"_\",MID(F9,8,2))","v":"CAD_vehic_instit_04_05"},null,{"$f":"CONCATENATE(\"CAD_vehic_instit_\",MID(H9,3,2),\"_\",MID(H9,8,2))","v":"CAD_vehic_instit_05_06"},null,{"$f":"CONCATENATE(\"CAD_vehic_instit_\",MID(J9,3,2),\"_\",MID(J9,8,2))","v":"CAD_vehic_instit_06_07"},null,{"$f":"CONCATENATE(\"CAD_vehic_instit_\",MID(L9,3,2),\"_\",MID(L9,8,2))","v":"CAD_vehic_instit_07_08"},null,{"$f":"CONCATENATE(\"CAD_vehic_instit_\",MID(N9,3,2),\"_\",MID(N9,8,2))","v":"CAD_vehic_instit_08_09"},null,{"$f":"CONCATENATE(\"CAD_vehic_instit_\",MID(P9,3,2),\"_\",MID(P9,8,2))","v":"CAD_vehic_instit_09_10"},null,{"$f":"CONCATENATE(\"CAD_vehic_instit_\",MID(R9,3,2),\"_\",MID(R9,8,2))","v":"CAD_vehic_instit_10_11"},null,{"$f":"CONCATENATE(\"CAD_vehic_instit_\",MID(T9,3,2),\"_\",MID(T9,8,2))","v":"CAD_vehic_instit_11_12"},null,{"$f":"CONCATENATE(\"CAD_vehic_instit_\",MID(V9,3,2),\"_\",MID(V9,8,2))","v":"CAD_vehic_instit_12_13"},null,{"$f":"CONCATENATE(\"CAD_vehic_instit_\",MID(X9,3,2),\"_\",MID(X9,8,2))","v":"CAD_vehic_instit_13_14"},null,{"$f":"CONCATENATE(\"CAD_vehic_instit_\",MID(Z9,3,2),\"_\",MID(Z9,8,2))","v":"CAD_vehic_instit_14_15"},null,{"$f":"CONCATENATE(\"CAD_vehic_instit_\",MID(AB9,3,2),\"_\",MID(AB9,8,2))","v":"CAD_vehic_instit_15_16"},null,{"$f":"CONCATENATE(\"CAD_vehic_instit_\",MID(AD9,3,2),\"_\",MID(AD9,8,2))","v":"CAD_vehic_instit_16_17"},null,{"$f":"CONCATENATE(\"CAD_vehic_instit_\",MID(AF9,3,2),\"_\",MID(AF9,8,2))","v":"CAD_vehic_instit_17_18"},null,{"$f":"CONCATENATE(\"CAD_vehic_instit_\",MID(AH9,3,2),\"_\",MID(AH9,8,2))","v":"CAD_vehic_instit_18_19"},null,{"$f":"CONCATENATE(\"CAD_vehic_instit_\",MID(AJ9,3,2),\"_\",MID(AJ9,8,2))","v":"CAD_vehic_instit_19_20"},null,{"$f":"CONCATENATE(\"CAD_vehic_instit_\",MID(AL9,3,2),\"_\",MID(AL9,8,2))","v":"CAD_vehic_instit_20_21"},null,{"$f":"CONCATENATE(\"CAD_vehic_instit_\",MID(AN9,3,2),\"_\",MID(AN9,8,2))","v":"CAD_vehic_instit_21_22"}]
[null,null,null,"VOLUME DE CARBURANT CONSOMMÉ ANNUELLEMENT",null,null,null,null,null,null,null,"VOLUME DE CARBURANT CONSOMMÉ ANNUELLEMENT",null,null,null,null,null,null,null,"VOLUME DE CARBURANT CONSOMMÉ ANNUELLEMENT",null,null,null,null,null,null,null,"VOLUME DE CARBURANT CONSOMMÉ ANNUELLEMENT",null,null,null,null,null,"VOLUME DE CARBURANT CONSOMMÉ ANNUELLEMENT"]
[null,"2002-2003","R/E","2003-2004","R/E","2004-2005","R/E","2005-2006","R/E","2006-2007","R/E","2007-2008","R/E","2008-2009","R/E","2009-2010","R/E","2010-2011","R/E","2011-2012","R/E","2012-2013","R/E","2013-2014","R/E","2014-2015","R/E","2015-2016","R/E","2016-2017","R/E","2017-2018","R/E","2018-2019","R/E","2019-2020","R/E","2020-2021","R/E","2021-2022","R/E","2022-2023","R/E","2023-2024","R/E","2024-2025","R/E"]
["Consommation des carburants traditionnels"]
["Essence [litres]",{"$f":"IF(C25=\"Estimé\",B11/INDEX(plage_conv,MATCH($A$25,plage_tag,0),MATCH($B$23,plage_an,0)),\"Insérer valeur Réelle\")","v":0},"Estimé",{"$f":"IF(E25=\"Estimé\",D11/INDEX(plage_conv,MATCH($A$25,plage_tag,0),MATCH($D$23,plage_an,0)),\"Insérer valeur Réelle\")","v":0},"Estimé",{"$f":"IF(G25=\"Estimé\",F11/INDEX(plage_conv,MATCH($A$25,plage_tag,0),MATCH($F$23,plage_an,0)),\"Insérer valeur Réelle\")","v":0},"Estimé",{"$f":"IF(I25=\"Estimé\",H11/INDEX(plage_conv,MATCH($A$25,plage_tag,0),MATCH($H$23,plage_an,0)),\"Insérer valeur Réelle\")","v":0},"Estimé",{"$f":"IF(K25=\"Estimé\",J11/INDEX(plage_conv,MATCH($A$25,plage_tag,0),MATCH($J$23,plage_an,0)),\"Insérer valeur Réelle\")","v":0},"Estimé",{"$f":"IF(M25=\"Estimé\",L11/INDEX(plage_conv,MATCH($A$25,plage_tag,0),MATCH($L$23,plage_an,0)),\"Insérer valeur Réelle\")","v":0},"Estimé",{"$f":"IF(O25=\"Estimé\",N11/INDEX(plage_conv,MATCH($A$25,plage_tag,0),MATCH($N$23,plage_an,0)),\"Insérer valeur Réelle\")","v":0},"Estimé",{"$f":"IF(Q25=\"Estimé\",P11/INDEX(plage_conv,MATCH($A25,plage_tag,0),MATCH(P$23,plage_an,0)),\"Insérer valeur Réelle\")","v":0},"Estimé",{"$f":"IF(S25=\"Estimé\",R11/INDEX(plage_conv,MATCH($A25,plage_tag,0),MATCH(R$23,plage_an,0)),\"Insérer valeur Réelle\")","v":0},"Estimé",{"$f":"IF(U25=\"Estimé\",T11/INDEX(plage_conv,MATCH($A25,plage_tag,0),MATCH(T$23,plage_an,0)),\"Insérer valeur Réelle\")","v":0},"Estimé",{"$f":"IF(W25=\"Estimé\",V11/INDEX(plage_conv,MATCH($A25,plage_tag,0),MATCH(V$23,plage_an,0)),\"Insérer valeur Réelle\")","v":0},"Estimé",{"$f":"IF(Y25=\"Estimé\",X11/INDEX(plage_conv,MATCH($A25,plage_tag,0),MATCH(X$23,plage_an,0)),\"Insérer valeur Réelle\")","v":0},"Estimé",{"$f":"IF(AA25=\"Estimé\",Z11/INDEX(plage_conv,MATCH($A25,plage_tag,0),MATCH(Z$23,plage_an,0)),\"Insérer valeur Réelle\")","v":0},"Estimé",{"$f":"IF(AC25=\"Estimé\",AB11/INDEX(plage_conv,MATCH($A25,plage_tag,0),MATCH(AB$23,plage_an,0)),\"Insérer valeur Réelle\")","v":0},"Estimé",{"$f":"IF(AE25=\"Estimé\",AD11/INDEX(plage_conv,MATCH($A25,plage_tag,0),MATCH(AD$23,plage_an,0)),\"Insérer valeur Réelle\")","v":0},"Estimé",{"$f":"IF(AG25=\"Estimé\",AF11/INDEX(plage_conv,MATCH($A25,plage_tag,0),MATCH(AF$23,plage_an,0)),\"Insérer valeur Réelle\")","v":0},"Estimé",{"$f":"IF(AI25=\"Estimé\",AH11/INDEX(plage_conv,MATCH($A25,plage_tag,0),MATCH(AH$23,plage_an,0)),\"Insérer valeur Réelle\")","v":0},"Estimé",{"$f":"IF(AK25=\"Estimé\",AJ11/INDEX(plage_conv,MATCH($A25,plage_tag,0),MATCH($AJ23,plage_an,0)),\"Insérer valeur Réelle\")","v":0},"Estimé",{"$f":"IF(AM25=\"Estimé\",AL11/INDEX(plage_conv,MATCH($A$25,plage_tag,0),MATCH($AL$23,plage_an,0)),\"Insérer valeur Réelle\")","v":0},"Estimé",{"$f":"IF(AO25=\"Estimé\",AN11/INDEX(plage_conv,MATCH($A$25,plage_tag,0),MATCH($AN$23,plage_an,0)),\"Insérer valeur Réelle\")","v":0},"Estimé",{"$f":"IF(AQ25=\"Estimé\",AP11/INDEX(plage_conv,MATCH($A$25,plage_tag,0),MATCH($AP$23,plage_an,0)),\"Insérer valeur Réelle\")","v":0},"Estimé",{"$f":"IF(AS25=\"Estimé\",AR11/INDEX(plage_conv,MATCH($A$25,plage_tag,0),MATCH($AR$23,plage_an,0)),\"Insérer valeur Réelle\")","v":0},"Estimé",{"$f":"IF(AU25=\"Estimé\",AT11/INDEX(plage_conv,MATCH($A$25,plage_tag,0),MATCH($AT$23,plage_an,0)),\"Insérer valeur Réelle\")","v":0},"Estimé"]
["Diesel  [litres]",{"$f":"IF(C26=\"Estimé\",B12/INDEX(plage_conv,MATCH($A$26,plage_tag,0),MATCH($B$23,plage_an,0)),\"Insérer valeur Réelle\")","v":0},"Estimé",{"$f":"IF(E26=\"Estimé\",D12/INDEX(plage_conv,MATCH($A$26,plage_tag,0),MATCH($D$23,plage_an,0)),\"Insérer valeur Réelle\")","v":0},"Estimé",{"$f":"IF(G26=\"Estimé\",F12/INDEX(plage_conv,MATCH($A$26,plage_tag,0),MATCH($F$23,plage_an,0)),\"Insérer valeur Réelle\")","v":0},"Estimé",{"$f":"IF(I26=\"Estimé\",H12/INDEX(plage_conv,MATCH($A$26,plage_tag,0),MATCH($H$23,plage_an,0)),\"Insérer valeur Réelle\")","v":0},"Estimé",{"$f":"IF(K26=\"Estimé\",J12/INDEX(plage_conv,MATCH($A$26,plage_tag,0),MATCH($J$23,plage_an,0)),\"Insérer valeur Réelle\")","v":0},"Estimé",{"$f":"IF(M26=\"Estimé\",L12/INDEX(plage_conv,MATCH($A$26,plage_tag,0),MATCH($L$23,plage_an,0)),\"Insérer valeur Réelle\")","v":0},"Estimé",{"$f":"IF(O26=\"Estimé\",N12/INDEX(plage_conv,MATCH($A$26,plage_tag,0),MATCH($N$23,plage_an,0)),\"Insérer valeur Réelle\")","v":0},"Estimé",{"$f":"IF(Q26=\"Estimé\",P12/INDEX(plage_conv,MATCH($A26,plage_tag,0),MATCH(P$23,plage_an,0)),\"Insérer valeur Réelle\")","v":0},"Estimé",{"$f":"IF(S26=\"Estimé\",R12/INDEX(plage_conv,MATCH($A26,plage_tag,0),MATCH(R$23,plage_an,0)),\"Insérer valeur Réelle\")","v":0},"Estimé",{"$f":"IF(U26=\"Estimé\",T12/INDEX(plage_conv,MATCH($A26,plage_tag,0),MATCH(T$23,plage_an,0)),\"Insérer valeur Réelle\")","v":0},"Estimé",{"$f":"IF(W26=\"Estimé\",V12/INDEX(plage_conv,MATCH($A26,plage_tag,0),MATCH(V$23,plage_an,0)),\"Insérer valeur Réelle\")","v":0},"Estimé",{"$f":"IF(Y26=\"Estimé\",X12/INDEX(plage_conv,MATCH($A26,plage_tag,0),MATCH(X$23,plage_an,0)),\"Insérer valeur Réelle\")","v":0},"Estimé",{"$f":"IF(AA26=\"Estimé\",Z12/INDEX(plage_conv,MATCH($A26,plage_tag,0),MATCH(Z$23,plage_an,0)),\"Insérer valeur Réelle\")","v":0},"Estimé",{"$f":"IF(AC26=\"Estimé\",AB12/INDEX(plage_conv,MATCH($A26,plage_tag,0),MATCH(AB$23,plage_an,0)),\"Insérer valeur Réelle\")","v":0},"Estimé",{"$f":"IF(AE26=\"Estimé\",AD12/INDEX(plage_conv,MATCH($A26,plage_tag,0),MATCH(AD$23,plage_an,0)),\"Insérer valeur Réelle\")","v":0},"Estimé",{"$f":"IF(AG26=\"Estimé\",AF12/INDEX(plage_conv,MATCH($A26,plage_tag,0),MATCH(AF$23,plage_an,0)),\"Insérer valeur Réelle\")","v":0},"Estimé",{"$f":"IF(AI26=\"Estimé\",AH12/INDEX(plage_conv,MATCH($A26,plage_tag,0),MATCH(AH$23,plage_an,0)),\"Insérer valeur Réelle\")","v":0},"Estimé",{"$f":"IF(AK26=\"Estimé\",AJ12/INDEX(plage_conv,MATCH($A26,plage_tag,0),MATCH(AJ$23,plage_an,0)),\"Insérer valeur Réelle\")","v":0},"Estimé",{"$f":"IF(AM26=\"Estimé\",AL12/INDEX(plage_conv,MATCH($A$26,plage_tag,0),MATCH($AL$23,plage_an,0)),\"Insérer valeur Réelle\")","v":0},"Estimé",{"$f":"IF(AO26=\"Estimé\",AN12/INDEX(plage_conv,MATCH($A$26,plage_tag,0),MATCH($AN$23,plage_an,0)),\"Insérer valeur Réelle\")","v":0},"Estimé",{"$f":"IF(AQ26=\"Estimé\",AP12/INDEX(plage_conv,MATCH($A$26,plage_tag,0),MATCH($AN$23,plage_an,0)),\"Insérer valeur Réelle\")","v":0},"Estimé",{"$f":"IF(AS26=\"Estimé\",AR12/INDEX(plage_conv,MATCH($A$26,plage_tag,0),MATCH($AR$23,plage_an,0)),\"Insérer valeur Réelle\")","v":0},"Estimé",{"$f":"IF(AU26=\"Estimé\",AT12/INDEX(plage_conv,MATCH($A$26,plage_tag,0),MATCH($AT$23,plage_an,0)),\"Insérer valeur Réelle\")","v":0},"Estimé"]
["Gaz naturel [m³]",{"$f":"IF(C27=\"Estimé\",B13/INDEX(plage_conv,MATCH($A$27,plage_tag,0),MATCH($B$23,plage_an,0)),\"Insérer valeur Réelle\")","v":0},"Estimé",{"$f":"IF(E27=\"Estimé\",D13/INDEX(plage_conv,MATCH($A$26,plage_tag,0),MATCH($D$23,plage_an,0)),\"Insérer valeur Réelle\")","v":0},"Estimé",{"$f":"IF(G27=\"Estimé\",F13/INDEX(plage_conv,MATCH($A$27,plage_tag,0),MATCH($F$23,plage_an,0)),\"Insérer valeur Réelle\")","v":0},"Estimé",{"$f":"IF(I27=\"Estimé\",H13/INDEX(plage_conv,MATCH($A$27,plage_tag,0),MATCH($H$23,plage_an,0)),\"Insérer valeur Réelle\")","v":0},"Estimé",{"$f":"IF(K27=\"Estimé\",J13/INDEX(plage_conv,MATCH($A$27,plage_tag,0),MATCH($J$23,plage_an,0)),\"Insérer valeur Réelle\")","v":0},"Estimé",{"$f":"IF(M27=\"Estimé\",L13/INDEX(plage_conv,MATCH($A$27,plage_tag,0),MATCH($L$23,plage_an,0)),\"Insérer valeur Réelle\")","v":0},"Estimé",{"$f":"IF(O27=\"Estimé\",N13/INDEX(plage_conv,MATCH($A$27,plage_tag,0),MATCH($N$23,plage_an,0)),\"Insérer valeur Réelle\")","v":0},"Estimé",{"$f":"IF(Q27=\"Estimé\",P13/INDEX(plage_conv,MATCH($A27,plage_tag,0),MATCH(P$23,plage_an,0)),\"Insérer valeur Réelle\")","v":0},"Estimé",{"$f":"IF(S27=\"Estimé\",R13/INDEX(plage_conv,MATCH($A27,plage_tag,0),MATCH(R$23,plage_an,0)),\"Insérer valeur Réelle\")","v":0},"Estimé",{"$f":"IF(U27=\"Estimé\",T13/INDEX(plage_conv,MATCH($A27,plage_tag,0),MATCH(T$23,plage_an,0)),\"Insérer valeur Réelle\")","v":0},"Estimé",{"$f":"IF(W27=\"Estimé\",V13/INDEX(plage_conv,MATCH($A27,plage_tag,0),MATCH(V$23,plage_an,0)),\"Insérer valeur Réelle\")","v":0},"Estimé",{"$f":"IF(Y27=\"Estimé\",X13/INDEX(plage_conv,MATCH($A27,plage_tag,0),MATCH(X$23,plage_an,0)),\"Insérer valeur Réelle\")","v":0},"Estimé",0,"Estimé",0,"Réél",0,"Estimé",0,"Estimé",0,"Estimé",0,"Estimé",0,"Estimé",0,"Réél",0,"Réél",0,"Réél",0,"Réél"]
["Propane  [litres]",{"$f":"IF(C28=\"Estimé\",B14/INDEX(plage_conv,MATCH($A$28,plage_tag,0),MATCH($B$23,plage_an,0)),\"Insérer valeur Réelle\")","v":0},"Estimé",{"$f":"IF(E28=\"Estimé\",D14/INDEX(plage_conv,MATCH($A$28,plage_tag,0),MATCH($D$23,plage_an,0)),\"Insérer valeur Réelle\")","v":0},"Estimé",{"$f":"IF(G28=\"Estimé\",F14/INDEX(plage_conv,MATCH($A$28,plage_tag,0),MATCH($F$23,plage_an,0)),\"Insérer valeur Réelle\")","v":0},"Estimé",{"$f":"IF(I28=\"Estimé\",H14/INDEX(plage_conv,MATCH($A$28,plage_tag,0),MATCH($H$23,plage_an,0)),\"Insérer valeur Réelle\")","v":0},"Estimé",{"$f":"IF(K28=\"Estimé\",J14/INDEX(plage_conv,MATCH($A$28,plage_tag,0),MATCH($J$23,plage_an,0)),\"Insérer valeur Réelle\")","v":0},"Estimé",{"$f":"IF(M28=\"Estimé\",L14/INDEX(plage_conv,MATCH($A$28,plage_tag,0),MATCH($L$23,plage_an,0)),\"Insérer valeur Réelle\")","v":0},"Estimé",{"$f":"IF(O28=\"Estimé\",N14/INDEX(plage_conv,MATCH($A$28,plage_tag,0),MATCH($N$23,plage_an,0)),\"Insérer valeur Réelle\")","v":0},"Estimé",{"$f":"IF(Q28=\"Estimé\",P14/INDEX(plage_conv,MATCH($A28,plage_tag,0),MATCH(P$23,plage_an,0)),\"Insérer valeur Réelle\")","v":0},"Estimé",{"$f":"IF(S28=\"Estimé\",R14/INDEX(plage_conv,MATCH($A28,plage_tag,0),MATCH(R$23,plage_an,0)),\"Insérer valeur Réelle\")","v":0},"Estimé",{"$f":"IF(U28=\"Estimé\",T14/INDEX(plage_conv,MATCH($A28,plage_tag,0),MATCH(T$23,plage_an,0)),\"Insérer valeur Réelle\")","v":0},"Estimé",{"$f":"IF(W28=\"Estimé\",V14/INDEX(plage_conv,MATCH($A28,plage_tag,0),MATCH(V$23,plage_an,0)),\"Insérer valeur Réelle\")","v":0},"Estimé",{"$f":"IF(Y28=\"Estimé\",X14/INDEX(plage_conv,MATCH($A28,plage_tag,0),MATCH(X$23,plage_an,0)),\"Insérer valeur Réelle\")","v":0},"Estimé",{"$f":"IF(AA28=\"Estimé\",Z14/INDEX(plage_conv,MATCH($A28,plage_tag,0),MATCH(Z$23,plage_an,0)),\"Insérer valeur Réelle\")","v":0},"Estimé",0,"Réél",0,"Estimé",0,"Estimé",0,"Estimé",0,"Estimé",0,"Estimé",0,"Réél",0,"Réél",0,"Réél",0,"Réél"]
[]
["Consommation des biocarburants"]
["Essence éthanol  [litres]",null,"Réél",null,"Réél",null,"Estimé",null,"Réél",null,"Réél",null,"Réél",null,"Réél",null,"Réél",null,"Réél",null,"Réél",null,"Réél",null,"Réél",null,"Réél",null,"Réél",null,"Réél",null,"Réél",null,"Réél",null,"Réél",null,"Réél",null,"Réél",null,"Réél",null,"Réél",null,"Réél"]
["Biodiesel [litres]",null,"Réél",null,"Réél",null,"Réél",null,"Réél",null,"Réél",null,"Réél",null,"Réél",null,"Réél",null,"Réél",null,"Réél",null,"Réél",null,"Réél",null,"Réél",null,"Réél",null,"Réél",null,"Réél",null,"Réél",null,"Réél",null,"Réél",null,"Réél",null,"Réél",null,"Réél",null,"Réél"]
[]
["Total [L-éq. essence]",{"$f":"B36/L_ess_to_GJ","v":0},null,{"$f":"D36/L_ess_to_GJ","v":0},null,{"$f":"F36/L_ess_to_GJ","v":0},null,{"$f":"H36/L_ess_to_GJ","v":0},null,{"$f":"J36/L_ess_to_GJ","v":0},null,{"$f":"L36/L_ess_to_GJ","v":0},null,{"$f":"N36/L_ess_to_GJ","v":0},null,{"$f":"P36/L_ess_to_GJ","v":0},null,{"$f":"R36/L_ess_to_GJ","v":0},null,{"$f":"T36/L_ess_to_GJ","v":0},null,{"$f":"V36/L_ess_to_GJ","v":0},null,{"$f":"X36/L_ess_to_GJ","v":0},null,{"$f":"Z36/L_ess_to_GJ","v":0},null,{"$f":"IFERROR(AB36/L_ess_to_GJ,0)","v":0},null,{"$f":"AD36/L_ess_to_GJ","v":0},null,{"$f":"AF36/L_ess_to_GJ","v":0},null,{"$f":"AH36/L_ess_to_GJ","v":0},null,{"$f":"AJ36/L_ess_to_GJ","v":0},null,{"$f":"AL36/L_ess_to_GJ","v":0},null,{"$f":"AN36/L_ess_to_GJ","v":0},null,{"$f":"AP36/L_ess_to_GJ","v":0},null,{"$f":"AR36/L_ess_to_GJ","v":0},null,{"$f":"AT36/L_ess_to_GJ","v":0}]
[]
["Total [GJ]",{"$f":"B25*L_ess_to_GJ+B26*L_dies_to_GJ+B27*m3_gn_to_GJ+B28*L_prop_to_GJ+B31*L_esseth_to_GJ+B32*L_biodies_to_GJ","v":0},null,{"$f":"D25*L_ess_to_GJ+D26*L_dies_to_GJ+D27*m3_gn_to_GJ+D28*L_prop_to_GJ+D31*L_esseth_to_GJ+D32*L_biodies_to_GJ","v":0},null,{"$f":"F25*L_ess_to_GJ+F26*L_dies_to_GJ+F27*m3_gn_to_GJ+F28*L_prop_to_GJ+F31*L_esseth_to_GJ+F32*L_biodies_to_GJ","v":0},null,{"$f":"H25*L_ess_to_GJ+H26*L_dies_to_GJ+H27*m3_gn_to_GJ+H28*L_prop_to_GJ+H31*L_esseth_to_GJ+H32*L_biodies_to_GJ","v":0},null,{"$f":"J25*L_ess_to_GJ+J26*L_dies_to_GJ+J27*m3_gn_to_GJ+J28*L_prop_to_GJ+J31*L_esseth_to_GJ+J32*L_biodies_to_GJ","v":0},null,{"$f":"L25*L_ess_to_GJ+L26*L_dies_to_GJ+L27*m3_gn_to_GJ+L28*L_prop_to_GJ+L31*L_esseth_to_GJ+L32*L_biodies_to_GJ","v":0},null,{"$f":"N25*L_ess_to_GJ+N26*L_dies_to_GJ+N27*m3_gn_to_GJ+N28*L_prop_to_GJ+N31*L_esseth_to_GJ+N32*L_biodies_to_GJ","v":0},null,{"$f":"P25*L_ess_to_GJ+P26*L_dies_to_GJ+P27*m3_gn_to_GJ+P28*L_prop_to_GJ+P31*L_esseth_to_GJ+P32*L_biodies_to_GJ","v":0},null,{"$f":"R25*L_ess_to_GJ+R26*L_dies_to_GJ+R27*m3_gn_to_GJ+R28*L_prop_to_GJ+R31*L_esseth_to_GJ+R32*L_biodies_to_GJ","v":0},null,{"$f":"T25*L_ess_to_GJ+T26*L_dies_to_GJ+T27*m3_gn_to_GJ+T28*L_prop_to_GJ+T31*L_esseth_to_GJ+T32*L_biodies_to_GJ","v":0},null,{"$f":"V25*L_ess_to_GJ+V26*L_dies_to_GJ+V27*m3_gn_to_GJ+V28*L_prop_to_GJ+V31*L_esseth_to_GJ+V32*L_biodies_to_GJ","v":0},null,{"$f":"X25*L_ess_to_GJ+X26*L_dies_to_GJ+X27*m3_gn_to_GJ+X28*L_prop_to_GJ+X31*L_esseth_to_GJ+X32*L_biodies_to_GJ","v":0},null,{"$f":"Z25*L_ess_to_GJ+Z26*L_dies_to_GJ+Z27*m3_gn_to_GJ+Z28*L_prop_to_GJ+Z31*L_esseth_to_GJ+Z32*L_biodies_to_GJ","v":0},null,{"$f":"IFERROR(AB25*L_ess_to_GJ+AB26*L_dies_to_GJ+AB27*m3_gn_to_GJ+AB28*L_prop_to_GJ+AB31*L_esseth_to_GJ+AB32*L_biodies_to_GJ,0)","v":0},null,{"$f":"AD25*L_ess_to_GJ+AD26*L_dies_to_GJ+AD27*m3_gn_to_GJ+AD28*L_prop_to_GJ+AD31*L_esseth_to_GJ+AD32*L_biodies_to_GJ","v":0},null,{"$f":"AF25*L_ess_to_GJ+AF26*L_dies_to_GJ+AF27*m3_gn_to_GJ+AF28*L_prop_to_GJ+AF31*L_esseth_to_GJ+AF32*L_biodies_to_GJ","v":0},null,{"$f":"AH25*L_ess_to_GJ+AH26*L_dies_to_GJ+AH27*m3_gn_to_GJ+AH28*L_prop_to_GJ+AH31*L_esseth_to_GJ+AH32*L_biodies_to_GJ","v":0},null,{"$f":"AJ25*L_ess_to_GJ+AJ26*L_dies_to_GJ+AJ27*m3_gn_to_GJ+AJ28*L_prop_to_GJ+AJ31*L_esseth_to_GJ+AJ32*L_biodies_to_GJ","v":0},null,{"$f":"AL25*L_ess_to_GJ+AL26*L_dies_to_GJ+AL27*m3_gn_to_GJ+AL28*L_prop_to_GJ+AL31*L_esseth_to_GJ+AL32*L_biodies_to_GJ","v":0},null,{"$f":"AN25*L_ess_to_GJ+AN26*L_dies_to_GJ+AN27*m3_gn_to_GJ+AN28*L_prop_to_GJ+AN31*L_esseth_to_GJ+AN32*L_biodies_to_GJ","v":0},null,{"$f":"AP25*L_ess_to_GJ+AP26*L_dies_to_GJ+AP27*m3_gn_to_GJ+AP28*L_prop_to_GJ+AP31*L_esseth_to_GJ+AP32*L_biodies_to_GJ","v":0},null,{"$f":"AR25*L_ess_to_GJ+AR26*L_dies_to_GJ+AR27*m3_gn_to_GJ+AR28*L_prop_to_GJ+AR31*L_esseth_to_GJ+AR32*L_biodies_to_GJ","v":0},null,{"$f":"AT25*L_ess_to_GJ+AT26*L_dies_to_GJ+AT27*m3_gn_to_GJ+AT28*L_prop_to_GJ+AT31*L_esseth_to_GJ+AT32*L_biodies_to_GJ","v":0}]
[null,{"$f":"CONCATENATE(\"GJ_vehic_instit_\",MID(B23,3,2),\"_\",MID(B23,8,2))","v":"GJ_vehic_instit_02_03"},null,{"$f":"CONCATENATE(\"GJ_vehic_instit_\",MID(D23,3,2),\"_\",MID(D23,8,2))","v":"GJ_vehic_instit_03_04"},null,{"$f":"CONCATENATE(\"GJ_vehic_instit_\",MID(F23,3,2),\"_\",MID(F23,8,2))","v":"GJ_vehic_instit_04_05"},null,{"$f":"CONCATENATE(\"GJ_vehic_instit_\",MID(H23,3,2),\"_\",MID(H23,8,2))","v":"GJ_vehic_instit_05_06"},null,{"$f":"CONCATENATE(\"GJ_vehic_instit_\",MID(J23,3,2),\"_\",MID(J23,8,2))","v":"GJ_vehic_instit_06_07"},null,{"$f":"CONCATENATE(\"GJ_vehic_instit_\",MID(L23,3,2),\"_\",MID(L23,8,2))","v":"GJ_vehic_instit_07_08"},null,{"$f":"CONCATENATE(\"GJ_vehic_instit_\",MID(N23,3,2),\"_\",MID(N23,8,2))","v":"GJ_vehic_instit_08_09"},null,{"$f":"CONCATENATE(\"GJ_vehic_instit_\",MID(P23,3,2),\"_\",MID(P23,8,2))","v":"GJ_vehic_instit_09_10"},null,{"$f":"CONCATENATE(\"GJ_vehic_instit_\",MID(R23,3,2),\"_\",MID(R23,8,2))","v":"GJ_vehic_instit_10_11"},null,{"$f":"CONCATENATE(\"GJ_vehic_instit_\",MID(T23,3,2),\"_\",MID(T23,8,2))","v":"GJ_vehic_instit_11_12"},null,{"$f":"CONCATENATE(\"GJ_vehic_instit_\",MID(V23,3,2),\"_\",MID(V23,8,2))","v":"GJ_vehic_instit_12_13"},null,{"$f":"CONCATENATE(\"GJ_vehic_instit_\",MID(X23,3,2),\"_\",MID(X23,8,2))","v":"GJ_vehic_instit_13_14"},null,{"$f":"CONCATENATE(\"GJ_vehic_instit_\",MID(Z23,3,2),\"_\",MID(Z23,8,2))","v":"GJ_vehic_instit_14_15"},null,{"$f":"CONCATENATE(\"GJ_vehic_instit_\",MID(AB23,3,2),\"_\",MID(AB23,8,2))","v":"GJ_vehic_instit_15_16"},null,{"$f":"CONCATENATE(\"GJ_vehic_instit_\",MID(AD23,3,2),\"_\",MID(AD23,8,2))","v":"GJ_vehic_instit_16_17"},null,{"$f":"CONCATENATE(\"GJ_vehic_instit_\",MID(AF23,3,2),\"_\",MID(AF23,8,2))","v":"GJ_vehic_instit_17_18"},null,{"$f":"CONCATENATE(\"GJ_vehic_instit_\",MID(AH23,3,2),\"_\",MID(AH23,8,2))","v":"GJ_vehic_instit_18_19"},null,{"$f":"CONCATENATE(\"GJ_vehic_instit_\",MID(AJ23,3,2),\"_\",MID(AJ23,8,2))","v":"GJ_vehic_instit_19_20"},null,{"$f":"CONCATENATE(\"GJ_vehic_instit_\",MID(AL23,3,2),\"_\",MID(AL23,8,2))","v":"GJ_vehic_instit_20_21"},null,{"$f":"CONCATENATE(\"GJ_vehic_instit_\",MID(AN23,3,2),\"_\",MID(AN23,8,2))","v":"GJ_vehic_instit_21_22"}]
[null,null,null,"ESTIMATION DES ÉMISSIONS DE GAZ À EFFET DE SERRE",null,null,null,null,null,null,null,"ESTIMATION DES ÉMISSIONS DE GAZ À EFFET DE SERRE",null,null,null,null,null,null,null,"ESTIMATION DES ÉMISSIONS DE GAZ À EFFET DE SERRE",null,null,null,null,null,null,null,"ESTIMATION DES ÉMISSIONS DE GAZ À EFFET DE SERRE",null,null,null,null,null,"ESTIMATION DES ÉMISSIONS DE GAZ À EFFET DE SERRE"]
[null,"2002-2003",null,"2003-2004",null,"2004-2005",null,"2005-2006",null,"2006-2007",null,"2007-2008",null,"2008-2009",null,"2009-2010",null,"2010-2011",null,"2011-2012",null,"2012-2013",null,"2013-2014",null,"2014-2015",null,"2015-2016",null,"2016-2017",null,"2017-2018",null,"2018-2019",null,"2019-2020",null,"2020-2021",null,"2021-2022",null,"2022-2023",null,"2023-2024",null,"2024-2025"]
["Émissions des carburants traditionnels"]
["Essence [t CO2 éq.]",{"$f":"B25*L_ess_to_GES","v":0},null,{"$f":"D25*L_ess_to_GES","v":0},null,{"$f":"F25*L_ess_to_GES","v":0},null,{"$f":"H25*L_ess_to_GES","v":0},null,{"$f":"J25*L_ess_to_GES","v":0},null,{"$f":"L25*L_ess_to_GES","v":0},null,{"$f":"N25*L_ess_to_GES","v":0},null,{"$f":"P25*L_ess_to_GES","v":0},null,{"$f":"R25*L_ess_to_GES","v":0},null,{"$f":"T25*L_ess_to_GES","v":0},null,{"$f":"V25*L_ess_to_GES","v":0},null,{"$f":"X25*L_ess_to_GES","v":0},null,{"$f":"Z25*L_ess_to_GES","v":0},null,{"$f":"AB25*L_ess_to_GES","v":0},null,{"$f":"AD25*L_ess_to_GES","v":0},null,{"$f":"AF25*L_ess_to_GES","v":0},null,{"$f":"AH25*L_ess_to_GES","v":0},null,{"$f":"AJ25*L_ess_to_GES","v":0},null,{"$f":"AL25*L_ess_to_GES","v":0},null,{"$f":"AN25*L_ess_to_GES","v":0},null,{"$f":"AP25*L_ess_to_GES","v":0},null,{"$f":"AR25*L_ess_to_GES","v":0},null,{"$f":"AT25*L_ess_to_GES","v":0}]
["Diesel [t CO2 éq.]",{"$f":"B26*L_dies_to_GES","v":0},null,{"$f":"D26*L_dies_to_GES","v":0},null,{"$f":"F26*L_dies_to_GES","v":0},null,{"$f":"H26*L_dies_to_GES","v":0},null,{"$f":"J26*L_dies_to_GES","v":0},null,{"$f":"L26*L_dies_to_GES","v":0},null,{"$f":"N26*L_dies_to_GES","v":0},null,{"$f":"P26*L_dies_to_GES","v":0},null,{"$f":"R26*L_dies_to_GES","v":0},null,{"$f":"T26*L_dies_to_GES","v":0},null,{"$f":"V26*L_dies_to_GES","v":0},null,{"$f":"X26*L_dies_to_GES","v":0},null,{"$f":"Z26*L_dies_to_GES","v":0},null,{"$f":"AB26*L_dies_to_GES","v":0},null,{"$f":"AD26*L_dies_to_GES","v":0},null,{"$f":"AF26*L_dies_to_GES","v":0},null,{"$f":"AH26*L_dies_to_GES","v":0},null,{"$f":"AJ26*L_dies_to_GES","v":0},null,{"$f":"AL26*L_dies_to_GES","v":0},null,{"$f":"AN26*L_dies_to_GES","v":0},null,{"$f":"AP26*L_dies_to_GES","v":0},null,{"$f":"AR26*L_dies_to_GES","v":0},null,{"$f":"AT26*L_dies_to_GES","v":0}]
["Gaz naturel [t CO2 éq.]",{"$f":"B27*m3_gn_to_GES","v":0},null,{"$f":"D27*m3_gn_to_GES","v":0},null,{"$f":"F27*m3_gn_to_GES","v":0},null,{"$f":"H27*m3_gn_to_GES","v":0},null,{"$f":"J27*m3_gn_to_GES","v":0},null,{"$f":"L27*m3_gn_to_GES","v":0},null,{"$f":"N27*m3_gn_to_GES","v":0},null,{"$f":"P27*m3_gn_to_GES","v":0},null,{"$f":"R27*m3_gn_to_GES","v":0},null,{"$f":"T27*m3_gn_to_GES","v":0},null,{"$f":"V27*m3_gn_to_GES","v":0},null,{"$f":"X27*m3_gn_to_GES","v":0},null,{"$f":"Z27*m3_gn_to_GES","v":0},null,{"$f":"IFERROR(AB27*m3_gn_to_GES,0)","v":0},null,{"$f":"AD27*m3_gn_to_GES","v":0},null,{"$f":"AF27*m3_gn_to_GES","v":0},null,{"$f":"AH27*m3_gn_to_GES","v":0},null,{"$f":"AJ27*m3_gn_to_GES","v":0},null,{"$f":"AL27*m3_gn_to_GES","v":0},null,{"$f":"AN27*m3_gn_to_GES","v":0},null,{"$f":"AP27*m3_gn_to_GES","v":0},null,{"$f":"AR27*m3_gn_to_GES","v":0},null,{"$f":"AT27*m3_gn_to_GES","v":0}]
["Propane [t CO2 éq.]",{"$f":"B28*L_prop_to_GES","v":0},null,{"$f":"D28*L_prop_to_GES","v":0},null,{"$f":"F28*L_prop_to_GES","v":0},null,{"$f":"H28*L_prop_to_GES","v":0},null,{"$f":"J28*L_prop_to_GES","v":0},null,{"$f":"L28*L_prop_to_GES","v":0},null,{"$f":"N28*L_prop_to_GES","v":0},null,{"$f":"P28*L_prop_to_GES","v":0},null,{"$f":"R28*L_prop_to_GES","v":0},null,{"$f":"T28*L_prop_to_GES","v":0},null,{"$f":"V28*L_prop_to_GES","v":0},null,{"$f":"X28*L_prop_to_GES","v":0},null,{"$f":"Z28*L_prop_to_GES","v":0},null,{"$f":"IFERROR(AB28*L_prop_to_GES,0)","v":0},null,{"$f":"AD28*L_prop_to_GES","v":0},null,{"$f":"AF28*L_prop_to_GES","v":0},null,{"$f":"AH28*L_prop_to_GES","v":0},null,{"$f":"AJ28*L_prop_to_GES","v":0},null,{"$f":"AL28*L_prop_to_GES","v":0},null,{"$f":"AN28*L_prop_to_GES","v":0},null,{"$f":"AP28*L_prop_to_GES","v":0},null,{"$f":"AR28*L_prop_to_GES","v":0},null,{"$f":"AT28*L_prop_to_GES","v":0}]
[]
["Émissions des biocarburants"]
["Essence éthanol [t CO2 éq.]",{"$f":"B31*L_esseth_to_GES","v":0},null,{"$f":"D31*L_esseth_to_GES","v":0},null,{"$f":"F31*L_esseth_to_GES","v":0},null,{"$f":"H31*L_esseth_to_GES","v":0},null,{"$f":"J31*L_esseth_to_GES","v":0},null,{"$f":"L31*L_esseth_to_GES","v":0},null,{"$f":"N31*L_esseth_to_GES","v":0},null,{"$f":"P31*L_esseth_to_GES","v":0},null,{"$f":"R31*L_esseth_to_GES","v":0},null,{"$f":"T31*L_esseth_to_GES","v":0},null,{"$f":"V31*L_esseth_to_GES","v":0},null,{"$f":"X31*L_esseth_to_GES","v":0},null,{"$f":"Z31*L_esseth_to_GES","v":0},null,{"$f":"AB31*L_esseth_to_GES","v":0},null,{"$f":"AD31*L_esseth_to_GES","v":0},null,{"$f":"AF31*L_esseth_to_GES","v":0},null,{"$f":"AH31*L_esseth_to_GES","v":0},null,{"$f":"AJ31*L_esseth_to_GES","v":0},null,{"$f":"AL31*L_esseth_to_GES","v":0},null,{"$f":"AN31*L_esseth_to_GES","v":0},null,{"$f":"AP31*L_esseth_to_GES","v":0},null,{"$f":"AR31*L_esseth_to_GES","v":0},null,{"$f":"AT31*L_esseth_to_GES","v":0}]
["Biodiesel [t CO2 éq.]",{"$f":"B32*L_biodies_to_GES","v":0},null,{"$f":"D32*L_biodies_to_GES","v":0},null,{"$f":"F32*L_biodies_to_GES","v":0},null,{"$f":"H32*L_biodies_to_GES","v":0},null,{"$f":"J32*L_biodies_to_GES","v":0},null,{"$f":"L32*L_biodies_to_GES","v":0},null,{"$f":"N32*L_biodies_to_GES","v":0},null,{"$f":"P32*L_biodies_to_GES","v":0},null,{"$f":"R32*L_biodies_to_GES","v":0},null,{"$f":"T32*L_biodies_to_GES","v":0},null,{"$f":"V32*L_biodies_to_GES","v":0},null,{"$f":"X32*L_biodies_to_GES","v":0},null,{"$f":"Z32*L_biodies_to_GES","v":0},null,{"$f":"AB32*L_biodies_to_GES","v":0},null,{"$f":"AD32*L_biodies_to_GES","v":0},null,{"$f":"AF32*L_biodies_to_GES","v":0},null,{"$f":"AH32*L_biodies_to_GES","v":0},null,{"$f":"AJ32*L_biodies_to_GES","v":0},null,{"$f":"AL32*L_biodies_to_GES","v":0},null,{"$f":"AN32*L_biodies_to_GES","v":0},null,{"$f":"AP32*L_biodies_to_GES","v":0},null,{"$f":"AR32*L_biodies_to_GES","v":0},null,{"$f":"AT32*L_biodies_to_GES","v":0}]
[]
["Total [t CO2 éq.]",{"$f":"B41+B42+B43+B44+B47+B48","v":0},null,{"$f":"D41+D42+D43+D44+D47+D48","v":0},null,{"$f":"F41+F42+F43+F44+F47+F48","v":0},null,{"$f":"H41+H42+H43+H44+H47+H48","v":0},null,{"$f":"J41+J42+J43+J44+J47+J48","v":0},null,{"$f":"L41+L42+L43+L44+L47+L48","v":0},null,{"$f":"N41+N42+N43+N44+N47+N48","v":0},null,{"$f":"P41+P42+P43+P44+P47+P48","v":0},null,{"$f":"R41+R42+R43+R44+R47+R48","v":0},null,{"$f":"T41+T42+T43+T44+T47+T48","v":0},null,{"$f":"V41+V42+V43+V44+V47+V48","v":0},null,{"$f":"X41+X42+X43+X44+X47+X48","v":0},null,{"$f":"Z41+Z42+Z43+Z44+Z47+Z48","v":0},null,{"$f":"AB41+AB42+AB43+AB44+AB47+AB48","v":0},null,{"$f":"AD41+AD42+AD43+AD44+AD47+AD48","v":0},null,{"$f":"AF41+AF42+AF43+AF44+AF47+AF48","v":0},null,{"$f":"AH41+AH42+AH43+AH44+AH47+AH48","v":0},null,{"$f":"AJ41+AJ42+AJ43+AJ44+AJ47+AJ48","v":0},null,{"$f":"AL41+AL42+AL43+AL44+AL47+AL48","v":0},null,{"$f":"AN41+AN42+AN43+AN44+AN47+AN48","v":0},null,{"$f":"AP41+AP42+AP43+AP44+AP47+AP48","v":0},null,{"$f":"AR41+AR42+AR43+AR44+AR47+AR48","v":0},null,{"$f":"AT41+AT42+AT43+AT44+AT47+AT48","v":0}]
[null,{"$f":"CONCATENATE(\"GES_vehic_instit_\",MID(B39,3,2),\"_\",MID(B39,8,2))","v":"GES_vehic_instit_02_03"},null,{"$f":"CONCATENATE(\"GES_vehic_instit_\",MID(D39,3,2),\"_\",MID(D39,8,2))","v":"GES_vehic_instit_03_04"},null,{"$f":"CONCATENATE(\"GES_vehic_instit_\",MID(F39,3,2),\"_\",MID(F39,8,2))","v":"GES_vehic_instit_04_05"},null,{"$f":"CONCATENATE(\"GES_vehic_instit_\",MID(H39,3,2),\"_\",MID(H39,8,2))","v":"GES_vehic_instit_05_06"},null,{"$f":"CONCATENATE(\"GES_vehic_instit_\",MID(J39,3,2),\"_\",MID(J39,8,2))","v":"GES_vehic_instit_06_07"},null,{"$f":"CONCATENATE(\"GES_vehic_instit_\",MID(L39,3,2),\"_\",MID(L39,8,2))","v":"GES_vehic_instit_07_08"},null,{"$f":"CONCATENATE(\"GES_vehic_instit_\",MID(N39,3,2),\"_\",MID(N39,8,2))","v":"GES_vehic_instit_08_09"},null,{"$f":"CONCATENATE(\"GES_vehic_instit_\",MID(P39,3,2),\"_\",MID(P39,8,2))","v":"GES_vehic_instit_09_10"},null,{"$f":"CONCATENATE(\"GES_vehic_instit_\",MID(R39,3,2),\"_\",MID(R39,8,2))","v":"GES_vehic_instit_10_11"},null,{"$f":"CONCATENATE(\"GES_vehic_instit_\",MID(T39,3,2),\"_\",MID(T39,8,2))","v":"GES_vehic_instit_11_12"},null,{"$f":"CONCATENATE(\"GES_vehic_instit_\",MID(V39,3,2),\"_\",MID(V39,8,2))","v":"GES_vehic_instit_12_13"},null,{"$f":"CONCATENATE(\"GES_vehic_instit_\",MID(X39,3,2),\"_\",MID(X39,8,2))","v":"GES_vehic_instit_13_14"},null,{"$f":"CONCATENATE(\"GES_vehic_instit_\",MID(Z39,3,2),\"_\",MID(Z39,8,2))","v":"GES_vehic_instit_14_15"},null,{"$f":"CONCATENATE(\"GES_vehic_instit_\",MID(AB39,3,2),\"_\",MID(AB39,8,2))","v":"GES_vehic_instit_15_16"},null,{"$f":"CONCATENATE(\"GES_vehic_instit_\",MID(AD39,3,2),\"_\",MID(AD39,8,2))","v":"GES_vehic_instit_16_17"},null,{"$f":"CONCATENATE(\"GES_vehic_instit_\",MID(AF39,3,2),\"_\",MID(AF39,8,2))","v":"GES_vehic_instit_17_18"},null,{"$f":"CONCATENATE(\"GES_vehic_instit_\",MID(AH39,3,2),\"_\",MID(AH39,8,2))","v":"GES_vehic_instit_18_19"},null,{"$f":"CONCATENATE(\"GES_vehic_instit_\",MID(AJ39,3,2),\"_\",MID(AJ39,8,2))","v":"GES_vehic_instit_19_20"},null,{"$f":"CONCATENATE(\"GES_vehic_instit_\",MID(AL39,3,2),\"_\",MID(AL39,8,2))","v":"GES_vehic_instit_20_21"},null,{"$f":"CONCATENATE(\"GES_vehic_instit_\",MID(AN39,3,2),\"_\",MID(AN39,8,2))","v":"GES_vehic_instit_21_22"}]

{"sheet":"2. CARBURANT (Véhicules lourds)","index":3,"n_rows":51,"n_cols":47,"rows_kept":51,"cut":false,"hidden":false,"merged":[[0,25,0,30]]}
[null,null,null,null,null,null,null,null,null,null,null,null,null,null,null,null,null,null,null,null,null,null,null,null,null,"Ce tableau est réservé aux données de véhicules de l'organisme (celles relatives aux véhicules de location de courte durée ou aux véhicules personnels doivent être saisies dans l'onglet 3. KM POLLUANTS)"]
[null," Saisir les données de dépenses annuelles, avant taxes, dans les cellules ombragées en bleu pâle.",null,null,null,null,null,null,"Réél",null,null," Saisir les données de dépenses annuelles, avant taxes, dans les cellules ombragées en bleu pâle.",null,null,null,null,null,null,null,null,null,null,null,null,null,null,null," Saisir les données de dépenses annuelles, avant taxes, dans les cellules ombragées en bleu pâle."]
[null,null,null,null,null,null,null,null,"Estimé"]
[null," Si des données de consommation de carburant sont disponibles, utiliser les",null,null,null,null,null,null,null,null,null," Si des données de consommation de carburant sont disponibles, utiliser les",null,null,null,null,null,null,null,null,null,null,null,null,null,null,null," Si des données de consommation de carburant sont disponibles, utiliser les ombragées en vert pâle"]
[null,null,null,null,null,null,null,"cellules ombragées en vert pâle ou en jaune pâle, après avoir choisi \" Réel \" dans la colonne R/E. ",null,null,null,null,null,null,null,null,null,null,null,null,null,null,null,null,null,null,null," ou en jaune pâle,    après avoir choisi \" Réel \" dans la colonne R/E. ",null,null,null,null,null,null,null,"cellules ombragées en vert pâle ou en jaune pâle, après avoir choisi \" Réel \" dans la colonne R/E. "]
[]
[]
[null,null,null,"DÉPENSES ANNUELLES EN CARBURANT",null,null,null,null,null,null,null,null,null,"DÉPENSES ANNUELLES EN CARBURANT",null,null,null,null,null,null,null,null,null,null,null,null,null,null,null,"DÉPENSES ANNUELLES EN CARBURANT"]
[null,"2002-2003",null,"2003-2004",null,"2004-2005",null,"2005-2006",null,"2006-2007",null,"2007-2008",null,"2008-2009",null,"2009-2010",null,"2010-2011",null,"2011-2012",null,"2012-2013",null,"2013-2014",null,"2014-2015",null,"2015-2016",null,"2016-2017",null,"2017-2018",null,"2018-2019",null,"2019-2020",null,"2020-2021",null,"2021-2022",null,"2022-2023",null,"2023-2024",null,"2024-2025"]
["Dépenses des carburants traditionnels"]
["Essence [$]"]
["Diesel [$]"]
["Gaz naturel [$]"]
["Propane [$]"]
[]
["Dépenses en biocarburants"]
["Essence éthanol  [$]"]
["Biodiesel [$]"]
[]
["Total [$]",{"$f":"SUM(B11:B14,B17:B18)","v":0},null,{"$f":"SUM(D11:D14,D17:D18)","v":0},null,{"$f":"SUM(F11:F14,F17:F18)","v":0},null,{"$f":"SUM(H11:H14,H17:H18)","v":0},null,{"$f":"SUM(J11:J14,J17:J18)","v":0},null,{"$f":"SUM(L11:L14,L17:L18)","v":0},null,{"$f":"SUM(N11:N14,N17:N18)","v":0},null,{"$f":"SUM(P11:P14,P17:P18)","v":0},null,{"$f":"SUM(R11:R14,R17:R18)","v":0},null,{"$f":"SUM(T11:T14,T17:T18)","v":0},null,{"$f":"SUM(V11:V14,V17:V18)","v":0},null,{"$f":"SUM(X11:X14,X17:X18)","v":0},null,{"$f":"SUM(Z11:Z14,Z17:Z18)","v":0},null,{"$f":"SUM(AB11:AB14,AB17:AB18)","v":0},null,{"$f":"SUM(AD11:AD14,AD17:AD18)","v":0},null,{"$f":"SUM(AF11:AF14,AF17:AF18)","v":0},null,{"$f":"SUM(AH11:AH14,AH17:AH18)","v":0},null,{"$f":"SUM(AJ11:AJ14,AJ17:AJ18)","v":0},null,{"$f":"SUM(AL11:AL14,AL17:AL18)","v":0},null,{"$f":"SUM(AN11:AN14,AN17:AN18)","v":0},null,{"$f":"SUM(AP11:AP14,AP17:AP18)","v":0},null,{"$f":"SUM(AR11:AR14,AR17:AR18)","v":0},null,{"$f":"SUM(AT11:AT14,AT17:AT18)","v":0}]
[null,null,null,{"$f":"CONCATENATE(\"CAD_vehic_instit_\",MID(D9,3,2),\"_\",MID(D9,8,2))","v":"CAD_vehic_instit_03_04"},null,{"$f":"CONCATENATE(\"CAD_vehic_instit_\",MID(F9,3,2),\"_\",MID(F9,8,2))","v":"CAD_vehic_instit_04_05"},null,{"$f":"CONCATENATE(\"CAD_vehic_instit_\",MID(H9,3,2),\"_\",MID(H9,8,2))","v":"CAD_vehic_instit_05_06"},null,{"$f":"CONCATENATE(\"CAD_vehic_instit_\",MID(J9,3,2),\"_\",MID(J9,8,2))","v":"CAD_vehic_instit_06_07"},null,{"$f":"CONCATENATE(\"CAD_vehic_instit_\",MID(L9,3,2),\"_\",MID(L9,8,2))","v":"CAD_vehic_instit_07_08"},null,{"$f":"CONCATENATE(\"CAD_vehic_instit_\",MID(N9,3,2),\"_\",MID(N9,8,2))","v":"CAD_vehic_instit_08_09"},null,{"$f":"CONCATENATE(\"CAD_vehic_instit_\",MID(P9,3,2),\"_\",MID(P9,8,2))","v":"CAD_vehic_instit_09_10"},null,{"$f":"CONCATENATE(\"CAD_vehic_instit_\",MID(R9,3,2),\"_\",MID(R9,8,2))","v":"CAD_vehic_instit_10_11"},null,{"$f":"CONCATENATE(\"CAD_vehic_instit_\",MID(T9,3,2),\"_\",MID(T9,8,2))","v":"CAD_vehic_instit_11_12"},null,{"$f":"CONCATENATE(\"CAD_vehic_instit_\",MID(V9,3,2),\"_\",MID(V9,8,2))","v":"CAD_vehic_instit_12_13"},null,{"$f":"CONCATENATE(\"CAD_vehic_instit_\",MID(X9,3,2),\"_\",MID(X9,8,2))","v":"CAD_vehic_instit_13_14"},null,{"$f":"CONCATENATE(\"CAD_vehic_instit_\",MID(Z9,3,2),\"_\",MID(Z9,8,2))","v":"CAD_vehic_instit_14_15"},null,{"$f":"CONCATENATE(\"CAD_vehic_instit_\",MID(AB9,3,2),\"_\",MID(AB9,8,2))","v":"CAD_vehic_instit_15_16"},null,{"$f":"CONCATENATE(\"CAD_vehic_instit_\",MID(AD9,3,2),\"_\",MID(AD9,8,2))","v":"CAD_vehic_instit_16_17"},null,{"$f":"CONCATENATE(\"CAD_vehic_instit_\",MID(AF9,3,2),\"_\",MID(AF9,8,2))","v":"CAD_vehic_instit_17_18"},null,{"$f":"CONCATENATE(\"CAD_vehic_instit_\",MID(AH9,3,2),\"_\",MID(AH9,8,2))","v":"CAD_vehic_instit_18_19"},null,{"$f":"CONCATENATE(\"CAD_vehic_instit_\",MID(AJ9,3,2),\"_\",MID(AJ9,8,2))","v":"CAD_vehic_instit_19_20"},null,{"$f":"CONCATENATE(\"CAD_vehic_instit_\",MID(AL9,3,2),\"_\",MID(AL9,8,2))","v":"CAD_vehic_instit_20_21"},null,{"$f":"CONCATENATE(\"CAD_vehic_instit_\",MID(AN9,3,2),\"_\",MID(AN9,8,2))","v":"CAD_vehic_instit_21_22"}]
[null,null,null,"VOLUME DE CARBURANT CONSOMMÉ ANNUELLEMENT",null,null,null,null,null,null,null,"VOLUME DE CARBURANT CONSOMMÉ ANNUELLEMENT",null,null,null,null,null,null,null,"VOLUME DE CARBURANT CONSOMMÉ ANNUELLEMENT",null,null,null,null,null,null,null,"VOLUME DE CARBURANT CONSOMMÉ ANNUELLEMENT",null,null,null,null,null,"VOLUME DE CARBURANT CONSOMMÉ ANNUELLEMENT"]
[null,"2002-2003","R/E","2003-2004","R/E","2004-2005","R/E","2005-2006","R/E","2006-2007","R/E","2007-2008","R/E","2008-2009","R/E","2009-2010","R/E","2010-2011","R/E","2011-2012","R/E","2012-2013","R/E","2013-2014","R/E","2014-2015","R/E","2015-2016","R/E","2016-2017","R/E","2017-2018","R/E","2018-2019","R/E","2019-2020","R/E","2020-2021","R/E","2021-2022","R/E","2022-2023","R/E","2023-2024","R/E","2024-2025","R/E"]
["Consommation des carburants traditionnels"]
["Essence [litres]",{"$f":"IF(C25=\"Estimé\",B11/INDEX(plage_conv,MATCH($A25,plage_tag,0),MATCH($B$23,plage_an,0)),\"Insérer valeur Réelle\")","v":0},"Estimé",{"$f":"IF(E25=\"Estimé\",D11/INDEX(plage_conv,MATCH($A25,plage_tag,0),MATCH($D$23,plage_an,0)),\"Insérer valeur Réelle\")","v":0},"Estimé",{"$f":"IF(G25=\"Estimé\",F11/INDEX(plage_conv,MATCH($A25,plage_tag,0),MATCH($F$23,plage_an,0)),\"Insérer valeur Réelle\")","v":0},"Estimé",{"$f":"IF(I25=\"Estimé\",H11/INDEX(plage_conv,MATCH($A25,plage_tag,0),MATCH($H$23,plage_an,0)),\"Insérer valeur Réelle\")","v":0},"Estimé",{"$f":"IF(K25=\"Estimé\",J11/INDEX(plage_conv,MATCH($A25,plage_tag,0),MATCH($J$23,plage_an,0)),\"Insérer valeur Réelle\")","v":0},"Estimé",{"$f":"IF(M25=\"Estimé\",L11/INDEX(plage_conv,MATCH($A25,plage_tag,0),MATCH($L$23,plage_an,0)),\"Insérer valeur Réelle\")","v":0},"Estimé",{"$f":"IF(O25=\"Estimé\",N11/INDEX(plage_conv,MATCH($A25,plage_tag,0),MATCH($N$23,plage_an,0)),\"Insérer valeur Réelle\")","v":0},"Estimé",{"$f":"IF(Q25=\"Estimé\",P11/INDEX(plage_conv,MATCH($A25,plage_tag,0),MATCH(P$23,plage_an,0)),\"Insérer valeur Réelle\")","v":0},"Estimé",{"$f":"IF(S25=\"Estimé\",R11/INDEX(plage_conv,MATCH($A25,plage_tag,0),MATCH(R$23,plage_an,0)),\"Insérer valeur Réelle\")","v":0},"Estimé",{"$f":"IF(U25=\"Estimé\",T11/INDEX(plage_conv,MATCH($A25,plage_tag,0),MATCH(T$23,plage_an,0)),\"Insérer valeur Réelle\")","v":0},"Estimé",{"$f":"IF(W25=\"Estimé\",V11/INDEX(plage_conv,MATCH($A25,plage_tag,0),MATCH(V$23,plage_an,0)),\"Insérer valeur Réelle\")","v":0},"Estimé",{"$f":"IF(Y25=\"Estimé\",X11/INDEX(plage_conv,MATCH($A25,plage_tag,0),MATCH(X$23,plage_an,0)),\"Insérer valeur Réelle\")","v":0},"Estimé",{"$f":"IF(AA25=\"Estimé\",Z11/INDEX(plage_conv,MATCH($A25,plage_tag,0),MATCH(Z$23,plage_an,0)),\"Insérer valeur Réelle\")","v":0},"Estimé",{"$f":"IF(AC25=\"Estimé\",AB11/INDEX(plage_conv,MATCH($A25,plage_tag,0),MATCH(AB$23,plage_an,0)),\"Insérer valeur Réelle\")","v":0},"Estimé",{"$f":"IF(AE25=\"Estimé\",AD11/INDEX(plage_conv,MATCH($A25,plage_tag,0),MATCH(AD$23,plage_an,0)),\"Insérer valeur Réelle\")","v":0},"Estimé",{"$f":"IF(AG25=\"Estimé\",AF11/INDEX(plage_conv,MATCH($A25,plage_tag,0),MATCH(AF$23,plage_an,0)),\"Insérer valeur Réelle\")","v":0},"Estimé",{"$f":"IF(AI25=\"Estimé\",AH11/INDEX(plage_conv,MATCH($A25,plage_tag,0),MATCH(AH$23,plage_an,0)),\"Insérer valeur Réelle\")","v":0},"Estimé",{"$f":"IF(AK25=\"Estimé\",AJ11/INDEX(plage_conv,MATCH($A25,plage_tag,0),MATCH(AJ$23,plage_an,0)),\"Insérer valeur Réelle\")","v":0},"Estimé",{"$f":"IF(AM25=\"Estimé\",AL11/INDEX(plage_conv,MATCH($A25,plage_tag,0),MATCH(AL$23,plage_an,0)),\"Insérer valeur Réelle\")","v":0},"Estimé",{"$f":"IF(AO25=\"Estimé\",AN11/INDEX(plage_conv,MATCH($A25,plage_tag,0),MATCH(AN$23,plage_an,0)),\"Insérer valeur Réelle\")","v":0},"Estimé",{"$f":"IF(AQ25=\"Estimé\",AP11/INDEX(plage_conv,MATCH($A25,plage_tag,0),MATCH(AP$23,plage_an,0)),\"Insérer valeur Réelle\")","v":0},"Estimé",{"$f":"IF(AS25=\"Estimé\",AR11/INDEX(plage_conv,MATCH($A25,plage_tag,0),MATCH(AR$23,plage_an,0)),\"Insérer valeur Réelle\")","v":0},"Estimé",{"$f":"IF(AU25=\"Estimé\",AT11/INDEX(plage_conv,MATCH($A25,plage_tag,0),MATCH(AT$23,plage_an,0)),\"Insérer valeur Réelle\")","v":0},"Estimé"]
["Diesel  [litres]",{"$f":"IF(C26=\"Estimé\",B12/INDEX(plage_conv,MATCH($A26,plage_tag,0),MATCH($B$23,plage_an,0)),\"Insérer valeur Réelle\")","v":0},"Estimé",{"$f":"IF(E26=\"Estimé\",D12/INDEX(plage_conv,MATCH($A26,plage_tag,0),MATCH($D$23,plage_an,0)),\"Insérer valeur Réelle\")","v":0},"Estimé",{"$f":"IF(G26=\"Estimé\",F12/INDEX(plage_conv,MATCH($A26,plage_tag,0),MATCH($F$23,plage_an,0)),\"Insérer valeur Réelle\")","v":0},"Estimé",{"$f":"IF(I26=\"Estimé\",H12/INDEX(plage_conv,MATCH($A26,plage_tag,0),MATCH($H$23,plage_an,0)),\"Insérer valeur Réelle\")","v":0},"Estimé",{"$f":"IF(K26=\"Estimé\",J12/INDEX(plage_conv,MATCH($A26,plage_tag,0),MATCH($J$23,plage_an,0)),\"Insérer valeur Réelle\")","v":0},"Estimé",{"$f":"IF(M26=\"Estimé\",L12/INDEX(plage_conv,MATCH($A26,plage_tag,0),MATCH($L$23,plage_an,0)),\"Insérer valeur Réelle\")","v":0},"Estimé",{"$f":"IF(O26=\"Estimé\",N12/INDEX(plage_conv,MATCH($A26,plage_tag,0),MATCH($N$23,plage_an,0)),\"Insérer valeur Réelle\")","v":0},"Estimé",{"$f":"IF(Q26=\"Estimé\",P12/INDEX(plage_conv,MATCH($A26,plage_tag,0),MATCH(P$23,plage_an,0)),\"Insérer valeur Réelle\")","v":0},"Estimé",{"$f":"IF(S26=\"Estimé\",R12/INDEX(plage_conv,MATCH($A26,plage_tag,0),MATCH(R$23,plage_an,0)),\"Insérer valeur Réelle\")","v":0},"Estimé",{"$f":"IF(U26=\"Estimé\",T12/INDEX(plage_conv,MATCH($A26,plage_tag,0),MATCH(T$23,plage_an,0)),\"Insérer valeur Réelle\")","v":0},"Estimé",{"$f":"IF(W26=\"Estimé\",V12/INDEX(plage_conv,MATCH($A26,plage_tag,0),MATCH(V$23,plage_an,0)),\"Insérer valeur Réelle\")","v":0},"Estimé",{"$f":"IF(Y26=\"Estimé\",X12/INDEX(plage_conv,MATCH($A26,plage_tag,0),MATCH(X$23,plage_an,0)),\"Insérer valeur Réelle\")","v":0},"Estimé",{"$f":"IF(AA26=\"Estimé\",Z12/INDEX(plage_conv,MATCH($A26,plage_tag,0),MATCH(Z$23,plage_an,0)),\"Insérer valeur Réelle\")","v":0},"Estimé",{"$f":"IF(AC26=\"Estimé\",AB12/INDEX(plage_conv,MATCH($A26,plage_tag,0),MATCH(AB$23,plage_an,0)),\"Insérer valeur Réelle\")","v":0},"Estimé",{"$f":"IF(AE26=\"Estimé\",AD12/INDEX(plage_conv,MATCH($A26,plage_tag,0),MATCH(AD$23,plage_an,0)),\"Insérer valeur Réelle\")","v":0},"Estimé",{"$f":"IF(AG26=\"Estimé\",AF12/INDEX(plage_conv,MATCH($A26,plage_tag,0),MATCH(AF$23,plage_an,0)),\"Insérer valeur Réelle\")","v":0},"Estimé",{"$f":"IF(AI26=\"Estimé\",AH12/INDEX(plage_conv,MATCH($A26,plage_tag,0),MATCH(AH$23,plage_an,0)),\"Insérer valeur Réelle\")","v":0},"Estimé",{"$f":"IF(AK26=\"Estimé\",AJ12/INDEX(plage_conv,MATCH($A26,plage_tag,0),MATCH(AJ$23,plage_an,0)),\"Insérer valeur Réelle\")","v":0},"Estimé",{"$f":"IF(AM26=\"Estimé\",AL12/INDEX(plage_conv,MATCH($A26,plage_tag,0),MATCH(AL$23,plage_an,0)),\"Insérer valeur Réelle\")","v":0},"Estimé",{"$f":"IF(AO26=\"Estimé\",AN12/INDEX(plage_conv,MATCH($A26,plage_tag,0),MATCH(AN$23,plage_an,0)),\"Insérer valeur Réelle\")","v":0},"Estimé",{"$f":"IF(AQ26=\"Estimé\",AP12/INDEX(plage_conv,MATCH($A26,plage_tag,0),MATCH(AP$23,plage_an,0)),\"Insérer valeur Réelle\")","v":0},"Estimé",{"$f":"IF(AS26=\"Estimé\",AR12/INDEX(plage_conv,MATCH($A26,plage_tag,0),MATCH(AR$23,plage_an,0)),\"Insérer valeur Réelle\")","v":0},"Estimé",{"$f":"IF(AU26=\"Estimé\",AT12/INDEX(plage_conv,MATCH($A26,plage_tag,0),MATCH(AT$23,plage_an,0)),\"Insérer valeur Réelle\")","v":0},"Estimé"]
["Gaz naturel [m³]",{"$f":"IF(C27=\"Estimé\",B13/INDEX(plage_conv,MATCH($A27,plage_tag,0),MATCH($B$23,plage_an,0)),\"Insérer valeur Réelle\")","v":0},"Estimé",{"$f":"IF(E27=\"Estimé\",D13/INDEX(plage_conv,MATCH($A27,plage_tag,0),MATCH($D$23,plage_an,0)),\"Insérer valeur Réelle\")","v":0},"Estimé",{"$f":"IF(G27=\"Estimé\",F13/INDEX(plage_conv,MATCH($A27,plage_tag,0),MATCH($F$23,plage_an,0)),\"Insérer valeur Réelle\")","v":0},"Estimé",{"$f":"IF(I27=\"Estimé\",H13/INDEX(plage_conv,MATCH($A27,plage_tag,0),MATCH($H$23,plage_an,0)),\"Insérer valeur Réelle\")","v":0},"Estimé",{"$f":"IF(K27=\"Estimé\",J13/INDEX(plage_conv,MATCH($A27,plage_tag,0),MATCH($J$23,plage_an,0)),\"Insérer valeur Réelle\")","v":0},"Estimé",{"$f":"IF(M27=\"Estimé\",L13/INDEX(plage_conv,MATCH($A27,plage_tag,0),MATCH($L$23,plage_an,0)),\"Insérer valeur Réelle\")","v":0},"Estimé",{"$f":"IF(O27=\"Estimé\",N13/INDEX(plage_conv,MATCH($A27,plage_tag,0),MATCH($N$23,plage_an,0)),\"Insérer valeur Réelle\")","v":0},"Estimé",{"$f":"IF(Q27=\"Estimé\",P13/INDEX(plage_conv,MATCH($A27,plage_tag,0),MATCH(P$23,plage_an,0)),\"Insérer valeur Réelle\")","v":0},"Estimé",{"$f":"IF(S27=\"Estimé\",R13/INDEX(plage_conv,MATCH($A27,plage_tag,0),MATCH(R$23,plage_an,0)),\"Insérer valeur Réelle\")","v":0},"Estimé",{"$f":"IF(U27=\"Estimé\",T13/INDEX(plage_conv,MATCH($A27,plage_tag,0),MATCH(T$23,plage_an,0)),\"Insérer valeur Réelle\")","v":0},"Estimé",{"$f":"IF(W27=\"Estimé\",V13/INDEX(plage_conv,MATCH($A27,plage_tag,0),MATCH(V$23,plage_an,0)),\"Insérer valeur Réelle\")","v":0},"Estimé",{"$f":"IF(Y27=\"Estimé\",X13/INDEX(plage_conv,MATCH($A27,plage_tag,0),MATCH(X$23,plage_an,0)),\"Insérer valeur Réelle\")","v":0},"Estimé",0,"Estimé",0,"Réél",0,"Estimé",0,"Estimé",0,"Estimé",0,"Estimé",0,"Estimé",0,"Estimé",0,"Estimé",0,"Estimé",0,"Estimé"]
["Propane  [litres]",{"$f":"IF(C28=\"Estimé\",B14/INDEX(plage_conv,MATCH($A28,plage_tag,0),MATCH($B$23,plage_an,0)),\"Insérer valeur Réelle\")","v":0},"Estimé",{"$f":"IF(E28=\"Estimé\",D14/INDEX(plage_conv,MATCH($A28,plage_tag,0),MATCH($D$23,plage_an,0)),\"Insérer valeur Réelle\")","v":0},"Estimé",{"$f":"IF(G28=\"Estimé\",F14/INDEX(plage_conv,MATCH($A28,plage_tag,0),MATCH($F$23,plage_an,0)),\"Insérer valeur Réelle\")","v":0},"Estimé",{"$f":"IF(I28=\"Estimé\",H14/INDEX(plage_conv,MATCH($A28,plage_tag,0),MATCH($H$23,plage_an,0)),\"Insérer valeur Réelle\")","v":0},"Estimé",{"$f":"IF(K28=\"Estimé\",J14/INDEX(plage_conv,MATCH($A28,plage_tag,0),MATCH($J$23,plage_an,0)),\"Insérer valeur Réelle\")","v":0},"Estimé",{"$f":"IF(M28=\"Estimé\",L14/INDEX(plage_conv,MATCH($A28,plage_tag,0),MATCH($L$23,plage_an,0)),\"Insérer valeur Réelle\")","v":0},"Estimé",{"$f":"IF(O28=\"Estimé\",N14/INDEX(plage_conv,MATCH($A28,plage_tag,0),MATCH($N$23,plage_an,0)),\"Insérer valeur Réelle\")","v":0},"Estimé",{"$f":"IF(Q28=\"Estimé\",P14/INDEX(plage_conv,MATCH($A28,plage_tag,0),MATCH(P$23,plage_an,0)),\"Insérer valeur Réelle\")","v":0},"Estimé",{"$f":"IF(S28=\"Estimé\",R14/INDEX(plage_conv,MATCH($A28,plage_tag,0),MATCH(R$23,plage_an,0)),\"Insérer valeur Réelle\")","v":0},"Estimé",{"$f":"IF(U28=\"Estimé\",T14/INDEX(plage_conv,MATCH($A28,plage_tag,0),MATCH(T$23,plage_an,0)),\"Insérer valeur Réelle\")","v":0},"Estimé",{"$f":"IF(W28=\"Estimé\",V14/INDEX(plage_conv,MATCH($A28,plage_tag,0),MATCH(V$23,plage_an,0)),\"Insérer valeur Réelle\")","v":0},"Estimé",{"$f":"IF(Y28=\"Estimé\",X14/INDEX(plage_conv,MATCH($A28,plage_tag,0),MATCH(X$23,plage_an,0)),\"Insérer valeur Réelle\")","v":0},"Estimé",0,"Estimé",0,"Réél",0,"Estimé",0,"Estimé",0,"Estimé",0,"Estimé",0,"Estimé",0,"Estimé",0,"Estimé",0,"Estimé",0,"Estimé"]
[]
["Consommation des biocarburants"]
["Essence éthanol  [litres]",null,"Réél",null,"Réél",null,"Réél",null,"Réél",null,"Réél",null,"Réél",null,"Réél",null,"Réél",null,"Réél",null,"Réél",null,"Réél",null,"Réél",null,"Réél",null,"Réél",null,"Réél",null,"Réél",null,"Réél",null,"Réél",null,"Réél",null,"Réél",null,"Réél",null,"Réél",null,"Réél"]
["Biodiesel [litres]",null,"Réél",null,"Réél",null,"Réél",null,"Réél",null,"Réél",null,"Réél",null,"Réél",null,"Réél",null,"Réél",null,"Réél",null,"Réél",null,"Réél",null,"Réél",null,"Réél",null,"Réél",null,"Réél",null,"Réél",null,"Réél",null,"Réél",null,"Réél",null,"Réél",null,"Réél",null,"Réél"]
[]
["Total [L-éq. diesel]",{"$f":"B36/L_ess_to_GJ_Lourd","v":0},null,{"$f":"D36/L_ess_to_GJ_Lourd","v":0},null,{"$f":"F36/L_ess_to_GJ_Lourd","v":0},null,{"$f":"H36/L_ess_to_GJ_Lourd","v":0},null,{"$f":"J36/L_ess_to_GJ_Lourd","v":0},null,{"$f":"L36/L_ess_to_GJ_Lourd","v":0},null,{"$f":"N36/L_ess_to_GJ_Lourd","v":0},null,{"$f":"P36/L_dies_to_GJ_Lourd","v":0},null,{"$f":"R36/L_dies_to_GJ_Lourd","v":0},null,{"$f":"T36/L_dies_to_GJ_Lourd","v":0},null,{"$f":"V36/L_dies_to_GJ_Lourd","v":0},null,{"$f":"X36/L_dies_to_GJ_Lourd","v":0},null,{"$f":"Z36/L_dies_to_GJ_Lourd","v":0},null,{"$f":"AB36/L_dies_to_GJ_Lourd","v":0},null,{"$f":"AD36/L_dies_to_GJ_Lourd","v":0},null,{"$f":"AF36/L_dies_to_GJ_Lourd","v":0},null,{"$f":"AH36/L_dies_to_GJ_Lourd","v":0},null,{"$f":"AJ36/L_dies_to_GJ_Lourd","v":0},null,{"$f":"AL36/L_dies_to_GJ_Lourd","v":0},null,{"$f":"AN36/L_dies_to_GJ_Lourd","v":0},null,{"$f":"AP36/L_dies_to_GJ_Lourd","v":0},null,{"$f":"AR36/L_dies_to_GJ_Lourd","v":0},null,{"$f":"AT36/L_dies_to_GJ_Lourd","v":0}]
[]
["Total [GJ]",{"$f":"B25*L_ess_to_GJ_Lourd+B26*L_dies_to_GJ_Lourd+B27*m3_gn_to_GJ+B28*L_prop_to_GJ+B31*L_esseth_to_GJ_Lourd+B32*L_biodies_to_GJ_Lourd","v":0},null,{"$f":"D25*L_ess_to_GJ_Lourd+D26*L_dies_to_GJ_Lourd+D27*m3_gn_to_GJ+D28*L_prop_to_GJ+D31*L_esseth_to_GJ_Lourd+D32*L_biodies_to_GJ_Lourd","v":0},null,{"$f":"F25*L_ess_to_GJ_Lourd+F26*L_dies_to_GJ_Lourd+F27*m3_gn_to_GJ+F28*L_prop_to_GJ+F31*L_esseth_to_GJ_Lourd+F32*L_biodies_to_GJ_Lourd","v":0},null,{"$f":"H25*L_ess_to_GJ_Lourd+H26*L_dies_to_GJ_Lourd+H27*m3_gn_to_GJ+H28*L_prop_to_GJ+H31*L_esseth_to_GJ_Lourd+H32*L_biodies_to_GJ_Lourd","v":0},null,{"$f":"J25*L_ess_to_GJ_Lourd+J26*L_dies_to_GJ_Lourd+J27*m3_gn_to_GJ+J28*L_prop_to_GJ+J31*L_esseth_to_GJ_Lourd+J32*L_biodies_to_GJ_Lourd","v":0},null,{"$f":"L25*L_ess_to_GJ_Lourd+L26*L_dies_to_GJ_Lourd+L27*m3_gn_to_GJ+L28*L_prop_to_GJ+L31*L_esseth_to_GJ_Lourd+L32*L_biodies_to_GJ_Lourd","v":0},null,{"$f":"N25*L_ess_to_GJ_Lourd+N26*L_dies_to_GJ_Lourd+N27*m3_gn_to_GJ+N28*L_prop_to_GJ+N31*L_esseth_to_GJ_Lourd+N32*L_biodies_to_GJ_Lourd","v":0},null,{"$f":"P25*L_ess_to_GJ_Lourd+P26*L_dies_to_GJ_Lourd+P27*m3_gn_to_GJ+P28*L_prop_to_GJ+P31*L_esseth_to_GJ_Lourd+P32*L_biodies_to_GJ_Lourd","v":0},null,{"$f":"R25*L_ess_to_GJ_Lourd+R26*L_dies_to_GJ_Lourd+R27*m3_gn_to_GJ+R28*L_prop_to_GJ+R31*L_esseth_to_GJ_Lourd+R32*L_biodies_to_GJ_Lourd","v":0},null,{"$f":"T25*L_ess_to_GJ_Lourd+T26*L_dies_to_GJ_Lourd+T27*m3_gn_to_GJ+T28*L_prop_to_GJ+T31*L_esseth_to_GJ_Lourd+T32*L_biodies_to_GJ_Lourd","v":0},null,{"$f":"V25*L_ess_to_GJ_Lourd+V26*L_dies_to_GJ_Lourd+V27*m3_gn_to_GJ+V28*L_prop_to_GJ+V31*L_esseth_to_GJ_Lourd+V32*L_biodies_to_GJ_Lourd","v":0},null,{"$f":"X25*L_ess_to_GJ_Lourd+X26*L_dies_to_GJ_Lourd+X27*m3_gn_to_GJ+X28*L_prop_to_GJ+X31*L_esseth_to_GJ_Lourd+X32*L_biodies_to_GJ_Lourd","v":0},null,{"$f":"Z25*L_ess_to_GJ_Lourd+Z26*L_dies_to_GJ_Lourd+Z27*m3_gn_to_GJ+Z28*L_prop_to_GJ+Z31*L_esseth_to_GJ_Lourd+Z32*L_biodies_to_GJ_Lourd","v":0},null,{"$f":"IFERROR(AB25*L_ess_to_GJ_Lourd+AB26*L_dies_to_GJ_Lourd+AB27*m3_gn_to_GJ+AB28*L_prop_to_GJ+AB31*L_esseth_to_GJ_Lourd+AB32*L_biodies_to_GJ_Lourd,0)","v":0},null,{"$f":"AD25*L_ess_to_GJ_Lourd+AD26*L_dies_to_GJ_Lourd+AD27*m3_gn_to_GJ+AD28*L_prop_to_GJ+AD31*L_esseth_to_GJ_Lourd+AD32*L_biodies_to_GJ_Lourd","v":0},null,{"$f":"AF25*L_ess_to_GJ_Lourd+AF26*L_dies_to_GJ_Lourd+AF27*m3_gn_to_GJ+AF28*L_prop_to_GJ+AF31*L_esseth_to_GJ_Lourd+AF32*L_biodies_to_GJ_Lourd","v":0},null,{"$f":"AH25*L_ess_to_GJ_Lourd+AH26*L_dies_to_GJ_Lourd+AH27*m3_gn_to_GJ+AH28*L_prop_to_GJ+AH31*L_esseth_to_GJ_Lourd+AH32*L_biodies_to_GJ_Lourd","v":0},null,{"$f":"AJ25*L_ess_to_GJ_Lourd+AJ26*L_dies_to_GJ_Lourd+AJ27*m3_gn_to_GJ+AJ28*L_prop_to_GJ+AJ31*L_esseth_to_GJ_Lourd+AJ32*L_biodies_to_GJ_Lourd","v":0},null,{"$f":"AL25*L_ess_to_GJ_Lourd+AL26*L_dies_to_GJ_Lourd+AL27*m3_gn_to_GJ+AL28*L_prop_to_GJ+AL31*L_esseth_to_GJ_Lourd+AL32*L_biodies_to_GJ_Lourd","v":0},null,{"$f":"AN25*L_ess_to_GJ_Lourd+AN26*L_dies_to_GJ_Lourd+AN27*m3_gn_to_GJ+AN28*L_prop_to_GJ+AN31*L_esseth_to_GJ_Lourd+AN32*L_biodies_to_GJ_Lourd","v":0},null,{"$f":"AP25*L_ess_to_GJ_Lourd+AP26*L_dies_to_GJ_Lourd+AP27*m3_gn_to_GJ+AP28*L_prop_to_GJ+AP31*L_esseth_to_GJ_Lourd+AP32*L_biodies_to_GJ_Lourd","v":0},null,{"$f":"AR25*L_ess_to_GJ_Lourd+AR26*L_dies_to_GJ_Lourd+AR27*m3_gn_to_GJ+AR28*L_prop_to_GJ+AR31*L_esseth_to_GJ_Lourd+AR32*L_biodies_to_GJ_Lourd","v":0},null,{"$f":"AT25*L_ess_to_GJ_Lourd+AT26*L_dies_to_GJ_Lourd+AT27*m3_gn_to_GJ+AT28*L_prop_to_GJ+AT31*L_esseth_to_GJ_Lourd+AT32*L_biodies_to_GJ_Lourd","v":0}]
[null,{"$f":"CONCATENATE(\"GJ_vehic_instit_\",MID(B23,3,2),\"_\",MID(B23,8,2))","v":"GJ_vehic_instit_02_03"},null,{"$f":"CONCATENATE(\"GJ_vehic_instit_\",MID(D23,3,2),\"_\",MID(D23,8,2))","v":"GJ_vehic_instit_03_04"},null,{"$f":"CONCATENATE(\"GJ_vehic_instit_\",MID(F23,3,2),\"_\",MID(F23,8,2))","v":"GJ_vehic_instit_04_05"},null,{"$f":"CONCATENATE(\"GJ_vehic_instit_\",MID(H23,3,2),\"_\",MID(H23,8,2))","v":"GJ_vehic_instit_05_06"},null,{"$f":"CONCATENATE(\"GJ_vehic_instit_\",MID(J23,3,2),\"_\",MID(J23,8,2))","v":"GJ_vehic_instit_06_07"},null,{"$f":"CONCATENATE(\"GJ_vehic_instit_\",MID(L23,3,2),\"_\",MID(L23,8,2))","v":"GJ_vehic_instit_07_08"},null,{"$f":"CONCATENATE(\"GJ_vehic_instit_\",MID(N23,3,2),\"_\",MID(N23,8,2))","v":"GJ_vehic_instit_08_09"},null,{"$f":"CONCATENATE(\"GJ_vehic_instit_\",MID(P23,3,2),\"_\",MID(P23,8,2))","v":"GJ_vehic_instit_09_10"},null,{"$f":"CONCATENATE(\"GJ_vehic_instit_\",MID(R23,3,2),\"_\",MID(R23,8,2))","v":"GJ_vehic_instit_10_11"},null,{"$f":"CONCATENATE(\"GJ_vehic_instit_\",MID(T23,3,2),\"_\",MID(T23,8,2))","v":"GJ_vehic_instit_11_12"},null,{"$f":"CONCATENATE(\"GJ_vehic_instit_\",MID(V23,3,2),\"_\",MID(V23,8,2))","v":"GJ_vehic_instit_12_13"},null,{"$f":"CONCATENATE(\"GJ_vehic_instit_\",MID(X23,3,2),\"_\",MID(X23,8,2))","v":"GJ_vehic_instit_13_14"},null,{"$f":"CONCATENATE(\"GJ_vehic_instit_\",MID(Z23,3,2),\"_\",MID(Z23,8,2))","v":"GJ_vehic_instit_14_15"},null,{"$f":"CONCATENATE(\"GJ_vehic_instit_\",MID(AB23,3,2),\"_\",MID(AB23,8,2))","v":"GJ_vehic_instit_15_16"},null,{"$f":"CONCATENATE(\"GJ_vehic_instit_\",MID(AD23,3,2),\"_\",MID(AD23,8,2))","v":"GJ_vehic_instit_16_17"},null,{"$f":"CONCATENATE(\"GJ_vehic_instit_\",MID(AF23,3,2),\"_\",MID(AF23,8,2))","v":"GJ_vehic_instit_17_18"},null,{"$f":"CONCATENATE(\"GJ_vehic_instit_\",MID(AH23,3,2),\"_\",MID(AH23,8,2))","v":"GJ_vehic_instit_18_19"},null,{"$f":"CONCATENATE(\"GJ_vehic_instit_\",MID(AJ23,3,2),\"_\",MID(AJ23,8,2))","v":"GJ_vehic_instit_19_20"},null,{"$f":"CONCATENATE(\"GJ_vehic_instit_\",MID(AL23,3,2),\"_\",MID(AL23,8,2))","v":"GJ_vehic_instit_20_21"},null,{"$f":"CONCATENATE(\"GJ_vehic_instit_\",MID(AN23,3,2),\"_\",MID(AN23,8,2))","v":"GJ_vehic_instit_21_22"}]
[null,null,null,"ESTIMATION DES ÉMISSIONS DE GAZ À EFFET DE SERRE",null,null,null,null,null,null,null,"ESTIMATION DES ÉMISSIONS DE GAZ À EFFET DE SERRE",null,null,null,null,null,null,null,"ESTIMATION DES ÉMISSIONS DE GAZ À EFFET DE SERRE",null,null,null,null,null,null,null,"ESTIMATION DES ÉMISSIONS DE GAZ À EFFET DE SERRE",null,null,null,null,null,"ESTIMATION DES ÉMISSIONS DE GAZ À EFFET DE SERRE"]
[null,"2002-2003",null,"2003-2004",null,"2004-2005",null,"2005-2006",null,"2006-2007",null,"2007-2008",null,"2008-2009",null,"2009-2010",null,"2010-2011",null,"2011-2012",null,"2012-2013",null,"2013-2014",null,"2014-2015",null,"2015-2016",null,"2016-2017",null,"2017-2018",null,"2018-2019",null,"2019-2020",null,"2020-2021",null,"2021-2022",null,"2022-2023",null,"2023-2024",null,"2024-2025"]
["Émissions des carburants traditionnels"]
["Essence [t CO2 éq.]",{"$f":"B25*L_ess_to_GES_Lourd","v":0},null,{"$f":"D25*L_ess_to_GES_Lourd","v":0},null,{"$f":"F25*L_ess_to_GES_Lourd","v":0},null,{"$f":"H25*L_ess_to_GES_Lourd","v":0},null,{"$f":"J25*L_ess_to_GES_Lourd","v":0},null,{"$f":"L25*L_ess_to_GES_Lourd","v":0},null,{"$f":"N25*L_ess_to_GES_Lourd","v":0},null,{"$f":"P25*L_ess_to_GES_Lourd","v":0},null,{"$f":"R25*L_ess_to_GES_Lourd","v":0},null,{"$f":"T25*L_ess_to_GES_Lourd","v":0},null,{"$f":"V25*L_ess_to_GES_Lourd","v":0},null,{"$f":"X25*L_ess_to_GES_Lourd","v":0},null,{"$f":"Z25*L_ess_to_GES_Lourd","v":0},null,{"$f":"AB25*L_ess_to_GES_Lourd","v":0},null,{"$f":"AD25*L_ess_to_GES_Lourd","v":0},null,{"$f":"AF25*L_ess_to_GES_Lourd","v":0},null,{"$f":"AH25*L_ess_to_GES_Lourd","v":0},null,{"$f":"AJ25*L_ess_to_GES_Lourd","v":0},null,{"$f":"AL25*L_ess_to_GES_Lourd","v":0},null,{"$f":"AN25*L_ess_to_GES_Lourd","v":0},null,{"$f":"AP25*L_ess_to_GES_Lourd","v":0},null,{"$f":"AR25*L_ess_to_GES_Lourd","v":0},null,{"$f":"AT25*L_ess_to_GES_Lourd","v":0}]
["Diesel [t CO2 éq.]",{"$f":"B26*L_dies_to_GES_Lourd","v":0},null,{"$f":"D26*L_dies_to_GES_Lourd","v":0},null,{"$f":"F26*L_dies_to_GES_Lourd","v":0},null,{"$f":"H26*L_dies_to_GES_Lourd","v":0},null,{"$f":"J26*L_dies_to_GES_Lourd","v":0},null,{"$f":"L26*L_dies_to_GES_Lourd","v":0},null,{"$f":"N26*L_dies_to_GES_Lourd","v":0},null,{"$f":"P26*L_dies_to_GES_Lourd","v":0},null,{"$f":"R26*L_dies_to_GES_Lourd","v":0},null,{"$f":"T26*L_dies_to_GES_Lourd","v":0},null,{"$f":"V26*L_dies_to_GES_Lourd","v":0},null,{"$f":"X26*L_dies_to_GES_Lourd","v":0},null,{"$f":"Z26*L_dies_to_GES_Lourd","v":0},null,{"$f":"AB26*L_dies_to_GES_Lourd","v":0},null,{"$f":"AD26*L_dies_to_GES_Lourd","v":0},null,{"$f":"AF26*L_dies_to_GES_Lourd","v":0},null,{"$f":"AH26*L_dies_to_GES_Lourd","v":0},null,{"$f":"AJ26*L_dies_to_GES_Lourd","v":0},null,{"$f":"AL26*L_dies_to_GES_Lourd","v":0},null,{"$f":"AN26*L_dies_to_GES_Lourd","v":0},null,{"$f":"AP26*L_dies_to_GES_Lourd","v":0},null,{"$f":"AR26*L_dies_to_GES_Lourd","v":0},null,{"$f":"AT26*L_dies_to_GES_Lourd","v":0}]
["Gaz naturel [t CO2 éq.]",{"$f":"B27*m3_gn_to_GES","v":0},null,{"$f":"D27*m3_gn_to_GES","v":0},null,{"$f":"F27*m3_gn_to_GES","v":0},null,{"$f":"H27*m3_gn_to_GES","v":0},null,{"$f":"J27*m3_gn_to_GES","v":0},null,{"$f":"L27*m3_gn_to_GES","v":0},null,{"$f":"N27*m3_gn_to_GES","v":0},null,{"$f":"P27*m3_gn_to_GES","v":0},null,{"$f":"R27*m3_gn_to_GES","v":0},null,{"$f":"T27*m3_gn_to_GES","v":0},null,{"$f":"V27*m3_gn_to_GES","v":0},null,{"$f":"X27*m3_gn_to_GES","v":0},null,{"$f":"Z27*m3_gn_to_GES","v":0},null,{"$f":"AB27*m3_gn_to_GES","v":0},null,{"$f":"AD27*m3_gn_to_GES","v":0},null,{"$f":"AF27*m3_gn_to_GES","v":0},null,{"$f":"AH27*m3_gn_to_GES","v":0},null,{"$f":"AJ27*m3_gn_to_GES","v":0},null,{"$f":"AL27*m3_gn_to_GES","v":0},null,{"$f":"AN27*m3_gn_to_GES","v":0},null,{"$f":"AP27*m3_gn_to_GES","v":0},null,{"$f":"AR27*m3_gn_to_GES","v":0},null,{"$f":"AT27*m3_gn_to_GES","v":0}]
["Propane [t CO2 éq.]",{"$f":"B28*L_prop_to_GES","v":0},null,{"$f":"D28*L_prop_to_GES","v":0},null,{"$f":"F28*L_prop_to_GES","v":0},null,{"$f":"H28*L_prop_to_GES","v":0},null,{"$f":"J28*L_prop_to_GES","v":0},null,{"$f":"L28*L_prop_to_GES","v":0},null,{"$f":"N28*L_prop_to_GES","v":0},null,{"$f":"P28*L_prop_to_GES","v":0},null,{"$f":"R28*L_prop_to_GES","v":0},null,{"$f":"T28*L_prop_to_GES","v":0},null,{"$f":"V28*L_prop_to_GES","v":0},null,{"$f":"X28*L_prop_to_GES","v":0},null,{"$f":"Z28*L_prop_to_GES","v":0},null,{"$f":"AB28*L_prop_to_GES","v":0},null,{"$f":"AD28*L_prop_to_GES","v":0},null,{"$f":"AF28*L_prop_to_GES","v":0},null,{"$f":"AH28*L_prop_to_GES","v":0},null,{"$f":"AJ28*L_prop_to_GES","v":0},null,{"$f":"AL28*L_prop_to_GES","v":0},null,{"$f":"AN28*L_prop_to_GES","v":0},null,{"$f":"AP28*L_prop_to_GES","v":0},null,{"$f":"AR28*L_prop_to_GES","v":0},null,{"$f":"AT28*L_prop_to_GES","v":0}]
[]
["Émissions des biocarburants"]
["Essence éthanol [t CO2 éq.]",{"$f":"B31*L_esseth_to_GES_Lourd","v":0},null,{"$f":"D31*L_esseth_to_GES_Lourd","v":0},null,{"$f":"F31*L_esseth_to_GES_Lourd","v":0},null,{"$f":"H31*L_esseth_to_GES_Lourd","v":0},null,{"$f":"J31*L_esseth_to_GES_Lourd","v":0},null,{"$f":"L31*L_esseth_to_GES_Lourd","v":0},null,{"$f":"N31*L_esseth_to_GES_Lourd","v":0},null,{"$f":"P31*L_esseth_to_GES_Lourd","v":0},null,{"$f":"R31*L_esseth_to_GES_Lourd","v":0},null,{"$f":"T31*L_esseth_to_GES_Lourd","v":0},null,{"$f":"V31*L_esseth_to_GES_Lourd","v":0},null,{"$f":"X31*L_esseth_to_GES_Lourd","v":0},null,{"$f":"Z31*L_esseth_to_GES_Lourd","v":0},null,{"$f":"AB31*L_esseth_to_GES_Lourd","v":0},null,{"$f":"AD31*L_esseth_to_GES_Lourd","v":0},null,{"$f":"AF31*L_esseth_to_GES_Lourd","v":0},null,{"$f":"AH31*L_esseth_to_GES_Lourd","v":0},null,{"$f":"AJ31*L_esseth_to_GES_Lourd","v":0},null,{"$f":"AL31*L_esseth_to_GES_Lourd","v":0},null,{"$f":"AN31*L_esseth_to_GES_Lourd","v":0},null,{"$f":"AP31*L_esseth_to_GES_Lourd","v":0},null,{"$f":"AR31*L_esseth_to_GES_Lourd","v":0},null,{"$f":"AT31*L_esseth_to_GES_Lourd","v":0}]
["Biodiesel [t CO2 éq.]",{"$f":"B32*L_biodies_to_GES_Lourd","v":0},null,{"$f":"D32*L_biodies_to_GES_Lourd","v":0},null,{"$f":"F32*L_biodies_to_GES_Lourd","v":0},null,{"$f":"H32*L_biodies_to_GES_Lourd","v":0},null,{"$f":"J32*L_biodies_to_GES_Lourd","v":0},null,{"$f":"L32*L_biodies_to_GES_Lourd","v":0},null,{"$f":"N32*L_biodies_to_GES_Lourd","v":0},null,{"$f":"P32*L_biodies_to_GES_Lourd","v":0},null,{"$f":"R32*L_biodies_to_GES_Lourd","v":0},null,{"$f":"T32*L_biodies_to_GES_Lourd","v":0},null,{"$f":"V32*L_biodies_to_GES_Lourd","v":0},null,{"$f":"X32*L_biodies_to_GES_Lourd","v":0},null,{"$f":"Z32*L_biodies_to_GES_Lourd","v":0},null,{"$f":"AB32*L_biodies_to_GES_Lourd","v":0},null,{"$f":"AD32*L_biodies_to_GES_Lourd","v":0},null,{"$f":"AF32*L_biodies_to_GES_Lourd","v":0},null,{"$f":"AH32*L_biodies_to_GES_Lourd","v":0},null,{"$f":"AJ32*L_biodies_to_GES_Lourd","v":0},null,{"$f":"AL32*L_biodies_to_GES_Lourd","v":0},null,{"$f":"AN32*L_biodies_to_GES_Lourd","v":0},null,{"$f":"AP32*L_biodies_to_GES_Lourd","v":0},null,{"$f":"AR32*L_biodies_to_GES_Lourd","v":0},null,{"$f":"AT32*L_biodies_to_GES_Lourd","v":0}]
[]
["Total [t CO2 éq.]",{"$f":"B41+B42+B43+B44+B47+B48","v":0},null,{"$f":"D41+D42+D43+D44+D47+D48","v":0},null,{"$f":"F41+F42+F43+F44+F47+F48","v":0},null,{"$f":"H41+H42+H43+H44+H47+H48","v":0},null,{"$f":"J41+J42+J43+J44+J47+J48","v":0},null,{"$f":"L41+L42+L43+L44+L47+L48","v":0},null,{"$f":"N41+N42+N43+N44+N47+N48","v":0},null,{"$f":"P41+P42+P43+P44+P47+P48","v":0},null,{"$f":"R41+R42+R43+R44+R47+R48","v":0},null,{"$f":"T41+T42+T43+T44+T47+T48","v":0},null,{"$f":"V41+V42+V43+V44+V47+V48","v":0},null,{"$f":"X41+X42+X43+X44+X47+X48","v":0},null,{"$f":"Z41+Z42+Z43+Z44+Z47+Z48","v":0},null,{"$f":"AB41+AB42+AB43+AB44+AB47+AB48","v":0},null,{"$f":"AD41+AD42+AD43+AD44+AD47+AD48","v":0},null,{"$f":"AF41+AF42+AF43+AF44+AF47+AF48","v":0},null,{"$f":"AH41+AH42+AH43+AH44+AH47+AH48","v":0},null,{"$f":"AJ41+AJ42+AJ43+AJ44+AJ47+AJ48","v":0},null,{"$f":"AL41+AL42+AL43+AL44+AL47+AL48","v":0},null,{"$f":"AN41+AN42+AN43+AN44+AN47+AN48","v":0},null,{"$f":"AP41+AP42+AP43+AP44+AP47+AP48","v":0},null,{"$f":"AR41+AR42+AR43+AR44+AR47+AR48","v":0},null,{"$f":"AT41+AT42+AT43+AT44+AT47+AT48","v":0}]
[null,{"$f":"CONCATENATE(\"GES_vehic_instit_\",MID(B39,3,2),\"_\",MID(B39,8,2))","v":"GES_vehic_instit_02_03"},null,{"$f":"CONCATENATE(\"GES_vehic_instit_\",MID(D39,3,2),\"_\",MID(D39,8,2))","v":"GES_vehic_instit_03_04"},null,{"$f":"CONCATENATE(\"GES_vehic_instit_\",MID(F39,3,2),\"_\",MID(F39,8,2))","v":"GES_vehic_instit_04_05"},null,{"$f":"CONCATENATE(\"GES_vehic_instit_\",MID(H39,3,2),\"_\",MID(H39,8,2))","v":"GES_vehic_instit_05_06"},null,{"$f":"CONCATENATE(\"GES_vehic_instit_\",MID(J39,3,2),\"_\",MID(J39,8,2))","v":"GES_vehic_instit_06_07"},null,{"$f":"CONCATENATE(\"GES_vehic_instit_\",MID(L39,3,2),\"_\",MID(L39,8,2))","v":"GES_vehic_instit_07_08"},null,{"$f":"CONCATENATE(\"GES_vehic_instit_\",MID(N39,3,2),\"_\",MID(N39,8,2))","v":"GES_vehic_instit_08_09"},null,{"$f":"CONCATENATE(\"GES_vehic_instit_\",MID(P39,3,2),\"_\",MID(P39,8,2))","v":"GES_vehic_instit_09_10"},null,{"$f":"CONCATENATE(\"GES_vehic_instit_\",MID(R39,3,2),\"_\",MID(R39,8,2))","v":"GES_vehic_instit_10_11"},null,{"$f":"CONCATENATE(\"GES_vehic_instit_\",MID(T39,3,2),\"_\",MID(T39,8,2))","v":"GES_vehic_instit_11_12"},null,{"$f":"CONCATENATE(\"GES_vehic_instit_\",MID(V39,3,2),\"_\",MID(V39,8,2))","v":"GES_vehic_instit_12_13"},null,{"$f":"CONCATENATE(\"GES_vehic_instit_\",MID(X39,3,2),\"_\",MID(X39,8,2))","v":"GES_vehic_instit_13_14"},null,{"$f":"CONCATENATE(\"GES_vehic_instit_\",MID(Z39,3,2),\"_\",MID(Z39,8,2))","v":"GES_vehic_instit_14_15"},null,{"$f":"CONCATENATE(\"GES_vehic_instit_\",MID(AB39,3,2),\"_\",MID(AB39,8,2))","v":"GES_vehic_instit_15_16"},null,{"$f":"CONCATENATE(\"GES_vehic_instit_\",MID(AD39,3,2),\"_\",MID(AD39,8,2))","v":"GES_vehic_instit_16_17"},null,{"$f":"CONCATENATE(\"GES_vehic_instit_\",MID(AF39,3,2),\"_\",MID(AF39,8,2))","v":"GES_vehic_instit_17_18"},null,{"$f":"CONCATENATE(\"GES_vehic_instit_\",MID(AH39,3,2),\"_\",MID(AH39,8,2))","v":"GES_vehic_instit_18_19"},null,{"$f":"CONCATENATE(\"GES_vehic_instit_\",MID(AJ39,3,2),\"_\",MID(AJ39,8,2))","v":"GES_vehic_instit_19_20"},null,{"$f":"CONCATENATE(\"GES_vehic_instit_\",MID(AL39,3,2),\"_\",MID(AL39,8,2))","v":"GES_vehic_instit_20_21"},null,{"$f":"CONCATENATE(\"GES_vehic_instit_\",MID(AN39,3,2),\"_\",MID(AN39,8,2))","v":"GES_vehic_instit_21_22"}]

{"sheet":"3. KM POLLUANTS","index":4,"n_rows":40,"n_cols":46,"rows_kept":40,"cut":false,"hidden":false,"merged":[]}
[]
[]
[]
[]
[]
[]
[null,null,null,"KILOMÉTRAGE ANNUEL",null,null,null,null,null,null,null,"KILOMÉTRAGE ANNUEL",null,null,null,null,null,null,null,"KILOMÉTRAGE ANNUEL",null,null,null,null,null,null,null,"KILOMÉTRAGE ANNUEL",null,null,null,null,null,"KILOMÉTRAGE ANNUEL"]
[]
[null,"2002-2003",null,"2003-2004",null,"2004-2005",null,"2005-2006",null,"2006-2007",null,"2007-2008",null,"2008-2009",null,"2009-2010",null,"2010-2011",null,"2011-2012",null,"2012-2013",null,"2013-2014",null,"2014-2015",null,"2015-2016",null,"2016-2017",null,"2017-2018",null,"2018-2019",null,"2019-2020",null,"2020-2021",null,"2021-2022",null,"2022-2023",null,"2023-2024",null,"2024-2025"]
["Véhicules légers de l'organisation  *"]
["Sur route (y compris les locations longue durée) [km]"]
["Hors route ( VTT, motoneige…) [km]"]
["Total [km]",{"$f":"SUM(B11:B12)","v":0},null,{"$f":"SUM(D11:D12)","v":0},null,0,null,0,null,0,null,0,null,0,null,{"$f":"SUM(P11:P12)","v":0},null,{"$f":"SUM(R11:R12)","v":0},null,{"$f":"SUM(T11:T12)","v":0},null,{"$f":"SUM(V11:V12)","v":0},null,{"$f":"SUM(X11:X12)","v":0},null,{"$f":"SUM(Z11:Z12)","v":0},null,{"$f":"SUM(AB11:AB12)","v":0},null,{"$f":"SUM(AD11:AD12)","v":0},null,{"$f":"SUM(AF11:AF12)","v":0},null,{"$f":"SUM(AH11:AH12)","v":0},null,{"$f":"SUM(AJ11:AJ12)","v":0},null,{"$f":"SUM(AL11:AL12)","v":0},null,{"$f":"SUM(AN11:AN12)","v":0},null,{"$f":"SUM(AP11:AP12)","v":0},null,{"$f":"SUM(AR11:AR12)","v":0},null,{"$f":"SUM(AT11:AT12)","v":0}]
["Véhicules lourds de l'organisation  *"]
["Sur route (y compris les locations longue durée) [km]"]
["Hors route [km]"]
["Total [km]",{"$f":"SUM(B15:B16)","v":0},null,{"$f":"SUM(D15:D16)","v":0},null,{"$f":"SUM(F15:F16)","v":0},null,{"$f":"SUM(H15:H16)","v":0},null,{"$f":"SUM(J15:J16)","v":0},null,{"$f":"SUM(L15:L16)","v":0},null,{"$f":"SUM(N15:N16)","v":0},null,{"$f":"SUM(P15:P16)","v":0},null,{"$f":"SUM(R15:R16)","v":0},null,{"$f":"SUM(T15:T16)","v":0},null,{"$f":"SUM(V15:V16)","v":0},null,{"$f":"SUM(X15:X16)","v":0},null,{"$f":"SUM(Z15:Z16)","v":0},null,{"$f":"SUM(AB15:AB16)","v":0},null,{"$f":"SUM(AD15:AD16)","v":0},null,{"$f":"SUM(AF15:AF16)","v":0},null,{"$f":"SUM(AH15:AH16)","v":0},null,{"$f":"SUM(AJ15:AJ16)","v":0},null,{"$f":"SUM(AL15:AL16)","v":0},null,{"$f":"SUM(AN15:AN16)","v":0},null,{"$f":"SUM(AP15:AP16)","v":0},null,{"$f":"SUM(AR15:AR16)","v":0},null,{"$f":"SUM(AT15:AT16)","v":0}]
[]
[null,null,null,null,null,null,null,null,null,null,null,null,null,null,null,null,null,null,null,null,null,"* Kilométrage annuel des véhicules de l'organisation sur lesquels portent les données énergétiques fournies aux onglets : 2. CARBURANT (lignes 11 à 32) et 5. NOMBRE DE VÉHICULES (lignes 11 à 16).",null,null,null,null,null,null,null," "]
[]
[]
[null,{"$f":"CONCATENATE(\"km_vehic_inst_\",MID(B9,3,2),\"_\",MID(B9,8,2))","v":"km_vehic_inst_02_03"},null,{"$f":"CONCATENATE(\"km_vehic_inst_\",MID(D9,3,2),\"_\",MID(D9,8,2))","v":"km_vehic_inst_03_04"},null,"km_vehic_inst_04_05",null,"km_vehic_inst_05_06",null,"km_vehic_inst_06_07",null,"km_vehic_inst_07_08",null,"km_vehic_inst_08_09",null,"km_vehic_inst_09_10",null,"km_vehic_inst_10_11",null,"km_vehic_inst_11_12",null,"km_vehic_inst_12_13",null,"km_vehic_inst_13_14",null,"km_vehic_inst_14_15",null,"km_vehic_inst_15_16",null,"km_vehic_inst_16_17",null,"km_vehic_inst_17_18",null,"km_vehic_inst_18_19",null,"km_vehic_inst_19_20",null,"km_vehic_inst_20_21",null,{"$f":"CONCATENATE(\"km_vehic_inst_\",MID(AN9,3,2),\"_\",MID(AN9,8,2))","v":"km_vehic_inst_21_22"},null,{"$f":"CONCATENATE(\"km_vehic_inst_\",MID(AP9,3,2),\"_\",MID(AP9,8,2))","v":"km_vehic_inst_22_23"},null,"km_vehic_inst_23_24",null,{"$f":"CONCATENATE(\"km_vehic_inst_\",MID(AT9,3,2),\"_\",MID(AT9,8,2))","v":"km_vehic_inst_24_25"}]
["Autres déplacements à des fins professionnelles                                                                                                                                                                                                                                                                                                                                                                                                                                                                                                                                                                                                                                                                                                   Bien qu'importante, cette section reste facultative. Saisir les données seulement si elles sont disponibles et accessibles."]
["Taxi [km]"]
["Passager covoiturage [km]"]
["Autobus urbain [km]"]
["Autobus interurbain [km]"]
["Métro [km]"]
["Train [km]"]
["Véhicule de location courte durée [km]"]
["Véhicule personnel [km]"]
["Avion [km]"]
["Total [km]",{"$f":"SUM(B24:B32)","v":0},null,{"$f":"SUM(D24:D32)","v":0},null,{"$f":"SUM(F24:F32)","v":0},null,{"$f":"SUM(H24:H32)","v":0},null,{"$f":"SUM(J24:J32)","v":0},null,{"$f":"SUM(L24:L32)","v":0},null,{"$f":"SUM(N24:N32)","v":0},null,{"$f":"SUM(P24:P32)","v":0},null,{"$f":"SUM(R24:R32)","v":0},null,{"$f":"SUM(T24:T32)","v":0},null,{"$f":"SUM(V24:V32)","v":0},null,{"$f":"SUM(X24:X32)","v":0},null,{"$f":"SUM(Z24:Z32)","v":0},null,{"$f":"SUM(AB24:AB32)","v":0},null,{"$f":"SUM(AD24:AD32)","v":0},null,{"$f":"SUM(AF24:AF32)","v":0},null,{"$f":"SUM(AH24:AH32)","v":0},null,{"$f":"SUM(AJ24:AJ32)","v":0},null,{"$f":"SUM(AL24:AL32)","v":0},null,{"$f":"SUM(AN24:AN32)","v":0},null,{"$f":"SUM(AP24:AP32)","v":0},null,{"$f":"SUM(AR24:AR32)","v":0},null,{"$f":"SUM(AT24:AT32)","v":0}]
[null,{"$f":"CONCATENATE(\"km_autre_\",MID(B9,3,2),\"_\",MID(B9,8,2))","v":"km_autre_02_03"},null,{"$f":"CONCATENATE(\"km_autre_\",MID(D9,3,2),\"_\",MID(D9,8,2))","v":"km_autre_03_04"},null,"km_autre_04_05",null,"km_autre_05_06",null,"km_autre_06_07",null,"km_autre_07_08",null,"km_autre_08_09",null,{"$f":"CONCATENATE(\"km_autre_\",MID(P9,3,2),\"_\",MID(P9,8,2))","v":"km_autre_09_10"},null,{"$f":"CONCATENATE(\"km_autre_\",MID(R9,3,2),\"_\",MID(R9,8,2))","v":"km_autre_10_11"},null,{"$f":"CONCATENATE(\"km_autre_\",MID(T9,3,2),\"_\",MID(T9,8,2))","v":"km_autre_11_12"},null,{"$f":"CONCATENATE(\"km_autre_\",MID(V9,3,2),\"_\",MID(V9,8,2))","v":"km_autre_12_13"},null,{"$f":"CONCATENATE(\"km_autre_\",MID(X9,3,2),\"_\",MID(X9,8,2))","v":"km_autre_13_14"},null,{"$f":"CONCATENATE(\"km_autre_\",MID(Z9,3,2),\"_\",MID(Z9,8,2))","v":"km_autre_14_15"},null,{"$f":"CONCATENATE(\"km_autre_\",MID(AB9,3,2),\"_\",MID(AB9,8,2))","v":"km_autre_15_16"},null,{"$f":"CONCATENATE(\"km_autre_\",MID(AD9,3,2),\"_\",MID(AD9,8,2))","v":"km_autre_16_17"},null,{"$f":"CONCATENATE(\"km_autre_\",MID(AF9,3,2),\"_\",MID(AF9,8,2))","v":"km_autre_17_18"},null,{"$f":"CONCATENATE(\"km_autre_\",MID(AH9,3,2),\"_\",MID(AH9,8,2))","v":"km_autre_18_19"},null,{"$f":"CONCATENATE(\"km_autre_\",MID(AJ9,3,2),\"_\",MID(AJ9,8,2))","v":"km_autre_19_20"},null,{"$f":"CONCATENATE(\"km_autre_\",MID(AL9,3,2),\"_\",MID(AL9,8,2))","v":"km_autre_20_21"},null,{"$f":"CONCATENATE(\"km_autre_\",MID(AN9,3,2),\"_\",MID(AN9,8,2))","v":"km_autre_21_22"},null,{"$f":"CONCATENATE(\"km_autre_\",MID(AP9,3,2),\"_\",MID(AP9,8,2))","v":"km_autre_22_23"},null,{"$f":"CONCATENATE(\"km_autre_\",MID(AR9,3,2),\"_\",MID(AR9,8,2))","v":"km_autre_23_24"},null,{"$f":"CONCATENATE(\"km_autre_\",MID(AT9,3,2),\"_\",MID(AT9,8,2))","v":"km_autre_24_25"}]
["Total [GJ]",{"$f":"B24*GJ_to_km_taxi+B25*GJ_to_km_covoit+B26*GJ_to_km_busu+B28*GJ_to_km_metro+B29*GJ_to_km_train+B30*GJ_to_km_loc+B32*GJ_to_km_avion+B27*GJ_to_km_busi+B31*GJ_to_km_loc","v":0},null,{"$f":"D24*GJ_to_km_taxi+D25*GJ_to_km_covoit+D26*GJ_to_km_busu+D28*GJ_to_km_metro+D29*GJ_to_km_train+D30*GJ_to_km_loc+D32*GJ_to_km_avion+D27*GJ_to_km_busi+D31*GJ_to_km_loc","v":0},null,{"$f":"F24*GJ_to_km_taxi+F25*GJ_to_km_covoit+F26*GJ_to_km_busu+F28*GJ_to_km_metro+F29*GJ_to_km_train+F30*GJ_to_km_loc+F32*GJ_to_km_avion+F27*GJ_to_km_busi+F31*GJ_to_km_loc","v":0},null,{"$f":"H24*GJ_to_km_taxi+H25*GJ_to_km_covoit+H26*GJ_to_km_busu+H28*GJ_to_km_metro+H29*GJ_to_km_train+H30*GJ_to_km_loc+H32*GJ_to_km_avion+H27*GJ_to_km_busi+H31*GJ_to_km_loc","v":0},null,{"$f":"J24*GJ_to_km_taxi+J25*GJ_to_km_covoit+J26*GJ_to_km_busu+J28*GJ_to_km_metro+J29*GJ_to_km_train+J30*GJ_to_km_loc+J32*GJ_to_km_avion+J27*GJ_to_km_busi+J31*GJ_to_km_loc","v":0},null,{"$f":"L24*GJ_to_km_taxi+L25*GJ_to_km_covoit+L26*GJ_to_km_busu+L28*GJ_to_km_metro+L29*GJ_to_km_train+L30*GJ_to_km_loc+L32*GJ_to_km_avion+L27*GJ_to_km_busi+L31*GJ_to_km_loc","v":0},null,{"$f":"N24*GJ_to_km_taxi+N25*GJ_to_km_covoit+N26*GJ_to_km_busu+N28*GJ_to_km_metro+N29*GJ_to_km_train+N30*GJ_to_km_loc+N32*GJ_to_km_avion+N27*GJ_to_km_busi+N31*GJ_to_km_loc","v":0},null,{"$f":"P24*GJ_to_km_taxi+P25*GJ_to_km_covoit+P26*GJ_to_km_busu+P28*GJ_to_km_metro+P29*GJ_to_km_train+P30*GJ_to_km_loc+P32*GJ_to_km_avion+P27*GJ_to_km_busi+P31*GJ_to_km_loc","v":0},null,{"$f":"R24*GJ_to_km_taxi+R25*GJ_to_km_covoit+R26*GJ_to_km_busu+R28*GJ_to_km_metro+R29*GJ_to_km_train+R30*GJ_to_km_loc+R32*GJ_to_km_avion+R27*GJ_to_km_busi+R31*GJ_to_km_loc","v":0},null,{"$f":"T24*GJ_to_km_taxi+T25*GJ_to_km_covoit+T26*GJ_to_km_busu+T28*GJ_to_km_metro+T29*GJ_to_km_train+T30*GJ_to_km_loc+T32*GJ_to_km_avion+T27*GJ_to_km_busi+T31*GJ_to_km_loc","v":0},null,{"$f":"V24*GJ_to_km_taxi+V25*GJ_to_km_covoit+V26*GJ_to_km_busu+V28*GJ_to_km_metro+V29*GJ_to_km_train+V30*GJ_to_km_loc+V32*GJ_to_km_avion+V27*GJ_to_km_busi+V31*GJ_to_km_loc","v":0},null,{"$f":"X24*GJ_to_km_taxi+X25*GJ_to_km_covoit+X26*GJ_to_km_busu+X28*GJ_to_km_metro+X29*GJ_to_km_train+X30*GJ_to_km_loc+X32*GJ_to_km_avion+X27*GJ_to_km_busi+X31*GJ_to_km_loc","v":0},null,{"$f":"Z24*GJ_to_km_taxi+Z25*GJ_to_km_covoit+Z26*GJ_to_km_busu+Z28*GJ_to_km_metro+Z29*GJ_to_km_train+Z30*GJ_to_km_loc+Z32*GJ_to_km_avion+Z27*GJ_to_km_busi+Z31*GJ_to_km_loc","v":0},null,{"$f":"AB24*GJ_to_km_taxi+AB25*GJ_to_km_covoit+AB26*GJ_to_km_busu+AB28*GJ_to_km_metro+AB29*GJ_to_km_train+AB30*GJ_to_km_loc+AB32*GJ_to_km_avion+AB27*GJ_to_km_busi+AB31*GJ_to_km_loc","v":0},null,{"$f":"AD24*GJ_to_km_taxi+AD25*GJ_to_km_covoit+AD26*GJ_to_km_busu+AD28*GJ_to_km_metro+AD29*GJ_to_km_train+AD30*GJ_to_km_loc+AD32*GJ_to_km_avion+AD27*GJ_to_km_busi+AD31*GJ_to_km_loc","v":0},null,{"$f":"AF24*GJ_to_km_taxi+AF25*GJ_to_km_covoit+AF26*GJ_to_km_busu+AF28*GJ_to_km_metro+AF29*GJ_to_km_train+AF30*GJ_to_km_loc+AF32*GJ_to_km_avion+AF27*GJ_to_km_busi+AF31*GJ_to_km_loc","v":0},null,{"$f":"AH24*GJ_to_km_taxi+AH25*GJ_to_km_covoit+AH26*GJ_to_km_busu+AH28*GJ_to_km_metro+AH29*GJ_to_km_train+AH30*GJ_to_km_loc+AH32*GJ_to_km_avion+AH27*GJ_to_km_busi+AH31*GJ_to_km_loc","v":0},null,{"$f":"AJ24*GJ_to_km_taxi+AJ25*GJ_to_km_covoit+AJ26*GJ_to_km_busu+AJ28*GJ_to_km_metro+AJ29*GJ_to_km_train+AJ30*GJ_to_km_loc+AJ32*GJ_to_km_avion+AJ27*GJ_to_km_busi+AJ31*GJ_to_km_loc","v":0},null,{"$f":"AL24*GJ_to_km_taxi+AL25*GJ_to_km_covoit+AL26*GJ_to_km_busu+AL28*GJ_to_km_metro+AL29*GJ_to_km_train+AL30*GJ_to_km_loc+AL32*GJ_to_km_avion+AL27*GJ_to_km_busi+AL31*GJ_to_km_loc","v":0},null,{"$f":"AN24*GJ_to_km_taxi+AN25*GJ_to_km_covoit+AN26*GJ_to_km_busu+AN28*GJ_to_km_metro+AN29*GJ_to_km_train+AN30*GJ_to_km_loc+AN32*GJ_to_km_avion+AN27*GJ_to_km_busi+AN31*GJ_to_km_loc","v":0},null,{"$f":"AP24*GJ_to_km_taxi+AP25*GJ_to_km_covoit+AP26*GJ_to_km_busu+AP28*GJ_to_km_metro+AP29*GJ_to_km_train+AP30*GJ_to_km_loc+AP32*GJ_to_km_avion+AP27*GJ_to_km_busi+AP31*GJ_to_km_loc","v":0},null,{"$f":"AR24*GJ_to_km_taxi+AR25*GJ_to_km_covoit+AR26*GJ_to_km_busu+AR28*GJ_to_km_metro+AR29*GJ_to_km_train+AR30*GJ_to_km_loc+AR32*GJ_to_km_avion+AR27*GJ_to_km_busi+AR31*GJ_to_km_loc","v":0},null,{"$f":"AT24*GJ_to_km_taxi+AT25*GJ_to_km_covoit+AT26*GJ_to_km_busu+AT28*GJ_to_km_metro+AT29*GJ_to_km_train+AT30*GJ_to_km_loc+AT32*GJ_to_km_avion+AT27*GJ_to_km_busi+AT31*GJ_to_km_loc","v":0}]
[null,{"$f":"CONCATENATE(\"GJ_autre_\",MID(B9,3,2),\"_\",MID(B9,8,2))","v":"GJ_autre_02_03"},null,{"$f":"CONCATENATE(\"GJ_autre_\",MID(D9,3,2),\"_\",MID(D9,8,2))","v":"GJ_autre_03_04"},null,"GJ_autre_04_05",null,"GJ_autre_05_06",null,"GJ_autre_06_07",null,"GJ_autre_07_08",null,"GJ_autre_08_09",null,{"$f":"CONCATENATE(\"GJ_autre_\",MID(P9,3,2),\"_\",MID(P9,8,2))","v":"GJ_autre_09_10"},null,{"$f":"CONCATENATE(\"GJ_autre_\",MID(R9,3,2),\"_\",MID(R9,8,2))","v":"GJ_autre_10_11"},null,{"$f":"CONCATENATE(\"GJ_autre_\",MID(T9,3,2),\"_\",MID(T9,8,2))","v":"GJ_autre_11_12"},null,{"$f":"CONCATENATE(\"GJ_autre_\",MID(V9,3,2),\"_\",MID(V9,8,2))","v":"GJ_autre_12_13"},null,{"$f":"CONCATENATE(\"GJ_autre_\",MID(X9,3,2),\"_\",MID(X9,8,2))","v":"GJ_autre_13_14"},null,{"$f":"CONCATENATE(\"GJ_autre_\",MID(Z9,3,2),\"_\",MID(Z9,8,2))","v":"GJ_autre_14_15"},null,{"$f":"CONCATENATE(\"GJ_autre_\",MID(AB9,3,2),\"_\",MID(AB9,8,2))","v":"GJ_autre_15_16"},null,null,{"$f":"CONCATENATE(\"GJ_autre_\",MID(AE9,3,2),\"_\",MID(AE9,8,2))","v":"GJ_autre__"},null,{"$f":"CONCATENATE(\"GJ_autre_\",MID(AG9,3,2),\"_\",MID(AG9,8,2))","v":"GJ_autre__"},null,{"$f":"CONCATENATE(\"GJ_autre_\",MID(AI9,3,2),\"_\",MID(AI9,8,2))","v":"GJ_autre__"},null,{"$f":"CONCATENATE(\"GJ_autre_\",MID(AK9,3,2),\"_\",MID(AK9,8,2))","v":"GJ_autre__"},"GJ_autre_20_21","GJ_autre__","GJ_autre_21_22",{"$f":"CONCATENATE(\"GJ_autre_\",MID(AO9,3,2),\"_\",MID(AO9,8,2))","v":"GJ_autre__"},"GJ_autre_22_23",{"$f":"CONCATENATE(\"GJ_autre_\",MID(AQ9,3,2),\"_\",MID(AQ9,8,2))","v":"GJ_autre__"},"GJ_autre_23_24",{"$f":"CONCATENATE(\"GJ_autre_\",MID(AS9,3,2),\"_\",MID(AS9,8,2))","v":"GJ_autre__"},"GJ_autre_24_25"]
["Total [t éq.CO2]",{"$f":"B24*GES_to_km_taxi+B25*GES_to_km_covoit+B26*GES_to_km_busu+B28*GES_to_km_metro+B30*GES_to_km_train+B29*GES_to_km_loc+B32*GES_to_km_avion+B27*GES_to_km_busi+B31*GES_to_km_loc","v":0},null,{"$f":"D24*GES_to_km_taxi+D25*GES_to_km_covoit+D26*GES_to_km_busu+D28*GES_to_km_metro+D30*GES_to_km_train+D29*GES_to_km_loc+D32*GES_to_km_avion+D27*GES_to_km_busi+D31*GES_to_km_loc","v":0},null,{"$f":"F24*GES_to_km_taxi+F25*GES_to_km_covoit+F26*GES_to_km_busu+F28*GES_to_km_metro+F30*GES_to_km_train+F29*GES_to_km_loc+F32*GES_to_km_avion+F27*GES_to_km_busi+F31*GES_to_km_loc","v":0},null,{"$f":"H24*GES_to_km_taxi+H25*GES_to_km_covoit+H26*GES_to_km_busu+H28*GES_to_km_metro+H30*GES_to_km_train+H29*GES_to_km_loc+H32*GES_to_km_avion+H27*GES_to_km_busi+H31*GES_to_km_loc","v":0},null,{"$f":"J24*GES_to_km_taxi+J25*GES_to_km_covoit+J26*GES_to_km_busu+J28*GES_to_km_metro+J30*GES_to_km_train+J29*GES_to_km_loc+J32*GES_to_km_avion+J27*GES_to_km_busi+J31*GES_to_km_loc","v":0},null,{"$f":"L24*GES_to_km_taxi+L25*GES_to_km_covoit+L26*GES_to_km_busu+L28*GES_to_km_metro+L29*GES_to_km_train+L30*GES_to_km_loc+L32*GES_to_km_avion+L27*GES_to_km_busi+L31*GES_to_km_loc","v":0},null,{"$f":"N24*GES_to_km_taxi+N25*GES_to_km_covoit+N26*GES_to_km_busu+N28*GES_to_km_metro+N29*GES_to_km_train+N30*GES_to_km_loc+N32*GES_to_km_avion+N27*GES_to_km_busi+N31*GES_to_km_loc","v":0},null,{"$f":"P24*GES_to_km_taxi+P25*GES_to_km_covoit+P26*GES_to_km_busu+P28*GES_to_km_metro+P29*GES_to_km_train+P30*GES_to_km_loc+P32*GES_to_km_avion+P27*GES_to_km_busi+P31*GES_to_km_loc","v":0},null,{"$f":"R24*GES_to_km_taxi+R25*GES_to_km_covoit+R26*GES_to_km_busu+R28*GES_to_km_metro+R29*GES_to_km_train+R30*GES_to_km_loc+R32*GES_to_km_avion+R27*GES_to_km_busi+R31*GES_to_km_loc","v":0},null,{"$f":"T24*GES_to_km_taxi+T25*GES_to_km_covoit+T26*GES_to_km_busu+T28*GES_to_km_metro+T29*GES_to_km_train+T30*GES_to_km_loc+T32*GES_to_km_avion+T27*GES_to_km_busi+T31*GES_to_km_loc","v":0},null,{"$f":"V24*GES_to_km_taxi+V25*GES_to_km_covoit+V26*GES_to_km_busu+V28*GES_to_km_metro+V29*GES_to_km_train+V30*GES_to_km_loc+V32*GES_to_km_avion+V27*GES_to_km_busi+V31*GES_to_km_loc","v":0},null,{"$f":"X24*GES_to_km_taxi+X25*GES_to_km_covoit+X26*GES_to_km_busu+X28*GES_to_km_metro+X29*GES_to_km_train+X30*GES_to_km_loc+X32*GES_to_km_avion+X27*GES_to_km_busi+X31*GES_to_km_loc","v":0},null,{"$f":"Z24*GES_to_km_taxi+Z25*GES_to_km_covoit+Z26*GES_to_km_busu+Z28*GES_to_km_metro+Z29*GES_to_km_train+Z30*GES_to_km_loc+Z32*GES_to_km_avion+Z27*GES_to_km_busi+Z31*GES_to_km_loc","v":0},null,{"$f":"AB24*GES_to_km_taxi+AB25*GES_to_km_covoit+AB26*GES_to_km_busu+AB28*GES_to_km_metro+AB29*GES_to_km_train+AB30*GES_to_km_loc+AB32*GES_to_km_avion+AB27*GES_to_km_busi+AB31*GES_to_km_loc","v":0},null,{"$f":"AD24*GES_to_km_taxi+AD25*GES_to_km_covoit+AD26*GES_to_km_busu+AD28*GES_to_km_metro+AD29*GES_to_km_train+AD30*GES_to_km_loc+AD32*GES_to_km_avion+AD27*GES_to_km_busi+AD31*GES_to_km_loc","v":0},null,{"$f":"AF24*GES_to_km_taxi+AF25*GES_to_km_covoit+AF26*GES_to_km_busu+AF28*GES_to_km_metro+AF29*GES_to_km_train+AF30*GES_to_km_loc+AF32*GES_to_km_avion+AF27*GES_to_km_busi+AF31*GES_to_km_loc","v":0},null,{"$f":"AH24*GES_to_km_taxi+AH25*GES_to_km_covoit+AH26*GES_to_km_busu+AH28*GES_to_km_metro+AH29*GES_to_km_train+AH30*GES_to_km_loc+AH32*GES_to_km_avion+AH27*GES_to_km_busi+AH31*GES_to_km_loc","v":0},null,{"$f":"AJ24*GES_to_km_taxi+AJ25*GES_to_km_covoit+AJ26*GES_to_km_busu+AJ28*GES_to_km_metro+AJ29*GES_to_km_train+AJ30*GES_to_km_loc+AJ32*GES_to_km_avion+AJ27*GES_to_km_busi+AJ31*GES_to_km_loc","v":0},null,{"$f":"AL24*GES_to_km_taxi+AL25*GES_to_km_covoit+AL26*GES_to_km_busu+AL28*GES_to_km_metro+AL30*GES_to_km_train+AL29*GES_to_km_loc+AL32*GES_to_km_avion+AL27*GES_to_km_busi+AL31*GES_to_km_loc","v":0},null,{"$f":"AN24*GES_to_km_taxi+AN25*GES_to_km_covoit+AN26*GES_to_km_busu+AN28*GES_to_km_metro+AN30*GES_to_km_train+AN29*GES_to_km_loc+AN32*GES_to_km_avion+AN27*GES_to_km_busi+AN31*GES_to_km_loc","v":0},null,{"$f":"AP24*GES_to_km_taxi+AP25*GES_to_km_covoit+AP26*GES_to_km_busu+AP28*GES_to_km_metro+AP30*GES_to_km_train+AP29*GES_to_km_loc+AP32*GES_to_km_avion+AP27*GES_to_km_busi+AP31*GES_to_km_loc","v":0},null,{"$f":"AR24*GES_to_km_taxi+AR25*GES_to_km_covoit+AR26*GES_to_km_busu+AR28*GES_to_km_metro+AR30*GES_to_km_train+AR29*GES_to_km_loc+AR32*GES_to_km_avion+AR27*GES_to_km_busi+AR31*GES_to_km_loc","v":0},null,{"$f":"AT24*GES_to_km_taxi+AT25*GES_to_km_covoit+AT26*GES_to_km_busu+AT28*GES_to_km_metro+AT30*GES_to_km_train+AT29*GES_to_km_loc+AT32*GES_to_km_avion+AT27*GES_to_km_busi+AT31*GES_to_km_loc","v":0}]
[null,{"$f":"CONCATENATE(\"GES_autre_\",MID(B9,3,2),\"_\",MID(B9,8,2))","v":"GES_autre_02_03"},null,{"$f":"CONCATENATE(\"GES_autre_\",MID(D9,3,2),\"_\",MID(D9,8,2))","v":"GES_autre_03_04"},null,"GES_autre_04_05",null,"GES_autre_05_06",null,"GES_autre_06_07",null,"GES_autre_07_08",null,"GES_autre_08_09",null,{"$f":"CONCATENATE(\"GES_autre_\",MID(P9,3,2),\"_\",MID(P9,8,2))","v":"GES_autre_09_10"},null,{"$f":"CONCATENATE(\"GES_autre_\",MID(R9,3,2),\"_\",MID(R9,8,2))","v":"GES_autre_10_11"},null,{"$f":"CONCATENATE(\"GES_autre_\",MID(T9,3,2),\"_\",MID(T9,8,2))","v":"GES_autre_11_12"},null,{"$f":"CONCATENATE(\"GES_autre_\",MID(V9,3,2),\"_\",MID(V9,8,2))","v":"GES_autre_12_13"},null,{"$f":"CONCATENATE(\"GES_autre_\",MID(X9,3,2),\"_\",MID(X9,8,2))","v":"GES_autre_13_14"},null,{"$f":"CONCATENATE(\"GES_autre_\",MID(Z9,3,2),\"_\",MID(Z9,8,2))","v":"GES_autre_14_15"},null,{"$f":"CONCATENATE(\"GES_autre_\",MID(AB9,3,2),\"_\",MID(AB9,8,2))","v":"GES_autre_15_16"},null,null,{"$f":"CONCATENATE(\"GES_autre_\",MID(AE9,3,2),\"_\",MID(AE9,8,2))","v":"GES_autre__"},null,{"$f":"CONCATENATE(\"GES_autre_\",MID(AG9,3,2),\"_\",MID(AG9,8,2))","v":"GES_autre__"},null,{"$f":"CONCATENATE(\"GES_autre_\",MID(AI9,3,2),\"_\",MID(AI9,8,2))","v":"GES_autre__"},null,{"$f":"CONCATENATE(\"GES_autre_\",MID(AK9,3,2),\"_\",MID(AK9,8,2))","v":"GES_autre__"},"GES_autre_20_21","GES_autre__","GES_autre_21_22","GES_autre__","GES_autre_22_23",{"$f":"CONCATENATE(\"GES_autre_\",MID(AQ9,3,2),\"_\",MID(AQ9,8,2))","v":"GES_autre__"},"GES_autre_23_24",{"$f":"CONCATENATE(\"GES_autre_\",MID(AS9,3,2),\"_\",MID(AS9,8,2))","v":"GES_autre__"},"GES_autre_24_25"]
["Note :"]
["Les autres déplacements excluent les déplacements personnels des employé(e)s pour se rendre à leur lieu de travail ou le quitter."]

{"sheet":"5. NOMBRE DE VÉHICULES","index":5,"n_rows":39,"n_cols":46,"rows_kept":39,"cut":false,"hidden":false,"merged":[]}
[]
[]
[]
[]
[]
[]
[null,null,null,null,"Nombre de véhicules de l'organisation sur lesquels portent les données énergétiques fournies",null,null,null,null,null,null,null,null,null,null,null,null,null,null,null,null,null,null,null,null,null,null,null,null,"Nombre de véhicules de l'organisation sur lesquels portent les données énergétiques fournies aux onglets 2. (lignes 11 à 32) et 3 (lignes 11 à 16)."]
[]
[null,"2002-2003",null,"2003-2004",null,"2004-2005",null,"2005-2006",null,"2006-2007",null,"2007-2008",null,"2008-2009",null,"2009-2010",null,"2010-2011",null,"2011-2012",null,"2012-2013",null,"2013-2014",null,"2014-2015",null,"2015-2016",null,"2016-2017",null,"2017-2018",null,"2018-2019",null,"2019-2020",null,"2020-2021",null,"2021-2022",null,"2022-2023",null,"2023-2024",null,"2024-2025"]
["Nombre de véhicules légers de l'organisation sur lesquels portent les données énergétiques fournies *"]
["Sur route (incluant locations longue durée)"]
["Hors route (VTT, motoneige, etc.)  "]
["Hybrides [1]"]
["Hybrides rechargeables [2]"]
["Électriques à batterie (100% électrique) [3]"]
["Total",{"$f":"SUM(B11:B15)","v":0},null,{"$f":"SUM(D11:D15)","v":0},null,0,null,0,null,0,null,0,null,0,null,0,null,{"$f":"SUM(R11:R15)","v":0},null,{"$f":"SUM(T11:T15)","v":0},null,{"$f":"SUM(V11:V15)","v":0},null,{"$f":"SUM(X11:X15)","v":0},null,{"$f":"SUM(Z11:Z15)","v":0},null,{"$f":"SUM(AB11:AB15)","v":0},null,{"$f":"SUM(AD11:AD15)","v":0},null,{"$f":"SUM(AF11:AF15)","v":0},null,{"$f":"SUM(AH11:AH15)","v":0},null,{"$f":"SUM(AJ11:AJ15)","v":0},null,{"$f":"SUM(AL11:AL15)","v":0},null,{"$f":"SUM(AN11:AN15)","v":0},null,{"$f":"SUM(AP11:AP15)","v":0},null,{"$f":"SUM(AR11:AR15)","v":0},null,{"$f":"SUM(AT11:AT15)","v":0}]
[null,{"$f":"CONCATENATE(\"nb_vehic_inst_\",MID(B9,3,2),\"_\",MID(B9,8,2))","v":"nb_vehic_inst_02_03"},null,{"$f":"CONCATENATE(\"nb_vehic_inst_\",MID(D9,3,2),\"_\",MID(D9,8,2))","v":"nb_vehic_inst_03_04"},null,"nb_vehic_inst_04_05",null,"nb_vehic_inst_05_06",null,"nb_vehic_inst_06_07",null,"nb_vehic_inst_07_08",null,"nb_vehic_inst_08_09",null,"nb_vehic_inst_09_10",null,"nb_vehic_inst_10_11",null,"nb_vehic_inst_11_12",null,"nb_vehic_inst_12_13",null,"nb_vehic_inst_13_14",null,"nb_vehic_inst_14_15",null,"nb_vehic_inst_15_16",null,"nb_vehic_inst_16_17",null,"nb_vehic_inst_17_18",null,"nb_vehic_inst_18_19",null,"nb_vehic_inst_19_20",null,"nb_vehic_inst_20_21",null,{"$f":"CONCATENATE(\"nb_vehic_inst_\",MID(AN9,3,2),\"_\",MID(AN9,8,2))","v":"nb_vehic_inst_21_22"},null,"nb_vehic_inst_22_23",null,{"$f":"CONCATENATE(\"nb_vehic_inst_\",MID(AR9,3,2),\"_\",MID(AR9,8,2))","v":"nb_vehic_inst_23_24"},null,"nb_vehic_inst_24_25"]
[null,"nb_vehic_inst_02_03",null,"nb_vehic_inst_03_04",null,"nb_vehic_inst_04_05",null,"nb_vehic_inst_05_06",null,"nb_vehic_inst_06_07",null,"nb_vehic_inst_07_08",null,"nb_vehic_inst_08_09",null,"nb_vehic_inst_09_10",null,"nb_vehic_inst_10_11",null,"nb_vehic_inst_11_12",null,"nb_vehic_inst_12_13",null,"nb_vehic_inst_13_14",null,"nb_vehic_inst_14_15",null,"nb_vehic_inst_15_16",null,"nb_vehic_inst_16_17",null,"nb_vehic_inst_17_18",null,"nb_vehic_inst_18_19",null,"nb_vehic_inst_19_20",null,"nb_vehic_inst_20_21",null,"nb_vehic_inst_20_21",null,"nb_vehic_inst_20_21",null,"nb_vehic_inst_20_21",null,"nb_vehic_inst_20_21"]
[]
[]
[]
["Nombre de véhicules lourds de l'organisation sur lesquels portent les données énergétiques fournies *"]
["Sur route (incluant locations longue durée)"]
["Hors route (VTT, motoneige, etc.)  "]
["Hybrides [1]"]
["Hybrides rechargeables [2]"]
["Électriques à batterie (100% électrique) [3]"]
["Total",{"$f":"SUM(B23:B27)","v":0},null,{"$f":"SUM(D23:D27)","v":0},null,{"$f":"SUM(F23:F27)","v":0},null,{"$f":"SUM(H23:H27)","v":0},null,{"$f":"SUM(J23:J27)","v":0},null,{"$f":"SUM(L23:L27)","v":0},null,{"$f":"SUM(N23:N27)","v":0},null,{"$f":"SUM(P23:P27)","v":0},null,{"$f":"SUM(R23:R27)","v":0},null,{"$f":"SUM(T23:T27)","v":0},null,{"$f":"SUM(V23:V27)","v":0},null,{"$f":"SUM(X23:X27)","v":0},null,{"$f":"SUM(Z23:Z27)","v":0},null,{"$f":"SUM(AB23:AB27)","v":0},null,{"$f":"SUM(AD23:AD27)","v":0},null,{"$f":"SUM(AF23:AF27)","v":0},null,{"$f":"SUM(AH23:AH27)","v":0},null,{"$f":"SUM(AJ23:AJ27)","v":0},null,{"$f":"SUM(AL23:AL27)","v":0},null,{"$f":"SUM(AN23:AN27)","v":0},null,{"$f":"SUM(AP23:AP27)","v":0},null,{"$f":"SUM(AR23:AR27)","v":0},null,{"$f":"SUM(AT23:AT27)","v":0}]
["Nous distinguons trois types de véhicules autres que traditionnels :",null,null,null,null,null,null,null,null,null,null,null,null,null,null,null,null,null,null,null,null,null,null,"*  Les données énergétiques fournies dans l'onglet : 2. CARBURANT (lignes 11 à 32)."]
["1. Véhicules hybrides"]
["Ne peuvent pas être branchés sur le réseau électrique – ils sont uniquement rechargés par le moteur à essence et le freinage par récupération."]
[]
["2. Véhicules hybrides rechargeables"]
["Peuvent être chargés en étant branchés sur le réseau électrique."]
[]
["3. Véhicules électriques à batterie"]
["Fonctionnent entièrement grâce à une batterie et à une transmission électrique et il faut les brancher à une source externe d’électricité pour recharger leur batterie."]
[]
["Source : CAA. Types de véhicules électriques, [En ligne]. http://electricvehicles.caa.ca/fr/types-de-vehicules-electriques"]

{"sheet":"4. KM ZÉRO ÉMISSION","index":6,"n_rows":22,"n_cols":46,"rows_kept":22,"cut":false,"hidden":false,"merged":[]}
[]
[]
[]
[]
[]
[]
[null,null,null,"KILOMÉTRAGE ANNUEL",null,null,null,null,null,null,null,"KILOMÉTRAGE ANNUEL",null,null,null,null,null,null,null,"KILOMÉTRAGE ANNUEL",null,null,null,null,null,null,null,null,null,"KILOMÉTRAGE ANNUEL",null,null,null,"KILOMÉTRAGE ANNUEL"]
[]
["Déplacements dans le cadre du travail","2002-2003",null,"2003-2004",null,"2004-2005",null,"2005-2006",null,"2006-2007",null,"2007-2008",null,"2008-2009",null,"2009-2010",null,"2010-2011",null,"2011-2012",null,"2012-2013",null,"2013-2014",null,"2014-2015",null,"2015-2016",null,"2016-2017",null,"2017-2018",null,"2018-2019",null,"2019-2020",null,"2020-2021",null,"2021-2022",null,"2022-2023",null,"2023-2024",null,"2024-2025"]
["Carnet de suivi"]
["À pied [km]"]
["À bicyclette [km]"]
["Autres mesures [km]"]
["Total [km]",{"$f":"SUM(B11:B13)","v":0},null,{"$f":"SUM(D11:D13)","v":0},null,{"$f":"SUM(F11:F13)","v":0},null,{"$f":"SUM(H11:H13)","v":0},null,{"$f":"SUM(J11:J13)","v":0},null,{"$f":"SUM(L11:L13)","v":0},null,{"$f":"SUM(N11:N13)","v":0},null,{"$f":"SUM(P11:P13)","v":0},null,{"$f":"SUM(R11:R13)","v":0},null,{"$f":"SUM(T11:T13)","v":0},null,{"$f":"SUM(V11:V13)","v":0},null,{"$f":"SUM(X11:X13)","v":0},null,{"$f":"SUM(Z11:Z13)","v":0},null,{"$f":"SUM(AB11:AB13)","v":0},null,{"$f":"SUM(AD11:AD13)","v":0},null,{"$f":"SUM(AF11:AF13)","v":0},null,{"$f":"SUM(AH11:AH13)","v":0},null,{"$f":"SUM(AJ11:AJ13)","v":0},null,{"$f":"SUM(AL11:AL13)","v":0},null,{"$f":"SUM(AN11:AN13)","v":0},null,{"$f":"SUM(AP11:AP13)","v":0},null,{"$f":"SUM(AR11:AR13)","v":0},null,{"$f":"SUM(AT11:AT13)","v":0}]
[null,{"$f":"CONCATENATE(\"km_zero_\",MID(B9,3,2),\"_\",MID(B9,8,2))","v":"km_zero_02_03"},null,{"$f":"CONCATENATE(\"km_zero_\",MID(D9,3,2),\"_\",MID(D9,8,2))","v":"km_zero_03_04"},null,{"$f":"CONCATENATE(\"km_zero_\",MID(F9,3,2),\"_\",MID(F9,8,2))","v":"km_zero_04_05"},null,{"$f":"CONCATENATE(\"km_zero_\",MID(H9,3,2),\"_\",MID(H9,8,2))","v":"km_zero_05_06"},null,{"$f":"CONCATENATE(\"km_zero_\",MID(J9,3,2),\"_\",MID(J9,8,2))","v":"km_zero_06_07"},null,{"$f":"CONCATENATE(\"km_zero_\",MID(L9,3,2),\"_\",MID(L9,8,2))","v":"km_zero_07_08"},null,{"$f":"CONCATENATE(\"km_zero_\",MID(N9,3,2),\"_\",MID(N9,8,2))","v":"km_zero_08_09"},null,{"$f":"CONCATENATE(\"km_zero_\",MID(P9,3,2),\"_\",MID(P9,8,2))","v":"km_zero_09_10"},null,{"$f":"CONCATENATE(\"km_zero_\",MID(R9,3,2),\"_\",MID(R9,8,2))","v":"km_zero_10_11"},null,{"$f":"CONCATENATE(\"km_zero_\",MID(T9,3,2),\"_\",MID(T9,8,2))","v":"km_zero_11_12"},null,{"$f":"CONCATENATE(\"km_zero_\",MID(V9,3,2),\"_\",MID(V9,8,2))","v":"km_zero_12_13"},null,{"$f":"CONCATENATE(\"km_zero_\",MID(X9,3,2),\"_\",MID(X9,8,2))","v":"km_zero_13_14"},null,{"$f":"CONCATENATE(\"km_zero_\",MID(Z9,3,2),\"_\",MID(Z9,8,2))","v":"km_zero_14_15"},null,{"$f":"CONCATENATE(\"km_zero_\",MID(AB9,3,2),\"_\",MID(AB9,8,2))","v":"km_zero_15_16"},null,{"$f":"CONCATENATE(\"km_zero_\",MID(AD9,3,2),\"_\",MID(AD9,8,2))","v":"km_zero_16_17"},null,{"$f":"CONCATENATE(\"km_zero_\",MID(AF9,3,2),\"_\",MID(AF9,8,2))","v":"km_zero_17_18"},null,{"$f":"CONCATENATE(\"km_zero_\",MID(AH9,3,2),\"_\",MID(AH9,8,2))","v":"km_zero_18_19"},null,{"$f":"CONCATENATE(\"km_zero_\",MID(AJ9,3,2),\"_\",MID(AJ9,8,2))","v":"km_zero_19_20"},null,{"$f":"CONCATENATE(\"km_zero_\",MID(AL9,3,2),\"_\",MID(AL9,8,2))","v":"km_zero_20_21"},null,{"$f":"CONCATENATE(\"km_zero_\",MID(AN9,3,2),\"_\",MID(AN9,8,2))","v":"km_zero_21_22"},null,{"$f":"CONCATENATE(\"km_zero_\",MID(AP9,3,2),\"_\",MID(AP9,8,2))","v":"km_zero_22_23"},null,{"$f":"CONCATENATE(\"km_zero_\",MID(AR9,3,2),\"_\",MID(AR9,8,2))","v":"km_zero_23_24"},null,{"$f":"CONCATENATE(\"km_zero_\",MID(AT9,3,2),\"_\",MID(AT9,8,2))","v":"km_zero_24_25"}]
["Déplacements évités"]
["Téléconférences [km]"]
["Autres mesures [km]"]
["Total [km]",{"$f":"SUM(B17:B18)","v":0},null,{"$f":"SUM(D17:D18)","v":0},null,0,null,0,null,0,null,0,null,0,null,{"$f":"SUM(P17:P18)","v":0},null,{"$f":"SUM(R17:R18)","v":0},null,{"$f":"SUM(T17:T18)","v":0},null,{"$f":"SUM(V17:V18)","v":0},null,{"$f":"SUM(X17:X18)","v":0},null,{"$f":"SUM(Z17:Z18)","v":0},null,{"$f":"SUM(AB17:AB18)","v":0},null,{"$f":"SUM(AD17:AD18)","v":0},null,{"$f":"SUM(AF17:AF18)","v":0},null,{"$f":"SUM(AH17:AH18)","v":0},null,{"$f":"SUM(AJ17:AJ18)","v":0},null,{"$f":"SUM(AL17:AL18)","v":0},null,{"$f":"SUM(AN17:AN18)","v":0},null,{"$f":"SUM(AP17:AP18)","v":0},null,{"$f":"SUM(AR17:AR18)","v":0},null,{"$f":"SUM(AT17:AT18)","v":0}]
[null,{"$f":"CONCATENATE(\"km_evite_\",MID(B9,3,2),\"_\",MID(B9,8,2))","v":"km_evite_02_03"},null,{"$f":"CONCATENATE(\"km_evite_\",MID(D9,3,2),\"_\",MID(D9,8,2))","v":"km_evite_03_04"},null,"km_evite_04_05",null,"km_evite_05_06",null,"km_evite_06_07",null,"km_evite_07_08",null,"km_evite_08_09",null,"km_evite_09_10",null,"km_evite_10_11",null,"km_evite_11_12",null,"km_evite_12_13",null,"km_evite_13_14",null,"km_evite_14_15",null,"km_evite_15_16",null,"km_evite_16_17",null,"km_evite_17_18",null,"km_evite_18_19",null,"km_evite_19_20",null,"km_evite_20_21",null,{"$f":"CONCATENATE(\"km_evite_\",MID(AN9,3,2),\"_\",MID(AN9,8,2))","v":"km_evite_21_22"}]
["Attention"]
["Bien qu'importante, cette section reste facultative. Saisir les données seulement si elles sont disponibles et accessibles."]

{"sheet":"Transition","index":7,"n_rows":275,"n_cols":256,"rows_kept":275,"cut":false,"hidden":true,"merged":[[151,2,151,4],[177,2,183,2],[184,2,190,2],[83,2,89,2],[163,2,169,2],[170,2,176,2],[150,2,150,4],[157,2,157,4],[148,2,148,4],[149,2,149,4],[152,2,152,4],[91,2,104,2],[119,3,122,3],[0,0,0,4],[31,2,31,4],[146,2,146,4],[147,2,147,4],[45,2,47,2],[123,3,124,3],[119,2,124,2],[42,2,42,4],[55,2,61,2],[69,2,75,2],[76,2,82,2],[36,2,36,4],[43,2,43,4],[62,2,68,2],[37,2,37,4],[234,2,239,2],[230,2,233,2],[156,2,156,4],[153,2,153,4],[158,2,158,4],[155,2,155,4],[205,2,221,2],[159,2,159,4],[154,2,154,4],[191,2,197,2],[198,2,204,2],[2,38,3,44],[2,45,3,51],[2,52,3,67],[2,69,3,75],[48,2,54,2],[44,2,44,4],[32,2,32,4],[35,2,35,4],[41,2,41,4],[33,2,33,4],[38,2,38,4],[34,2,34,4],[40,2,40,4],[39,2,39,4],[2,10,3,16],[2,7,3,9],[2,17,3,23],[2,24,3,30],[2,31,3,37],[2,210,3,212],[2,77,3,80],[2,81,4,86],[2,99,3,102],[2,103,3,105],[2,117,3,123],[2,124,3,130],[2,92,3,98],[2,131,3,137],[2,138,3,144],[2,114,3,116],[2,199,3,205],[2,206,3,209],[1,195,1,205],[2,145,3,151],[2,152,3,158],[2,176,3,182],[2,184,3,187],[2,188,4,193],[2,159,3,174]]}
["Transition Transport : Données à recueillir - Pour le volet  TRANSPORT"]
[32,null,"Transport - VÉHICULES LÉGERS",null,null,null,38,46,null,null,null,null,null,null,null,null,null,null,null,null,null,null,null,null,null,null,null,null,null,null,null,null,null,null,null,null,null,null,null,null,null,null,null,null,null,null,null,null,null,null,null,null,null,null,null,null,null,null,null,null,null,null,null,null,null,null,null,null,null,null,null,null,null,null,null,null,null,null,null,null,null,null,null,null,null,null,null,"Transport - AUTRES",null,null,null,null,null,null,null,null,null,null,null,null,null,null,null,null,null,null,147,null,"Transport - VÉHICULES LOURDS",null,null,null,153,161,null,null,null,null,null,null,null,null,null,null,null,null,null,null,null,null,null,null,null,null,null,null,null,null,null,null,null,null,null,null,null,null,null,null,null,null,null,null,null,null,null,null,null,null,null,null,null,null,null,null,null,null,null,null,null,null,null,null,null,null,null,null,null,null,null,null,null,null,null,null,null,null,null,null,null,null,null,null,null,null,null,"CETTE SECTION N'EST PAS UTILISÉE"]
["Concatener (cette colonne permet la géeneration des données sur les rapports personnalisés)","Code du ministére","Année (Rapport BEIE)","Ministère (acronyme)","Ministère ou organisme","Année de référence","Année financière","Distance",null,null,"Essence",null,null,null,null,null,null,"Diesel",null,null,null,null,null,null,"Gaz naturel",null,null,null,null,null,null,"Propane",null,null,null,null,null,null,"Essence Ethanol",null,null,null,null,null,null,"Bio Diesel",null,null,null,null,null,null,"INDICATEURS",null,null,null,null,null,null,null,null,null,null,null,null,null,null,null,null,"Nombre de véhicules",null,null,null,null,null,null,null,"TOTAUX (pas importés)",null,null,null,"Estimation des\némissions de gaz\nà effet de serre",null,null,null,null,null,null,null,null,null,null,"Déplacements pour lesquels il y a des émissions de GES",null,null,null,null,null,null,"Déplacements\nZÉRO émissions\nde GES",null,null,null,"Déplacements ÉVITÉS",null,null,null,"Concatener (cette colonne permet la géeneration des données sur les rapports personnalisés)","Code du ministére","Année (Rapport BEIE)","Ministère (acronyme)","Ministère ou organisme","Année de référence","Année financière","Distance",null,null,"Essence",null,null,null,null,null,null,"Diesel",null,null,null,null,null,null,"Gaz naturel",null,null,null,null,null,null,"Propane",null,null,null,null,null,null,"Essence Ethanol",null,null,null,null,null,null,"Bio Diesel",null,null,null,null,null,null,"INDICATEURS",null,null,null,null,null,null,null,null,null,null,null,null,null,null,null,null,"Nombre de véhicules",null,null,null,null,null,null,null,"TOTAUX (pas importés)",null,null,null,"Estimation des\némissions de gaz\nà effet de serre",null,null,null,null,null,null,null,null,null,null,"Déplacements\npour lesquels\nil y a des\némissions de GES",null,null,null,null,null,null,"Déplacements\nZÉRO émissions\nde GES",null,null,null,"Déplacements ÉVITÉS"]
[]
["Identifiant (CodeMO+année)","Code du MO","Année","Acronyme","MO ou réseau","Statut du MO/Réseau","Année financière\nChoix possibles:\nJanvier-Décembre\nAvril-Mars\nMai-Avril\nJuillet-Juin","Distance sur route\n[km]","Distance hors route\n[km]","TOTAL Distance\n[km]",null,null,null,null,null,null,null,null,null,null,null,null,null,null,null,null,null,null,null,null,null,null,null,null,null,null,null,null,null,null,null,null,null,null,null,null,null,null,null,null,null,null,"F","F","F","F","F","F","F","F","F","F","F","F","F","F","F+V","F+V","F",null,null,null,null,null,null,null,null,null,null,null,null,null,null,null,null,null,null,null,null,null,null,null,null,null,null,null,null,null,null,null,null,null,null,null,null,null,null,null,null,null,null,null,null,null,"Distance sur route\n[km]","Distance hors route\n[km]","TOTAL Distance\n[km]",null,null,null,null,null,null,null,null,null,null,null,null,null,null,null,null,null,null,null,null,null,null,null,null,null,null,null,null,null,null,null,null,null,null,null,null,null,null,null,null,null,null,"F","F","F","F","F","F","F","F","F","F","F","F","F","F","F+V","F+V","F"]
[null,null,null,null,null,null,null,"Sur route [km]","Hors route [km]","Totale [km]","Essence Litres [L]","Essence [$]",null,null,null,null,null,"Diesel Litres [L]","Diesel [$]",null,null,null,null,null,"Gaz naturel [m³]","Gaz naturel [$]",null,null,null,null,null,"Propane Litres [L]","Propane [$]",null,null,null,null,null,"Essence Ethanol Litres [L]","Essence Ethanol [$]",null,null,null,null,null,"Bio Diesel Litres [L]","Bio Diesel [$]",null,null,null,null,null,"TOTAL Consommation Véh_légers \n[GJ]","TOTAL Consommation Véh_légers\n[L-éq.]","Consommation aux 100 km\n[L/100km]","Variation L/100km pr\n année précédente","Variation L/100 km pr \n2012-2013","TOTAL Dépenses Véh_légers\n[$]","Coûts ajustés à l'année courante\n[$]","Coûts ajustés comparés à l'année la plus récente","Coût au kilomètre ($/km) véhicules de l'organisation","Coût unitaire du litre éq.\n[$/L. éq.]","TOTAL Dioxide de carbone\n[kg CO2]","TOTAL Méthane\n[kg CH4]","TOTAL Oxyde nitreux\n[kg N2O]","TOTAL Émissions Véh_légers\n[kg CO2 éq.]","Variation Émissions pr \nannée précédente\n[%]","Variation Émissions pr 2009-2010\n[%]","Émission par km\n[kgCO2eq/km]","Traditionnel \nsur route","Traditionnel \nhors route","Hybride","Hybride rechargeable","100% électrique","TOTAL Nombre Véh_Légers","Distance parcourue par véhicule\n[km/véh.]","Date",null,null,null,null,"Essence [ton CO2 éq.]","Diesel [ton CO2 éq.]","Gaz naturel [ton CO2 éq.]","Propane [ton CO2 éq.]","Essence Ethanol [ton CO2 éq.]","Bio Diesel [ton CO2 éq.]","Véhicule de location courte durée\n[km]","Véhicule personnel\n[km]","Passager en covoiturage\n[km]","Taxi\n[km]","Avion longue distance (>= 1600 km)\n[km]","Train\n[km]","Autobus interurbain\n[km]","Autobus urbain\n[km]","Métro\n[km]","TOTAL Autres dépl. Avec GES\n[km]","TOTAL Autre dépl avec GES\n[GJ]","TOTAL GES\n[kg CO2eq]","Bicyclette\n[km]","À pied\n[km]","Autre\n[km]","TOTAL  GES = 0\n[km]","Téléconférence\n[km]","Autres mesures\n[km]","TOTAL déplacements évités\n[km]",null,null,null,null,null,null,null,null,"Sur route [km]","Hors route [km]","Totale [km]","Essence Litres [L]","Essence [$]",null,null,null,null,null,"Diesel Litres [L]","Diesel [$]",null,null,null,null,null,"Gaz naturel [m³]","Gaz naturel [$]",null,null,null,null,null,"Propane Litres [L]","Propane [$]",null,null,null,null,null,"Essence Ethanol Litres [L]","Essence Ethanol [$]",null,null,null,null,null,"Bio Diesel Litres [L]","Bio Diesel [$]",null,null,null,null,null,"TOTAL Consommation Véh_lourds\n[GJ]","TOTAL Consommation Véh_lourds\n[L-éq.]","Consommation aux 100 km\n[L/100km]","Variation L/100km pr\n année précédente","Variation L/100 km pr \n2012-2013","TOTAL Dépenses Véh_lourds\n[$]","Coûts ajustés à l'année courante\n[$]","Coûts ajustés comparés à l'année la plus récente","Coût au kilomètre ($/km) véhicules de l'organisation","Coût unitaire du litre éq.\n[$/L. éq.]","TOTAL Dioxide de carbone\n[kg CO2]","TOTAL Méthane\n[kg CH4]","TOTAL Oxyde nitreux\n[kg N2O]","TOTAL Émissions Véh_légers\n[kg CO2 éq.]","Variation Émissions pr \nannée précédente\n[%]","Variation Émissions pr 2009-2010\n[%]","Émission par km\n[kgCO2eq/km]","Traditionnel \nsur route","Traditionnel \nhors route","Hybride","Hybride rechargeable","100% électrique","TOTAL Nombre Véh_Légers","Distance parcourue par véhicule\n[km/véh.]","Date",null,null,null,null,"Essence [ton CO2 éq.]","Diesel [ton CO2 éq.]","Gaz naturel [ton CO2 éq.]","Propane [ton CO2 éq.]","Essence Ethanol [ton CO2 éq.]","Bio Diesel [ton CO2 éq.]","Véhicule de location courte durée\n[km]","Véhicule personnel\n[km]","Passager en covoiturage\n[km]","Taxi\n[km]","Avion longue distance (>= 1600 km)\n[km]","Train\n[km]","Autobus interurbain\n[km]","Autobus urbain\n[km]","Métro\n[km]","TOTAL Autres dépl. Avec GES\n[km]","TOTAL Autre dépl avec GES\n[GJ]","TOTAL GES\n[kg CO2eq]","Bicyclette\n[km]","À pied\n[km]","Autre\n[km]","TOTAL  GES = 0\n[km]","Téléconférence\n[km]","Autres mesures\n[km]","TOTAL déplacements évités\n[km]",null,null,null,null,null,null,null,null,null,null,null,null,null,null,null,null,null,null,null,null,null,null,null,null,null,null,null,null,null,null,null,null,null,null,null,null,null,null,null,null,null,null,"=SI(OU(NBVAL(DK10:GA10)= 0;SOMME(DK10:GA10)= 0);\"\";\"2\")"]
[null,null,0,"Initiale ou acronyme :","Ministère ou organisme :","Année de référence :",null,"Sur route (y compris les locations longue durée) [km]","Hors route ( VTT, motoneige…) [km]","Total [km]","Essence [litres]","Essence [$]",null,null,null,null,null,"Diesel  [litres]","Diesel [$]",null,null,null,null,null,"Gaz naturel [m³]","Gaz naturel [$]",null,null,null,null,null,"Propane  [litres]","Propane [$]",null,null,null,null,null,"Essence éthanol  [litres]","Essence éthanol  [$]",null,null,null,null,null,"Biodiesel [litres]","Biodiesel [$]",null,null,null,null,null,null,null,null,null,null,null,null,null,null,null,null,null,null,null,null,null,null,"Sur route (incluant locations longue durée)","Hors route (VTT, motoneige, etc.)  ","Hybrides [1]","Hybrides rechargeables [2]","Électriques à batterie (100% électrique) [3]",null,null,"Date :","Total [L-éq. essence]","Total [GJ]","Total [$]","Total [t CO2 éq.]","Essence [t CO2 éq.]","Diesel [t CO2 éq.]","Gaz naturel [t CO2 éq.]","Propane [t CO2 éq.]","Essence éthanol [t CO2 éq.]","Biodiesel [t CO2 éq.]","Véhicule de location courte durée [km]","Véhicule personnel [km]","Passager covoiturage [km]","Taxi [km]","Avion [km]","Train [km]","Autobus interurbain [km]","Autobus urbain [km]","Métro [km]",null,null,null,"À bicyclette [km]","À pied [km]","Autres mesures [km]","Total [km]","Téléconférences [km]","Autres mesures [km]","Total [km]",null,null,null,0,"Initiale ou acronyme :","Ministère ou organisme :","Année de référence :",null,"Sur route (y compris les locations longue durée) [km]","Hors route ( VTT, motoneige…) [km]","Total [km]","Essence [litres]","Essence [$]",null,null,null,null,null,"Diesel  [litres]","Diesel [$]",null,null,null,null,null,"Gaz naturel [m³]","Gaz naturel [$]",null,null,null,null,null,"Propane  [litres]","Propane [$]",null,null,null,null,null,"Essence éthanol  [litres]","Essence éthanol  [$]",null,null,null,null,null,"Biodiesel [litres]","Biodiesel [$]",null,null,null,null,null,null,null,null,null,null,null,null,null,"Coût unitaire du litre éq.\n[$/L. éq.]","TOTAL Dioxide de carbone\n[kg CO2]",null,null,null,null,null,null,"Émission par km\n[kgCO2eq/km]","Sur route (incluant locations longue durée)","Hors route (VTT, motoneige, etc.)  ","Hybrides [1]","Hybrides rechargeables [2]","Électriques à batterie (100% électrique) [3]","TOTAL Nombre Véh_Légers","Distance parcourue par véhicule\n[km/véh.]","Date","Total [L-éq. essence]","Total [GJ]","Total [$]","Total [t CO2 éq.]","Essence [t CO2 éq.]","Diesel [t CO2 éq.]","Gaz naturel [t CO2 éq.]","Propane [t CO2 éq.]","Essence éthanol [t CO2 éq.]","Biodiesel [t CO2 éq.]","Véhicule de location courte durée [km]","Véhicule personnel [km]","Passager covoiturage [km]","Taxi [km]","Avion [km]","Train [km]","Autobus interurbain [km]","Autobus urbain [km]","Métro [km]",null,null,null,"À bicyclette [km]","À pied [km]","Autres mesures [km]","Total [km]","Téléconférences [km]","Autres mesures [km]","Total [km]",0,0,0,0,0,0,0,0,0,0,0,0,0,0,0,null,null,null,null,null,null,null,null,null,null,null,null,null,null,null,null,null,null,null,null,null,null,null,null,null,null,"LÉGER","LOURD"]
[null,null,null,null,null,"Statut du MO:",null,null,null,null,null,null,null,null,null,null,null,{"$f":"IF((P12+Q12)=R12,\"\",P12+Q12)","v":""},{"$f":"S11*100/9.6","v":0},null,null,null,null,null,{"$f":"IF(Z8=\"\",\"\",Z8/L_ess_to_GJ)","v":""},{"$f":"IF((S12*L_ess_to_GJ+T12*L_dies_to_GJ+U12*m3_gn_to_GJ+V12*L_prop_to_GJ+W12*L_esseth_to_GJ+X12*L_biodies_to_GJ)<>Z12,S12*L_ess_to_GJ+T12*L_dies_to_GJ+U12*m3_gn_to_GJ+V12*L_prop_to_GJ+W12*L_esseth_to_GJ+X12*L_biodies_to_GJ,\"\")","v":""},null,null,null,null,null,null,{"$f":"IF(SUM(AA12:AF12)<>AG12,SUM(AA12:AF12),\"\")","v":""},null,null,null,null,null,{"$f":"IF(AH12+AI12+AJ12+AL12<>AM12,AH12+AI12+AJ12+AL12,\"\")","v":""},null,null,null,null,null,null,{"$f":"IF(SUM(AN12:AS12)=AT12,\"\",SUM(AN12:AS12))","v":""},null,null,null,null,null,null,null,null,null,{"$f":"IF(SUM(AU12:BC12)=BD12,\"\",SUM(AX12:BC12))","v":""},null,null,null,null,null,{"$f":"IF(SUM(BG12:BI12)=BJ12,\"\",SUM(BG12:BI12))","v":""},null,null,{"$f":"IF(SUM(BK12:BL12)=BM12,\"\",SUM(BK12:BL12))","v":""}]
[null,null,null,null,null,null,null,null,null,null,null,null,null,null,null,null,null,{"$f":"IF((P13+Q13)=R13,\"\",P13+Q13)","v":""},null,null,null,null,null,null,{"$f":"IF(Z9=\"\",\"\",Z9/L_ess_to_GJ)","v":""},{"$f":"IF((S13*L_ess_to_GJ+T13*L_dies_to_GJ+U13*m3_gn_to_GJ+V13*L_prop_to_GJ+W13*L_esseth_to_GJ+X13*L_biodies_to_GJ)<>Z13,S13*L_ess_to_GJ+T13*L_dies_to_GJ+U13*m3_gn_to_GJ+V13*L_prop_to_GJ+W13*L_esseth_to_GJ+X13*L_biodies_to_GJ,\"\")","v":""},null,null,null,null,null,null,{"$f":"IF(SUM(AA13:AF13)<>AG13,SUM(AA13:AF13),\"\")","v":""},null,null,null,null,null,{"$f":"IF(AH13+AI13+AJ13+AL13<>AM13,AH13+AI13+AJ13+AL13,\"\")","v":""},null,null,null,null,null,null,{"$f":"IF(SUM(AN13:AS13)=AT13,\"\",SUM(AN13:AS13))","v":""},null,null,null,null,null,null,null,null,null,{"$f":"IF(SUM(AU13:BC13)=BD13,\"\",SUM(AX13:BC13))","v":""},null,null,null,null,null,{"$f":"IF(SUM(BG13:BI13)=BJ13,\"\",SUM(BG13:BI13))","v":""},null,null,{"$f":"IF(SUM(BK13:BL13)=BM13,\"\",SUM(BK13:BL13))","v":""}]
[null,null,null,null,null,null,null,null,null,null,null,null,null,null,null,null,null,null,null,null,null,null,null,null,null,null,null,null,null,null,null,null,null,null,null,null,null,null,null,null,null,null,null,null,null,null,null,null,null,null,null,null,null,null,null,null,null,null,null,null,null,null,null,null,null,null,null,null,null,null,null,null,null,null,null,null,null,null,null,null,null,null,null,null,null,null,null,null,null,null,null,null,null,null,null,null,null,null,null,null,null,null,null,null,null,null,null,null,null,null,null,null,null,null,null,null,null,null,null,null,null,null,null,null,null,null,null,null,null,null,null,null,null,null,null,null,null,null,null,null,null,null,null,null,null,null,null,null,null,null,null,null,null,null,null,null,null,null,null,null,null,null,null,null,null,null,null,null,null,null,null,null,null,null,null,null,null,null,null,null,null,null,null,null,null,null,null,null,null,null,null,null,null,null,null,null,null,null,null,null,null,null,null,null,null,null,null,null,null,null,null,null,null,null,null,null,null,null,null,null,null,null,null,null,null,null,null,null,null,null,null,null,null,null,null,null,null,null,null,null,null,null,null,null,null,null,null,null,null,null,null,null,null,null,{"$f":"IF(OR(COUNTA(H10:BX10)= 0,SUM(H10:BX10)= 0),\"\",\"1\")","v":""},{"$f":"IF(OR(COUNTA(DK10:GA10)= 0,SUM(DK10:GA10)= 0),\"\",\"2\")","v":""}]
[null,null,null,null,null,null,null,null,null,null,null,null,null,null,null,null,null,null,null,null,null,null,null,null,null,null,null,null,null,null,null,null,null,null,null,null,null,null,null,null,null,null,null,null,null,null,null,null,null,null,null,null,null,null,null,null,null,null,null,null,null,null,null,null,null,null,null,null,null,null,null,null,null,null,null,null,null,null,null,null,null,null,null,null,null,null,null,null,null,null,null,null,null,null,null,null,null,null,null,null,null,null,null,null,null,null,null,null,null,null,null,null,null,null,null,null,null,null,null,null,null,null,null,null,null,null,null,null,null,null,null,null,null,null,null,null,null,null,null,null,null,null,null,null,null,null,null,null,null,null,null,null,null,null,null,null,null,null,null,null,null,null,null,null,null,null,null,null,null,null,null,null,null,null,null,null,null,null,null,null,null,null,null,null,null,null,null,null,null,null,null,null,null,null,null,null,null,null,null,null,null,null,null,null,null,null,null,null,null,null,null,null,null,null,null,null,null,null,null,null,null,null,null,null,null,null,null,null,null,null,null,null,null,null,null,null,null,null,null,null,null,null,null,null,null,null,null,null,null,null,null,null,null,null,{"$f":"IF(OR(COUNTA(H11:BX11)= 0,SUM(H11:BX11)= 0),\"\",\"1\")","v":""},{"$f":"IF(OR(COUNTA(DK11:GA11)= 0,SUM(DK11:GA11)= 0),\"\",\"2\")","v":""}]
[null,null,null,null,null,null,null,null,null,null,null,null,null,null,null,null,null,null,null,null,null,null,null,null,null,null,null,null,null,null,null,null,null,null,null,null,null,null,null,null,null,null,null,null,null,null,null,null,null,null,null,null,null,null,null,null,null,null,null,null,null,null,null,null,null,null,null,null,null,null,null,null,null,null,null,null,null,null,null,null,null,null,null,null,null,null,null,null,null,null,null,null,null,null,null,null,null,null,null,null,null,null,null,null,null,null,null,null,null,null,null,null,null,null,null,null,null,null,null,null,null,null,null,null,null,null,null,null,null,null,null,null,null,null,null,null,null,null,null,null,null,null,null,null,null,null,null,null,null,null,null,null,null,null,null,null,null,null,null,null,null,null,null,null,null,null,null,null,null,null,null,null,null,null,null,null,null,null,null,null,null,null,null,null,null,null,null,null,null,null,null,null,null,null,null,null,null,null,null,null,null,null,null,null,null,null,null,null,null,null,null,null,null,null,null,null,null,null,null,null,null,null,null,null,null,null,null,null,null,null,null,null,null,null,null,null,null,null,null,null,null,null,null,null,null,null,null,null,null,null,null,null,null,null,"",""]
[null,null,null,null,null,null,null,null,null,null,null,null,null,null,null,null,null,null,null,null,null,null,null,null,null,null,null,null,null,null,null,null,null,null,null,null,null,null,null,null,null,null,null,null,null,null,null,null,null,null,null,null,null,null,null,null,null,null,null,null,null,null,null,null,null,null,null,null,null,null,null,null,null,null,null,null,null,null,null,null,null,null,null,null,null,null,null,null,null,null,null,null,null,null,null,null,null,null,null,null,null,null,null,null,null,null,null,null,null,null,null,null,null,null,null,null,null,null,null,null,null,null,null,null,null,null,null,null,null,null,null,null,null,null,null,null,null,null,null,null,null,null,null,null,null,null,null,null,null,null,null,null,null,null,null,null,null,null,null,null,null,null,null,null,null,null,null,null,null,null,null,null,null,null,null,null,null,null,null,null,null,null,null,null,null,null,null,null,null,null,null,null,null,null,null,null,null,null,null,null,null,null,null,null,null,null,null,null,null,null,null,null,null,null,null,null,null,null,null,null,null,null,null,null,null,null,null,null,null,null,null,null,null,null,null,null,null,null,null,null,null,null,null,null,null,null,null,null,null,null,null,null,null,null,"",""]
[null,null,null,null,null,null,null,null,null,null,null,null,null,null,null,null,null,null,null,null,null,null,null,null,null,null,null,null,null,null,null,null,null,null,null,null,null,null,null,null,null,null,null,null,null,null,null,null,null,null,null,null,null,null,null,null,null,null,null,null,null,null,null,null,null,null,null,null,null,null,null,null,null,null,null,null,null,null,null,null,null,null,null,null,null,null,null,null,null,null,null,null,null,null,null,null,null,null,null,null,null,null,null,null,null,null,null,null,null,null,null,null,null,null,null,null,null,null,null,null,null,null,null,null,null,null,null,null,null,null,null,null,null,null,null,null,null,null,null,null,null,null,null,null,null,null,null,null,null,null,null,null,null,null,null,null,null,null,null,null,null,null,null,null,null,null,null,null,null,null,null,null,null,null,null,null,null,null,null,null,null,null,null,null,null,null,null,null,null,null,null,null,null,null,null,null,null,null,null,null,null,null,null,null,null,null,null,null,null,null,null,null,null,null,null,null,null,null,null,null,null,null,null,null,null,null,null,null,null,null,null,null,null,null,null,null,null,null,null,null,null,null,null,null,null,null,null,null,null,null,null,null,null,null,"",""]
[null,null,null,null,null,null,null,null,null,null,null,null,null,null,null,null,null,null,null,null,null,null,null,null,null,null,null,null,null,null,null,null,null,null,null,null,null,null,null,null,null,null,null,null,null,null,null,null,null,null,null,null,null,null,null,null,null,null,null,null,null,null,null,null,null,null,null,null,null,null,null,null,null,null,null,null,null,null,null,null,null,null,null,null,null,null,null,null,null,null,null,null,null,null,null,null,null,null,null,null,null,null,null,null,null,null,null,null,null,null,null,null,null,null,null,null,null,null,null,null,null,null,null,null,null,null,null,null,null,null,null,null,null,null,null,null,null,null,null,null,null,null,null,null,null,null,null,null,null,null,null,null,null,null,null,null,null,null,null,null,null,null,null,null,null,null,null,null,null,null,null,null,null,null,null,null,null,null,null,null,null,null,null,null,null,null,null,null,null,null,null,null,null,null,null,null,null,null,null,null,null,null,null,null,null,null,null,null,null,null,null,null,null,null,null,null,null,null,null,null,null,null,null,null,null,null,null,null,null,null,null,null,null,null,null,null,null,null,null,null,null,null,null,null,null,null,null,null,null,null,null,null,null,null,"",""]
[null,null,null,null,null,null,null,null,null,null,null,null,null,null,null,null,null,null,null,null,null,null,null,null,null,null,null,null,null,null,null,null,null,null,null,null,null,null,null,null,null,null,null,null,null,null,null,null,null,null,null,null,null,null,null,null,null,null,null,null,null,null,null,null,null,null,null,null,null,null,null,null,null,null,null,null,null,null,null,null,null,null,null,null,null,null,null,null,null,null,null,null,null,null,null,null,null,null,null,null,null,null,null,null,null,null,null,null,null,null,null,null,null,null,null,null,null,null,null,null,null,null,null,null,null,null,null,null,null,null,null,null,null,null,null,null,null,null,null,null,null,null,null,null,null,null,null,null,null,null,null,null,null,null,null,null,null,null,null,null,null,null,null,null,null,null,null,null,null,null,null,null,null,null,null,null,null,null,null,null,null,null,null,null,null,null,null,null,null,null,null,null,null,null,null,null,null,null,null,null,null,null,null,null,null,null,null,null,null,null,null,null,null,null,null,null,null,null,null,null,null,null,null,null,null,null,null,null,null,null,null,null,null,null,null,null,null,null,null,null,null,null,null,null,null,null,null,null,null,null,null,null,null,null,"",""]
[null,null,null,null,null,null,null,null,null,null,null,null,null,null,null,null,null,null,null,null,null,null,null,null,null,null,null,null,null,null,null,null,null,null,null,null,null,null,null,null,null,null,null,null,null,null,null,null,null,null,null,null,null,null,null,null,null,null,null,null,null,null,null,null,null,null,null,null,null,null,null,null,null,null,null,null,null,null,null,null,null,null,null,null,null,null,null,null,null,null,null,null,null,null,null,null,null,null,null,null,null,null,null,null,null,null,null,null,null,null,null,null,null,null,null,null,null,null,null,null,null,null,null,null,null,null,null,null,null,null,null,null,null,null,null,null,null,null,null,null,null,null,null,null,null,null,null,null,null,null,null,null,null,null,null,null,null,null,null,null,null,null,null,null,null,null,null,null,null,null,null,null,null,null,null,null,null,null,null,null,null,null,null,null,null,null,null,null,null,null,null,null,null,null,null,null,null,null,null,null,null,null,null,null,null,null,null,null,null,null,null,null,null,null,null,null,null,null,null,null,null,null,null,null,null,null,null,null,null,null,null,null,null,null,null,null,null,null,null,null,null,null,null,null,null,null,null,null,null,null,null,null,null,null,"",""]
[null,null,null,null,null,null,null,null,null,null,null,null,null,null,null,null,null,null,null,null,null,null,null,null,null,null,null,null,null,null,null,null,null,null,null,null,null,null,null,null,null,null,null,null,null,null,null,null,null,null,null,null,null,null,null,null,null,null,null,null,null,null,null,null,null,null,null,null,null,null,null,null,null,null,null,null,null,null,null,null,null,null,null,null,null,null,null,null,null,null,null,null,null,null,null,null,null,null,null,null,null,null,null,null,null,null,null,null,null,null,null,null,null,null,null,null,null,null,null,null,null,null,null,null,null,null,null,null,null,null,null,null,null,null,null,null,null,null,null,null,null,null,null,null,null,null,null,null,null,null,null,null,null,null,null,null,null,null,null,null,null,null,null,null,null,null,null,null,null,null,null,null,null,null,null,null,null,null,null,null,null,null,null,null,null,null,null,null,null,null,null,null,null,null,null,null,null,null,null,null,null,null,null,null,null,null,null,null,null,null,null,null,null,null,null,null,null,null,null,null,null,null,null,null,null,null,null,null,null,null,null,null,null,null,null,null,null,null,null,null,null,null,null,null,null,null,null,null,null,null,null,null,null,null,"",""]
[null,null,null,null,null,null,null,null,null,null,null,null,null,null,null,null,null,null,null,null,null,null,null,null,null,null,null,null,null,null,null,null,null,null,null,null,null,null,null,null,null,null,null,null,null,null,null,null,null,null,null,null,null,null,null,null,null,null,null,null,null,null,null,null,null,null,null,null,null,null,null,null,null,null,null,null,null,null,null,null,null,null,null,null,null,null,null,null,null,null,null,null,null,null,null,null,null,null,null,null,null,null,null,null,null,null,null,null,null,null,null,null,null,null,null,null,null,null,null,null,null,null,null,null,null,null,null,null,null,null,null,null,null,null,null,null,null,null,null,null,null,null,null,null,null,null,null,null,null,null,null,null,null,null,null,null,null,null,null,null,null,null,null,null,null,null,null,null,null,null,null,null,null,null,null,null,null,null,null,null,null,null,null,null,null,null,null,null,null,null,null,null,null,null,null,null,null,null,null,null,null,null,null,null,null,null,null,null,null,null,null,null,null,null,null,null,null,null,null,null,null,null,null,null,null,null,null,null,null,null,null,null,null,null,null,null,null,null,null,null,null,null,null,null,null,null,null,null,null,null,null,null,null,null,"",""]
[null,null,null,null,null,null,null,null,null,null,null,null,null,null,null,null,null,null,null,null,null,null,null,null,null,null,null,null,null,null,null,null,null,null,null,null,null,null,null,null,null,null,null,null,null,null,null,null,null,null,null,null,null,null,null,null,null,null,null,null,null,null,null,null,null,null,null,null,null,null,null,null,null,null,null,null,null,null,null,null,null,null,null,null,null,null,null,null,null,null,null,null,null,null,null,null,null,null,null,null,null,null,null,null,null,null,null,null,null,null,null,null,null,null,null,null,null,null,null,null,null,null,null,null,null,null,null,null,null,null,null,null,null,null,null,null,null,null,null,null,null,null,null,null,null,null,null,null,null,null,null,null,null,null,null,null,null,null,null,null,null,null,null,null,null,null,null,null,null,null,null,null,null,null,null,null,null,null,null,null,null,null,null,null,null,null,null,null,null,null,null,null,null,null,null,null,null,null,null,null,null,null,null,null,null,null,null,null,null,null,null,null,null,null,null,null,null,null,null,null,null,null,null,null,null,null,null,null,null,null,null,null,null,null,null,null,null,null,null,null,null,null,null,null,null,null,null,null,null,null,null,null,null,null,"",""]
[null,null,null,null,null,null,null,null,null,null,null,null,null,null,null,null,null,null,null,null,null,null,null,null,null,null,null,null,null,null,null,null,null,null,null,null,null,null,null,null,null,null,null,null,null,null,null,null,null,null,null,null,null,null,null,null,null,null,null,null,null,null,null,null,null,null,null,null,null,null,null,null,null,null,null,null,null,null,null,null,null,null,null,null,null,null,null,null,null,null,null,null,null,null,null,null,null,null,null,null,null,null,null,null,null,null,null,null,null,null,null,null,null,null,null,null,null,null,null,null,null,null,null,null,null,null,null,null,null,null,null,null,null,null,null,null,null,null,null,null,null,null,null,null,null,null,null,null,null,null,null,null,null,null,null,null,null,null,null,null,null,null,null,null,null,null,null,null,null,null,null,null,null,null,null,null,null,null,null,null,null,null,null,null,null,null,null,null,null,null,null,null,null,null,null,null,null,null,null,null,null,null,null,null,null,null,null,null,null,null,null,null,null,null,null,null,null,null,null,null,null,null,null,null,null,null,null,null,null,null,null,null,null,null,null,null,null,null,null,null,null,null,null,null,null,null,null,null,null,null,null,null,null,null,"",""]
[null,null,null,null,null,null,null,null,null,null,null,null,null,null,null,null,null,null,null,null,null,null,null,null,null,null,null,null,null,null,null,null,null,null,null,null,null,null,null,null,null,null,null,null,null,null,null,null,null,null,null,null,null,null,null,null,null,null,null,null,null,null,null,null,null,null,null,null,null,null,null,null,null,null,null,null,null,null,null,null,null,null,null,null,null,null,null,null,null,null,null,null,null,null,null,null,null,null,null,null,null,null,null,null,null,null,null,null,null,null,null,null,null,null,null,null,null,null,null,null,null,null,null,null,null,null,null,null,null,null,null,null,null,null,null,null,null,null,null,null,null,null,null,null,null,null,null,null,null,null,null,null,null,null,null,null,null,null,null,null,null,null,null,null,null,null,null,null,null,null,null,null,null,null,null,null,null,null,null,null,null,null,null,null,null,null,null,null,null,null,null,null,null,null,null,null,null,null,null,null,null,null,null,null,null,null,null,null,null,null,null,null,null,null,null,null,null,null,null,null,null,null,null,null,null,null,null,null,null,null,null,null,null,null,null,null,null,null,null,null,null,null,null,null,null,null,null,null,null,null,null,null,null,null,"",""]
[null,null,null,null,null,null,null,null,null,null,null,null,null,null,null,null,null,null,null,null,null,null,null,null,null,null,null,null,null,null,null,null,null,null,null,null,null,null,null,null,null,null,null,null,null,null,null,null,null,null,null,null,null,null,null,null,null,null,null,null,null,null,null,null,null,null,null,null,null,null,null,null,null,null,null,null,null,null,null,null,null,null,null,null,null,null,null,null,null,null,null,null,null,null,null,null,null,null,null,null,null,null,null,null,null,null,null,null,null,null,null,null,null,null,null,null,null,null,null,null,null,null,null,null,null,null,null,null,null,null,null,null,null,null,null,null,null,null,null,null,null,null,null,null,null,null,null,null,null,null,null,null,null,null,null,null,null,null,null,null,null,null,null,null,null,null,null,null,null,null,null,null,null,null,null,null,null,null,null,null,null,null,null,null,null,null,null,null,null,null,null,null,null,null,null,null,null,null,null,null,null,null,null,null,null,null,null,null,null,null,null,null,null,null,null,null,null,null,null,null,null,null,null,null,null,null,null,null,null,null,null,null,null,null,null,null,null,null,null,null,null,null,null,null,null,null,null,null,null,null,null,null,null,null,"",""]
[null,null,null,null,null,null,null,null,null,null,null,null,null,null,null,null,null,null,null,null,null,null,null,null,null,null,null,null,null,null,null,null,null,null,null,null,null,null,null,null,null,null,null,null,null,null,null,null,null,null,null,null,null,null,null,null,null,null,null,null,null,null,null,null,null,null,null,null,null,null,null,null,null,null,null,null,null,null,null,null,null,null,null,null,null,null,null,null,null,null,null,null,null,null,null,null,null,null,null,null,null,null,null,null,null,null,null,null,null,null,null,null,null,null,null,null,null,null,null,null,null,null,null,null,null,null,null,null,null,null,null,null,null,null,null,null,null,null,null,null,null,null,null,null,null,null,null,null,null,null,null,null,null,null,null,null,null,null,null,null,null,null,null,null,null,null,null,null,null,null,null,null,null,null,null,null,null,null,null,null,null,null,null,null,null,null,null,null,null,null,null,null,null,null,null,null,null,null,null,null,null,null,null,null,null,null,null,null,null,null,null,null,null,null,null,null,null,null,null,null,null,null,null,null,null,null,null,null,null,null,null,null,null,null,null,null,null,null,null,null,null,null,null,null,null,null,null,null,null,null,null,null,null,null,"",""]
[null,null,null,null,null,null,null,null,null,null,null,null,null,null,null,null,null,null,null,null,null,null,null,null,null,null,null,null,null,null,null,null,null,null,null,null,null,null,null,null,null,null,null,null,null,null,null,null,null,null,null,null,null,null,null,null,null,null,null,null,null,null,null,null,null,null,null,null,null,null,null,null,null,null,null,null,null,null,null,null,null,null,null,null,null,null,null,null,null,null,null,null,null,null,null,null,null,null,null,null,null,null,null,null,null,null,null,null,null,null,null,null,null,null,null,null,null,null,null,null,null,null,null,null,null,null,null,null,null,null,null,null,null,null,null,null,null,null,null,null,null,null,null,null,null,null,null,null,null,null,null,null,null,null,null,null,null,null,null,null,null,null,null,null,null,null,null,null,null,null,null,null,null,null,null,null,null,null,null,null,null,null,null,null,null,null,null,null,null,null,null,null,null,null,null,null,null,null,null,null,null,null,null,null,null,null,null,null,null,null,null,null,null,null,null,null,null,null,null,null,null,null,null,null,null,null,null,null,null,null,null,null,null,null,null,null,null,null,null,null,null,null,null,null,null,null,null,null,null,null,null,null,null,null,"",""]
[null,null,null,null,null,null,null,null,null,null,null,null,null,null,null,null,null,null,null,null,null,null,null,null,null,null,null,null,null,null,null,null,null,null,null,null,null,null,null,null,null,null,null,null,null,null,null,null,null,null,null,null,null,null,null,null,null,null,null,null,null,null,null,null,null,null,null,null,null,null,null,null,null,null,null,null,null,null,null,null,null,null,null,null,null,null,null,null,null,null,null,null,null,null,null,null,null,null,null,null,null,null,null,null,null,null,null,null,null,null,null,null,null,null,null,null,null,null,null,null,null,null,null,null,null,null,null,null,null,null,null,null,null,null,null,null,null,null,null,null,null,null,null,null,null,null,null,null,null,null,null,null,null,null,null,null,null,null,null,null,null,null,null,null,null,null,null,null,null,null,null,null,null,null,null,null,null,null,null,null,null,null,null,null,null,null,null,null,null,null,null,null,null,null,null,null,null,null,null,null,null,null,null,null,null,null,null,null,null,null,null,null,null,null,null,null,null,null,null,null,null,null,null,null,null,null,null,null,null,null,null,null,null,null,null,null,null,null,null,null,null,null,null,null,null,null,null,null,null,null,null,null,null,null,"",""]
[null,null,null,null,null,null,null,null,null,null,null,null,null,null,null,null,null,null,null,null,null,null,null,null,null,null,null,null,null,null,null,null,null,null,null,null,null,null,null,null,null,null,null,null,null,null,null,null,null,null,null,null,null,null,null,null,null,null,null,null,null,null,null,null,null,null,null,null,null,null,null,null,null,null,null,null,null,null,null,null,null,null,null,null,null,null,null,null,null,null,null,null,null,null,null,null,null,null,null,null,null,null,null,null,null,null,null,null,null,null,null,null,null,null,null,null,null,null,null,null,null,null,null,null,null,null,null,null,null,null,null,null,null,null,null,null,null,null,null,null,null,null,null,null,null,null,null,null,null,null,null,null,null,null,null,null,null,null,null,null,null,null,null,null,null,null,null,null,null,null,null,null,null,null,null,null,null,null,null,null,null,null,null,null,null,null,null,null,null,null,null,null,null,null,null,null,null,null,null,null,null,null,null,null,null,null,null,null,null,null,null,null,null,null,null,null,null,null,null,null,null,null,null,null,null,null,null,null,null,null,null,null,null,null,null,null,null,null,null,null,null,null,null,null,null,null,null,null,null,null,null,null,null,null,"",""]
[null,null,null,null,null,null,null,null,null,null,null,null,null,null,null,null,null,null,null,null,null,null,null,null,null,null,null,null,null,null,null,null,null,null,null,null,null,null,null,null,null,null,null,null,null,null,null,null,null,null,null,null,null,null,null,null,null,null,null,null,null,null,null,null,null,null,null,null,null,null,null,null,null,null,null,null,null,null,null,null,null,null,null,null,null,null,null,null,null,null,null,null,null,null,null,null,null,null,null,null,null,null,null,null,null,null,null,null,null,null,null,null,null,null,null,null,null,null,null,null,null,null,null,null,null,null,null,null,null,null,null,null,null,null,null,null,null,null,null,null,null,null,null,null,null,null,null,null,null,null,null,null,null,null,null,null,null,null,null,null,null,null,null,null,null,null,null,null,null,null,null,null,null,null,null,null,null,null,null,null,null,null,null,null,null,null,null,null,null,null,null,null,null,null,null,null,null,null,null,null,null,null,null,null,null,null,null,null,null,null,null,null,null,null,null,null,null,null,null,null,null,null,null,null,null,null,null,null,null,null,null,null,null,null,null,null,null,null,null,null,null,null,null,null,null,null,null,null,null,null,null,null,null,null,"",""]
[null,null,null,null,null,null,null,null,null,null,null,null,null,null,null,null,null,null,null,null,null,null,null,null,null,null,null,null,null,null,null,null,null,null,null,null,null,null,null,null,null,null,null,null,null,null,null,null,null,null,null,null,null,null,null,null,null,null,null,null,null,null,null,null,null,null,null,null,null,null,null,null,null,null,null,null,null,null,null,null,null,null,null,null,null,null,null,null,null,null,null,null,null,null,null,null,null,null,null,null,null,null,null,null,null,null,null,null,null,null,null,null,null,null,null,null,null,null,null,null,null,null,null,null,null,null,null,null,null,null,null,null,null,null,null,null,null,null,null,null,null,null,null,null,null,null,null,null,null,null,null,null,null,null,null,null,null,null,null,null,null,null,null,null,null,null,null,null,null,null,null,null,null,null,null,null,null,null,null,null,null,null,null,null,null,null,null,null,null,null,null,null,null,null,null,null,null,null,null,null,null,null,null,null,null,null,null,null,null,null,null,null,null,null,null,null,null,null,null,null,null,null,null,null,null,null,null,null,null,null,null,null,null,null,null,null,null,null,null,null,null,null,null,null,null,null,null,null,null,null,null,null,null,null,"",""]
["2023-2024","",0,null,"2023-2024","Fondation de la faune du Québec",0,0,0,0,0,0,0,0,0,1000,1000,2000,200,200,{"$error":"#DIV/0!"},{"$error":"#DIV/0!"},0,0,{"$error":"#DIV/0!"},{"$error":"#DIV/0!"},1000,1000,1000,1000,0,0,4000,100,100,100,100,100,500,0.47223999999999999,0.55795899999999998,{"$error":"#DIV/0!"},0.55795899999999998,0,0.55795899999999998,{"$error":"#DIV/0!"},0.55795899999999998,1000,0.55795899999999998,1000,0.55795899999999998,1000,1000,1000,1000,9000,16.136833496657232,1.1067146666666665,0,0,0,0,0,0,0,null,null,null,null,null,null,null,null,null,null,null,null,null,null,null,null,null,null,null,null,2]
[null,null,null,null,null,"Liaisons",{"$f":"G34","v":"2002-2003"},null,{"$f":"I34","v":"2003-2004"},null,{"$f":"K34","v":"2004-2005"},null,{"$f":"M34","v":"2005-2006"},null,{"$f":"O34","v":"2006-2007"},null,{"$f":"Q34","v":"2007-2008"},null,{"$f":"S34","v":"2008-2009"},null,{"$f":"U34","v":"2009-2010"},null,{"$f":"W34","v":"2010-2011"},null,{"$f":"Y34","v":"2011-2012"},null,{"$f":"AA34","v":"2012-2013"},null,{"$f":"AC34","v":"2013-2014"},null,{"$f":"AE34","v":"2014-2015"},null,{"$f":"AG34","v":"2015-2016"},null,{"$f":"AI34","v":"2016-2017"},null,{"$f":"AK34","v":"2017-2018"},null,{"$f":"AM34","v":"2018-2019"},null,{"$f":"AO34","v":"2019-2020"},null,{"$f":"AQ34","v":"2020-2021"},null,{"$f":"AS34","v":"2021-2022"},null,{"$f":"AU34","v":"2022-2023"},null,{"$f":"AW34","v":"2023-2024"},null,{"$f":"AY34","v":"2024-2025"}]
["Identification\net\ncoordonnées",null,"Concatener (cette colonne permet la géeneration des données sur les rapports personnalisés)",null,null,null,{"$f":"CONCATENATE(G34,\"-\",G33)","v":"2002-2003-"},null,{"$f":"CONCATENATE(I34,\"-\",I33)","v":"2003-2004-"},null,{"$f":"CONCATENATE(K34,\"-\",K33)","v":"2004-2005-"},null,{"$f":"CONCATENATE(M34,\"-\",M33)","v":"2005-2006-"},null,{"$f":"CONCATENATE(O34,\"-\",O33)","v":"2006-2007-"},null,{"$f":"CONCATENATE(Q34,\"-\",Q33)","v":"2007-2008-"},null,{"$f":"CONCATENATE(S34,\"-\",S33)","v":"2008-2009-"},null,{"$f":"CONCATENATE(U34,\"-\",U33)","v":"2009-2010-"},null,{"$f":"CONCATENATE(W34,\"-\",W33)","v":"2010-2011-"},null,{"$f":"CONCATENATE(Y34,\"-\",Y33)","v":"2011-2012-"},null,{"$f":"CONCATENATE(AA34,\"-\",AA33)","v":"2012-2013-"},null,{"$f":"CONCATENATE(AC34,\"-\",AC33)","v":"2013-2014-"},null,{"$f":"CONCATENATE(AE34,\"-\",AE33)","v":"2014-2015-"},null,{"$f":"CONCATENATE(AG34,\"-\",AG33)","v":"2015-2016-"},null,{"$f":"CONCATENATE(AI34,\"-\",AI33)","v":"2016-2017-"},null,{"$f":"CONCATENATE(AK34,\"-\",AK33)","v":"2017-2018-"},null,{"$f":"CONCATENATE(AM34,\"-\",AM33)","v":"2018-2019-"},null,{"$f":"CONCATENATE(AO34,\"-\",AO33)","v":"2019-2020-"},null,{"$f":"CONCATENATE(AQ34,\"-\",AQ33)","v":"2020-2021-"},null,{"$f":"CONCATENATE(AS34,\"-\",AS33)","v":"2021-2022-"},null,{"$f":"CONCATENATE(AU34,\"-\",AU33)","v":"2022-2023-"},null,{"$f":"CONCATENATE(AW34,\"-\",AW33)","v":"2023-2024-"},null,{"$f":"CONCATENATE(AY34,\"-\",AY33)","v":"2024-2025-"}]
[null,null,"Code du ministére",null,null,null,{"$f":"IF('1. IDENTITÉ'!$B$11<>0,'1. IDENTITÉ'!$B$11,IF(ISERROR(VLOOKUP(G36,ListeMO!$A$3:$B$135,2,FALSE)),\"\",VLOOKUP(G36,ListeMO!$A$3:$B$135,2,FALSE)))","v":""},null,{"$f":"IF('1. IDENTITÉ'!$B$11<>0,'1. IDENTITÉ'!$B$11,IF(ISERROR(VLOOKUP(I36,ListeMO!$A$3:$B$135,2,FALSE)),\"\",VLOOKUP(I36,ListeMO!$A$3:$B$135,2,FALSE)))","v":""},null,{"$f":"IF('1. IDENTITÉ'!$B$11<>0,'1. IDENTITÉ'!$B$11,IF(ISERROR(VLOOKUP(K36,ListeMO!$A$3:$B$135,2,FALSE)),\"\",VLOOKUP(K36,ListeMO!$A$3:$B$135,2,FALSE)))","v":""},null,{"$f":"IF('1. IDENTITÉ'!$B$11<>0,'1. IDENTITÉ'!$B$11,IF(ISERROR(VLOOKUP(M36,ListeMO!$A$3:$B$135,2,FALSE)),\"\",VLOOKUP(M36,ListeMO!$A$3:$B$135,2,FALSE)))","v":""},null,{"$f":"IF('1. IDENTITÉ'!$B$11<>0,'1. IDENTITÉ'!$B$11,IF(ISERROR(VLOOKUP(O36,ListeMO!$A$3:$B$135,2,FALSE)),\"\",VLOOKUP(O36,ListeMO!$A$3:$B$135,2,FALSE)))","v":""},null,{"$f":"IF('1. IDENTITÉ'!$B$11<>0,'1. IDENTITÉ'!$B$11,IF(ISERROR(VLOOKUP(Q36,ListeMO!$A$3:$B$135,2,FALSE)),\"\",VLOOKUP(Q36,ListeMO!$A$3:$B$135,2,FALSE)))","v":""},null,{"$f":"IF('1. IDENTITÉ'!$B$11<>0,'1. IDENTITÉ'!$B$11,IF(ISERROR(VLOOKUP(S36,ListeMO!$A$3:$B$135,2,FALSE)),\"\",VLOOKUP(S36,ListeMO!$A$3:$B$135,2,FALSE)))","v":""},null,{"$f":"IF('1. IDENTITÉ'!$B$11<>0,'1. IDENTITÉ'!$B$11,IF(ISERROR(VLOOKUP(U36,ListeMO!$A$3:$B$135,2,FALSE)),\"\",VLOOKUP(U36,ListeMO!$A$3:$B$135,2,FALSE)))","v":""},null,{"$f":"IF('1. IDENTITÉ'!$B$11<>0,'1. IDENTITÉ'!$B$11,IF(ISERROR(VLOOKUP(W36,ListeMO!$A$3:$B$135,2,FALSE)),\"\",VLOOKUP(W36,ListeMO!$A$3:$B$135,2,FALSE)))","v":""},null,{"$f":"IF('1. IDENTITÉ'!$B$11<>0,'1. IDENTITÉ'!$B$11,IF(ISERROR(VLOOKUP(Y36,ListeMO!$A$3:$B$135,2,FALSE)),\"\",VLOOKUP(Y36,ListeMO!$A$3:$B$135,2,FALSE)))","v":""},null,{"$f":"IF('1. IDENTITÉ'!$B$11<>0,'1. IDENTITÉ'!$B$11,IF(ISERROR(VLOOKUP(AA36,ListeMO!$A$3:$B$135,2,FALSE)),\"\",VLOOKUP(AA36,ListeMO!$A$3:$B$135,2,FALSE)))","v":""},null,{"$f":"IF('1. IDENTITÉ'!$B$11<>0,'1. IDENTITÉ'!$B$11,IF(ISERROR(VLOOKUP(AC36,ListeMO!$A$3:$B$135,2,FALSE)),\"\",VLOOKUP(AC36,ListeMO!$A$3:$B$135,2,FALSE)))","v":""},null,{"$f":"IF('1. IDENTITÉ'!$B$11<>0,'1. IDENTITÉ'!$B$11,IF(ISERROR(VLOOKUP(AE36,ListeMO!$A$3:$B$135,2,FALSE)),\"\",VLOOKUP(AE36,ListeMO!$A$3:$B$135,2,FALSE)))","v":""},null,{"$f":"IF('1. IDENTITÉ'!$B$11<>0,'1. IDENTITÉ'!$B$11,IF(ISERROR(VLOOKUP(AG36,ListeMO!$A$3:$B$135,2,FALSE)),\"\",VLOOKUP(AG36,ListeMO!$A$3:$B$135,2,FALSE)))","v":""},null,{"$f":"IF('1. IDENTITÉ'!$B$11<>0,'1. IDENTITÉ'!$B$11,IF(ISERROR(VLOOKUP(AI36,ListeMO!$A$3:$B$135,2,FALSE)),\"\",VLOOKUP(AI36,ListeMO!$A$3:$B$135,2,FALSE)))","v":""},null,{"$f":"IF('1. IDENTITÉ'!$B$11<>0,'1. IDENTITÉ'!$B$11,IF(ISERROR(VLOOKUP(AK36,ListeMO!$A$3:$B$135,2,FALSE)),\"\",VLOOKUP(AK36,ListeMO!$A$3:$B$135,2,FALSE)))","v":""},null,{"$f":"IF('1. IDENTITÉ'!$B$11<>0,'1. IDENTITÉ'!$B$11,IF(ISERROR(VLOOKUP(AM36,ListeMO!$A$3:$B$135,2,FALSE)),\"\",VLOOKUP(AM36,ListeMO!$A$3:$B$135,2,FALSE)))","v":""},null,{"$f":"IF('1. IDENTITÉ'!$B$11<>0,'1. IDENTITÉ'!$B$11,IF(ISERROR(VLOOKUP(AO36,ListeMO!$A$3:$B$135,2,FALSE)),\"\",VLOOKUP(AO36,ListeMO!$A$3:$B$135,2,FALSE)))","v":""},null,{"$f":"IF('1. IDENTITÉ'!$B$11<>0,'1. IDENTITÉ'!$B$11,IF(ISERROR(VLOOKUP(AQ36,ListeMO!$A$3:$B$135,2,FALSE)),\"\",VLOOKUP(AQ36,ListeMO!$A$3:$B$135,2,FALSE)))","v":""},null,{"$f":"IF('1. IDENTITÉ'!$B$11<>0,'1. IDENTITÉ'!$B$11,IF(ISERROR(VLOOKUP(AS36,ListeMO!$A$3:$B$135,2,FALSE)),\"\",VLOOKUP(AS36,ListeMO!$A$3:$B$135,2,FALSE)))","v":""},null,{"$f":"IF('1. IDENTITÉ'!$B$11<>0,'1. IDENTITÉ'!$B$11,IF(ISERROR(VLOOKUP(AU36,ListeMO!$A$3:$B$135,2,FALSE)),\"\",VLOOKUP(AU36,ListeMO!$A$3:$B$135,2,FALSE)))","v":""},null,{"$f":"IF('1. IDENTITÉ'!$B$11<>0,'1. IDENTITÉ'!$B$11,IF(ISERROR(VLOOKUP(AW36,ListeMO!$A$3:$B$135,2,FALSE)),\"\",VLOOKUP(AW36,ListeMO!$A$3:$B$135,2,FALSE)))","v":""},null,{"$f":"IF('1. IDENTITÉ'!$B$11<>0,'1. IDENTITÉ'!$B$11,IF(ISERROR(VLOOKUP(AY36,ListeMO!$A$3:$B$135,2,FALSE)),\"\",VLOOKUP(AY36,ListeMO!$A$3:$B$135,2,FALSE)))","v":""}]
[null,null,"Année (Rapport BEIE)",null,null,{"$f":"'2. CARBURANT (Véhicules légers)'!A9","v":0},{"$f":"'2. CARBURANT (Véhicules légers)'!B9","v":"2002-2003"},null,{"$f":"'2. CARBURANT (Véhicules légers)'!D9","v":"2003-2004"},null,{"$f":"'2. CARBURANT (Véhicules légers)'!F9","v":"2004-2005"},null,{"$f":"'2. CARBURANT (Véhicules légers)'!H9","v":"2005-2006"},null,{"$f":"'2. CARBURANT (Véhicules légers)'!J9","v":"2006-2007"},null,{"$f":"'2. CARBURANT (Véhicules légers)'!L9","v":"2007-2008"},null,{"$f":"'2. CARBURANT (Véhicules légers)'!N9","v":"2008-2009"},null,{"$f":"'2. CARBURANT (Véhicules légers)'!P9","v":"2009-2010"},null,{"$f":"'2. CARBURANT (Véhicules légers)'!R9","v":"2010-2011"},null,{"$f":"'2. CARBURANT (Véhicules légers)'!T9","v":"2011-2012"},null,{"$f":"'2. CARBURANT (Véhicules légers)'!V9","v":"2012-2013"},null,{"$f":"'2. CARBURANT (Véhicules légers)'!X9","v":"2013-2014"},null,{"$f":"'2. CARBURANT (Véhicules légers)'!Z9","v":"2014-2015"},null,{"$f":"'2. CARBURANT (Véhicules légers)'!AB9","v":"2015-2016"},null,{"$f":"'2. CARBURANT (Véhicules légers)'!AD9","v":"2016-2017"},null,{"$f":"'2. CARBURANT (Véhicules légers)'!AF9","v":"2017-2018"},null,{"$f":"'2. CARBURANT (Véhicules légers)'!AH9","v":"2018-2019"},null,{"$f":"'2. CARBURANT (Véhicules légers)'!AJ9","v":"2019-2020"},null,{"$f":"'2. CARBURANT (Véhicules légers)'!AL9","v":"2020-2021"},null,{"$f":"'2. CARBURANT (Véhicules légers)'!AN9","v":"2021-2022"},null,{"$f":"'2. CARBURANT (Véhicules légers)'!AP9","v":"2022-2023"},null,{"$f":"'2. CARBURANT (Véhicules légers)'!AR9","v":"2023-2024"},null,{"$f":"'2. CARBURANT (Véhicules légers)'!AT9","v":"2024-2025"}]
[null,null,"Ministère (acronyme)",null,null,{"$f":"'1. IDENTITÉ'!A12","v":"Initiale ou acronyme :"},{"$f":"'1. IDENTITÉ'!$B$12","v":0},null,{"$f":"'1. IDENTITÉ'!$B$12","v":0},null,{"$f":"'1. IDENTITÉ'!$B$12","v":0},null,{"$f":"'1. IDENTITÉ'!$B$12","v":0},null,{"$f":"'1. IDENTITÉ'!$B$12","v":0},null,{"$f":"'1. IDENTITÉ'!$B$12","v":0},null,{"$f":"'1. IDENTITÉ'!$B$12","v":0},null,{"$f":"'1. IDENTITÉ'!$B$12","v":0},null,{"$f":"'1. IDENTITÉ'!$B$12","v":0},null,{"$f":"'1. IDENTITÉ'!$B$12","v":0},null,{"$f":"'1. IDENTITÉ'!$B$12","v":0},null,{"$f":"'1. IDENTITÉ'!$B$12","v":0},null,{"$f":"'1. IDENTITÉ'!$B$12","v":0},null,{"$f":"'1. IDENTITÉ'!$B$12","v":0},null,{"$f":"'1. IDENTITÉ'!$B$12","v":0},null,{"$f":"'1. IDENTITÉ'!$B$12","v":0},null,{"$f":"'1. IDENTITÉ'!$B$12","v":0},null,{"$f":"'1. IDENTITÉ'!$B$12","v":0},null,{"$f":"'1. IDENTITÉ'!$B$12","v":0},null,{"$f":"'1. IDENTITÉ'!$B$12","v":0},null,{"$f":"'1. IDENTITÉ'!$B$12","v":0},null,{"$f":"'1. IDENTITÉ'!$B$12","v":0},null,{"$f":"'1. IDENTITÉ'!$B$12","v":0}]
[null,null,"Ministère ou organisme",null,null,{"$f":"'1. IDENTITÉ'!A10","v":"Ministère ou organisme :"},"='1. IDENTITÉ'!$B$10",null,{"$f":"'1. IDENTITÉ'!$B$10","v":"NOM DE L'ENTITÉ"},null,{"$f":"'1. IDENTITÉ'!$B$10","v":"NOM DE L'ENTITÉ"},null,{"$f":"'1. IDENTITÉ'!$B$10","v":"NOM DE L'ENTITÉ"},null,{"$f":"'1. IDENTITÉ'!$B$10","v":"NOM DE L'ENTITÉ"},null,{"$f":"'1. IDENTITÉ'!$B$10","v":"NOM DE L'ENTITÉ"},null,{"$f":"'1. IDENTITÉ'!$B$10","v":"NOM DE L'ENTITÉ"},null,{"$f":"'1. IDENTITÉ'!$B$10","v":"NOM DE L'ENTITÉ"},null,{"$f":"'1. IDENTITÉ'!$B$10","v":"NOM DE L'ENTITÉ"},null,{"$f":"'1. IDENTITÉ'!$B$10","v":"NOM DE L'ENTITÉ"},null,{"$f":"'1. IDENTITÉ'!$B$10","v":"NOM DE L'ENTITÉ"},null,{"$f":"'1. IDENTITÉ'!$B$10","v":"NOM DE L'ENTITÉ"},null,{"$f":"'1. IDENTITÉ'!$B$10","v":"NOM DE L'ENTITÉ"},null,{"$f":"'1. IDENTITÉ'!$B$10","v":"NOM DE L'ENTITÉ"},null,{"$f":"'1. IDENTITÉ'!$B$10","v":"NOM DE L'ENTITÉ"},null,{"$f":"'1. IDENTITÉ'!$B$10","v":"NOM DE L'ENTITÉ"},null,{"$f":"'1. IDENTITÉ'!$B$10","v":"NOM DE L'ENTITÉ"},null,{"$f":"'1. IDENTITÉ'!$B$10","v":"NOM DE L'ENTITÉ"},null,{"$f":"'1. IDENTITÉ'!$B$10","v":"NOM DE L'ENTITÉ"},null,{"$f":"'1. IDENTITÉ'!$B$10","v":"NOM DE L'ENTITÉ"},null,{"$f":"'1. IDENTITÉ'!$B$10","v":"NOM DE L'ENTITÉ"},null,{"$f":"'1. IDENTITÉ'!$B$10","v":"NOM DE L'ENTITÉ"},null,{"$f":"'1. IDENTITÉ'!$B$10","v":"NOM DE L'ENTITÉ"}]
[null,null,"Année de référence",null,null,{"$f":"'1. IDENTITÉ'!A21","v":"Année de référence :"},{"$f":"'1. IDENTITÉ'!$B$21","v":0},null,{"$f":"'1. IDENTITÉ'!$B$21","v":0},null,{"$f":"'1. IDENTITÉ'!$B$21","v":0},null,{"$f":"'1. IDENTITÉ'!$B$21","v":0},null,{"$f":"'1. IDENTITÉ'!$B$21","v":0},null,{"$f":"'1. IDENTITÉ'!$B$21","v":0},null,{"$f":"'1. IDENTITÉ'!$B$21","v":0},null,{"$f":"'1. IDENTITÉ'!$B$21","v":0},null,{"$f":"'1. IDENTITÉ'!$B$21","v":0},null,{"$f":"'1. IDENTITÉ'!$B$21","v":0},null,{"$f":"'1. IDENTITÉ'!$B$21","v":0},null,{"$f":"'1. IDENTITÉ'!$B$21","v":0},null,{"$f":"'1. IDENTITÉ'!$B$21","v":0},null,{"$f":"'1. IDENTITÉ'!$B$21","v":0},null,{"$f":"'1. IDENTITÉ'!$B$21","v":0},null,{"$f":"'1. IDENTITÉ'!$B$21","v":0},null,{"$f":"'1. IDENTITÉ'!$B$21","v":0},null,{"$f":"'1. IDENTITÉ'!$B$21","v":0},null,{"$f":"'1. IDENTITÉ'!$B$21","v":0},null,{"$f":"'1. IDENTITÉ'!$B$21","v":0},null,{"$f":"'1. IDENTITÉ'!$B$21","v":0},null,{"$f":"'1. IDENTITÉ'!$B$21","v":0},null,{"$f":"'1. IDENTITÉ'!$B$21","v":0}]
[null,null,"Année financière",null,null,{"$f":"'1. IDENTITÉ'!A19","v":"Année financière :"},{"$f":"'1. IDENTITÉ'!$B$19","v":"1er avril au 31 mars"},null,{"$f":"'1. IDENTITÉ'!$B$19","v":"1er avril au 31 mars"},null,{"$f":"'1. IDENTITÉ'!$B$19","v":"1er avril au 31 mars"},null,{"$f":"'1. IDENTITÉ'!$B$19","v":"1er avril au 31 mars"},null,{"$f":"'1. IDENTITÉ'!$B$19","v":"1er avril au 31 mars"},null,{"$f":"'1. IDENTITÉ'!$B$19","v":"1er avril au 31 mars"},null,{"$f":"'1. IDENTITÉ'!$B$19","v":"1er avril au 31 mars"},null,{"$f":"'1. IDENTITÉ'!$B$19","v":"1er avril au 31 mars"},null,{"$f":"'1. IDENTITÉ'!$B$19","v":"1er avril au 31 mars"},null,{"$f":"'1. IDENTITÉ'!$B$19","v":"1er avril au 31 mars"},null,{"$f":"'1. IDENTITÉ'!$B$19","v":"1er avril au 31 mars"},null,{"$f":"'1. IDENTITÉ'!$B$19","v":"1er avril au 31 mars"},null,{"$f":"'1. IDENTITÉ'!$B$19","v":"1er avril au 31 mars"},null,{"$f":"'1. IDENTITÉ'!$B$19","v":"1er avril au 31 mars"},null,{"$f":"'1. IDENTITÉ'!$B$19","v":"1er avril au 31 mars"},null,{"$f":"'1. IDENTITÉ'!$B$19","v":"1er avril au 31 mars"},null,{"$f":"'1. IDENTITÉ'!$B$19","v":"1er avril au 31 mars"},null,{"$f":"'1. IDENTITÉ'!$B$19","v":"1er avril au 31 mars"},null,{"$f":"'1. IDENTITÉ'!$B$19","v":"1er avril au 31 mars"},null,{"$f":"'1. IDENTITÉ'!$B$19","v":"1er avril au 31 mars"},null,{"$f":"'1. IDENTITÉ'!$B$19","v":"1er avril au 31 mars"},null,{"$f":"'1. IDENTITÉ'!$B$19","v":"1er avril au 31 mars"},null,{"$f":"'1. IDENTITÉ'!$B$19","v":"1er avril au 31 mars"}]
[null,null,"Critère d'inclusion et d'exclusion"]
[null,null,"Nom de la personne responsable",null,null,{"$f":"'1. IDENTITÉ'!A13","v":"Nom de la personne responsable :"},{"$f":"'1. IDENTITÉ'!$B$13","v":0},null,{"$f":"'1. IDENTITÉ'!$B$13","v":0},null,{"$f":"'1. IDENTITÉ'!$B$13","v":0},null,{"$f":"'1. IDENTITÉ'!$B$13","v":0},null,{"$f":"'1. IDENTITÉ'!$B$13","v":0},null,{"$f":"'1. IDENTITÉ'!$B$13","v":0},null,{"$f":"'1. IDENTITÉ'!$B$13","v":0},null,{"$f":"'1. IDENTITÉ'!$B$13","v":0},null,{"$f":"'1. IDENTITÉ'!$B$13","v":0},null,{"$f":"'1. IDENTITÉ'!$B$13","v":0},null,{"$f":"'1. IDENTITÉ'!$B$13","v":0},null,{"$f":"'1. IDENTITÉ'!$B$13","v":0},null,{"$f":"'1. IDENTITÉ'!$B$13","v":0},null,{"$f":"'1. IDENTITÉ'!$B$13","v":0},null,{"$f":"'1. IDENTITÉ'!$B$13","v":0},null,{"$f":"'1. IDENTITÉ'!$B$13","v":0},null,{"$f":"'1. IDENTITÉ'!$B$13","v":0},null,{"$f":"'1. IDENTITÉ'!$B$13","v":0},null,{"$f":"'1. IDENTITÉ'!$B$13","v":0},null,{"$f":"'1. IDENTITÉ'!$B$13","v":0},null,{"$f":"'1. IDENTITÉ'!$B$13","v":0},null,{"$f":"'1. IDENTITÉ'!$B$13","v":0},null,{"$f":"'1. IDENTITÉ'!$B$13","v":0}]
[null,null,"Titre",null,null,{"$f":"'1. IDENTITÉ'!A14","v":"Titre :"},{"$f":"'1. IDENTITÉ'!$B$14","v":0},null,{"$f":"'1. IDENTITÉ'!$B$14","v":0},null,{"$f":"'1. IDENTITÉ'!$B$14","v":0},null,{"$f":"'1. IDENTITÉ'!$B$14","v":0},null,{"$f":"'1. IDENTITÉ'!$B$14","v":0},null,{"$f":"'1. IDENTITÉ'!$B$14","v":0},null,{"$f":"'1. IDENTITÉ'!$B$14","v":0},null,{"$f":"'1. IDENTITÉ'!$B$14","v":0},null,{"$f":"'1. IDENTITÉ'!$B$14","v":0},null,{"$f":"'1. IDENTITÉ'!$B$14","v":0},null,{"$f":"'1. IDENTITÉ'!$B$14","v":0},null,{"$f":"'1. IDENTITÉ'!$B$14","v":0},null,{"$f":"'1. IDENTITÉ'!$B$14","v":0},null,{"$f":"'1. IDENTITÉ'!$B$14","v":0},null,{"$f":"'1. IDENTITÉ'!$B$14","v":0},null,{"$f":"'1. IDENTITÉ'!$B$14","v":0},null,{"$f":"'1. IDENTITÉ'!$B$14","v":0},null,{"$f":"'1. IDENTITÉ'!$B$14","v":0},null,{"$f":"'1. IDENTITÉ'!$B$14","v":0},null,{"$f":"'1. IDENTITÉ'!$B$14","v":0},null,{"$f":"'1. IDENTITÉ'!$B$14","v":0},null,{"$f":"'1. IDENTITÉ'!$B$14","v":0},null,{"$f":"'1. IDENTITÉ'!$B$14","v":0}]
[null,null,"Adresse",null,null,{"$f":"'1. IDENTITÉ'!A15","v":"Adresse :"},{"$f":"'1. IDENTITÉ'!$B$15","v":0},null,{"$f":"'1. IDENTITÉ'!$B$15","v":0},null,{"$f":"'1. IDENTITÉ'!$B$15","v":0},null,{"$f":"'1. IDENTITÉ'!$B$15","v":0},null,{"$f":"'1. IDENTITÉ'!$B$15","v":0},null,{"$f":"'1. IDENTITÉ'!$B$15","v":0},null,{"$f":"'1. IDENTITÉ'!$B$15","v":0},null,{"$f":"'1. IDENTITÉ'!$B$15","v":0},null,{"$f":"'1. IDENTITÉ'!$B$15","v":0},null,{"$f":"'1. IDENTITÉ'!$B$15","v":0},null,{"$f":"'1. IDENTITÉ'!$B$15","v":0},null,{"$f":"'1. IDENTITÉ'!$B$15","v":0},null,{"$f":"'1. IDENTITÉ'!$B$15","v":0},null,{"$f":"'1. IDENTITÉ'!$B$15","v":0},null,{"$f":"'1. IDENTITÉ'!$B$15","v":0},null,{"$f":"'1. IDENTITÉ'!$B$15","v":0},null,{"$f":"'1. IDENTITÉ'!$B$15","v":0},null,{"$f":"'1. IDENTITÉ'!$B$15","v":0},null,{"$f":"'1. IDENTITÉ'!$B$15","v":0},null,{"$f":"'1. IDENTITÉ'!$B$15","v":0},null,{"$f":"'1. IDENTITÉ'!$B$15","v":0},null,{"$f":"'1. IDENTITÉ'!$B$15","v":0},null,{"$f":"'1. IDENTITÉ'!$B$15","v":0}]
[null,null,"Ville",null,null,{"$f":"'1. IDENTITÉ'!A16","v":"Ville :"},{"$f":"'1. IDENTITÉ'!$B$16","v":0},null,{"$f":"'1. IDENTITÉ'!$B$16","v":0},null,{"$f":"'1. IDENTITÉ'!$B$16","v":0},null,{"$f":"'1. IDENTITÉ'!$B$16","v":0},null,{"$f":"'1. IDENTITÉ'!$B$16","v":0},null,{"$f":"'1. IDENTITÉ'!$B$16","v":0},null,{"$f":"'1. IDENTITÉ'!$B$16","v":0},null,{"$f":"'1. IDENTITÉ'!$B$16","v":0},null,{"$f":"'1. IDENTITÉ'!$B$16","v":0},null,{"$f":"'1. IDENTITÉ'!$B$16","v":0},null,{"$f":"'1. IDENTITÉ'!$B$16","v":0},null,{"$f":"'1. IDENTITÉ'!$B$16","v":0},null,{"$f":"'1. IDENTITÉ'!$B$16","v":0},null,{"$f":"'1. IDENTITÉ'!$B$16","v":0},null,{"$f":"'1. IDENTITÉ'!$B$16","v":0},null,{"$f":"'1. IDENTITÉ'!$B$16","v":0},null,{"$f":"'1. IDENTITÉ'!$B$16","v":0},null,{"$f":"'1. IDENTITÉ'!$B$16","v":0},null,{"$f":"'1. IDENTITÉ'!$B$16","v":0},null,{"$f":"'1. IDENTITÉ'!$B$16","v":0},null,{"$f":"'1. IDENTITÉ'!$B$16","v":0},null,{"$f":"'1. IDENTITÉ'!$B$16","v":0},null,{"$f":"'1. IDENTITÉ'!$B$16","v":0}]
[null,null,"Téléphone",null,null,{"$f":"'1. IDENTITÉ'!A17","v":"Téléphone :"},{"$f":"'1. IDENTITÉ'!$B$17","v":0},null,{"$f":"'1. IDENTITÉ'!$B$17","v":0},null,{"$f":"'1. IDENTITÉ'!$B$17","v":0},null,{"$f":"'1. IDENTITÉ'!$B$17","v":0},null,{"$f":"'1. IDENTITÉ'!$B$17","v":0},null,{"$f":"'1. IDENTITÉ'!$B$17","v":0},null,{"$f":"'1. IDENTITÉ'!$B$17","v":0},null,{"$f":"'1. IDENTITÉ'!$B$17","v":0},null,{"$f":"'1. IDENTITÉ'!$B$17","v":0},null,{"$f":"'1. IDENTITÉ'!$B$17","v":0},null,{"$f":"'1. IDENTITÉ'!$B$17","v":0},null,{"$f":"'1. IDENTITÉ'!$B$17","v":0},null,{"$f":"'1. IDENTITÉ'!$B$17","v":0},null,{"$f":"'1. IDENTITÉ'!$B$17","v":0},null,{"$f":"'1. IDENTITÉ'!$B$17","v":0},null,{"$f":"'1. IDENTITÉ'!$B$17","v":0},null,{"$f":"'1. IDENTITÉ'!$B$17","v":0},null,{"$f":"'1. IDENTITÉ'!$B$17","v":0},null,{"$f":"'1. IDENTITÉ'!$B$17","v":0},null,{"$f":"'1. IDENTITÉ'!$B$17","v":0},null,{"$f":"'1. IDENTITÉ'!$B$17","v":0},null,{"$f":"'1. IDENTITÉ'!$B$17","v":0},null,{"$f":"'1. IDENTITÉ'!$B$17","v":0}]
[null,null,"Courriel",null,null,{"$f":"'1. IDENTITÉ'!A18","v":"Courriel :"},{"$f":"'1. IDENTITÉ'!$B$18","v":0},null,{"$f":"'1. IDENTITÉ'!$B$18","v":0},null,{"$f":"'1. IDENTITÉ'!$B$18","v":0},null,{"$f":"'1. IDENTITÉ'!$B$18","v":0},null,{"$f":"'1. IDENTITÉ'!$B$18","v":0},null,{"$f":"'1. IDENTITÉ'!$B$18","v":0},null,{"$f":"'1. IDENTITÉ'!$B$18","v":0},null,{"$f":"'1. IDENTITÉ'!$B$18","v":0},null,{"$f":"'1. IDENTITÉ'!$B$18","v":0},null,{"$f":"'1. IDENTITÉ'!$B$18","v":0},null,{"$f":"'1. IDENTITÉ'!$B$18","v":0},null,{"$f":"'1. IDENTITÉ'!$B$18","v":0},null,{"$f":"'1. IDENTITÉ'!$B$18","v":0},null,{"$f":"'1. IDENTITÉ'!$B$18","v":0},null,{"$f":"'1. IDENTITÉ'!$B$18","v":0},null,{"$f":"'1. IDENTITÉ'!$B$18","v":0},null,{"$f":"'1. IDENTITÉ'!$B$18","v":0},null,{"$f":"'1. IDENTITÉ'!$B$18","v":0},null,{"$f":"'1. IDENTITÉ'!$B$18","v":0},null,{"$f":"'1. IDENTITÉ'!$B$18","v":0},null,{"$f":"'1. IDENTITÉ'!$B$18","v":0},null,{"$f":"'1. IDENTITÉ'!$B$18","v":0},null,{"$f":"'1. IDENTITÉ'!$B$18","v":0}]
["Déplacements\nstandards avec\nle véhicule\nde l'institution\n\n(véhicules en\npropriété ou\nen location\nà long durée)\n\nVéhicules légers",null,"Distance",null,"Sur route [km]",{"$f":"'3. KM POLLUANTS'!A11","v":"Sur route (y compris les locations longue durée) [km]"},{"$f":"'3. KM POLLUANTS'!B11","v":0},null,{"$f":"'3. KM POLLUANTS'!D11","v":0},null,{"$f":"'3. KM POLLUANTS'!F11","v":0},null,{"$f":"'3. KM POLLUANTS'!H11","v":0},null,{"$f":"'3. KM POLLUANTS'!J11","v":0},null,{"$f":"'3. KM POLLUANTS'!L11","v":0},null,{"$f":"'3. KM POLLUANTS'!N11","v":0},null,{"$f":"'3. KM POLLUANTS'!P11","v":0},null,{"$f":"'3. KM POLLUANTS'!R11","v":0},null,{"$f":"'3. KM POLLUANTS'!T11","v":0},null,{"$f":"'3. KM POLLUANTS'!V11","v":0},null,{"$f":"'3. KM POLLUANTS'!X11","v":0},null,{"$f":"'3. KM POLLUANTS'!Z11","v":0},null,{"$f":"'3. KM POLLUANTS'!AB11","v":0},null,{"$f":"'3. KM POLLUANTS'!AD11","v":0},null,{"$f":"'3. KM POLLUANTS'!AF11","v":0},null,{"$f":"'3. KM POLLUANTS'!AH11","v":0},null,{"$f":"'3. KM POLLUANTS'!AJ11","v":0},null,{"$f":"'3. KM POLLUANTS'!AL11","v":0},null,{"$f":"'3. KM POLLUANTS'!AN11","v":0},null,{"$f":"'3. KM POLLUANTS'!AP11","v":0},null,{"$f":"'3. KM POLLUANTS'!AR11","v":0},null,{"$f":"'3. KM POLLUANTS'!AT11","v":0}]
[null,null,null,null,"Hors route [km]",{"$f":"'3. KM POLLUANTS'!A12","v":"Hors route ( VTT, motoneige…) [km]"},{"$f":"'3. KM POLLUANTS'!B12","v":0},null,{"$f":"'3. KM POLLUANTS'!D12","v":0},null,{"$f":"'3. KM POLLUANTS'!F12","v":0},null,{"$f":"'3. KM POLLUANTS'!H12","v":0},null,{"$f":"'3. KM POLLUANTS'!J12","v":0},null,{"$f":"'3. KM POLLUANTS'!L12","v":0},null,{"$f":"'3. KM POLLUANTS'!N12","v":0},null,{"$f":"'3. KM POLLUANTS'!P12","v":0},null,{"$f":"'3. KM POLLUANTS'!R12","v":0},null,{"$f":"'3. KM POLLUANTS'!T12","v":0},null,{"$f":"'3. KM POLLUANTS'!V12","v":0},null,{"$f":"'3. KM POLLUANTS'!X12","v":0},null,{"$f":"'3. KM POLLUANTS'!Z12","v":0},null,{"$f":"'3. KM POLLUANTS'!AB12","v":0},null,{"$f":"'3. KM POLLUANTS'!AD12","v":0},null,{"$f":"'3. KM POLLUANTS'!AF12","v":0},null,{"$f":"'3. KM POLLUANTS'!AH12","v":0},null,{"$f":"'3. KM POLLUANTS'!AJ12","v":0},null,{"$f":"'3. KM POLLUANTS'!AL12","v":0},null,{"$f":"'3. KM POLLUANTS'!AN12","v":0},null,{"$f":"'3. KM POLLUANTS'!AP12","v":0},null,{"$f":"'3. KM POLLUANTS'!AR12","v":0},null,{"$f":"'3. KM POLLUANTS'!AT12","v":0}]
[null,null,null,null,"Totale [km]",{"$f":"'3. KM POLLUANTS'!A13","v":"Total [km]"},{"$f":"'3. KM POLLUANTS'!B13","v":0},null,{"$f":"'3. KM POLLUANTS'!D13","v":0},null,{"$f":"'3. KM POLLUANTS'!F13","v":0},null,{"$f":"'3. KM POLLUANTS'!H13","v":0},null,{"$f":"'3. KM POLLUANTS'!J13","v":0},null,{"$f":"'3. KM POLLUANTS'!L13","v":0},null,{"$f":"'3. KM POLLUANTS'!N13","v":0},null,{"$f":"'3. KM POLLUANTS'!P13","v":0},null,{"$f":"'3. KM POLLUANTS'!R13","v":0},null,{"$f":"'3. KM POLLUANTS'!T13","v":0},null,{"$f":"'3. KM POLLUANTS'!V13","v":0},null,{"$f":"'3. KM POLLUANTS'!X13","v":0},null,{"$f":"'3. KM POLLUANTS'!Z13","v":0},null,{"$f":"'3. KM POLLUANTS'!AB13","v":0},null,{"$f":"'3. KM POLLUANTS'!AD13","v":0},null,{"$f":"'3. KM POLLUANTS'!AF13","v":0},null,{"$f":"'3. KM POLLUANTS'!AH13","v":0},null,{"$f":"'3. KM POLLUANTS'!AJ13","v":0},null,{"$f":"'3. KM POLLUANTS'!AL13","v":0},null,{"$f":"'3. KM POLLUANTS'!AN13","v":0},null,{"$f":"'3. KM POLLUANTS'!AP13","v":0},null,{"$f":"'3. KM POLLUANTS'!AR13","v":0},null,{"$f":"'3. KM POLLUANTS'!AT13","v":0}]
[null,null,"Essence",null,"Essence Litres [L]",{"$f":"'2. CARBURANT (Véhicules légers)'!A25","v":"Essence [litres]"},{"$f":"'2. CARBURANT (Véhicules légers)'!B25","v":0},null,{"$f":"'2. CARBURANT (Véhicules légers)'!D25","v":0},null,{"$f":"'2. CARBURANT (Véhicules légers)'!F25","v":0},null,{"$f":"'2. CARBURANT (Véhicules légers)'!H25","v":0},null,{"$f":"'2. CARBURANT (Véhicules légers)'!J25","v":0},null,{"$f":"'2. CARBURANT (Véhicules légers)'!L25","v":0},null,{"$f":"'2. CARBURANT (Véhicules légers)'!N25","v":0},null,{"$f":"'2. CARBURANT (Véhicules légers)'!P25","v":0},null,{"$f":"'2. CARBURANT (Véhicules légers)'!R25","v":0},null,{"$f":"'2. CARBURANT (Véhicules légers)'!T25","v":0},null,{"$f":"'2. CARBURANT (Véhicules légers)'!V25","v":0},null,{"$f":"'2. CARBURANT (Véhicules légers)'!X25","v":0},null,{"$f":"'2. CARBURANT (Véhicules légers)'!Z25","v":0},null,{"$f":"'2. CARBURANT (Véhicules légers)'!AB25","v":0},null,{"$f":"'2. CARBURANT (Véhicules légers)'!AD25","v":0},null,{"$f":"'2. CARBURANT (Véhicules légers)'!AF25","v":0},null,{"$f":"'2. CARBURANT (Véhicules légers)'!AH25","v":0},null,{"$f":"'2. CARBURANT (Véhicules légers)'!AJ25","v":0},null,{"$f":"'2. CARBURANT (Véhicules légers)'!AL25","v":0},null,{"$f":"'2. CARBURANT (Véhicules légers)'!AN25","v":0},null,{"$f":"'2. CARBURANT (Véhicules légers)'!AP25","v":0},null,{"$f":"'2. CARBURANT (Véhicules légers)'!AR25","v":0},null,{"$f":"'2. CARBURANT (Véhicules légers)'!AT25","v":0}]
[null,null,null,null,"Essence [$]",{"$f":"'2. CARBURANT (Véhicules légers)'!A11","v":"Essence [$]"},{"$f":"'2. CARBURANT (Véhicules légers)'!B11","v":0},null,{"$f":"'2. CARBURANT (Véhicules légers)'!D11","v":0},null,{"$f":"'2. CARBURANT (Véhicules légers)'!F11","v":0},null,{"$f":"'2. CARBURANT (Véhicules légers)'!H11","v":0},null,{"$f":"'2. CARBURANT (Véhicules légers)'!J11","v":0},null,{"$f":"'2. CARBURANT (Véhicules légers)'!L11","v":0},null,{"$f":"'2. CARBURANT (Véhicules légers)'!N11","v":0},null,{"$f":"'2. CARBURANT (Véhicules légers)'!P11","v":0},null,{"$f":"'2. CARBURANT (Véhicules légers)'!R11","v":0},null,{"$f":"'2. CARBURANT (Véhicules légers)'!T11","v":0},null,{"$f":"'2. CARBURANT (Véhicules légers)'!V11","v":0},null,{"$f":"'2. CARBURANT (Véhicules légers)'!X11","v":0},null,{"$f":"'2. CARBURANT (Véhicules légers)'!Z11","v":0},null,{"$f":"'2. CARBURANT (Véhicules légers)'!AB11","v":0},null,{"$f":"'2. CARBURANT (Véhicules légers)'!AD11","v":0},null,{"$f":"'2. CARBURANT (Véhicules légers)'!AF11","v":0},null,{"$f":"'2. CARBURANT (Véhicules légers)'!AH11","v":0},null,{"$f":"'2. CARBURANT (Véhicules légers)'!AJ11","v":0},null,{"$f":"'2. CARBURANT (Véhicules légers)'!AL11","v":0},null,{"$f":"'2. CARBURANT (Véhicules légers)'!AN11","v":0},null,{"$f":"'2. CARBURANT (Véhicules légers)'!AP11","v":0},null,{"$f":"'2. CARBURANT (Véhicules légers)'!AR11","v":0},null,{"$f":"'2. CARBURANT (Véhicules légers)'!AT11","v":0}]
[]
[]
[]
[]
[]
[null,null,"Diesel",null,"Diesel Litres [L]",{"$f":"'2. CARBURANT (Véhicules légers)'!A26","v":"Diesel  [litres]"},{"$f":"'2. CARBURANT (Véhicules légers)'!B26","v":0},null,{"$f":"'2. CARBURANT (Véhicules légers)'!D26","v":0},null,{"$f":"'2. CARBURANT (Véhicules légers)'!F26","v":0},null,{"$f":"'2. CARBURANT (Véhicules légers)'!H26","v":0},null,{"$f":"'2. CARBURANT (Véhicules légers)'!J26","v":0},null,{"$f":"'2. CARBURANT (Véhicules légers)'!L26","v":0},null,{"$f":"'2. CARBURANT (Véhicules légers)'!N26","v":0},null,{"$f":"'2. CARBURANT (Véhicules légers)'!P26","v":0},null,{"$f":"'2. CARBURANT (Véhicules légers)'!R26","v":0},null,{"$f":"'2. CARBURANT (Véhicules légers)'!T26","v":0},null,{"$f":"'2. CARBURANT (Véhicules légers)'!V26","v":0},null,{"$f":"'2. CARBURANT (Véhicules légers)'!X26","v":0},null,{"$f":"'2. CARBURANT (Véhicules légers)'!Z26","v":0},null,{"$f":"'2. CARBURANT (Véhicules légers)'!AB26","v":0},null,{"$f":"'2. CARBURANT (Véhicules légers)'!AD26","v":0},null,{"$f":"'2. CARBURANT (Véhicules légers)'!AF26","v":0},null,{"$f":"'2. CARBURANT (Véhicules légers)'!AH26","v":0},null,{"$f":"'2. CARBURANT (Véhicules légers)'!AJ26","v":0},null,{"$f":"'2. CARBURANT (Véhicules légers)'!AL26","v":0},null,{"$f":"'2. CARBURANT (Véhicules légers)'!AN26","v":0},null,{"$f":"'2. CARBURANT (Véhicules légers)'!AP26","v":0},null,{"$f":"'2. CARBURANT (Véhicules légers)'!AR26","v":0},null,{"$f":"'2. CARBURANT (Véhicules légers)'!AT26","v":0}]
[null,null,null,null,"Diesel [$]",{"$f":"'2. CARBURANT (Véhicules légers)'!A12","v":"Diesel [$]"},{"$f":"'2. CARBURANT (Véhicules légers)'!B12","v":0},null,{"$f":"'2. CARBURANT (Véhicules légers)'!D12","v":0},null,{"$f":"'2. CARBURANT (Véhicules légers)'!F12","v":0},null,{"$f":"'2. CARBURANT (Véhicules légers)'!H12","v":0},null,{"$f":"'2. CARBURANT (Véhicules légers)'!J12","v":0},null,{"$f":"'2. CARBURANT (Véhicules légers)'!L12","v":0},null,{"$f":"'2. CARBURANT (Véhicules légers)'!N12","v":0},null,{"$f":"'2. CARBURANT (Véhicules légers)'!P12","v":0},null,{"$f":"'2. CARBURANT (Véhicules légers)'!R12","v":0},null,{"$f":"'2. CARBURANT (Véhicules légers)'!T12","v":0},null,{"$f":"'2. CARBURANT (Véhicules légers)'!V12","v":0},null,{"$f":"'2. CARBURANT (Véhicules légers)'!X12","v":0},null,{"$f":"'2. CARBURANT (Véhicules légers)'!Z12","v":0},null,{"$f":"'2. CARBURANT (Véhicules légers)'!AB12","v":0},null,{"$f":"'2. CARBURANT (Véhicules légers)'!AD12","v":0},null,{"$f":"'2. CARBURANT (Véhicules légers)'!AF12","v":0},null,{"$f":"'2. CARBURANT (Véhicules légers)'!AH12","v":0},null,{"$f":"'2. CARBURANT (Véhicules légers)'!AJ12","v":0},null,{"$f":"'2. CARBURANT (Véhicules légers)'!AL12","v":0},null,{"$f":"'2. CARBURANT (Véhicules légers)'!AN12","v":0},null,{"$f":"'2. CARBURANT (Véhicules légers)'!AP12","v":0},null,{"$f":"'2. CARBURANT (Véhicules légers)'!AR12","v":0},null,{"$f":"'2. CARBURANT (Véhicules légers)'!AT12","v":0}]
[]
[]
[]
[]
[]
[null,null,"Gaz naturel",null,"Gaz naturel [m³]",{"$f":"'2. CARBURANT (Véhicules légers)'!A27","v":"Gaz naturel [m³]"},{"$f":"'2. CARBURANT (Véhicules légers)'!B27","v":0},null,{"$f":"'2. CARBURANT (Véhicules légers)'!D27","v":0},null,{"$f":"'2. CARBURANT (Véhicules légers)'!F27","v":0},null,{"$f":"'2. CARBURANT (Véhicules légers)'!H27","v":0},null,{"$f":"'2. CARBURANT (Véhicules légers)'!J27","v":0},null,{"$f":"'2. CARBURANT (Véhicules légers)'!L27","v":0},null,{"$f":"'2. CARBURANT (Véhicules légers)'!N27","v":0},null,{"$f":"'2. CARBURANT (Véhicules légers)'!P27","v":0},null,{"$f":"'2. CARBURANT (Véhicules légers)'!R27","v":0},null,{"$f":"'2. CARBURANT (Véhicules légers)'!T27","v":0},null,{"$f":"'2. CARBURANT (Véhicules légers)'!V27","v":0},null,{"$f":"'2. CARBURANT (Véhicules légers)'!X27","v":0},null,{"$f":"'2. CARBURANT (Véhicules légers)'!Z27","v":0},null,{"$f":"'2. CARBURANT (Véhicules légers)'!AB27","v":0},null,{"$f":"'2. CARBURANT (Véhicules légers)'!AD27","v":0},null,{"$f":"'2. CARBURANT (Véhicules légers)'!AF27","v":0},null,{"$f":"'2. CARBURANT (Véhicules légers)'!AH27","v":0},null,{"$f":"'2. CARBURANT (Véhicules légers)'!AJ27","v":0},null,{"$f":"'2. CARBURANT (Véhicules légers)'!AL27","v":0},null,{"$f":"'2. CARBURANT (Véhicules légers)'!AN27","v":0},null,{"$f":"'2. CARBURANT (Véhicules légers)'!AP27","v":0},null,{"$f":"'2. CARBURANT (Véhicules légers)'!AR27","v":0},null,{"$f":"'2. CARBURANT (Véhicules légers)'!AT27","v":0}]
[null,null,null,null,"Gaz naturel [$]",{"$f":"'2. CARBURANT (Véhicules légers)'!A13","v":"Gaz naturel [$]"},{"$f":"'2. CARBURANT (Véhicules légers)'!B13","v":0},null,{"$f":"'2. CARBURANT (Véhicules légers)'!D13","v":0},null,{"$f":"'2. CARBURANT (Véhicules légers)'!F13","v":0},null,{"$f":"'2. CARBURANT (Véhicules légers)'!H13","v":0},null,{"$f":"'2. CARBURANT (Véhicules légers)'!J13","v":0},null,{"$f":"'2. CARBURANT (Véhicules légers)'!L13","v":0},null,{"$f":"'2. CARBURANT (Véhicules légers)'!N13","v":0},null,{"$f":"'2. CARBURANT (Véhicules légers)'!P13","v":0},null,{"$f":"'2. CARBURANT (Véhicules légers)'!R13","v":0},null,{"$f":"'2. CARBURANT (Véhicules légers)'!T13","v":0},null,{"$f":"'2. CARBURANT (Véhicules légers)'!V13","v":0},null,{"$f":"'2. CARBURANT (Véhicules légers)'!X13","v":0},null,{"$f":"'2. CARBURANT (Véhicules légers)'!Z13","v":0},null,{"$f":"'2. CARBURANT (Véhicules légers)'!AB13","v":0},null,{"$f":"'2. CARBURANT (Véhicules légers)'!AD13","v":0},null,{"$f":"'2. CARBURANT (Véhicules légers)'!AF13","v":0},null,{"$f":"'2. CARBURANT (Véhicules légers)'!AH13","v":0},null,{"$f":"'2. CARBURANT (Véhicules légers)'!AJ13","v":0},null,{"$f":"'2. CARBURANT (Véhicules légers)'!AL13","v":0},null,{"$f":"'2. CARBURANT (Véhicules légers)'!AN13","v":0},null,{"$f":"'2. CARBURANT (Véhicules légers)'!AP13","v":0},null,{"$f":"'2. CARBURANT (Véhicules légers)'!AR13","v":0},null,{"$f":"'2. CARBURANT (Véhicules légers)'!AT13","v":0}]
[]
[]
[]
[]
[]
[null,null,"Propane",null,"Propane Litres [L]",{"$f":"'2. CARBURANT (Véhicules légers)'!A28","v":"Propane  [litres]"},{"$f":"'2. CARBURANT (Véhicules légers)'!B28","v":0},null,{"$f":"'2. CARBURANT (Véhicules légers)'!D28","v":0},null,{"$f":"'2. CARBURANT (Véhicules légers)'!F28","v":0},null,{"$f":"'2. CARBURANT (Véhicules légers)'!H28","v":0},null,{"$f":"'2. CARBURANT (Véhicules légers)'!J28","v":0},null,{"$f":"'2. CARBURANT (Véhicules légers)'!L28","v":0},null,{"$f":"'2. CARBURANT (Véhicules légers)'!N28","v":0},null,{"$f":"'2. CARBURANT (Véhicules légers)'!P28","v":0},null,{"$f":"'2. CARBURANT (Véhicules légers)'!R28","v":0},null,{"$f":"'2. CARBURANT (Véhicules légers)'!T28","v":0},null,{"$f":"'2. CARBURANT (Véhicules légers)'!V28","v":0},null,{"$f":"'2. CARBURANT (Véhicules légers)'!X28","v":0},null,{"$f":"'2. CARBURANT (Véhicules légers)'!Z28","v":0},null,{"$f":"'2. CARBURANT (Véhicules légers)'!AB28","v":0},null,{"$f":"'2. CARBURANT (Véhicules légers)'!AD28","v":0},null,{"$f":"'2. CARBURANT (Véhicules légers)'!AF28","v":0},null,{"$f":"'2. CARBURANT (Véhicules légers)'!AH28","v":0},null,{"$f":"'2. CARBURANT (Véhicules légers)'!AJ28","v":0},null,{"$f":"'2. CARBURANT (Véhicules légers)'!AL28","v":0},null,{"$f":"'2. CARBURANT (Véhicules légers)'!AN28","v":0},null,{"$f":"'2. CARBURANT (Véhicules légers)'!AP28","v":0},null,{"$f":"'2. CARBURANT (Véhicules légers)'!AR28","v":0},null,{"$f":"'2. CARBURANT (Véhicules légers)'!AT28","v":0}]
[null,null,null,null,"Propane [$]",{"$f":"'2. CARBURANT (Véhicules légers)'!A14","v":"Propane [$]"},{"$f":"'2. CARBURANT (Véhicules légers)'!B14","v":0},null,{"$f":"'2. CARBURANT (Véhicules légers)'!D14","v":0},null,{"$f":"'2. CARBURANT (Véhicules légers)'!F14","v":0},null,{"$f":"'2. CARBURANT (Véhicules légers)'!H14","v":0},null,{"$f":"'2. CARBURANT (Véhicules légers)'!J14","v":0},null,{"$f":"'2. CARBURANT (Véhicules légers)'!L14","v":0},null,{"$f":"'2. CARBURANT (Véhicules légers)'!N14","v":0},null,{"$f":"'2. CARBURANT (Véhicules légers)'!P14","v":0},null,{"$f":"'2. CARBURANT (Véhicules légers)'!R14","v":0},null,{"$f":"'2. CARBURANT (Véhicules légers)'!T14","v":0},null,{"$f":"'2. CARBURANT (Véhicules légers)'!V14","v":0},null,{"$f":"'2. CARBURANT (Véhicules légers)'!X14","v":0},null,{"$f":"'2. CARBURANT (Véhicules légers)'!Z14","v":0},null,{"$f":"'2. CARBURANT (Véhicules légers)'!AB14","v":0},null,{"$f":"'2. CARBURANT (Véhicules légers)'!AD14","v":0},null,{"$f":"'2. CARBURANT (Véhicules légers)'!AF14","v":0},null,{"$f":"'2. CARBURANT (Véhicules légers)'!AH14","v":0},null,{"$f":"'2. CARBURANT (Véhicules légers)'!AJ14","v":0},null,{"$f":"'2. CARBURANT (Véhicules légers)'!AL14","v":0},null,{"$f":"'2. CARBURANT (Véhicules légers)'!AN14","v":0},null,{"$f":"'2. CARBURANT (Véhicules légers)'!AP14","v":0},null,{"$f":"'2. CARBURANT (Véhicules légers)'!AR14","v":0},null,{"$f":"'2. CARBURANT (Véhicules légers)'!AT14","v":0}]
[]
[]
[]
[]
[]
[null,null,"Essence Ethanol",null,"Essence Ethanol Litres [L]",{"$f":"'2. CARBURANT (Véhicules légers)'!A31","v":"Essence éthanol  [litres]"},{"$f":"'2. CARBURANT (Véhicules légers)'!B31","v":0},null,{"$f":"'2. CARBURANT (Véhicules légers)'!D31","v":0},null,{"$f":"'2. CARBURANT (Véhicules légers)'!F31","v":0},null,{"$f":"'2. CARBURANT (Véhicules légers)'!H31","v":0},null,{"$f":"'2. CARBURANT (Véhicules légers)'!J31","v":0},null,{"$f":"'2. CARBURANT (Véhicules légers)'!L31","v":0},null,{"$f":"'2. CARBURANT (Véhicules légers)'!N31","v":0},null,{"$f":"'2. CARBURANT (Véhicules légers)'!P31","v":0},null,{"$f":"'2. CARBURANT (Véhicules légers)'!R31","v":0},null,{"$f":"'2. CARBURANT (Véhicules légers)'!T31","v":0},null,{"$f":"'2. CARBURANT (Véhicules légers)'!V31","v":0},null,{"$f":"'2. CARBURANT (Véhicules légers)'!X31","v":0},null,{"$f":"'2. CARBURANT (Véhicules légers)'!Z31","v":0},null,{"$f":"'2. CARBURANT (Véhicules légers)'!AB31","v":0},null,{"$f":"'2. CARBURANT (Véhicules légers)'!AD31","v":0},null,{"$f":"'2. CARBURANT (Véhicules légers)'!AF31","v":0},null,{"$f":"'2. CARBURANT (Véhicules légers)'!AH31","v":0},null,{"$f":"'2. CARBURANT (Véhicules légers)'!AJ31","v":0},null,{"$f":"'2. CARBURANT (Véhicules légers)'!AL31","v":0},null,{"$f":"'2. CARBURANT (Véhicules légers)'!AN31","v":0},null,{"$f":"'2. CARBURANT (Véhicules légers)'!AP31","v":0},null,{"$f":"'2. CARBURANT (Véhicules légers)'!AR31","v":0},null,{"$f":"'2. CARBURANT (Véhicules légers)'!AT31","v":0}]
[null,null,null,null,"Essence Ethanol [$]",{"$f":"'2. CARBURANT (Véhicules légers)'!A17","v":"Essence éthanol  [$]"},{"$f":"'2. CARBURANT (Véhicules légers)'!B17","v":0},null,{"$f":"'2. CARBURANT (Véhicules légers)'!D17","v":0},null,{"$f":"'2. CARBURANT (Véhicules légers)'!F17","v":0},null,{"$f":"'2. CARBURANT (Véhicules légers)'!H17","v":0},null,{"$f":"'2. CARBURANT (Véhicules légers)'!J17","v":0},null,{"$f":"'2. CARBURANT (Véhicules légers)'!L17","v":0},null,{"$f":"'2. CARBURANT (Véhicules légers)'!N17","v":0},null,{"$f":"'2. CARBURANT (Véhicules légers)'!P17","v":0},null,{"$f":"'2. CARBURANT (Véhicules légers)'!R17","v":0},null,{"$f":"'2. CARBURANT (Véhicules légers)'!T17","v":0},null,{"$f":"'2. CARBURANT (Véhicules légers)'!V17","v":0},null,{"$f":"'2. CARBURANT (Véhicules légers)'!X17","v":0},null,{"$f":"'2. CARBURANT (Véhicules légers)'!Z17","v":0},null,{"$f":"'2. CARBURANT (Véhicules légers)'!AB17","v":0},null,{"$f":"'2. CARBURANT (Véhicules légers)'!AD17","v":0},null,{"$f":"'2. CARBURANT (Véhicules légers)'!AF17","v":0},null,{"$f":"'2. CARBURANT (Véhicules légers)'!AH17","v":0},null,{"$f":"'2. CARBURANT (Véhicules légers)'!AJ17","v":0},null,{"$f":"'2. CARBURANT (Véhicules légers)'!AL17","v":0},null,{"$f":"'2. CARBURANT (Véhicules légers)'!AN17","v":0},null,{"$f":"'2. CARBURANT (Véhicules légers)'!AP17","v":0},null,{"$f":"'2. CARBURANT (Véhicules légers)'!AR17","v":0},null,{"$f":"'2. CARBURANT (Véhicules légers)'!AT17","v":0}]
[]
[]
[]
[]
[]
[null,null,"Bio Diesel",null,"Bio Diesel Litres [L]",{"$f":"'2. CARBURANT (Véhicules légers)'!A32","v":"Biodiesel [litres]"},{"$f":"'2. CARBURANT (Véhicules légers)'!B32","v":0},null,{"$f":"'2. CARBURANT (Véhicules légers)'!D32","v":0},null,{"$f":"'2. CARBURANT (Véhicules légers)'!F32","v":0},null,{"$f":"'2. CARBURANT (Véhicules légers)'!H32","v":0},null,{"$f":"'2. CARBURANT (Véhicules légers)'!J32","v":0},null,{"$f":"'2. CARBURANT (Véhicules légers)'!L32","v":0},null,{"$f":"'2. CARBURANT (Véhicules légers)'!N32","v":0},null,{"$f":"'2. CARBURANT (Véhicules légers)'!P32","v":0},null,{"$f":"'2. CARBURANT (Véhicules légers)'!R32","v":0},null,{"$f":"'2. CARBURANT (Véhicules légers)'!T32","v":0},null,{"$f":"'2. CARBURANT (Véhicules légers)'!V32","v":0},null,{"$f":"'2. CARBURANT (Véhicules légers)'!X32","v":0},null,{"$f":"'2. CARBURANT (Véhicules légers)'!Z32","v":0},null,{"$f":"'2. CARBURANT (Véhicules légers)'!AB32","v":0},null,{"$f":"'2. CARBURANT (Véhicules légers)'!AD32","v":0},null,{"$f":"'2. CARBURANT (Véhicules légers)'!AF32","v":0},null,{"$f":"'2. CARBURANT (Véhicules légers)'!AH32","v":0},null,{"$f":"'2. CARBURANT (Véhicules légers)'!AJ32","v":0},null,{"$f":"'2. CARBURANT (Véhicules légers)'!AL32","v":0},null,{"$f":"'2. CARBURANT (Véhicules légers)'!AN32","v":0},null,{"$f":"'2. CARBURANT (Véhicules légers)'!AP32","v":0},null,{"$f":"'2. CARBURANT (Véhicules légers)'!AR32","v":0},null,{"$f":"'2. CARBURANT (Véhicules légers)'!AT32","v":0}]
[null,null,null,null,"Bio Diesel [$]",{"$f":"'2. CARBURANT (Véhicules légers)'!A18","v":"Biodiesel [$]"},{"$f":"'2. CARBURANT (Véhicules légers)'!B18","v":0},null,{"$f":"'2. CARBURANT (Véhicules légers)'!D18","v":0},null,{"$f":"'2. CARBURANT (Véhicules légers)'!F18","v":0},null,{"$f":"'2. CARBURANT (Véhicules légers)'!H18","v":0},null,{"$f":"'2. CARBURANT (Véhicules légers)'!J18","v":0},null,{"$f":"'2. CARBURANT (Véhicules légers)'!L18","v":0},null,{"$f":"'2. CARBURANT (Véhicules légers)'!N18","v":0},null,{"$f":"'2. CARBURANT (Véhicules légers)'!P18","v":0},null,{"$f":"'2. CARBURANT (Véhicules légers)'!R18","v":0},null,{"$f":"'2. CARBURANT (Véhicules légers)'!T18","v":0},null,{"$f":"'2. CARBURANT (Véhicules légers)'!V18","v":0},null,{"$f":"'2. CARBURANT (Véhicules légers)'!X18","v":0},null,{"$f":"'2. CARBURANT (Véhicules légers)'!Z18","v":0},null,{"$f":"'2. CARBURANT (Véhicules légers)'!AB18","v":0},null,{"$f":"'2. CARBURANT (Véhicules légers)'!AD18","v":0},null,{"$f":"'2. CARBURANT (Véhicules légers)'!AF18","v":0},null,{"$f":"'2. CARBURANT (Véhicules légers)'!AH18","v":0},null,{"$f":"'2. CARBURANT (Véhicules légers)'!AJ18","v":0},null,{"$f":"'2. CARBURANT (Véhicules légers)'!AL18","v":0},null,{"$f":"'2. CARBURANT (Véhicules légers)'!AN18","v":0},null,{"$f":"'2. CARBURANT (Véhicules légers)'!AP18","v":0},null,{"$f":"'2. CARBURANT (Véhicules légers)'!AR18","v":0},null,{"$f":"'2. CARBURANT (Véhicules légers)'!AT18","v":0}]
[]
[]
[]
[]
[]
[]
[null,null,"Formules"]
[]
[]
[]
[]
[]
[]
[]
[]
[]
[]
[]
[]
[]
[]
[]
[null,null,"Nombre de véhicules","Sur route",null,{"$f":"'5. NOMBRE DE VÉHICULES'!A11","v":"Sur route (incluant locations longue durée)"},{"$f":"'5. NOMBRE DE VÉHICULES'!B11","v":0},null,{"$f":"'5. NOMBRE DE VÉHICULES'!D11","v":0},null,{"$f":"'5. NOMBRE DE VÉHICULES'!F11","v":0},null,{"$f":"'5. NOMBRE DE VÉHICULES'!H11","v":0},null,{"$f":"'5. NOMBRE DE VÉHICULES'!J11","v":0},null,{"$f":"'5. NOMBRE DE VÉHICULES'!L11","v":0},null,{"$f":"'5. NOMBRE DE VÉHICULES'!N11","v":0},null,{"$f":"'5. NOMBRE DE VÉHICULES'!P11","v":0},null,{"$f":"'5. NOMBRE DE VÉHICULES'!R11","v":0},null,{"$f":"'5. NOMBRE DE VÉHICULES'!T11","v":0},null,{"$f":"'5. NOMBRE DE VÉHICULES'!V11","v":0},null,{"$f":"'5. NOMBRE DE VÉHICULES'!X11","v":0},null,{"$f":"'5. NOMBRE DE VÉHICULES'!Z11","v":0},null,{"$f":"'5. NOMBRE DE VÉHICULES'!AB11","v":0},null,{"$f":"'5. NOMBRE DE VÉHICULES'!AD11","v":0},null,{"$f":"'5. NOMBRE DE VÉHICULES'!AF11","v":0},null,{"$f":"'5. NOMBRE DE VÉHICULES'!AH11","v":0},null,{"$f":"'5. NOMBRE DE VÉHICULES'!AJ11","v":0},null,{"$f":"'5. NOMBRE DE VÉHICULES'!AL11","v":0},null,{"$f":"'5. NOMBRE DE VÉHICULES'!AN11","v":0},null,{"$f":"'5. NOMBRE DE VÉHICULES'!AP11","v":0},null,{"$f":"'5. NOMBRE DE VÉHICULES'!AR11","v":0},null,{"$f":"'5. NOMBRE DE VÉHICULES'!AT11","v":0}]
[null,null,null,"Hors route",null,{"$f":"'5. NOMBRE DE VÉHICULES'!A12","v":"Hors route (VTT, motoneige, etc.)  "},{"$f":"'5. NOMBRE DE VÉHICULES'!B12","v":0},null,{"$f":"'5. NOMBRE DE VÉHICULES'!D12","v":0},null,{"$f":"'5. NOMBRE DE VÉHICULES'!F12","v":0},null,{"$f":"'5. NOMBRE DE VÉHICULES'!H12","v":0},null,{"$f":"'5. NOMBRE DE VÉHICULES'!J12","v":0},null,{"$f":"'5. NOMBRE DE VÉHICULES'!L12","v":0},null,{"$f":"'5. NOMBRE DE VÉHICULES'!N12","v":0},null,{"$f":"'5. NOMBRE DE VÉHICULES'!P12","v":0},null,{"$f":"'5. NOMBRE DE VÉHICULES'!R12","v":0},null,{"$f":"'5. NOMBRE DE VÉHICULES'!T12","v":0},null,{"$f":"'5. NOMBRE DE VÉHICULES'!V12","v":0},null,{"$f":"'5. NOMBRE DE VÉHICULES'!X12","v":0},null,{"$f":"'5. NOMBRE DE VÉHICULES'!Z12","v":0},null,{"$f":"'5. NOMBRE DE VÉHICULES'!AB12","v":0},null,{"$f":"'5. NOMBRE DE VÉHICULES'!AD12","v":0},null,{"$f":"'5. NOMBRE DE VÉHICULES'!AF12","v":0},null,{"$f":"'5. NOMBRE DE VÉHICULES'!AH12","v":0},null,{"$f":"'5. NOMBRE DE VÉHICULES'!AJ12","v":0},null,{"$f":"'5. NOMBRE DE VÉHICULES'!AL12","v":0},null,{"$f":"'5. NOMBRE DE VÉHICULES'!AN12","v":0},null,{"$f":"'5. NOMBRE DE VÉHICULES'!AP12","v":0},null,{"$f":"'5. NOMBRE DE VÉHICULES'!AR12","v":0},null,{"$f":"'5. NOMBRE DE VÉHICULES'!AT12","v":0}]
[null,null,null,"Hybride",null,{"$f":"'5. NOMBRE DE VÉHICULES'!A13","v":"Hybrides [1]"},{"$f":"'5. NOMBRE DE VÉHICULES'!B13","v":0},null,{"$f":"'5. NOMBRE DE VÉHICULES'!D13","v":0},null,{"$f":"'5. NOMBRE DE VÉHICULES'!F13","v":0},null,{"$f":"'5. NOMBRE DE VÉHICULES'!H13","v":0},null,{"$f":"'5. NOMBRE DE VÉHICULES'!J13","v":0},null,{"$f":"'5. NOMBRE DE VÉHICULES'!L13","v":0},null,{"$f":"'5. NOMBRE DE VÉHICULES'!N13","v":0},null,{"$f":"'5. NOMBRE DE VÉHICULES'!P13","v":0},null,{"$f":"'5. NOMBRE DE VÉHICULES'!R13","v":0},null,{"$f":"'5. NOMBRE DE VÉHICULES'!T13","v":0},null,{"$f":"'5. NOMBRE DE VÉHICULES'!V13","v":0},null,{"$f":"'5. NOMBRE DE VÉHICULES'!X13","v":0},null,{"$f":"'5. NOMBRE DE VÉHICULES'!Z13","v":0},null,{"$f":"'5. NOMBRE DE VÉHICULES'!AB13","v":0},null,{"$f":"'5. NOMBRE DE VÉHICULES'!AD13","v":0},null,{"$f":"'5. NOMBRE DE VÉHICULES'!AF13","v":0},null,{"$f":"'5. NOMBRE DE VÉHICULES'!AH13","v":0},null,{"$f":"'5. NOMBRE DE VÉHICULES'!AJ13","v":0},null,{"$f":"'5. NOMBRE DE VÉHICULES'!AL13","v":0},null,{"$f":"'5. NOMBRE DE VÉHICULES'!AN13","v":0},null,{"$f":"'5. NOMBRE DE VÉHICULES'!AP13","v":0},null,{"$f":"'5. NOMBRE DE VÉHICULES'!AR13","v":0},null,{"$f":"'5. NOMBRE DE VÉHICULES'!AT13","v":0}]
[null,null,null,"Hybride rechargeable",null,{"$f":"'5. NOMBRE DE VÉHICULES'!A14","v":"Hybrides rechargeables [2]"},{"$f":"'5. NOMBRE DE VÉHICULES'!B14","v":0},null,{"$f":"'5. NOMBRE DE VÉHICULES'!D14","v":0},null,{"$f":"'5. NOMBRE DE VÉHICULES'!F14","v":0},null,{"$f":"'5. NOMBRE DE VÉHICULES'!H14","v":0},null,{"$f":"'5. NOMBRE DE VÉHICULES'!J14","v":0},null,{"$f":"'5. NOMBRE DE VÉHICULES'!L14","v":0},null,{"$f":"'5. NOMBRE DE VÉHICULES'!N14","v":0},null,{"$f":"'5. NOMBRE DE VÉHICULES'!P14","v":0},null,{"$f":"'5. NOMBRE DE VÉHICULES'!R14","v":0},null,{"$f":"'5. NOMBRE DE VÉHICULES'!T14","v":0},null,{"$f":"'5. NOMBRE DE VÉHICULES'!V14","v":0},null,{"$f":"'5. NOMBRE DE VÉHICULES'!X14","v":0},null,{"$f":"'5. NOMBRE DE VÉHICULES'!Z14","v":0},null,{"$f":"'5. NOMBRE DE VÉHICULES'!AB14","v":0},null,{"$f":"'5. NOMBRE DE VÉHICULES'!AD14","v":0},null,{"$f":"'5. NOMBRE DE VÉHICULES'!AF14","v":0},null,{"$f":"'5. NOMBRE DE VÉHICULES'!AH14","v":0},null,{"$f":"'5. NOMBRE DE VÉHICULES'!AJ14","v":0},null,{"$f":"'5. NOMBRE DE VÉHICULES'!AL14","v":0},null,{"$f":"'5. NOMBRE DE VÉHICULES'!AN14","v":0},null,{"$f":"'5. NOMBRE DE VÉHICULES'!AP14","v":0},null,{"$f":"'5. NOMBRE DE VÉHICULES'!AR14","v":0},null,{"$f":"'5. NOMBRE DE VÉHICULES'!AT14","v":0}]
[null,null,null,"100% électrique",null,{"$f":"'5. NOMBRE DE VÉHICULES'!A15","v":"Électriques à batterie (100% électrique) [3]"},{"$f":"'5. NOMBRE DE VÉHICULES'!B15","v":0},null,{"$f":"'5. NOMBRE DE VÉHICULES'!D15","v":0},null,{"$f":"'5. NOMBRE DE VÉHICULES'!F15","v":0},null,{"$f":"'5. NOMBRE DE VÉHICULES'!H15","v":0},null,{"$f":"'5. NOMBRE DE VÉHICULES'!J15","v":0},null,{"$f":"'5. NOMBRE DE VÉHICULES'!L15","v":0},null,{"$f":"'5. NOMBRE DE VÉHICULES'!N15","v":0},null,{"$f":"'5. NOMBRE DE VÉHICULES'!P15","v":0},null,{"$f":"'5. NOMBRE DE VÉHICULES'!R15","v":0},null,{"$f":"'5. NOMBRE DE VÉHICULES'!T15","v":0},null,{"$f":"'5. NOMBRE DE VÉHICULES'!V15","v":0},null,{"$f":"'5. NOMBRE DE VÉHICULES'!X15","v":0},null,{"$f":"'5. NOMBRE DE VÉHICULES'!Z15","v":0},null,{"$f":"'5. NOMBRE DE VÉHICULES'!AB15","v":0},null,{"$f":"'5. NOMBRE DE VÉHICULES'!AD15","v":0},null,{"$f":"'5. NOMBRE DE VÉHICULES'!AF15","v":0},null,{"$f":"'5. NOMBRE DE VÉHICULES'!AH15","v":0},null,{"$f":"'5. NOMBRE DE VÉHICULES'!AJ15","v":0},null,{"$f":"'5. NOMBRE DE VÉHICULES'!AL15","v":0},null,{"$f":"'5. NOMBRE DE VÉHICULES'!AN15","v":0},null,{"$f":"'5. NOMBRE DE VÉHICULES'!AP15","v":0},null,{"$f":"'5. NOMBRE DE VÉHICULES'!AR15","v":0},null,{"$f":"'5. NOMBRE DE VÉHICULES'!AT15","v":0}]
[]
[]
[null,null,null,"Date",null,{"$f":"'1. IDENTITÉ'!A20","v":"Date :"},{"$f":"'1. IDENTITÉ'!$B$20","v":0},null,{"$f":"'1. IDENTITÉ'!$B$20","v":0},null,{"$f":"'1. IDENTITÉ'!$B$20","v":0},null,{"$f":"'1. IDENTITÉ'!$B$20","v":0},null,{"$f":"'1. IDENTITÉ'!$B$20","v":0},null,{"$f":"'1. IDENTITÉ'!$B$20","v":0},null,{"$f":"'1. IDENTITÉ'!$B$20","v":0},null,{"$f":"'1. IDENTITÉ'!$B$20","v":0},null,{"$f":"'1. IDENTITÉ'!$B$20","v":0},null,{"$f":"'1. IDENTITÉ'!$B$20","v":0},null,{"$f":"'1. IDENTITÉ'!$B$20","v":0},null,{"$f":"'1. IDENTITÉ'!$B$20","v":0},null,{"$f":"'1. IDENTITÉ'!$B$20","v":0},null,{"$f":"'1. IDENTITÉ'!$B$20","v":0},null,{"$f":"'1. IDENTITÉ'!$B$20","v":0},null,{"$f":"'1. IDENTITÉ'!$B$20","v":0},null,{"$f":"'1. IDENTITÉ'!$B$20","v":0},null,{"$f":"'1. IDENTITÉ'!$B$20","v":0},null,{"$f":"'1. IDENTITÉ'!$B$20","v":0},null,{"$f":"'1. IDENTITÉ'!$B$20","v":0},null,{"$f":"'1. IDENTITÉ'!$B$20","v":0},null,{"$f":"'1. IDENTITÉ'!$B$20","v":0},null,{"$f":"'1. IDENTITÉ'!$B$20","v":0}]
[null,null,"TOTAUX (pas importés)","TOTAL Litres [L-éq.]",null,{"$f":"'2. CARBURANT (Véhicules légers)'!A34","v":"Total [L-éq. essence]"},{"$f":"'2. CARBURANT (Véhicules légers)'!B34","v":0},null,{"$f":"'2. CARBURANT (Véhicules légers)'!D34","v":0},null,{"$f":"'2. CARBURANT (Véhicules légers)'!F34","v":0},null,{"$f":"'2. CARBURANT (Véhicules légers)'!H34","v":0},null,{"$f":"'2. CARBURANT (Véhicules légers)'!J34","v":0},null,{"$f":"'2. CARBURANT (Véhicules légers)'!L34","v":0},null,{"$f":"'2. CARBURANT (Véhicules légers)'!N34","v":0},null,{"$f":"'2. CARBURANT (Véhicules légers)'!P34","v":0},null,{"$f":"'2. CARBURANT (Véhicules légers)'!R34","v":0},null,{"$f":"'2. CARBURANT (Véhicules légers)'!T34","v":0},null,{"$f":"'2. CARBURANT (Véhicules légers)'!V34","v":0},null,{"$f":"'2. CARBURANT (Véhicules légers)'!X34","v":0},null,{"$f":"'2. CARBURANT (Véhicules légers)'!Z34","v":0},null,{"$f":"'2. CARBURANT (Véhicules légers)'!AB34","v":0},null,{"$f":"'2. CARBURANT (Véhicules légers)'!AD34","v":0},null,{"$f":"'2. CARBURANT (Véhicules légers)'!AF34","v":0},null,{"$f":"'2. CARBURANT (Véhicules légers)'!AH34","v":0},null,{"$f":"'2. CARBURANT (Véhicules légers)'!AJ34","v":0},null,{"$f":"'2. CARBURANT (Véhicules légers)'!AL34","v":0},null,{"$f":"'2. CARBURANT (Véhicules légers)'!AN34","v":0},null,{"$f":"'2. CARBURANT (Véhicules légers)'!AP34","v":0},null,{"$f":"'2. CARBURANT (Véhicules légers)'!AR34","v":0},null,{"$f":"'2. CARBURANT (Véhicules légers)'!AT34","v":0}]
[null,null,null,"TOTAL [GJ]",null,{"$f":"'2. CARBURANT (Véhicules légers)'!A36","v":"Total [GJ]"},{"$f":"'2. CARBURANT (Véhicules légers)'!B36","v":0},null,{"$f":"'2. CARBURANT (Véhicules légers)'!D36","v":0},null,{"$f":"'2. CARBURANT (Véhicules légers)'!F36","v":0},null,{"$f":"'2. CARBURANT (Véhicules légers)'!H36","v":0},null,{"$f":"'2. CARBURANT (Véhicules légers)'!J36","v":0},null,{"$f":"'2. CARBURANT (Véhicules légers)'!L36","v":0},null,{"$f":"'2. CARBURANT (Véhicules légers)'!N36","v":0},null,{"$f":"'2. CARBURANT (Véhicules légers)'!P36","v":0},null,{"$f":"'2. CARBURANT (Véhicules légers)'!R36","v":0},null,{"$f":"'2. CARBURANT (Véhicules légers)'!T36","v":0},null,{"$f":"'2. CARBURANT (Véhicules légers)'!V36","v":0},null,{"$f":"'2. CARBURANT (Véhicules légers)'!X36","v":0},null,{"$f":"'2. CARBURANT (Véhicules légers)'!Z36","v":0},null,{"$f":"'2. CARBURANT (Véhicules légers)'!AB36","v":0},null,{"$f":"'2. CARBURANT (Véhicules légers)'!AD36","v":0},null,{"$f":"'2. CARBURANT (Véhicules légers)'!AF36","v":0},null,{"$f":"'2. CARBURANT (Véhicules légers)'!AH36","v":0},null,{"$f":"'2. CARBURANT (Véhicules légers)'!AJ36","v":0},null,{"$f":"'2. CARBURANT (Véhicules légers)'!AL36","v":0},null,{"$f":"'2. CARBURANT (Véhicules légers)'!AN36","v":0},null,{"$f":"'2. CARBURANT (Véhicules légers)'!AP36","v":0},null,{"$f":"'2. CARBURANT (Véhicules légers)'!AR36","v":0},null,{"$f":"'2. CARBURANT (Véhicules légers)'!AT36","v":0}]
[null,null,null,"TOTAL  ($)",null,{"$f":"'2. CARBURANT (Véhicules légers)'!A20","v":"Total [$]"},{"$f":"'2. CARBURANT (Véhicules légers)'!B20","v":0},null,{"$f":"'2. CARBURANT (Véhicules légers)'!D20","v":0},null,{"$f":"'2. CARBURANT (Véhicules légers)'!F20","v":0},null,{"$f":"'2. CARBURANT (Véhicules légers)'!H20","v":0},null,{"$f":"'2. CARBURANT (Véhicules légers)'!J20","v":0},null,{"$f":"'2. CARBURANT (Véhicules légers)'!L20","v":0},null,{"$f":"'2. CARBURANT (Véhicules légers)'!N20","v":0},null,{"$f":"'2. CARBURANT (Véhicules légers)'!P20","v":0},null,{"$f":"'2. CARBURANT (Véhicules légers)'!R20","v":0},null,{"$f":"'2. CARBURANT (Véhicules légers)'!T20","v":0},null,{"$f":"'2. CARBURANT (Véhicules légers)'!V20","v":0},null,{"$f":"'2. CARBURANT (Véhicules légers)'!X20","v":0},null,{"$f":"'2. CARBURANT (Véhicules légers)'!Z20","v":0},null,{"$f":"'2. CARBURANT (Véhicules légers)'!AB20","v":0},null,{"$f":"'2. CARBURANT (Véhicules légers)'!AD20","v":0},null,{"$f":"'2. CARBURANT (Véhicules légers)'!AF20","v":0},null,{"$f":"'2. CARBURANT (Véhicules légers)'!AH20","v":0},null,{"$f":"'2. CARBURANT (Véhicules légers)'!AJ20","v":0},null,{"$f":"'2. CARBURANT (Véhicules légers)'!AL20","v":0},null,{"$f":"'2. CARBURANT (Véhicules légers)'!AN20","v":0},null,{"$f":"'2. CARBURANT (Véhicules légers)'!AP20","v":0},null,{"$f":"'2. CARBURANT (Véhicules légers)'!AR20","v":0},null,{"$f":"'2. CARBURANT (Véhicules légers)'!AT20","v":0}]
[null,null,null,"TOTAL [ton CO2 éq.]",null,{"$f":"'2. CARBURANT (Véhicules légers)'!A50","v":"Total [t CO2 éq.]"},{"$f":"'2. CARBURANT (Véhicules légers)'!B50","v":0},null,{"$f":"'2. CARBURANT (Véhicules légers)'!D50","v":0},null,{"$f":"'2. CARBURANT (Véhicules légers)'!F50","v":0},null,{"$f":"'2. CARBURANT (Véhicules légers)'!H50","v":0},null,{"$f":"'2. CARBURANT (Véhicules légers)'!J50","v":0},null,{"$f":"'2. CARBURANT (Véhicules légers)'!L50","v":0},null,{"$f":"'2. CARBURANT (Véhicules légers)'!N50","v":0},null,{"$f":"'2. CARBURANT (Véhicules légers)'!P50","v":0},null,{"$f":"'2. CARBURANT (Véhicules légers)'!R50","v":0},null,{"$f":"'2. CARBURANT (Véhicules légers)'!T50","v":0},null,{"$f":"'2. CARBURANT (Véhicules légers)'!V50","v":0},null,{"$f":"'2. CARBURANT (Véhicules légers)'!X50","v":0},null,{"$f":"'2. CARBURANT (Véhicules légers)'!Z50","v":0},null,{"$f":"'2. CARBURANT (Véhicules légers)'!AB50","v":0},null,{"$f":"'2. CARBURANT (Véhicules légers)'!AD50","v":0},null,{"$f":"'2. CARBURANT (Véhicules légers)'!AF50","v":0},null,{"$f":"'2. CARBURANT (Véhicules légers)'!AH50","v":0},null,{"$f":"'2. CARBURANT (Véhicules légers)'!AJ50","v":0},null,{"$f":"'2. CARBURANT (Véhicules légers)'!AL50","v":0},null,{"$f":"'2. CARBURANT (Véhicules légers)'!AN50","v":0},null,{"$f":"'2. CARBURANT (Véhicules légers)'!AP50","v":0},null,{"$f":"'2. CARBURANT (Véhicules légers)'!AR50","v":0},null,{"$f":"'2. CARBURANT (Véhicules légers)'!AT50","v":0}]
[null,null,"Estimation des\némissions de gaz\nà effet de serre","Carburants\nconventionnels","Essence [ton CO2 éq.]",{"$f":"'2. CARBURANT (Véhicules légers)'!A41","v":"Essence [t CO2 éq.]"},{"$f":"'2. CARBURANT (Véhicules légers)'!B41","v":0},null,{"$f":"'2. CARBURANT (Véhicules légers)'!D41","v":0},null,{"$f":"'2. CARBURANT (Véhicules légers)'!F41","v":0},null,{"$f":"'2. CARBURANT (Véhicules légers)'!H41","v":0},null,{"$f":"'2. CARBURANT (Véhicules légers)'!J41","v":0},null,{"$f":"'2. CARBURANT (Véhicules légers)'!L41","v":0},null,{"$f":"'2. CARBURANT (Véhicules légers)'!N41","v":0},null,{"$f":"'2. CARBURANT (Véhicules légers)'!P41","v":0},null,{"$f":"'2. CARBURANT (Véhicules légers)'!R41","v":0},null,{"$f":"'2. CARBURANT (Véhicules légers)'!T41","v":0},null,{"$f":"'2. CARBURANT (Véhicules légers)'!V41","v":0},null,{"$f":"'2. CARBURANT (Véhicules légers)'!X41","v":0},null,{"$f":"'2. CARBURANT (Véhicules légers)'!Z41","v":0},null,{"$f":"'2. CARBURANT (Véhicules légers)'!AB41","v":0},null,{"$f":"'2. CARBURANT (Véhicules légers)'!AD41","v":0},null,{"$f":"'2. CARBURANT (Véhicules légers)'!AF41","v":0},null,{"$f":"'2. CARBURANT (Véhicules légers)'!AH41","v":0},null,{"$f":"'2. CARBURANT (Véhicules légers)'!AJ41","v":0},null,{"$f":"'2. CARBURANT (Véhicules légers)'!AL41","v":0},null,{"$f":"'2. CARBURANT (Véhicules légers)'!AN41","v":0},null,{"$f":"'2. CARBURANT (Véhicules légers)'!AP41","v":0},null,{"$f":"'2. CARBURANT (Véhicules légers)'!AR41","v":0},null,{"$f":"'2. CARBURANT (Véhicules légers)'!AT41","v":0}]
[null,null,null,null,"Diesel [ton CO2 éq.]",{"$f":"'2. CARBURANT (Véhicules légers)'!A42","v":"Diesel [t CO2 éq.]"},{"$f":"'2. CARBURANT (Véhicules légers)'!B42","v":0},null,{"$f":"'2. CARBURANT (Véhicules légers)'!D42","v":0},null,{"$f":"'2. CARBURANT (Véhicules légers)'!F42","v":0},null,{"$f":"'2. CARBURANT (Véhicules légers)'!H42","v":0},null,{"$f":"'2. CARBURANT (Véhicules légers)'!J42","v":0},null,{"$f":"'2. CARBURANT (Véhicules légers)'!L42","v":0},null,{"$f":"'2. CARBURANT (Véhicules légers)'!N42","v":0},null,{"$f":"'2. CARBURANT (Véhicules légers)'!P42","v":0},null,{"$f":"'2. CARBURANT (Véhicules légers)'!R42","v":0},null,{"$f":"'2. CARBURANT (Véhicules légers)'!T42","v":0},null,{"$f":"'2. CARBURANT (Véhicules légers)'!V42","v":0},null,{"$f":"'2. CARBURANT (Véhicules légers)'!X42","v":0},null,{"$f":"'2. CARBURANT (Véhicules légers)'!Z42","v":0},null,{"$f":"'2. CARBURANT (Véhicules légers)'!AB42","v":0},null,{"$f":"'2. CARBURANT (Véhicules légers)'!AD42","v":0},null,{"$f":"'2. CARBURANT (Véhicules légers)'!AF42","v":0},null,{"$f":"'2. CARBURANT (Véhicules légers)'!AH42","v":0},null,{"$f":"'2. CARBURANT (Véhicules légers)'!AJ42","v":0},null,{"$f":"'2. CARBURANT (Véhicules légers)'!AL42","v":0},null,{"$f":"'2. CARBURANT (Véhicules légers)'!AN42","v":0},null,{"$f":"'2. CARBURANT (Véhicules légers)'!AP42","v":0},null,{"$f":"'2. CARBURANT (Véhicules légers)'!AR42","v":0},null,{"$f":"'2. CARBURANT (Véhicules légers)'!AT42","v":0}]
[null,null,null,null,"Gaz naturel [ton CO2 éq.]",{"$f":"'2. CARBURANT (Véhicules légers)'!A43","v":"Gaz naturel [t CO2 éq.]"},{"$f":"'2. CARBURANT (Véhicules légers)'!B43","v":0},null,{"$f":"'2. CARBURANT (Véhicules légers)'!D43","v":0},null,{"$f":"'2. CARBURANT (Véhicules légers)'!F43","v":0},null,{"$f":"'2. CARBURANT (Véhicules légers)'!H43","v":0},null,{"$f":"'2. CARBURANT (Véhicules légers)'!J43","v":0},null,{"$f":"'2. CARBURANT (Véhicules légers)'!L43","v":0},null,{"$f":"'2. CARBURANT (Véhicules légers)'!N43","v":0},null,{"$f":"'2. CARBURANT (Véhicules légers)'!P43","v":0},null,{"$f":"'2. CARBURANT (Véhicules légers)'!R43","v":0},null,{"$f":"'2. CARBURANT (Véhicules légers)'!T43","v":0},null,{"$f":"'2. CARBURANT (Véhicules légers)'!V43","v":0},null,{"$f":"'2. CARBURANT (Véhicules légers)'!X43","v":0},null,{"$f":"'2. CARBURANT (Véhicules légers)'!Z43","v":0},null,{"$f":"'2. CARBURANT (Véhicules légers)'!AB43","v":0},null,{"$f":"'2. CARBURANT (Véhicules légers)'!AD43","v":0},null,{"$f":"'2. CARBURANT (Véhicules légers)'!AF43","v":0},null,{"$f":"'2. CARBURANT (Véhicules légers)'!AH43","v":0},null,{"$f":"'2. CARBURANT (Véhicules légers)'!AJ43","v":0},null,{"$f":"'2. CARBURANT (Véhicules légers)'!AL43","v":0},null,{"$f":"'2. CARBURANT (Véhicules légers)'!AN43","v":0},null,{"$f":"'2. CARBURANT (Véhicules légers)'!AP43","v":0},null,{"$f":"'2. CARBURANT (Véhicules légers)'!AR43","v":0},null,{"$f":"'2. CARBURANT (Véhicules légers)'!AT43","v":0}]
[null,null,null,null,"Propane [ton CO2 éq.]",{"$f":"'2. CARBURANT (Véhicules légers)'!A44","v":"Propane [t CO2 éq.]"},{"$f":"'2. CARBURANT (Véhicules légers)'!B44","v":0},null,{"$f":"'2. CARBURANT (Véhicules légers)'!D44","v":0},null,{"$f":"'2. CARBURANT (Véhicules légers)'!F44","v":0},null,{"$f":"'2. CARBURANT (Véhicules légers)'!H44","v":0},null,{"$f":"'2. CARBURANT (Véhicules légers)'!J44","v":0},null,{"$f":"'2. CARBURANT (Véhicules légers)'!L44","v":0},null,{"$f":"'2. CARBURANT (Véhicules légers)'!N44","v":0},null,{"$f":"'2. CARBURANT (Véhicules légers)'!P44","v":0},null,{"$f":"'2. CARBURANT (Véhicules légers)'!R44","v":0},null,{"$f":"'2. CARBURANT (Véhicules légers)'!T44","v":0},null,{"$f":"'2. CARBURANT (Véhicules légers)'!V44","v":0},null,{"$f":"'2. CARBURANT (Véhicules légers)'!X44","v":0},null,{"$f":"'2. CARBURANT (Véhicules légers)'!Z44","v":0},null,{"$f":"'2. CARBURANT (Véhicules légers)'!AB44","v":0},null,{"$f":"'2. CARBURANT (Véhicules légers)'!AD44","v":0},null,{"$f":"'2. CARBURANT (Véhicules légers)'!AF44","v":0},null,{"$f":"'2. CARBURANT (Véhicules légers)'!AH44","v":0},null,{"$f":"'2. CARBURANT (Véhicules légers)'!AJ44","v":0},null,{"$f":"'2. CARBURANT (Véhicules légers)'!AL44","v":0},null,{"$f":"'2. CARBURANT (Véhicules légers)'!AN44","v":0},null,{"$f":"'2. CARBURANT (Véhicules légers)'!AP44","v":0},null,{"$f":"'2. CARBURANT (Véhicules légers)'!AR44","v":0},null,{"$f":"'2. CARBURANT (Véhicules légers)'!AT44","v":0}]
[null,null,null,"Biocarburants","Essence Ethanol [ton CO2 éq.]",{"$f":"'2. CARBURANT (Véhicules légers)'!A47","v":"Essence éthanol [t CO2 éq.]"},{"$f":"'2. CARBURANT (Véhicules légers)'!B47","v":0},null,{"$f":"'2. CARBURANT (Véhicules légers)'!D47","v":0},null,{"$f":"'2. CARBURANT (Véhicules légers)'!F47","v":0},null,{"$f":"'2. CARBURANT (Véhicules légers)'!H47","v":0},null,{"$f":"'2. CARBURANT (Véhicules légers)'!J47","v":0},null,{"$f":"'2. CARBURANT (Véhicules légers)'!L47","v":0},null,{"$f":"'2. CARBURANT (Véhicules légers)'!N47","v":0},null,{"$f":"'2. CARBURANT (Véhicules légers)'!P47","v":0},null,{"$f":"'2. CARBURANT (Véhicules légers)'!R47","v":0},null,{"$f":"'2. CARBURANT (Véhicules légers)'!T47","v":0},null,{"$f":"'2. CARBURANT (Véhicules légers)'!V47","v":0},null,{"$f":"'2. CARBURANT (Véhicules légers)'!X47","v":0},null,{"$f":"'2. CARBURANT (Véhicules légers)'!Z47","v":0},null,{"$f":"'2. CARBURANT (Véhicules légers)'!AB47","v":0},null,{"$f":"'2. CARBURANT (Véhicules légers)'!AD47","v":0},null,{"$f":"'2. CARBURANT (Véhicules légers)'!AF47","v":0},null,{"$f":"'2. CARBURANT (Véhicules légers)'!AH47","v":0},null,{"$f":"'2. CARBURANT (Véhicules légers)'!AJ47","v":0},null,{"$f":"'2. CARBURANT (Véhicules légers)'!AL47","v":0},null,{"$f":"'2. CARBURANT (Véhicules légers)'!AN47","v":0},null,{"$f":"'2. CARBURANT (Véhicules légers)'!AP47","v":0},null,{"$f":"'2. CARBURANT (Véhicules légers)'!AR47","v":0},null,{"$f":"'2. CARBURANT (Véhicules légers)'!AT47","v":0}]
[null,null,null,null,"Bio Diesel [ton CO2 éq.]",{"$f":"'2. CARBURANT (Véhicules légers)'!A48","v":"Biodiesel [t CO2 éq.]"},{"$f":"'2. CARBURANT (Véhicules légers)'!B48","v":0},null,{"$f":"'2. CARBURANT (Véhicules légers)'!D48","v":0},null,{"$f":"'2. CARBURANT (Véhicules légers)'!F48","v":0},null,{"$f":"'2. CARBURANT (Véhicules légers)'!H48","v":0},null,{"$f":"'2. CARBURANT (Véhicules légers)'!J48","v":0},null,{"$f":"'2. CARBURANT (Véhicules légers)'!L48","v":0},null,{"$f":"'2. CARBURANT (Véhicules légers)'!N48","v":0},null,{"$f":"'2. CARBURANT (Véhicules légers)'!P48","v":0},null,{"$f":"'2. CARBURANT (Véhicules légers)'!R48","v":0},null,{"$f":"'2. CARBURANT (Véhicules légers)'!T48","v":0},null,{"$f":"'2. CARBURANT (Véhicules légers)'!V48","v":0},null,{"$f":"'2. CARBURANT (Véhicules légers)'!X48","v":0},null,{"$f":"'2. CARBURANT (Véhicules légers)'!Z48","v":0},null,{"$f":"'2. CARBURANT (Véhicules légers)'!AB48","v":0},null,{"$f":"'2. CARBURANT (Véhicules légers)'!AD48","v":0},null,{"$f":"'2. CARBURANT (Véhicules légers)'!AF48","v":0},null,{"$f":"'2. CARBURANT (Véhicules légers)'!AH48","v":0},null,{"$f":"'2. CARBURANT (Véhicules légers)'!AJ48","v":0},null,{"$f":"'2. CARBURANT (Véhicules légers)'!AL48","v":0},null,{"$f":"'2. CARBURANT (Véhicules légers)'!AN48","v":0},null,{"$f":"'2. CARBURANT (Véhicules légers)'!AP48","v":0},null,{"$f":"'2. CARBURANT (Véhicules légers)'!AR48","v":0},null,{"$f":"'2. CARBURANT (Véhicules légers)'!AT48","v":0}]
[null,null,null,"Véhicule de location courte durée [km]",null,{"$f":"'3. KM POLLUANTS'!A30","v":"Véhicule de location courte durée [km]"},{"$f":"'3. KM POLLUANTS'!B$28","v":0},null,{"$f":"'3. KM POLLUANTS'!D30","v":0},null,{"$f":"'3. KM POLLUANTS'!F30","v":0},null,{"$f":"'3. KM POLLUANTS'!H30","v":0},null,{"$f":"'3. KM POLLUANTS'!J30","v":0},null,{"$f":"'3. KM POLLUANTS'!L30","v":0},null,{"$f":"'3. KM POLLUANTS'!N30","v":0},null,{"$f":"'3. KM POLLUANTS'!P30","v":0},null,{"$f":"'3. KM POLLUANTS'!R30","v":0},null,{"$f":"'3. KM POLLUANTS'!T30","v":0},null,{"$f":"'3. KM POLLUANTS'!V30","v":0},null,{"$f":"'3. KM POLLUANTS'!X30","v":0},null,{"$f":"'3. KM POLLUANTS'!Z30","v":0},null,{"$f":"'3. KM POLLUANTS'!AB30","v":0},null,{"$f":"'3. KM POLLUANTS'!AD30","v":0},null,{"$f":"'3. KM POLLUANTS'!AF30","v":0},null,{"$f":"'3. KM POLLUANTS'!AH30","v":0},null,{"$f":"'3. KM POLLUANTS'!AJ30","v":0},null,{"$f":"'3. KM POLLUANTS'!AL30","v":0},null,{"$f":"'3. KM POLLUANTS'!AN30","v":0},null,{"$f":"'3. KM POLLUANTS'!AP30","v":0},null,{"$f":"'3. KM POLLUANTS'!AR30","v":0},null,{"$f":"'3. KM POLLUANTS'!AT30","v":0}]
[null,null,null,"Véhicule personnel [km]",null,{"$f":"'3. KM POLLUANTS'!A31","v":"Véhicule personnel [km]"},{"$f":"'3. KM POLLUANTS'!B$29","v":0},null,{"$f":"'3. KM POLLUANTS'!D31","v":0},null,{"$f":"'3. KM POLLUANTS'!F31","v":0},null,{"$f":"'3. KM POLLUANTS'!H31","v":0},null,{"$f":"'3. KM POLLUANTS'!J31","v":0},null,{"$f":"'3. KM POLLUANTS'!L31","v":0},null,{"$f":"'3. KM POLLUANTS'!N31","v":0},null,{"$f":"'3. KM POLLUANTS'!P31","v":0},null,{"$f":"'3. KM POLLUANTS'!R31","v":0},null,{"$f":"'3. KM POLLUANTS'!T31","v":0},null,{"$f":"'3. KM POLLUANTS'!V31","v":0},null,{"$f":"'3. KM POLLUANTS'!X31","v":0},null,{"$f":"'3. KM POLLUANTS'!Z31","v":0},null,{"$f":"'3. KM POLLUANTS'!AB31","v":0},null,{"$f":"'3. KM POLLUANTS'!AD31","v":0},null,{"$f":"'3. KM POLLUANTS'!AF31","v":0},null,{"$f":"'3. KM POLLUANTS'!AH31","v":0},null,{"$f":"'3. KM POLLUANTS'!AJ31","v":0},null,{"$f":"'3. KM POLLUANTS'!AL31","v":0},null,{"$f":"'3. KM POLLUANTS'!AN31","v":0},null,{"$f":"'3. KM POLLUANTS'!AP31","v":0},null,{"$f":"'3. KM POLLUANTS'!AR31","v":0},null,{"$f":"'3. KM POLLUANTS'!AT31","v":0}]
[null,null,null,"Passager en covoiturage [km]",null,{"$f":"'3. KM POLLUANTS'!A25","v":"Passager covoiturage [km]"},{"$f":"'3. KM POLLUANTS'!B$31","v":0},null,{"$f":"'3. KM POLLUANTS'!D25","v":0},null,{"$f":"'3. KM POLLUANTS'!F25","v":0},null,{"$f":"'3. KM POLLUANTS'!H25","v":0},null,{"$f":"'3. KM POLLUANTS'!J25","v":0},null,{"$f":"'3. KM POLLUANTS'!L25","v":0},null,{"$f":"'3. KM POLLUANTS'!N25","v":0},null,{"$f":"'3. KM POLLUANTS'!P25","v":0},null,{"$f":"'3. KM POLLUANTS'!R25","v":0},null,{"$f":"'3. KM POLLUANTS'!T25","v":0},null,{"$f":"'3. KM POLLUANTS'!V25","v":0},null,{"$f":"'3. KM POLLUANTS'!X25","v":0},null,{"$f":"'3. KM POLLUANTS'!Z25","v":0},null,{"$f":"'3. KM POLLUANTS'!AB25","v":0},null,{"$f":"'3. KM POLLUANTS'!AD25","v":0},null,{"$f":"'3. KM POLLUANTS'!AF25","v":0},null,{"$f":"'3. KM POLLUANTS'!AH25","v":0},null,{"$f":"'3. KM POLLUANTS'!AJ25","v":0},null,{"$f":"'3. KM POLLUANTS'!AL25","v":0},null,{"$f":"'3. KM POLLUANTS'!AN25","v":0},null,{"$f":"'3. KM POLLUANTS'!AP25","v":0},null,{"$f":"'3. KM POLLUANTS'!AR25","v":0},null,{"$f":"'3. KM POLLUANTS'!AT25","v":0}]
[null,null,null,"Taxi [km]",null,{"$f":"'3. KM POLLUANTS'!A24","v":"Taxi [km]"},{"$f":"'3. KM POLLUANTS'!B$32","v":0},null,{"$f":"'3. KM POLLUANTS'!D24","v":0},null,{"$f":"'3. KM POLLUANTS'!F24","v":0},null,{"$f":"'3. KM POLLUANTS'!H24","v":0},null,{"$f":"'3. KM POLLUANTS'!J24","v":0},null,{"$f":"'3. KM POLLUANTS'!L24","v":0},null,{"$f":"'3. KM POLLUANTS'!N24","v":0},null,{"$f":"'3. KM POLLUANTS'!P24","v":0},null,{"$f":"'3. KM POLLUANTS'!R24","v":0},null,{"$f":"'3. KM POLLUANTS'!T24","v":0},null,{"$f":"'3. KM POLLUANTS'!V24","v":0},null,{"$f":"'3. KM POLLUANTS'!X24","v":0},null,{"$f":"'3. KM POLLUANTS'!Z24","v":0},null,{"$f":"'3. KM POLLUANTS'!AB24","v":0},null,{"$f":"'3. KM POLLUANTS'!AD24","v":0},null,{"$f":"'3. KM POLLUANTS'!AF24","v":0},null,{"$f":"'3. KM POLLUANTS'!AH24","v":0},null,{"$f":"'3. KM POLLUANTS'!AJ24","v":0},null,{"$f":"'3. KM POLLUANTS'!AL24","v":0},null,{"$f":"'3. KM POLLUANTS'!AN24","v":0},null,{"$f":"'3. KM POLLUANTS'!AP24","v":0},null,{"$f":"'3. KM POLLUANTS'!AR24","v":0},null,{"$f":"'3. KM POLLUANTS'!AT24","v":0}]
[null,null,null,"Avion [km]",null,{"$f":"'3. KM POLLUANTS'!A32","v":"Avion [km]"},{"$f":"'3. KM POLLUANTS'!B$25","v":0},null,{"$f":"'3. KM POLLUANTS'!D32","v":0},null,{"$f":"'3. KM POLLUANTS'!F32","v":0},null,{"$f":"'3. KM POLLUANTS'!H32","v":0},null,{"$f":"'3. KM POLLUANTS'!J32","v":0},null,{"$f":"'3. KM POLLUANTS'!L32","v":0},null,{"$f":"'3. KM POLLUANTS'!N32","v":0},null,{"$f":"'3. KM POLLUANTS'!P32","v":0},null,{"$f":"'3. KM POLLUANTS'!R32","v":0},null,{"$f":"'3. KM POLLUANTS'!T32","v":0},null,{"$f":"'3. KM POLLUANTS'!V32","v":0},null,{"$f":"'3. KM POLLUANTS'!X32","v":0},null,{"$f":"'3. KM POLLUANTS'!Z32","v":0},null,{"$f":"'3. KM POLLUANTS'!AB32","v":0},null,{"$f":"'3. KM POLLUANTS'!AD32","v":0},null,{"$f":"'3. KM POLLUANTS'!AF32","v":0},null,{"$f":"'3. KM POLLUANTS'!AH32","v":0},null,{"$f":"'3. KM POLLUANTS'!AJ32","v":0},null,{"$f":"'3. KM POLLUANTS'!AL32","v":0},null,{"$f":"'3. KM POLLUANTS'!AN32","v":0},null,{"$f":"'3. KM POLLUANTS'!AP32","v":0},null,{"$f":"'3. KM POLLUANTS'!AR32","v":0},null,{"$f":"'3. KM POLLUANTS'!AT32","v":0}]
["Autres\ndéplacements",null,"Déplacements\npour lesquels\nil y a des\némissions de GES","Train [km]",null,{"$f":"'3. KM POLLUANTS'!A29","v":"Train [km]"},{"$f":"'3. KM POLLUANTS'!B$24","v":0},null,{"$f":"'3. KM POLLUANTS'!D29","v":0},null,{"$f":"'3. KM POLLUANTS'!F29","v":0},null,{"$f":"'3. KM POLLUANTS'!H29","v":0},null,{"$f":"'3. KM POLLUANTS'!J29","v":0},null,{"$f":"'3. KM POLLUANTS'!L29","v":0},null,{"$f":"'3. KM POLLUANTS'!N29","v":0},null,{"$f":"'3. KM POLLUANTS'!P29","v":0},null,{"$f":"'3. KM POLLUANTS'!R29","v":0},null,{"$f":"'3. KM POLLUANTS'!T29","v":0},null,{"$f":"'3. KM POLLUANTS'!V29","v":0},null,{"$f":"'3. KM POLLUANTS'!X29","v":0},null,{"$f":"'3. KM POLLUANTS'!Z29","v":0},null,{"$f":"'3. KM POLLUANTS'!AB29","v":0},null,{"$f":"'3. KM POLLUANTS'!AD29","v":0},null,{"$f":"'3. KM POLLUANTS'!AF29","v":0},null,{"$f":"'3. KM POLLUANTS'!AH29","v":0},null,{"$f":"'3. KM POLLUANTS'!AJ29","v":0},null,{"$f":"'3. KM POLLUANTS'!AL29","v":0},null,{"$f":"'3. KM POLLUANTS'!AN29","v":0},null,{"$f":"'3. KM POLLUANTS'!AP29","v":0},null,{"$f":"'3. KM POLLUANTS'!AR29","v":0},null,{"$f":"'3. KM POLLUANTS'!AT29","v":0}]
[null,null,null,"Autobus interurbain [km]",null,{"$f":"'3. KM POLLUANTS'!A27","v":"Autobus interurbain [km]"},{"$f":"'3. KM POLLUANTS'!B$26","v":0},null,{"$f":"'3. KM POLLUANTS'!D27","v":0},null,{"$f":"'3. KM POLLUANTS'!F27","v":0},null,{"$f":"'3. KM POLLUANTS'!H27","v":0},null,{"$f":"'3. KM POLLUANTS'!J27","v":0},null,{"$f":"'3. KM POLLUANTS'!L27","v":0},null,{"$f":"'3. KM POLLUANTS'!N27","v":0},null,{"$f":"'3. KM POLLUANTS'!P27","v":0},null,{"$f":"'3. KM POLLUANTS'!R27","v":0},null,{"$f":"'3. KM POLLUANTS'!T27","v":0},null,{"$f":"'3. KM POLLUANTS'!V27","v":0},null,{"$f":"'3. KM POLLUANTS'!X27","v":0},null,{"$f":"'3. KM POLLUANTS'!Z27","v":0},null,{"$f":"'3. KM POLLUANTS'!AB27","v":0},null,{"$f":"'3. KM POLLUANTS'!AD27","v":0},null,{"$f":"'3. KM POLLUANTS'!AF27","v":0},null,{"$f":"'3. KM POLLUANTS'!AH27","v":0},null,{"$f":"'3. KM POLLUANTS'!AJ27","v":0},null,{"$f":"'3. KM POLLUANTS'!AL27","v":0},null,{"$f":"'3. KM POLLUANTS'!AN27","v":0},null,{"$f":"'3. KM POLLUANTS'!AP27","v":0},null,{"$f":"'3. KM POLLUANTS'!AR27","v":0},null,{"$f":"'3. KM POLLUANTS'!AT27","v":0}]
[null,null,null,"Autobus urbain [km]",null,{"$f":"'3. KM POLLUANTS'!A26","v":"Autobus urbain [km]"},{"$f":"'3. KM POLLUANTS'!B$27","v":0},null,{"$f":"'3. KM POLLUANTS'!D26","v":0},null,{"$f":"'3. KM POLLUANTS'!F26","v":0},null,{"$f":"'3. KM POLLUANTS'!H26","v":0},null,{"$f":"'3. KM POLLUANTS'!J26","v":0},null,{"$f":"'3. KM POLLUANTS'!L26","v":0},null,{"$f":"'3. KM POLLUANTS'!N26","v":0},null,{"$f":"'3. KM POLLUANTS'!P26","v":0},null,{"$f":"'3. KM POLLUANTS'!R26","v":0},null,{"$f":"'3. KM POLLUANTS'!T26","v":0},null,{"$f":"'3. KM POLLUANTS'!V26","v":0},null,{"$f":"'3. KM POLLUANTS'!X26","v":0},null,{"$f":"'3. KM POLLUANTS'!Z26","v":0},null,{"$f":"'3. KM POLLUANTS'!AB26","v":0},null,{"$f":"'3. KM POLLUANTS'!AD26","v":0},null,{"$f":"'3. KM POLLUANTS'!AF26","v":0},null,{"$f":"'3. KM POLLUANTS'!AH26","v":0},null,{"$f":"'3. KM POLLUANTS'!AJ26","v":0},null,{"$f":"'3. KM POLLUANTS'!AL26","v":0},null,{"$f":"'3. KM POLLUANTS'!AN26","v":0},null,{"$f":"'3. KM POLLUANTS'!AP26","v":0},null,{"$f":"'3. KM POLLUANTS'!AR26","v":0},null,{"$f":"'3. KM POLLUANTS'!AT26","v":0}]
[null,null,null,"Métro [km]",null,{"$f":"'3. KM POLLUANTS'!A28","v":"Métro [km]"},{"$f":"'3. KM POLLUANTS'!B$30","v":0},null,{"$f":"'3. KM POLLUANTS'!D28","v":0},null,{"$f":"'3. KM POLLUANTS'!F28","v":0},null,{"$f":"'3. KM POLLUANTS'!H28","v":0},null,{"$f":"'3. KM POLLUANTS'!J28","v":0},null,{"$f":"'3. KM POLLUANTS'!L28","v":0},null,{"$f":"'3. KM POLLUANTS'!N28","v":0},null,{"$f":"'3. KM POLLUANTS'!P28","v":0},null,{"$f":"'3. KM POLLUANTS'!R28","v":0},null,{"$f":"'3. KM POLLUANTS'!T28","v":0},null,{"$f":"'3. KM POLLUANTS'!V28","v":0},null,{"$f":"'3. KM POLLUANTS'!X28","v":0},null,{"$f":"'3. KM POLLUANTS'!Z28","v":0},null,{"$f":"'3. KM POLLUANTS'!AB28","v":0},null,{"$f":"'3. KM POLLUANTS'!AD28","v":0},null,{"$f":"'3. KM POLLUANTS'!AF28","v":0},null,{"$f":"'3. KM POLLUANTS'!AH28","v":0},null,{"$f":"'3. KM POLLUANTS'!AJ28","v":0},null,{"$f":"'3. KM POLLUANTS'!AL28","v":0},null,{"$f":"'3. KM POLLUANTS'!AN28","v":0},null,{"$f":"'3. KM POLLUANTS'!AP28","v":0},null,{"$f":"'3. KM POLLUANTS'!AR28","v":0},null,{"$f":"'3. KM POLLUANTS'!AT28","v":0}]
[]
[]
[]
[null,null,"Déplacements\nZÉRO émissions\nde GES","Bicyclette [km]",null,{"$f":"'4. KM ZÉRO ÉMISSION'!A12","v":"À bicyclette [km]"},{"$f":"'4. KM ZÉRO ÉMISSION'!B$12","v":0},null,{"$f":"'4. KM ZÉRO ÉMISSION'!D12","v":0},null,{"$f":"'4. KM ZÉRO ÉMISSION'!F12","v":0},null,{"$f":"'4. KM ZÉRO ÉMISSION'!H12","v":0},null,{"$f":"'4. KM ZÉRO ÉMISSION'!J12","v":0},null,{"$f":"'4. KM ZÉRO ÉMISSION'!L12","v":0},null,{"$f":"'4. KM ZÉRO ÉMISSION'!N12","v":0},null,{"$f":"'4. KM ZÉRO ÉMISSION'!P12","v":0},null,{"$f":"'4. KM ZÉRO ÉMISSION'!R12","v":0},null,{"$f":"'4. KM ZÉRO ÉMISSION'!T12","v":0},null,{"$f":"'4. KM ZÉRO ÉMISSION'!V12","v":0},null,{"$f":"'4. KM ZÉRO ÉMISSION'!X12","v":0},null,{"$f":"'4. KM ZÉRO ÉMISSION'!Z12","v":0},null,{"$f":"'4. KM ZÉRO ÉMISSION'!AB12","v":0},null,{"$f":"'4. KM ZÉRO ÉMISSION'!AD12","v":0},null,{"$f":"'4. KM ZÉRO ÉMISSION'!AF12","v":0},null,{"$f":"'4. KM ZÉRO ÉMISSION'!AH12","v":0},null,{"$f":"'4. KM ZÉRO ÉMISSION'!AJ12","v":0},null,{"$f":"'4. KM ZÉRO ÉMISSION'!AL12","v":0},null,{"$f":"'4. KM ZÉRO ÉMISSION'!AN12","v":0},null,{"$f":"'4. KM ZÉRO ÉMISSION'!AP12","v":0},null,{"$f":"'4. KM ZÉRO ÉMISSION'!AR12","v":0},null,{"$f":"'4. KM ZÉRO ÉMISSION'!AT12","v":0}]
[null,null,null,"À pied [km]",null,{"$f":"'4. KM ZÉRO ÉMISSION'!A11","v":"À pied [km]"},{"$f":"'4. KM ZÉRO ÉMISSION'!B$11","v":0},null,{"$f":"'4. KM ZÉRO ÉMISSION'!D11","v":0},null,{"$f":"'4. KM ZÉRO ÉMISSION'!F11","v":0},null,{"$f":"'4. KM ZÉRO ÉMISSION'!H11","v":0},null,{"$f":"'4. KM ZÉRO ÉMISSION'!J11","v":0},null,{"$f":"'4. KM ZÉRO ÉMISSION'!L11","v":0},null,{"$f":"'4. KM ZÉRO ÉMISSION'!N11","v":0},null,{"$f":"'4. KM ZÉRO ÉMISSION'!P11","v":0},null,{"$f":"'4. KM ZÉRO ÉMISSION'!R11","v":0},null,{"$f":"'4. KM ZÉRO ÉMISSION'!T11","v":0},null,{"$f":"'4. KM ZÉRO ÉMISSION'!V11","v":0},null,{"$f":"'4. KM ZÉRO ÉMISSION'!X11","v":0},null,{"$f":"'4. KM ZÉRO ÉMISSION'!Z11","v":0},null,{"$f":"'4. KM ZÉRO ÉMISSION'!AB11","v":0},null,{"$f":"'4. KM ZÉRO ÉMISSION'!AD11","v":0},null,{"$f":"'4. KM ZÉRO ÉMISSION'!AF11","v":0},null,{"$f":"'4. KM ZÉRO ÉMISSION'!AH11","v":0},null,{"$f":"'4. KM ZÉRO ÉMISSION'!AJ11","v":0},null,{"$f":"'4. KM ZÉRO ÉMISSION'!AL11","v":0},null,{"$f":"'4. KM ZÉRO ÉMISSION'!AN11","v":0},null,{"$f":"'4. KM ZÉRO ÉMISSION'!AP11","v":0},null,{"$f":"'4. KM ZÉRO ÉMISSION'!AR11","v":0},null,{"$f":"'4. KM ZÉRO ÉMISSION'!AT11","v":0}]
[null,null,null,"Autres [km]",null,{"$f":"'4. KM ZÉRO ÉMISSION'!A13","v":"Autres mesures [km]"},{"$f":"'4. KM ZÉRO ÉMISSION'!B$13","v":0},null,{"$f":"'4. KM ZÉRO ÉMISSION'!D13","v":0},null,{"$f":"'4. KM ZÉRO ÉMISSION'!F13","v":0},null,{"$f":"'4. KM ZÉRO ÉMISSION'!H13","v":0},null,{"$f":"'4. KM ZÉRO ÉMISSION'!J13","v":0},null,{"$f":"'4. KM ZÉRO ÉMISSION'!L13","v":0},null,{"$f":"'4. KM ZÉRO ÉMISSION'!N13","v":0},null,{"$f":"'4. KM ZÉRO ÉMISSION'!P13","v":0},null,{"$f":"'4. KM ZÉRO ÉMISSION'!R13","v":0},null,{"$f":"'4. KM ZÉRO ÉMISSION'!T13","v":0},null,{"$f":"'4. KM ZÉRO ÉMISSION'!V13","v":0},null,{"$f":"'4. KM ZÉRO ÉMISSION'!X13","v":0},null,{"$f":"'4. KM ZÉRO ÉMISSION'!Z13","v":0},null,{"$f":"'4. KM ZÉRO ÉMISSION'!AB13","v":0},null,{"$f":"'4. KM ZÉRO ÉMISSION'!AD13","v":0},null,{"$f":"'4. KM ZÉRO ÉMISSION'!AF13","v":0},null,{"$f":"'4. KM ZÉRO ÉMISSION'!AH13","v":0},null,{"$f":"'4. KM ZÉRO ÉMISSION'!AJ13","v":0},null,{"$f":"'4. KM ZÉRO ÉMISSION'!AL13","v":0},null,{"$f":"'4. KM ZÉRO ÉMISSION'!AN13","v":0},null,{"$f":"'4. KM ZÉRO ÉMISSION'!AP13","v":0},null,{"$f":"'4. KM ZÉRO ÉMISSION'!AR13","v":0},null,{"$f":"'4. KM ZÉRO ÉMISSION'!AT13","v":0}]
[null,null,null,"TOTAL [km]",null,{"$f":"'4. KM ZÉRO ÉMISSION'!A14","v":"Total [km]"},{"$f":"'4. KM ZÉRO ÉMISSION'!B$14","v":0},null,{"$f":"'4. KM ZÉRO ÉMISSION'!D14","v":0},null,{"$f":"'4. KM ZÉRO ÉMISSION'!F14","v":0},null,{"$f":"'4. KM ZÉRO ÉMISSION'!H14","v":0},null,{"$f":"'4. KM ZÉRO ÉMISSION'!J14","v":0},null,{"$f":"'4. KM ZÉRO ÉMISSION'!L14","v":0},null,{"$f":"'4. KM ZÉRO ÉMISSION'!N14","v":0},null,{"$f":"'4. KM ZÉRO ÉMISSION'!P14","v":0},null,{"$f":"'4. KM ZÉRO ÉMISSION'!R14","v":0},null,{"$f":"'4. KM ZÉRO ÉMISSION'!T14","v":0},null,{"$f":"'4. KM ZÉRO ÉMISSION'!V14","v":0},null,{"$f":"'4. KM ZÉRO ÉMISSION'!X14","v":0},null,{"$f":"'4. KM ZÉRO ÉMISSION'!Z14","v":0},null,{"$f":"'4. KM ZÉRO ÉMISSION'!AB14","v":0},null,{"$f":"'4. KM ZÉRO ÉMISSION'!AD14","v":0},null,{"$f":"'4. KM ZÉRO ÉMISSION'!AF14","v":0},null,{"$f":"'4. KM ZÉRO ÉMISSION'!AH14","v":0},null,{"$f":"'4. KM ZÉRO ÉMISSION'!AJ14","v":0},null,{"$f":"'4. KM ZÉRO ÉMISSION'!AL14","v":0},null,{"$f":"'4. KM ZÉRO ÉMISSION'!AN14","v":0},null,{"$f":"'4. KM ZÉRO ÉMISSION'!AP14","v":0},null,{"$f":"'4. KM ZÉRO ÉMISSION'!AR14","v":0},null,{"$f":"'4. KM ZÉRO ÉMISSION'!AT14","v":0}]
[null,null,"Déplacements ÉVITÉS","Téléconférence [km]",null,{"$f":"'4. KM ZÉRO ÉMISSION'!A17","v":"Téléconférences [km]"},{"$f":"'4. KM ZÉRO ÉMISSION'!B$17","v":0},null,{"$f":"'4. KM ZÉRO ÉMISSION'!D17","v":0},null,{"$f":"'4. KM ZÉRO ÉMISSION'!F17","v":0},null,{"$f":"'4. KM ZÉRO ÉMISSION'!H17","v":0},null,{"$f":"'4. KM ZÉRO ÉMISSION'!J17","v":0},null,{"$f":"'4. KM ZÉRO ÉMISSION'!L17","v":0},null,{"$f":"'4. KM ZÉRO ÉMISSION'!N17","v":0},null,{"$f":"'4. KM ZÉRO ÉMISSION'!P17","v":0},null,{"$f":"'4. KM ZÉRO ÉMISSION'!R17","v":0},null,{"$f":"'4. KM ZÉRO ÉMISSION'!T17","v":0},null,{"$f":"'4. KM ZÉRO ÉMISSION'!V17","v":0},null,{"$f":"'4. KM ZÉRO ÉMISSION'!X17","v":0},null,{"$f":"'4. KM ZÉRO ÉMISSION'!Z17","v":0},null,{"$f":"'4. KM ZÉRO ÉMISSION'!AB17","v":0},null,{"$f":"'4. KM ZÉRO ÉMISSION'!AD17","v":0},null,{"$f":"'4. KM ZÉRO ÉMISSION'!AF17","v":0},null,{"$f":"'4. KM ZÉRO ÉMISSION'!AH17","v":0},null,{"$f":"'4. KM ZÉRO ÉMISSION'!AJ17","v":0},null,{"$f":"'4. KM ZÉRO ÉMISSION'!AL17","v":0},null,{"$f":"'4. KM ZÉRO ÉMISSION'!AN17","v":0},null,{"$f":"'4. KM ZÉRO ÉMISSION'!AP17","v":0},null,{"$f":"'4. KM ZÉRO ÉMISSION'!AR17","v":0},null,{"$f":"'4. KM ZÉRO ÉMISSION'!AT17","v":0}]
[null,null,null,"Autres mesures [km]",null,{"$f":"'4. KM ZÉRO ÉMISSION'!A18","v":"Autres mesures [km]"},{"$f":"'4. KM ZÉRO ÉMISSION'!B$18","v":0},null,{"$f":"'4. KM ZÉRO ÉMISSION'!D18","v":0},null,{"$f":"'4. KM ZÉRO ÉMISSION'!F18","v":0},null,{"$f":"'4. KM ZÉRO ÉMISSION'!H18","v":0},null,{"$f":"'4. KM ZÉRO ÉMISSION'!J18","v":0},null,{"$f":"'4. KM ZÉRO ÉMISSION'!L18","v":0},null,{"$f":"'4. KM ZÉRO ÉMISSION'!N18","v":0},null,{"$f":"'4. KM ZÉRO ÉMISSION'!P18","v":0},null,{"$f":"'4. KM ZÉRO ÉMISSION'!R18","v":0},null,{"$f":"'4. KM ZÉRO ÉMISSION'!T18","v":0},null,{"$f":"'4. KM ZÉRO ÉMISSION'!V18","v":0},null,{"$f":"'4. KM ZÉRO ÉMISSION'!X18","v":0},null,{"$f":"'4. KM ZÉRO ÉMISSION'!Z18","v":0},null,{"$f":"'4. KM ZÉRO ÉMISSION'!AB18","v":0},null,{"$f":"'4. KM ZÉRO ÉMISSION'!AD18","v":0},null,{"$f":"'4. KM ZÉRO ÉMISSION'!AF18","v":0},null,{"$f":"'4. KM ZÉRO ÉMISSION'!AH18","v":0},null,{"$f":"'4. KM ZÉRO ÉMISSION'!AJ18","v":0},null,{"$f":"'4. KM ZÉRO ÉMISSION'!AL18","v":0},null,{"$f":"'4. KM ZÉRO ÉMISSION'!AN18","v":0},null,{"$f":"'4. KM ZÉRO ÉMISSION'!AP18","v":0},null,{"$f":"'4. KM ZÉRO ÉMISSION'!AR18","v":0},null,{"$f":"'4. KM ZÉRO ÉMISSION'!AT18","v":0}]
[null,null,null,"TOTAL [km]",null,{"$f":"'4. KM ZÉRO ÉMISSION'!A19","v":"Total [km]"},{"$f":"'4. KM ZÉRO ÉMISSION'!B$19","v":0},null,{"$f":"'4. KM ZÉRO ÉMISSION'!D19","v":0},null,{"$f":"'4. KM ZÉRO ÉMISSION'!F19","v":0},null,{"$f":"'4. KM ZÉRO ÉMISSION'!H19","v":0},null,{"$f":"'4. KM ZÉRO ÉMISSION'!J19","v":0},null,{"$f":"'4. KM ZÉRO ÉMISSION'!L19","v":0},null,{"$f":"'4. KM ZÉRO ÉMISSION'!N19","v":0},null,{"$f":"'4. KM ZÉRO ÉMISSION'!P19","v":0},null,{"$f":"'4. KM ZÉRO ÉMISSION'!R19","v":0},null,{"$f":"'4. KM ZÉRO ÉMISSION'!T19","v":0},null,{"$f":"'4. KM ZÉRO ÉMISSION'!V19","v":0},null,{"$f":"'4. KM ZÉRO ÉMISSION'!X19","v":0},null,{"$f":"'4. KM ZÉRO ÉMISSION'!Z19","v":0},null,{"$f":"'4. KM ZÉRO ÉMISSION'!AB19","v":0},null,{"$f":"'4. KM ZÉRO ÉMISSION'!AD19","v":0},null,{"$f":"'4. KM ZÉRO ÉMISSION'!AF19","v":0},null,{"$f":"'4. KM ZÉRO ÉMISSION'!AH19","v":0},null,{"$f":"'4. KM ZÉRO ÉMISSION'!AJ19","v":0},null,{"$f":"'4. KM ZÉRO ÉMISSION'!AL19","v":0},null,{"$f":"'4. KM ZÉRO ÉMISSION'!AN19","v":0},null,{"$f":"'4. KM ZÉRO ÉMISSION'!AP19","v":0},null,{"$f":"'4. KM ZÉRO ÉMISSION'!AR19","v":0},null,{"$f":"'4. KM ZÉRO ÉMISSION'!AT19","v":0}]
[]
[]
["Identification\net\ncoordonnées",null,"Concatener (cette colonne permet la géeneration des données sur les rapports personnalisés)",null,null,null,{"$f":"CONCATENATE(G149,\"-\",G148)","v":"2002-2003-"},null,{"$f":"CONCATENATE(I149,\"-\",I148)","v":"2003-2004-"},null,{"$f":"CONCATENATE(K149,\"-\",K148)","v":"2004-2005-"},null,{"$f":"CONCATENATE(M149,\"-\",M148)","v":"2005-2006-"},null,{"$f":"CONCATENATE(O149,\"-\",O148)","v":"2006-2007-"},null,{"$f":"CONCATENATE(Q149,\"-\",Q148)","v":"2007-2008-"},null,{"$f":"CONCATENATE(S149,\"-\",S148)","v":"2008-2009-"},null,{"$f":"CONCATENATE(U149,\"-\",U148)","v":"2009-2010-"},null,{"$f":"CONCATENATE(W149,\"-\",W148)","v":"2010-2011-"},null,{"$f":"CONCATENATE(Y149,\"-\",Y148)","v":"2011-2012-"},null,{"$f":"CONCATENATE(AA149,\"-\",AA148)","v":"2012-2013-"},null,{"$f":"CONCATENATE(AC149,\"-\",AC148)","v":"2013-2014-"},null,{"$f":"CONCATENATE(AE149,\"-\",AE148)","v":"2014-2015-"},null,{"$f":"CONCATENATE(AG149,\"-\",AG148)","v":"2015-2016-"},null,{"$f":"CONCATENATE(AI149,\"-\",AI148)","v":"2016-2017-"},null,{"$f":"CONCATENATE(AK149,\"-\",AK148)","v":"2017-2018-"},null,{"$f":"CONCATENATE(AM149,\"-\",AM148)","v":"2018-2019-"},null,{"$f":"CONCATENATE(AO149,\"-\",AO148)","v":"2019-2020-"},null,{"$f":"CONCATENATE(AQ149,\"-\",AQ148)","v":"2020-2021-"},null,{"$f":"CONCATENATE(AS149,\"-\",AS148)","v":"2021-2022-"},null,{"$f":"CONCATENATE(AU149,\"-\",AU148)","v":"2022-2023-"},null,{"$f":"CONCATENATE(AW149,\"-\",AW148)","v":"2023-2024-"},null,{"$f":"CONCATENATE(AY149,\"-\",AY148)","v":"2024-2025-"}]
[null,null,"Code du ministére",null,null,null,{"$f":"IF('1. IDENTITÉ'!$B$11<>0,'1. IDENTITÉ'!$B$11,IF(ISERROR(VLOOKUP(G151,ListeMO!$A$3:$B$135,2,FALSE)),\"\",VLOOKUP(G151,ListeMO!$A$3:$B$135,2,FALSE)))","v":""},null,{"$f":"IF('1. IDENTITÉ'!$B$11<>0,'1. IDENTITÉ'!$B$11,IF(ISERROR(VLOOKUP(I151,ListeMO!$A$3:$B$135,2,FALSE)),\"\",VLOOKUP(I151,ListeMO!$A$3:$B$135,2,FALSE)))","v":""},null,{"$f":"IF('1. IDENTITÉ'!$B$11<>0,'1. IDENTITÉ'!$B$11,IF(ISERROR(VLOOKUP(K151,ListeMO!$A$3:$B$135,2,FALSE)),\"\",VLOOKUP(K151,ListeMO!$A$3:$B$135,2,FALSE)))","v":""},null,{"$f":"IF('1. IDENTITÉ'!$B$11<>0,'1. IDENTITÉ'!$B$11,IF(ISERROR(VLOOKUP(M151,ListeMO!$A$3:$B$135,2,FALSE)),\"\",VLOOKUP(M151,ListeMO!$A$3:$B$135,2,FALSE)))","v":""},null,{"$f":"IF('1. IDENTITÉ'!$B$11<>0,'1. IDENTITÉ'!$B$11,IF(ISERROR(VLOOKUP(O151,ListeMO!$A$3:$B$135,2,FALSE)),\"\",VLOOKUP(O151,ListeMO!$A$3:$B$135,2,FALSE)))","v":""},null,{"$f":"IF('1. IDENTITÉ'!$B$11<>0,'1. IDENTITÉ'!$B$11,IF(ISERROR(VLOOKUP(Q151,ListeMO!$A$3:$B$135,2,FALSE)),\"\",VLOOKUP(Q151,ListeMO!$A$3:$B$135,2,FALSE)))","v":""},null,{"$f":"IF('1. IDENTITÉ'!$B$11<>0,'1. IDENTITÉ'!$B$11,IF(ISERROR(VLOOKUP(S151,ListeMO!$A$3:$B$135,2,FALSE)),\"\",VLOOKUP(S151,ListeMO!$A$3:$B$135,2,FALSE)))","v":""},null,{"$f":"IF('1. IDENTITÉ'!$B$11<>0,'1. IDENTITÉ'!$B$11,IF(ISERROR(VLOOKUP(U151,ListeMO!$A$3:$B$135,2,FALSE)),\"\",VLOOKUP(U151,ListeMO!$A$3:$B$135,2,FALSE)))","v":""},null,{"$f":"IF('1. IDENTITÉ'!$B$11<>0,'1. IDENTITÉ'!$B$11,IF(ISERROR(VLOOKUP(W151,ListeMO!$A$3:$B$135,2,FALSE)),\"\",VLOOKUP(W151,ListeMO!$A$3:$B$135,2,FALSE)))","v":""},null,{"$f":"IF('1. IDENTITÉ'!$B$11<>0,'1. IDENTITÉ'!$B$11,IF(ISERROR(VLOOKUP(Y151,ListeMO!$A$3:$B$135,2,FALSE)),\"\",VLOOKUP(Y151,ListeMO!$A$3:$B$135,2,FALSE)))","v":""},null,{"$f":"IF('1. IDENTITÉ'!$B$11<>0,'1. IDENTITÉ'!$B$11,IF(ISERROR(VLOOKUP(AA151,ListeMO!$A$3:$B$135,2,FALSE)),\"\",VLOOKUP(AA151,ListeMO!$A$3:$B$135,2,FALSE)))","v":""},null,{"$f":"IF('1. IDENTITÉ'!$B$11<>0,'1. IDENTITÉ'!$B$11,IF(ISERROR(VLOOKUP(AC151,ListeMO!$A$3:$B$135,2,FALSE)),\"\",VLOOKUP(AC151,ListeMO!$A$3:$B$135,2,FALSE)))","v":""},null,{"$f":"IF('1. IDENTITÉ'!$B$11<>0,'1. IDENTITÉ'!$B$11,IF(ISERROR(VLOOKUP(AE151,ListeMO!$A$3:$B$135,2,FALSE)),\"\",VLOOKUP(AE151,ListeMO!$A$3:$B$135,2,FALSE)))","v":""},null,{"$f":"IF('1. IDENTITÉ'!$B$11<>0,'1. IDENTITÉ'!$B$11,IF(ISERROR(VLOOKUP(AG151,ListeMO!$A$3:$B$135,2,FALSE)),\"\",VLOOKUP(AG151,ListeMO!$A$3:$B$135,2,FALSE)))","v":""},null,{"$f":"IF('1. IDENTITÉ'!$B$11<>0,'1. IDENTITÉ'!$B$11,IF(ISERROR(VLOOKUP(AI151,ListeMO!$A$3:$B$135,2,FALSE)),\"\",VLOOKUP(AI151,ListeMO!$A$3:$B$135,2,FALSE)))","v":""},null,{"$f":"IF('1. IDENTITÉ'!$B$11<>0,'1. IDENTITÉ'!$B$11,IF(ISERROR(VLOOKUP(AK151,ListeMO!$A$3:$B$135,2,FALSE)),\"\",VLOOKUP(AK151,ListeMO!$A$3:$B$135,2,FALSE)))","v":""},null,{"$f":"IF('1. IDENTITÉ'!$B$11<>0,'1. IDENTITÉ'!$B$11,IF(ISERROR(VLOOKUP(AM151,ListeMO!$A$3:$B$135,2,FALSE)),\"\",VLOOKUP(AM151,ListeMO!$A$3:$B$135,2,FALSE)))","v":""},null,{"$f":"IF('1. IDENTITÉ'!$B$11<>0,'1. IDENTITÉ'!$B$11,IF(ISERROR(VLOOKUP(AO151,ListeMO!$A$3:$B$135,2,FALSE)),\"\",VLOOKUP(AO151,ListeMO!$A$3:$B$135,2,FALSE)))","v":""},null,{"$f":"IF('1. IDENTITÉ'!$B$11<>0,'1. IDENTITÉ'!$B$11,IF(ISERROR(VLOOKUP(AQ151,ListeMO!$A$3:$B$135,2,FALSE)),\"\",VLOOKUP(AQ151,ListeMO!$A$3:$B$135,2,FALSE)))","v":""},null,{"$f":"IF('1. IDENTITÉ'!$B$11<>0,'1. IDENTITÉ'!$B$11,IF(ISERROR(VLOOKUP(AS151,ListeMO!$A$3:$B$135,2,FALSE)),\"\",VLOOKUP(AS151,ListeMO!$A$3:$B$135,2,FALSE)))","v":""},null,{"$f":"IF('1. IDENTITÉ'!$B$11<>0,'1. IDENTITÉ'!$B$11,IF(ISERROR(VLOOKUP(AU151,ListeMO!$A$3:$B$135,2,FALSE)),\"\",VLOOKUP(AU151,ListeMO!$A$3:$B$135,2,FALSE)))","v":""},null,{"$f":"IF('1. IDENTITÉ'!$B$11<>0,'1. IDENTITÉ'!$B$11,IF(ISERROR(VLOOKUP(AW151,ListeMO!$A$3:$B$135,2,FALSE)),\"\",VLOOKUP(AW151,ListeMO!$A$3:$B$135,2,FALSE)))","v":""},null,{"$f":"IF('1. IDENTITÉ'!$B$11<>0,'1. IDENTITÉ'!$B$11,IF(ISERROR(VLOOKUP(AY151,ListeMO!$A$3:$B$135,2,FALSE)),\"\",VLOOKUP(AY151,ListeMO!$A$3:$B$135,2,FALSE)))","v":""}]
[null,null,"Année (Rapport BEIE)",null,null,{"$f":"'2. CARBURANT (Véhicules légers)'!A71","v":0},{"$f":"'2. CARBURANT (Véhicules lourds)'!B9","v":"2002-2003"},null,{"$f":"'2. CARBURANT (Véhicules lourds)'!D9","v":"2003-2004"},null,{"$f":"'2. CARBURANT (Véhicules lourds)'!F9","v":"2004-2005"},null,{"$f":"'2. CARBURANT (Véhicules lourds)'!H9","v":"2005-2006"},null,{"$f":"'2. CARBURANT (Véhicules lourds)'!J9","v":"2006-2007"},null,{"$f":"'2. CARBURANT (Véhicules lourds)'!L9","v":"2007-2008"},null,{"$f":"'2. CARBURANT (Véhicules lourds)'!N9","v":"2008-2009"},null,{"$f":"'2. CARBURANT (Véhicules lourds)'!P9","v":"2009-2010"},null,{"$f":"'2. CARBURANT (Véhicules lourds)'!R9","v":"2010-2011"},null,{"$f":"'2. CARBURANT (Véhicules lourds)'!T9","v":"2011-2012"},null,{"$f":"'2. CARBURANT (Véhicules lourds)'!V9","v":"2012-2013"},null,{"$f":"'2. CARBURANT (Véhicules lourds)'!X9","v":"2013-2014"},null,{"$f":"'2. CARBURANT (Véhicules lourds)'!Z9","v":"2014-2015"},null,{"$f":"'2. CARBURANT (Véhicules lourds)'!AB9","v":"2015-2016"},null,{"$f":"'2. CARBURANT (Véhicules lourds)'!AD9","v":"2016-2017"},null,{"$f":"'2. CARBURANT (Véhicules lourds)'!AF9","v":"2017-2018"},null,{"$f":"'2. CARBURANT (Véhicules lourds)'!AH9","v":"2018-2019"},null,{"$f":"'2. CARBURANT (Véhicules lourds)'!AJ9","v":"2019-2020"},null,{"$f":"'2. CARBURANT (Véhicules lourds)'!AL9","v":"2020-2021"},null,{"$f":"'2. CARBURANT (Véhicules lourds)'!AN9","v":"2021-2022"},null,{"$f":"'2. CARBURANT (Véhicules lourds)'!AP9","v":"2022-2023"},null,{"$f":"'2. CARBURANT (Véhicules lourds)'!AR9","v":"2023-2024"},null,{"$f":"'2. CARBURANT (Véhicules lourds)'!AT9","v":"2024-2025"}]
[null,null,"Ministère (acronyme)",null,null,{"$f":"'1. IDENTITÉ'!A67","v":"Voici un exemple pour une quantité d'essence de 100 000 litres:"},{"$f":"'1. IDENTITÉ'!$B$12","v":0},null,{"$f":"'1. IDENTITÉ'!$B$12","v":0},null,{"$f":"'1. IDENTITÉ'!$B$12","v":0},null,{"$f":"'1. IDENTITÉ'!$B$12","v":0},null,{"$f":"'1. IDENTITÉ'!$B$12","v":0},null,{"$f":"'1. IDENTITÉ'!$B$12","v":0},null,{"$f":"'1. IDENTITÉ'!$B$12","v":0},null,{"$f":"'1. IDENTITÉ'!$B$12","v":0},null,{"$f":"'1. IDENTITÉ'!$B$12","v":0},null,{"$f":"'1. IDENTITÉ'!$B$12","v":0},null,{"$f":"'1. IDENTITÉ'!$B$12","v":0},null,{"$f":"'1. IDENTITÉ'!$B$12","v":0},null,{"$f":"'1. IDENTITÉ'!$B$12","v":0},null,{"$f":"'1. IDENTITÉ'!$B$12","v":0},null,{"$f":"'1. IDENTITÉ'!$B$12","v":0},null,{"$f":"'1. IDENTITÉ'!$B$12","v":0},null,{"$f":"'1. IDENTITÉ'!$B$12","v":0},null,{"$f":"'1. IDENTITÉ'!$B$12","v":0},null,{"$f":"'1. IDENTITÉ'!$B$12","v":0},null,{"$f":"'1. IDENTITÉ'!$B$12","v":0},null,{"$f":"'1. IDENTITÉ'!$B$12","v":0},null,{"$f":"'1. IDENTITÉ'!$B$12","v":0},null,{"$f":"'1. IDENTITÉ'!$B$12","v":0}]
[null,null,"Ministère ou organisme",null,null,{"$f":"'1. IDENTITÉ'!A10","v":"Ministère ou organisme :"},{"$f":"'1. IDENTITÉ'!$B$10","v":"NOM DE L'ENTITÉ"},null,{"$f":"'1. IDENTITÉ'!$B$10","v":"NOM DE L'ENTITÉ"},null,{"$f":"'1. IDENTITÉ'!$B$10","v":"NOM DE L'ENTITÉ"},null,{"$f":"'1. IDENTITÉ'!$B$10","v":"NOM DE L'ENTITÉ"},null,{"$f":"'1. IDENTITÉ'!$B$10","v":"NOM DE L'ENTITÉ"},null,{"$f":"'1. IDENTITÉ'!$B$10","v":"NOM DE L'ENTITÉ"},null,{"$f":"'1. IDENTITÉ'!$B$10","v":"NOM DE L'ENTITÉ"},null,{"$f":"'1. IDENTITÉ'!$B$10","v":"NOM DE L'ENTITÉ"},null,{"$f":"'1. IDENTITÉ'!$B$10","v":"NOM DE L'ENTITÉ"},null,{"$f":"'1. IDENTITÉ'!$B$10","v":"NOM DE L'ENTITÉ"},null,{"$f":"'1. IDENTITÉ'!$B$10","v":"NOM DE L'ENTITÉ"},null,{"$f":"'1. IDENTITÉ'!$B$10","v":"NOM DE L'ENTITÉ"},null,{"$f":"'1. IDENTITÉ'!$B$10","v":"NOM DE L'ENTITÉ"},null,{"$f":"'1. IDENTITÉ'!$B$10","v":"NOM DE L'ENTITÉ"},null,{"$f":"'1. IDENTITÉ'!$B$10","v":"NOM DE L'ENTITÉ"},null,{"$f":"'1. IDENTITÉ'!$B$10","v":"NOM DE L'ENTITÉ"},null,{"$f":"'1. IDENTITÉ'!$B$10","v":"NOM DE L'ENTITÉ"},null,{"$f":"'1. IDENTITÉ'!$B$10","v":"NOM DE L'ENTITÉ"},null,{"$f":"'1. IDENTITÉ'!$B$10","v":"NOM DE L'ENTITÉ"},null,{"$f":"'1. IDENTITÉ'!$B$10","v":"NOM DE L'ENTITÉ"},null,{"$f":"'1. IDENTITÉ'!$B$10","v":"NOM DE L'ENTITÉ"},null,{"$f":"'1. IDENTITÉ'!$B$10","v":"NOM DE L'ENTITÉ"},null,{"$f":"'1. IDENTITÉ'!$B$10","v":"NOM DE L'ENTITÉ"}]
[null,null,"Année de référence",null,null,{"$f":"'1. IDENTITÉ'!A76","v":0},{"$f":"'1. IDENTITÉ'!$B$21","v":0},null,{"$f":"'1. IDENTITÉ'!$B$21","v":0},null,{"$f":"'1. IDENTITÉ'!$B$21","v":0},null,{"$f":"'1. IDENTITÉ'!$B$21","v":0},null,{"$f":"'1. IDENTITÉ'!$B$21","v":0},null,{"$f":"'1. IDENTITÉ'!$B$21","v":0},null,{"$f":"'1. IDENTITÉ'!$B$21","v":0},null,{"$f":"'1. IDENTITÉ'!$B$21","v":0},null,{"$f":"'1. IDENTITÉ'!$B$21","v":0},null,{"$f":"'1. IDENTITÉ'!$B$21","v":0},null,{"$f":"'1. IDENTITÉ'!$B$21","v":0},null,{"$f":"'1. IDENTITÉ'!$B$21","v":0},null,{"$f":"'1. IDENTITÉ'!$B$21","v":0},null,{"$f":"'1. IDENTITÉ'!$B$21","v":0},null,{"$f":"'1. IDENTITÉ'!$B$21","v":0},null,{"$f":"'1. IDENTITÉ'!$B$21","v":0},null,{"$f":"'1. IDENTITÉ'!$B$21","v":0},null,{"$f":"'1. IDENTITÉ'!$B$21","v":0},null,{"$f":"'1. IDENTITÉ'!$B$21","v":0},null,{"$f":"'1. IDENTITÉ'!$B$21","v":0},null,{"$f":"'1. IDENTITÉ'!$B$21","v":0},null,{"$f":"'1. IDENTITÉ'!$B$21","v":0},null,{"$f":"'1. IDENTITÉ'!$B$21","v":0}]
[null,null,"Année financière",null,null,{"$f":"'1. IDENTITÉ'!A74","v":"Dans le cas des autres déplacements (voir onglet KM polluants), le calcul se fait en considérant plutôt une quantité de km parcourus, selon le type de déplacement effectué, "},{"$f":"'1. IDENTITÉ'!$B$19","v":"1er avril au 31 mars"},null,{"$f":"'1. IDENTITÉ'!$B$19","v":"1er avril au 31 mars"},null,{"$f":"'1. IDENTITÉ'!$B$19","v":"1er avril au 31 mars"},null,{"$f":"'1. IDENTITÉ'!$B$19","v":"1er avril au 31 mars"},null,{"$f":"'1. IDENTITÉ'!$B$19","v":"1er avril au 31 mars"},null,{"$f":"'1. IDENTITÉ'!$B$19","v":"1er avril au 31 mars"},null,{"$f":"'1. IDENTITÉ'!$B$19","v":"1er avril au 31 mars"},null,{"$f":"'1. IDENTITÉ'!$B$19","v":"1er avril au 31 mars"},null,{"$f":"'1. IDENTITÉ'!$B$19","v":"1er avril au 31 mars"},null,{"$f":"'1. IDENTITÉ'!$B$19","v":"1er avril au 31 mars"},null,{"$f":"'1. IDENTITÉ'!$B$19","v":"1er avril au 31 mars"},null,{"$f":"'1. IDENTITÉ'!$B$19","v":"1er avril au 31 mars"},null,{"$f":"'1. IDENTITÉ'!$B$19","v":"1er avril au 31 mars"},null,{"$f":"'1. IDENTITÉ'!$B$19","v":"1er avril au 31 mars"},null,{"$f":"'1. IDENTITÉ'!$B$19","v":"1er avril au 31 mars"},null,{"$f":"'1. IDENTITÉ'!$B$19","v":"1er avril au 31 mars"},null,{"$f":"'1. IDENTITÉ'!$B$19","v":"1er avril au 31 mars"},null,{"$f":"'1. IDENTITÉ'!$B$19","v":"1er avril au 31 mars"},null,{"$f":"'1. IDENTITÉ'!$B$19","v":"1er avril au 31 mars"},null,{"$f":"'1. IDENTITÉ'!$B$19","v":"1er avril au 31 mars"},null,{"$f":"'1. IDENTITÉ'!$B$19","v":"1er avril au 31 mars"},null,{"$f":"'1. IDENTITÉ'!$B$19","v":"1er avril au 31 mars"},null,{"$f":"'1. IDENTITÉ'!$B$19","v":"1er avril au 31 mars"}]
[null,null,"Critère d'inclusion et d'exclusion"]
[null,null,"Nom de la personne responsable",null,null,{"$f":"'1. IDENTITÉ'!A68","v":"quantité d'essence consommée, en litres:"},{"$f":"'1. IDENTITÉ'!$B$13","v":0},null,{"$f":"'1. IDENTITÉ'!$B$13","v":0},null,{"$f":"'1. IDENTITÉ'!$B$13","v":0},null,{"$f":"'1. IDENTITÉ'!$B$13","v":0},null,{"$f":"'1. IDENTITÉ'!$B$13","v":0},null,{"$f":"'1. IDENTITÉ'!$B$13","v":0},null,{"$f":"'1. IDENTITÉ'!$B$13","v":0},null,{"$f":"'1. IDENTITÉ'!$B$13","v":0},null,{"$f":"'1. IDENTITÉ'!$B$13","v":0},null,{"$f":"'1. IDENTITÉ'!$B$13","v":0},null,{"$f":"'1. IDENTITÉ'!$B$13","v":0},null,{"$f":"'1. IDENTITÉ'!$B$13","v":0},null,{"$f":"'1. IDENTITÉ'!$B$13","v":0},null,{"$f":"'1. IDENTITÉ'!$B$13","v":0},null,{"$f":"'1. IDENTITÉ'!$B$13","v":0},null,{"$f":"'1. IDENTITÉ'!$B$13","v":0},null,{"$f":"'1. IDENTITÉ'!$B$13","v":0},null,{"$f":"'1. IDENTITÉ'!$B$13","v":0},null,{"$f":"'1. IDENTITÉ'!$B$13","v":0},null,{"$f":"'1. IDENTITÉ'!$B$13","v":0},null,{"$f":"'1. IDENTITÉ'!$B$13","v":0},null,{"$f":"'1. IDENTITÉ'!$B$13","v":0},null,{"$f":"'1. IDENTITÉ'!$B$13","v":0}]
[null,null,"Titre",null,null,{"$f":"'1. IDENTITÉ'!A69","v":"facteur d'émission associé à un litre d'essence:"},{"$f":"'1. IDENTITÉ'!$B$14","v":0},null,{"$f":"'1. IDENTITÉ'!$B$14","v":0},null,{"$f":"'1. IDENTITÉ'!$B$14","v":0},null,{"$f":"'1. IDENTITÉ'!$B$14","v":0},null,{"$f":"'1. IDENTITÉ'!$B$14","v":0},null,{"$f":"'1. IDENTITÉ'!$B$14","v":0},null,{"$f":"'1. IDENTITÉ'!$B$14","v":0},null,{"$f":"'1. IDENTITÉ'!$B$14","v":0},null,{"$f":"'1. IDENTITÉ'!$B$14","v":0},null,{"$f":"'1. IDENTITÉ'!$B$14","v":0},null,{"$f":"'1. IDENTITÉ'!$B$14","v":0},null,{"$f":"'1. IDENTITÉ'!$B$14","v":0},null,{"$f":"'1. IDENTITÉ'!$B$14","v":0},null,{"$f":"'1. IDENTITÉ'!$B$14","v":0},null,{"$f":"'1. IDENTITÉ'!$B$14","v":0},null,{"$f":"'1. IDENTITÉ'!$B$14","v":0},null,{"$f":"'1. IDENTITÉ'!$B$14","v":0},null,{"$f":"'1. IDENTITÉ'!$B$14","v":0},null,{"$f":"'1. IDENTITÉ'!$B$14","v":0},null,{"$f":"'1. IDENTITÉ'!$B$14","v":0},null,{"$f":"'1. IDENTITÉ'!$B$14","v":0},null,{"$f":"'1. IDENTITÉ'!$B$14","v":0},null,{"$f":"'1. IDENTITÉ'!$B$14","v":0}]
[null,null,"Adresse",null,null,{"$f":"'1. IDENTITÉ'!A70","v":0},{"$f":"'1. IDENTITÉ'!$B$15","v":0},null,{"$f":"'1. IDENTITÉ'!$B$15","v":0},null,{"$f":"'1. IDENTITÉ'!$B$15","v":0},null,{"$f":"'1. IDENTITÉ'!$B$15","v":0},null,{"$f":"'1. IDENTITÉ'!$B$15","v":0},null,{"$f":"'1. IDENTITÉ'!$B$15","v":0},null,{"$f":"'1. IDENTITÉ'!$B$15","v":0},null,{"$f":"'1. IDENTITÉ'!$B$15","v":0},null,{"$f":"'1. IDENTITÉ'!$B$15","v":0},null,{"$f":"'1. IDENTITÉ'!$B$15","v":0},null,{"$f":"'1. IDENTITÉ'!$B$15","v":0},null,{"$f":"'1. IDENTITÉ'!$B$15","v":0},null,{"$f":"'1. IDENTITÉ'!$B$15","v":0},null,{"$f":"'1. IDENTITÉ'!$B$15","v":0},null,{"$f":"'1. IDENTITÉ'!$B$15","v":0},null,{"$f":"'1. IDENTITÉ'!$B$15","v":0},null,{"$f":"'1. IDENTITÉ'!$B$15","v":0},null,{"$f":"'1. IDENTITÉ'!$B$15","v":0},null,{"$f":"'1. IDENTITÉ'!$B$15","v":0},null,{"$f":"'1. IDENTITÉ'!$B$15","v":0},null,{"$f":"'1. IDENTITÉ'!$B$15","v":0},null,{"$f":"'1. IDENTITÉ'!$B$15","v":0},null,{"$f":"'1. IDENTITÉ'!$B$15","v":0}]
[null,null,"Ville",null,null,{"$f":"'1. IDENTITÉ'!A71","v":"quantité d'émissions de GES correspondante à la consommation d'essence:"},{"$f":"'1. IDENTITÉ'!$B$16","v":0},null,{"$f":"'1. IDENTITÉ'!$B$16","v":0},null,{"$f":"'1. IDENTITÉ'!$B$16","v":0},null,{"$f":"'1. IDENTITÉ'!$B$16","v":0},null,{"$f":"'1. IDENTITÉ'!$B$16","v":0},null,{"$f":"'1. IDENTITÉ'!$B$16","v":0},null,{"$f":"'1. IDENTITÉ'!$B$16","v":0},null,{"$f":"'1. IDENTITÉ'!$B$16","v":0},null,{"$f":"'1. IDENTITÉ'!$B$16","v":0},null,{"$f":"'1. IDENTITÉ'!$B$16","v":0},null,{"$f":"'1. IDENTITÉ'!$B$16","v":0},null,{"$f":"'1. IDENTITÉ'!$B$16","v":0},null,{"$f":"'1. IDENTITÉ'!$B$16","v":0},null,{"$f":"'1. IDENTITÉ'!$B$16","v":0},null,{"$f":"'1. IDENTITÉ'!$B$16","v":0},null,{"$f":"'1. IDENTITÉ'!$B$16","v":0},null,{"$f":"'1. IDENTITÉ'!$B$16","v":0},null,{"$f":"'1. IDENTITÉ'!$B$16","v":0},null,{"$f":"'1. IDENTITÉ'!$B$16","v":0},null,{"$f":"'1. IDENTITÉ'!$B$16","v":0},null,{"$f":"'1. IDENTITÉ'!$B$16","v":0},null,{"$f":"'1. IDENTITÉ'!$B$16","v":0},null,{"$f":"'1. IDENTITÉ'!$B$16","v":0}]
[null,null,"Téléphone",null,null,{"$f":"'1. IDENTITÉ'!A72","v":0},{"$f":"'1. IDENTITÉ'!$B$17","v":0},null,{"$f":"'1. IDENTITÉ'!$B$17","v":0},null,{"$f":"'1. IDENTITÉ'!$B$17","v":0},null,{"$f":"'1. IDENTITÉ'!$B$17","v":0},null,{"$f":"'1. IDENTITÉ'!$B$17","v":0},null,{"$f":"'1. IDENTITÉ'!$B$17","v":0},null,{"$f":"'1. IDENTITÉ'!$B$17","v":0},null,{"$f":"'1. IDENTITÉ'!$B$17","v":0},null,{"$f":"'1. IDENTITÉ'!$B$17","v":0},null,{"$f":"'1. IDENTITÉ'!$B$17","v":0},null,{"$f":"'1. IDENTITÉ'!$B$17","v":0},null,{"$f":"'1. IDENTITÉ'!$B$17","v":0},null,{"$f":"'1. IDENTITÉ'!$B$17","v":0},null,{"$f":"'1. IDENTITÉ'!$B$17","v":0},null,{"$f":"'1. IDENTITÉ'!$B$17","v":0},null,{"$f":"'1. IDENTITÉ'!$B$17","v":0},null,{"$f":"'1. IDENTITÉ'!$B$17","v":0},null,{"$f":"'1. IDENTITÉ'!$B$17","v":0},null,{"$f":"'1. IDENTITÉ'!$B$17","v":0},null,{"$f":"'1. IDENTITÉ'!$B$17","v":0},null,{"$f":"'1. IDENTITÉ'!$B$17","v":0},null,{"$f":"'1. IDENTITÉ'!$B$17","v":0},null,{"$f":"'1. IDENTITÉ'!$B$17","v":0}]
[null,null,"Courriel",null,null,{"$f":"'1. IDENTITÉ'!A73","v":0},{"$f":"'1. IDENTITÉ'!$B$18","v":0},null,{"$f":"'1. IDENTITÉ'!$B$18","v":0},null,{"$f":"'1. IDENTITÉ'!$B$18","v":0},null,{"$f":"'1. IDENTITÉ'!$B$18","v":0},null,{"$f":"'1. IDENTITÉ'!$B$18","v":0},null,{"$f":"'1. IDENTITÉ'!$B$18","v":0},null,{"$f":"'1. IDENTITÉ'!$B$18","v":0},null,{"$f":"'1. IDENTITÉ'!$B$18","v":0},null,{"$f":"'1. IDENTITÉ'!$B$18","v":0},null,{"$f":"'1. IDENTITÉ'!$B$18","v":0},null,{"$f":"'1. IDENTITÉ'!$B$18","v":0},null,{"$f":"'1. IDENTITÉ'!$B$18","v":0},null,{"$f":"'1. IDENTITÉ'!$B$18","v":0},null,{"$f":"'1. IDENTITÉ'!$B$18","v":0},null,{"$f":"'1. IDENTITÉ'!$B$18","v":0},null,{"$f":"'1. IDENTITÉ'!$B$18","v":0},null,{"$f":"'1. IDENTITÉ'!$B$18","v":0},null,{"$f":"'1. IDENTITÉ'!$B$18","v":0},null,{"$f":"'1. IDENTITÉ'!$B$18","v":0},null,{"$f":"'1. IDENTITÉ'!$B$18","v":0},null,{"$f":"'1. IDENTITÉ'!$B$18","v":0},null,{"$f":"'1. IDENTITÉ'!$B$18","v":0},null,{"$f":"'1. IDENTITÉ'!$B$18","v":0}]
["Déplacements\nstandards avec\nle véhicule\nde l'institution\n\n(véhicules en\npropriété ou\nen location\nà long durée)\n\nVéhicules lourds",null,"Distance",null,"Sur route [km]",{"$f":"'3. KM POLLUANTS'!A90","v":0},{"$f":"'3. KM POLLUANTS'!B$15","v":0},null,{"$f":"'3. KM POLLUANTS'!D$15","v":0},null,{"$f":"'3. KM POLLUANTS'!F$15","v":0},null,{"$f":"'3. KM POLLUANTS'!H$15","v":0},null,{"$f":"'3. KM POLLUANTS'!J$15","v":0},null,{"$f":"'3. KM POLLUANTS'!L$15","v":0},null,{"$f":"'3. KM POLLUANTS'!N$15","v":0},null,{"$f":"'3. KM POLLUANTS'!P$15","v":0},null,{"$f":"'3. KM POLLUANTS'!R$15","v":0},null,{"$f":"'3. KM POLLUANTS'!T$15","v":0},null,{"$f":"'3. KM POLLUANTS'!V$15","v":0},null,{"$f":"'3. KM POLLUANTS'!X$15","v":0},null,{"$f":"'3. KM POLLUANTS'!Z$15","v":0},null,{"$f":"'3. KM POLLUANTS'!AB$15","v":0},null,{"$f":"'3. KM POLLUANTS'!AD$15","v":0},null,{"$f":"'3. KM POLLUANTS'!AF$15","v":0},null,{"$f":"'3. KM POLLUANTS'!AH$15","v":0},null,{"$f":"'3. KM POLLUANTS'!AJ$15","v":0},null,{"$f":"'3. KM POLLUANTS'!AL$15","v":0},null,{"$f":"'3. KM POLLUANTS'!AN$15","v":0},null,{"$f":"'3. KM POLLUANTS'!AP$15","v":0},null,{"$f":"'3. KM POLLUANTS'!AR$15","v":0},null,{"$f":"'3. KM POLLUANTS'!AT$15","v":0}]
[null,null,null,null,"Hors route [km]",{"$f":"'3. KM POLLUANTS'!A91","v":0},{"$f":"'3. KM POLLUANTS'!B$16","v":0},null,{"$f":"'3. KM POLLUANTS'!D$16","v":0},null,{"$f":"'3. KM POLLUANTS'!F$16","v":0},null,{"$f":"'3. KM POLLUANTS'!H$16","v":0},null,{"$f":"'3. KM POLLUANTS'!J$16","v":0},null,{"$f":"'3. KM POLLUANTS'!L$16","v":0},null,{"$f":"'3. KM POLLUANTS'!N$16","v":0},null,{"$f":"'3. KM POLLUANTS'!P$16","v":0},null,{"$f":"'3. KM POLLUANTS'!R$16","v":0},null,{"$f":"'3. KM POLLUANTS'!T$16","v":0},null,{"$f":"'3. KM POLLUANTS'!V$16","v":0},null,{"$f":"'3. KM POLLUANTS'!X$16","v":0},null,{"$f":"'3. KM POLLUANTS'!Z$16","v":0},null,{"$f":"'3. KM POLLUANTS'!AB$16","v":0},null,{"$f":"'3. KM POLLUANTS'!AD$16","v":0},null,{"$f":"'3. KM POLLUANTS'!AF$16","v":0},null,{"$f":"'3. KM POLLUANTS'!AH$16","v":0},null,{"$f":"'3. KM POLLUANTS'!AJ$16","v":0},null,{"$f":"'3. KM POLLUANTS'!AL$16","v":0},null,{"$f":"'3. KM POLLUANTS'!AN$16","v":0},null,{"$f":"'3. KM POLLUANTS'!AP$16","v":0},null,{"$f":"'3. KM POLLUANTS'!AR$16","v":0},null,{"$f":"'3. KM POLLUANTS'!AT$16","v":0}]
[null,null,null,null,"Totale [km]",{"$f":"'3. KM POLLUANTS'!A92","v":0},{"$f":"'3. KM POLLUANTS'!B$17","v":0},null,{"$f":"'3. KM POLLUANTS'!D$17","v":0},null,{"$f":"'3. KM POLLUANTS'!F$17","v":0},null,{"$f":"'3. KM POLLUANTS'!H$17","v":0},null,{"$f":"'3. KM POLLUANTS'!J$17","v":0},null,{"$f":"'3. KM POLLUANTS'!L$17","v":0},null,{"$f":"'3. KM POLLUANTS'!N$17","v":0},null,{"$f":"'3. KM POLLUANTS'!P$17","v":0},null,{"$f":"'3. KM POLLUANTS'!R$17","v":0},null,{"$f":"'3. KM POLLUANTS'!T$17","v":0},null,{"$f":"'3. KM POLLUANTS'!V$17","v":0},null,{"$f":"'3. KM POLLUANTS'!X$17","v":0},null,{"$f":"'3. KM POLLUANTS'!Z$17","v":0},null,{"$f":"'3. KM POLLUANTS'!AB$17","v":0},null,{"$f":"'3. KM POLLUANTS'!AD$17","v":0},null,{"$f":"'3. KM POLLUANTS'!AF$17","v":0},null,{"$f":"'3. KM POLLUANTS'!AH$17","v":0},null,{"$f":"'3. KM POLLUANTS'!AJ$17","v":0},null,{"$f":"'3. KM POLLUANTS'!AL$17","v":0},null,{"$f":"'3. KM POLLUANTS'!AN$17","v":0},null,{"$f":"'3. KM POLLUANTS'!AP$17","v":0},null,{"$f":"'3. KM POLLUANTS'!AR$17","v":0},null,{"$f":"'3. KM POLLUANTS'!AT$17","v":0}]
[null,null,"Essence",null,"Essence Litres [L]",{"$f":"'2. CARBURANT (Véhicules légers)'!A100","v":0},{"$f":"'2. CARBURANT (Véhicules lourds)'!B$25","v":0},null,{"$f":"'2. CARBURANT (Véhicules lourds)'!D$25","v":0},null,{"$f":"'2. CARBURANT (Véhicules lourds)'!F$25","v":0},null,{"$f":"'2. CARBURANT (Véhicules lourds)'!H$25","v":0},null,{"$f":"'2. CARBURANT (Véhicules lourds)'!J$25","v":0},null,{"$f":"'2. CARBURANT (Véhicules lourds)'!L$25","v":0},null,{"$f":"'2. CARBURANT (Véhicules lourds)'!N$25","v":0},null,{"$f":"'2. CARBURANT (Véhicules lourds)'!P$25","v":0},null,{"$f":"'2. CARBURANT (Véhicules lourds)'!R$25","v":0},null,{"$f":"'2. CARBURANT (Véhicules lourds)'!T$25","v":0},null,{"$f":"'2. CARBURANT (Véhicules lourds)'!V$25","v":0},null,{"$f":"'2. CARBURANT (Véhicules lourds)'!X$25","v":0},null,{"$f":"'2. CARBURANT (Véhicules lourds)'!Z$25","v":0},null,{"$f":"'2. CARBURANT (Véhicules lourds)'!AB$25","v":0},null,{"$f":"'2. CARBURANT (Véhicules lourds)'!AD$25","v":0},null,{"$f":"'2. CARBURANT (Véhicules lourds)'!AF$25","v":0},null,{"$f":"'2. CARBURANT (Véhicules lourds)'!AH$25","v":0},null,{"$f":"'2. CARBURANT (Véhicules lourds)'!AJ$25","v":0},null,{"$f":"'2. CARBURANT (Véhicules lourds)'!AL$25","v":0},null,{"$f":"'2. CARBURANT (Véhicules lourds)'!AN$25","v":0},null,{"$f":"'2. CARBURANT (Véhicules lourds)'!AP$25","v":0},null,{"$f":"'2. CARBURANT (Véhicules lourds)'!AR$25","v":0},null,{"$f":"'2. CARBURANT (Véhicules lourds)'!AT$25","v":0}]
[null,null,null,null,"Essence [$]",{"$f":"'2. CARBURANT (Véhicules légers)'!A86","v":0},{"$f":"'2. CARBURANT (Véhicules lourds)'!B$11","v":0},null,{"$f":"'2. CARBURANT (Véhicules lourds)'!D$11","v":0},null,{"$f":"'2. CARBURANT (Véhicules lourds)'!F$11","v":0},null,{"$f":"'2. CARBURANT (Véhicules lourds)'!H$11","v":0},null,{"$f":"'2. CARBURANT (Véhicules lourds)'!J$11","v":0},null,{"$f":"'2. CARBURANT (Véhicules lourds)'!L$11","v":0},null,{"$f":"'2. CARBURANT (Véhicules lourds)'!N$11","v":0},null,{"$f":"'2. CARBURANT (Véhicules lourds)'!P$11","v":0},null,{"$f":"'2. CARBURANT (Véhicules lourds)'!R$11","v":0},null,{"$f":"'2. CARBURANT (Véhicules lourds)'!T$11","v":0},null,{"$f":"'2. CARBURANT (Véhicules lourds)'!V$11","v":0},null,{"$f":"'2. CARBURANT (Véhicules lourds)'!X$11","v":0},null,{"$f":"'2. CARBURANT (Véhicules lourds)'!Z$11","v":0},null,{"$f":"'2. CARBURANT (Véhicules lourds)'!AB$11","v":0},null,{"$f":"'2. CARBURANT (Véhicules lourds)'!AD$11","v":0},null,{"$f":"'2. CARBURANT (Véhicules lourds)'!AF$11","v":0},null,{"$f":"'2. CARBURANT (Véhicules lourds)'!AH$11","v":0},null,{"$f":"'2. CARBURANT (Véhicules lourds)'!AJ$11","v":0},null,{"$f":"'2. CARBURANT (Véhicules lourds)'!AL$11","v":0},null,{"$f":"'2. CARBURANT (Véhicules lourds)'!AN$11","v":0},null,{"$f":"'2. CARBURANT (Véhicules lourds)'!AP$11","v":0},null,{"$f":"'2. CARBURANT (Véhicules lourds)'!AR$11","v":0},null,{"$f":"'2. CARBURANT (Véhicules lourds)'!AT$11","v":0}]
[]
[]
[]
[]
[]
[null,null,"Diesel",null,"Diesel Litres [L]",{"$f":"'2. CARBURANT (Véhicules légers)'!A101","v":0},{"$f":"'2. CARBURANT (Véhicules lourds)'!B$26","v":0},null,{"$f":"'2. CARBURANT (Véhicules lourds)'!D$26","v":0},null,{"$f":"'2. CARBURANT (Véhicules lourds)'!F$26","v":0},null,{"$f":"'2. CARBURANT (Véhicules lourds)'!H$26","v":0},null,{"$f":"'2. CARBURANT (Véhicules lourds)'!J$26","v":0},null,{"$f":"'2. CARBURANT (Véhicules lourds)'!L$26","v":0},null,{"$f":"'2. CARBURANT (Véhicules lourds)'!N$26","v":0},null,{"$f":"'2. CARBURANT (Véhicules lourds)'!P$26","v":0},null,{"$f":"'2. CARBURANT (Véhicules lourds)'!R$26","v":0},null,{"$f":"'2. CARBURANT (Véhicules lourds)'!T$26","v":0},null,{"$f":"'2. CARBURANT (Véhicules lourds)'!V$26","v":0},null,{"$f":"'2. CARBURANT (Véhicules lourds)'!X$26","v":0},null,{"$f":"'2. CARBURANT (Véhicules lourds)'!Z$26","v":0},null,{"$f":"'2. CARBURANT (Véhicules lourds)'!AB$26","v":0},null,{"$f":"'2. CARBURANT (Véhicules lourds)'!AD$26","v":0},null,{"$f":"'2. CARBURANT (Véhicules lourds)'!AF$26","v":0},null,{"$f":"'2. CARBURANT (Véhicules lourds)'!AH$26","v":0},null,{"$f":"'2. CARBURANT (Véhicules lourds)'!AJ$26","v":0},null,{"$f":"'2. CARBURANT (Véhicules lourds)'!AL$26","v":0},null,{"$f":"'2. CARBURANT (Véhicules lourds)'!AN$26","v":0},null,{"$f":"'2. CARBURANT (Véhicules lourds)'!AP$26","v":0},null,{"$f":"'2. CARBURANT (Véhicules lourds)'!AR$26","v":0},null,{"$f":"'2. CARBURANT (Véhicules lourds)'!AT$26","v":0}]
[null,null,null,null,"Diesel [$]",{"$f":"'2. CARBURANT (Véhicules légers)'!A87","v":0},{"$f":"'2. CARBURANT (Véhicules lourds)'!B$12","v":0},null,{"$f":"'2. CARBURANT (Véhicules lourds)'!D$12","v":0},null,{"$f":"'2. CARBURANT (Véhicules lourds)'!F$12","v":0},null,{"$f":"'2. CARBURANT (Véhicules lourds)'!H$12","v":0},null,{"$f":"'2. CARBURANT (Véhicules lourds)'!J$12","v":0},null,{"$f":"'2. CARBURANT (Véhicules lourds)'!L$12","v":0},null,{"$f":"'2. CARBURANT (Véhicules lourds)'!N$12","v":0},null,{"$f":"'2. CARBURANT (Véhicules lourds)'!P$12","v":0},null,{"$f":"'2. CARBURANT (Véhicules lourds)'!R$12","v":0},null,{"$f":"'2. CARBURANT (Véhicules lourds)'!T$12","v":0},null,{"$f":"'2. CARBURANT (Véhicules lourds)'!V$12","v":0},null,{"$f":"'2. CARBURANT (Véhicules lourds)'!X$12","v":0},null,{"$f":"'2. CARBURANT (Véhicules lourds)'!Z$12","v":0},null,{"$f":"'2. CARBURANT (Véhicules lourds)'!AB$12","v":0},null,{"$f":"'2. CARBURANT (Véhicules lourds)'!AD$12","v":0},null,{"$f":"'2. CARBURANT (Véhicules lourds)'!AF$12","v":0},null,{"$f":"'2. CARBURANT (Véhicules lourds)'!AH$12","v":0},null,{"$f":"'2. CARBURANT (Véhicules lourds)'!AJ$12","v":0},null,{"$f":"'2. CARBURANT (Véhicules lourds)'!AL$12","v":0},null,{"$f":"'2. CARBURANT (Véhicules lourds)'!AN$12","v":0},null,{"$f":"'2. CARBURANT (Véhicules lourds)'!AP$12","v":0},null,{"$f":"'2. CARBURANT (Véhicules lourds)'!AR$12","v":0},null,{"$f":"'2. CARBURANT (Véhicules lourds)'!AT$12","v":0}]
[]
[]
[]
[]
[]
[null,null,"Gaz naturel",null,"Gaz naturel [m³]",{"$f":"'2. CARBURANT (Véhicules légers)'!A102","v":0},{"$f":"'2. CARBURANT (Véhicules lourds)'!B$27","v":0},null,{"$f":"'2. CARBURANT (Véhicules lourds)'!D$27","v":0},null,{"$f":"'2. CARBURANT (Véhicules lourds)'!F$27","v":0},null,{"$f":"'2. CARBURANT (Véhicules lourds)'!H$27","v":0},null,{"$f":"'2. CARBURANT (Véhicules lourds)'!J$27","v":0},null,{"$f":"'2. CARBURANT (Véhicules lourds)'!L$27","v":0},null,{"$f":"'2. CARBURANT (Véhicules lourds)'!N$27","v":0},null,{"$f":"'2. CARBURANT (Véhicules lourds)'!P$27","v":0},null,{"$f":"'2. CARBURANT (Véhicules lourds)'!R$27","v":0},null,{"$f":"'2. CARBURANT (Véhicules lourds)'!T$27","v":0},null,{"$f":"'2. CARBURANT (Véhicules lourds)'!V$27","v":0},null,{"$f":"'2. CARBURANT (Véhicules lourds)'!X$27","v":0},null,{"$f":"'2. CARBURANT (Véhicules lourds)'!Z$27","v":0},null,{"$f":"'2. CARBURANT (Véhicules lourds)'!AB$27","v":0},null,{"$f":"'2. CARBURANT (Véhicules lourds)'!AD$27","v":0},null,{"$f":"'2. CARBURANT (Véhicules lourds)'!AF$27","v":0},null,{"$f":"'2. CARBURANT (Véhicules lourds)'!AH$27","v":0},null,{"$f":"'2. CARBURANT (Véhicules lourds)'!AJ$27","v":0},null,{"$f":"'2. CARBURANT (Véhicules lourds)'!AL$27","v":0},null,{"$f":"'2. CARBURANT (Véhicules lourds)'!AN$27","v":0},null,{"$f":"'2. CARBURANT (Véhicules lourds)'!AP$27","v":0},null,{"$f":"'2. CARBURANT (Véhicules lourds)'!AR$27","v":0},null,{"$f":"'2. CARBURANT (Véhicules lourds)'!AT$27","v":0}]
[null,null,null,null,"Gaz naturel [$]",{"$f":"'2. CARBURANT (Véhicules légers)'!A88","v":0},{"$f":"'2. CARBURANT (Véhicules lourds)'!B$13","v":0},null,{"$f":"'2. CARBURANT (Véhicules lourds)'!D$13","v":0},null,{"$f":"'2. CARBURANT (Véhicules lourds)'!F$13","v":0},null,{"$f":"'2. CARBURANT (Véhicules lourds)'!H$13","v":0},null,{"$f":"'2. CARBURANT (Véhicules lourds)'!J$13","v":0},null,{"$f":"'2. CARBURANT (Véhicules lourds)'!L$13","v":0},null,{"$f":"'2. CARBURANT (Véhicules lourds)'!N$13","v":0},null,{"$f":"'2. CARBURANT (Véhicules lourds)'!P$13","v":0},null,{"$f":"'2. CARBURANT (Véhicules lourds)'!R$13","v":0},null,{"$f":"'2. CARBURANT (Véhicules lourds)'!T$13","v":0},null,{"$f":"'2. CARBURANT (Véhicules lourds)'!V$13","v":0},null,{"$f":"'2. CARBURANT (Véhicules lourds)'!X$13","v":0},null,{"$f":"'2. CARBURANT (Véhicules lourds)'!Z$13","v":0},null,{"$f":"'2. CARBURANT (Véhicules lourds)'!AB$13","v":0},null,{"$f":"'2. CARBURANT (Véhicules lourds)'!AD$13","v":0},null,{"$f":"'2. CARBURANT (Véhicules lourds)'!AF$13","v":0},null,{"$f":"'2. CARBURANT (Véhicules lourds)'!AH$13","v":0},null,{"$f":"'2. CARBURANT (Véhicules lourds)'!AJ$13","v":0},null,{"$f":"'2. CARBURANT (Véhicules lourds)'!AL$13","v":0},null,{"$f":"'2. CARBURANT (Véhicules lourds)'!AN$13","v":0},null,{"$f":"'2. CARBURANT (Véhicules lourds)'!AP$13","v":0},null,{"$f":"'2. CARBURANT (Véhicules lourds)'!AR$13","v":0},null,{"$f":"'2. CARBURANT (Véhicules lourds)'!AT$13","v":0}]
[]
[]
[]
[]
[]
[null,null,"Propane",null,"Propane Litres [L]",{"$f":"'2. CARBURANT (Véhicules légers)'!A103","v":0},{"$f":"'2. CARBURANT (Véhicules lourds)'!B$28","v":0},null,{"$f":"'2. CARBURANT (Véhicules lourds)'!D$28","v":0},null,{"$f":"'2. CARBURANT (Véhicules lourds)'!F$28","v":0},null,{"$f":"'2. CARBURANT (Véhicules lourds)'!H$28","v":0},null,{"$f":"'2. CARBURANT (Véhicules lourds)'!J$28","v":0},null,{"$f":"'2. CARBURANT (Véhicules lourds)'!L$28","v":0},null,{"$f":"'2. CARBURANT (Véhicules lourds)'!N$28","v":0},null,{"$f":"'2. CARBURANT (Véhicules lourds)'!P$28","v":0},null,{"$f":"'2. CARBURANT (Véhicules lourds)'!R$28","v":0},null,{"$f":"'2. CARBURANT (Véhicules lourds)'!T$28","v":0},null,{"$f":"'2. CARBURANT (Véhicules lourds)'!V$28","v":0},null,{"$f":"'2. CARBURANT (Véhicules lourds)'!X$28","v":0},null,{"$f":"'2. CARBURANT (Véhicules lourds)'!Z$28","v":0},null,{"$f":"'2. CARBURANT (Véhicules lourds)'!AB$28","v":0},null,{"$f":"'2. CARBURANT (Véhicules lourds)'!AD$28","v":0},null,{"$f":"'2. CARBURANT (Véhicules lourds)'!AF$28","v":0},null,{"$f":"'2. CARBURANT (Véhicules lourds)'!AH$28","v":0},null,{"$f":"'2. CARBURANT (Véhicules lourds)'!AJ$28","v":0},null,{"$f":"'2. CARBURANT (Véhicules lourds)'!AL$28","v":0},null,{"$f":"'2. CARBURANT (Véhicules lourds)'!AN$28","v":0},null,{"$f":"'2. CARBURANT (Véhicules lourds)'!AP$28","v":0},null,{"$f":"'2. CARBURANT (Véhicules lourds)'!AR$28","v":0},null,{"$f":"'2. CARBURANT (Véhicules lourds)'!AT$28","v":0}]
[null,null,null,null,"Propane [$]",{"$f":"'2. CARBURANT (Véhicules légers)'!A89","v":0},{"$f":"'2. CARBURANT (Véhicules lourds)'!B$14","v":0},null,{"$f":"'2. CARBURANT (Véhicules lourds)'!D$14","v":0},null,{"$f":"'2. CARBURANT (Véhicules lourds)'!F$14","v":0},null,{"$f":"'2. CARBURANT (Véhicules lourds)'!H$14","v":0},null,{"$f":"'2. CARBURANT (Véhicules lourds)'!J$14","v":0},null,{"$f":"'2. CARBURANT (Véhicules lourds)'!L$14","v":0},null,{"$f":"'2. CARBURANT (Véhicules lourds)'!N$14","v":0},null,{"$f":"'2. CARBURANT (Véhicules lourds)'!P$14","v":0},null,{"$f":"'2. CARBURANT (Véhicules lourds)'!R$14","v":0},null,{"$f":"'2. CARBURANT (Véhicules lourds)'!T$14","v":0},null,{"$f":"'2. CARBURANT (Véhicules lourds)'!V$14","v":0},null,{"$f":"'2. CARBURANT (Véhicules lourds)'!X$14","v":0},null,{"$f":"'2. CARBURANT (Véhicules lourds)'!Z$14","v":0},null,{"$f":"'2. CARBURANT (Véhicules lourds)'!AB$14","v":0},null,{"$f":"'2. CARBURANT (Véhicules lourds)'!AD$14","v":0},null,{"$f":"'2. CARBURANT (Véhicules lourds)'!AF$14","v":0},null,{"$f":"'2. CARBURANT (Véhicules lourds)'!AH$14","v":0},null,{"$f":"'2. CARBURANT (Véhicules lourds)'!AJ$14","v":0},null,{"$f":"'2. CARBURANT (Véhicules lourds)'!AL$14","v":0},null,{"$f":"'2. CARBURANT (Véhicules lourds)'!AN$14","v":0},null,{"$f":"'2. CARBURANT (Véhicules lourds)'!AP$14","v":0},null,{"$f":"'2. CARBURANT (Véhicules lourds)'!AR$14","v":0},null,{"$f":"'2. CARBURANT (Véhicules lourds)'!AT$14","v":0}]
[]
[]
[]
[]
[]
[null,null,"Essence Ethanol",null,"Essence Ethanol Litres [L]",{"$f":"'2. CARBURANT (Véhicules légers)'!A106","v":0},{"$f":"'2. CARBURANT (Véhicules lourds)'!B$31","v":0},null,{"$f":"'2. CARBURANT (Véhicules lourds)'!D$31","v":0},null,{"$f":"'2. CARBURANT (Véhicules lourds)'!F$31","v":0},null,{"$f":"'2. CARBURANT (Véhicules lourds)'!H$31","v":0},null,{"$f":"'2. CARBURANT (Véhicules lourds)'!J$31","v":0},null,{"$f":"'2. CARBURANT (Véhicules lourds)'!L$31","v":0},null,{"$f":"'2. CARBURANT (Véhicules lourds)'!N$31","v":0},null,{"$f":"'2. CARBURANT (Véhicules lourds)'!P$31","v":0},null,{"$f":"'2. CARBURANT (Véhicules lourds)'!R$31","v":0},null,{"$f":"'2. CARBURANT (Véhicules lourds)'!T$31","v":0},null,{"$f":"'2. CARBURANT (Véhicules lourds)'!V$31","v":0},null,{"$f":"'2. CARBURANT (Véhicules lourds)'!X$31","v":0},null,{"$f":"'2. CARBURANT (Véhicules lourds)'!Z$31","v":0},null,{"$f":"'2. CARBURANT (Véhicules lourds)'!AB$31","v":0},null,{"$f":"'2. CARBURANT (Véhicules lourds)'!AD$31","v":0},null,{"$f":"'2. CARBURANT (Véhicules lourds)'!AF$31","v":0},null,{"$f":"'2. CARBURANT (Véhicules lourds)'!AH$31","v":0},null,{"$f":"'2. CARBURANT (Véhicules lourds)'!AJ$31","v":0},null,{"$f":"'2. CARBURANT (Véhicules lourds)'!AL$31","v":0},null,{"$f":"'2. CARBURANT (Véhicules lourds)'!AN$31","v":0},null,{"$f":"'2. CARBURANT (Véhicules lourds)'!AP$31","v":0},null,{"$f":"'2. CARBURANT (Véhicules lourds)'!AR$31","v":0},null,{"$f":"'2. CARBURANT (Véhicules lourds)'!AT$31","v":0}]
[null,null,null,null,"Essence Ethanol [$]",{"$f":"'2. CARBURANT (Véhicules légers)'!A92","v":0},{"$f":"'2. CARBURANT (Véhicules lourds)'!B$17","v":0},null,{"$f":"'2. CARBURANT (Véhicules lourds)'!D$17","v":0},null,{"$f":"'2. CARBURANT (Véhicules lourds)'!F$17","v":0},null,{"$f":"'2. CARBURANT (Véhicules lourds)'!H$17","v":0},null,{"$f":"'2. CARBURANT (Véhicules lourds)'!J$17","v":0},null,{"$f":"'2. CARBURANT (Véhicules lourds)'!L$17","v":0},null,{"$f":"'2. CARBURANT (Véhicules lourds)'!N$17","v":0},null,{"$f":"'2. CARBURANT (Véhicules lourds)'!P$17","v":0},null,{"$f":"'2. CARBURANT (Véhicules lourds)'!R$17","v":0},null,{"$f":"'2. CARBURANT (Véhicules lourds)'!T$17","v":0},null,{"$f":"'2. CARBURANT (Véhicules lourds)'!V$17","v":0},null,{"$f":"'2. CARBURANT (Véhicules lourds)'!X$17","v":0},null,{"$f":"'2. CARBURANT (Véhicules lourds)'!Z$17","v":0},null,{"$f":"'2. CARBURANT (Véhicules lourds)'!AB$17","v":0},null,{"$f":"'2. CARBURANT (Véhicules lourds)'!AD$17","v":0},null,{"$f":"'2. CARBURANT (Véhicules lourds)'!AF$17","v":0},null,{"$f":"'2. CARBURANT (Véhicules lourds)'!AH$17","v":0},null,{"$f":"'2. CARBURANT (Véhicules lourds)'!AJ$17","v":0},null,{"$f":"'2. CARBURANT (Véhicules lourds)'!AL$17","v":0},null,{"$f":"'2. CARBURANT (Véhicules lourds)'!AN$17","v":0},null,{"$f":"'2. CARBURANT (Véhicules lourds)'!AP$17","v":0},null,{"$f":"'2. CARBURANT (Véhicules lourds)'!AR$17","v":0},null,{"$f":"'2. CARBURANT (Véhicules lourds)'!AT$17","v":0}]
[]
[]
[]
[]
[]
[null,null,"Bio Diesel",null,"Bio Diesel Litres [L]",{"$f":"'2. CARBURANT (Véhicules légers)'!A107","v":0},{"$f":"'2. CARBURANT (Véhicules lourds)'!B$32","v":0},null,{"$f":"'2. CARBURANT (Véhicules lourds)'!D$32","v":0},null,{"$f":"'2. CARBURANT (Véhicules lourds)'!F$32","v":0},null,{"$f":"'2. CARBURANT (Véhicules lourds)'!H$32","v":0},null,{"$f":"'2. CARBURANT (Véhicules lourds)'!J$32","v":0},null,{"$f":"'2. CARBURANT (Véhicules lourds)'!L$32","v":0},null,{"$f":"'2. CARBURANT (Véhicules lourds)'!N$32","v":0},null,{"$f":"'2. CARBURANT (Véhicules lourds)'!P$32","v":0},null,{"$f":"'2. CARBURANT (Véhicules lourds)'!R$32","v":0},null,{"$f":"'2. CARBURANT (Véhicules lourds)'!T$32","v":0},null,{"$f":"'2. CARBURANT (Véhicules lourds)'!V$32","v":0},null,{"$f":"'2. CARBURANT (Véhicules lourds)'!X$32","v":0},null,{"$f":"'2. CARBURANT (Véhicules lourds)'!Z$32","v":0},null,{"$f":"'2. CARBURANT (Véhicules lourds)'!AB$32","v":0},null,{"$f":"'2. CARBURANT (Véhicules lourds)'!AD$32","v":0},null,{"$f":"'2. CARBURANT (Véhicules lourds)'!AF$32","v":0},null,{"$f":"'2. CARBURANT (Véhicules lourds)'!AH$32","v":0},null,{"$f":"'2. CARBURANT (Véhicules lourds)'!AJ$32","v":0},null,{"$f":"'2. CARBURANT (Véhicules lourds)'!AL$32","v":0},null,{"$f":"'2. CARBURANT (Véhicules lourds)'!AN$32","v":0},null,{"$f":"'2. CARBURANT (Véhicules lourds)'!AP$32","v":0},null,{"$f":"'2. CARBURANT (Véhicules lourds)'!AR$32","v":0},null,{"$f":"'2. CARBURANT (Véhicules lourds)'!AT$32","v":0}]
[null,null,null,null,"Bio Diesel [$]",{"$f":"'2. CARBURANT (Véhicules légers)'!A93","v":0},{"$f":"'2. CARBURANT (Véhicules lourds)'!B$18","v":0},null,{"$f":"'2. CARBURANT (Véhicules lourds)'!D$18","v":0},null,{"$f":"'2. CARBURANT (Véhicules lourds)'!F$18","v":0},null,{"$f":"'2. CARBURANT (Véhicules lourds)'!H$18","v":0},null,{"$f":"'2. CARBURANT (Véhicules lourds)'!J$18","v":0},null,{"$f":"'2. CARBURANT (Véhicules lourds)'!L$18","v":0},null,{"$f":"'2. CARBURANT (Véhicules lourds)'!N$18","v":0},null,{"$f":"'2. CARBURANT (Véhicules lourds)'!P$18","v":0},null,{"$f":"'2. CARBURANT (Véhicules lourds)'!R$18","v":0},null,{"$f":"'2. CARBURANT (Véhicules lourds)'!T$18","v":0},null,{"$f":"'2. CARBURANT (Véhicules lourds)'!V$18","v":0},null,{"$f":"'2. CARBURANT (Véhicules lourds)'!X$18","v":0},null,{"$f":"'2. CARBURANT (Véhicules lourds)'!Z$18","v":0},null,{"$f":"'2. CARBURANT (Véhicules lourds)'!AB$18","v":0},null,{"$f":"'2. CARBURANT (Véhicules lourds)'!AD$18","v":0},null,{"$f":"'2. CARBURANT (Véhicules lourds)'!AF$18","v":0},null,{"$f":"'2. CARBURANT (Véhicules lourds)'!AH$18","v":0},null,{"$f":"'2. CARBURANT (Véhicules lourds)'!AJ$18","v":0},null,{"$f":"'2. CARBURANT (Véhicules lourds)'!AL$18","v":0},null,{"$f":"'2. CARBURANT (Véhicules lourds)'!AN$18","v":0},null,{"$f":"'2. CARBURANT (Véhicules lourds)'!AP$18","v":0},null,{"$f":"'2. CARBURANT (Véhicules lourds)'!AR$18","v":0},null,{"$f":"'2. CARBURANT (Véhicules lourds)'!AT$18","v":0}]
[]
[]
[]
[]
[]
[null,null,"Formules"]
[]
[]
[]
[]
[]
[]
[]
[]
[]
[]
[]
[]
[]
[]
[]
[]
[null,null,"Nombre de véhicules","Sur route",null,{"$f":"'5. NOMBRE DE VÉHICULES'!A87","v":0},{"$f":"'5. NOMBRE DE VÉHICULES'!B23","v":0},null,{"$f":"'5. NOMBRE DE VÉHICULES'!D23","v":0},null,{"$f":"'5. NOMBRE DE VÉHICULES'!F23","v":0},null,{"$f":"'5. NOMBRE DE VÉHICULES'!H23","v":0},null,{"$f":"'5. NOMBRE DE VÉHICULES'!J23","v":0},null,{"$f":"'5. NOMBRE DE VÉHICULES'!L23","v":0},null,{"$f":"'5. NOMBRE DE VÉHICULES'!N23","v":0},null,{"$f":"'5. NOMBRE DE VÉHICULES'!P23","v":0},null,{"$f":"'5. NOMBRE DE VÉHICULES'!R23","v":0},null,{"$f":"'5. NOMBRE DE VÉHICULES'!T23","v":0},null,{"$f":"'5. NOMBRE DE VÉHICULES'!V23","v":0},null,{"$f":"'5. NOMBRE DE VÉHICULES'!X23","v":0},null,{"$f":"'5. NOMBRE DE VÉHICULES'!Z23","v":0},null,{"$f":"'5. NOMBRE DE VÉHICULES'!AB23","v":0},null,{"$f":"'5. NOMBRE DE VÉHICULES'!AD23","v":0},null,{"$f":"'5. NOMBRE DE VÉHICULES'!AF23","v":0},null,{"$f":"'5. NOMBRE DE VÉHICULES'!AH23","v":0},null,{"$f":"'5. NOMBRE DE VÉHICULES'!AJ23","v":0},null,{"$f":"'5. NOMBRE DE VÉHICULES'!AL23","v":0},null,{"$f":"'5. NOMBRE DE VÉHICULES'!AN23","v":0},null,{"$f":"'5. NOMBRE DE VÉHICULES'!AP23","v":0},null,{"$f":"'5. NOMBRE DE VÉHICULES'!AR23","v":0},null,{"$f":"'5. NOMBRE DE VÉHICULES'!AT23","v":0}]
[null,null,null,"Hors route",null,{"$f":"'5. NOMBRE DE VÉHICULES'!A88","v":0},{"$f":"'5. NOMBRE DE VÉHICULES'!B24","v":0},null,{"$f":"'5. NOMBRE DE VÉHICULES'!D24","v":0},null,{"$f":"'5. NOMBRE DE VÉHICULES'!F24","v":0},null,{"$f":"'5. NOMBRE DE VÉHICULES'!H24","v":0},null,{"$f":"'5. NOMBRE DE VÉHICULES'!J24","v":0},null,{"$f":"'5. NOMBRE DE VÉHICULES'!L24","v":0},null,{"$f":"'5. NOMBRE DE VÉHICULES'!N24","v":0},null,{"$f":"'5. NOMBRE DE VÉHICULES'!P24","v":0},null,{"$f":"'5. NOMBRE DE VÉHICULES'!R24","v":0},null,{"$f":"'5. NOMBRE DE VÉHICULES'!T24","v":0},null,{"$f":"'5. NOMBRE DE VÉHICULES'!V24","v":0},null,{"$f":"'5. NOMBRE DE VÉHICULES'!X24","v":0},null,{"$f":"'5. NOMBRE DE VÉHICULES'!Z24","v":0},null,{"$f":"'5. NOMBRE DE VÉHICULES'!AB24","v":0},null,{"$f":"'5. NOMBRE DE VÉHICULES'!AD24","v":0},null,{"$f":"'5. NOMBRE DE VÉHICULES'!AF24","v":0},null,{"$f":"'5. NOMBRE DE VÉHICULES'!AH24","v":0},null,{"$f":"'5. NOMBRE DE VÉHICULES'!AJ24","v":0},null,{"$f":"'5. NOMBRE DE VÉHICULES'!AL24","v":0},null,{"$f":"'5. NOMBRE DE VÉHICULES'!AN24","v":0},null,{"$f":"'5. NOMBRE DE VÉHICULES'!AP24","v":0},null,{"$f":"'5. NOMBRE DE VÉHICULES'!AR24","v":0},null,{"$f":"'5. NOMBRE DE VÉHICULES'!AT24","v":0}]
[null,null,null,"Hybride",null,null,{"$f":"'5. NOMBRE DE VÉHICULES'!B25","v":0},null,{"$f":"'5. NOMBRE DE VÉHICULES'!D25","v":0},null,{"$f":"'5. NOMBRE DE VÉHICULES'!F25","v":0},null,{"$f":"'5. NOMBRE DE VÉHICULES'!H25","v":0},null,{"$f":"'5. NOMBRE DE VÉHICULES'!J25","v":0},null,{"$f":"'5. NOMBRE DE VÉHICULES'!L25","v":0},null,{"$f":"'5. NOMBRE DE VÉHICULES'!N25","v":0},null,{"$f":"'5. NOMBRE DE VÉHICULES'!P25","v":0},null,{"$f":"'5. NOMBRE DE VÉHICULES'!R25","v":0},null,{"$f":"'5. NOMBRE DE VÉHICULES'!T25","v":0},null,{"$f":"'5. NOMBRE DE VÉHICULES'!V25","v":0},null,{"$f":"'5. NOMBRE DE VÉHICULES'!X25","v":0},null,{"$f":"'5. NOMBRE DE VÉHICULES'!Z25","v":0},null,{"$f":"'5. NOMBRE DE VÉHICULES'!AB25","v":0},null,{"$f":"'5. NOMBRE DE VÉHICULES'!AD25","v":0},null,{"$f":"'5. NOMBRE DE VÉHICULES'!AF25","v":0},null,{"$f":"'5. NOMBRE DE VÉHICULES'!AH25","v":0},null,{"$f":"'5. NOMBRE DE VÉHICULES'!AJ25","v":0},null,{"$f":"'5. NOMBRE DE VÉHICULES'!AL25","v":0},null,{"$f":"'5. NOMBRE DE VÉHICULES'!AN25","v":0},null,{"$f":"'5. NOMBRE DE VÉHICULES'!AP25","v":0},null,{"$f":"'5. NOMBRE DE VÉHICULES'!AR25","v":0},null,{"$f":"'5. NOMBRE DE VÉHICULES'!AT25","v":0}]
[null,null,null,"Hybride rechargeable",null,null,{"$f":"'5. NOMBRE DE VÉHICULES'!B26","v":0},null,{"$f":"'5. NOMBRE DE VÉHICULES'!D26","v":0},null,{"$f":"'5. NOMBRE DE VÉHICULES'!F26","v":0},null,{"$f":"'5. NOMBRE DE VÉHICULES'!H26","v":0},null,{"$f":"'5. NOMBRE DE VÉHICULES'!J26","v":0},null,{"$f":"'5. NOMBRE DE VÉHICULES'!L26","v":0},null,{"$f":"'5. NOMBRE DE VÉHICULES'!N26","v":0},null,{"$f":"'5. NOMBRE DE VÉHICULES'!P26","v":0},null,{"$f":"'5. NOMBRE DE VÉHICULES'!R26","v":0},null,{"$f":"'5. NOMBRE DE VÉHICULES'!T26","v":0},null,{"$f":"'5. NOMBRE DE VÉHICULES'!V26","v":0},null,{"$f":"'5. NOMBRE DE VÉHICULES'!X26","v":0},null,{"$f":"'5. NOMBRE DE VÉHICULES'!Z26","v":0},null,{"$f":"'5. NOMBRE DE VÉHICULES'!AB26","v":0},null,{"$f":"'5. NOMBRE DE VÉHICULES'!AD26","v":0},null,{"$f":"'5. NOMBRE DE VÉHICULES'!AF26","v":0},null,{"$f":"'5. NOMBRE DE VÉHICULES'!AH26","v":0},null,{"$f":"'5. NOMBRE DE VÉHICULES'!AJ26","v":0},null,{"$f":"'5. NOMBRE DE VÉHICULES'!AL26","v":0},null,{"$f":"'5. NOMBRE DE VÉHICULES'!AN26","v":0},null,{"$f":"'5. NOMBRE DE VÉHICULES'!AP26","v":0},null,{"$f":"'5. NOMBRE DE VÉHICULES'!AR26","v":0},null,{"$f":"'5. NOMBRE DE VÉHICULES'!AT26","v":0}]
[null,null,null,"100% électrique",null,null,{"$f":"'5. NOMBRE DE VÉHICULES'!B27","v":0},null,{"$f":"'5. NOMBRE DE VÉHICULES'!D27","v":0},null,{"$f":"'5. NOMBRE DE VÉHICULES'!F27","v":0},null,{"$f":"'5. NOMBRE DE VÉHICULES'!H27","v":0},null,{"$f":"'5. NOMBRE DE VÉHICULES'!J27","v":0},null,{"$f":"'5. NOMBRE DE VÉHICULES'!L27","v":0},null,{"$f":"'5. NOMBRE DE VÉHICULES'!N27","v":0},null,{"$f":"'5. NOMBRE DE VÉHICULES'!P27","v":0},null,{"$f":"'5. NOMBRE DE VÉHICULES'!R27","v":0},null,{"$f":"'5. NOMBRE DE VÉHICULES'!T27","v":0},null,{"$f":"'5. NOMBRE DE VÉHICULES'!V27","v":0},null,{"$f":"'5. NOMBRE DE VÉHICULES'!X27","v":0},null,{"$f":"'5. NOMBRE DE VÉHICULES'!Z27","v":0},null,{"$f":"'5. NOMBRE DE VÉHICULES'!AB27","v":0},null,{"$f":"'5. NOMBRE DE VÉHICULES'!AD27","v":0},null,{"$f":"'5. NOMBRE DE VÉHICULES'!AF27","v":0},null,{"$f":"'5. NOMBRE DE VÉHICULES'!AH27","v":0},null,{"$f":"'5. NOMBRE DE VÉHICULES'!AJ27","v":0},null,{"$f":"'5. NOMBRE DE VÉHICULES'!AL27","v":0},null,{"$f":"'5. NOMBRE DE VÉHICULES'!AN27","v":0},null,{"$f":"'5. NOMBRE DE VÉHICULES'!AP27","v":0},null,{"$f":"'5. NOMBRE DE VÉHICULES'!AR27","v":0},null,{"$f":"'5. NOMBRE DE VÉHICULES'!AT27","v":0}]
[]
[]
[null,null,null,"Date",null,"Date:",{"$f":"'1. IDENTITÉ'!$B$20","v":0},null,{"$f":"'1. IDENTITÉ'!$B$20","v":0},null,{"$f":"'1. IDENTITÉ'!$B$20","v":0},null,{"$f":"'1. IDENTITÉ'!$B$20","v":0},null,{"$f":"'1. IDENTITÉ'!$B$20","v":0},null,{"$f":"'1. IDENTITÉ'!$B$20","v":0},null,{"$f":"'1. IDENTITÉ'!$B$20","v":0},null,{"$f":"'1. IDENTITÉ'!$B$20","v":0},null,{"$f":"'1. IDENTITÉ'!$B$20","v":0},null,{"$f":"'1. IDENTITÉ'!$B$20","v":0},null,{"$f":"'1. IDENTITÉ'!$B$20","v":0},null,{"$f":"'1. IDENTITÉ'!$B$20","v":0},null,{"$f":"'1. IDENTITÉ'!$B$20","v":0},null,{"$f":"'1. IDENTITÉ'!$B$20","v":0},null,{"$f":"'1. IDENTITÉ'!$B$20","v":0},null,{"$f":"'1. IDENTITÉ'!$B$20","v":0},null,{"$f":"'1. IDENTITÉ'!$B$20","v":0},null,{"$f":"'1. IDENTITÉ'!$B$20","v":0},null,{"$f":"'1. IDENTITÉ'!$B$20","v":0},null,{"$f":"'1. IDENTITÉ'!$B$20","v":0},null,{"$f":"'1. IDENTITÉ'!$B$20","v":0},null,{"$f":"'1. IDENTITÉ'!$B$20","v":0},null,{"$f":"'1. IDENTITÉ'!$B$20","v":0}]
[null,null,"TOTAUX","TOTAL Litres [L-éq.]",null,{"$f":"'2. CARBURANT (Véhicules légers)'!A109","v":0},{"$f":"'2. CARBURANT (Véhicules lourds)'!B$34","v":0},null,{"$f":"'2. CARBURANT (Véhicules lourds)'!D$34","v":0},null,{"$f":"'2. CARBURANT (Véhicules lourds)'!F$34","v":0},null,{"$f":"'2. CARBURANT (Véhicules lourds)'!H$34","v":0},null,{"$f":"'2. CARBURANT (Véhicules lourds)'!J$34","v":0},null,{"$f":"'2. CARBURANT (Véhicules lourds)'!L$34","v":0},null,{"$f":"'2. CARBURANT (Véhicules lourds)'!N$34","v":0},null,{"$f":"'2. CARBURANT (Véhicules lourds)'!P$34","v":0},null,{"$f":"'2. CARBURANT (Véhicules lourds)'!R$34","v":0},null,{"$f":"'2. CARBURANT (Véhicules lourds)'!T$34","v":0},null,{"$f":"'2. CARBURANT (Véhicules lourds)'!V$34","v":0},null,{"$f":"'2. CARBURANT (Véhicules lourds)'!X$34","v":0},null,{"$f":"'2. CARBURANT (Véhicules lourds)'!Z$34","v":0},null,{"$f":"'2. CARBURANT (Véhicules lourds)'!AB$34","v":0},null,{"$f":"'2. CARBURANT (Véhicules lourds)'!AD$34","v":0},null,{"$f":"'2. CARBURANT (Véhicules lourds)'!AF$34","v":0},null,{"$f":"'2. CARBURANT (Véhicules lourds)'!AH$34","v":0},null,{"$f":"'2. CARBURANT (Véhicules lourds)'!AJ$34","v":0},null,{"$f":"'2. CARBURANT (Véhicules lourds)'!AL$34","v":0},null,{"$f":"'2. CARBURANT (Véhicules lourds)'!AN$34","v":0},null,{"$f":"'2. CARBURANT (Véhicules lourds)'!AP$34","v":0},null,{"$f":"'2. CARBURANT (Véhicules lourds)'!AR$34","v":0},null,{"$f":"'2. CARBURANT (Véhicules lourds)'!AT$34","v":0}]
[null,null,null,"TOTAL [GJ]",null,{"$f":"'2. CARBURANT (Véhicules légers)'!A111","v":0},{"$f":"'2. CARBURANT (Véhicules lourds)'!B$36","v":0},null,{"$f":"'2. CARBURANT (Véhicules lourds)'!D$36","v":0},null,{"$f":"'2. CARBURANT (Véhicules lourds)'!F$36","v":0},null,{"$f":"'2. CARBURANT (Véhicules lourds)'!H$36","v":0},null,{"$f":"'2. CARBURANT (Véhicules lourds)'!J$36","v":0},null,{"$f":"'2. CARBURANT (Véhicules lourds)'!L$36","v":0},null,{"$f":"'2. CARBURANT (Véhicules lourds)'!N$36","v":0},null,{"$f":"'2. CARBURANT (Véhicules lourds)'!P$36","v":0},null,{"$f":"'2. CARBURANT (Véhicules lourds)'!R$36","v":0},null,{"$f":"'2. CARBURANT (Véhicules lourds)'!T$36","v":0},null,{"$f":"'2. CARBURANT (Véhicules lourds)'!V$36","v":0},null,{"$f":"'2. CARBURANT (Véhicules lourds)'!X$36","v":0},null,{"$f":"'2. CARBURANT (Véhicules lourds)'!Z$36","v":0},null,{"$f":"'2. CARBURANT (Véhicules lourds)'!AB$36","v":0},null,{"$f":"'2. CARBURANT (Véhicules lourds)'!AD$36","v":0},null,{"$f":"'2. CARBURANT (Véhicules lourds)'!AF$36","v":0},null,{"$f":"'2. CARBURANT (Véhicules lourds)'!AH$36","v":0},null,{"$f":"'2. CARBURANT (Véhicules lourds)'!AJ$36","v":0},null,{"$f":"'2. CARBURANT (Véhicules lourds)'!AL$36","v":0},null,{"$f":"'2. CARBURANT (Véhicules lourds)'!AN$36","v":0},null,{"$f":"'2. CARBURANT (Véhicules lourds)'!AP$36","v":0},null,{"$f":"'2. CARBURANT (Véhicules lourds)'!AR$36","v":0},null,{"$f":"'2. CARBURANT (Véhicules lourds)'!AT$36","v":0}]
[null,null,null,"TOTAL  ($)",null,{"$f":"'2. CARBURANT (Véhicules légers)'!A95","v":0},{"$f":"'2. CARBURANT (Véhicules lourds)'!B$20","v":0},null,{"$f":"'2. CARBURANT (Véhicules lourds)'!D$20","v":0},null,{"$f":"'2. CARBURANT (Véhicules lourds)'!F$20","v":0},null,{"$f":"'2. CARBURANT (Véhicules lourds)'!H$20","v":0},null,{"$f":"'2. CARBURANT (Véhicules lourds)'!J$20","v":0},null,{"$f":"'2. CARBURANT (Véhicules lourds)'!L$20","v":0},null,{"$f":"'2. CARBURANT (Véhicules lourds)'!N$20","v":0},null,{"$f":"'2. CARBURANT (Véhicules lourds)'!P$20","v":0},null,{"$f":"'2. CARBURANT (Véhicules lourds)'!R$20","v":0},null,{"$f":"'2. CARBURANT (Véhicules lourds)'!T$20","v":0},null,{"$f":"'2. CARBURANT (Véhicules lourds)'!V$20","v":0},null,{"$f":"'2. CARBURANT (Véhicules lourds)'!X$20","v":0},null,{"$f":"'2. CARBURANT (Véhicules lourds)'!Z$20","v":0},null,{"$f":"'2. CARBURANT (Véhicules lourds)'!AB$20","v":0},null,{"$f":"'2. CARBURANT (Véhicules lourds)'!AD$20","v":0},null,{"$f":"'2. CARBURANT (Véhicules lourds)'!AF$20","v":0},null,{"$f":"'2. CARBURANT (Véhicules lourds)'!AH$20","v":0},null,{"$f":"'2. CARBURANT (Véhicules lourds)'!AJ$20","v":0},null,{"$f":"'2. CARBURANT (Véhicules lourds)'!AL$20","v":0},null,{"$f":"'2. CARBURANT (Véhicules lourds)'!AN$20","v":0},null,{"$f":"'2. CARBURANT (Véhicules lourds)'!AP$20","v":0},null,{"$f":"'2. CARBURANT (Véhicules lourds)'!AR$20","v":0},null,{"$f":"'2. CARBURANT (Véhicules lourds)'!AT$20","v":0}]
[null,null,null,"TOTAL [ton CO2 éq.]",null,{"$f":"'2. CARBURANT (Véhicules légers)'!A125","v":0},{"$f":"'2. CARBURANT (Véhicules lourds)'!B$50","v":0},null,{"$f":"'2. CARBURANT (Véhicules lourds)'!D$50","v":0},null,{"$f":"'2. CARBURANT (Véhicules lourds)'!F$50","v":0},null,{"$f":"'2. CARBURANT (Véhicules lourds)'!H$50","v":0},null,{"$f":"'2. CARBURANT (Véhicules lourds)'!J$50","v":0},null,{"$f":"'2. CARBURANT (Véhicules lourds)'!L$50","v":0},null,{"$f":"'2. CARBURANT (Véhicules lourds)'!N$50","v":0},null,{"$f":"'2. CARBURANT (Véhicules lourds)'!P$50","v":0},null,{"$f":"'2. CARBURANT (Véhicules lourds)'!R$50","v":0},null,{"$f":"'2. CARBURANT (Véhicules lourds)'!T$50","v":0},null,{"$f":"'2. CARBURANT (Véhicules lourds)'!V$50","v":0},null,{"$f":"'2. CARBURANT (Véhicules lourds)'!X$50","v":0},null,{"$f":"'2. CARBURANT (Véhicules lourds)'!Z$50","v":0},null,{"$f":"'2. CARBURANT (Véhicules lourds)'!AB$50","v":0},null,{"$f":"'2. CARBURANT (Véhicules lourds)'!AD$50","v":0},null,{"$f":"'2. CARBURANT (Véhicules lourds)'!AF$50","v":0},null,{"$f":"'2. CARBURANT (Véhicules lourds)'!AH$50","v":0},null,{"$f":"'2. CARBURANT (Véhicules lourds)'!AJ$50","v":0},null,{"$f":"'2. CARBURANT (Véhicules lourds)'!AL$50","v":0},null,{"$f":"'2. CARBURANT (Véhicules lourds)'!AN$50","v":0},null,{"$f":"'2. CARBURANT (Véhicules lourds)'!AP$50","v":0},null,{"$f":"'2. CARBURANT (Véhicules lourds)'!AR$50","v":0},null,{"$f":"'2. CARBURANT (Véhicules lourds)'!AT$50","v":0}]
[null,null,"Estimation des\némissions de gaz\nà effet de serre","Carburants\nconventionnels","Essence [ton CO2 éq.]",{"$f":"'2. CARBURANT (Véhicules légers)'!A116","v":0},{"$f":"'2. CARBURANT (Véhicules lourds)'!B$41","v":0},null,{"$f":"'2. CARBURANT (Véhicules lourds)'!D$41","v":0},null,{"$f":"'2. CARBURANT (Véhicules lourds)'!F$41","v":0},null,{"$f":"'2. CARBURANT (Véhicules lourds)'!H$41","v":0},null,{"$f":"'2. CARBURANT (Véhicules lourds)'!J$41","v":0},null,{"$f":"'2. CARBURANT (Véhicules lourds)'!L$41","v":0},null,{"$f":"'2. CARBURANT (Véhicules lourds)'!N$41","v":0},null,{"$f":"'2. CARBURANT (Véhicules lourds)'!P$41","v":0},null,{"$f":"'2. CARBURANT (Véhicules lourds)'!R$41","v":0},null,{"$f":"'2. CARBURANT (Véhicules lourds)'!T$41","v":0},null,{"$f":"'2. CARBURANT (Véhicules lourds)'!V$41","v":0},null,{"$f":"'2. CARBURANT (Véhicules lourds)'!X$41","v":0},null,{"$f":"'2. CARBURANT (Véhicules lourds)'!Z$41","v":0},null,{"$f":"'2. CARBURANT (Véhicules lourds)'!AB$41","v":0},null,{"$f":"'2. CARBURANT (Véhicules lourds)'!AD$41","v":0},null,{"$f":"'2. CARBURANT (Véhicules lourds)'!AF$41","v":0},null,{"$f":"'2. CARBURANT (Véhicules lourds)'!AH$41","v":0},null,{"$f":"'2. CARBURANT (Véhicules lourds)'!AJ$41","v":0},null,{"$f":"'2. CARBURANT (Véhicules lourds)'!AL$41","v":0},null,{"$f":"'2. CARBURANT (Véhicules lourds)'!AN$41","v":0},null,{"$f":"'2. CARBURANT (Véhicules lourds)'!AP$41","v":0},null,{"$f":"'2. CARBURANT (Véhicules lourds)'!AR$41","v":0},null,{"$f":"'2. CARBURANT (Véhicules lourds)'!AT$41","v":0}]
[null,null,null,null,"Diesel [ton CO2 éq.]",{"$f":"'2. CARBURANT (Véhicules légers)'!A117","v":0},{"$f":"'2. CARBURANT (Véhicules lourds)'!B$42","v":0},null,{"$f":"'2. CARBURANT (Véhicules lourds)'!D$42","v":0},null,{"$f":"'2. CARBURANT (Véhicules lourds)'!F$42","v":0},null,{"$f":"'2. CARBURANT (Véhicules lourds)'!H$42","v":0},null,{"$f":"'2. CARBURANT (Véhicules lourds)'!J$42","v":0},null,{"$f":"'2. CARBURANT (Véhicules lourds)'!L$42","v":0},null,{"$f":"'2. CARBURANT (Véhicules lourds)'!N$42","v":0},null,{"$f":"'2. CARBURANT (Véhicules lourds)'!P$42","v":0},null,{"$f":"'2. CARBURANT (Véhicules lourds)'!R$42","v":0},null,{"$f":"'2. CARBURANT (Véhicules lourds)'!T$42","v":0},null,{"$f":"'2. CARBURANT (Véhicules lourds)'!V$42","v":0},null,{"$f":"'2. CARBURANT (Véhicules lourds)'!X$42","v":0},null,{"$f":"'2. CARBURANT (Véhicules lourds)'!Z$42","v":0},null,{"$f":"'2. CARBURANT (Véhicules lourds)'!AB$42","v":0},null,{"$f":"'2. CARBURANT (Véhicules lourds)'!AD$42","v":0},null,{"$f":"'2. CARBURANT (Véhicules lourds)'!AF$42","v":0},null,{"$f":"'2. CARBURANT (Véhicules lourds)'!AH$42","v":0},null,{"$f":"'2. CARBURANT (Véhicules lourds)'!AJ$42","v":0},null,{"$f":"'2. CARBURANT (Véhicules lourds)'!AL$42","v":0},null,{"$f":"'2. CARBURANT (Véhicules lourds)'!AN$42","v":0},null,{"$f":"'2. CARBURANT (Véhicules lourds)'!AP$42","v":0},null,{"$f":"'2. CARBURANT (Véhicules lourds)'!AR$42","v":0},null,{"$f":"'2. CARBURANT (Véhicules lourds)'!AT$42","v":0}]
[null,null,null,null,"Gaz naturel [ton CO2 éq.]",{"$f":"'2. CARBURANT (Véhicules légers)'!A118","v":0},{"$f":"'2. CARBURANT (Véhicules lourds)'!B$43","v":0},null,{"$f":"'2. CARBURANT (Véhicules lourds)'!D$43","v":0},null,{"$f":"'2. CARBURANT (Véhicules lourds)'!F$43","v":0},null,{"$f":"'2. CARBURANT (Véhicules lourds)'!H$43","v":0},null,{"$f":"'2. CARBURANT (Véhicules lourds)'!J$43","v":0},null,{"$f":"'2. CARBURANT (Véhicules lourds)'!L$43","v":0},null,{"$f":"'2. CARBURANT (Véhicules lourds)'!N$43","v":0},null,{"$f":"'2. CARBURANT (Véhicules lourds)'!P$43","v":0},null,{"$f":"'2. CARBURANT (Véhicules lourds)'!R$43","v":0},null,{"$f":"'2. CARBURANT (Véhicules lourds)'!T$43","v":0},null,{"$f":"'2. CARBURANT (Véhicules lourds)'!V$43","v":0},null,{"$f":"'2. CARBURANT (Véhicules lourds)'!X$43","v":0},null,{"$f":"'2. CARBURANT (Véhicules lourds)'!Z$43","v":0},null,{"$f":"'2. CARBURANT (Véhicules lourds)'!AB$43","v":0},null,{"$f":"'2. CARBURANT (Véhicules lourds)'!AD$43","v":0},null,{"$f":"'2. CARBURANT (Véhicules lourds)'!AF$43","v":0},null,{"$f":"'2. CARBURANT (Véhicules lourds)'!AH$43","v":0},null,{"$f":"'2. CARBURANT (Véhicules lourds)'!AJ$43","v":0},null,{"$f":"'2. CARBURANT (Véhicules lourds)'!AL$43","v":0},null,{"$f":"'2. CARBURANT (Véhicules lourds)'!AN$43","v":0},null,{"$f":"'2. CARBURANT (Véhicules lourds)'!AP$43","v":0},null,{"$f":"'2. CARBURANT (Véhicules lourds)'!AR$43","v":0},null,{"$f":"'2. CARBURANT (Véhicules lourds)'!AT$43","v":0}]
[null,null,null,null,"Propane [ton CO2 éq.]",{"$f":"'2. CARBURANT (Véhicules légers)'!A119","v":0},{"$f":"'2. CARBURANT (Véhicules lourds)'!B$44","v":0},null,{"$f":"'2. CARBURANT (Véhicules lourds)'!D$44","v":0},null,{"$f":"'2. CARBURANT (Véhicules lourds)'!F$44","v":0},null,{"$f":"'2. CARBURANT (Véhicules lourds)'!H$44","v":0},null,{"$f":"'2. CARBURANT (Véhicules lourds)'!J$44","v":0},null,{"$f":"'2. CARBURANT (Véhicules lourds)'!L$44","v":0},null,{"$f":"'2. CARBURANT (Véhicules lourds)'!N$44","v":0},null,{"$f":"'2. CARBURANT (Véhicules lourds)'!P$44","v":0},null,{"$f":"'2. CARBURANT (Véhicules lourds)'!R$44","v":0},null,{"$f":"'2. CARBURANT (Véhicules lourds)'!T$44","v":0},null,{"$f":"'2. CARBURANT (Véhicules lourds)'!V$44","v":0},null,{"$f":"'2. CARBURANT (Véhicules lourds)'!X$44","v":0},null,{"$f":"'2. CARBURANT (Véhicules lourds)'!Z$44","v":0},null,{"$f":"'2. CARBURANT (Véhicules lourds)'!AB$44","v":0},null,{"$f":"'2. CARBURANT (Véhicules lourds)'!AD$44","v":0},null,{"$f":"'2. CARBURANT (Véhicules lourds)'!AF$44","v":0},null,{"$f":"'2. CARBURANT (Véhicules lourds)'!AH$44","v":0},null,{"$f":"'2. CARBURANT (Véhicules lourds)'!AJ$44","v":0},null,{"$f":"'2. CARBURANT (Véhicules lourds)'!AL$44","v":0},null,{"$f":"'2. CARBURANT (Véhicules lourds)'!AN$44","v":0},null,{"$f":"'2. CARBURANT (Véhicules lourds)'!AP$44","v":0},null,{"$f":"'2. CARBURANT (Véhicules lourds)'!AR$44","v":0},null,{"$f":"'2. CARBURANT (Véhicules lourds)'!AT$44","v":0}]
[null,null,null,"Biocarburants","Essence Ethanol [ton CO2 éq.]",{"$f":"'2. CARBURANT (Véhicules légers)'!A122","v":0},{"$f":"'2. CARBURANT (Véhicules lourds)'!B$47","v":0},null,{"$f":"'2. CARBURANT (Véhicules lourds)'!D$47","v":0},null,{"$f":"'2. CARBURANT (Véhicules lourds)'!F$47","v":0},null,{"$f":"'2. CARBURANT (Véhicules lourds)'!H$47","v":0},null,{"$f":"'2. CARBURANT (Véhicules lourds)'!J$47","v":0},null,{"$f":"'2. CARBURANT (Véhicules lourds)'!L$47","v":0},null,{"$f":"'2. CARBURANT (Véhicules lourds)'!N$47","v":0},null,{"$f":"'2. CARBURANT (Véhicules lourds)'!P$47","v":0},null,{"$f":"'2. CARBURANT (Véhicules lourds)'!R$47","v":0},null,{"$f":"'2. CARBURANT (Véhicules lourds)'!T$47","v":0},null,{"$f":"'2. CARBURANT (Véhicules lourds)'!V$47","v":0},null,{"$f":"'2. CARBURANT (Véhicules lourds)'!X$47","v":0},null,{"$f":"'2. CARBURANT (Véhicules lourds)'!Z$47","v":0},null,{"$f":"'2. CARBURANT (Véhicules lourds)'!AB$47","v":0},null,{"$f":"'2. CARBURANT (Véhicules lourds)'!AD$47","v":0},null,{"$f":"'2. CARBURANT (Véhicules lourds)'!AF$47","v":0},null,{"$f":"'2. CARBURANT (Véhicules lourds)'!AH$47","v":0},null,{"$f":"'2. CARBURANT (Véhicules lourds)'!AJ$47","v":0},null,{"$f":"'2. CARBURANT (Véhicules lourds)'!AL$47","v":0},null,{"$f":"'2. CARBURANT (Véhicules lourds)'!AN$47","v":0},null,{"$f":"'2. CARBURANT (Véhicules lourds)'!AP$47","v":0},null,{"$f":"'2. CARBURANT (Véhicules lourds)'!AR$47","v":0},null,{"$f":"'2. CARBURANT (Véhicules lourds)'!AT$47","v":0}]
[null,null,null,null,"Bio Diesel [ton CO2 éq.]",{"$f":"'2. CARBURANT (Véhicules légers)'!A123","v":0},{"$f":"'2. CARBURANT (Véhicules lourds)'!B$48","v":0},null,{"$f":"'2. CARBURANT (Véhicules lourds)'!D$48","v":0},null,{"$f":"'2. CARBURANT (Véhicules lourds)'!F$48","v":0},null,{"$f":"'2. CARBURANT (Véhicules lourds)'!H$48","v":0},null,{"$f":"'2. CARBURANT (Véhicules lourds)'!J$48","v":0},null,{"$f":"'2. CARBURANT (Véhicules lourds)'!L$48","v":0},null,{"$f":"'2. CARBURANT (Véhicules lourds)'!N$48","v":0},null,{"$f":"'2. CARBURANT (Véhicules lourds)'!P$48","v":0},null,{"$f":"'2. CARBURANT (Véhicules lourds)'!R$48","v":0},null,{"$f":"'2. CARBURANT (Véhicules lourds)'!T$48","v":0},null,{"$f":"'2. CARBURANT (Véhicules lourds)'!V$48","v":0},null,{"$f":"'2. CARBURANT (Véhicules lourds)'!X$48","v":0},null,{"$f":"'2. CARBURANT (Véhicules lourds)'!Z$48","v":0},null,{"$f":"'2. CARBURANT (Véhicules lourds)'!AB$48","v":0},null,{"$f":"'2. CARBURANT (Véhicules lourds)'!AD$48","v":0},null,{"$f":"'2. CARBURANT (Véhicules lourds)'!AF$48","v":0},null,{"$f":"'2. CARBURANT (Véhicules lourds)'!AH$48","v":0},null,{"$f":"'2. CARBURANT (Véhicules lourds)'!AJ$48","v":0},null,{"$f":"'2. CARBURANT (Véhicules lourds)'!AL$48","v":0},null,{"$f":"'2. CARBURANT (Véhicules lourds)'!AN$48","v":0},null,{"$f":"'2. CARBURANT (Véhicules lourds)'!AP$48","v":0},null,{"$f":"'2. CARBURANT (Véhicules lourds)'!AR$48","v":0},null,{"$f":"'2. CARBURANT (Véhicules lourds)'!AT$48","v":0}]
["Autres\ndéplacements",null,"Déplacements\npour lesquels\nil y a des\némissions de GES","Train [km]",null,{"$f":"'3. KM POLLUANTS'!A91","v":0}]
[null,null,null,"Avion [km]",null,{"$f":"'3. KM POLLUANTS'!A94","v":0}]
[null,null,null,"Autobus interurbain [km]",null,{"$f":"'3. KM POLLUANTS'!A89","v":0}]
[null,null,null,"Autobus urbain [km]",null,{"$f":"'3. KM POLLUANTS'!A88","v":0}]
[null,null,null,"Véhicule de location courte durée [km]",null,{"$f":"'3. KM POLLUANTS'!A92","v":0}]
[null,null,null,"Véhicule personnel [km]",null,{"$f":"'3. KM POLLUANTS'!A93","v":0}]
[null,null,null,"Métro [km]",null,{"$f":"'3. KM POLLUANTS'!A90","v":0}]
[null,null,null,"Passager en covoiturage [km]",null,{"$f":"'3. KM POLLUANTS'!A87","v":0}]
[null,null,null,"Taxi [km]",null,{"$f":"'3. KM POLLUANTS'!A86","v":0}]
[null,null,null,"TOTAL [km]",null,{"$f":"'3. KM POLLUANTS'!A148","v":0},{"$f":"'3. KM POLLUANTS'!B$33","v":0},null,{"$f":"'3. KM POLLUANTS'!D148","v":0},null,{"$f":"'3. KM POLLUANTS'!F148","v":0},null,{"$f":"'3. KM POLLUANTS'!H148","v":0},null,{"$f":"'3. KM POLLUANTS'!J148","v":0},null,{"$f":"'3. KM POLLUANTS'!L148","v":0},null,{"$f":"'3. KM POLLUANTS'!N148","v":0},null,{"$f":"'3. KM POLLUANTS'!P148","v":0},null,{"$f":"'3. KM POLLUANTS'!R148","v":0},null,{"$f":"'3. KM POLLUANTS'!T148","v":0},null,{"$f":"'3. KM POLLUANTS'!V148","v":0},null,{"$f":"'3. KM POLLUANTS'!X148","v":0},null,{"$f":"'3. KM POLLUANTS'!Z148","v":0},null,{"$f":"'3. KM POLLUANTS'!AB148","v":0},null,{"$f":"'3. KM POLLUANTS'!AD148","v":0},null,{"$f":"'3. KM POLLUANTS'!AF148","v":0},null,{"$f":"'3. KM POLLUANTS'!AH148","v":0},null,{"$f":"'3. KM POLLUANTS'!AJ148","v":0},null,{"$f":"'3. KM POLLUANTS'!AL148","v":0},null,{"$f":"'3. KM POLLUANTS'!AN148","v":0},null,{"$f":"'3. KM POLLUANTS'!AP148","v":0},null,{"$f":"'3. KM POLLUANTS'!AR148","v":0},null,{"$f":"'3. KM POLLUANTS'!AT148","v":0}]
[null,null,null,"TOTAL [GJ]",null,{"$f":"'3. KM POLLUANTS'!A150","v":0},{"$f":"'3. KM POLLUANTS'!B$35","v":0},null,{"$f":"'3. KM POLLUANTS'!D150","v":0},null,{"$f":"'3. KM POLLUANTS'!F150","v":0},null,{"$f":"'3. KM POLLUANTS'!H150","v":0},null,{"$f":"'3. KM POLLUANTS'!J150","v":0},null,{"$f":"'3. KM POLLUANTS'!L150","v":0},null,{"$f":"'3. KM POLLUANTS'!N150","v":0},null,{"$f":"'3. KM POLLUANTS'!P150","v":0},null,{"$f":"'3. KM POLLUANTS'!R150","v":0},null,{"$f":"'3. KM POLLUANTS'!T150","v":0},null,{"$f":"'3. KM POLLUANTS'!V150","v":0},null,{"$f":"'3. KM POLLUANTS'!X150","v":0},null,{"$f":"'3. KM POLLUANTS'!Z150","v":0},null,{"$f":"'3. KM POLLUANTS'!AB150","v":0},null,{"$f":"'3. KM POLLUANTS'!AD150","v":0},null,{"$f":"'3. KM POLLUANTS'!AF150","v":0},null,{"$f":"'3. KM POLLUANTS'!AH150","v":0},null,{"$f":"'3. KM POLLUANTS'!AJ150","v":0},null,{"$f":"'3. KM POLLUANTS'!AL150","v":0},null,{"$f":"'3. KM POLLUANTS'!AN150","v":0},null,{"$f":"'3. KM POLLUANTS'!AP150","v":0},null,{"$f":"'3. KM POLLUANTS'!AR150","v":0},null,{"$f":"'3. KM POLLUANTS'!AT150","v":0}]
[null,null,null,"TOTAL [ton CO2 éq.]",null,{"$f":"'3. KM POLLUANTS'!A152","v":0},{"$f":"'3. KM POLLUANTS'!B$37","v":0},null,{"$f":"'3. KM POLLUANTS'!D152","v":0},null,{"$f":"'3. KM POLLUANTS'!F152","v":0},null,{"$f":"'3. KM POLLUANTS'!H152","v":0},null,{"$f":"'3. KM POLLUANTS'!J152","v":0},null,{"$f":"'3. KM POLLUANTS'!L152","v":0},null,{"$f":"'3. KM POLLUANTS'!N152","v":0},null,{"$f":"'3. KM POLLUANTS'!P152","v":0},null,{"$f":"'3. KM POLLUANTS'!R152","v":0},null,{"$f":"'3. KM POLLUANTS'!T152","v":0},null,{"$f":"'3. KM POLLUANTS'!V152","v":0},null,{"$f":"'3. KM POLLUANTS'!X152","v":0},null,{"$f":"'3. KM POLLUANTS'!Z152","v":0},null,{"$f":"'3. KM POLLUANTS'!AB152","v":0},null,{"$f":"'3. KM POLLUANTS'!AD152","v":0},null,{"$f":"'3. KM POLLUANTS'!AF152","v":0},null,{"$f":"'3. KM POLLUANTS'!AH152","v":0},null,{"$f":"'3. KM POLLUANTS'!AJ152","v":0},null,{"$f":"'3. KM POLLUANTS'!AL152","v":0},null,{"$f":"'3. KM POLLUANTS'!AN152","v":0},null,{"$f":"'3. KM POLLUANTS'!AP152","v":0},null,{"$f":"'3. KM POLLUANTS'!AR152","v":0},null,{"$f":"'3. KM POLLUANTS'!AT152","v":0}]
[null,null,"Déplacements\nZÉRO émissions\nde GES","Bicyclette [km]",null,{"$f":"'4. KM ZÉRO ÉMISSION'!A74","v":0},{"$f":"'4. KM ZÉRO ÉMISSION'!B$12","v":0},null,{"$f":"'4. KM ZÉRO ÉMISSION'!D$12","v":0},null,{"$f":"'4. KM ZÉRO ÉMISSION'!F$12","v":0},null,{"$f":"'4. KM ZÉRO ÉMISSION'!H$12","v":0},null,{"$f":"'4. KM ZÉRO ÉMISSION'!J$12","v":0},null,{"$f":"'4. KM ZÉRO ÉMISSION'!L$12","v":0},null,{"$f":"'4. KM ZÉRO ÉMISSION'!N$12","v":0},null,{"$f":"'4. KM ZÉRO ÉMISSION'!P$12","v":0},null,{"$f":"'4. KM ZÉRO ÉMISSION'!R$12","v":0},null,{"$f":"'4. KM ZÉRO ÉMISSION'!T$12","v":0},null,{"$f":"'4. KM ZÉRO ÉMISSION'!V$12","v":0},null,{"$f":"'4. KM ZÉRO ÉMISSION'!X$12","v":0},null,{"$f":"'4. KM ZÉRO ÉMISSION'!Z$12","v":0},null,{"$f":"'4. KM ZÉRO ÉMISSION'!AB$12","v":0},null,{"$f":"'4. KM ZÉRO ÉMISSION'!AD$12","v":0},null,{"$f":"'4. KM ZÉRO ÉMISSION'!AF$12","v":0},null,{"$f":"'4. KM ZÉRO ÉMISSION'!AH$12","v":0},null,{"$f":"'4. KM ZÉRO ÉMISSION'!AJ$12","v":0},null,{"$f":"'4. KM ZÉRO ÉMISSION'!AL$12","v":0},null,{"$f":"'4. KM ZÉRO ÉMISSION'!AN$12","v":0},null,{"$f":"'4. KM ZÉRO ÉMISSION'!AP$12","v":0},null,{"$f":"'4. KM ZÉRO ÉMISSION'!AR$12","v":0},null,{"$f":"'4. KM ZÉRO ÉMISSION'!AT$12","v":0}]
[null,null,null,"À pied [km]",null,{"$f":"'4. KM ZÉRO ÉMISSION'!A73","v":0},{"$f":"'4. KM ZÉRO ÉMISSION'!B$11","v":0},null,{"$f":"'4. KM ZÉRO ÉMISSION'!D$11","v":0},null,{"$f":"'4. KM ZÉRO ÉMISSION'!F$11","v":0},null,{"$f":"'4. KM ZÉRO ÉMISSION'!H$11","v":0},null,{"$f":"'4. KM ZÉRO ÉMISSION'!J$11","v":0},null,{"$f":"'4. KM ZÉRO ÉMISSION'!L$11","v":0},null,{"$f":"'4. KM ZÉRO ÉMISSION'!N$11","v":0},null,{"$f":"'4. KM ZÉRO ÉMISSION'!P$11","v":0},null,{"$f":"'4. KM ZÉRO ÉMISSION'!R$11","v":0},null,{"$f":"'4. KM ZÉRO ÉMISSION'!T$11","v":0},null,{"$f":"'4. KM ZÉRO ÉMISSION'!V$11","v":0},null,{"$f":"'4. KM ZÉRO ÉMISSION'!X$11","v":0},null,{"$f":"'4. KM ZÉRO ÉMISSION'!Z$11","v":0},null,{"$f":"'4. KM ZÉRO ÉMISSION'!AB$11","v":0},null,{"$f":"'4. KM ZÉRO ÉMISSION'!AD$11","v":0},null,{"$f":"'4. KM ZÉRO ÉMISSION'!AF$11","v":0},null,{"$f":"'4. KM ZÉRO ÉMISSION'!AH$11","v":0},null,{"$f":"'4. KM ZÉRO ÉMISSION'!AJ$11","v":0},null,{"$f":"'4. KM ZÉRO ÉMISSION'!AL$11","v":0},null,{"$f":"'4. KM ZÉRO ÉMISSION'!AN$11","v":0},null,{"$f":"'4. KM ZÉRO ÉMISSION'!AP$11","v":0},null,{"$f":"'4. KM ZÉRO ÉMISSION'!AR$11","v":0},null,{"$f":"'4. KM ZÉRO ÉMISSION'!AT$11","v":0}]
[null,null,null,"Autres [km]",null,{"$f":"'4. KM ZÉRO ÉMISSION'!A75","v":0},{"$f":"'4. KM ZÉRO ÉMISSION'!B$13","v":0},null,{"$f":"'4. KM ZÉRO ÉMISSION'!D$13","v":0},null,{"$f":"'4. KM ZÉRO ÉMISSION'!F$13","v":0},null,{"$f":"'4. KM ZÉRO ÉMISSION'!H$13","v":0},null,{"$f":"'4. KM ZÉRO ÉMISSION'!J$13","v":0},null,{"$f":"'4. KM ZÉRO ÉMISSION'!L$13","v":0},null,{"$f":"'4. KM ZÉRO ÉMISSION'!N$13","v":0},null,{"$f":"'4. KM ZÉRO ÉMISSION'!P$13","v":0},null,{"$f":"'4. KM ZÉRO ÉMISSION'!R$13","v":0},null,{"$f":"'4. KM ZÉRO ÉMISSION'!T$13","v":0},null,{"$f":"'4. KM ZÉRO ÉMISSION'!V$13","v":0},null,{"$f":"'4. KM ZÉRO ÉMISSION'!X$13","v":0},null,{"$f":"'4. KM ZÉRO ÉMISSION'!Z$13","v":0},null,{"$f":"'4. KM ZÉRO ÉMISSION'!AB$13","v":0},null,{"$f":"'4. KM ZÉRO ÉMISSION'!AD$13","v":0},null,{"$f":"'4. KM ZÉRO ÉMISSION'!AF$13","v":0},null,{"$f":"'4. KM ZÉRO ÉMISSION'!AH$13","v":0},null,{"$f":"'4. KM ZÉRO ÉMISSION'!AJ$13","v":0},null,{"$f":"'4. KM ZÉRO ÉMISSION'!AL$13","v":0},null,{"$f":"'4. KM ZÉRO ÉMISSION'!AN$13","v":0},null,{"$f":"'4. KM ZÉRO ÉMISSION'!AP$13","v":0},null,{"$f":"'4. KM ZÉRO ÉMISSION'!AR$13","v":0},null,{"$f":"'4. KM ZÉRO ÉMISSION'!AT$13","v":0}]
[null,null,null,"TOTAL [km]",null,{"$f":"'4. KM ZÉRO ÉMISSION'!A76","v":0},{"$f":"'4. KM ZÉRO ÉMISSION'!B$14","v":0},null,{"$f":"'4. KM ZÉRO ÉMISSION'!D$14","v":0},null,{"$f":"'4. KM ZÉRO ÉMISSION'!F$14","v":0},null,{"$f":"'4. KM ZÉRO ÉMISSION'!H$14","v":0},null,{"$f":"'4. KM ZÉRO ÉMISSION'!J$14","v":0},null,{"$f":"'4. KM ZÉRO ÉMISSION'!L$14","v":0},null,{"$f":"'4. KM ZÉRO ÉMISSION'!N$14","v":0},null,{"$f":"'4. KM ZÉRO ÉMISSION'!P$14","v":0},null,{"$f":"'4. KM ZÉRO ÉMISSION'!R$14","v":0},null,{"$f":"'4. KM ZÉRO ÉMISSION'!T$14","v":0},null,{"$f":"'4. KM ZÉRO ÉMISSION'!V$14","v":0},null,{"$f":"'4. KM ZÉRO ÉMISSION'!X$14","v":0},null,{"$f":"'4. KM ZÉRO ÉMISSION'!Z$14","v":0},null,{"$f":"'4. KM ZÉRO ÉMISSION'!AB$14","v":0},null,{"$f":"'4. KM ZÉRO ÉMISSION'!AD$14","v":0},null,{"$f":"'4. KM ZÉRO ÉMISSION'!AF$14","v":0},null,{"$f":"'4. KM ZÉRO ÉMISSION'!AH$14","v":0},null,{"$f":"'4. KM ZÉRO ÉMISSION'!AJ$14","v":0},null,{"$f":"'4. KM ZÉRO ÉMISSION'!AL$14","v":0},null,{"$f":"'4. KM ZÉRO ÉMISSION'!AN$14","v":0},null,{"$f":"'4. KM ZÉRO ÉMISSION'!AP$14","v":0},null,{"$f":"'4. KM ZÉRO ÉMISSION'!AR$14","v":0},null,{"$f":"'4. KM ZÉRO ÉMISSION'!AT$14","v":0}]
[null,null,"Déplacements ÉVITÉS","Téléconférence [km]",null,{"$f":"'4. KM ZÉRO ÉMISSION'!A79","v":0},{"$f":"'4. KM ZÉRO ÉMISSION'!B$17","v":0},null,{"$f":"'4. KM ZÉRO ÉMISSION'!D$17","v":0},null,{"$f":"'4. KM ZÉRO ÉMISSION'!F$17","v":0},null,{"$f":"'4. KM ZÉRO ÉMISSION'!H$17","v":0},null,{"$f":"'4. KM ZÉRO ÉMISSION'!J$17","v":0},null,{"$f":"'4. KM ZÉRO ÉMISSION'!L$17","v":0},null,{"$f":"'4. KM ZÉRO ÉMISSION'!N$17","v":0},null,{"$f":"'4. KM ZÉRO ÉMISSION'!P$17","v":0},null,{"$f":"'4. KM ZÉRO ÉMISSION'!R$17","v":0},null,{"$f":"'4. KM ZÉRO ÉMISSION'!T$17","v":0},null,{"$f":"'4. KM ZÉRO ÉMISSION'!V$17","v":0},null,{"$f":"'4. KM ZÉRO ÉMISSION'!X$17","v":0},null,{"$f":"'4. KM ZÉRO ÉMISSION'!Z$17","v":0},null,{"$f":"'4. KM ZÉRO ÉMISSION'!AB$17","v":0},null,{"$f":"'4. KM ZÉRO ÉMISSION'!AD$17","v":0},null,{"$f":"'4. KM ZÉRO ÉMISSION'!AF$17","v":0},null,{"$f":"'4. KM ZÉRO ÉMISSION'!AH$17","v":0},null,{"$f":"'4. KM ZÉRO ÉMISSION'!AJ$17","v":0},null,{"$f":"'4. KM ZÉRO ÉMISSION'!AL$17","v":0},null,{"$f":"'4. KM ZÉRO ÉMISSION'!AN$17","v":0},null,{"$f":"'4. KM ZÉRO ÉMISSION'!AP$17","v":0},null,{"$f":"'4. KM ZÉRO ÉMISSION'!AR$17","v":0},null,{"$f":"'4. KM ZÉRO ÉMISSION'!AT$17","v":0}]
[null,null,null,"Autres mesures [km]",null,{"$f":"'4. KM ZÉRO ÉMISSION'!A80","v":0},{"$f":"'4. KM ZÉRO ÉMISSION'!B$18","v":0},null,{"$f":"'4. KM ZÉRO ÉMISSION'!D$18","v":0},null,{"$f":"'4. KM ZÉRO ÉMISSION'!F$18","v":0},null,{"$f":"'4. KM ZÉRO ÉMISSION'!H$18","v":0},null,{"$f":"'4. KM ZÉRO ÉMISSION'!J$18","v":0},null,{"$f":"'4. KM ZÉRO ÉMISSION'!L$18","v":0},null,{"$f":"'4. KM ZÉRO ÉMISSION'!N$18","v":0},null,{"$f":"'4. KM ZÉRO ÉMISSION'!P$18","v":0},null,{"$f":"'4. KM ZÉRO ÉMISSION'!R$18","v":0},null,{"$f":"'4. KM ZÉRO ÉMISSION'!T$18","v":0},null,{"$f":"'4. KM ZÉRO ÉMISSION'!V$18","v":0},null,{"$f":"'4. KM ZÉRO ÉMISSION'!X$18","v":0},null,{"$f":"'4. KM ZÉRO ÉMISSION'!Z$18","v":0},null,{"$f":"'4. KM ZÉRO ÉMISSION'!AB$18","v":0},null,{"$f":"'4. KM ZÉRO ÉMISSION'!AD$18","v":0},null,{"$f":"'4. KM ZÉRO ÉMISSION'!AF$18","v":0},null,{"$f":"'4. KM ZÉRO ÉMISSION'!AH$18","v":0},null,{"$f":"'4. KM ZÉRO ÉMISSION'!AJ$18","v":0},null,{"$f":"'4. KM ZÉRO ÉMISSION'!AL$18","v":0},null,{"$f":"'4. KM ZÉRO ÉMISSION'!AN$18","v":0},null,{"$f":"'4. KM ZÉRO ÉMISSION'!AP$18","v":0},null,{"$f":"'4. KM ZÉRO ÉMISSION'!AR$18","v":0},null,{"$f":"'4. KM ZÉRO ÉMISSION'!AT$18","v":0}]
[null,null,null,"TOTAL [km]",null,{"$f":"'4. KM ZÉRO ÉMISSION'!A81","v":0},{"$f":"'4. KM ZÉRO ÉMISSION'!B$19","v":0},null,{"$f":"'4. KM ZÉRO ÉMISSION'!D$19","v":0},null,{"$f":"'4. KM ZÉRO ÉMISSION'!F$19","v":0},null,{"$f":"'4. KM ZÉRO ÉMISSION'!H$19","v":0},null,{"$f":"'4. KM ZÉRO ÉMISSION'!J$19","v":0},null,{"$f":"'4. KM ZÉRO ÉMISSION'!L$19","v":0},null,{"$f":"'4. KM ZÉRO ÉMISSION'!N$19","v":0},null,{"$f":"'4. KM ZÉRO ÉMISSION'!P$19","v":0},null,{"$f":"'4. KM ZÉRO ÉMISSION'!R$19","v":0},null,{"$f":"'4. KM ZÉRO ÉMISSION'!T$19","v":0},null,{"$f":"'4. KM ZÉRO ÉMISSION'!V$19","v":0},null,{"$f":"'4. KM ZÉRO ÉMISSION'!X$19","v":0},null,{"$f":"'4. KM ZÉRO ÉMISSION'!Z$19","v":0},null,{"$f":"'4. KM ZÉRO ÉMISSION'!AB$19","v":0},null,{"$f":"'4. KM ZÉRO ÉMISSION'!AD$19","v":0},null,{"$f":"'4. KM ZÉRO ÉMISSION'!AF$19","v":0},null,{"$f":"'4. KM ZÉRO ÉMISSION'!AH$19","v":0},null,{"$f":"'4. KM ZÉRO ÉMISSION'!AJ$19","v":0},null,{"$f":"'4. KM ZÉRO ÉMISSION'!AL$19","v":0},null,{"$f":"'4. KM ZÉRO ÉMISSION'!AN$19","v":0},null,{"$f":"'4. KM ZÉRO ÉMISSION'!AP$19","v":0},null,{"$f":"'4. KM ZÉRO ÉMISSION'!AR$19","v":0},null,{"$f":"'4. KM ZÉRO ÉMISSION'!AT$19","v":0}]
[]
[]
[]
[null,null,null,null,null,0]
[null,null,null,null,null,0]
[null,null,null,null,null,0]
[null,null,null,null,null,0]
[null,null,null,null,null,0]
[null,null,null,null,null,0]
[null,null,null,null,null,0]
[null,null,null,null,null,0]
[null,null,null,null,null,0]
[null,null,null,null,null,0]
[null,null,null,null,null,0]
[null,null,null,null,null,0]
[null,null,null,null,null,0]

{"sheet":"RÉSUMÉ","index":8,"n_rows":54,"n_cols":46,"rows_kept":54,"cut":false,"hidden":false,"merged":[]}
[]
[]
[]
[]
[null,null,null,null,null,"ÉVOLUTION DE LA CONSOMMATION ÉNERGÉTIQUE POUR LE TRANSPORT",null,null,null,null,null,null,null,null,null,null,null,null,null,null,null,null,null,null,null,null,null,null,"ÉVOLUTION DE LA CONSOMMATION ÉNERGÉTIQUE POUR LE TRANSPORT"]
[]
[null,"2002-2003",null,"2003-2004",null,"2004-2005",null,"2005-2006",null,"2006-2007",null,"2007-2008",null,"2008-2009",null,"2009-2010",null,"2010-2011",null,"2011-2012",null,"2012-2013",null,"2013-2014",null,"2014-2015",null,"2015-2016",null,"2016-2017",null,"2017-2018",null,"2018-2019",null,"2019-2020",null,"2020-2021",null,"2021-2022",null,"2022-2023",null,"2023-2024",null,"2024-2025"]
["Consommation énergétique"]
["véhicules légers:   Consommation [GJ]",{"$f":"GJ_vehic_instit_02_03","v":0},null,{"$f":"GJ_vehic_instit_03_04","v":0},null,{"$f":"GJ_vehic_instit_04_05","v":0},null,{"$f":"GJ_vehic_instit_05_06","v":0},null,{"$f":"GJ_vehic_instit_06_07","v":0},null,{"$f":"GJ_vehic_instit_07_08","v":0},null,{"$f":"GJ_vehic_instit_08_09","v":0},null,{"$f":"IFERROR(GJ_vehic_instit_09_10,0)","v":0},null,{"$f":"IFERROR(GJ_vehic_instit_10_11,0)","v":0},null,{"$f":"IFERROR(GJ_vehic_instit_11_12,0)","v":0},null,{"$f":"IFERROR(GJ_vehic_instit_12_13,0)","v":0},null,{"$f":"IFERROR(GJ_vehic_instit_13_14,0)","v":0},null,{"$f":"IFERROR(GJ_vehic_instit_14_15,0)","v":0},null,{"$f":"IFERROR(GJ_vehic_instit_15_16,0)","v":0},null,{"$f":"IFERROR(GJ_vehic_instit_16_17,0)","v":0},null,{"$f":"IFERROR(GJ_vehic_instit_17_18,0)","v":0},null,{"$f":"IFERROR(GJ_vehic_instit_18_19,0)","v":0},null,{"$f":"IFERROR(GJ_vehic_instit_19_20,0)","v":0},null,{"$f":"IFERROR(GJ_vehic_instit_20_21,0)","v":0},null,{"$f":"IFERROR(GJ_vehic_instit_21_22,0)","v":0},null,{"$f":"IFERROR(GJ_vehic_instit_22_23,0)","v":0},null,{"$f":"IFERROR(GJ_vehic_instit_23_24,0)","v":0},null,{"$f":"IFERROR(GJ_vehic_instit_24_25,0)","v":0}]
["                              Consommation [L-éq. essence]",{"$f":"B9/L_ess_to_GJ","v":0},null,{"$f":"D9/L_ess_to_GJ","v":0},null,{"$f":"F9/L_ess_to_GJ","v":0},null,{"$f":"H9/L_ess_to_GJ","v":0},null,{"$f":"J9/L_ess_to_GJ","v":0},null,{"$f":"L9/L_ess_to_GJ","v":0},null,{"$f":"N9/L_ess_to_GJ","v":0},null,{"$f":"IFERROR(P9/L_ess_to_GJ,0)","v":0},null,{"$f":"IFERROR(R9/L_ess_to_GJ,0)","v":0},null,{"$f":"IFERROR(T9/L_ess_to_GJ,0)","v":0},null,{"$f":"IFERROR(V9/L_ess_to_GJ,0)","v":0},null,{"$f":"IFERROR(X9/L_ess_to_GJ,0)","v":0},null,{"$f":"IFERROR(Z9/L_ess_to_GJ,0)","v":0},null,{"$f":"IFERROR(AB9/L_ess_to_GJ,0)","v":0},null,{"$f":"AD9/L_ess_to_GJ","v":0},null,{"$f":"AF9/L_ess_to_GJ","v":0},null,{"$f":"AH9/L_ess_to_GJ","v":0},null,{"$f":"AJ9/L_ess_to_GJ","v":0},null,{"$f":"AL9/L_ess_to_GJ","v":0},null,{"$f":"AN9/L_ess_to_GJ","v":0},null,{"$f":"AP9/L_ess_to_GJ","v":0},null,{"$f":"AR9/L_ess_to_GJ","v":0},null,{"$f":"AT9/L_ess_to_GJ","v":0}]
["                              Variation/année de référence [%]",null,null,null,null,null,null,null,null,null,null,null,null,null,null,null,null,{"$f":"IF((R10=0),\"\",(R10/$P10-1))","v":""},null,{"$f":"IF((T10=0),\"\",(T10/$P10-1))","v":""},null,{"$f":"IF((V10=0),\"\",(V10/$P10-1))","v":""},null,{"$f":"IF((X10=0),\"\",(X10/$P10-1))","v":""},null,{"$f":"IF((Z10=0),\"\",(Z10/$P10-1))","v":""},null,{"$f":"IF((AB10=0),\"\",(AB10/$P10-1))","v":""},null,{"$f":"IF(ISERROR(AD10/$P10-1),0,(AD10/$P10-1))","v":0},null,{"$f":"IF(ISERROR(AF10/$P10-1),0,(AF10/$P10-1))","v":0},null,{"$f":"IF(ISERROR(AH10/$P10-1),0,(AH10/$P10-1))","v":0},null,{"$f":"IF(ISERROR(AJ10/$P10-1),0,(AJ10/$P10-1))","v":0},null,{"$f":"IF(ISERROR(AL10/$P10-1),0,(AL10/$P10-1))","v":0},null,{"$f":"IF(ISERROR(AN10/$P10-1),0,(AN10/$P10-1))","v":0},null,{"$f":"IF(ISERROR(AP10/$P10-1),0,(AP10/$P10-1))","v":0},null,{"$f":"IF(ISERROR(AR10/$P10-1),0,(AR10/$P10-1))","v":0},null,{"$f":"IF(ISERROR(AT10/$P10-1),0,(AT10/$P10-1))","v":0}]
["véhicules lourds:  Consommation [GJ]",{"$f":"GJ_vehic_instit_02_03L","v":0},null,{"$f":"GJ_vehic_instit_03_04L","v":0},null,{"$f":"GJ_vehic_instit_04_05L","v":0},null,{"$f":"GJ_vehic_instit_05_06L","v":0},null,{"$f":"GJ_vehic_instit_06_07L","v":0},null,{"$f":"GJ_vehic_instit_07_08L","v":0},null,{"$f":"GJ_vehic_instit_08_09L","v":0},null,{"$f":"IFERROR(GJ_vehic_instit_09_10L,0)","v":0},null,{"$f":"IFERROR(GJ_vehic_instit_10_11L,0)","v":0},null,{"$f":"IFERROR(GJ_vehic_instit_11_12L,0)","v":0},null,{"$f":"IFERROR(GJ_vehic_instit_12_13L,0)","v":0},null,{"$f":"IFERROR(GJ_vehic_instit_13_14L,0)","v":0},null,{"$f":"IFERROR(GJ_vehic_instit_14_15L,0)","v":0},null,{"$f":"IFERROR(GJ_vehic_instit_15_16L,0)","v":0},null,{"$f":"IFERROR(GJ_vehic_instit_16_17L,0)","v":0},null,{"$f":"IFERROR(GJ_vehic_instit_17_18L,0)","v":0},null,{"$f":"IFERROR(GJ_vehic_instit_18_19L,0)","v":0},null,{"$f":"IFERROR(GJ_vehic_instit_19_20L,0)","v":0},null,{"$f":"IFERROR(GJ_vehic_instit_20_21L,0)","v":0},null,{"$f":"IFERROR(GJ_vehic_instit_21_22L,0)","v":0},null,{"$f":"IFERROR(GJ_vehic_instit_22_23L,0)","v":0},null,{"$f":"IFERROR(GJ_vehic_instit_23_24L,0)","v":0},null,{"$f":"IFERROR(GJ_vehic_instit_24_25L,0)","v":0}]
["                             Consommation [L-éq. diesel]",{"$f":"B12/L_ess_to_GJ","v":0},null,{"$f":"D12/L_ess_to_GJ","v":0},null,{"$f":"F12/L_ess_to_GJ","v":0},null,{"$f":"H12/L_ess_to_GJ","v":0},null,{"$f":"J12/L_ess_to_GJ","v":0},null,{"$f":"L12/L_ess_to_GJ","v":0},null,{"$f":"N12/L_ess_to_GJ","v":0},null,{"$f":"IFERROR(P12/L_dies_to_GJ_Lourd,0)","v":0},null,{"$f":"IFERROR(R12/L_dies_to_GJ_Lourd,0)","v":0},null,{"$f":"IFERROR(T12/L_dies_to_GJ_Lourd, 0)","v":0},null,{"$f":"IFERROR(V12/L_dies_to_GJ_Lourd,0)","v":0},null,{"$f":"IFERROR(X12/L_dies_to_GJ_Lourd,0)","v":0},null,{"$f":"IFERROR(Z12/L_dies_to_GJ_Lourd,0)","v":0},null,{"$f":"IFERROR(AB12/L_dies_to_GJ_Lourd,0)","v":0},null,{"$f":"IFERROR(AD12/L_dies_to_GJ_Lourd,0)","v":0},null,{"$f":"IFERROR(AF12/L_dies_to_GJ_Lourd,0)","v":0},null,{"$f":"IFERROR(AH12/L_dies_to_GJ_Lourd,0)","v":0},null,{"$f":"IFERROR(AJ12/L_dies_to_GJ_Lourd,0)","v":0},null,{"$f":"IFERROR(AL12/L_dies_to_GJ_Lourd,0)","v":0},null,{"$f":"IFERROR(AN12/L_dies_to_GJ_Lourd,0)","v":0},null,{"$f":"IFERROR(AP12/L_dies_to_GJ_Lourd,0)","v":0},null,{"$f":"IFERROR(AR12/L_dies_to_GJ_Lourd,0)","v":0},null,{"$f":"IFERROR(AT12/L_dies_to_GJ_Lourd,0)","v":0}]
["                             Variation/année de référence [%]",null,null,null,null,null,null,null,null,null,null,null,null,null,null,null,null,{"$f":"IF((R13=0),\"\",(R13/$P13-1))","v":""},null,{"$f":"IF((T13=0),\"\",(T13/$P13-1))","v":""},null,{"$f":"IF((V13=0),\"\",(V13/$P13-1))","v":""},null,{"$f":"IF((X13=0),\"\",(X13/$P13-1))","v":""},null,{"$f":"IF((Z13=0),\"\",(Z13/$P13-1))","v":""},null,{"$f":"IF((AB13=0),\"\",(AB13/$P13-1))","v":""},null,{"$f":"IF(ISERROR(AD13/$P13-1),0,(AD13/$P13-1))","v":0},null,{"$f":"IF(ISERROR(AF13/$P13-1),0,(AF13/$P13-1))","v":0},null,{"$f":"IF(ISERROR(AH13/$P13-1),0,(AH13/$P13-1))","v":0},null,{"$f":"IF(ISERROR(AJ13/$P13-1),0,(AJ13/$P13-1))","v":0},null,{"$f":"IF(ISERROR(AL13/$P13-1),0,(AL13/$P13-1))","v":0},null,{"$f":"IF(ISERROR(AN13/$P13-1),0,(AN13/$P13-1))","v":0},null,{"$f":"IF(ISERROR(AP13/$P13-1),0,(AP13/$P13-1))","v":0},null,{"$f":"IF(ISERROR(AR13/$P13-1),0,(AR13/$P13-1))","v":0},null,{"$f":"IF(ISERROR(AT13/$P13-1),0,(AT13/$P13-1))","v":0}]
["autres:                   Consommation [GJ]",{"$f":"GJ_autre_02_03","v":0},null,{"$f":"GJ_autre_03_04","v":0},null,{"$f":"GJ_autre_04_05","v":0},null,{"$f":"GJ_autre_05_06","v":0},null,{"$f":"GJ_autre_06_07","v":0},null,{"$f":"GJ_autre_07_08","v":0},null,{"$f":"GJ_autre_08_09","v":0},null,{"$f":"IFERROR(GJ_autre_09_10,0)","v":0},null,{"$f":"IFERROR(GJ_autre_10_11,0)","v":0},null,{"$f":"GJ_autre_11_12","v":0},null,{"$f":"IFERROR(GJ_autre_12_13,0)","v":0},null,{"$f":"IFERROR(GJ_autre_13_14,0)","v":0},null,{"$f":"IFERROR(GJ_autre_14_15,0)","v":0},null,{"$f":"IFERROR(GJ_autre_15_16,0)","v":0},null,{"$f":"GJ_autre_16_17","v":0},null,{"$f":"GJ_autre_17_18","v":0},null,{"$f":"GJ_autre_18_19","v":0},null,{"$f":"GJ_autre_19_20","v":0},null,{"$f":"GJ_autre_20_21","v":0},null,{"$f":"GJ_autre_21_22","v":0},null,{"$f":"GJ_autre_22_23","v":0},null,{"$f":"GJ_autre_23_24","v":0},null,{"$f":"GJ_autre_24_25","v":0}]
["                                Consommation [L-éq. essence]",{"$f":"B15/L_ess_to_GJ","v":0},null,{"$f":"D15/L_ess_to_GJ","v":0},null,{"$f":"F15/L_ess_to_GJ","v":0},null,{"$f":"H15/L_ess_to_GJ","v":0},null,{"$f":"J15/L_ess_to_GJ","v":0},null,{"$f":"L15/L_ess_to_GJ","v":0},null,{"$f":"N15/L_ess_to_GJ","v":0},null,{"$f":"IFERROR(P15/L_ess_to_GJ,0)","v":0},null,{"$f":"IFERROR(R15/L_ess_to_GJ,0)","v":0},null,{"$f":"T15/L_ess_to_GJ","v":0},null,{"$f":"IFERROR(V15/L_ess_to_GJ,0)","v":0},null,{"$f":"IFERROR(X15/L_ess_to_GJ,0)","v":0},null,{"$f":"IFERROR(Z15/L_ess_to_GJ,0)","v":0},null,{"$f":"IFERROR(AB15/L_ess_to_GJ,0)","v":0},null,{"$f":"AD15/L_ess_to_GJ","v":0},null,{"$f":"AF15/L_ess_to_GJ","v":0},null,{"$f":"AH15/L_ess_to_GJ","v":0},null,{"$f":"AJ15/L_ess_to_GJ","v":0},null,{"$f":"AL15/L_ess_to_GJ","v":0},null,{"$f":"AN15/L_ess_to_GJ","v":0},null,{"$f":"AP15/L_ess_to_GJ","v":0},null,{"$f":"AR15/L_ess_to_GJ","v":0},null,{"$f":"AT15/L_ess_to_GJ","v":0}]
["Consommation totale [GJ]",null,null,null,null,null,null,null,null,null,null,null,null,null,null,{"$f":"IFERROR(P9+P12+P15,0)","v":0},null,{"$f":"IFERROR(R9+R12+R15,0)","v":0},null,{"$f":"IFERROR(T9+T12+T15,0)","v":0},null,{"$f":"IFERROR(V9+V12+V15,0)","v":0},null,{"$f":"IFERROR(X9+X12+X15,0)","v":0},null,{"$f":"IFERROR(Z9+Z12+Z15,0)","v":0},null,{"$f":"AB9+AB12+AB15","v":0},null,{"$f":"IFERROR(AD9+AD12+AD15,0)","v":0},null,{"$f":"IFERROR(AF9+AF12+AF15,0)","v":0},null,{"$f":"AH9+AH12+AH15","v":0},null,{"$f":"AJ9+AJ12+AJ15","v":0},null,{"$f":"AL9+AL12+AL15","v":0},null,{"$f":"AN9+AN12+AN15","v":0},null,{"$f":"AP9+AP12+AP15","v":0},null,{"$f":"AR9+AR12+AR15","v":0},null,{"$f":"AT9+AT12+AT15","v":0}]
["Consommation totale [L-éq. essence]",null,null,null,null,null,null,null,null,null,null,null,null,null,null,{"$f":"IFERROR(P10+P13+P16,0)","v":0},null,{"$f":"IFERROR(R10+R13+R16,0)","v":0},null,{"$f":"IFERROR(T10+T13+T16,0)","v":0},null,{"$f":"IFERROR(V10+V13+V16,0)","v":0},null,{"$f":"IFERROR(X10+X13+X16,0)","v":0},null,{"$f":"IFERROR(Z10+Z13+Z16,0)","v":0},null,{"$f":"IFERROR(AB10+AB13+AB16,0)","v":0},null,{"$f":"IFERROR(AD10+AD13+AD16,0)","v":0},null,{"$f":"IFERROR(AF10+AF13+AF16,0)","v":0},null,{"$f":"AH10+AH13+AH16","v":0},null,{"$f":"AJ10+AJ13+AJ16","v":0},null,{"$f":"AL10+AL13+AL16","v":0},null,{"$f":"AN10+AN13+AN16","v":0},null,{"$f":"AP10+AP13+AP16","v":0},null,{"$f":"AR10+AR13+AR16","v":0},null,{"$f":"AT10+AT13+AT16","v":0}]
[]
["Dépenses énergétiques des véhicules de l'organisation"]
["véhicules légers:  Dépenses [$]",{"$f":"CAD_vehic_instit_02_03","v":0},null,{"$f":"CAD_vehic_instit_03_04","v":0},null,{"$f":"CAD_vehic_instit_04_05","v":0},null,{"$f":"CAD_vehic_instit_05_06","v":0},null,{"$f":"CAD_vehic_instit_06_07","v":0},null,{"$f":"CAD_vehic_instit_07_08","v":0},null,{"$f":"CAD_vehic_instit_08_09","v":0},null,{"$f":"CAD_vehic_instit_09_10","v":0},null,{"$f":"CAD_vehic_instit_10_11","v":0},null,{"$f":"CAD_vehic_instit_11_12","v":0},null,{"$f":"CAD_vehic_instit_12_13","v":0},null,{"$f":"CAD_vehic_instit_13_14","v":0},null,{"$f":"CAD_vehic_instit_14_15","v":0},null,{"$f":"CAD_vehic_instit_15_16","v":0},null,{"$f":"CAD_vehic_instit_16_17","v":0},null,{"$f":"CAD_vehic_instit_17_18","v":0},null,{"$f":"CAD_vehic_instit_18_19","v":0},null,{"$f":"CAD_vehic_instit_19_20","v":0},null,{"$f":"CAD_vehic_instit_20_21","v":0},null,{"$f":"CAD_vehic_instit_21_22","v":0},null,{"$f":"CAD_vehic_instit_22_23","v":0},null,{"$f":"CAD_vehic_instit_23_24","v":0},null,{"$f":"CAD_vehic_instit_24_25","v":0}]
["                             Variation/année de référence [%]",null,null,null,null,null,null,null,null,null,null,null,null,null,null,null,null,{"$f":"IF((R21=0),\"\",(R21/$P21-1))","v":""},null,{"$f":"IF((T21=0),\"\",(T21/$P21-1))","v":""},null,{"$f":"IF((V21=0),\"\",(V21/$P21-1))","v":""},null,{"$f":"IF((X21=0),\"\",(X21/$P21-1))","v":""},null,{"$f":"IF((Z21=0),\"\",(Z21/$P21-1))","v":""},null,{"$f":"IF((AB21=0),\"\",(AB21/$P21-1))","v":""},null,{"$f":"IF(ISERROR(AD21/$P21-1),0,(AD21/$P21-1))","v":0},null,{"$f":"IF(ISERROR(AF21/$P21-1),0,(AF21/$P21-1))","v":0},null,{"$f":"IF(ISERROR(AH21/$P21-1),0,(AH21/$P21-1))","v":0},null,{"$f":"IF(ISERROR(AJ21/$P21-1),0,(AJ21/$P21-1))","v":0},null,{"$f":"IF(ISERROR(AL21/$P21-1),0,(AL21/$P21-1))","v":0},null,{"$f":"IF(ISERROR(AN21/$P21-1),0,(AN21/$P21-1))","v":0},null,{"$f":"IF(ISERROR(AP21/$P21-1),0,(AP21/$P21-1))","v":0},null,{"$f":"IF(ISERROR(AR21/$P21-1),0,(AR21/$P21-1))","v":0},null,{"$f":"IF(ISERROR(AT21/$P21-1),0,(AT21/$P21-1))","v":0}]
["véhicules lourds:  Dépenses [$]",{"$f":"CAD_vehic_instit_02_03L","v":0},null,{"$f":"CAD_vehic_instit_03_04L","v":0},null,{"$f":"CAD_vehic_instit_04_05L","v":0},null,{"$f":"CAD_vehic_instit_05_06L","v":0},null,{"$f":"CAD_vehic_instit_06_07L","v":0},null,{"$f":"CAD_vehic_instit_07_08L","v":0},null,{"$f":"CAD_vehic_instit_08_09L","v":0},null,{"$f":"CAD_vehic_instit_09_10L","v":0},null,{"$f":"CAD_vehic_instit_10_11L","v":0},null,{"$f":"CAD_vehic_instit_11_12L","v":0},null,{"$f":"CAD_vehic_instit_12_13L","v":0},null,{"$f":"CAD_vehic_instit_13_14L","v":0},null,{"$f":"CAD_vehic_instit_14_15L","v":0},null,{"$f":"CAD_vehic_instit_15_16L","v":0},null,{"$f":"CAD_vehic_instit_16_17L","v":0},null,{"$f":"CAD_vehic_instit_17_18L","v":0},null,{"$f":"CAD_vehic_instit_18_19L","v":0},null,{"$f":"CAD_vehic_instit_19_20L","v":0},null,{"$f":"CAD_vehic_instit_20_21L","v":0},null,{"$f":"CAD_vehic_instit_21_22L","v":0},null,{"$f":"CAD_vehic_instit_22_23L","v":0},null,{"$f":"CAD_vehic_instit_23_24L","v":0},null,{"$f":"CAD_vehic_instit_24_25L","v":0}]
["                             Variation/année de référence [%]",null,null,null,null,null,null,null,null,null,null,null,null,null,null,null,null,{"$f":"IF((R23=0),\"\",(R23/$P23-1))","v":""},null,{"$f":"IF((T23=0),\"\",(T23/$P23-1))","v":""},null,{"$f":"IF((V23=0),\"\",(V23/$P23-1))","v":""},null,{"$f":"IF((X23=0),\"\",(X23/$P23-1))","v":""},null,{"$f":"IF((Z23=0),\"\",(Z23/$P23-1))","v":""},null,{"$f":"IF((AB23=0),\"\",(AB23/$P23-1))","v":""},null,{"$f":"IF(ISERROR(AD23/$P23-1),0,(AD23/$P23-1))","v":0},null,{"$f":"IF(ISERROR(AF23/$P23-1),0,(AF23/$P23-1))","v":0},null,{"$f":"IF(ISERROR(AH23/$P23-1),0,(AH23/$P23-1))","v":0},null,{"$f":"IF(ISERROR(AJ23/$P23-1),0,(AJ23/$P23-1))","v":0},null,{"$f":"IF(ISERROR(AL23/$P23-1),0,(AL23/$P23-1))","v":0},null,{"$f":"IF(ISERROR(AN23/$P23-1),0,(AN23/$P23-1))","v":0},null,{"$f":"IF(ISERROR(AP23/$P23-1),0,(AP23/$P23-1))","v":0},null,{"$f":"IF(ISERROR(AR23/$P23-1),0,(AR23/$P23-1))","v":0},null,{"$f":"IF(ISERROR(AT23/$P23-1),0,(AT23/$P23-1))","v":0}]
["Dépenses totales [$]",null,null,null,null,null,null,null,null,null,null,null,null,null,null,{"$f":"P21+P23","v":0},null,{"$f":"R21+R23","v":0},null,{"$f":"T21+T23","v":0},null,{"$f":"V21+V23","v":0},null,{"$f":"X21+X23","v":0},null,{"$f":"Z21+Z23","v":0},null,{"$f":"AB21+AB23","v":0},null,{"$f":"AD21+AD23","v":0},null,{"$f":"AF21+AF23","v":0},null,{"$f":"AH21+AH23","v":0},null,{"$f":"AJ21+AJ23","v":0},null,{"$f":"AL21+AL23","v":0},null,{"$f":"AN21+AN23","v":0},null,{"$f":"AP21+AP23","v":0},null,{"$f":"AR21+AR23","v":0},null,{"$f":"AT21+AT23","v":0}]
[]
["Distance "]
["Parcourue par les véhicules légers de l'organisation [km]",{"$f":"km_vehic_inst_02_03","v":0},null,{"$f":"km_vehic_inst_03_04","v":0},null,{"$f":"km_vehic_inst_04_05","v":0},null,{"$f":"km_vehic_inst_05_06","v":0},null,{"$f":"km_vehic_inst_06_07","v":0},null,{"$f":"km_vehic_inst_07_08","v":0},null,{"$f":"km_vehic_inst_08_09","v":0},null,{"$f":"km_vehic_inst_09_10","v":0},null,{"$f":"km_vehic_inst_10_11","v":0},null,{"$f":"km_vehic_inst_11_12","v":0},null,{"$f":"km_vehic_inst_12_13","v":0},null,{"$f":"km_vehic_inst_13_14","v":0},null,{"$f":"km_vehic_inst_14_15","v":0},null,{"$f":"km_vehic_inst_15_16","v":0},null,{"$f":"km_vehic_inst_16_17","v":0},null,{"$f":"km_vehic_inst_17_18","v":0},null,{"$f":"km_vehic_inst_18_19","v":0},null,{"$f":"km_vehic_inst_19_20","v":0},null,{"$f":"km_vehic_inst_20_21","v":0},null,{"$f":"km_vehic_inst_21_22","v":0},null,{"$f":"km_vehic_inst_22_23","v":0},null,{"$f":"km_vehic_inst_23_24","v":0},null,{"$f":"km_vehic_inst_24_25","v":0}]
["Parcourue par les véhicules lourds de l'organisation [km]",{"$f":"km_vehic_inst_02_03L","v":0},null,{"$f":"km_vehic_inst_03_04L","v":0},null,{"$f":"km_vehic_inst_04_05L","v":0},null,{"$f":"km_vehic_inst_05_06L","v":0},null,{"$f":"km_vehic_inst_06_07L","v":0},null,{"$f":"km_vehic_inst_07_08L","v":0},null,{"$f":"km_vehic_inst_08_09L","v":0},null,{"$f":"km_vehic_inst_09_10L","v":0},null,{"$f":"km_vehic_inst_10_11L","v":0},null,{"$f":"km_vehic_inst_11_12L","v":0},null,{"$f":"km_vehic_inst_12_13L","v":0},null,{"$f":"km_vehic_inst_13_14L","v":0},null,{"$f":"km_vehic_inst_14_15L","v":0},null,{"$f":"km_vehic_inst_15_16L","v":0},null,{"$f":"km_vehic_inst_16_17L","v":0},null,{"$f":"km_vehic_inst_17_18L","v":0},null,{"$f":"km_vehic_inst_18_19L","v":0},null,{"$f":"km_vehic_inst_19_20L","v":0},null,{"$f":"km_vehic_inst_20_21L","v":0},null,{"$f":"km_vehic_inst_21_22L","v":0},null,{"$f":"km_vehic_inst_22_23L","v":0},null,{"$f":"km_vehic_inst_23_24L","v":0},null,{"$f":"km_vehic_inst_24_25L","v":0}]
["Parcourue par d'autres moyens de transport  [km]",{"$f":"km_autre_02_03","v":0},null,{"$f":"km_autre_03_04","v":0},null,{"$f":"km_autre_04_05","v":0},null,{"$f":"km_autre_05_06","v":0},null,{"$f":"km_autre_06_07","v":0},null,{"$f":"km_autre_07_08","v":0},null,{"$f":"km_autre_08_09","v":0},null,{"$f":"km_autre_09_10","v":0},null,{"$f":"km_autre_10_11","v":0},null,{"$f":"km_autre_11_12","v":0},null,{"$f":"km_autre_12_13","v":0},null,{"$f":"km_autre_13_14","v":0},null,{"$f":"km_autre_14_15","v":0},null,{"$f":"km_autre_15_16","v":0},null,{"$f":"km_autre_16_17","v":0},null,{"$f":"km_autre_17_18","v":0},null,{"$f":"km_autre_18_19","v":0},null,{"$f":"km_autre_19_20","v":0},null,{"$f":"km_autre_20_21","v":0},null,{"$f":"km_autre_21_22","v":0},null,{"$f":"km_autre_22_23","v":0},null,{"$f":"km_autre_23_24","v":0},null,{"$f":"km_autre_24_25","v":0}]
["Parcourue par les transports zéro émission et évitée  [km]",{"$f":"km_zero_02_03+km_evite_02_03","v":0},null,{"$f":"km_zero_03_04+km_evite_03_04","v":0},null,{"$f":"km_zero_04_05+km_evite_04_05","v":0},null,{"$f":"km_zero_05_06+km_evite_05_06","v":0},null,{"$f":"km_zero_06_07+km_evite_06_07","v":0},null,{"$f":"km_zero_07_08+km_evite_07_08","v":0},null,{"$f":"km_zero_08_09+km_evite_08_09","v":0},null,{"$f":"km_zero_09_10+km_evite_09_10","v":0},null,{"$f":"km_zero_10_11+km_evite_10_11","v":0},null,{"$f":"km_zero_11_12+km_evite_11_12","v":0},null,{"$f":"km_zero_12_13+km_evite_12_13","v":0},null,{"$f":"km_zero_13_14+km_evite_13_14","v":0},null,{"$f":"km_zero_14_15+km_evite_14_15","v":0},null,{"$f":"km_zero_15_16+km_evite_15_16","v":0},null,{"$f":"km_zero_16_17+km_evite_16_17","v":0},null,{"$f":"km_zero_17_18+km_evite_17_18","v":0},null,{"$f":"km_zero_18_19+km_evite_18_19","v":0},null,{"$f":"km_zero_19_20+km_evite_19_20","v":0},null,{"$f":"km_zero_20_21+km_evite_20_21","v":0},null,{"$f":"km_zero_21_22+km_evite_21_22","v":0},null,{"$f":"km_zero_22_23+km_evite_22_23","v":0},null,{"$f":"km_zero_23_24+km_evite_23_24","v":0},null,{"$f":"km_zero_24_25+km_evite_24_25","v":0}]
[]
["Nombre de véhicules"]
["Nombre de véhicules légers sur route et hors route",{"$f":"nb_vehic_inst_02_03","v":0},null,{"$f":"nb_vehic_inst_03_04","v":0},null,{"$f":"nb_vehic_inst_04_05","v":0},null,{"$f":"nb_vehic_inst_05_06","v":0},null,{"$f":"nb_vehic_inst_06_07","v":0},null,{"$f":"nb_vehic_inst_07_08","v":0},null,{"$f":"nb_vehic_inst_08_09","v":0},null,{"$f":"nb_vehic_inst_09_10","v":0},null,{"$f":"nb_vehic_inst_10_11","v":0},null,{"$f":"nb_vehic_inst_11_12","v":0},null,{"$f":"nb_vehic_inst_12_13","v":0},null,{"$f":"nb_vehic_inst_13_14","v":0},null,{"$f":"nb_vehic_inst_14_15","v":0},null,{"$f":"nb_vehic_inst_15_16","v":0},null,{"$f":"nb_vehic_inst_16_17","v":0},null,{"$f":"nb_vehic_inst_17_18","v":0},null,{"$f":"nb_vehic_inst_18_19","v":0},null,{"$f":"nb_vehic_inst_19_20","v":0},null,{"$f":"nb_vehic_inst_20_21","v":0},null,{"$f":"nb_vehic_inst_21_22","v":0},null,{"$f":"nb_vehic_inst_22_23","v":0},null,{"$f":"nb_vehic_inst_23_24","v":0},null,{"$f":"nb_vehic_inst_24_25","v":0}]
["Nombre de véhicules lourds sur route et hors route",{"$f":"nb_vehic_inst_02_03L","v":0},null,{"$f":"nb_vehic_inst_03_04L","v":0},null,{"$f":"nb_vehic_inst_04_05L","v":0},null,{"$f":"nb_vehic_inst_05_06L","v":0},null,{"$f":"nb_vehic_inst_06_07L","v":0},null,{"$f":"nb_vehic_inst_07_08L","v":0},null,{"$f":"nb_vehic_inst_08_09L","v":0},null,{"$f":"nb_vehic_inst_09_10L","v":0},null,{"$f":"nb_vehic_inst_10_11L","v":0},null,{"$f":"nb_vehic_inst_11_12L","v":0},null,{"$f":"nb_vehic_inst_12_13L","v":0},null,{"$f":"nb_vehic_inst_13_14L","v":0},null,{"$f":"nb_vehic_inst_14_15L","v":0},null,{"$f":"nb_vehic_inst_15_16L","v":0},null,{"$f":"nb_vehic_inst_16_17L","v":0},null,{"$f":"nb_vehic_inst_17_18L","v":0},null,{"$f":"nb_vehic_inst_18_19L","v":0},null,{"$f":"nb_vehic_inst_19_20L","v":0},null,{"$f":"nb_vehic_inst_20_21L","v":0},null,{"$f":"nb_vehic_inst_21_22L","v":0},null,{"$f":"nb_vehic_inst_22_23L","v":0},null,{"$f":"nb_vehic_inst_23_24L","v":0},null,{"$f":"nb_vehic_inst_24_25L","v":0}]
["Nombre de véhicules sur route et hors route (total)",null,null,null,null,null,null,null,null,null,null,null,null,null,null,{"$f":"P34+P35","v":0},null,{"$f":"R34+R35","v":0},null,{"$f":"T34+T35","v":0},null,{"$f":"V34+V35","v":0},null,{"$f":"X34+X35","v":0},null,{"$f":"Z34+Z35","v":0},null,{"$f":"AB34+AB35","v":0},null,{"$f":"AD34+AD35","v":0},null,{"$f":"AF34+AF35","v":0},null,{"$f":"AH34+AH35","v":0},null,{"$f":"AJ34+AJ35","v":0},null,{"$f":"AL34+AL35","v":0},null,{"$f":"AN34+AN35","v":0},null,{"$f":"AP34+AP35","v":0},null,{"$f":"AR34+AR35","v":0},null,{"$f":"AT34+AT35","v":0}]
[]
["Indice spécifique"]
["Véhicules légers: Consommation [L-éq. essence/100 km]",{"$f":"IF(ISERROR(B10/(B28+B30)*100),0,(B10/(B28+B30)*100))","v":0},null,{"$f":"IF(ISERROR(D10/(D28+D30)*100),0,(D10/(D28+D30)*100))","v":0},null,{"$f":"IF(ISERROR(F10/(F28+F30)*100),0,(F10/(F28+F30)*100))","v":0},null,{"$f":"IF(ISERROR(H10/(H28+H30)*100),0,(H10/(H28+H30)*100))","v":0},null,{"$f":"IF(ISERROR(J10/(J28+J30)*100),0,(J10/(J28+J30)*100))","v":0},null,{"$f":"IF(ISERROR(L10/(L28+L30)*100),0,(L10/(L28+L30)*100))","v":0},null,{"$f":"IF(ISERROR(N10/(N28+N30)*100),0,(N10/(N28+N30)*100))","v":0},null,{"$f":"IFERROR((P10/(P28)*100),0)","v":0},null,{"$f":"IFERROR((R10/(R28)*100),0)","v":0},null,{"$f":"IFERROR((T10/(T28)*100),0)","v":0},null,{"$f":"IFERROR((V10/(V28)*100),0)","v":0},null,{"$f":"IFERROR((X10/(X28)*100),0)","v":0},null,{"$f":"IFERROR((Z10/(Z28)*100),0)","v":0},null,{"$f":"IFERROR((AB10/(AB28)*100),0)","v":0},null,{"$f":"IFERROR((AD10/(AD28)*100),0)","v":0},null,{"$f":"IFERROR((AF10/(AF28)*100),0)","v":0},null,{"$f":"IFERROR((AH10/(AH28)*100),0)","v":0},null,{"$f":"IFERROR((AJ10/(AJ28)*100),0)","v":0},null,{"$f":"IFERROR((AL10/(AL28)*100),0)","v":0},null,{"$f":"IFERROR((AN10/(AN28)*100),0)","v":0},null,{"$f":"IFERROR((AP10/(AP28)*100),0)","v":0},null,{"$f":"IFERROR((AR10/(AR28)*100),0)","v":0},null,{"$f":"IFERROR((AT10/(AT28)*100),0)","v":0}]
["                                                Variation/année de référence [%]",null,null,null,null,null,null,null,null,null,null,null,null,null,null,null,null,{"$f":"IF((R39=0),\"\",(R39/$P39-1))","v":""},null,{"$f":"IF((T39=0),\"\",(T39/$P39-1))","v":""},null,{"$f":"IF((V39=0),\"\",(V39/$P39-1))","v":""},null,{"$f":"IF((X39=0),\"\",(X39/$P39-1))","v":""},null,{"$f":"IF((Z39=0),\"\",(Z39/$P39-1))","v":""},null,{"$f":"IF((AB39=0),\"\",(AB39/$P39-1))","v":""},null,{"$f":"IF(ISERROR(AD39/$P39-1),0,(AD39/$P39-1))","v":0},null,{"$f":"IF(ISERROR(AF39/$P39-1),0,(AF39/$P39-1))","v":0},null,{"$f":"IF(ISERROR(AH39/$P39-1),0,(AH39/$P39-1))","v":0},null,{"$f":"IF(ISERROR(AJ39/$P39-1),0,(AJ39/$P39-1))","v":0},null,{"$f":"IF(ISERROR(AL39/$P39-1),0,(AL39/$P39-1))","v":0},null,{"$f":"IF(ISERROR(AN39/$P39-1),0,(AN39/$P39-1))","v":0},null,{"$f":"IF(ISERROR(AP39/$P39-1),0,(AP39/$P39-1))","v":0},null,{"$f":"IF(ISERROR(AR39/$P39-1),0,(AR39/$P39-1))","v":0},null,{"$f":"IF(ISERROR(AT39/$P39-1),0,(AT39/$P39-1))","v":0}]
["Véhicules lourds: Consommation [L-éq. diesel/100 km]",{"$f":"IF(ISERROR(#REF!/(#REF!+B35)*100),0,(#REF!/(#REF!+B35)*100))","v":0},null,{"$f":"IF(ISERROR(#REF!/(#REF!+D35)*100),0,(#REF!/(#REF!+D35)*100))","v":0},null,{"$f":"IF(ISERROR(#REF!/(#REF!+F35)*100),0,(#REF!/(#REF!+F35)*100))","v":0},null,{"$f":"IF(ISERROR(#REF!/(#REF!+H35)*100),0,(#REF!/(#REF!+H35)*100))","v":0},null,{"$f":"IF(ISERROR(#REF!/(#REF!+J35)*100),0,(#REF!/(#REF!+J35)*100))","v":0},null,{"$f":"IF(ISERROR(#REF!/(#REF!+L35)*100),0,(#REF!/(#REF!+L35)*100))","v":0},null,{"$f":"IF(ISERROR(#REF!/(#REF!+N35)*100),0,(#REF!/(#REF!+N35)*100))","v":0},null,{"$f":"IFERROR((P13/(P29)*100),0)","v":0},null,{"$f":"IFERROR((R13/(R29)*100),0)","v":0},null,{"$f":"IFERROR((T13/(T29)*100),0)","v":0},null,{"$f":"IFERROR((V13/(V29)*100),0)","v":0},null,{"$f":"IFERROR((X13/(X29)*100),0)","v":0},null,{"$f":"IFERROR((Z13/(Z29)*100),0)","v":0},null,{"$f":"IFERROR((AB13/(AB29)*100),0)","v":0},null,{"$f":"IFERROR((AD13/(AD29)*100),0)","v":0},null,{"$f":"IFERROR((AF13/(AF29)*100),0)","v":0},null,{"$f":"IFERROR((AH13/(AH29)*100),0)","v":0},null,{"$f":"IFERROR((AJ13/(AJ29)*100),0)","v":0},null,{"$f":"IFERROR((AL13/(AL29)*100),0)","v":0},null,{"$f":"IFERROR((AN13/(AN29)*100),0)","v":0},null,{"$f":"IFERROR((AP13/(AP29)*100),0)","v":0},null,{"$f":"IFERROR((AR13/(AR29)*100),0)","v":0},null,{"$f":"IFERROR((AT13/(AT29)*100),0)","v":0}]
["                                                Variation/année de référence [%]",null,null,null,null,null,null,null,null,null,null,null,null,null,null,null,null,{"$f":"IF((R41=0),\"\",(R41/$P41-1))","v":""},null,{"$f":"IF((T41=0),\"\",(T41/$P41-1))","v":""},null,{"$f":"IF((V41=0),\"\",(V41/$P41-1))","v":""},null,{"$f":"IF((X41=0),\"\",(X41/$P41-1))","v":""},null,{"$f":"IF((Z41=0),\"\",(Z41/$P41-1))","v":""},null,{"$f":"IF((AB41=0),\"\",(AB41/$P41-1))","v":""},null,{"$f":"IF(ISERROR(AD41/$P41-1),0,(AD41/$P41-1))","v":0},null,{"$f":"IF(ISERROR(AF41/$P41-1),0,(AF41/$P41-1))","v":0},null,{"$f":"IF(ISERROR(AH41/$P41-1),0,(AH41/$P41-1))","v":0},null,{"$f":"IF(ISERROR(AJ41/$P41-1),0,(AJ41/$P41-1))","v":0},null,{"$f":"IF(ISERROR(AL41/$P41-1),0,(AL41/$P41-1))","v":0},null,{"$f":"IF(ISERROR(AN41/$P41-1),0,(AN41/$P41-1))","v":0},null,{"$f":"IF(ISERROR(AP41/$P41-1),0,(AP41/$P41-1))","v":0},null,{"$f":"IF(ISERROR(AR41/$P41-1),0,(AR41/$P41-1))","v":0},null,{"$f":"IF(ISERROR(AT41/$P41-1),0,(AT41/$P41-1))","v":0}]
["Véhicules (légers et lourds):  [L-éq. essence/100 km]",null,null,null,null,null,null,null,null,null,null,null,null,null,null,{"$f":"IFERROR(((P13 + P10)/(P28+P29)*100),0)","v":0},null,{"$f":"IFERROR(((R13 + R10)/(R28+R29)*100),0)","v":0},null,{"$f":"IFERROR(((T13 + T10)/(T28+T29)*100),0)","v":0},null,{"$f":"IFERROR(((V13 + V10)/(V28+V29)*100),0)","v":0},null,{"$f":"IFERROR(((X13 + X10)/(X28+X29)*100),0)","v":0},null,{"$f":"IFERROR(((Z13 + Z10)/(Z28+Z29)*100),0)","v":0},null,{"$f":"IFERROR(((AB13 + AB10)/(AB28+AB29)*100),0)","v":0},null,{"$f":"IFERROR(((AD13 + AD10)/(AD28+AD29)*100),0)","v":0},null,{"$f":"IFERROR(((AF13 + AF10)/(AF28+AF29)*100),0)","v":0},null,{"$f":"IFERROR(((AH13 + AH10)/(AH28+AH29)*100),0)","v":0},null,{"$f":"IFERROR(((AJ13 + AJ10)/(AJ28+AJ29)*100),0)","v":0},null,{"$f":"IFERROR(((AL13 + AL10)/(AL28+AL29)*100),0)","v":0},null,{"$f":"IFERROR(((AN13 + AN10)/(AN28+AN29)*100),0)","v":0},null,{"$f":"IFERROR(((AP13 + AP10)/(AP28+AP29)*100),0)","v":0},null,{"$f":"IFERROR(((AR13 + AR10)/(AR28+AR29)*100),0)","v":0},null,{"$f":"IFERROR(((AT13 + AT10)/(AT28+AT29)*100),0)","v":0}]
["                                                Variation/année de référence [%]",null,null,null,null,null,null,null,null,null,null,null,null,null,null,null,null,{"$f":"IF((R43=0),\"\",(R43/$P43-1))","v":""},null,{"$f":"IF((T43=0),\"\",(T43/$P43-1))","v":""},null,{"$f":"IF((V43=0),\"\",(V43/$P43-1))","v":""},null,{"$f":"IF((X43=0),\"\",(X43/$P43-1))","v":""},null,{"$f":"IF((Z43=0),\"\",(Z43/$P43-1))","v":""},null,{"$f":"IF((AB43=0),\"\",(AB43/$P43-1))","v":""},null,{"$f":"IF((AD43=0),\"\",(AD43/$P43-1))","v":""},null,{"$f":"IF((AF43=0),\"\",(AF43/$P43-1))","v":""},null,{"$f":"IF((AH43=0),\"\",(AH43/$P43-1))","v":""},null,{"$f":"IF((AJ43=0),\"\",(AJ43/$P43-1))","v":""},null,{"$f":"IF((AL43=0),\"\",(AL43/$P43-1))","v":""},null,{"$f":"IF((AN43=0),\"\",(AN43/$P43-1))","v":""},null,{"$f":"IF((AP43=0),\"\",(AP43/$P43-1))","v":""},null,{"$f":"IF((AR43=0),\"\",(AR43/$P43-1))","v":""},null,{"$f":"IF((AT43=0),\"\",(AT43/$P43-1))","v":""}]
["Véhicules et autres déplacements:  [L-éq. essence/100 km]",null,null,null,null,null,null,null,null,null,null,null,null,null,null,{"$f":"IFERROR(((P13 + P10)/(P28+P29+P30)*100),0)","v":0},null,{"$f":"IFERROR(((R13 + R10)/(R28+R29+R30)*100),0)","v":0},null,{"$f":"IFERROR(((T13 + T10)/(T28+T29+T30)*100),0)","v":0},null,{"$f":"IFERROR(((V13 + V10)/(V28+V29+V30)*100),0)","v":0},null,{"$f":"IFERROR(((X13 + X10)/(X28+X29+X30)*100),0)","v":0},null,{"$f":"IFERROR(((Z13 + Z10)/(Z28+Z29+Z30)*100),0)","v":0},null,{"$f":"IFERROR(((AB13 + AB10)/(AB28+AB29+AB30)*100),0)","v":0},null,{"$f":"IFERROR(((AD13 + AD10)/(AD28+AD29+AD30)*100),0)","v":0},null,{"$f":"IFERROR(((AF13 + AF10)/(AF28+AF29+AF30)*100),0)","v":0},null,{"$f":"IFERROR(((AH13 + AH10)/(AH28+AH29+AH30)*100),0)","v":0},null,{"$f":"IFERROR(((AJ13 + AJ10)/(AJ28+AJ29+AJ30)*100),0)","v":0},null,{"$f":"IFERROR(((AL13 + AL10)/(AL28+AL29+AL30)*100),0)","v":0},null,{"$f":"IFERROR(((AN13 + AN10)/(AN28+AN29+AN30)*100),0)","v":0},null,{"$f":"IFERROR(((AP13 + AP10)/(AP28+AP29+AP30)*100),0)","v":0},null,{"$f":"IFERROR(((AR13 + AR10)/(AR28+AR29+AR30)*100),0)","v":0},null,{"$f":"IFERROR(((AT13 + AT10)/(AT28+AT29+AT30)*100),0)","v":0}]
["                                                Variation/année de référence [%]",null,null,null,null,null,null,null,null,null,null,null,null,null,null,null,null,{"$f":"IF((R45=0),\"\",(R45/$P45-1))","v":""},null,{"$f":"IF((T45=0),\"\",(T45/$P45-1))","v":""},null,{"$f":"IF((V45=0),\"\",(V45/$P45-1))","v":""},null,{"$f":"IF((X45=0),\"\",(X45/$P45-1))","v":""},null,{"$f":"IF((Z45=0),\"\",(Z45/$P45-1))","v":""},null,{"$f":"IF((AB45=0),\"\",(AB45/$P45-1))","v":""},null,{"$f":"IF((AD45=0),\"\",(AD45/$P45-1))","v":""},null,{"$f":"IF((AF45=0),\"\",(AF45/$P45-1))","v":""},null,{"$f":"IF((AH45=0),\"\",(AH45/$P45-1))","v":""},null,{"$f":"IF((AJ45=0),\"\",(AJ45/$P45-1))","v":""},null,{"$f":"IF((AL45=0),\"\",(AL45/$P45-1))","v":""},null,{"$f":"IF((AN45=0),\"\",(AN45/$P45-1))","v":""},null,{"$f":"IF((AP45=0),\"\",(AP45/$P45-1))","v":""},null,{"$f":"IF((AR45=0),\"\",(AR45/$P45-1))","v":""},null,{"$f":"IF((AT45=0),\"\",(AT45/$P45-1))","v":""}]
[]
["GES"]
["véhicules légers:  Total des rejets [t CO2 éq]",{"$f":"GES_vehic_instit_02_03+GES_autre_02_03","v":0},null,{"$f":"GES_vehic_instit_03_04+GES_autre_03_04","v":0},null,{"$f":"GES_vehic_instit_04_05+GES_autre_04_05","v":0},null,{"$f":"GES_vehic_instit_05_06+GES_autre_05_06","v":0},null,{"$f":"GES_vehic_instit_06_07+GES_autre_06_07","v":0},null,{"$f":"GES_vehic_instit_07_08+GES_autre_07_08","v":0},null,{"$f":"GES_vehic_instit_08_09+GES_autre_08_09","v":0},null,{"$f":"IFERROR(GES_vehic_instit_09_10,0)","v":0},null,{"$f":"IFERROR(GES_vehic_instit_10_11,0)","v":0},null,{"$f":"IFERROR(GES_vehic_instit_11_12,0)","v":0},null,{"$f":"IFERROR(GES_vehic_instit_12_13,0)","v":0},null,{"$f":"IFERROR(GES_vehic_instit_13_14,0)","v":0},null,{"$f":"IFERROR(GES_vehic_instit_14_15,0)","v":0},null,{"$f":"IFERROR(GES_vehic_instit_15_16,0)","v":0},null,{"$f":"IFERROR(GES_vehic_instit_16_17,0)","v":0},null,{"$f":"IFERROR(GES_vehic_instit_17_18,0)","v":0},null,{"$f":"IFERROR(GES_vehic_instit_18_19,0)","v":0},null,{"$f":"IFERROR(GES_vehic_instit_19_20,0)","v":0},null,{"$f":"IFERROR(GES_vehic_instit_20_21,0)","v":0},null,{"$f":"IFERROR(GES_vehic_instit_21_22,0)","v":0},null,{"$f":"IFERROR(GES_vehic_instit_22_23,0)","v":0},null,{"$f":"IFERROR(GES_vehic_instit_23_24,0)","v":0},null,{"$f":"IFERROR(GES_vehic_instit_24_25,0)","v":0}]
["                                                  Variation/année de référence [%]",null,null,null,null,null,null,null,null,null,null,null,null,null,null,null,null,{"$f":"IF((R49=0),\"\",(R49/$P49-1))","v":""},null,{"$f":"IF((T49=0),\"\",(T49/$P49-1))","v":""},null,{"$f":"IF((V49=0),\"\",(V49/$P49-1))","v":""},null,{"$f":"IF((X49=0),\"\",(X49/$P49-1))","v":""},null,{"$f":"IF((Z49=0),\"\",(Z49/$P49-1))","v":""},null,{"$f":"IF((AB49=0),\"\",(AB49/$P49-1))","v":""},null,{"$f":"IF(ISERROR(AD49/$P49-1),0,(AD49/$P49-1))","v":0},null,{"$f":"IF(ISERROR(AF49/$P49-1),0,(AF49/$P49-1))","v":0},null,{"$f":"IF(ISERROR(AH49/$P49-1),0,(AH49/$P49-1))","v":0},null,{"$f":"IF(ISERROR(AJ49/$P49-1),0,(AJ49/$P49-1))","v":0},null,{"$f":"IF(ISERROR(AL49/$P49-1),0,(AL49/$P49-1))","v":0},null,{"$f":"IF(ISERROR(AN49/$P49-1),0,(AN49/$P49-1))","v":0},null,{"$f":"IF(ISERROR(AP49/$P49-1),0,(AP49/$P49-1))","v":0},null,{"$f":"IF(ISERROR(AR49/$P49-1),0,(AR49/$P49-1))","v":0},null,{"$f":"IF(ISERROR(AT49/$P49-1),0,(AT49/$P49-1))","v":0}]
["véhicules lourds:  Total des rejets [t CO2 éq]",null,null,null,null,null,null,null,null,null,null,null,null,null,null,{"$f":"IFERROR(GES_vehic_instit_09_10L,0)","v":0},null,{"$f":"IFERROR(GES_vehic_instit_10_11L,0)","v":0},null,{"$f":"IFERROR(GES_vehic_instit_11_12L,0)","v":0},null,{"$f":"IFERROR(GES_vehic_instit_12_13L,0)","v":0},null,{"$f":"IFERROR(GES_vehic_instit_13_14L,0)","v":0},null,{"$f":"IFERROR(GES_vehic_instit_14_15L,0)","v":0},null,{"$f":"IFERROR(GES_vehic_instit_15_16L,0)","v":0},null,{"$f":"IFERROR(GES_vehic_instit_16_17L,0)","v":0},null,{"$f":"IFERROR(GES_vehic_instit_17_18L,0)","v":0},null,{"$f":"IFERROR(GES_vehic_instit_18_19L,0)","v":0},null,{"$f":"IFERROR(GES_vehic_instit_19_20L,0)","v":0},null,{"$f":"IFERROR(GES_vehic_instit_20_21L,0)","v":0},null,{"$f":"IFERROR(GES_vehic_instit_21_22L,0)","v":0},null,{"$f":"IFERROR(GES_vehic_instit_22_23L,0)","v":0},null,{"$f":"IFERROR(GES_vehic_instit_23_24L,0)","v":0},null,{"$f":"IFERROR(GES_vehic_instit_24_25L,0)","v":0}]
["                                                  Variation/année de référence [%]",null,null,null,null,null,null,null,null,null,null,null,null,null,null,null,null,{"$f":"IF((R51=0),\"\",(R51/$P51-1))","v":""},null,{"$f":"IF((T51=0),\"\",(T51/$P51-1))","v":""},null,{"$f":"IF((V51=0),\"\",(V51/$P51-1))","v":""},null,{"$f":"IF((X51=0),\"\",(X51/$P51-1))","v":""},null,{"$f":"IF((Z51=0),\"\",(Z51/$P51-1))","v":""},null,{"$f":"IF((AB51=0),\"\",(AB51/$P51-1))","v":""},null,{"$f":"IF(ISERROR(AD51/$P51-1),0,(AD51/$P51-1))","v":0},null,{"$f":"IF(ISERROR(AF51/$P51-1),0,(AF51/$P51-1))","v":0},null,{"$f":"IF(ISERROR(AH51/$P51-1),0,(AH51/$P51-1))","v":0},null,{"$f":"IF(ISERROR(AJ51/$P51-1),0,(AJ51/$P51-1))","v":0},null,{"$f":"IF(ISERROR(AL51/$P51-1),0,(AL51/$P51-1))","v":0},null,{"$f":"IF(ISERROR(AN51/$P51-1),0,(AN51/$P51-1))","v":0},null,{"$f":"IF(ISERROR(AP51/$P51-1),0,(AP51/$P51-1))","v":0},null,{"$f":"IF(ISERROR(AR51/$P51-1),0,(AR51/$P51-1))","v":0},null,{"$f":"IF(ISERROR(AT51/$P51-1),0,(AT51/$P51-1))","v":0}]
["autres:                    Total des rejets [t CO2 éq.]",null,null,null,null,null,null,null,null,null,null,null,null,null,null,{"$f":"GES_autre_09_10","v":0},null,{"$f":"GES_autre_10_11","v":0},null,{"$f":"GES_autre_11_12","v":0},null,{"$f":"GES_autre_12_13","v":0},null,{"$f":"GES_autre_13_14","v":0},null,{"$f":"GES_autre_14_15","v":0},null,{"$f":"GES_autre_15_16","v":0},null,{"$f":"GES_autre_16_17","v":0},null,{"$f":"GES_autre_17_18","v":0},null,{"$f":"GES_autre_18_19","v":0},null,{"$f":"GES_autre_19_20","v":0},null,{"$f":"GES_autre_20_21","v":0},null,{"$f":"GES_autre_21_22","v":0},null,{"$f":"GES_autre_22_23","v":0},null,{"$f":"GES_autre_23_24","v":0},null,{"$f":"GES_autre_24_25","v":0}]
["Total des rejets [t CO2 éq.]",null,null,null,null,null,null,null,null,null,null,null,null,null,null,{"$f":"P49+P51+P53","v":0},null,{"$f":"R49+R51+R53","v":0},null,{"$f":"T49+T51+T53","v":0},null,{"$f":"V49+V51+V53","v":0},null,{"$f":"X49+X51+X53","v":0},null,{"$f":"Z49+Z51+Z53","v":0},null,{"$f":"AB49+AB51+AB53","v":0},null,{"$f":"AD49+AD51+AD53","v":0},null,{"$f":"AF49+AF51+AF53","v":0},null,{"$f":"AH49+AH51+AH53","v":0},null,{"$f":"AJ49+AJ51+AJ53","v":0},null,{"$f":"AL49+AL51+AL53","v":0},null,{"$f":"AN49+AN51+AN53","v":0},null,{"$f":"AP49+AP51+AP53","v":0},null,{"$f":"AR49+AR51+AR53","v":0},null,{"$f":"AT49+AT51+AT53","v":0}]

{"sheet":"Conversion","index":9,"n_rows":48,"n_cols":27,"rows_kept":48,"cut":false,"hidden":false,"merged":[]}
[]
[]
[]
[]
[null,null,null,null,"PRIX MOYEN DES CARBURANTS AU QUÉBEC (Avec lien vers le site de la Régie)"]
[null,null,"GJ","GES","2002-2003","2003-2004","2004-2005","2005-2006","2006-2007","2007-2008","2008-2009","2009-2010","2010-2011","2011-2012","2012-2013","2013-2014","2014-2015","2015-2016","2016-2017","2017-2018","2018-2019","2019-2020","2020-2021","2021-2022","2022-2023","2023-2024","2024-2025"]
["Carburants conventionnels"]
["Essence [litres]","Essence (automobile)",null,2.3685999999999998,0.75983333333333336,0.75924999999999998,0.87141666666666662,0.99466666666666659,1.0106666666666666,1.0974999999999999,1.1149166666666668,1.0096666666666665,1.1035000000000001,1.3094166666666669,1.3448333333333331,1.3479166666666667,1.2708333333333333,1.1045,1.08125,1.1835,1.2570833333333333,1.21,1.056,1.45225,1.7648333333333333,1.6604166666666669,1.6220999999999999]
["Véhicules légers",null,3.3450000000000001E-2,{"$f":"2.317356/1000","v":2.317356E-3}]
["Véhicules lourds",null,3.3450000000000001E-2,{"$f":"2.3686/1000","v":2.3685999999999998E-3}]
["Diesel  [litres]","Diesel  (automobile)",null,null,0.73741666666666672,0.71816666666666673,0.85499999999999998,1.0111666666666668,1.0375833333333333,1.1140833333333335,1.2540000000000002,0.98583333333333334,1.1179166666666667,1.3317499999999998,1.3713333333333335,1.4025833333333333,1.3310833333333332,1.1071666666666669,1.0599166666666668,1.1570833333333332,1.3140833333333335,1.26,1.0503,1.4154999999999998,2.1757500000000003,1.8540833333333331,1.7645]
["Véhicules légers",null,3.8350000000000002E-2,{"$f":"0.002747335*0+((2680.5/1000/1000)+25*(0.051/1000/1000)+298*(0.22/1000/1000))","v":2.7473349999999996E-3}]
["Véhicules lourds",null,3.8350000000000002E-2,{"$f":"0.002708436*0+((2680.5/1000/1000)+25*(0.14/1000/1000)+298*(0.082/1000/1000))","v":2.7084359999999998E-3}]
["Gaz naturel [m³]","Gaz naturel",3.789E-2,{"$f":"2.13788/1000","v":2.13788E-3},0.7,0.7,0.7,0.7,0.7,0.7,0.7,0.7,0.72,0.72,0.72,0.75,null,"nd","nd","nd","nd","nd",0]
["Propane  [litres]","Propane",2.5340000000000001E-2,{"$f":"1.539344/1000","v":1.539344E-3},0.95,0.95,0.95,0.95,0.95,0.95,0.95,0.95,0.98,0.98,0.91,0.77,0.57999999999999996,"nd","nd","nd","nd","nd",0]
[]
["Biocarburants"]
["Essence Ethanol  [litres]","Essence Ethanol"]
["Véhicules légers",null,2.341E-2,{"$f":"0.010056/1000","v":1.0056E-5}]
["Véhicules lourds",null,2.341E-2,{"$f":"0.0613/1000","v":6.1299999999999999E-5}]
["Bio Diesel [litres]","Bio Diesel"]
["Véhicules légers",null,3.567E-2,{"$f":"0.190445/1000","v":1.90445E-4}]
["Véhicules lourds",null,3.567E-2,{"$f":"0.151546/1000","v":1.5154599999999999E-4}]
[]
[]
["Véhicules hors institution ratios",null,"GJ / km"," GES (ton CO2éq.) / km"]
["Taxi","Voiture",3.0707099999999995E-3,2.127332808E-4]
["Passager covoiturage","Covoiturage",1.0235699999999999E-3,7.0911093599999997E-5]
["Autobus urbain","Autobus urbain",8.3738652430003977E-4,5.9999999999999995E-5]
["Autobus interurbain","Autobus interurbain",8.3738652430003977E-4,5.9999999999999995E-5]
["Métro","Métro",1.2959999999999998E-4,5.4E-8]
["Train","Train",1.5447604101215828E-3,1.1E-4]
["Voiture de location courte durée ou véhicule personnel","Voiture",3.0707099999999995E-3,2.127332808E-4]
["Avion","Avion - longue distance (1600 km et plus)",1.549452482756086E-3,1.1319000000000001E-4]
[]
[]
["PRIX MOYEN AFFICHÉ"]
["Pour l'ensemble des régions administratives du Québec"]
["Selon la Régie de l'énergie pour le Québec"]
[]
["FACTEURS DE CONVERSION"]
[]
["Pour les carburants et biocarburants :"]
["1. Environnement et Changement climatique Canada. 2024. Rapport d'inventaire national 1990-2022 : Sources et puis de gaz à effet de serre au Canada."]
["2. Règlement sur la déclaration obligatoire de certaines émissions de contaminants dans l'atmosphère. Loi sur la qualité de l'environnement (chapitre Q-2, a. 2.2, 46.2, 115.27, 115.34 et 124.1)"]
[]
["Pour les véhicules (autres déplacements à des fins professionnels) :"]
["Fonds d'action québécois sur le développement durable. 2020. « Calculateur d'émissions de gaz à effet de serre (GES) »"]

{"sheet":"ListeMO","index":10,"n_rows":164,"n_cols":2,"rows_kept":164,"cut":false,"hidden":true,"merged":[[0,0,0,1]]}
["Liste des ministères et organismes"]
["NOM DE L'ENTITÉ","NUMÉRO\nAPPARENTÉ\nSAGIR"]
["Ministère de la Culture et des Communications","0010"]
["Ministère des Relations internationales et de la Francophonie","0030"]
["Ministère des Affaires municipales et de l'Habitation","0050"]
["Ministère de l’Immigration, de la Francisation et de l’Intégration","0055"]
["Ministère de la Santé et des Services sociaux","0060"]
["Retraite Québec","0063"]
["Régie de l'assurance maladie du Québec","0064"]
["Ministère de la Famille","0065"]
["Ministère de l'Enseignement supérieur","0067"]
["Ministère du Tourisme","0071"]
["Ministère de l'Agriculture, des Pêcheries et de l'Alimentation","0080"]
["Ministère de la Sécurité publique","0095"]
["Ministère du Conseil exécutif","0140"]
["Secrétariat du conseil du trésor","0160"]
["Comité consultatif de lutte contre la pauvreté et l'exclusion sociale","0201"]
["Conseil Cris-Québec sur la foresterie","0203"]
["Conseil du patrimoine culturel du Québec","0206"]
["Ministère des Finances","0210"]
["Conseil des appellations réservées et des termes valorisants","0212"]
["Centre de la francophonie des Amériques","0222"]
["Conseil supérieur de l'éducation","0238"]
["Office Québec-Monde pour la jeunesse","0239"]
["Commissaire à la lutte contre la corruption (Unité permanente anticorruption)","0244"]
["Directeur des poursuites criminelles et pénales","0246"]
["Bureau d'audiences publiques sur l'environnement","0256"]
["Commissaire à la déontologie policière","0267"]
["Commission des droits de la personne et des droits de la jeunesse","0271"]
["Conseil de la justice administrative","0272"]
["Commission d'évaluation de l'enseignement collégial","0274"]
["Ministère de l'Économie, de l'Innovation et de l'Énergie","0280"]
["Bureau du coroner","0293"]
["Protecteur du citoyen","0295"]
["Commission des partenaires du marché du travail","0310"]
["Conseil des arts et des lettres du Québec","0314"]
["Commission des services juridiques","0315"]
["Conservatoire de musique et d'art dramatique du Québec","0317"]
["Fonds de recherche du Québec - Société et culture","0318"]
["Société de l'assurance automobile du Québec","0320"]
["Fonds d'aide aux recours collectifs","0321"]
["Institut de la statistique du Québec","0323"]
["Fonds de recherche du Québec - Santé","0324"]
["Bibliothèque et Archives nationales du Québec","0326"]
["Fonds de la recherche du Québec – Nature et technologies","0327"]
["Commission de protection du territoire agricole du Québec","0328"]
["École nationale de police du Québec","0329"]
["Institut national de santé publique du Québec","0332"]
["École nationale des pompiers du Québec","0335"]
["Société québécoise des infrastructures","0339"]
["Office de la protection du consommateur","0344"]
["Office Québec-Amériques pour la jeunesse ","0346"]
["Centre de services partagés du Québec","0347"]
["Ministère de l'Éducation ","0350"]
["Régie du cinéma","0352"]
["Autorité des marchés financiers","0356"]
["Institut national d'excellence en santé et en services sociaux","0357"]
["Office des professions du Québec","0360"]
["Commission de toponymie du Québec","0361"]
["Régie du bâtiment du Québec","0367"]
["Commission municipale du Québec","0368"]
["Société du Plan Nord","0376"]
["Ministère de l'Environnement, de la Lutte contre les changements climatiques, de la Faune et des Parcs","0380"]
["Régie de l'énergie","0385"]
["Régie des alcools, des courses et des jeux","0386"]
["Sûreté du Québec","0390"]
["Régie des marchés agricoles et alimentaires du Québec","0392"]
["Autorité des marchés publics","0395"]
["Infrastructures technologiques Québec","0396"]
["Centre d'aquisitions gouvernementales","0397"]
["Ministère de la justice","0400"]
["Tribunal administratif de déontologie policière","0402"]
["Commission d'accès à l'information","0408"]
["Bureau des enquêtes indépendantes","0413"]
["Tribunal administratif du travail","0415"]
["Commission québécoise des libérations conditionnelles","0425"]
["Commission de la fonction publique du Québec","0430"]
["Tribunal des droits de la personne","0434"]
["Agence du revenu du Québec","0445"]
["Tribunal administratif du Québec","0450"]
["Office de la sécurité du revenu des chasseurs et piégeurs cris","0483"]
["Commission de la qualité de l'environnement Kativik","0486"]
["Conseil de gestion de l'assurance parentale","0505"]
["Commission de la construction du Québec","0509"]
["Tribunal administratif du logement","0510"]
["Financière agricole du Québec","0520"]
["Centre de recherche industrielle du Québec","0523"]
["Fondation de la faune du Québec","0525"]
["Investissement Québec","0537"]
["Office des personnes handicapées du Québec","0538"]
["Société de développement des entreprises culturelles","0539"]
["Musée d'art contemporain de Montréal","0541"]
["Musées de la civilisation","0544"]
["Musée national des beaux-arts du Québec","0545"]
["Société de développement et de mise en valeur du Parc olympique","0546"]
["Institut de tourisme et d'hôtellerie du Québec","0547"]
["Commission de la capitale nationale du Québec","0549"]
["Société de la Place de Arts de Montréal","0552"]
["Réseau de transport métropolitain","0553"]
["Société des traversiers du Québec","0554"]
["Société du Centre des congrès de Québec","0557"]
["Société du Grand Théâtre de Québec","0558"]
["Société du Palais des congrès de Montréal","0559"]
["Curateur public du Québec","0560"]
["Société du parc industriel et portuaire de Bécancour","0565"]
["Société des établissements de plein air du Québec","0569"]
["Corporation d'urgences-santé","0571"]
["Héma-Québec","0573"]
["Société de télédiffusion du Québec","0582"]
["Société québécoise d'information juridique","0585"]
["Société québécoise de récupération et de recyclage","0586"]
["Ministère des Ressources naturelles et des Forêts","0600"]
["Caisse de dépôt et placement du Québec","0603"]
["Hydro-Québec","0606"]
["Société de développement de la Baie-James","0618"]
["Société des Alcools du Québec","0624"]
["Société des loteries du Québec","0627"]
["Élections Québec","0630"]
["Conseil du statut de la femme","0660"]
["Conseil supérieur de la langue française","0690"]
["Ministère de l'Emploi et de la Solidarité sociale","0700"]
["Commission des normes, de l'équité, de la santé et de la sécurité du travail","0703"]
["Office québécois de la langue française","0710"]
["Société d'habitation du Québec","0730"]
["Commission des transports du Québec","0830"]
["Ministère des Transports et de la Mobilité durable ","0850"]
["Financement-Québec","0876"]
["La Financière agricole du Québec","0899"]
["Régie régionale de la santé et des services sociaux du Nunavik","4017"]
["Centre régional de santé et de services sociaux de la Baie-James","4051"]
["Bureau du forestier en chef","NA"]
["Comité d'examen (COMEX) (Convention de la Baie-James et du Nord québécois)","NA"]
["Secrétariat à la Capitale nationale","NA"]
[]
[]
[]
[]
[]
[]
[]
[]
[]
[]
[]
[]
[]
[]
[]
[]
[]
[]
[]
[]
[]
[]
[]
[]
[]
[]
[]
[]
[]
[]
["Transition énergétique Québec","0379"]

{"sheet":"Validation","index":11,"n_rows":60,"n_cols":38,"rows_kept":60,"cut":false,"hidden":true,"merged":[]}
[]
[]
[]
[]
[null,null,null,null,null,"ÉVOLUTION DE LA CONSOMMATION ÉNERGÉTIQUE POUR LE TRANSPORT",null,null,null,null,null,null,null,null,null,null,null,null,null,null,"ÉVOLUTION DE LA CONSOMMATION ÉNERGÉTIQUE POUR LE TRANSPORT"]
[]
[null,"2002-2003",null,"2003-2004",null,"2004-2005",null,"2005-2006",null,"2006-2007",null,"2007-2008",null,"2008-2009",null,"2009-2010",null,"2010-2011",null,"2011-2012",null,"2012-2013",null,"2013-2014",null,"2014-2015",null,"2015-2016",null,"2016-2017",null,"2017-2018",null,"2018-2019",null,"2019-2020",null,"2020-2021"]
["Consommation énergétique"]
["véhicules légers:   Consommation [GJ]",{"$f":"RÉSUMÉ!B9","v":0},{"$f":"RÉSUMÉ!C9","v":0},{"$f":"RÉSUMÉ!D9","v":0},{"$f":"RÉSUMÉ!E9","v":0},{"$f":"RÉSUMÉ!F9","v":0},{"$f":"RÉSUMÉ!G9","v":0},{"$f":"RÉSUMÉ!H9","v":0},{"$f":"RÉSUMÉ!I9","v":0},{"$f":"RÉSUMÉ!J9","v":0},{"$f":"RÉSUMÉ!K9","v":0},{"$f":"RÉSUMÉ!L9","v":0},{"$f":"RÉSUMÉ!M9","v":0},{"$f":"RÉSUMÉ!N9","v":0},{"$f":"RÉSUMÉ!O9","v":0},{"$f":"RÉSUMÉ!P9","v":0},{"$f":"RÉSUMÉ!Q9","v":0},{"$f":"RÉSUMÉ!R9","v":0},{"$f":"RÉSUMÉ!S9","v":0},{"$f":"RÉSUMÉ!T9","v":0},{"$f":"RÉSUMÉ!U9","v":0},{"$f":"RÉSUMÉ!V9","v":0},{"$f":"RÉSUMÉ!W9","v":0},{"$f":"RÉSUMÉ!X9","v":0},{"$f":"RÉSUMÉ!Y9","v":0},{"$f":"RÉSUMÉ!Z9","v":0},{"$f":"RÉSUMÉ!AA9","v":0},{"$f":"RÉSUMÉ!AB9","v":0},{"$f":"RÉSUMÉ!AC9","v":0},{"$f":"RÉSUMÉ!AD9","v":0},{"$f":"RÉSUMÉ!AE9","v":0},{"$f":"RÉSUMÉ!AF9","v":0},{"$f":"RÉSUMÉ!AG9","v":0},{"$f":"RÉSUMÉ!AH9","v":0},{"$f":"RÉSUMÉ!AI9","v":0},{"$f":"RÉSUMÉ!AJ9","v":0},{"$f":"RÉSUMÉ!AK9","v":0},{"$f":"RÉSUMÉ!AL9","v":0}]
["                              Consommation [L-éq. essence]",{"$f":"RÉSUMÉ!B10","v":0},{"$f":"RÉSUMÉ!C10","v":0},{"$f":"RÉSUMÉ!D10","v":0},{"$f":"RÉSUMÉ!E10","v":0},{"$f":"RÉSUMÉ!F10","v":0},{"$f":"RÉSUMÉ!G10","v":0},{"$f":"RÉSUMÉ!H10","v":0},{"$f":"RÉSUMÉ!I10","v":0},{"$f":"RÉSUMÉ!J10","v":0},{"$f":"RÉSUMÉ!K10","v":0},{"$f":"RÉSUMÉ!L10","v":0},{"$f":"RÉSUMÉ!M10","v":0},{"$f":"RÉSUMÉ!N10","v":0},{"$f":"RÉSUMÉ!O10","v":0},{"$f":"RÉSUMÉ!P10","v":0},{"$f":"RÉSUMÉ!Q10","v":0},{"$f":"RÉSUMÉ!R10","v":0},{"$f":"RÉSUMÉ!S10","v":0},{"$f":"RÉSUMÉ!T10","v":0},{"$f":"RÉSUMÉ!U10","v":0},{"$f":"RÉSUMÉ!V10","v":0},{"$f":"RÉSUMÉ!W10","v":0},{"$f":"RÉSUMÉ!X10","v":0},{"$f":"RÉSUMÉ!Y10","v":0},{"$f":"RÉSUMÉ!Z10","v":0},{"$f":"RÉSUMÉ!AA10","v":0},{"$f":"RÉSUMÉ!AB10","v":0},{"$f":"RÉSUMÉ!AC10","v":0},{"$f":"RÉSUMÉ!AD10","v":0},{"$f":"RÉSUMÉ!AE10","v":0},{"$f":"RÉSUMÉ!AF10","v":0},{"$f":"RÉSUMÉ!AG10","v":0},{"$f":"RÉSUMÉ!AH10","v":0},{"$f":"RÉSUMÉ!AI10","v":0},{"$f":"RÉSUMÉ!AJ10","v":0},{"$f":"RÉSUMÉ!AK10","v":0},{"$f":"RÉSUMÉ!AL10","v":0}]
["                              Variation/année de référence [%]",{"$f":"RÉSUMÉ!B11","v":0},{"$f":"RÉSUMÉ!C11","v":0},{"$f":"RÉSUMÉ!D11","v":0},{"$f":"RÉSUMÉ!E11","v":0},{"$f":"RÉSUMÉ!F11","v":0},{"$f":"RÉSUMÉ!G11","v":0},{"$f":"RÉSUMÉ!H11","v":0},{"$f":"RÉSUMÉ!I11","v":0},{"$f":"RÉSUMÉ!J11","v":0},{"$f":"RÉSUMÉ!K11","v":0},{"$f":"RÉSUMÉ!L11","v":0},{"$f":"RÉSUMÉ!M11","v":0},{"$f":"RÉSUMÉ!N11","v":0},{"$f":"RÉSUMÉ!O11","v":0},{"$f":"RÉSUMÉ!P11","v":0},{"$f":"RÉSUMÉ!Q11","v":0},{"$f":"RÉSUMÉ!R11","v":""},{"$f":"RÉSUMÉ!S11","v":0},{"$f":"RÉSUMÉ!T11","v":""},{"$f":"RÉSUMÉ!U11","v":0},{"$f":"RÉSUMÉ!V11","v":""},{"$f":"RÉSUMÉ!W11","v":0},{"$f":"RÉSUMÉ!X11","v":""},{"$f":"RÉSUMÉ!Y11","v":0},{"$f":"RÉSUMÉ!Z11","v":""},{"$f":"RÉSUMÉ!AA11","v":0},{"$f":"RÉSUMÉ!AB11","v":""},{"$f":"RÉSUMÉ!AC11","v":0},{"$f":"RÉSUMÉ!AD11","v":0},{"$f":"RÉSUMÉ!AE11","v":0},{"$f":"RÉSUMÉ!AF11","v":0},{"$f":"RÉSUMÉ!AG11","v":0},{"$f":"RÉSUMÉ!AH11","v":0},{"$f":"RÉSUMÉ!AI11","v":0},{"$f":"RÉSUMÉ!AJ11","v":0},{"$f":"RÉSUMÉ!AK11","v":0},{"$f":"RÉSUMÉ!AL11","v":0}]
["véhicules lourds:  Consommation [GJ]",{"$f":"RÉSUMÉ!B12","v":0},{"$f":"RÉSUMÉ!C12","v":0},{"$f":"RÉSUMÉ!D12","v":0},{"$f":"RÉSUMÉ!E12","v":0},{"$f":"RÉSUMÉ!F12","v":0},{"$f":"RÉSUMÉ!G12","v":0},{"$f":"RÉSUMÉ!H12","v":0},{"$f":"RÉSUMÉ!I12","v":0},{"$f":"RÉSUMÉ!J12","v":0},{"$f":"RÉSUMÉ!K12","v":0},{"$f":"RÉSUMÉ!L12","v":0},{"$f":"RÉSUMÉ!M12","v":0},{"$f":"RÉSUMÉ!N12","v":0},{"$f":"RÉSUMÉ!O12","v":0},{"$f":"RÉSUMÉ!P12","v":0},{"$f":"RÉSUMÉ!Q12","v":0},{"$f":"RÉSUMÉ!R12","v":0},{"$f":"RÉSUMÉ!S12","v":0},{"$f":"RÉSUMÉ!T12","v":0},{"$f":"RÉSUMÉ!U12","v":0},{"$f":"RÉSUMÉ!V12","v":0},{"$f":"RÉSUMÉ!W12","v":0},{"$f":"RÉSUMÉ!X12","v":0},{"$f":"RÉSUMÉ!Y12","v":0},{"$f":"RÉSUMÉ!Z12","v":0},{"$f":"RÉSUMÉ!AA12","v":0},{"$f":"RÉSUMÉ!AB12","v":0},{"$f":"RÉSUMÉ!AC12","v":0},{"$f":"RÉSUMÉ!AD12","v":0},{"$f":"RÉSUMÉ!AE12","v":0},{"$f":"RÉSUMÉ!AF12","v":0},{"$f":"RÉSUMÉ!AG12","v":0},{"$f":"RÉSUMÉ!AH12","v":0},{"$f":"RÉSUMÉ!AI12","v":0},{"$f":"RÉSUMÉ!AJ12","v":0},{"$f":"RÉSUMÉ!AK12","v":0},{"$f":"RÉSUMÉ!AL12","v":0}]
["                             Consommation [L-éq. essence]",{"$f":"RÉSUMÉ!B13","v":0},{"$f":"RÉSUMÉ!C13","v":0},{"$f":"RÉSUMÉ!D13","v":0},{"$f":"RÉSUMÉ!E13","v":0},{"$f":"RÉSUMÉ!F13","v":0},{"$f":"RÉSUMÉ!G13","v":0},{"$f":"RÉSUMÉ!H13","v":0},{"$f":"RÉSUMÉ!I13","v":0},{"$f":"RÉSUMÉ!J13","v":0},{"$f":"RÉSUMÉ!K13","v":0},{"$f":"RÉSUMÉ!L13","v":0},{"$f":"RÉSUMÉ!M13","v":0},{"$f":"RÉSUMÉ!N13","v":0},{"$f":"RÉSUMÉ!O13","v":0},{"$f":"RÉSUMÉ!P13","v":0},{"$f":"RÉSUMÉ!Q13","v":0},{"$f":"RÉSUMÉ!R13","v":0},{"$f":"RÉSUMÉ!S13","v":0},{"$f":"RÉSUMÉ!T13","v":0},{"$f":"RÉSUMÉ!U13","v":0},{"$f":"RÉSUMÉ!V13","v":0},{"$f":"RÉSUMÉ!W13","v":0},{"$f":"RÉSUMÉ!X13","v":0},{"$f":"RÉSUMÉ!Y13","v":0},{"$f":"RÉSUMÉ!Z13","v":0},{"$f":"RÉSUMÉ!AA13","v":0},{"$f":"RÉSUMÉ!AB13","v":0},{"$f":"RÉSUMÉ!AC13","v":0},{"$f":"RÉSUMÉ!AD13","v":0},{"$f":"RÉSUMÉ!AE13","v":0},{"$f":"RÉSUMÉ!AF13","v":0},{"$f":"RÉSUMÉ!AG13","v":0},{"$f":"RÉSUMÉ!AH13","v":0},{"$f":"RÉSUMÉ!AI13","v":0},{"$f":"RÉSUMÉ!AJ13","v":0},{"$f":"RÉSUMÉ!AK13","v":0},{"$f":"RÉSUMÉ!AL13","v":0}]
["                             Variation/année de référence [%]",{"$f":"RÉSUMÉ!B14","v":0},{"$f":"RÉSUMÉ!C14","v":0},{"$f":"RÉSUMÉ!D14","v":0},{"$f":"RÉSUMÉ!E14","v":0},{"$f":"RÉSUMÉ!F14","v":0},{"$f":"RÉSUMÉ!G14","v":0},{"$f":"RÉSUMÉ!H14","v":0},{"$f":"RÉSUMÉ!I14","v":0},{"$f":"RÉSUMÉ!J14","v":0},{"$f":"RÉSUMÉ!K14","v":0},{"$f":"RÉSUMÉ!L14","v":0},{"$f":"RÉSUMÉ!M14","v":0},{"$f":"RÉSUMÉ!N14","v":0},{"$f":"RÉSUMÉ!O14","v":0},{"$f":"RÉSUMÉ!P14","v":0},{"$f":"RÉSUMÉ!Q14","v":0},{"$f":"RÉSUMÉ!R14","v":""},{"$f":"RÉSUMÉ!S14","v":0},{"$f":"RÉSUMÉ!T14","v":""},{"$f":"RÉSUMÉ!U14","v":0},{"$f":"RÉSUMÉ!V14","v":""},{"$f":"RÉSUMÉ!W14","v":0},{"$f":"RÉSUMÉ!X14","v":""},{"$f":"RÉSUMÉ!Y14","v":0},{"$f":"RÉSUMÉ!Z14","v":""},{"$f":"RÉSUMÉ!AA14","v":0},{"$f":"RÉSUMÉ!AB14","v":""},{"$f":"RÉSUMÉ!AC14","v":0},{"$f":"RÉSUMÉ!AD14","v":0},{"$f":"RÉSUMÉ!AE14","v":0},{"$f":"RÉSUMÉ!AF14","v":0},{"$f":"RÉSUMÉ!AG14","v":0},{"$f":"RÉSUMÉ!AH14","v":0},{"$f":"RÉSUMÉ!AI14","v":0},{"$f":"RÉSUMÉ!AJ14","v":0},{"$f":"RÉSUMÉ!AK14","v":0},{"$f":"RÉSUMÉ!AL14","v":0}]
["autres:                   Consommation [GJ]",{"$f":"RÉSUMÉ!B15","v":0},{"$f":"RÉSUMÉ!C15","v":0},{"$f":"RÉSUMÉ!D15","v":0},{"$f":"RÉSUMÉ!E15","v":0},{"$f":"RÉSUMÉ!F15","v":0},{"$f":"RÉSUMÉ!G15","v":0},{"$f":"RÉSUMÉ!H15","v":0},{"$f":"RÉSUMÉ!I15","v":0},{"$f":"RÉSUMÉ!J15","v":0},{"$f":"RÉSUMÉ!K15","v":0},{"$f":"RÉSUMÉ!L15","v":0},{"$f":"RÉSUMÉ!M15","v":0},{"$f":"RÉSUMÉ!N15","v":0},{"$f":"RÉSUMÉ!O15","v":0},{"$f":"RÉSUMÉ!P15","v":0},{"$f":"RÉSUMÉ!Q15","v":0},{"$f":"RÉSUMÉ!R15","v":0},{"$f":"RÉSUMÉ!S15","v":0},{"$f":"RÉSUMÉ!T15","v":0},{"$f":"RÉSUMÉ!U15","v":0},{"$f":"RÉSUMÉ!V15","v":0},{"$f":"RÉSUMÉ!W15","v":0},{"$f":"RÉSUMÉ!X15","v":0},{"$f":"RÉSUMÉ!Y15","v":0},{"$f":"RÉSUMÉ!Z15","v":0},{"$f":"RÉSUMÉ!AA15","v":0},{"$f":"RÉSUMÉ!AB15","v":0},{"$f":"RÉSUMÉ!AC15","v":0},{"$f":"RÉSUMÉ!AD15","v":0},{"$f":"RÉSUMÉ!AE15","v":0},{"$f":"RÉSUMÉ!AF15","v":0},{"$f":"RÉSUMÉ!AG15","v":0},{"$f":"RÉSUMÉ!AH15","v":0},{"$f":"RÉSUMÉ!AI15","v":0},{"$f":"RÉSUMÉ!AJ15","v":0},{"$f":"RÉSUMÉ!AK15","v":0},{"$f":"RÉSUMÉ!AL15","v":0}]
["                                Consommation [L-éq. essence]",{"$f":"RÉSUMÉ!B16","v":0},{"$f":"RÉSUMÉ!C16","v":0},{"$f":"RÉSUMÉ!D16","v":0},{"$f":"RÉSUMÉ!E16","v":0},{"$f":"RÉSUMÉ!F16","v":0},{"$f":"RÉSUMÉ!G16","v":0},{"$f":"RÉSUMÉ!H16","v":0},{"$f":"RÉSUMÉ!I16","v":0},{"$f":"RÉSUMÉ!J16","v":0},{"$f":"RÉSUMÉ!K16","v":0},{"$f":"RÉSUMÉ!L16","v":0},{"$f":"RÉSUMÉ!M16","v":0},{"$f":"RÉSUMÉ!N16","v":0},{"$f":"RÉSUMÉ!O16","v":0},{"$f":"RÉSUMÉ!P16","v":0},{"$f":"RÉSUMÉ!Q16","v":0},{"$f":"RÉSUMÉ!R16","v":0},{"$f":"RÉSUMÉ!S16","v":0},{"$f":"RÉSUMÉ!T16","v":0},{"$f":"RÉSUMÉ!U16","v":0},{"$f":"RÉSUMÉ!V16","v":0},{"$f":"RÉSUMÉ!W16","v":0},{"$f":"RÉSUMÉ!X16","v":0},{"$f":"RÉSUMÉ!Y16","v":0},{"$f":"RÉSUMÉ!Z16","v":0},{"$f":"RÉSUMÉ!AA16","v":0},{"$f":"RÉSUMÉ!AB16","v":0},{"$f":"RÉSUMÉ!AC16","v":0},{"$f":"RÉSUMÉ!AD16","v":0},{"$f":"RÉSUMÉ!AE16","v":0},{"$f":"RÉSUMÉ!AF16","v":0},{"$f":"RÉSUMÉ!AG16","v":0},{"$f":"RÉSUMÉ!AH16","v":0},{"$f":"RÉSUMÉ!AI16","v":0},{"$f":"RÉSUMÉ!AJ16","v":0},{"$f":"RÉSUMÉ!AK16","v":0},{"$f":"RÉSUMÉ!AL16","v":0}]
["Consommation totale [GJ]",{"$f":"RÉSUMÉ!B17","v":0},{"$f":"RÉSUMÉ!C17","v":0},{"$f":"RÉSUMÉ!D17","v":0},{"$f":"RÉSUMÉ!E17","v":0},{"$f":"RÉSUMÉ!F17","v":0},{"$f":"RÉSUMÉ!G17","v":0},{"$f":"RÉSUMÉ!H17","v":0},{"$f":"RÉSUMÉ!I17","v":0},{"$f":"RÉSUMÉ!J17","v":0},{"$f":"RÉSUMÉ!K17","v":0},{"$f":"RÉSUMÉ!L17","v":0},{"$f":"RÉSUMÉ!M17","v":0},{"$f":"RÉSUMÉ!N17","v":0},{"$f":"RÉSUMÉ!O17","v":0},{"$f":"RÉSUMÉ!P17","v":0},{"$f":"RÉSUMÉ!Q17","v":0},{"$f":"RÉSUMÉ!R17","v":0},{"$f":"RÉSUMÉ!S17","v":0},{"$f":"RÉSUMÉ!T17","v":0},{"$f":"RÉSUMÉ!U17","v":0},{"$f":"RÉSUMÉ!V17","v":0},{"$f":"RÉSUMÉ!W17","v":0},{"$f":"RÉSUMÉ!X17","v":0},{"$f":"RÉSUMÉ!Y17","v":0},{"$f":"RÉSUMÉ!Z17","v":0},{"$f":"RÉSUMÉ!AA17","v":0},{"$f":"RÉSUMÉ!AB17","v":0},{"$f":"RÉSUMÉ!AC17","v":0},{"$f":"RÉSUMÉ!AD17","v":0},{"$f":"RÉSUMÉ!AE17","v":0},{"$f":"RÉSUMÉ!AF17","v":0},{"$f":"RÉSUMÉ!AG17","v":0},{"$f":"RÉSUMÉ!AH17","v":0},{"$f":"RÉSUMÉ!AI17","v":0},{"$f":"RÉSUMÉ!AJ17","v":0},{"$f":"RÉSUMÉ!AK17","v":0},{"$f":"RÉSUMÉ!AL17","v":0}]
["Consommation totale [L-éq. essence]",{"$f":"RÉSUMÉ!B18","v":0},{"$f":"RÉSUMÉ!C18","v":0},{"$f":"RÉSUMÉ!D18","v":0},{"$f":"RÉSUMÉ!E18","v":0},{"$f":"RÉSUMÉ!F18","v":0},{"$f":"RÉSUMÉ!G18","v":0},{"$f":"RÉSUMÉ!H18","v":0},{"$f":"RÉSUMÉ!I18","v":0},{"$f":"RÉSUMÉ!J18","v":0},{"$f":"RÉSUMÉ!K18","v":0},{"$f":"RÉSUMÉ!L18","v":0},{"$f":"RÉSUMÉ!M18","v":0},{"$f":"RÉSUMÉ!N18","v":0},{"$f":"RÉSUMÉ!O18","v":0},{"$f":"RÉSUMÉ!P18","v":0},{"$f":"RÉSUMÉ!Q18","v":0},{"$f":"RÉSUMÉ!R18","v":0},{"$f":"RÉSUMÉ!S18","v":0},{"$f":"RÉSUMÉ!T18","v":0},{"$f":"RÉSUMÉ!U18","v":0},{"$f":"RÉSUMÉ!V18","v":0},{"$f":"RÉSUMÉ!W18","v":0},{"$f":"RÉSUMÉ!X18","v":0},{"$f":"RÉSUMÉ!Y18","v":0},{"$f":"RÉSUMÉ!Z18","v":0},{"$f":"RÉSUMÉ!AA18","v":0},{"$f":"RÉSUMÉ!AB18","v":0},{"$f":"RÉSUMÉ!AC18","v":0},{"$f":"RÉSUMÉ!AD18","v":0},{"$f":"RÉSUMÉ!AE18","v":0},{"$f":"RÉSUMÉ!AF18","v":0},{"$f":"RÉSUMÉ!AG18","v":0},{"$f":"RÉSUMÉ!AH18","v":0},{"$f":"RÉSUMÉ!AI18","v":0},{"$f":"RÉSUMÉ!AJ18","v":0},{"$f":"RÉSUMÉ!AK18","v":0},{"$f":"RÉSUMÉ!AL18","v":0}]
[null,{"$f":"RÉSUMÉ!B19","v":0},{"$f":"RÉSUMÉ!C19","v":0},{"$f":"RÉSUMÉ!D19","v":0},{"$f":"RÉSUMÉ!E19","v":0},{"$f":"RÉSUMÉ!F19","v":0},{"$f":"RÉSUMÉ!G19","v":0},{"$f":"RÉSUMÉ!H19","v":0},{"$f":"RÉSUMÉ!I19","v":0},{"$f":"RÉSUMÉ!J19","v":0},{"$f":"RÉSUMÉ!K19","v":0},{"$f":"RÉSUMÉ!L19","v":0},{"$f":"RÉSUMÉ!M19","v":0},{"$f":"RÉSUMÉ!N19","v":0},{"$f":"RÉSUMÉ!O19","v":0},{"$f":"RÉSUMÉ!P19","v":0},{"$f":"RÉSUMÉ!Q19","v":0},{"$f":"RÉSUMÉ!R19","v":0},{"$f":"RÉSUMÉ!S19","v":0},{"$f":"RÉSUMÉ!T19","v":0},{"$f":"RÉSUMÉ!U19","v":0},{"$f":"RÉSUMÉ!V19","v":0},{"$f":"RÉSUMÉ!W19","v":0},{"$f":"RÉSUMÉ!X19","v":0},{"$f":"RÉSUMÉ!Y19","v":0},{"$f":"RÉSUMÉ!Z19","v":0},{"$f":"RÉSUMÉ!AA19","v":0},{"$f":"RÉSUMÉ!AB19","v":0},{"$f":"RÉSUMÉ!AC19","v":0},{"$f":"RÉSUMÉ!AD19","v":0},{"$f":"RÉSUMÉ!AE19","v":0},{"$f":"RÉSUMÉ!AF19","v":0},{"$f":"RÉSUMÉ!AG19","v":0},{"$f":"RÉSUMÉ!AH19","v":0},{"$f":"RÉSUMÉ!AI19","v":0},{"$f":"RÉSUMÉ!AJ19","v":0},{"$f":"RÉSUMÉ!AK19","v":0},{"$f":"RÉSUMÉ!AL19","v":0}]
["Dépenses énergétiques des véhicules de l'organisation",{"$f":"RÉSUMÉ!B20","v":0},{"$f":"RÉSUMÉ!C20","v":0},{"$f":"RÉSUMÉ!D20","v":0},{"$f":"RÉSUMÉ!E20","v":0},{"$f":"RÉSUMÉ!F20","v":0},{"$f":"RÉSUMÉ!G20","v":0},{"$f":"RÉSUMÉ!H20","v":0},{"$f":"RÉSUMÉ!I20","v":0},{"$f":"RÉSUMÉ!J20","v":0},{"$f":"RÉSUMÉ!K20","v":0},{"$f":"RÉSUMÉ!L20","v":0},{"$f":"RÉSUMÉ!M20","v":0},{"$f":"RÉSUMÉ!N20","v":0},{"$f":"RÉSUMÉ!O20","v":0},{"$f":"RÉSUMÉ!P20","v":0},{"$f":"RÉSUMÉ!Q20","v":0},{"$f":"RÉSUMÉ!R20","v":0},{"$f":"RÉSUMÉ!S20","v":0},{"$f":"RÉSUMÉ!T20","v":0},{"$f":"RÉSUMÉ!U20","v":0},{"$f":"RÉSUMÉ!V20","v":0},{"$f":"RÉSUMÉ!W20","v":0},{"$f":"RÉSUMÉ!X20","v":0},{"$f":"RÉSUMÉ!Y20","v":0},{"$f":"RÉSUMÉ!Z20","v":0},{"$f":"RÉSUMÉ!AA20","v":0},{"$f":"RÉSUMÉ!AB20","v":0},{"$f":"RÉSUMÉ!AC20","v":0},{"$f":"RÉSUMÉ!AD20","v":0},{"$f":"RÉSUMÉ!AE20","v":0},{"$f":"RÉSUMÉ!AF20","v":0},{"$f":"RÉSUMÉ!AG20","v":0},{"$f":"RÉSUMÉ!AH20","v":0},{"$f":"RÉSUMÉ!AI20","v":0},{"$f":"RÉSUMÉ!AJ20","v":0},{"$f":"RÉSUMÉ!AK20","v":0},{"$f":"RÉSUMÉ!AL20","v":0}]
["véhicules légers:  Dépenses [$]",{"$f":"RÉSUMÉ!B21","v":0},{"$f":"RÉSUMÉ!C21","v":0},{"$f":"RÉSUMÉ!D21","v":0},{"$f":"RÉSUMÉ!E21","v":0},{"$f":"RÉSUMÉ!F21","v":0},{"$f":"RÉSUMÉ!G21","v":0},{"$f":"RÉSUMÉ!H21","v":0},{"$f":"RÉSUMÉ!I21","v":0},{"$f":"RÉSUMÉ!J21","v":0},{"$f":"RÉSUMÉ!K21","v":0},{"$f":"RÉSUMÉ!L21","v":0},{"$f":"RÉSUMÉ!M21","v":0},{"$f":"RÉSUMÉ!N21","v":0},{"$f":"RÉSUMÉ!O21","v":0},{"$f":"RÉSUMÉ!P21","v":0},{"$f":"RÉSUMÉ!Q21","v":0},{"$f":"RÉSUMÉ!R21","v":0},{"$f":"RÉSUMÉ!S21","v":0},{"$f":"RÉSUMÉ!T21","v":0},{"$f":"RÉSUMÉ!U21","v":0},{"$f":"RÉSUMÉ!V21","v":0},{"$f":"RÉSUMÉ!W21","v":0},{"$f":"RÉSUMÉ!X21","v":0},{"$f":"RÉSUMÉ!Y21","v":0},{"$f":"RÉSUMÉ!Z21","v":0},{"$f":"RÉSUMÉ!AA21","v":0},{"$f":"RÉSUMÉ!AB21","v":0},{"$f":"RÉSUMÉ!AC21","v":0},{"$f":"RÉSUMÉ!AD21","v":0},{"$f":"RÉSUMÉ!AE21","v":0},{"$f":"RÉSUMÉ!AF21","v":0},{"$f":"RÉSUMÉ!AG21","v":0},{"$f":"RÉSUMÉ!AH21","v":0},{"$f":"RÉSUMÉ!AI21","v":0},{"$f":"RÉSUMÉ!AJ21","v":0},{"$f":"RÉSUMÉ!AK21","v":0},{"$f":"RÉSUMÉ!AL21","v":0}]
["                             Variation/année de référence [%]",{"$f":"RÉSUMÉ!B22","v":0},{"$f":"RÉSUMÉ!C22","v":0},{"$f":"RÉSUMÉ!D22","v":0},{"$f":"RÉSUMÉ!E22","v":0},{"$f":"RÉSUMÉ!F22","v":0},{"$f":"RÉSUMÉ!G22","v":0},{"$f":"RÉSUMÉ!H22","v":0},{"$f":"RÉSUMÉ!I22","v":0},{"$f":"RÉSUMÉ!J22","v":0},{"$f":"RÉSUMÉ!K22","v":0},{"$f":"RÉSUMÉ!L22","v":0},{"$f":"RÉSUMÉ!M22","v":0},{"$f":"RÉSUMÉ!N22","v":0},{"$f":"RÉSUMÉ!O22","v":0},{"$f":"RÉSUMÉ!P22","v":0},{"$f":"RÉSUMÉ!Q22","v":0},{"$f":"RÉSUMÉ!R22","v":""},{"$f":"RÉSUMÉ!S22","v":0},{"$f":"RÉSUMÉ!T22","v":""},{"$f":"RÉSUMÉ!U22","v":0},{"$f":"RÉSUMÉ!V22","v":""},{"$f":"RÉSUMÉ!W22","v":0},{"$f":"RÉSUMÉ!X22","v":""},{"$f":"RÉSUMÉ!Y22","v":0},{"$f":"RÉSUMÉ!Z22","v":""},{"$f":"RÉSUMÉ!AA22","v":0},{"$f":"RÉSUMÉ!AB22","v":""},{"$f":"RÉSUMÉ!AC22","v":0},{"$f":"RÉSUMÉ!AD22","v":0},{"$f":"RÉSUMÉ!AE22","v":0},{"$f":"RÉSUMÉ!AF22","v":0},{"$f":"RÉSUMÉ!AG22","v":0},{"$f":"RÉSUMÉ!AH22","v":0},{"$f":"RÉSUMÉ!AI22","v":0},{"$f":"RÉSUMÉ!AJ22","v":0},{"$f":"RÉSUMÉ!AK22","v":0},{"$f":"RÉSUMÉ!AL22","v":0}]
["véhicules lourds:  Dépenses [$]",{"$f":"RÉSUMÉ!B23","v":0},{"$f":"RÉSUMÉ!C23","v":0},{"$f":"RÉSUMÉ!D23","v":0},{"$f":"RÉSUMÉ!E23","v":0},{"$f":"RÉSUMÉ!F23","v":0},{"$f":"RÉSUMÉ!G23","v":0},{"$f":"RÉSUMÉ!H23","v":0},{"$f":"RÉSUMÉ!I23","v":0},{"$f":"RÉSUMÉ!J23","v":0},{"$f":"RÉSUMÉ!K23","v":0},{"$f":"RÉSUMÉ!L23","v":0},{"$f":"RÉSUMÉ!M23","v":0},{"$f":"RÉSUMÉ!N23","v":0},{"$f":"RÉSUMÉ!O23","v":0},{"$f":"RÉSUMÉ!P23","v":0},{"$f":"RÉSUMÉ!Q23","v":0},{"$f":"RÉSUMÉ!R23","v":0},{"$f":"RÉSUMÉ!S23","v":0},{"$f":"RÉSUMÉ!T23","v":0},{"$f":"RÉSUMÉ!U23","v":0},{"$f":"RÉSUMÉ!V23","v":0},{"$f":"RÉSUMÉ!W23","v":0},{"$f":"RÉSUMÉ!X23","v":0},{"$f":"RÉSUMÉ!Y23","v":0},{"$f":"RÉSUMÉ!Z23","v":0},{"$f":"RÉSUMÉ!AA23","v":0},{"$f":"RÉSUMÉ!AB23","v":0},{"$f":"RÉSUMÉ!AC23","v":0},{"$f":"RÉSUMÉ!AD23","v":0},{"$f":"RÉSUMÉ!AE23","v":0},{"$f":"RÉSUMÉ!AF23","v":0},{"$f":"RÉSUMÉ!AG23","v":0},{"$f":"RÉSUMÉ!AH23","v":0},{"$f":"RÉSUMÉ!AI23","v":0},{"$f":"RÉSUMÉ!AJ23","v":0},{"$f":"RÉSUMÉ!AK23","v":0},{"$f":"RÉSUMÉ!AL23","v":0}]
["                             Variation/année de référence [%]",{"$f":"RÉSUMÉ!B24","v":0},{"$f":"RÉSUMÉ!C24","v":0},{"$f":"RÉSUMÉ!D24","v":0},{"$f":"RÉSUMÉ!E24","v":0},{"$f":"RÉSUMÉ!F24","v":0},{"$f":"RÉSUMÉ!G24","v":0},{"$f":"RÉSUMÉ!H24","v":0},{"$f":"RÉSUMÉ!I24","v":0},{"$f":"RÉSUMÉ!J24","v":0},{"$f":"RÉSUMÉ!K24","v":0},{"$f":"RÉSUMÉ!L24","v":0},{"$f":"RÉSUMÉ!M24","v":0},{"$f":"RÉSUMÉ!N24","v":0},{"$f":"RÉSUMÉ!O24","v":0},{"$f":"RÉSUMÉ!P24","v":0},{"$f":"RÉSUMÉ!Q24","v":0},{"$f":"RÉSUMÉ!R24","v":""},{"$f":"RÉSUMÉ!S24","v":0},{"$f":"RÉSUMÉ!T24","v":""},{"$f":"RÉSUMÉ!U24","v":0},{"$f":"RÉSUMÉ!V24","v":""},{"$f":"RÉSUMÉ!W24","v":0},{"$f":"RÉSUMÉ!X24","v":""},{"$f":"RÉSUMÉ!Y24","v":0},{"$f":"RÉSUMÉ!Z24","v":""},{"$f":"RÉSUMÉ!AA24","v":0},{"$f":"RÉSUMÉ!AB24","v":""},{"$f":"RÉSUMÉ!AC24","v":0},{"$f":"RÉSUMÉ!AD24","v":0},{"$f":"RÉSUMÉ!AE24","v":0},{"$f":"RÉSUMÉ!AF24","v":0},{"$f":"RÉSUMÉ!AG24","v":0},{"$f":"RÉSUMÉ!AH24","v":0},{"$f":"RÉSUMÉ!AI24","v":0},{"$f":"RÉSUMÉ!AJ24","v":0},{"$f":"RÉSUMÉ!AK24","v":0},{"$f":"RÉSUMÉ!AL24","v":0}]
["Dépenses totales [$]",{"$f":"RÉSUMÉ!B25","v":0},{"$f":"RÉSUMÉ!C25","v":0},{"$f":"RÉSUMÉ!D25","v":0},{"$f":"RÉSUMÉ!E25","v":0},{"$f":"RÉSUMÉ!F25","v":0},{"$f":"RÉSUMÉ!G25","v":0},{"$f":"RÉSUMÉ!H25","v":0},{"$f":"RÉSUMÉ!I25","v":0},{"$f":"RÉSUMÉ!J25","v":0},{"$f":"RÉSUMÉ!K25","v":0},{"$f":"RÉSUMÉ!L25","v":0},{"$f":"RÉSUMÉ!M25","v":0},{"$f":"RÉSUMÉ!N25","v":0},{"$f":"RÉSUMÉ!O25","v":0},{"$f":"RÉSUMÉ!P25","v":0},{"$f":"RÉSUMÉ!Q25","v":0},{"$f":"RÉSUMÉ!R25","v":0},{"$f":"RÉSUMÉ!S25","v":0},{"$f":"RÉSUMÉ!T25","v":0},{"$f":"RÉSUMÉ!U25","v":0},{"$f":"RÉSUMÉ!V25","v":0},{"$f":"RÉSUMÉ!W25","v":0},{"$f":"RÉSUMÉ!X25","v":0},{"$f":"RÉSUMÉ!Y25","v":0},{"$f":"RÉSUMÉ!Z25","v":0},{"$f":"RÉSUMÉ!AA25","v":0},{"$f":"RÉSUMÉ!AB25","v":0},{"$f":"RÉSUMÉ!AC25","v":0},{"$f":"RÉSUMÉ!AD25","v":0},{"$f":"RÉSUMÉ!AE25","v":0},{"$f":"RÉSUMÉ!AF25","v":0},{"$f":"RÉSUMÉ!AG25","v":0},{"$f":"RÉSUMÉ!AH25","v":0},{"$f":"RÉSUMÉ!AI25","v":0},{"$f":"RÉSUMÉ!AJ25","v":0},{"$f":"RÉSUMÉ!AK25","v":0},{"$f":"RÉSUMÉ!AL25","v":0}]
[null,{"$f":"RÉSUMÉ!B26","v":0},{"$f":"RÉSUMÉ!C26","v":0},{"$f":"RÉSUMÉ!D26","v":0},{"$f":"RÉSUMÉ!E26","v":0},{"$f":"RÉSUMÉ!F26","v":0},{"$f":"RÉSUMÉ!G26","v":0},{"$f":"RÉSUMÉ!H26","v":0},{"$f":"RÉSUMÉ!I26","v":0},{"$f":"RÉSUMÉ!J26","v":0},{"$f":"RÉSUMÉ!K26","v":0},{"$f":"RÉSUMÉ!L26","v":0},{"$f":"RÉSUMÉ!M26","v":0},{"$f":"RÉSUMÉ!N26","v":0},{"$f":"RÉSUMÉ!O26","v":0},{"$f":"RÉSUMÉ!P26","v":0},{"$f":"RÉSUMÉ!Q26","v":0},{"$f":"RÉSUMÉ!R26","v":0},{"$f":"RÉSUMÉ!S26","v":0},{"$f":"RÉSUMÉ!T26","v":0},{"$f":"RÉSUMÉ!U26","v":0},{"$f":"RÉSUMÉ!V26","v":0},{"$f":"RÉSUMÉ!W26","v":0},{"$f":"RÉSUMÉ!X26","v":0},{"$f":"RÉSUMÉ!Y26","v":0},{"$f":"RÉSUMÉ!Z26","v":0},{"$f":"RÉSUMÉ!AA26","v":0},{"$f":"RÉSUMÉ!AB26","v":0},{"$f":"RÉSUMÉ!AC26","v":0},{"$f":"RÉSUMÉ!AD26","v":0},{"$f":"RÉSUMÉ!AE26","v":0},{"$f":"RÉSUMÉ!AF26","v":0},{"$f":"RÉSUMÉ!AG26","v":0},{"$f":"RÉSUMÉ!AH26","v":0},{"$f":"RÉSUMÉ!AI26","v":0},{"$f":"RÉSUMÉ!AJ26","v":0},{"$f":"RÉSUMÉ!AK26","v":0},{"$f":"RÉSUMÉ!AL26","v":0}]
["Distance ",{"$f":"RÉSUMÉ!B27","v":0},{"$f":"RÉSUMÉ!C27","v":0},{"$f":"RÉSUMÉ!D27","v":0},{"$f":"RÉSUMÉ!E27","v":0},{"$f":"RÉSUMÉ!F27","v":0},{"$f":"RÉSUMÉ!G27","v":0},{"$f":"RÉSUMÉ!H27","v":0},{"$f":"RÉSUMÉ!I27","v":0},{"$f":"RÉSUMÉ!J27","v":0},{"$f":"RÉSUMÉ!K27","v":0},{"$f":"RÉSUMÉ!L27","v":0},{"$f":"RÉSUMÉ!M27","v":0},{"$f":"RÉSUMÉ!N27","v":0},{"$f":"RÉSUMÉ!O27","v":0},{"$f":"RÉSUMÉ!P27","v":0},{"$f":"RÉSUMÉ!Q27","v":0},{"$f":"RÉSUMÉ!R27","v":0},{"$f":"RÉSUMÉ!S27","v":0},{"$f":"RÉSUMÉ!T27","v":0},{"$f":"RÉSUMÉ!U27","v":0},{"$f":"RÉSUMÉ!V27","v":0},{"$f":"RÉSUMÉ!W27","v":0},{"$f":"RÉSUMÉ!X27","v":0},{"$f":"RÉSUMÉ!Y27","v":0},{"$f":"RÉSUMÉ!Z27","v":0},{"$f":"RÉSUMÉ!AA27","v":0},{"$f":"RÉSUMÉ!AB27","v":0},{"$f":"RÉSUMÉ!AC27","v":0},{"$f":"RÉSUMÉ!AD27","v":0},{"$f":"RÉSUMÉ!AE27","v":0},{"$f":"RÉSUMÉ!AF27","v":0},{"$f":"RÉSUMÉ!AG27","v":0},{"$f":"RÉSUMÉ!AH27","v":0},{"$f":"RÉSUMÉ!AI27","v":0},{"$f":"RÉSUMÉ!AJ27","v":0},{"$f":"RÉSUMÉ!AK27","v":0},{"$f":"RÉSUMÉ!AL27","v":0}]
["Parcourue par les véhicules légers de l'organisation [km]",{"$f":"RÉSUMÉ!B28","v":0},{"$f":"RÉSUMÉ!C28","v":0},{"$f":"RÉSUMÉ!D28","v":0},{"$f":"RÉSUMÉ!E28","v":0},{"$f":"RÉSUMÉ!F28","v":0},{"$f":"RÉSUMÉ!G28","v":0},{"$f":"RÉSUMÉ!H28","v":0},{"$f":"RÉSUMÉ!I28","v":0},{"$f":"RÉSUMÉ!J28","v":0},{"$f":"RÉSUMÉ!K28","v":0},{"$f":"RÉSUMÉ!L28","v":0},{"$f":"RÉSUMÉ!M28","v":0},{"$f":"RÉSUMÉ!N28","v":0},{"$f":"RÉSUMÉ!O28","v":0},{"$f":"RÉSUMÉ!P28","v":0},{"$f":"RÉSUMÉ!Q28","v":0},{"$f":"RÉSUMÉ!R28","v":0},{"$f":"RÉSUMÉ!S28","v":0},{"$f":"RÉSUMÉ!T28","v":0},{"$f":"RÉSUMÉ!U28","v":0},{"$f":"RÉSUMÉ!V28","v":0},{"$f":"RÉSUMÉ!W28","v":0},{"$f":"RÉSUMÉ!X28","v":0},{"$f":"RÉSUMÉ!Y28","v":0},{"$f":"RÉSUMÉ!Z28","v":0},{"$f":"RÉSUMÉ!AA28","v":0},{"$f":"RÉSUMÉ!AB28","v":0},{"$f":"RÉSUMÉ!AC28","v":0},{"$f":"RÉSUMÉ!AD28","v":0},{"$f":"RÉSUMÉ!AE28","v":0},{"$f":"RÉSUMÉ!AF28","v":0},{"$f":"RÉSUMÉ!AG28","v":0},{"$f":"RÉSUMÉ!AH28","v":0},{"$f":"RÉSUMÉ!AI28","v":0},{"$f":"RÉSUMÉ!AJ28","v":0},{"$f":"RÉSUMÉ!AK28","v":0},{"$f":"RÉSUMÉ!AL28","v":0}]
["Parcourue par les véhicules lourds de l'organisation [km]",{"$f":"RÉSUMÉ!B29","v":0},{"$f":"RÉSUMÉ!C29","v":0},{"$f":"RÉSUMÉ!D29","v":0},{"$f":"RÉSUMÉ!E29","v":0},{"$f":"RÉSUMÉ!F29","v":0},{"$f":"RÉSUMÉ!G29","v":0},{"$f":"RÉSUMÉ!H29","v":0},{"$f":"RÉSUMÉ!I29","v":0},{"$f":"RÉSUMÉ!J29","v":0},{"$f":"RÉSUMÉ!K29","v":0},{"$f":"RÉSUMÉ!L29","v":0},{"$f":"RÉSUMÉ!M29","v":0},{"$f":"RÉSUMÉ!N29","v":0},{"$f":"RÉSUMÉ!O29","v":0},{"$f":"RÉSUMÉ!P29","v":0},{"$f":"RÉSUMÉ!Q29","v":0},{"$f":"RÉSUMÉ!R29","v":0},{"$f":"RÉSUMÉ!S29","v":0},{"$f":"RÉSUMÉ!T29","v":0},{"$f":"RÉSUMÉ!U29","v":0},{"$f":"RÉSUMÉ!V29","v":0},{"$f":"RÉSUMÉ!W29","v":0},{"$f":"RÉSUMÉ!X29","v":0},{"$f":"RÉSUMÉ!Y29","v":0},{"$f":"RÉSUMÉ!Z29","v":0},{"$f":"RÉSUMÉ!AA29","v":0},{"$f":"RÉSUMÉ!AB29","v":0},{"$f":"RÉSUMÉ!AC29","v":0},{"$f":"RÉSUMÉ!AD29","v":0},{"$f":"RÉSUMÉ!AE29","v":0},{"$f":"RÉSUMÉ!AF29","v":0},{"$f":"RÉSUMÉ!AG29","v":0},{"$f":"RÉSUMÉ!AH29","v":0},{"$f":"RÉSUMÉ!AI29","v":0},{"$f":"RÉSUMÉ!AJ29","v":0},{"$f":"RÉSUMÉ!AK29","v":0},{"$f":"RÉSUMÉ!AL29","v":0}]
["Parcourue par d'autres moyens de transport  [km]",{"$f":"RÉSUMÉ!B30","v":0},{"$f":"RÉSUMÉ!C30","v":0},{"$f":"RÉSUMÉ!D30","v":0},{"$f":"RÉSUMÉ!E30","v":0},{"$f":"RÉSUMÉ!F30","v":0},{"$f":"RÉSUMÉ!G30","v":0},{"$f":"RÉSUMÉ!H30","v":0},{"$f":"RÉSUMÉ!I30","v":0},{"$f":"RÉSUMÉ!J30","v":0},{"$f":"RÉSUMÉ!K30","v":0},{"$f":"RÉSUMÉ!L30","v":0},{"$f":"RÉSUMÉ!M30","v":0},{"$f":"RÉSUMÉ!N30","v":0},{"$f":"RÉSUMÉ!O30","v":0},{"$f":"RÉSUMÉ!P30","v":0},{"$f":"RÉSUMÉ!Q30","v":0},{"$f":"RÉSUMÉ!R30","v":0},{"$f":"RÉSUMÉ!S30","v":0},{"$f":"RÉSUMÉ!T30","v":0},{"$f":"RÉSUMÉ!U30","v":0},{"$f":"RÉSUMÉ!V30","v":0},{"$f":"RÉSUMÉ!W30","v":0},{"$f":"RÉSUMÉ!X30","v":0},{"$f":"RÉSUMÉ!Y30","v":0},{"$f":"RÉSUMÉ!Z30","v":0},{"$f":"RÉSUMÉ!AA30","v":0},{"$f":"RÉSUMÉ!AB30","v":0},{"$f":"RÉSUMÉ!AC30","v":0},{"$f":"RÉSUMÉ!AD30","v":0},{"$f":"RÉSUMÉ!AE30","v":0},{"$f":"RÉSUMÉ!AF30","v":0},{"$f":"RÉSUMÉ!AG30","v":0},{"$f":"RÉSUMÉ!AH30","v":0},{"$f":"RÉSUMÉ!AI30","v":0},{"$f":"RÉSUMÉ!AJ30","v":0},{"$f":"RÉSUMÉ!AK30","v":0},{"$f":"RÉSUMÉ!AL30","v":0}]
["Parcourue par les transports zéro émission et évitée  [km]",{"$f":"RÉSUMÉ!B31","v":0},{"$f":"RÉSUMÉ!C31","v":0},{"$f":"RÉSUMÉ!D31","v":0},{"$f":"RÉSUMÉ!E31","v":0},{"$f":"RÉSUMÉ!F31","v":0},{"$f":"RÉSUMÉ!G31","v":0},{"$f":"RÉSUMÉ!H31","v":0},{"$f":"RÉSUMÉ!I31","v":0},{"$f":"RÉSUMÉ!J31","v":0},{"$f":"RÉSUMÉ!K31","v":0},{"$f":"RÉSUMÉ!L31","v":0},{"$f":"RÉSUMÉ!M31","v":0},{"$f":"RÉSUMÉ!N31","v":0},{"$f":"RÉSUMÉ!O31","v":0},{"$f":"RÉSUMÉ!P31","v":0},{"$f":"RÉSUMÉ!Q31","v":0},{"$f":"RÉSUMÉ!R31","v":0},{"$f":"RÉSUMÉ!S31","v":0},{"$f":"RÉSUMÉ!T31","v":0},{"$f":"RÉSUMÉ!U31","v":0},{"$f":"RÉSUMÉ!V31","v":0},{"$f":"RÉSUMÉ!W31","v":0},{"$f":"RÉSUMÉ!X31","v":0},{"$f":"RÉSUMÉ!Y31","v":0},{"$f":"RÉSUMÉ!Z31","v":0},{"$f":"RÉSUMÉ!AA31","v":0},{"$f":"RÉSUMÉ!AB31","v":0},{"$f":"RÉSUMÉ!AC31","v":0},{"$f":"RÉSUMÉ!AD31","v":0},{"$f":"RÉSUMÉ!AE31","v":0},{"$f":"RÉSUMÉ!AF31","v":0},{"$f":"RÉSUMÉ!AG31","v":0},{"$f":"RÉSUMÉ!AH31","v":0},{"$f":"RÉSUMÉ!AI31","v":0},{"$f":"RÉSUMÉ!AJ31","v":0},{"$f":"RÉSUMÉ!AK31","v":0},{"$f":"RÉSUMÉ!AL31","v":0}]
[null,{"$f":"RÉSUMÉ!B32","v":0},{"$f":"RÉSUMÉ!C32","v":0},{"$f":"RÉSUMÉ!D32","v":0},{"$f":"RÉSUMÉ!E32","v":0},{"$f":"RÉSUMÉ!F32","v":0},{"$f":"RÉSUMÉ!G32","v":0},{"$f":"RÉSUMÉ!H32","v":0},{"$f":"RÉSUMÉ!I32","v":0},{"$f":"RÉSUMÉ!J32","v":0},{"$f":"RÉSUMÉ!K32","v":0},{"$f":"RÉSUMÉ!L32","v":0},{"$f":"RÉSUMÉ!M32","v":0},{"$f":"RÉSUMÉ!N32","v":0},{"$f":"RÉSUMÉ!O32","v":0},{"$f":"RÉSUMÉ!P32","v":0},{"$f":"RÉSUMÉ!Q32","v":0},{"$f":"RÉSUMÉ!R32","v":0},{"$f":"RÉSUMÉ!S32","v":0},{"$f":"RÉSUMÉ!T32","v":0},{"$f":"RÉSUMÉ!U32","v":0},{"$f":"RÉSUMÉ!V32","v":0},{"$f":"RÉSUMÉ!W32","v":0},{"$f":"RÉSUMÉ!X32","v":0},{"$f":"RÉSUMÉ!Y32","v":0},{"$f":"RÉSUMÉ!Z32","v":0},{"$f":"RÉSUMÉ!AA32","v":0},{"$f":"RÉSUMÉ!AB32","v":0},{"$f":"RÉSUMÉ!AC32","v":0},{"$f":"RÉSUMÉ!AD32","v":0},{"$f":"RÉSUMÉ!AE32","v":0},{"$f":"RÉSUMÉ!AF32","v":0},{"$f":"RÉSUMÉ!AG32","v":0},{"$f":"RÉSUMÉ!AH32","v":0},{"$f":"RÉSUMÉ!AI32","v":0},{"$f":"RÉSUMÉ!AJ32","v":0},{"$f":"RÉSUMÉ!AK32","v":0},{"$f":"RÉSUMÉ!AL32","v":0}]
["Nombre de véhicules",{"$f":"RÉSUMÉ!B33","v":0},{"$f":"RÉSUMÉ!C33","v":0},{"$f":"RÉSUMÉ!D33","v":0},{"$f":"RÉSUMÉ!E33","v":0},{"$f":"RÉSUMÉ!F33","v":0},{"$f":"RÉSUMÉ!G33","v":0},{"$f":"RÉSUMÉ!H33","v":0},{"$f":"RÉSUMÉ!I33","v":0},{"$f":"RÉSUMÉ!J33","v":0},{"$f":"RÉSUMÉ!K33","v":0},{"$f":"RÉSUMÉ!L33","v":0},{"$f":"RÉSUMÉ!M33","v":0},{"$f":"RÉSUMÉ!N33","v":0},{"$f":"RÉSUMÉ!O33","v":0},{"$f":"RÉSUMÉ!P33","v":0},{"$f":"RÉSUMÉ!Q33","v":0},{"$f":"RÉSUMÉ!R33","v":0},{"$f":"RÉSUMÉ!S33","v":0},{"$f":"RÉSUMÉ!T33","v":0},{"$f":"RÉSUMÉ!U33","v":0},{"$f":"RÉSUMÉ!V33","v":0},{"$f":"RÉSUMÉ!W33","v":0},{"$f":"RÉSUMÉ!X33","v":0},{"$f":"RÉSUMÉ!Y33","v":0},{"$f":"RÉSUMÉ!Z33","v":0},{"$f":"RÉSUMÉ!AA33","v":0},{"$f":"RÉSUMÉ!AB33","v":0},{"$f":"RÉSUMÉ!AC33","v":0},{"$f":"RÉSUMÉ!AD33","v":0},{"$f":"RÉSUMÉ!AE33","v":0},{"$f":"RÉSUMÉ!AF33","v":0},{"$f":"RÉSUMÉ!AG33","v":0},{"$f":"RÉSUMÉ!AH33","v":0},{"$f":"RÉSUMÉ!AI33","v":0},{"$f":"RÉSUMÉ!AJ33","v":0},{"$f":"RÉSUMÉ!AK33","v":0},{"$f":"RÉSUMÉ!AL33","v":0}]
["Nombre de véhicules légers sur route et hors route",{"$f":"RÉSUMÉ!B34","v":0},{"$f":"RÉSUMÉ!C34","v":0},{"$f":"RÉSUMÉ!D34","v":0},{"$f":"RÉSUMÉ!E34","v":0},{"$f":"RÉSUMÉ!F34","v":0},{"$f":"RÉSUMÉ!G34","v":0},{"$f":"RÉSUMÉ!H34","v":0},{"$f":"RÉSUMÉ!I34","v":0},{"$f":"RÉSUMÉ!J34","v":0},{"$f":"RÉSUMÉ!K34","v":0},{"$f":"RÉSUMÉ!L34","v":0},{"$f":"RÉSUMÉ!M34","v":0},{"$f":"RÉSUMÉ!N34","v":0},{"$f":"RÉSUMÉ!O34","v":0},{"$f":"RÉSUMÉ!P34","v":0},{"$f":"RÉSUMÉ!Q34","v":0},{"$f":"RÉSUMÉ!R34","v":0},{"$f":"RÉSUMÉ!S34","v":0},{"$f":"RÉSUMÉ!T34","v":0},{"$f":"RÉSUMÉ!U34","v":0},{"$f":"RÉSUMÉ!V34","v":0},{"$f":"RÉSUMÉ!W34","v":0},{"$f":"RÉSUMÉ!X34","v":0},{"$f":"RÉSUMÉ!Y34","v":0},{"$f":"RÉSUMÉ!Z34","v":0},{"$f":"RÉSUMÉ!AA34","v":0},{"$f":"RÉSUMÉ!AB34","v":0},{"$f":"RÉSUMÉ!AC34","v":0},{"$f":"RÉSUMÉ!AD34","v":0},{"$f":"RÉSUMÉ!AE34","v":0},{"$f":"RÉSUMÉ!AF34","v":0},{"$f":"RÉSUMÉ!AG34","v":0},{"$f":"RÉSUMÉ!AH34","v":0},{"$f":"RÉSUMÉ!AI34","v":0},{"$f":"RÉSUMÉ!AJ34","v":0},{"$f":"RÉSUMÉ!AK34","v":0},{"$f":"RÉSUMÉ!AL34","v":0}]
["Nombre de véhicules lourds sur route et hors route",{"$f":"RÉSUMÉ!B35","v":0},{"$f":"RÉSUMÉ!C35","v":0},{"$f":"RÉSUMÉ!D35","v":0},{"$f":"RÉSUMÉ!E35","v":0},{"$f":"RÉSUMÉ!F35","v":0},{"$f":"RÉSUMÉ!G35","v":0},{"$f":"RÉSUMÉ!H35","v":0},{"$f":"RÉSUMÉ!I35","v":0},{"$f":"RÉSUMÉ!J35","v":0},{"$f":"RÉSUMÉ!K35","v":0},{"$f":"RÉSUMÉ!L35","v":0},{"$f":"RÉSUMÉ!M35","v":0},{"$f":"RÉSUMÉ!N35","v":0},{"$f":"RÉSUMÉ!O35","v":0},{"$f":"RÉSUMÉ!P35","v":0},{"$f":"RÉSUMÉ!Q35","v":0},{"$f":"RÉSUMÉ!R35","v":0},{"$f":"RÉSUMÉ!S35","v":0},{"$f":"RÉSUMÉ!T35","v":0},{"$f":"RÉSUMÉ!U35","v":0},{"$f":"RÉSUMÉ!V35","v":0},{"$f":"RÉSUMÉ!W35","v":0},{"$f":"RÉSUMÉ!X35","v":0},{"$f":"RÉSUMÉ!Y35","v":0},{"$f":"RÉSUMÉ!Z35","v":0},{"$f":"RÉSUMÉ!AA35","v":0},{"$f":"RÉSUMÉ!AB35","v":0},{"$f":"RÉSUMÉ!AC35","v":0},{"$f":"RÉSUMÉ!AD35","v":0},{"$f":"RÉSUMÉ!AE35","v":0},{"$f":"RÉSUMÉ!AF35","v":0},{"$f":"RÉSUMÉ!AG35","v":0},{"$f":"RÉSUMÉ!AH35","v":0},{"$f":"RÉSUMÉ!AI35","v":0},{"$f":"RÉSUMÉ!AJ35","v":0},{"$f":"RÉSUMÉ!AK35","v":0},{"$f":"RÉSUMÉ!AL35","v":0}]
["Nombre de véhicules sur route et hors route (total)",{"$f":"RÉSUMÉ!B36","v":0},{"$f":"RÉSUMÉ!C36","v":0},{"$f":"RÉSUMÉ!D36","v":0},{"$f":"RÉSUMÉ!E36","v":0},{"$f":"RÉSUMÉ!F36","v":0},{"$f":"RÉSUMÉ!G36","v":0},{"$f":"RÉSUMÉ!H36","v":0},{"$f":"RÉSUMÉ!I36","v":0},{"$f":"RÉSUMÉ!J36","v":0},{"$f":"RÉSUMÉ!K36","v":0},{"$f":"RÉSUMÉ!L36","v":0},{"$f":"RÉSUMÉ!M36","v":0},{"$f":"RÉSUMÉ!N36","v":0},{"$f":"RÉSUMÉ!O36","v":0},{"$f":"RÉSUMÉ!P36","v":0},{"$f":"RÉSUMÉ!Q36","v":0},{"$f":"RÉSUMÉ!R36","v":0},{"$f":"RÉSUMÉ!S36","v":0},{"$f":"RÉSUMÉ!T36","v":0},{"$f":"RÉSUMÉ!U36","v":0},{"$f":"RÉSUMÉ!V36","v":0},{"$f":"RÉSUMÉ!W36","v":0},{"$f":"RÉSUMÉ!X36","v":0},{"$f":"RÉSUMÉ!Y36","v":0},{"$f":"RÉSUMÉ!Z36","v":0},{"$f":"RÉSUMÉ!AA36","v":0},{"$f":"RÉSUMÉ!AB36","v":0},{"$f":"RÉSUMÉ!AC36","v":0},{"$f":"RÉSUMÉ!AD36","v":0},{"$f":"RÉSUMÉ!AE36","v":0},{"$f":"RÉSUMÉ!AF36","v":0},{"$f":"RÉSUMÉ!AG36","v":0},{"$f":"RÉSUMÉ!AH36","v":0},{"$f":"RÉSUMÉ!AI36","v":0},{"$f":"RÉSUMÉ!AJ36","v":0},{"$f":"RÉSUMÉ!AK36","v":0},{"$f":"RÉSUMÉ!AL36","v":0}]
[null,{"$f":"RÉSUMÉ!B37","v":0},{"$f":"RÉSUMÉ!C37","v":0},{"$f":"RÉSUMÉ!D37","v":0},{"$f":"RÉSUMÉ!E37","v":0},{"$f":"RÉSUMÉ!F37","v":0},{"$f":"RÉSUMÉ!G37","v":0},{"$f":"RÉSUMÉ!H37","v":0},{"$f":"RÉSUMÉ!I37","v":0},{"$f":"RÉSUMÉ!J37","v":0},{"$f":"RÉSUMÉ!K37","v":0},{"$f":"RÉSUMÉ!L37","v":0},{"$f":"RÉSUMÉ!M37","v":0},{"$f":"RÉSUMÉ!N37","v":0},{"$f":"RÉSUMÉ!O37","v":0},{"$f":"RÉSUMÉ!P37","v":0},{"$f":"RÉSUMÉ!Q37","v":0},{"$f":"RÉSUMÉ!R37","v":0},{"$f":"RÉSUMÉ!S37","v":0},{"$f":"RÉSUMÉ!T37","v":0},{"$f":"RÉSUMÉ!U37","v":0},{"$f":"RÉSUMÉ!V37","v":0},{"$f":"RÉSUMÉ!W37","v":0},{"$f":"RÉSUMÉ!X37","v":0},{"$f":"RÉSUMÉ!Y37","v":0},{"$f":"RÉSUMÉ!Z37","v":0},{"$f":"RÉSUMÉ!AA37","v":0},{"$f":"RÉSUMÉ!AB37","v":0},{"$f":"RÉSUMÉ!AC37","v":0},{"$f":"RÉSUMÉ!AD37","v":0},{"$f":"RÉSUMÉ!AE37","v":0},{"$f":"RÉSUMÉ!AF37","v":0},{"$f":"RÉSUMÉ!AG37","v":0},{"$f":"RÉSUMÉ!AH37","v":0},{"$f":"RÉSUMÉ!AI37","v":0},{"$f":"RÉSUMÉ!AJ37","v":0},{"$f":"RÉSUMÉ!AK37","v":0},{"$f":"RÉSUMÉ!AL37","v":0}]
["Indice spécifique",{"$f":"RÉSUMÉ!B38","v":0},{"$f":"RÉSUMÉ!C38","v":0},{"$f":"RÉSUMÉ!D38","v":0},{"$f":"RÉSUMÉ!E38","v":0},{"$f":"RÉSUMÉ!F38","v":0},{"$f":"RÉSUMÉ!G38","v":0},{"$f":"RÉSUMÉ!H38","v":0},{"$f":"RÉSUMÉ!I38","v":0},{"$f":"RÉSUMÉ!J38","v":0},{"$f":"RÉSUMÉ!K38","v":0},{"$f":"RÉSUMÉ!L38","v":0},{"$f":"RÉSUMÉ!M38","v":0},{"$f":"RÉSUMÉ!N38","v":0},{"$f":"RÉSUMÉ!O38","v":0},{"$f":"RÉSUMÉ!P38","v":0},{"$f":"RÉSUMÉ!Q38","v":0},{"$f":"RÉSUMÉ!R38","v":0},{"$f":"RÉSUMÉ!S38","v":0},{"$f":"RÉSUMÉ!T38","v":0},{"$f":"RÉSUMÉ!U38","v":0},{"$f":"RÉSUMÉ!V38","v":0},{"$f":"RÉSUMÉ!W38","v":0},{"$f":"RÉSUMÉ!X38","v":0},{"$f":"RÉSUMÉ!Y38","v":0},{"$f":"RÉSUMÉ!Z38","v":0},{"$f":"RÉSUMÉ!AA38","v":0},{"$f":"RÉSUMÉ!AB38","v":0},{"$f":"RÉSUMÉ!AC38","v":0},{"$f":"RÉSUMÉ!AD38","v":0},{"$f":"RÉSUMÉ!AE38","v":0},{"$f":"RÉSUMÉ!AF38","v":0},{"$f":"RÉSUMÉ!AG38","v":0},{"$f":"RÉSUMÉ!AH38","v":0},{"$f":"RÉSUMÉ!AI38","v":0},{"$f":"RÉSUMÉ!AJ38","v":0},{"$f":"RÉSUMÉ!AK38","v":0},{"$f":"RÉSUMÉ!AL38","v":0}]
["Véhicules légers: Consommation [L-éq. essence/100 km]",{"$f":"RÉSUMÉ!B39","v":0},{"$f":"RÉSUMÉ!C39","v":0},{"$f":"RÉSUMÉ!D39","v":0},{"$f":"RÉSUMÉ!E39","v":0},{"$f":"RÉSUMÉ!F39","v":0},{"$f":"RÉSUMÉ!G39","v":0},{"$f":"RÉSUMÉ!H39","v":0},{"$f":"RÉSUMÉ!I39","v":0},{"$f":"RÉSUMÉ!J39","v":0},{"$f":"RÉSUMÉ!K39","v":0},{"$f":"RÉSUMÉ!L39","v":0},{"$f":"RÉSUMÉ!M39","v":0},{"$f":"RÉSUMÉ!N39","v":0},{"$f":"RÉSUMÉ!O39","v":0},{"$f":"RÉSUMÉ!P39","v":0},{"$f":"RÉSUMÉ!Q39","v":0},{"$f":"RÉSUMÉ!R39","v":0},{"$f":"RÉSUMÉ!S39","v":0},{"$f":"RÉSUMÉ!T39","v":0},{"$f":"RÉSUMÉ!U39","v":0},{"$f":"RÉSUMÉ!V39","v":0},{"$f":"RÉSUMÉ!W39","v":0},{"$f":"RÉSUMÉ!X39","v":0},{"$f":"RÉSUMÉ!Y39","v":0},{"$f":"RÉSUMÉ!Z39","v":0},{"$f":"RÉSUMÉ!AA39","v":0},{"$f":"RÉSUMÉ!AB39","v":0},{"$f":"RÉSUMÉ!AC39","v":0},{"$f":"RÉSUMÉ!AD39","v":0},{"$f":"RÉSUMÉ!AE39","v":0},{"$f":"RÉSUMÉ!AF39","v":0},{"$f":"RÉSUMÉ!AG39","v":0},{"$f":"RÉSUMÉ!AH39","v":0},{"$f":"RÉSUMÉ!AI39","v":0},{"$f":"RÉSUMÉ!AJ39","v":0},{"$f":"RÉSUMÉ!AK39","v":0},{"$f":"RÉSUMÉ!AL39","v":0}]
["                                                Variation/année de référence [%]",{"$f":"RÉSUMÉ!B40","v":0},{"$f":"RÉSUMÉ!C40","v":0},{"$f":"RÉSUMÉ!D40","v":0},{"$f":"RÉSUMÉ!E40","v":0},{"$f":"RÉSUMÉ!F40","v":0},{"$f":"RÉSUMÉ!G40","v":0},{"$f":"RÉSUMÉ!H40","v":0},{"$f":"RÉSUMÉ!I40","v":0},{"$f":"RÉSUMÉ!J40","v":0},{"$f":"RÉSUMÉ!K40","v":0},{"$f":"RÉSUMÉ!L40","v":0},{"$f":"RÉSUMÉ!M40","v":0},{"$f":"RÉSUMÉ!N40","v":0},{"$f":"RÉSUMÉ!O40","v":0},{"$f":"RÉSUMÉ!P40","v":0},{"$f":"RÉSUMÉ!Q40","v":0},{"$f":"RÉSUMÉ!R40","v":""},{"$f":"RÉSUMÉ!S40","v":0},{"$f":"RÉSUMÉ!T40","v":""},{"$f":"RÉSUMÉ!U40","v":0},{"$f":"RÉSUMÉ!V40","v":""},{"$f":"RÉSUMÉ!W40","v":0},{"$f":"RÉSUMÉ!X40","v":""},{"$f":"RÉSUMÉ!Y40","v":0},{"$f":"RÉSUMÉ!Z40","v":""},{"$f":"RÉSUMÉ!AA40","v":0},{"$f":"RÉSUMÉ!AB40","v":""},{"$f":"RÉSUMÉ!AC40","v":0},{"$f":"RÉSUMÉ!AD40","v":0},{"$f":"RÉSUMÉ!AE40","v":0},{"$f":"RÉSUMÉ!AF40","v":0},{"$f":"RÉSUMÉ!AG40","v":0},{"$f":"RÉSUMÉ!AH40","v":0},{"$f":"RÉSUMÉ!AI40","v":0},{"$f":"RÉSUMÉ!AJ40","v":0},{"$f":"RÉSUMÉ!AK40","v":0},{"$f":"RÉSUMÉ!AL40","v":0}]
["Véhicules lourds: Consommation [L-éq. essence/100 km]",{"$f":"RÉSUMÉ!B41","v":0},{"$f":"RÉSUMÉ!C41","v":0},{"$f":"RÉSUMÉ!D41","v":0},{"$f":"RÉSUMÉ!E41","v":0},{"$f":"RÉSUMÉ!F41","v":0},{"$f":"RÉSUMÉ!G41","v":0},{"$f":"RÉSUMÉ!H41","v":0},{"$f":"RÉSUMÉ!I41","v":0},{"$f":"RÉSUMÉ!J41","v":0},{"$f":"RÉSUMÉ!K41","v":0},{"$f":"RÉSUMÉ!L41","v":0},{"$f":"RÉSUMÉ!M41","v":0},{"$f":"RÉSUMÉ!N41","v":0},{"$f":"RÉSUMÉ!O41","v":0},{"$f":"RÉSUMÉ!P41","v":0},{"$f":"RÉSUMÉ!Q41","v":0},{"$f":"RÉSUMÉ!R41","v":0},{"$f":"RÉSUMÉ!S41","v":0},{"$f":"RÉSUMÉ!T41","v":0},{"$f":"RÉSUMÉ!U41","v":0},{"$f":"RÉSUMÉ!V41","v":0},{"$f":"RÉSUMÉ!W41","v":0},{"$f":"RÉSUMÉ!X41","v":0},{"$f":"RÉSUMÉ!Y41","v":0},{"$f":"RÉSUMÉ!Z41","v":0},{"$f":"RÉSUMÉ!AA41","v":0},{"$f":"RÉSUMÉ!AB41","v":0},{"$f":"RÉSUMÉ!AC41","v":0},{"$f":"RÉSUMÉ!AD41","v":0},{"$f":"RÉSUMÉ!AE41","v":0},{"$f":"RÉSUMÉ!AF41","v":0},{"$f":"RÉSUMÉ!AG41","v":0},{"$f":"RÉSUMÉ!AH41","v":0},{"$f":"RÉSUMÉ!AI41","v":0},{"$f":"RÉSUMÉ!AJ41","v":0},{"$f":"RÉSUMÉ!AK41","v":0},{"$f":"RÉSUMÉ!AL41","v":0}]
["                                                Variation/année de référence [%]",{"$f":"RÉSUMÉ!B42","v":0},{"$f":"RÉSUMÉ!C42","v":0},{"$f":"RÉSUMÉ!D42","v":0},{"$f":"RÉSUMÉ!E42","v":0},{"$f":"RÉSUMÉ!F42","v":0},{"$f":"RÉSUMÉ!G42","v":0},{"$f":"RÉSUMÉ!H42","v":0},{"$f":"RÉSUMÉ!I42","v":0},{"$f":"RÉSUMÉ!J42","v":0},{"$f":"RÉSUMÉ!K42","v":0},{"$f":"RÉSUMÉ!L42","v":0},{"$f":"RÉSUMÉ!M42","v":0},{"$f":"RÉSUMÉ!N42","v":0},{"$f":"RÉSUMÉ!O42","v":0},{"$f":"RÉSUMÉ!P42","v":0},{"$f":"RÉSUMÉ!Q42","v":0},{"$f":"RÉSUMÉ!R42","v":""},{"$f":"RÉSUMÉ!S42","v":0},{"$f":"RÉSUMÉ!T42","v":""},{"$f":"RÉSUMÉ!U42","v":0},{"$f":"RÉSUMÉ!V42","v":""},{"$f":"RÉSUMÉ!W42","v":0},{"$f":"RÉSUMÉ!X42","v":""},{"$f":"RÉSUMÉ!Y42","v":0},{"$f":"RÉSUMÉ!Z42","v":""},{"$f":"RÉSUMÉ!AA42","v":0},{"$f":"RÉSUMÉ!AB42","v":""},{"$f":"RÉSUMÉ!AC42","v":0},{"$f":"RÉSUMÉ!AD42","v":0},{"$f":"RÉSUMÉ!AE42","v":0},{"$f":"RÉSUMÉ!AF42","v":0},{"$f":"RÉSUMÉ!AG42","v":0},{"$f":"RÉSUMÉ!AH42","v":0},{"$f":"RÉSUMÉ!AI42","v":0},{"$f":"RÉSUMÉ!AJ42","v":0},{"$f":"RÉSUMÉ!AK42","v":0},{"$f":"RÉSUMÉ!AL42","v":0}]
["Véhicules (légers et lourds):  [L-éq. essence/100 km]",{"$f":"RÉSUMÉ!B43","v":0},{"$f":"RÉSUMÉ!C43","v":0},{"$f":"RÉSUMÉ!D43","v":0},{"$f":"RÉSUMÉ!E43","v":0},{"$f":"RÉSUMÉ!F43","v":0},{"$f":"RÉSUMÉ!G43","v":0},{"$f":"RÉSUMÉ!H43","v":0},{"$f":"RÉSUMÉ!I43","v":0},{"$f":"RÉSUMÉ!J43","v":0},{"$f":"RÉSUMÉ!K43","v":0},{"$f":"RÉSUMÉ!L43","v":0},{"$f":"RÉSUMÉ!M43","v":0},{"$f":"RÉSUMÉ!N43","v":0},{"$f":"RÉSUMÉ!O43","v":0},{"$f":"RÉSUMÉ!P43","v":0},{"$f":"RÉSUMÉ!Q43","v":0},{"$f":"RÉSUMÉ!R43","v":0},{"$f":"RÉSUMÉ!S43","v":0},{"$f":"RÉSUMÉ!T43","v":0},{"$f":"RÉSUMÉ!U43","v":0},{"$f":"RÉSUMÉ!V43","v":0},{"$f":"RÉSUMÉ!W43","v":0},{"$f":"RÉSUMÉ!X43","v":0},{"$f":"RÉSUMÉ!Y43","v":0},{"$f":"RÉSUMÉ!Z43","v":0},{"$f":"RÉSUMÉ!AA43","v":0},{"$f":"RÉSUMÉ!AB43","v":0},{"$f":"RÉSUMÉ!AC43","v":0},{"$f":"RÉSUMÉ!AD43","v":0},{"$f":"RÉSUMÉ!AE43","v":0},{"$f":"RÉSUMÉ!AF43","v":0},{"$f":"RÉSUMÉ!AG43","v":0},{"$f":"RÉSUMÉ!AH43","v":0},{"$f":"RÉSUMÉ!AI43","v":0},{"$f":"RÉSUMÉ!AJ43","v":0},{"$f":"RÉSUMÉ!AK43","v":0},{"$f":"RÉSUMÉ!AL43","v":0}]
["                                                Variation/année de référence [%]",{"$f":"RÉSUMÉ!B44","v":0},{"$f":"RÉSUMÉ!C44","v":0},{"$f":"RÉSUMÉ!D44","v":0},{"$f":"RÉSUMÉ!E44","v":0},{"$f":"RÉSUMÉ!F44","v":0},{"$f":"RÉSUMÉ!G44","v":0},{"$f":"RÉSUMÉ!H44","v":0},{"$f":"RÉSUMÉ!I44","v":0},{"$f":"RÉSUMÉ!J44","v":0},{"$f":"RÉSUMÉ!K44","v":0},{"$f":"RÉSUMÉ!L44","v":0},{"$f":"RÉSUMÉ!M44","v":0},{"$f":"RÉSUMÉ!N44","v":0},{"$f":"RÉSUMÉ!O44","v":0},{"$f":"RÉSUMÉ!P44","v":0},{"$f":"RÉSUMÉ!Q44","v":0},{"$f":"RÉSUMÉ!R44","v":""},{"$f":"RÉSUMÉ!S44","v":0},{"$f":"RÉSUMÉ!T44","v":""},{"$f":"RÉSUMÉ!U44","v":0},{"$f":"RÉSUMÉ!V44","v":""},{"$f":"RÉSUMÉ!W44","v":0},{"$f":"RÉSUMÉ!X44","v":""},{"$f":"RÉSUMÉ!Y44","v":0},{"$f":"RÉSUMÉ!Z44","v":""},{"$f":"RÉSUMÉ!AA44","v":0},{"$f":"RÉSUMÉ!AB44","v":""},{"$f":"RÉSUMÉ!AC44","v":0},{"$f":"RÉSUMÉ!AD44","v":""},{"$f":"RÉSUMÉ!AE44","v":0},{"$f":"RÉSUMÉ!AF44","v":""},{"$f":"RÉSUMÉ!AG44","v":0},{"$f":"RÉSUMÉ!AH44","v":""},{"$f":"RÉSUMÉ!AI44","v":0},{"$f":"RÉSUMÉ!AJ44","v":""},{"$f":"RÉSUMÉ!AK44","v":0},{"$f":"RÉSUMÉ!AL44","v":""}]
["Véhicules et autres déplacements:  [L-éq. essence/100 km]",{"$f":"RÉSUMÉ!B45","v":0},{"$f":"RÉSUMÉ!C45","v":0},{"$f":"RÉSUMÉ!D45","v":0},{"$f":"RÉSUMÉ!E45","v":0},{"$f":"RÉSUMÉ!F45","v":0},{"$f":"RÉSUMÉ!G45","v":0},{"$f":"RÉSUMÉ!H45","v":0},{"$f":"RÉSUMÉ!I45","v":0},{"$f":"RÉSUMÉ!J45","v":0},{"$f":"RÉSUMÉ!K45","v":0},{"$f":"RÉSUMÉ!L45","v":0},{"$f":"RÉSUMÉ!M45","v":0},{"$f":"RÉSUMÉ!N45","v":0},{"$f":"RÉSUMÉ!O45","v":0},{"$f":"RÉSUMÉ!P45","v":0},{"$f":"RÉSUMÉ!Q45","v":0},{"$f":"RÉSUMÉ!R45","v":0},{"$f":"RÉSUMÉ!S45","v":0},{"$f":"RÉSUMÉ!T45","v":0},{"$f":"RÉSUMÉ!U45","v":0},{"$f":"RÉSUMÉ!V45","v":0},{"$f":"RÉSUMÉ!W45","v":0},{"$f":"RÉSUMÉ!X45","v":0},{"$f":"RÉSUMÉ!Y45","v":0},{"$f":"RÉSUMÉ!Z45","v":0},{"$f":"RÉSUMÉ!AA45","v":0},{"$f":"RÉSUMÉ!AB45","v":0},{"$f":"RÉSUMÉ!AC45","v":0},{"$f":"RÉSUMÉ!AD45","v":0},{"$f":"RÉSUMÉ!AE45","v":0},{"$f":"RÉSUMÉ!AF45","v":0},{"$f":"RÉSUMÉ!AG45","v":0},{"$f":"RÉSUMÉ!AH45","v":0},{"$f":"RÉSUMÉ!AI45","v":0},{"$f":"RÉSUMÉ!AJ45","v":0},{"$f":"RÉSUMÉ!AK45","v":0},{"$f":"RÉSUMÉ!AL45","v":0}]
["                                                Variation/année de référence [%]",{"$f":"RÉSUMÉ!B46","v":0},{"$f":"RÉSUMÉ!C46","v":0},{"$f":"RÉSUMÉ!D46","v":0},{"$f":"RÉSUMÉ!E46","v":0},{"$f":"RÉSUMÉ!F46","v":0},{"$f":"RÉSUMÉ!G46","v":0},{"$f":"RÉSUMÉ!H46","v":0},{"$f":"RÉSUMÉ!I46","v":0},{"$f":"RÉSUMÉ!J46","v":0},{"$f":"RÉSUMÉ!K46","v":0},{"$f":"RÉSUMÉ!L46","v":0},{"$f":"RÉSUMÉ!M46","v":0},{"$f":"RÉSUMÉ!N46","v":0},{"$f":"RÉSUMÉ!O46","v":0},{"$f":"RÉSUMÉ!P46","v":0},{"$f":"RÉSUMÉ!Q46","v":0},{"$f":"RÉSUMÉ!R46","v":""},{"$f":"RÉSUMÉ!S46","v":0},{"$f":"RÉSUMÉ!T46","v":""},{"$f":"RÉSUMÉ!U46","v":0},{"$f":"RÉSUMÉ!V46","v":""},{"$f":"RÉSUMÉ!W46","v":0},{"$f":"RÉSUMÉ!X46","v":""},{"$f":"RÉSUMÉ!Y46","v":0},{"$f":"RÉSUMÉ!Z46","v":""},{"$f":"RÉSUMÉ!AA46","v":0},{"$f":"RÉSUMÉ!AB46","v":""},{"$f":"RÉSUMÉ!AC46","v":0},{"$f":"RÉSUMÉ!AD46","v":""},{"$f":"RÉSUMÉ!AE46","v":0},{"$f":"RÉSUMÉ!AF46","v":""},{"$f":"RÉSUMÉ!AG46","v":0},{"$f":"RÉSUMÉ!AH46","v":""},{"$f":"RÉSUMÉ!AI46","v":0},{"$f":"RÉSUMÉ!AJ46","v":""},{"$f":"RÉSUMÉ!AK46","v":0},{"$f":"RÉSUMÉ!AL46","v":""}]
[null,{"$f":"RÉSUMÉ!B47","v":0},{"$f":"RÉSUMÉ!C47","v":0},{"$f":"RÉSUMÉ!D47","v":0},{"$f":"RÉSUMÉ!E47","v":0},{"$f":"RÉSUMÉ!F47","v":0},{"$f":"RÉSUMÉ!G47","v":0},{"$f":"RÉSUMÉ!H47","v":0},{"$f":"RÉSUMÉ!I47","v":0},{"$f":"RÉSUMÉ!J47","v":0},{"$f":"RÉSUMÉ!K47","v":0},{"$f":"RÉSUMÉ!L47","v":0},{"$f":"RÉSUMÉ!M47","v":0},{"$f":"RÉSUMÉ!N47","v":0},{"$f":"RÉSUMÉ!O47","v":0},{"$f":"RÉSUMÉ!P47","v":0},{"$f":"RÉSUMÉ!Q47","v":0},{"$f":"RÉSUMÉ!R47","v":0},{"$f":"RÉSUMÉ!S47","v":0},{"$f":"RÉSUMÉ!T47","v":0},{"$f":"RÉSUMÉ!U47","v":0},{"$f":"RÉSUMÉ!V47","v":0},{"$f":"RÉSUMÉ!W47","v":0},{"$f":"RÉSUMÉ!X47","v":0},{"$f":"RÉSUMÉ!Y47","v":0},{"$f":"RÉSUMÉ!Z47","v":0},{"$f":"RÉSUMÉ!AA47","v":0},{"$f":"RÉSUMÉ!AB47","v":0},{"$f":"RÉSUMÉ!AC47","v":0},{"$f":"RÉSUMÉ!AD47","v":0},{"$f":"RÉSUMÉ!AE47","v":0},{"$f":"RÉSUMÉ!AF47","v":0},{"$f":"RÉSUMÉ!AG47","v":0},{"$f":"RÉSUMÉ!AH47","v":0},{"$f":"RÉSUMÉ!AI47","v":0},{"$f":"RÉSUMÉ!AJ47","v":0},{"$f":"RÉSUMÉ!AK47","v":0},{"$f":"RÉSUMÉ!AL47","v":0}]
["GES",{"$f":"RÉSUMÉ!B48","v":0},{"$f":"RÉSUMÉ!C48","v":0},{"$f":"RÉSUMÉ!D48","v":0},{"$f":"RÉSUMÉ!E48","v":0},{"$f":"RÉSUMÉ!F48","v":0},{"$f":"RÉSUMÉ!G48","v":0},{"$f":"RÉSUMÉ!H48","v":0},{"$f":"RÉSUMÉ!I48","v":0},{"$f":"RÉSUMÉ!J48","v":0},{"$f":"RÉSUMÉ!K48","v":0},{"$f":"RÉSUMÉ!L48","v":0},{"$f":"RÉSUMÉ!M48","v":0},{"$f":"RÉSUMÉ!N48","v":0},{"$f":"RÉSUMÉ!O48","v":0},{"$f":"RÉSUMÉ!P48","v":0},{"$f":"RÉSUMÉ!Q48","v":0},{"$f":"RÉSUMÉ!R48","v":0},{"$f":"RÉSUMÉ!S48","v":0},{"$f":"RÉSUMÉ!T48","v":0},{"$f":"RÉSUMÉ!U48","v":0},{"$f":"RÉSUMÉ!V48","v":0},{"$f":"RÉSUMÉ!W48","v":0},{"$f":"RÉSUMÉ!X48","v":0},{"$f":"RÉSUMÉ!Y48","v":0},{"$f":"RÉSUMÉ!Z48","v":0},{"$f":"RÉSUMÉ!AA48","v":0},{"$f":"RÉSUMÉ!AB48","v":0},{"$f":"RÉSUMÉ!AC48","v":0},{"$f":"RÉSUMÉ!AD48","v":0},{"$f":"RÉSUMÉ!AE48","v":0},{"$f":"RÉSUMÉ!AF48","v":0},{"$f":"RÉSUMÉ!AG48","v":0},{"$f":"RÉSUMÉ!AH48","v":0},{"$f":"RÉSUMÉ!AI48","v":0},{"$f":"RÉSUMÉ!AJ48","v":0},{"$f":"RÉSUMÉ!AK48","v":0},{"$f":"RÉSUMÉ!AL48","v":0}]
["véhicules légers:  Total des rejets [t CO2 éq]",{"$f":"RÉSUMÉ!B49","v":0},{"$f":"RÉSUMÉ!C49","v":0},{"$f":"RÉSUMÉ!D49","v":0},{"$f":"RÉSUMÉ!E49","v":0},{"$f":"RÉSUMÉ!F49","v":0},{"$f":"RÉSUMÉ!G49","v":0},{"$f":"RÉSUMÉ!H49","v":0},{"$f":"RÉSUMÉ!I49","v":0},{"$f":"RÉSUMÉ!J49","v":0},{"$f":"RÉSUMÉ!K49","v":0},{"$f":"RÉSUMÉ!L49","v":0},{"$f":"RÉSUMÉ!M49","v":0},{"$f":"RÉSUMÉ!N49","v":0},{"$f":"RÉSUMÉ!O49","v":0},{"$f":"RÉSUMÉ!P49","v":0},{"$f":"RÉSUMÉ!Q49","v":0},{"$f":"RÉSUMÉ!R49","v":0},{"$f":"RÉSUMÉ!S49","v":0},{"$f":"RÉSUMÉ!T49","v":0},{"$f":"RÉSUMÉ!U49","v":0},{"$f":"RÉSUMÉ!V49","v":0},{"$f":"RÉSUMÉ!W49","v":0},{"$f":"RÉSUMÉ!X49","v":0},{"$f":"RÉSUMÉ!Y49","v":0},{"$f":"RÉSUMÉ!Z49","v":0},{"$f":"RÉSUMÉ!AA49","v":0},{"$f":"RÉSUMÉ!AB49","v":0},{"$f":"RÉSUMÉ!AC49","v":0},{"$f":"RÉSUMÉ!AD49","v":0},{"$f":"RÉSUMÉ!AE49","v":0},{"$f":"RÉSUMÉ!AF49","v":0},{"$f":"RÉSUMÉ!AG49","v":0},{"$f":"RÉSUMÉ!AH49","v":0},{"$f":"RÉSUMÉ!AI49","v":0},{"$f":"RÉSUMÉ!AJ49","v":0},{"$f":"RÉSUMÉ!AK49","v":0},{"$f":"RÉSUMÉ!AL49","v":0}]
["                                                  Variation/année de référence [%]",{"$f":"RÉSUMÉ!B50","v":0},{"$f":"RÉSUMÉ!C50","v":0},{"$f":"RÉSUMÉ!D50","v":0},{"$f":"RÉSUMÉ!E50","v":0},{"$f":"RÉSUMÉ!F50","v":0},{"$f":"RÉSUMÉ!G50","v":0},{"$f":"RÉSUMÉ!H50","v":0},{"$f":"RÉSUMÉ!I50","v":0},{"$f":"RÉSUMÉ!J50","v":0},{"$f":"RÉSUMÉ!K50","v":0},{"$f":"RÉSUMÉ!L50","v":0},{"$f":"RÉSUMÉ!M50","v":0},{"$f":"RÉSUMÉ!N50","v":0},{"$f":"RÉSUMÉ!O50","v":0},{"$f":"RÉSUMÉ!P50","v":0},{"$f":"RÉSUMÉ!Q50","v":0},{"$f":"RÉSUMÉ!R50","v":""},{"$f":"RÉSUMÉ!S50","v":0},{"$f":"RÉSUMÉ!T50","v":""},{"$f":"RÉSUMÉ!U50","v":0},{"$f":"RÉSUMÉ!V50","v":""},{"$f":"RÉSUMÉ!W50","v":0},{"$f":"RÉSUMÉ!X50","v":""},{"$f":"RÉSUMÉ!Y50","v":0},{"$f":"RÉSUMÉ!Z50","v":""},{"$f":"RÉSUMÉ!AA50","v":0},{"$f":"RÉSUMÉ!AB50","v":""},{"$f":"RÉSUMÉ!AC50","v":0},{"$f":"RÉSUMÉ!AD50","v":0},{"$f":"RÉSUMÉ!AE50","v":0},{"$f":"RÉSUMÉ!AF50","v":0},{"$f":"RÉSUMÉ!AG50","v":0},{"$f":"RÉSUMÉ!AH50","v":0},{"$f":"RÉSUMÉ!AI50","v":0},{"$f":"RÉSUMÉ!AJ50","v":0},{"$f":"RÉSUMÉ!AK50","v":0},{"$f":"RÉSUMÉ!AL50","v":0}]
[null,{"$f":"RÉSUMÉ!B51","v":0},{"$f":"RÉSUMÉ!C51","v":0},{"$f":"RÉSUMÉ!D51","v":0},{"$f":"RÉSUMÉ!E51","v":0},{"$f":"RÉSUMÉ!F51","v":0},{"$f":"RÉSUMÉ!G51","v":0},{"$f":"RÉSUMÉ!H51","v":0},{"$f":"RÉSUMÉ!I51","v":0},{"$f":"RÉSUMÉ!J51","v":0},{"$f":"RÉSUMÉ!K51","v":0},{"$f":"RÉSUMÉ!L51","v":0},{"$f":"RÉSUMÉ!M51","v":0},{"$f":"RÉSUMÉ!N51","v":0},{"$f":"RÉSUMÉ!O51","v":0},{"$f":"RÉSUMÉ!P51","v":0},{"$f":"RÉSUMÉ!Q51","v":0},{"$f":"RÉSUMÉ!R51","v":0},{"$f":"RÉSUMÉ!S51","v":0},{"$f":"RÉSUMÉ!T51","v":0},{"$f":"RÉSUMÉ!U51","v":0},{"$f":"RÉSUMÉ!V51","v":0},{"$f":"RÉSUMÉ!W51","v":0},{"$f":"RÉSUMÉ!X51","v":0},{"$f":"RÉSUMÉ!Y51","v":0},{"$f":"RÉSUMÉ!Z51","v":0},{"$f":"RÉSUMÉ!AA51","v":0},{"$f":"RÉSUMÉ!AB51","v":0},{"$f":"RÉSUMÉ!AC51","v":0},{"$f":"RÉSUMÉ!AD51","v":0},{"$f":"RÉSUMÉ!AE51","v":0},{"$f":"RÉSUMÉ!AF51","v":0},{"$f":"RÉSUMÉ!AG51","v":0},{"$f":"RÉSUMÉ!AH51","v":0},{"$f":"RÉSUMÉ!AI51","v":0},{"$f":"RÉSUMÉ!AJ51","v":0},{"$f":"RÉSUMÉ!AK51","v":0},{"$f":"RÉSUMÉ!AL51","v":0}]
[null,{"$f":"RÉSUMÉ!B52","v":0},{"$f":"RÉSUMÉ!C52","v":0},{"$f":"RÉSUMÉ!D52","v":0},{"$f":"RÉSUMÉ!E52","v":0},{"$f":"RÉSUMÉ!F52","v":0},{"$f":"RÉSUMÉ!G52","v":0},{"$f":"RÉSUMÉ!H52","v":0},{"$f":"RÉSUMÉ!I52","v":0},{"$f":"RÉSUMÉ!J52","v":0},{"$f":"RÉSUMÉ!K52","v":0},{"$f":"RÉSUMÉ!L52","v":0},{"$f":"RÉSUMÉ!M52","v":0},{"$f":"RÉSUMÉ!N52","v":0},{"$f":"RÉSUMÉ!O52","v":0},{"$f":"RÉSUMÉ!P52","v":0},{"$f":"RÉSUMÉ!Q52","v":0},{"$f":"RÉSUMÉ!R52","v":""},{"$f":"RÉSUMÉ!S52","v":0},{"$f":"RÉSUMÉ!T52","v":""},{"$f":"RÉSUMÉ!U52","v":0},{"$f":"RÉSUMÉ!V52","v":""},{"$f":"RÉSUMÉ!W52","v":0},{"$f":"RÉSUMÉ!X52","v":""},{"$f":"RÉSUMÉ!Y52","v":0},{"$f":"RÉSUMÉ!Z52","v":""},{"$f":"RÉSUMÉ!AA52","v":0},{"$f":"RÉSUMÉ!AB52","v":""},{"$f":"RÉSUMÉ!AC52","v":0},{"$f":"RÉSUMÉ!AD52","v":0},{"$f":"RÉSUMÉ!AE52","v":0},{"$f":"RÉSUMÉ!AF52","v":0},{"$f":"RÉSUMÉ!AG52","v":0},{"$f":"RÉSUMÉ!AH52","v":0},{"$f":"RÉSUMÉ!AI52","v":0},{"$f":"RÉSUMÉ!AJ52","v":0},{"$f":"RÉSUMÉ!AK52","v":0},{"$f":"RÉSUMÉ!AL52","v":0}]
["autres:                    Total des rejets [t CO2 éq.]",{"$f":"RÉSUMÉ!B53","v":0},{"$f":"RÉSUMÉ!C53","v":0},{"$f":"RÉSUMÉ!D53","v":0},{"$f":"RÉSUMÉ!E53","v":0},{"$f":"RÉSUMÉ!F53","v":0},{"$f":"RÉSUMÉ!G53","v":0},{"$f":"RÉSUMÉ!H53","v":0},{"$f":"RÉSUMÉ!I53","v":0},{"$f":"RÉSUMÉ!J53","v":0},{"$f":"RÉSUMÉ!K53","v":0},{"$f":"RÉSUMÉ!L53","v":0},{"$f":"RÉSUMÉ!M53","v":0},{"$f":"RÉSUMÉ!N53","v":0},{"$f":"RÉSUMÉ!O53","v":0},{"$f":"RÉSUMÉ!P53","v":0},{"$f":"RÉSUMÉ!Q53","v":0},{"$f":"RÉSUMÉ!R53","v":0},{"$f":"RÉSUMÉ!S53","v":0},{"$f":"RÉSUMÉ!T53","v":0},{"$f":"RÉSUMÉ!U53","v":0},{"$f":"RÉSUMÉ!V53","v":0},{"$f":"RÉSUMÉ!W53","v":0},{"$f":"RÉSUMÉ!X53","v":0},{"$f":"RÉSUMÉ!Y53","v":0},{"$f":"RÉSUMÉ!Z53","v":0},{"$f":"RÉSUMÉ!AA53","v":0},{"$f":"RÉSUMÉ!AB53","v":0},{"$f":"RÉSUMÉ!AC53","v":0},{"$f":"RÉSUMÉ!AD53","v":0},{"$f":"RÉSUMÉ!AE53","v":0},{"$f":"RÉSUMÉ!AF53","v":0},{"$f":"RÉSUMÉ!AG53","v":0},{"$f":"RÉSUMÉ!AH53","v":0},{"$f":"RÉSUMÉ!AI53","v":0},{"$f":"RÉSUMÉ!AJ53","v":0},{"$f":"RÉSUMÉ!AK53","v":0},{"$f":"RÉSUMÉ!AL53","v":0}]
["Total des rejets [t CO2 éq.]",{"$f":"RÉSUMÉ!B54","v":0},{"$f":"RÉSUMÉ!C54","v":0},{"$f":"RÉSUMÉ!D54","v":0},{"$f":"RÉSUMÉ!E54","v":0},{"$f":"RÉSUMÉ!F54","v":0},{"$f":"RÉSUMÉ!G54","v":0},{"$f":"RÉSUMÉ!H54","v":0},{"$f":"RÉSUMÉ!I54","v":0},{"$f":"RÉSUMÉ!J54","v":0},{"$f":"RÉSUMÉ!K54","v":0},{"$f":"RÉSUMÉ!L54","v":0},{"$f":"RÉSUMÉ!M54","v":0},{"$f":"RÉSUMÉ!N54","v":0},{"$f":"RÉSUMÉ!O54","v":0},{"$f":"RÉSUMÉ!P54","v":0},{"$f":"RÉSUMÉ!Q54","v":0},{"$f":"RÉSUMÉ!R54","v":0},{"$f":"RÉSUMÉ!S54","v":0},{"$f":"RÉSUMÉ!T54","v":0},{"$f":"RÉSUMÉ!U54","v":0},{"$f":"RÉSUMÉ!V54","v":0},{"$f":"RÉSUMÉ!W54","v":0},{"$f":"RÉSUMÉ!X54","v":0},{"$f":"RÉSUMÉ!Y54","v":0},{"$f":"RÉSUMÉ!Z54","v":0},{"$f":"RÉSUMÉ!AA54","v":0},{"$f":"RÉSUMÉ!AB54","v":0},{"$f":"RÉSUMÉ!AC54","v":0},{"$f":"RÉSUMÉ!AD54","v":0},{"$f":"RÉSUMÉ!AE54","v":0},{"$f":"RÉSUMÉ!AF54","v":0},{"$f":"RÉSUMÉ!AG54","v":0},{"$f":"RÉSUMÉ!AH54","v":0},{"$f":"RÉSUMÉ!AI54","v":0},{"$f":"RÉSUMÉ!AJ54","v":0},{"$f":"RÉSUMÉ!AK54","v":0},{"$f":"RÉSUMÉ!AL54","v":0}]
[]
[]
[]
[]
[]
[null,null,null,null,null,null,null,null,null,null,null,null,null,null,null,null,null,null,null,null,"L'année choisie lors de l'importation va ici:",null,null,null,null,null,"Résultats possibles que peut lire la macro: \"OUI\", \"NON\". La formule de validation peut donc seulement avoir ces deux valeurs comme résultats et à cette cellule:"]