Workbook
Name Après2030: Listes_deroulantes!$F$50
Name autre: Listes_deroulantes!$F$4
Name Avant2025: Listes_deroulantes!$F$48
Name Avant2030: Listes_deroulantes!$F$49
Name bureau: Listes_deroulantes!$F$5
Name cegep: Listes_deroulantes!$F$6
Name Centre: Listes_deroulantes!$F$7
Name CHSLD: Listes_deroulantes!$F$8
Name D_GES_BatimentReference: Listes_deroulantes!$F$23:$G$30
Name datevigueur: Listes_deroulantes!$F$53
Name ecole: Listes_deroulantes!$F$9
Name ecolesec: Listes_deroulantes!$F$10
Name Exist20205Apres: Listes_deroulantes!$J$48
Name Exist2025Avant: Listes_deroulantes!$I$48
Name Exist2030Apres: Listes_deroulantes!$J$49
Name Exist2030Avant: Listes_deroulantes!$I$49
Name Exist2031Apres: Listes_deroulantes!$J$50
Name Exist2031Avant: Listes_deroulantes!$I$50
Name GESreference: #REF!
Name kgCO2eq_Essence_VehiculeLeger: TableConversion!#REF!
Name L_100km_vehicules_legers: '[1]Table de conversion'!$P$64
Name L_Agrandissement: Listes_deroulantes!$B$48:$B$49
Name L_Annee: Listes_deroulantes!$B$4:$B$11
Name L_Annees: Listes_deroulantes!$A$55:$A$69
Name L_DocumentNormatif: Listes_deroulantes!$B$40:$B$45
Name L_FormesEnergieGES: Listes_deroulantes!$F$35:$F$42
Name L_Secteur: Listes_deroulantes!$B$14:$B$20
Name L_StatutConversion: Listes_deroulantes!$A$48:$A$51
Name L_StatutProjet: Listes_deroulantes!$A$40:$A$45
Name L_TypeBatiment: Listes_deroulantes!$A$4:$A$20
Name L_TypeCombustible: Listes_deroulantes!$B$34:$B$37
Name L_TypeEnergieRenouvelable: Listes_deroulantes!$B$27:$B$30
Name L_TypeProjet: Listes_deroulantes!$A$34:$A$37
Name L_UniteEnergie: Listes_deroulantes!$B$23:$B$25
Name L_VocationPrincipale: Listes_deroulantes!$F$4:$F$11
Name LD_VocationPrincipale: Listes_deroulantes!$A$23:$A$30
Name NEW2025Apres: Listes_deroulantes!$H$48
Name New2025Avant: Listes_deroulantes!$G$48
Name New2030Apres: Listes_deroulantes!$H$49
Name New2030Avant: Listes_deroulantes!$G$49
Name New2031Apres: Listes_deroulantes!$H$50
Name New2031Avant: Listes_deroulantes!$G$50
Name Plage_EquivColonne_Facteurs_Periode_3: TableConversion!$D$44:$Z$44
Name Plage_EquivLigne_Facteurs_Periode_3: TableConversion!$C$45:$C$71
Name Plage_Facteurs_Periode_3: TableConversion!$D$45:$Z$71
Name regionadm: Listes_deroulantes!$B$54:$B$70
Name TableConversion: #REF!
Name Type_projet: Listes_deroulantes!$D$4:$D$8
Name Universite: Listes_deroulantes!$F$11
Name V_CriteresBE_AvantConversion: Listes_deroulantes!$I$4:$I$11
Name V_CriteresBE_PostConversion: Listes_deroulantes!$J$4:$J$11
Name V_CriteresNB_ApresTravaux: Listes_deroulantes!$H$4:$H$11
Name V_CriteresNB_AvantTravaux: Listes_deroulantes!$G$4:$G$11
Name V_EcartMinimalPerformance_CNEB2011: Listes_deroulantes!$G$14
Name V_GES_GJ: Listes_deroulantes!$I$35:$I$42
Name V_GES_GJ_GazNaturel: Listes_deroulantes!$I$36
Name V_GES_GJ_Mazout2Leger: Listes_deroulantes!$I$37
Name V_GES_GJ_Propane: Listes_deroulantes!$I$39
Name V_GES_kWh: Listes_deroulantes!$J$35:$J$42
Name V_GES_kWhEq_GazNaturel: Listes_deroulantes!$J$36

Sheet À lire

Sheet Nouv. bâtiments
A1: Nouveaux bâtiments
A2: Information de base | J2: Informations sur le projet | R2: Avant la réalisation des travaux du nouveau bâtiment | BI2: Pendant l'exploitation
A3: Veuillez lister tous les nouveaux bâtiments mis en service depuis le 1er janvier 2016, en incluant toute construction neuve, toute partie agrandie d'un bâtiment dont la superficie est supérieure à 600 m2, et tout bâtiment visé par une rénovation majeure. | U3: Performance énergétique du nouveau bâtiment Consommation totale et coûts annuels d'énergie, selon le rapport de simulation | Z3: Validation des critères | AH3: Besoins énergétiques annuels de chauffage (BEC) | AZ3: Validation des critères | BE3: GES (tonnes de CO2éq.) Si la vocation du projet est désignée « Autre vocation », insérez la valeur du bâtiment de référence avec une justification en commentaire (si disponible). | BI3: Consommation totales annuelles d'énergie (CTA) | CE3: Validation des critères | CI3: GES (tonne de CO2éq.)
A4: Secteur (utiliser liste déroulante) | B4: Année (utiliser liste déroulante) | C4: Nom de l'organisation propriétaire | D4: Numéro de l'organisation propriétaire | E4: Nom du bâtiment, de l'installation ou de l'immeuble | F4: Type de bâtiment, d'installation ou d'immeuble (utiliser liste déroulante) | G4: Adresse | H4: Municipalité | I4: No de région administrative (utiliser liste déroulante) | J4: Statut du projet (utiliser liste déroulante) | K4: Numéro de projet (interne à l'organisation) | L4: Date prévue ou réelle de la mise en chantier (AAAA-MM-JJ) | M4: Vocation principale du projet (utiliser liste déroulante) | N4: Type de projet (utiliser liste déroulante) | O4: Nombre d'étages | P4: Superficie du projet (m²) | Q4: Commentaires | R4: Date du rapport de simulation | S4: Nom du logiciel de modélisation utilisé | T4: Document normatif utilisé (utiliser liste déroulante) | U4: Unité d'énergie (utiliser liste déroulante) | V4: Consommation du bâtiment de référence | W4: Coûts énergétiques du bâtiment de référence | X4: Consommation du bâtiment proposé | Y4: Coûts énergétiques du bâtiment proposé | Z4: Écart de la performance énergétique | AA4: Écart min. à respecter (selon le document normatif utilisé) | AB4: Respect de l'écart min. de performance | AC4: Écart des coûts énergétiques | AD4: Écart min. à respecter | AE4: Respect de l'écart min. des coûts énergétiques | AF4: Commentaires (Veuillez spécifier le document normatif utilisé si l'option "Autre/inconnu" a été sélectionnée précédemment) | AG4: Consomation unitaire prévue (bât. proposé) | AH4: Unité d'énergie | AI4: Électricité | AJ4: Solaire | AK4: Éolien | AL4: Biomasse | AM4: Autre énergie renouvelable | AN4: Préciser type autre | AO4: Quantité totale d'énergie renouvelable | AP4: Gaz naturel | AQ4: Émissions de GES (tCO2éq.) - Gaz naturel | AR4: Mazout léger | AS4: Émissions de GES (tCO2éq.) - Mazout léger | AT4: Propane | AU4: Émissions de GES (tCO2éq.) - Propane | AV4: Autre | AW4: Quantité totale d'énergie combustible | AX4: Quantité totale d'énergie (énergie renouvelable + combustible) | AY4: Quantité totale des émissions de GES (tCO2éq.) | AZ4: Proportion des combustibles fossiles | BA4: Pourcentage maximal à respecter | BB4: Respect du pourcentage maximal | BC4: Obligation d'obtenir une autorisation préalable de la part d'Hydro-Québec (zone sensible à l'électrification) | BD4: Commentaires | BE4: Bâtiment de référence | BF4: Bâtiment proposé | BG4: GES évités | BH4: Commentaires | BI4: En cas d'agrandissement : bilan d'exploitation relatif à l'agrandissement ou le bâtiment au complet? (utiliser liste déroulante) | BJ4: Unité d'énergie (utiliser liste déroulante) | BK4: Électricité | BL4: Solaire | BM4: Éolien | BN4: Biomasse | BO4: Autre | BP4: Préciser type Autre | BQ4: Quantité totale d'énergie renouvelable | BR4: Gaz naturel | BS4: Émissions de GES (tCO2eq) Gaz naturel | BT4: Mazout léger | BU4: Émissions de GES (tCO2eq) Mazout léger | BV4: Propane | BW4: Émissions de GES (tCO2eq) Propane | BX4: Autre | BY4: Total émissions de GES (tCO2éq.) | BZ4: Quantité totale d'énergie combustible | CA4: Quantité totale d'énergie (énergie renouvelable + combustible) | CB4: Énergie (bât. proposé) | CC4: Consommation unitaire | CD4: =AG4 -> Consomation unitaire prévue (bât. proposé) | CE4: Proportion de combustible | CF4: Pourcentage maximal à respecter | CG4: Respect du pourcentage maximal | CH4: Commentaires | CI4: Bâtiment de référence | CJ4: Bâtiment réel | CK4: GES évités | CL4: Commentaires
Z5: =IF(OR(V5=0,X5=0),"s.o",(-(V5-X5)/V5)) -> s.o | AA5: {=_xlfn.IFS(T5=Listes_deroulantes!$B$45,"Indisponible",T5=Listes_deroulantes!$B$43,-10%,T5=Listes_deroulantes!$B$42,-40%,T5=Listes_deroulantes!$B$41,-20%,T5=Listes_deroulantes!$B$40,-20%,T5=Listes_deroulantes!$C$35,"s. o.",T5=Listes_deroulantes!$B$44,-10%)} -> s. o. | AB5: =IF(OR(Z5="s.o",AA5="Indisponible"),"s. o.",(IF(Z5>=AA5,"Non","Oui"))) -> s. o. | AC5: =IF(OR(W5=0,Y5=0),"s.o",(-(W5-Y5)/W5)) -> s.o | AD5: {=_xlfn.IFS(T5=Listes_deroulantes!$B$45,"Aucun",T5=Listes_deroulantes!$B$44,"Aucun",T5=Listes_deroulantes!$B$43,-10%,T5=Listes_deroulantes!$B$42,"Aucun",T5=Listes_deroulantes!$B$41,"Aucun",T5=Listes_deroulantes!$B$40,"Aucun",T5=Listes_deroulantes!$C$35,"s. o.")} -> s. o. | AE5: =IF(OR(AC5="s.o",AD5="Aucun"),"s. o.",(IF(OR(AC5<=AD5,AD5="Aucun"),"Oui","Non"))) -> s. o. | AG5: =IFERROR(IF(ISBLANK($U5),"",IF($U5="GJ",X5/$P5,IF($U5="kWh éq.",X5*V_GJ_kWh/$P5))),"") | AH5: =U5 -> 0 | AO5: =SUM(AI5:AM5) -> 0 | AQ5: =IFERROR(IF(OR(AP5=0,ISBLANK($U5)),0,IF($U5="GJ",AP5*V_GES_GJ_GazNaturel,IF($U5="kWh éq.",AP5*V_GES_kWhEq_GazNaturel))),"") -> 0 | AS5: =IFERROR(IF(OR(AR5=0,ISBLANK($U5)),0,IF($U5="GJ",AR5*V_GES_GJ_Mazout2Leger,IF($U5="kWh éq.",AR5*V_GES_kWhEq_Mazout2Leger))),"") -> 0 | AU5: =IFERROR(IF(OR(AT5=0,ISBLANK($U5)),0,IF($U5="GJ",AT5*V_GES_GJ_Propane,IF($U5="kWh éq.",AT5*V_GES_kWhEq_Propane))),"") -> 0 | AW5: =SUM(AP5,AR5,AT5,AV5) -> 0 | AX5: =AO5+AW5 -> 0 | AY5: =AQ5+AS5+AU5 -> 0 | AZ5: =IF(AX5=0,"s. o.",IF(AW5=0,"Aucun combustible",AW5/AX5)) -> s. o. | BA5: {=_xlfn.IFS(L5<Listes_deroulantes!$F$55,"s. o.",AND(L5<datevigueur,M5=autre),Listes_deroulantes!$G$4,AND(L5<datevigueur,M5=bureau),Listes_deroulantes!$G$5,AND(L5<datevigueur,M5=cegep),Listes_deroulantes!$G$6,AND(L5<datevigueur,M5=Centre),Listes_deroulantes!$G$7,AND(L5<datevigueur,M5=CHSLD),Listes_deroulantes!$G$8,AND(L5<datevigueur,M5=ecole),Listes_deroulantes!$G$9,AND(L5<datevigueur,M5=ecolesec),Listes_deroulantes!$G$10,AND(L5<datevigueur,M5=Universite),Listes_deroulantes!$G$11,AND(L5>=datevigueur,L5<=Listes_deroulantes!$F$48),New2025Avant,L5<=Listes_deroulantes!$F$49,New2030Avant,L5>Listes_deroulantes!$F$50,"0%")} -> s. o. | BB5: {=_xlfn.IFS(AZ5="Aucun combustible","Oui",AND(AZ5="s. o.",BA5="s. o."),"s. o.",AND(BA5="0%",OR(AZ5<>"Aucun combustible",AZ5<>"s. o.")),IF(AZ5<=0%,"Oui","Non"),AND(BA5<>"0%",OR(AZ5<>"Aucun combustible",AZ5<>"s. o.")),IF(AZ5<BA5,"Oui","Non"))} -> s. o. | BC5: =IF(AND(AZ5="Aucun combustible",L5>datevigueur),"Oui","Non") -> Non | BE5: =IF(M5="Habitation/Autre vocation","Habitation/Autre vocation",IF(OR(P5=0,ISBLANK(P5)),"s. o.",IF(P5>0,(P5*VLOOKUP(M5,D_GES_BatimentReference,2,FALSE)),""))) -> s. o. | BF5: {=IFERROR(_xlfn.IFS(AND(AO5>0,OR(AY5=0,ISBLANK(AY5)),OR(AW5=0,ISBLANK(AW5))),"100% Énergie renouvelable",AND(OR(AY5=0,ISBLANK(AY5)),AW5>0,),"Non disponible",AY5>0,AY5,AND(AY5=0,AW5=0,AO5=0),"s. o."),"Erreur")} -> s. o. | BG5: =IFERROR(IF(BF5="100% Énergie renouvelable",BE5,BE5-BF5),"s. o.") -> s. o. | BQ5: =SUM(BK5:BO5) -> 0 | BS5: =IFERROR(IF(OR(BR5=0,ISBLANK(BJ5)),0,IF(BJ5="GJ",BR5*V_GES_GJ_GazNaturel,IF(BJ5="kWh éq.",BR5*V_GES_kWhEq_GazNaturel))),"") -> 0 | BU5: =IFERROR(IF(OR(BT5=0,ISBLANK(BJ5)),0,IF(BJ5="GJ",BT5*V_GES_GJ_Mazout2Leger,IF(BJ5="kWh éq.",BT5*V_GES_kWhEq_Mazout2Leger))),"") -> 0 | BW5: =IFERROR(IF(OR(BV5=0,ISBLANK(BJ5)),0,IF(BJ5="GJ",BV5*V_GES_GJ_Propane,IF(BJ5="kWh éq.",BV5*V_GES_kWhEq_Propane))),"") -> 0 | BY5: =BS5+BU5+BW5 -> 0 | BZ5: =SUM(BR5,BT5,BV5,BX5) -> 0 | CA5: =BQ5+BZ5 -> 0 | CB5: =AX5 -> 0 | CC5: =IFERROR(IF(ISBLANK($BJ5),"",IF($BJ5="GJ",CA5/$P5,IF($BJ5="kWh éq.",CA5*V_GJ_kWh/$P5))),"") | CD5: =AG5 | CE5: =IF(CA5=0,"s. o.",IF(AND(CA5>0,BZ5=0),"Aucun combustible",(BZ5)/CA5)) -> s. o. | CF5: {=_xlfn.IFS(L5<Listes_deroulantes!$F$55,"s. o.",AND(L5<datevigueur,M5=autre),Listes_deroulantes!$H$4,AND(L5<datevigueur,M5=bureau),Listes_deroulantes!$H$5,AND(L5<datevigueur,M5=cegep),Listes_deroulantes!$H$6,AND(L5<datevigueur,M5=Centre),Listes_deroulantes!$H$7,AND(L5<datevigueur,M5=CHSLD),Listes_deroulantes!$H$8,AND(L5<datevigueur,M5=ecole),Listes_deroulantes!$H$9,AND(L5<datevigueur,M5=ecolesec),Listes_deroulantes!$H$10,AND(L5<datevigueur,M5=Universite),Listes_deroulantes!$H$11,AND(L5>=datevigueur,L5<=Listes_deroulantes!$F$48),NEW2025Apres,L5<=Listes_deroulantes!$F$49,New2030Apres,L5>Listes_deroulantes!$F$50,"0%")} -> s. o. | CG5: {=_xlfn.IFS(CE5="Aucun combustible","Oui",AND(CE5="s. o.",CF5="s. o."),"s. o.",AND(CF5="0%",OR(CE5<>"Aucun combustible",CE5<>"s. o.")),IF(CE5<=0%,"Oui","Non"),AND(CF5<>"0%",OR(CE5<>"Aucun combustible",CE5<>"s. o.")),IF(CE5<=CF5,"Oui","Non"))} -> s. o. | CI5: =BE5 -> s. o. | CJ5: {=_xlfn.IFS(CE5="s.o","Non disponible",CE5="Aucun combustible","0",CE5>0,BY5)} -> 0 | CK5: =IFERROR(CI5-CJ5,"Non disponible") -> Non disponible
T6: Autre/inconnu | Z6: =IF(OR(V6=0,X6=0),"s.o",(-(V6-X6)/V6)) -> s.o | AA6: {=_xlfn.IFS(T6=Listes_deroulantes!$B$45,"Indisponible",T6=Listes_deroulantes!$B$43,-10%,T6=Listes_deroulantes!$B$42,-40%,T6=Listes_deroulantes!$B$41,-20%,T6=Listes_deroulantes!$B$40,-20%,T6=Listes_deroulantes!$C$35,"s. o.",T6=Listes_deroulantes!$B$44,-10%)} -> Indisponible | AB6: =IF(OR(Z6="s.o",AA6="Indisponible"),"s. o.",(IF(Z6>=AA6,"Non","Oui"))) -> s. o. | AC6: =IF(OR(W6=0,Y6=0),"s.o",(-(W6-Y6)/W6)) -> s.o | AD6: {=_xlfn.IFS(T6=Listes_deroulantes!$B$45,"Aucun",T6=Listes_deroulantes!$B$44,"Aucun",T6=Listes_deroulantes!$B$43,-10%,T6=Listes_deroulantes!$B$42,"Aucun",T6=Listes_deroulantes!$B$41,"Aucun",T6=Listes_deroulantes!$B$40,"Aucun",T6=Listes_deroulantes!$C$35,"s. o.")} -> Aucun | AE6: =IF(OR(AC6="s.o",AD6="Aucun"),"s. o.",(IF(OR(AC6<=AD6,AD6="Aucun"),"Oui","Non"))) -> s. o. | AG6: =IFERROR(IF(ISBLANK($U6),"",IF($U6="GJ",X6/$P6,IF($U6="kWh éq.",X6*V_GJ_kWh/$P6))),"") | AH6: =U6 -> 0 | AO6: =SUM(AI6:AM6) -> 0 | AQ6: =IFERROR(IF(OR(AP6=0,ISBLANK($U6)),0,IF($U6="GJ",AP6*V_GES_GJ_GazNaturel,IF($U6="kWh éq.",AP6*V_GES_kWhEq_GazNaturel))),"") -> 0 | AS6: =IFERROR(IF(OR(AR6=0,ISBLANK($U6)),0,IF($U6="GJ",AR6*V_GES_GJ_Mazout2Leger,IF($U6="kWh éq.",AR6*V_GES_kWhEq_Mazout2Leger))),"") -> 0 | AU6: =IFERROR(IF(OR(AT6=0,ISBLANK($U6)),0,IF($U6="GJ",AT6*V_GES_GJ_Propane,IF($U6="kWh éq.",AT6*V_GES_kWhEq_Propane))),"") -> 0 | AW6: =SUM(AP6,AR6,AT6,AV6) -> 0 | AX6: =AO6+AW6 -> 0 | AY6: =AQ6+AS6+AU6 -> 0 | AZ6: =IF(AX6=0,"s. o.",IF(AW6=0,"Aucun combustible",AW6/AX6)) -> s. o. | BA6: {=_xlfn.IFS(L6<Listes_deroulantes!$F$55,"s. o.",AND(L6<datevigueur,M6=autre),Listes_deroulantes!$G$4,AND(L6<datevigueur,M6=bureau),Listes_deroulantes!$G$5,AND(L6<datevigueur,M6=cegep),Listes_deroulantes!$G$6,AND(L6<datevigueur,M6=Centre),Listes_deroulantes!$G$7,AND(L6<datevigueur,M6=CHSLD),Listes_deroulantes!$G$8,AND(L6<datevigueur,M6=ecole),Listes_deroulantes!$G$9,AND(L6<datevigueur,M6=ecolesec),Listes_deroulantes!$G$10,AND(L6<datevigueur,M6=Universite),Listes_deroulantes!$G$11,AND(L6>=datevigueur,L6<=Listes_deroulantes!$F$48),New2025Avant,L6<=Listes_deroulantes!$F$49,New2030Avant,L6>Listes_deroulantes!$F$50,"0%")} -> s. o. | BB6: {=_xlfn.IFS(AZ6="Aucun combustible","Oui",AND(AZ6="s. o.",BA6="s. o."),"s. o.",AND(BA6="0%",OR(AZ6<>"Aucun combustible",AZ6<>"s. o.")),IF(AZ6<=0%,"Oui","Non"),AND(BA6<>"0%",OR(AZ6<>"Aucun combustible",AZ6<>"s. o.")),IF(AZ6<BA6,"Oui","Non"))} -> s. o. | BC6: =IF(AND(AZ6="Aucun combustible",L6>datevigueur),"Oui","Non") -> Non | BE6: =IF(M6="Habitation/Autre vocation","Habitation/Autre vocation",IF(OR(P6=0,ISBLANK(P6)),"s. o.",IF(P6>0,(P6*VLOOKUP(M6,D_GES_BatimentReference,2,FALSE)),""))) -> s. o. | BF6: {=IFERROR(_xlfn.IFS(AND(AO6>0,OR(AY6=0,ISBLANK(AY6)),OR(AW6=0,ISBLANK(AW6))),"100% Énergie renouvelable",AND(OR(AY6=0,ISBLANK(AY6)),AW6>0,),"Non disponible",AY6>0,AY6,AND(AY6=0,AW6=0,AO6=0),"s. o."),"Erreur")} -> s. o. | BG6: =IFERROR(IF(BF6="100% Énergie renouvelable",BE6,BE6-BF6),"s. o.") -> s. o. | BQ6: =SUM(BK6:BO6) -> 0 | BS6: =IFERROR(IF(OR(BR6=0,ISBLANK(BJ6)),0,IF(BJ6="GJ",BR6*V_GES_GJ_GazNaturel,IF(BJ6="kWh éq.",BR6*V_GES_kWhEq_GazNaturel))),"") -> 0 | BU6: =IFERROR(IF(OR(BT6=0,ISBLANK(BJ6)),0,IF(BJ6="GJ",BT6*V_GES_GJ_Mazout2Leger,IF(BJ6="kWh éq.",BT6*V_GES_kWhEq_Mazout2Leger))),"") -> 0 | BW6: =IFERROR(IF(OR(BV6=0,ISBLANK(BJ6)),0,IF(BJ6="GJ",BV6*V_GES_GJ_Propane,IF(BJ6="kWh éq.",BV6*V_GES_kWhEq_Propane))),"") -> 0 | BY6: =BS6+BU6+BW6 -> 0 | BZ6: =SUM(BR6,BT6,BV6,BX6) -> 0 | CA6: =BQ6+BZ6 -> 0 | CB6: =AX6 -> 0 | CC6: =IFERROR(IF(ISBLANK($BJ6),"",IF($BJ6="GJ",CA6/$P6,IF($BJ6="kWh éq.",CA6*V_GJ_kWh/$P6))),"") | CD6: =AG6 | CE6: =IF(CA6=0,"s. o.",IF(AND(CA6>0,BZ6=0),"Aucun combustible",(BZ6)/CA6)) -> s. o. | CF6: {=_xlfn.IFS(L6<Listes_deroulantes!$F$55,"s. o.",AND(L6<datevigueur,M6=autre),Listes_deroulantes!$H$4,AND(L6<datevigueur,M6=bureau),Listes_deroulantes!$H$5,AND(L6<datevigueur,M6=cegep),Listes_deroulantes!$H$6,AND(L6<datevigueur,M6=Centre),Listes_deroulantes!$H$7,AND(L6<datevigueur,M6=CHSLD),Listes_deroulantes!$H$8,AND(L6<datevigueur,M6=ecole),Listes_deroulantes!$H$9,AND(L6<datevigueur,M6=ecolesec),Listes_deroulantes!$H$10,AND(L6<datevigueur,M6=Universite),Listes_deroulantes!$H$11,AND(L6>=datevigueur,L6<=Listes_deroulantes!$F$48),NEW2025Apres,L6<=Listes_deroulantes!$F$49,New2030Apres,L6>Listes_deroulantes!$F$50,"0%")} -> s. o. | CG6: {=_xlfn.IFS(CE6="Aucun combustible","Oui",AND(CE6="s. o.",CF6="s. o."),"s. o.",AND(CF6="0%",OR(CE6<>"Aucun combustible",CE6<>"s. o.")),IF(CE6<=0%,"Oui","Non"),AND(CF6<>"0%",OR(CE6<>"Aucun combustible",CE6<>"s. o.")),IF(CE6<=CF6,"Oui","Non"))} -> s. o. | CI6: =BE6 -> s. o. | CJ6: {=_xlfn.IFS(CE6="s.o","Non disponible",CE6="Aucun combustible","0",CE6>0,BY6)} -> 0 | CK6: =IFERROR(CI6-CJ6,"Non disponible") -> Non disponible
Z7: =IF(OR(V7=0,X7=0),"s.o",(-(V7-X7)/V7)) -> s.o | AA7: {=_xlfn.IFS(T7=Listes_deroulantes!$B$45,"Indisponible",T7=Listes_deroulantes!$B$43,-10%,T7=Listes_deroulantes!$B$42,-40%,T7=Listes_deroulantes!$B$41,-20%,T7=Listes_deroulantes!$B$40,-20%,T7=Listes_deroulantes!$C$35,"s. o.",T7=Listes_deroulantes!$B$44,-10%)} -> s. o. | AB7: =IF(OR(Z7="s.o",AA7="Indisponible"),"s. o.",(IF(Z7>=AA7,"Non","Oui"))) -> s. o. | AC7: =IF(OR(W7=0,Y7=0),"s.o",(-(W7-Y7)/W7)) -> s.o | AD7: {=_xlfn.IFS(T7=Listes_deroulantes!$B$45,"Aucun",T7=Listes_deroulantes!$B$44,"Aucun",T7=Listes_deroulantes!$B$43,-10%,T7=Listes_deroulantes!$B$42,"Aucun",T7=Listes_deroulantes!$B$41,"Aucun",T7=Listes_deroulantes!$B$40,"Aucun",T7=Listes_deroulantes!$C$35,"s. o.")} -> s. o. | AE7: =IF(OR(AC7="s.o",AD7="Aucun"),"s. o.",(IF(OR(AC7<=AD7,AD7="Aucun"),"Oui","Non"))) -> s. o. | AG7: =IFERROR(IF(ISBLANK($U7),"",IF($U7="GJ",X7/$P7,IF($U7="kWh éq.",X7*V_GJ_kWh/$P7))),"") | AH7: =U7 -> 0 | AO7: =SUM(AI7:AM7) -> 0 | AQ7: =IFERROR(IF(OR(AP7=0,ISBLANK($U7)),0,IF($U7="GJ",AP7*V_GES_GJ_GazNaturel,IF($U7="kWh éq.",AP7*V_GES_kWhEq_GazNaturel))),"") -> 0 | AS7: =IFERROR(IF(OR(AR7=0,ISBLANK($U7)),0,IF($U7="GJ",AR7*V_GES_GJ_Mazout2Leger,IF($U7="kWh éq.",AR7*V_GES_kWhEq_Mazout2Leger))),"") -> 0 | AU7: =IFERROR(IF(OR(AT7=0,ISBLANK($U7)),0,IF($U7="GJ",AT7*V_GES_GJ_Propane,IF($U7="kWh éq.",AT7*V_GES_kWhEq_Propane))),"") -> 0 | AW7: =SUM(AP7,AR7,AT7,AV7) -> 0 | AX7: =AO7+AW7 -> 0 | AY7: =AQ7+AS7+AU7 -> 0 | AZ7: =IF(AX7=0,"s. o.",IF(AW7=0,"Aucun combustible",AW7/AX7)) -> s. o. | BA7: {=_xlfn.IFS(L7<Listes_deroulantes!$F$55,"s. o.",AND(L7<datevigueur,M7=autre),Listes_deroulantes!$G$4,AND(L7<datevigueur,M7=bureau),Listes_deroulantes!$G$5,AND(L7<datevigueur,M7=cegep),Listes_deroulantes!$G$6,AND(L7<datevigueur,M7=Centre),Listes_deroulantes!$G$7,AND(L7<datevigueur,M7=CHSLD),Listes_deroulantes!$G$8,AND(L7<datevigueur,M7=ecole),Listes_deroulantes!$G$9,AND(L7<datevigueur,M7=ecolesec),Listes_deroulantes!$G$10,AND(L7<datevigueur,M7=Universite),Listes_deroulantes!$G$11,AND(L7>=datevigueur,L7<=Listes_deroulantes!$F$48),New2025Avant,L7<=Listes_deroulantes!$F$49,New2030Avant,L7>Listes_deroulantes!$F$50,"0%")} -> s. o. | BB7: {=_xlfn.IFS(AZ7="Aucun combustible","Oui",AND(AZ7="s. o.",BA7="s. o."),"s. o.",AND(BA7="0%",OR(AZ7<>"Aucun combustible",AZ7<>"s. o.")),IF(AZ7<=0%,"Oui","Non"),AND(BA7<>"0%",OR(AZ7<>"Aucun combustible",AZ7<>"s. o.")),IF(AZ7<BA7,"Oui","Non"))} -> s. o. | BC7: =IF(AND(AZ7="Aucun combustible",L7>datevigueur),"Oui","Non") -> Non | BE7: =IF(M7="Habitation/Autre vocation","Habitation/Autre vocation",IF(OR(P7=0,ISBLANK(P7)),"s. o.",IF(P7>0,(P7*VLOOKUP(M7,D_GES_BatimentReference,2,FALSE)),""))) -> s. o. | BF7: {=IFERROR(_xlfn.IFS(AND(AO7>0,OR(AY7=0,ISBLANK(AY7)),OR(AW7=0,ISBLANK(AW7))),"100% Énergie renouvelable",AND(OR(AY7=0,ISBLANK(AY7)),AW7>0,),"Non disponible",AY7>0,AY7,AND(AY7=0,AW7=0,AO7=0),"s. o."),"Erreur")} -> s. o. | BG7: =IFERROR(IF(BF7="100% Énergie renouvelable",BE7,BE7-BF7),"s. o.") -> s. o. | BQ7: =SUM(BK7:BO7) -> 0 | BS7: =IFERROR(IF(OR(BR7=0,ISBLANK(BJ7)),0,IF(BJ7="GJ",BR7*V_GES_GJ_GazNaturel,IF(BJ7="kWh éq.",BR7*V_GES_kWhEq_GazNaturel))),"") -> 0 | BU7: =IFERROR(IF(OR(BT7=0,ISBLANK(BJ7)),0,IF(BJ7="GJ",BT7*V_GES_GJ_Mazout2Leger,IF(BJ7="kWh éq.",BT7*V_GES_kWhEq_Mazout2Leger))),"") -> 0 | BW7: =IFERROR(IF(OR(BV7=0,ISBLANK(BJ7)),0,IF(BJ7="GJ",BV7*V_GES_GJ_Propane,IF(BJ7="kWh éq.",BV7*V_GES_kWhEq_Propane))),"") -> 0 | BY7: =BS7+BU7+BW7 -> 0 | BZ7: =SUM(BR7,BT7,BV7,BX7) -> 0 | CA7: =BQ7+BZ7 -> 0 | CB7: =AX7 -> 0 | CC7: =IFERROR(IF(ISBLANK($BJ7),"",IF($BJ7="GJ",CA7/$P7,IF($BJ7="kWh éq.",CA7*V_GJ_kWh/$P7))),"") | CD7: =AG7 | CE7: =IF(CA7=0,"s. o.",IF(AND(CA7>0,BZ7=0),"Aucun combustible",(BZ7)/CA7)) -> s. o. | CF7: {=_xlfn.IFS(L7<Listes_deroulantes!$F$55,"s. o.",AND(L7<datevigueur,M7=autre),Listes_deroulantes!$H$4,AND(L7<datevigueur,M7=bureau),Listes_deroulantes!$H$5,AND(L7<datevigueur,M7=cegep),Listes_deroulantes!$H$6,AND(L7<datevigueur,M7=Centre),Listes_deroulantes!$H$7,AND(L7<datevigueur,M7=CHSLD),Listes_deroulantes!$H$8,AND(L7<datevigueur,M7=ecole),Listes_deroulantes!$H$9,AND(L7<datevigueur,M7=ecolesec),Listes_deroulantes!$H$10,AND(L7<datevigueur,M7=Universite),Listes_deroulantes!$H$11,AND(L7>=datevigueur,L7<=Listes_deroulantes!$F$48),NEW2025Apres,L7<=Listes_deroulantes!$F$49,New2030Apres,L7>Listes_deroulantes!$F$50,"0%")} -> s. o. | CG7: {=_xlfn.IFS(CE7="Aucun combustible","Oui",AND(CE7="s. o.",CF7="s. o."),"s. o.",AND(CF7="0%",OR(CE7<>"Aucun combustible",CE7<>"s. o.")),IF(CE7<=0%,"Oui","Non"),AND(CF7<>"0%",OR(CE7<>"Aucun combustible",CE7<>"s. o.")),IF(CE7<=CF7,"Oui","Non"))} -> s. o. | CI7: =BE7 -> s. o. | CJ7: {=_xlfn.IFS(CE7="s.o","Non disponible",CE7="Aucun combustible","0",CE7>0,BY7)} -> 0 | CK7: =IFERROR(CI7-CJ7,"Non disponible") -> Non disponible
Z8: =IF(OR(V8=0,X8=0),"s.o",(-(V8-X8)/V8)) -> s.o | AA8: {=_xlfn.IFS(T8=Listes_deroulantes!$B$45,"Indisponible",T8=Listes_deroulantes!$B$43,-10%,T8=Listes_deroulantes!$B$42,-40%,T8=Listes_deroulantes!$B$41,-20%,T8=Listes_deroulantes!$B$40,-20%,T8=Listes_deroulantes!$C$35,"s. o.",T8=Listes_deroulantes!$B$44,-10%)} -> s. o. | AB8: =IF(OR(Z8="s.o",AA8="Indisponible"),"s. o.",(IF(Z8>=AA8,"Non","Oui"))) -> s. o. | AC8: =IF(OR(W8=0,Y8=0),"s.o",(-(W8-Y8)/W8)) -> s.o | AD8: {=_xlfn.IFS(T8=Listes_deroulantes!$B$45,"Aucun",T8=Listes_deroulantes!$B$44,"Aucun",T8=Listes_deroulantes!$B$43,-10%,T8=Listes_deroulantes!$B$42,"Aucun",T8=Listes_deroulantes!$B$41,"Aucun",T8=Listes_deroulantes!$B$40,"Aucun",T8=Listes_deroulantes!$C$35,"s. o.")} -> s. o. | AE8: =IF(OR(AC8="s.o",AD8="Aucun"),"s. o.",(IF(OR(AC8<=AD8,AD8="Aucun"),"Oui","Non"))) -> s. o. | AG8: =IFERROR(IF(ISBLANK($U8),"",IF($U8="GJ",X8/$P8,IF($U8="kWh éq.",X8*V_GJ_kWh/$P8))),"") | AH8: =U8 -> 0 | AO8: =SUM(AI8:AM8) -> 0 | AQ8: =IFERROR(IF(OR(AP8=0,ISBLANK($U8)),0,IF($U8="GJ",AP8*V_GES_GJ_GazNaturel,IF($U8="kWh éq.",AP8*V_GES_kWhEq_GazNaturel))),"") -> 0 | AS8: =IFERROR(IF(OR(AR8=0,ISBLANK($U8)),0,IF($U8="GJ",AR8*V_GES_GJ_Mazout2Leger,IF($U8="kWh éq.",AR8*V_GES_kWhEq_Mazout2Leger))),"") -> 0 | AU8: =IFERROR(IF(OR(AT8=0,ISBLANK($U8)),0,IF($U8="GJ",AT8*V_GES_GJ_Propane,IF($U8="kWh éq.",AT8*V_GES_kWhEq_Propane))),"") -> 0 | AW8: =SUM(AP8,AR8,AT8,AV8) -> 0 | AX8: =AO8+AW8 -> 0 | AY8: =AQ8+AS8+AU8 -> 0 | AZ8: =IF(AX8=0,"s. o.",IF(AW8=0,"Aucun combustible",AW8/AX8)) -> s. o. | BA8: {=_xlfn.IFS(L8<Listes_deroulantes!$F$55,"s. o.",AND(L8<datevigueur,M8=autre),Listes_deroulantes!$G$4,AND(L8<datevigueur,M8=bureau),Listes_deroulantes!$G$5,AND(L8<datevigueur,M8=cegep),Listes_deroulantes!$G$6,AND(L8<datevigueur,M8=Centre),Listes_deroulantes!$G$7,AND(L8<datevigueur,M8=CHSLD),Listes_deroulantes!$G$8,AND(L8<datevigueur,M8=ecole),Listes_deroulantes!$G$9,AND(L8<datevigueur,M8=ecolesec),Listes_deroulantes!$G$10,AND(L8<datevigueur,M8=Universite),Listes_deroulantes!$G$11,AND(L8>=datevigueur,L8<=Listes_deroulantes!$F$48),New2025Avant,L8<=Listes_deroulantes!$F$49,New2030Avant,L8>Listes_deroulantes!$F$50,"0%")} -> s. o. | BB8: {=_xlfn.IFS(AZ8="Aucun combustible","Oui",AND(AZ8="s. o.",BA8="s. o."),"s. o.",AND(BA8="0%",OR(AZ8<>"Aucun combustible",AZ8<>"s. o.")),IF(AZ8<=0%,"Oui","Non"),AND(BA8<>"0%",OR(AZ8<>"Aucun combustible",AZ8<>"s. o.")),IF(AZ8<BA8,"Oui","Non"))} -> s. o. | BC8: =IF(AND(AZ8="Aucun combustible",L8>datevigueur),"Oui","Non") -> Non | BE8: =IF(M8="Habitation/Autre vocation","Habitation/Autre vocation",IF(OR(P8=0,ISBLANK(P8)),"s. o.",IF(P8>0,(P8*VLOOKUP(M8,D_GES_BatimentReference,2,FALSE)),""))) -> s. o. | BF8: {=IFERROR(_xlfn.IFS(AND(AO8>0,OR(AY8=0,ISBLANK(AY8)),OR(AW8=0,ISBLANK(AW8))),"100% Énergie renouvelable",AND(OR(AY8=0,ISBLANK(AY8)),AW8>0,),"Non disponible",AY8>0,AY8,AND(AY8=0,AW8=0,AO8=0),"s. o."),"Erreur")} -> s. o. | BG8: =IFERROR(IF(BF8="100% Énergie renouvelable",BE8,BE8-BF8),"s. o.") -> s. o. | BQ8: =SUM(BK8:BO8) -> 0 | BS8: =IFERROR(IF(OR(BR8=0,ISBLANK(BJ8)),0,IF(BJ8="GJ",BR8*V_GES_GJ_GazNaturel,IF(BJ8="kWh éq.",BR8*V_GES_kWhEq_GazNaturel))),"") -> 0 | BU8: =IFERROR(IF(OR(BT8=0,ISBLANK(BJ8)),0,IF(BJ8="GJ",BT8*V_GES_GJ_Mazout2Leger,IF(BJ8="kWh éq.",BT8*V_GES_kWhEq_Mazout2Leger))),"") -> 0 | BW8: =IFERROR(IF(OR(BV8=0,ISBLANK(BJ8)),0,IF(BJ8="GJ",BV8*V_GES_GJ_Propane,IF(BJ8="kWh éq.",BV8*V_GES_kWhEq_Propane))),"") -> 0 | BY8: =BS8+BU8+BW8 -> 0 | BZ8: =SUM(BR8,BT8,BV8,BX8) -> 0 | CA8: =BQ8+BZ8 -> 0 | CB8: =AX8 -> 0 | CC8: =IFERROR(IF(ISBLANK($BJ8),"",IF($BJ8="GJ",CA8/$P8,IF($BJ8="kWh éq.",CA8*V_GJ_kWh/$P8))),"") | CD8: =AG8 | CE8: =IF(CA8=0,"s. o.",IF(AND(CA8>0,BZ8=0),"Aucun combustible",(BZ8)/CA8)) -> s. o. | CF8: {=_xlfn.IFS(L8<Listes_deroulantes!$F$55,"s. o.",AND(L8<datevigueur,M8=autre),Listes_deroulantes!$H$4,AND(L8<datevigueur,M8=bureau),Listes_deroulantes!$H$5,AND(L8<datevigueur,M8=cegep),Listes_deroulantes!$H$6,AND(L8<datevigueur,M8=Centre),Listes_deroulantes!$H$7,AND(L8<datevigueur,M8=CHSLD),Listes_deroulantes!$H$8,AND(L8<datevigueur,M8=ecole),Listes_deroulantes!$H$9,AND(L8<datevigueur,M8=ecolesec),Listes_deroulantes!$H$10,AND(L8<datevigueur,M8=Universite),Listes_deroulantes!$H$11,AND(L8>=datevigueur,L8<=Listes_deroulantes!$F$48),NEW2025Apres,L8<=Listes_deroulantes!$F$49,New2030Apres,L8>Listes_deroulantes!$F$50,"0%")} -> s. o. | CG8: {=_xlfn.IFS(CE8="Aucun combustible","Oui",AND(CE8="s. o.",CF8="s. o."),"s. o.",AND(CF8="0%",OR(CE8<>"Aucun combustible",CE8<>"s. o.")),IF(CE8<=0%,"Oui","Non"),AND(CF8<>"0%",OR(CE8<>"Aucun combustible",CE8<>"s. o.")),IF(CE8<=CF8,"Oui","Non"))} -> s. o. | CI8: =BE8 -> s. o. | CJ8: {=_xlfn.IFS(CE8="s.o","Non disponible",CE8="Aucun combustible","0",CE8>0,BY8)} -> 0 | CK8: =IFERROR(CI8-CJ8,"Non disponible") -> Non disponible
Z9: =IF(OR(V9=0,X9=0),"s.o",(-(V9-X9)/V9)) -> s.o | AA9: {=_xlfn.IFS(T9=Listes_deroulantes!$B$45,"Indisponible",T9=Listes_deroulantes!$B$43,-10%,T9=Listes_deroulantes!$B$42,-40%,T9=Listes_deroulantes!$B$41,-20%,T9=Listes_deroulantes!$B$40,-20%,T9=Listes_deroulantes!$C$35,"s. o.",T9=Listes_deroulantes!$B$44,-10%)} -> s. o. | AB9: =IF(OR(Z9="s.o",AA9="Indisponible"),"s. o.",(IF(Z9>=AA9,"Non","Oui"))) -> s. o. | AC9: =IF(OR(W9=0,Y9=0),"s.o",(-(W9-Y9)/W9)) -> s.o | AD9: {=_xlfn.IFS(T9=Listes_deroulantes!$B$45,"Aucun",T9=Listes_deroulantes!$B$44,"Aucun",T9=Listes_deroulantes!$B$43,-10%,T9=Listes_deroulantes!$B$42,"Aucun",T9=Listes_deroulantes!$B$41,"Aucun",T9=Listes_deroulantes!$B$40,"Aucun",T9=Listes_deroulantes!$C$35,"s. o.")} -> s. o. | AE9: =IF(OR(AC9="s.o",AD9="Aucun"),"s. o.",(IF(OR(AC9<=AD9,AD9="Aucun"),"Oui","Non"))) -> s. o. | AG9: =IFERROR(IF(ISBLANK($U9),"",IF($U9="GJ",X9/$P9,IF($U9="kWh éq.",X9*V_GJ_kWh/$P9))),"") | AH9: =U9 -> 0 | AO9: =SUM(AI9:AM9) -> 0 | AQ9: =IFERROR(IF(OR(AP9=0,ISBLANK($U9)),0,IF($U9="GJ",AP9*V_GES_GJ_GazNaturel,IF($U9="kWh éq.",AP9*V_GES_kWhEq_GazNaturel))),"") -> 0 | AS9: =IFERROR(IF(OR(AR9=0,ISBLANK($U9)),0,IF($U9="GJ",AR9*V_GES_GJ_Mazout2Leger,IF($U9="kWh éq.",AR9*V_GES_kWhEq_Mazout2Leger))),"") -> 0 | AU9: =IFERROR(IF(OR(AT9=0,ISBLANK($U9)),0,IF($U9="GJ",AT9*V_GES_GJ_Propane,IF($U9="kWh éq.",AT9*V_GES_kWhEq_Propane))),"") -> 0 | AW9: =SUM(AP9,AR9,AT9,AV9) -> 0 | AX9: =AO9+AW9 -> 0 | AY9: =AQ9+AS9+AU9 -> 0 | AZ9: =IF(AX9=0,"s. o.",IF(AW9=0,"Aucun combustible",AW9/AX9)) -> s. o. | BA9: {=_xlfn.IFS(L9<Listes_deroulantes!$F$55,"s. o.",AND(L9<datevigueur,M9=autre),Listes_deroulantes!$G$4,AND(L9<datevigueur,M9=bureau),Listes_deroulantes!$G$5,AND(L9<datevigueur,M9=cegep),Listes_deroulantes!$G$6,AND(L9<datevigueur,M9=Centre),Listes_deroulantes!$G$7,AND(L9<datevigueur,M9=CHSLD),Listes_deroulantes!$G$8,AND(L9<datevigueur,M9=ecole),Listes_deroulantes!$G$9,AND(L9<datevigueur,M9=ecolesec),Listes_deroulantes!$G$10,AND(L9<datevigueur,M9=Universite),Listes_deroulantes!$G$11,AND(L9>=datevigueur,L9<=Listes_deroulantes!$F$48),New2025Avant,L9<=Listes_deroulantes!$F$49,New2030Avant,L9>Listes_deroulantes!$F$50,"0%")} -> s. o. | BB9: {=_xlfn.IFS(AZ9="Aucun combustible","Oui",AND(AZ9="s. o.",BA9="s. o."),"s. o.",AND(BA9="0%",OR(AZ9<>"Aucun combustible",AZ9<>"s. o.")),IF(AZ9<=0%,"Oui","Non"),AND(BA9<>"0%",OR(AZ9<>"Aucun combustible",AZ9<>"s. o.")),IF(AZ9<BA9,"Oui","Non"))} -> s. o. | BC9: =IF(AND(AZ9="Aucun combustible",L9>datevigueur),"Oui","Non") -> Non | BE9: =IF(M9="Habitation/Autre vocation","Habitation/Autre vocation",IF(OR(P9=0,ISBLANK(P9)),"s. o.",IF(P9>0,(P9*VLOOKUP(M9,D_GES_BatimentReference,2,FALSE)),""))) -> s. o. | BF9: {=IFERROR(_xlfn.IFS(AND(AO9>0,OR(AY9=0,ISBLANK(AY9)),OR(AW9=0,ISBLANK(AW9))),"100% Énergie renouvelable",AND(OR(AY9=0,ISBLANK(AY9)),AW9>0,),"Non disponible",AY9>0,AY9,AND(AY9=0,AW9=0,AO9=0),"s. o."),"Erreur")} -> s. o. | BG9: =IFERROR(IF(BF9="100% Énergie renouvelable",BE9,BE9-BF9),"s. o.") -> s. o. | BQ9: =SUM(BK9:BO9) -> 0 | BS9: =IFERROR(IF(OR(BR9=0,ISBLANK(BJ9)),0,IF(BJ9="GJ",BR9*V_GES_GJ_GazNaturel,IF(BJ9="kWh éq.",BR9*V_GES_kWhEq_GazNaturel))),"") -> 0 | BU9: =IFERROR(IF(OR(BT9=0,ISBLANK(BJ9)),0,IF(BJ9="GJ",BT9*V_GES_GJ_Mazout2Leger,IF(BJ9="kWh éq.",BT9*V_GES_kWhEq_Mazout2Leger))),"") -> 0 | BW9: =IFERROR(IF(OR(BV9=0,ISBLANK(BJ9)),0,IF(BJ9="GJ",BV9*V_GES_GJ_Propane,IF(BJ9="kWh éq.",BV9*V_GES_kWhEq_Propane))),"") -> 0 | BY9: =BS9+BU9+BW9 -> 0 | BZ9: =SUM(BR9,BT9,BV9,BX9) -> 0 | CA9: =BQ9+BZ9 -> 0 | CB9: =AX9 -> 0 | CC9: =IFERROR(IF(ISBLANK($BJ9),"",IF($BJ9="GJ",CA9/$P9,IF($BJ9="kWh éq.",CA9*V_GJ_kWh/$P9))),"") | CD9: =AG9 | CE9: =IF(CA9=0,"s. o.",IF(AND(CA9>0,BZ9=0),"Aucun combustible",(BZ9)/CA9)) -> s. o. | CF9: {=_xlfn.IFS(L9<Listes_deroulantes!$F$55,"s. o.",AND(L9<datevigueur,M9=autre),Listes_deroulantes!$H$4,AND(L9<datevigueur,M9=bureau),Listes_deroulantes!$H$5,AND(L9<datevigueur,M9=cegep),Listes_deroulantes!$H$6,AND(L9<datevigueur,M9=Centre),Listes_deroulantes!$H$7,AND(L9<datevigueur,M9=CHSLD),Listes_deroulantes!$H$8,AND(L9<datevigueur,M9=ecole),Listes_deroulantes!$H$9,AND(L9<datevigueur,M9=ecolesec),Listes_deroulantes!$H$10,AND(L9<datevigueur,M9=Universite),Listes_deroulantes!$H$11,AND(L9>=datevigueur,L9<=Listes_deroulantes!$F$48),NEW2025Apres,L9<=Listes_deroulantes!$F$49,New2030Apres,L9>Listes_deroulantes!$F$50,"0%")} -> s. o. | CG9: {=_xlfn.IFS(CE9="Aucun combustible","Oui",AND(CE9="s. o.",CF9="s. o."),"s. o.",AND(CF9="0%",OR(CE9<>"Aucun combustible",CE9<>"s. o.")),IF(CE9<=0%,"Oui","Non"),AND(CF9<>"0%",OR(CE9<>"Aucun combustible",CE9<>"s. o.")),IF(CE9<=CF9,"Oui","Non"))} -> s. o. | CI9: =BE9 -> s. o. | CJ9: {=_xlfn.IFS(CE9="s.o","Non disponible",CE9="Aucun combustible","0",CE9>0,BY9)} -> 0 | CK9: =IFERROR(CI9-CJ9,"Non disponible") -> Non disponible
Z10: =IF(OR(V10=0,X10=0),"s.o",(-(V10-X10)/V10)) -> s.o | AA10: {=_xlfn.IFS(T10=Listes_deroulantes!$B$45,"Indisponible",T10=Listes_deroulantes!$B$43,-10%,T10=Listes_deroulantes!$B$42,-40%,T10=Listes_deroulantes!$B$41,-20%,T10=Listes_deroulantes!$B$40,-20%,T10=Listes_deroulantes!$C$35,"s. o.",T10=Listes_deroulantes!$B$44,-10%)} -> s. o. | AB10: =IF(OR(Z10="s.o",AA10="Indisponible"),"s. o.",(IF(Z10>=AA10,"Non","Oui"))) -> s. o. | AC10: =IF(OR(W10=0,Y10=0),"s.o",(-(W10-Y10)/W10)) -> s.o | AD10: {=_xlfn.IFS(T10=Listes_deroulantes!$B$45,"Aucun",T10=Listes_deroulantes!$B$44,"Aucun",T10=Listes_deroulantes!$B$43,-10%,T10=Listes_deroulantes!$B$42,"Aucun",T10=Listes_deroulantes!$B$41,"Aucun",T10=Listes_deroulantes!$B$40,"Aucun",T10=Listes_deroulantes!$C$35,"s. o.")} -> s. o. | AE10: =IF(OR(AC10="s.o",AD10="Aucun"),"s. o.",(IF(OR(AC10<=AD10,AD10="Aucun"),"Oui","Non"))) -> s. o. | AG10: =IFERROR(IF(ISBLANK($U10),"",IF($U10="GJ",X10/$P10,IF($U10="kWh éq.",X10*V_GJ_kWh/$P10))),"") | AH10: =U10 -> 0 | AO10: =SUM(AI10:AM10) -> 0 | AQ10: =IFERROR(IF(OR(AP10=0,ISBLANK($U10)),0,IF($U10="GJ",AP10*V_GES_GJ_GazNaturel,IF($U10="kWh éq.",AP10*V_GES_kWhEq_GazNaturel))),"") -> 0 | AS10: =IFERROR(IF(OR(AR10=0,ISBLANK($U10)),0,IF($U10="GJ",AR10*V_GES_GJ_Mazout2Leger,IF($U10="kWh éq.",AR10*V_GES_kWhEq_Mazout2Leger))),"") -> 0 | AU10: =IFERROR(IF(OR(AT10=0,ISBLANK($U10)),0,IF($U10="GJ",AT10*V_GES_GJ_Propane,IF($U10="kWh éq.",AT10*V_GES_kWhEq_Propane))),"") -> 0 | AW10: =SUM(AP10,AR10,AT10,AV10) -> 0 | AX10: =AO10+AW10 -> 0 | AY10: =AQ10+AS10+AU10 -> 0 | AZ10: =IF(AX10=0,"s. o.",IF(AW10=0,"Aucun combustible",AW10/AX10)) -> s. o. | BA10: {=_xlfn.IFS(L10<Listes_deroulantes!$F$55,"s. o.",AND(L10<datevigueur,M10=autre),Listes_deroulantes!$G$4,AND(L10<datevigueur,M10=bureau),Listes_deroulantes!$G$5,AND(L10<datevigueur,M10=cegep),Listes_deroulantes!$G$6,AND(L10<datevigueur,M10=Centre),Listes_deroulantes!$G$7,AND(L10<datevigueur,M10=CHSLD),Listes_deroulantes!$G$8,AND(L10<datevigueur,M10=ecole),Listes_deroulantes!$G$9,AND(L10<datevigueur,M10=ecolesec),Listes_deroulantes!$G$10,AND(L10<datevigueur,M10=Universite),Listes_deroulantes!$G$11,AND(L10>=datevigueur,L10<=Listes_deroulantes!$F$48),New2025Avant,L10<=Listes_deroulantes!$F$49,New2030Avant,L10>Listes_deroulantes!$F$50,"0%")} -> s. o. | BB10: {=_xlfn.IFS(AZ10="Aucun combustible","Oui",AND(AZ10="s. o.",BA10="s. o."),"s. o.",AND(BA10="0%",OR(AZ10<>"Aucun combustible",AZ10<>"s. o.")),IF(AZ10<=0%,"Oui","Non"),AND(BA10<>"0%",OR(AZ10<>"Aucun combustible",AZ10<>"s. o.")),IF(AZ10<BA10,"Oui","Non"))} -> s. o. | BC10: =IF(AND(AZ10="Aucun combustible",L10>datevigueur),"Oui","Non") -> Non | BE10: =IF(M10="Habitation/Autre vocation","Habitation/Autre vocation",IF(OR(P10=0,ISBLANK(P10)),"s. o.",IF(P10>0,(P10*VLOOKUP(M10,D_GES_BatimentReference,2,FALSE)),""))) -> s. o. | BF10: {=IFERROR(_xlfn.IFS(AND(AO10>0,OR(AY10=0,ISBLANK(AY10)),OR(AW10=0,ISBLANK(AW10))),"100% Énergie renouvelable",AND(OR(AY10=0,ISBLANK(AY10)),AW10>0,),"Non disponible",AY10>0,AY10,AND(AY10=0,AW10=0,AO10=0),"s. o."),"Erreur")} -> s. o. | BG10: =IFERROR(IF(BF10="100% Énergie renouvelable",BE10,BE10-BF10),"s. o.") -> s. o. | BQ10: =SUM(BK10:BO10) -> 0 | BS10: =IFERROR(IF(OR(BR10=0,ISBLANK(BJ10)),0,IF(BJ10="GJ",BR10*V_GES_GJ_GazNaturel,IF(BJ10="kWh éq.",BR10*V_GES_kWhEq_GazNaturel))),"") -> 0 | BU10: =IFERROR(IF(OR(BT10=0,ISBLANK(BJ10)),0,IF(BJ10="GJ",BT10*V_GES_GJ_Mazout2Leger,IF(BJ10="kWh éq.",BT10*V_GES_kWhEq_Mazout2Leger))),"") -> 0 | BW10: =IFERROR(IF(OR(BV10=0,ISBLANK(BJ10)),0,IF(BJ10="GJ",BV10*V_GES_GJ_Propane,IF(BJ10="kWh éq.",BV10*V_GES_kWhEq_Propane))),"") -> 0 | BY10: =BS10+BU10+BW10 -> 0 | BZ10: =SUM(BR10,BT10,BV10,BX10) -> 0 | CA10: =BQ10+BZ10 -> 0 | CB10: =AX10 -> 0 | CC10: =IFERROR(IF(ISBLANK($BJ10),"",IF($BJ10="GJ",CA10/$P10,IF($BJ10="kWh éq.",CA10*V_GJ_kWh/$P10))),"") | CD10: =AG10 | CE10: =IF(CA10=0,"s. o.",IF(AND(CA10>0,BZ10=0),"Aucun combustible",(BZ10)/CA10)) -> s. o. | CF10: {=_xlfn.IFS(L10<Listes_deroulantes!$F$55,"s. o.",AND(L10<datevigueur,M10=autre),Listes_deroulantes!$H$4,AND(L10<datevigueur,M10=bureau),Listes_deroulantes!$H$5,AND(L10<datevigueur,M10=cegep),Listes_deroulantes!$H$6,AND(L10<datevigueur,M10=Centre),Listes_deroulantes!$H$7,AND(L10<datevigueur,M10=CHSLD),Listes_deroulantes!$H$8,AND(L10<datevigueur,M10=ecole),Listes_deroulantes!$H$9,AND(L10<datevigueur,M10=ecolesec),Listes_deroulantes!$H$10,AND(L10<datevigueur,M10=Universite),Listes_deroulantes!$H$11,AND(L10>=datevigueur,L10<=Listes_deroulantes!$F$48),NEW2025Apres,L10<=Listes_deroulantes!$F$49,New2030Apres,L10>Listes_deroulantes!$F$50,"0%")} -> s. o. | CG10: {=_xlfn.IFS(CE10="Aucun combustible","Oui",AND(CE10="s. o.",CF10="s. o."),"s. o.",AND(CF10="0%",OR(CE10<>"Aucun combustible",CE10<>"s. o.")),IF(CE10<=0%,"Oui","Non"),AND(CF10<>"0%",OR(CE10<>"Aucun combustible",CE10<>"s. o.")),IF(CE10<=CF10,"Oui","Non"))} -> s. o. | CI10: =BE10 -> s. o. | CJ10: {=_xlfn.IFS(CE10="s.o","Non disponible",CE10="Aucun combustible","0",CE10>0,BY10)} -> 0 | CK10: =IFERROR(CI10-CJ10,"Non disponible") -> Non disponible
Z11: =IF(OR(V11=0,X11=0),"s.o",(-(V11-X11)/V11)) -> s.o | AA11: {=_xlfn.IFS(T11=Listes_deroulantes!$B$45,"Indisponible",T11=Listes_deroulantes!$B$43,-10%,T11=Listes_deroulantes!$B$42,-40%,T11=Listes_deroulantes!$B$41,-20%,T11=Listes_deroulantes!$B$40,-20%,T11=Listes_deroulantes!$C$35,"s. o.",T11=Listes_deroulantes!$B$44,-10%)} -> s. o. | AB11: =IF(OR(Z11="s.o",AA11="Indisponible"),"s. o.",(IF(Z11>=AA11,"Non","Oui"))) -> s. o. | AC11: =IF(OR(W11=0,Y11=0),"s.o",(-(W11-Y11)/W11)) -> s.o | AD11: {=_xlfn.IFS(T11=Listes_deroulantes!$B$45,"Aucun",T11=Listes_deroulantes!$B$44,"Aucun",T11=Listes_deroulantes!$B$43,-10%,T11=Listes_deroulantes!$B$42,"Aucun",T11=Listes_deroulantes!$B$41,"Aucun",T11=Listes_deroulantes!$B$40,"Aucun",T11=Listes_deroulantes!$C$35,"s. o.")} -> s. o. | AE11: =IF(OR(AC11="s.o",AD11="Aucun"),"s. o.",(IF(OR(AC11<=AD11,AD11="Aucun"),"Oui","Non"))) -> s. o. | AG11: =IFERROR(IF(ISBLANK($U11),"",IF($U11="GJ",X11/$P11,IF($U11="kWh éq.",X11*V_GJ_kWh/$P11))),"") | AH11: =U11 -> 0 | AO11: =SUM(AI11:AM11) -> 0 | AQ11: =IFERROR(IF(OR(AP11=0,ISBLANK($U11)),0,IF($U11="GJ",AP11*V_GES_GJ_GazNaturel,IF($U11="kWh éq.",AP11*V_GES_kWhEq_GazNaturel))),"") -> 0 | AS11: =IFERROR(IF(OR(AR11=0,ISBLANK($U11)),0,IF($U11="GJ",AR11*V_GES_GJ_Mazout2Leger,IF($U11="kWh éq.",AR11*V_GES_kWhEq_Mazout2Leger))),"") -> 0 | AU11: =IFERROR(IF(OR(AT11=0,ISBLANK($U11)),0,IF($U11="GJ",AT11*V_GES_GJ_Propane,IF($U11="kWh éq.",AT11*V_GES_kWhEq_Propane))),"") -> 0 | AW11: =SUM(AP11,AR11,AT11,AV11) -> 0 | AX11: =AO11+AW11 -> 0 | AY11: =AQ11+AS11+AU11 -> 0 | AZ11: =IF(AX11=0,"s. o.",IF(AW11=0,"Aucun combustible",AW11/AX11)) -> s. o. | BA11: {=_xlfn.IFS(L11<Listes_deroulantes!$F$55,"s. o.",AND(L11<datevigueur,M11=autre),Listes_deroulantes!$G$4,AND(L11<datevigueur,M11=bureau),Listes_deroulantes!$G$5,AND(L11<datevigueur,M11=cegep),Listes_deroulantes!$G$6,AND(L11<datevigueur,M11=Centre),Listes_deroulantes!$G$7,AND(L11<datevigueur,M11=CHSLD),Listes_deroulantes!$G$8,AND(L11<datevigueur,M11=ecole),Listes_deroulantes!$G$9,AND(L11<datevigueur,M11=ecolesec),Listes_deroulantes!$G$10,AND(L11<datevigueur,M11=Universite),Listes_deroulantes!$G$11,AND(L11>=datevigueur,L11<=Listes_deroulantes!$F$48),New2025Avant,L11<=Listes_deroulantes!$F$49,New2030Avant,L11>Listes_deroulantes!$F$50,"0%")} -> s. o. | BB11: {=_xlfn.IFS(AZ11="Aucun combustible","Oui",AND(AZ11="s. o.",BA11="s. o."),"s. o.",AND(BA11="0%",OR(AZ11<>"Aucun combustible",AZ11<>"s. o.")),IF(AZ11<=0%,"Oui","Non"),AND(BA11<>"0%",OR(AZ11<>"Aucun combustible",AZ11<>"s. o.")),IF(AZ11<BA11,"Oui","Non"))} -> s. o. | BC11: =IF(AND(AZ11="Aucun combustible",L11>datevigueur),"Oui","Non") -> Non | BE11: =IF(M11="Habitation/Autre vocation","Habitation/Autre vocation",IF(OR(P11=0,ISBLANK(P11)),"s. o.",IF(P11>0,(P11*VLOOKUP(M11,D_GES_BatimentReference,2,FALSE)),""))) -> s. o. | BF11: {=IFERROR(_xlfn.IFS(AND(AO11>0,OR(AY11=0,ISBLANK(AY11)),OR(AW11=0,ISBLANK(AW11))),"100% Énergie renouvelable",AND(OR(AY11=0,ISBLANK(AY11)),AW11>0,),"Non disponible",AY11>0,AY11,AND(AY11=0,AW11=0,AO11=0),"s. o."),"Erreur")} -> s. o. | BG11: =IFERROR(IF(BF11="100% Énergie renouvelable",BE11,BE11-BF11),"s. o.") -> s. o. | BQ11: =SUM(BK11:BO11) -> 0 | BS11: =IFERROR(IF(OR(BR11=0,ISBLANK(BJ11)),0,IF(BJ11="GJ",BR11*V_GES_GJ_GazNaturel,IF(BJ11="kWh éq.",BR11*V_GES_kWhEq_GazNaturel))),"") -> 0 | BU11: =IFERROR(IF(OR(BT11=0,ISBLANK(BJ11)),0,IF(BJ11="GJ",BT11*V_GES_GJ_Mazout2Leger,IF(BJ11="kWh éq.",BT11*V_GES_kWhEq_Mazout2Leger))),"") -> 0 | BW11: =IFERROR(IF(OR(BV11=0,ISBLANK(BJ11)),0,IF(BJ11="GJ",BV11*V_GES_GJ_Propane,IF(BJ11="kWh éq.",BV11*V_GES_kWhEq_Propane))),"") -> 0 | BY11: =BS11+BU11+BW11 -> 0 | BZ11: =SUM(BR11,BT11,BV11,BX11) -> 0 | CA11: =BQ11+BZ11 -> 0 | CB11: =AX11 -> 0 | CC11: =IFERROR(IF(ISBLANK($BJ11),"",IF($BJ11="GJ",CA11/$P11,IF($BJ11="kWh éq.",CA11*V_GJ_kWh/$P11))),"") | CD11: =AG11 | CE11: =IF(CA11=0,"s. o.",IF(AND(CA11>0,BZ11=0),"Aucun combustible",(BZ11)/CA11)) -> s. o. | CF11: {=_xlfn.IFS(L11<Listes_deroulantes!$F$55,"s. o.",AND(L11<datevigueur,M11=autre),Listes_deroulantes!$H$4,AND(L11<datevigueur,M11=bureau),Listes_deroulantes!$H$5,AND(L11<datevigueur,M11=cegep),Listes_deroulantes!$H$6,AND(L11<datevigueur,M11=Centre),Listes_deroulantes!$H$7,AND(L11<datevigueur,M11=CHSLD),Listes_deroulantes!$H$8,AND(L11<datevigueur,M11=ecole),Listes_deroulantes!$H$9,AND(L11<datevigueur,M11=ecolesec),Listes_deroulantes!$H$10,AND(L11<datevigueur,M11=Universite),Listes_deroulantes!$H$11,AND(L11>=datevigueur,L11<=Listes_deroulantes!$F$48),NEW2025Apres,L11<=Listes_deroulantes!$F$49,New2030Apres,L11>Listes_deroulantes!$F$50,"0%")} -> s. o. | CG11: {=_xlfn.IFS(CE11="Aucun combustible","Oui",AND(CE11="s. o.",CF11="s. o."),"s. o.",AND(CF11="0%",OR(CE11<>"Aucun combustible",CE11<>"s. o.")),IF(CE11<=0%,"Oui","Non"),AND(CF11<>"0%",OR(CE11<>"Aucun combustible",CE11<>"s. o.")),IF(CE11<=CF11,"Oui","Non"))} -> s. o. | CI11: =BE11 -> s. o. | CJ11: {=_xlfn.IFS(CE11="s.o","Non disponible",CE11="Aucun combustible","0",CE11>0,BY11)} -> 0 | CK11: =IFERROR(CI11-CJ11,"Non disponible") -> Non disponible
Z12: =IF(OR(V12=0,X12=0),"s.o",(-(V12-X12)/V12)) -> s.o | AA12: {=_xlfn.IFS(T12=Listes_deroulantes!$B$45,"Indisponible",T12=Listes_deroulantes!$B$43,-10%,T12=Listes_deroulantes!$B$42,-40%,T12=Listes_deroulantes!$B$41,-20%,T12=Listes_deroulantes!$B$40,-20%,T12=Listes_deroulantes!$C$35,"s. o.",T12=Listes_deroulantes!$B$44,-10%)} -> s. o. | AB12: =IF(OR(Z12="s.o",AA12="Indisponible"),"s. o.",(IF(Z12>=AA12,"Non","Oui"))) -> s. o. | AC12: =IF(OR(W12=0,Y12=0),"s.o",(-(W12-Y12)/W12)) -> s.o | AD12: {=_xlfn.IFS(T12=Listes_deroulantes!$B$45,"Aucun",T12=Listes_deroulantes!$B$44,"Aucun",T12=Listes_deroulantes!$B$43,-10%,T12=Listes_deroulantes!$B$42,"Aucun",T12=Listes_deroulantes!$B$41,"Aucun",T12=Listes_deroulantes!$B$40,"Aucun",T12=Listes_deroulantes!$C$35,"s. o.")} -> s. o. | AE12: =IF(OR(AC12="s.o",AD12="Aucun"),"s. o.",(IF(OR(AC12<=AD12,AD12="Aucun"),"Oui","Non"))) -> s. o. | AG12: =IFERROR(IF(ISBLANK($U12),"",IF($U12="GJ",X12/$P12,IF($U12="kWh éq.",X12*V_GJ_kWh/$P12))),"") | AH12: =U12 -> 0 | AO12: =SUM(AI12:AM12) -> 0 | AQ12: =IFERROR(IF(OR(AP12=0,ISBLANK($U12)),0,IF($U12="GJ",AP12*V_GES_GJ_GazNaturel,IF($U12="kWh éq.",AP12*V_GES_kWhEq_GazNaturel))),"") -> 0 | AS12: =IFERROR(IF(OR(AR12=0,ISBLANK($U12)),0,IF($U12="GJ",AR12*V_GES_GJ_Mazout2Leger,IF($U12="kWh éq.",AR12*V_GES_kWhEq_Mazout2Leger))),"") -> 0 | AU12: =IFERROR(IF(OR(AT12=0,ISBLANK($U12)),0,IF($U12="GJ",AT12*V_GES_GJ_Propane,IF($U12="kWh éq.",AT12*V_GES_kWhEq_Propane))),"") -> 0 | AW12: =SUM(AP12,AR12,AT12,AV12) -> 0 | AX12: =AO12+AW12 -> 0 | AY12: =AQ12+AS12+AU12 -> 0 | AZ12: =IF(AX12=0,"s. o.",IF(AW12=0,"Aucun combustible",AW12/AX12)) -> s. o. | BA12: {=_xlfn.IFS(L12<Listes_deroulantes!$F$55,"s. o.",AND(L12<datevigueur,M12=autre),Listes_deroulantes!$G$4,AND(L12<datevigueur,M12=bureau),Listes_deroulantes!$G$5,AND(L12<datevigueur,M12=cegep),Listes_deroulantes!$G$6,AND(L12<datevigueur,M12=Centre),Listes_deroulantes!$G$7,AND(L12<datevigueur,M12=CHSLD),Listes_deroulantes!$G$8,AND(L12<datevigueur,M12=ecole),Listes_deroulantes!$G$9,AND(L12<datevigueur,M12=ecolesec),Listes_deroulantes!$G$10,AND(L12<datevigueur,M12=Universite),Listes_deroulantes!$G$11,AND(L12>=datevigueur,L12<=Listes_deroulantes!$F$48),New2025Avant,L12<=Listes_deroulantes!$F$49,New2030Avant,L12>Listes_deroulantes!$F$50,"0%")} -> s. o. | BB12: {=_xlfn.IFS(AZ12="Aucun combustible","Oui",AND(AZ12="s. o.",BA12="s. o."),"s. o.",AND(BA12="0%",OR(AZ12<>"Aucun combustible",AZ12<>"s. o.")),IF(AZ12<=0%,"Oui","Non"),AND(BA12<>"0%",OR(AZ12<>"Aucun combustible",AZ12<>"s. o.")),IF(AZ12<BA12,"Oui","Non"))} -> s. o. | BC12: =IF(AND(AZ12="Aucun combustible",L12>datevigueur),"Oui","Non") -> Non | BE12: =IF(M12="Habitation/Autre vocation","Habitation/Autre vocation",IF(OR(P12=0,ISBLANK(P12)),"s. o.",IF(P12>0,(P12*VLOOKUP(M12,D_GES_BatimentReference,2,FALSE)),""))) -> s. o. | BF12: {=IFERROR(_xlfn.IFS(AND(AO12>0,OR(AY12=0,ISBLANK(AY12)),OR(AW12=0,ISBLANK(AW12))),"100% Énergie renouvelable",AND(OR(AY12=0,ISBLANK(AY12)),AW12>0,),"Non disponible",AY12>0,AY12,AND(AY12=0,AW12=0,AO12=0),"s. o."),"Erreur")} -> s. o. | BG12: =IFERROR(IF(BF12="100% Énergie renouvelable",BE12,BE12-BF12),"s. o.") -> s. o. | BQ12: =SUM(BK12:BO12) -> 0 | BS12: =IFERROR(IF(OR(BR12=0,ISBLANK(BJ12)),0,IF(BJ12="GJ",BR12*V_GES_GJ_GazNaturel,IF(BJ12="kWh éq.",BR12*V_GES_kWhEq_GazNaturel))),"") -> 0 | BU12: =IFERROR(IF(OR(BT12=0,ISBLANK(BJ12)),0,IF(BJ12="GJ",BT12*V_GES_GJ_Mazout2Leger,IF(BJ12="kWh éq.",BT12*V_GES_kWhEq_Mazout2Leger))),"") -> 0 | BW12: =IFERROR(IF(OR(BV12=0,ISBLANK(BJ12)),0,IF(BJ12="GJ",BV12*V_GES_GJ_Propane,IF(BJ12="kWh éq.",BV12*V_GES_kWhEq_Propane))),"") -> 0 | BY12: =BS12+BU12+BW12 -> 0 | BZ12: =SUM(BR12,BT12,BV12,BX12) -> 0 | CA12: =BQ12+BZ12 -> 0 | CB12: =AX12 -> 0 | CC12: =IFERROR(IF(ISBLANK($BJ12),"",IF($BJ12="GJ",CA12/$P12,IF($BJ12="kWh éq.",CA12*V_GJ_kWh/$P12))),"") | CD12: =AG12 | CE12: =IF(CA12=0,"s. o.",IF(AND(CA12>0,BZ12=0),"Aucun combustible",(BZ12)/CA12)) -> s. o. | CF12: {=_xlfn.IFS(L12<Listes_deroulantes!$F$55,"s. o.",AND(L12<datevigueur,M12=autre),Listes_deroulantes!$H$4,AND(L12<datevigueur,M12=bureau),Listes_deroulantes!$H$5,AND(L12<datevigueur,M12=cegep),Listes_deroulantes!$H$6,AND(L12<datevigueur,M12=Centre),Listes_deroulantes!$H$7,AND(L12<datevigueur,M12=CHSLD),Listes_deroulantes!$H$8,AND(L12<datevigueur,M12=ecole),Listes_deroulantes!$H$9,AND(L12<datevigueur,M12=ecolesec),Listes_deroulantes!$H$10,AND(L12<datevigueur,M12=Universite),Listes_deroulantes!$H$11,AND(L12>=datevigueur,L12<=Listes_deroulantes!$F$48),NEW2025Apres,L12<=Listes_deroulantes!$F$49,New2030Apres,L12>Listes_deroulantes!$F$50,"0%")} -> s. o. | CG12: {=_xlfn.IFS(CE12="Aucun combustible","Oui",AND(CE12="s. o.",CF12="s. o."),"s. o.",AND(CF12="0%",OR(CE12<>"Aucun combustible",CE12<>"s. o.")),IF(CE12<=0%,"Oui","Non"),AND(CF12<>"0%",OR(CE12<>"Aucun combustible",CE12<>"s. o.")),IF(CE12<=CF12,"Oui","Non"))} -> s. o. | CI12: =BE12 -> s. o. | CJ12: {=_xlfn.IFS(CE12="s.o","Non disponible",CE12="Aucun combustible","0",CE12>0,BY12)} -> 0 | CK12: =IFERROR(CI12-CJ12,"Non disponible") -> Non disponible
Z13: =IF(OR(V13=0,X13=0),"s.o",(-(V13-X13)/V13)) -> s.o | AA13: {=_xlfn.IFS(T13=Listes_deroulantes!$B$45,"Indisponible",T13=Listes_deroulantes!$B$43,-10%,T13=Listes_deroulantes!$B$42,-40%,T13=Listes_deroulantes!$B$41,-20%,T13=Listes_deroulantes!$B$40,-20%,T13=Listes_deroulantes!$C$35,"s. o.",T13=Listes_deroulantes!$B$44,-10%)} -> s. o. | AB13: =IF(OR(Z13="s.o",AA13="Indisponible"),"s. o.",(IF(Z13>=AA13,"Non","Oui"))) -> s. o. | AC13: =IF(OR(W13=0,Y13=0),"s.o",(-(W13-Y13)/W13)) -> s.o | AD13: {=_xlfn.IFS(T13=Listes_deroulantes!$B$45,"Aucun",T13=Listes_deroulantes!$B$44,"Aucun",T13=Listes_deroulantes!$B$43,-10%,T13=Listes_deroulantes!$B$42,"Aucun",T13=Listes_deroulantes!$B$41,"Aucun",T13=Listes_deroulantes!$B$40,"Aucun",T13=Listes_deroulantes!$C$35,"s. o.")} -> s. o. | AE13: =IF(OR(AC13="s.o",AD13="Aucun"),"s. o.",(IF(OR(AC13<=AD13,AD13="Aucun"),"Oui","Non"))) -> s. o. | AG13: =IFERROR(IF(ISBLANK($U13),"",IF($U13="GJ",X13/$P13,IF($U13="kWh éq.",X13*V_GJ_kWh/$P13))),"") | AH13: =U13 -> 0 | AO13: =SUM(AI13:AM13) -> 0 | AQ13: =IFERROR(IF(OR(AP13=0,ISBLANK($U13)),0,IF($U13="GJ",AP13*V_GES_GJ_GazNaturel,IF($U13="kWh éq.",AP13*V_GES_kWhEq_GazNaturel))),"") -> 0 | AS13: =IFERROR(IF(OR(AR13=0,ISBLANK($U13)),0,IF($U13="GJ",AR13*V_GES_GJ_Mazout2Leger,IF($U13="kWh éq.",AR13*V_GES_kWhEq_Mazout2Leger))),"") -> 0 | AU13: =IFERROR(IF(OR(AT13=0,ISBLANK($U13)),0,IF($U13="GJ",AT13*V_GES_GJ_Propane,IF($U13="kWh éq.",AT13*V_GES_kWhEq_Propane))),"") -> 0 | AW13: =SUM(AP13,AR13,AT13,AV13) -> 0 | AX13: =AO13+AW13 -> 0 | AY13: =AQ13+AS13+AU13 -> 0 | AZ13: =IF(AX13=0,"s. o.",IF(AW13=0,"Aucun combustible",AW13/AX13)) -> s. o. | BA13: {=_xlfn.IFS(L13<Listes_deroulantes!$F$55,"s. o.",AND(L13<datevigueur,M13=autre),Listes_deroulantes!$G$4,AND(L13<datevigueur,M13=bureau),Listes_deroulantes!$G$5,AND(L13<datevigueur,M13=cegep),Listes_deroulantes!$G$6,AND(L13<datevigueur,M13=Centre),Listes_deroulantes!$G$7,AND(L13<datevigueur,M13=CHSLD),Listes_deroulantes!$G$8,AND(L13<datevigueur,M13=ecole),Listes_deroulantes!$G$9,AND(L13<datevigueur,M13=ecolesec),Listes_deroulantes!$G$10,AND(L13<datevigueur,M13=Universite),Listes_deroulantes!$G$11,AND(L13>=datevigueur,L13<=Listes_deroulantes!$F$48),New2025Avant,L13<=Listes_deroulantes!$F$49,New2030Avant,L13>Listes_deroulantes!$F$50,"0%")} -> s. o. | BB13: {=_xlfn.IFS(AZ13="Aucun combustible","Oui",AND(AZ13="s. o.",BA13="s. o."),"s. o.",AND(BA13="0%",OR(AZ13<>"Aucun combustible",AZ13<>"s. o.")),IF(AZ13<=0%,"Oui","Non"),AND(BA13<>"0%",OR(AZ13<>"Aucun combustible",AZ13<>"s. o.")),IF(AZ13<BA13,"Oui","Non"))} -> s. o. | BC13: =IF(AND(AZ13="Aucun combustible",L13>datevigueur),"Oui","Non") -> Non | BE13: =IF(M13="Habitation/Autre vocation","Habitation/Autre vocation",IF(OR(P13=0,ISBLANK(P13)),"s. o.",IF(P13>0,(P13*VLOOKUP(M13,D_GES_BatimentReference,2,FALSE)),""))) -> s. o. | BF13: {=IFERROR(_xlfn.IFS(AND(AO13>0,OR(AY13=0,ISBLANK(AY13)),OR(AW13=0,ISBLANK(AW13))),"100% Énergie renouvelable",AND(OR(AY13=0,ISBLANK(AY13)),AW13>0,),"Non disponible",AY13>0,AY13,AND(AY13=0,AW13=0,AO13=0),"s. o."),"Erreur")} -> s. o. | BG13: =IFERROR(IF(BF13="100% Énergie renouvelable",BE13,BE13-BF13),"s. o.") -> s. o. | BQ13: =SUM(BK13:BO13) -> 0 | BS13: =IFERROR(IF(OR(BR13=0,ISBLANK(BJ13)),0,IF(BJ13="GJ",BR13*V_GES_GJ_GazNaturel,IF(BJ13="kWh éq.",BR13*V_GES_kWhEq_GazNaturel))),"") -> 0 | BU13: =IFERROR(IF(OR(BT13=0,ISBLANK(BJ13)),0,IF(BJ13="GJ",BT13*V_GES_GJ_Mazout2Leger,IF(BJ13="kWh éq.",BT13*V_GES_kWhEq_Mazout2Leger))),"") -> 0 | BW13: =IFERROR(IF(OR(BV13=0,ISBLANK(BJ13)),0,IF(BJ13="GJ",BV13*V_GES_GJ_Propane,IF(BJ13="kWh éq.",BV13*V_GES_kWhEq_Propane))),"") -> 0 | BY13: =BS13+BU13+BW13 -> 0 | BZ13: =SUM(BR13,BT13,BV13,BX13) -> 0 | CA13: =BQ13+BZ13 -> 0 | CB13: =AX13 -> 0 | CC13: =IFERROR(IF(ISBLANK($BJ13),"",IF($BJ13="GJ",CA13/$P13,IF($BJ13="kWh éq.",CA13*V_GJ_kWh/$P13))),"") | CD13: =AG13 | CE13: =IF(CA13=0,"s. o.",IF(AND(CA13>0,BZ13=0),"Aucun combustible",(BZ13)/CA13)) -> s. o. | CF13: {=_xlfn.IFS(L13<Listes_deroulantes!$F$55,"s. o.",AND(L13<datevigueur,M13=autre),Listes_deroulantes!$H$4,AND(L13<datevigueur,M13=bureau),Listes_deroulantes!$H$5,AND(L13<datevigueur,M13=cegep),Listes_deroulantes!$H$6,AND(L13<datevigueur,M13=Centre),Listes_deroulantes!$H$7,AND(L13<datevigueur,M13=CHSLD),Listes_deroulantes!$H$8,AND(L13<datevigueur,M13=ecole),Listes_deroulantes!$H$9,AND(L13<datevigueur,M13=ecolesec),Listes_deroulantes!$H$10,AND(L13<datevigueur,M13=Universite),Listes_deroulantes!$H$11,AND(L13>=datevigueur,L13<=Listes_deroulantes!$F$48),NEW2025Apres,L13<=Listes_deroulantes!$F$49,New2030Apres,L13>Listes_deroulantes!$F$50,"0%")} -> s. o. | CG13: {=_xlfn.IFS(CE13="Aucun combustible","Oui",AND(CE13="s. o.",CF13="s. o."),"s. o.",AND(CF13="0%",OR(CE13<>"Aucun combustible",CE13<>"s. o.")),IF(CE13<=0%,"Oui","Non"),AND(CF13<>"0%",OR(CE13<>"Aucun combustible",CE13<>"s. o.")),IF(CE13<=CF13,"Oui","Non"))} -> s. o. | CI13: =BE13 -> s. o. | CJ13: {=_xlfn.IFS(CE13="s.o","Non disponible",CE13="Aucun combustible","0",CE13>0,BY13)} -> 0 | CK13: =IFERROR(CI13-CJ13,"Non disponible") -> Non disponible
Z14: =IF(OR(V14=0,X14=0),"s.o",(-(V14-X14)/V14)) -> s.o | AA14: {=_xlfn.IFS(T14=Listes_deroulantes!$B$45,"Indisponible",T14=Listes_deroulantes!$B$43,-10%,T14=Listes_deroulantes!$B$42,-40%,T14=Listes_deroulantes!$B$41,-20%,T14=Listes_deroulantes!$B$40,-20%,T14=Listes_deroulantes!$C$35,"s. o.",T14=Listes_deroulantes!$B$44,-10%)} -> s. o. | AB14: =IF(OR(Z14="s.o",AA14="Indisponible"),"s. o.",(IF(Z14>=AA14,"Non","Oui"))) -> s. o. | AC14: =IF(OR(W14=0,Y14=0),"s.o",(-(W14-Y14)/W14)) -> s.o | AD14: {=_xlfn.IFS(T14=Listes_deroulantes!$B$45,"Aucun",T14=Listes_deroulantes!$B$44,"Aucun",T14=Listes_deroulantes!$B$43,-10%,T14=Listes_deroulantes!$B$42,"Aucun",T14=Listes_deroulantes!$B$41,"Aucun",T14=Listes_deroulantes!$B$40,"Aucun",T14=Listes_deroulantes!$C$35,"s. o.")} -> s. o. | AE14: =IF(OR(AC14="s.o",AD14="Aucun"),"s. o.",(IF(OR(AC14<=AD14,AD14="Aucun"),"Oui","Non"))) -> s. o. | AG14: =IFERROR(IF(ISBLANK($U14),"",IF($U14="GJ",X14/$P14,IF($U14="kWh éq.",X14*V_GJ_kWh/$P14))),"") | AH14: =U14 -> 0 | AO14: =SUM(AI14:AM14) -> 0 | AQ14: =IFERROR(IF(OR(AP14=0,ISBLANK($U14)),0,IF($U14="GJ",AP14*V_GES_GJ_GazNaturel,IF($U14="kWh éq.",AP14*V_GES_kWhEq_GazNaturel))),"") -> 0 | AS14: =IFERROR(IF(OR(AR14=0,ISBLANK($U14)),0,IF($U14="GJ",AR14*V_GES_GJ_Mazout2Leger,IF($U14="kWh éq.",AR14*V_GES_kWhEq_Mazout2Leger))),"") -> 0 | AU14: =IFERROR(IF(OR(AT14=0,ISBLANK($U14)),0,IF($U14="GJ",AT14*V_GES_GJ_Propane,IF($U14="kWh éq.",AT14*V_GES_kWhEq_Propane))),"") -> 0 | AW14: =SUM(AP14,AR14,AT14,AV14) -> 0 | AX14: =AO14+AW14 -> 0 | AY14: =AQ14+AS14+AU14 -> 0 | AZ14: =IF(AX14=0,"s. o.",IF(AW14=0,"Aucun combustible",AW14/AX14)) -> s. o. | BA14: {=_xlfn.IFS(L14<Listes_deroulantes!$F$55,"s. o.",AND(L14<datevigueur,M14=autre),Listes_deroulantes!$G$4,AND(L14<datevigueur,M14=bureau),Listes_deroulantes!$G$5,AND(L14<datevigueur,M14=cegep),Listes_deroulantes!$G$6,AND(L14<datevigueur,M14=Centre),Listes_deroulantes!$G$7,AND(L14<datevigueur,M14=CHSLD),Listes_deroulantes!$G$8,AND(L14<datevigueur,M14=ecole),Listes_deroulantes!$G$9,AND(L14<datevigueur,M14=ecolesec),Listes_deroulantes!$G$10,AND(L14<datevigueur,M14=Universite),Listes_deroulantes!$G$11,AND(L14>=datevigueur,L14<=Listes_deroulantes!$F$48),New2025Avant,L14<=Listes_deroulantes!$F$49,New2030Avant,L14>Listes_deroulantes!$F$50,"0%")} -> s. o. | BB14: {=_xlfn.IFS(AZ14="Aucun combustible","Oui",AND(AZ14="s. o.",BA14="s. o."),"s. o.",AND(BA14="0%",OR(AZ14<>"Aucun combustible",AZ14<>"s. o.")),IF(AZ14<=0%,"Oui","Non"),AND(BA14<>"0%",OR(AZ14<>"Aucun combustible",AZ14<>"s. o.")),IF(AZ14<BA14,"Oui","Non"))} -> s. o. | BC14: =IF(AND(AZ14="Aucun combustible",L14>datevigueur),"Oui","Non") -> Non | BE14: =IF(M14="Habitation/Autre vocation","Habitation/Autre vocation",IF(OR(P14=0,ISBLANK(P14)),"s. o.",IF(P14>0,(P14*VLOOKUP(M14,D_GES_BatimentReference,2,FALSE)),""))) -> s. o. | BF14: {=IFERROR(_xlfn.IFS(AND(AO14>0,OR(AY14=0,ISBLANK(AY14)),OR(AW14=0,ISBLANK(AW14))),"100% Énergie renouvelable",AND(OR(AY14=0,ISBLANK(AY14)),AW14>0,),"Non disponible",AY14>0,AY14,AND(AY14=0,AW14=0,AO14=0),"s. o."),"Erreur")} -> s. o. | BG14: =IFERROR(IF(BF14="100% Énergie renouvelable",BE14,BE14-BF14),"s. o.") -> s. o. | BQ14: =SUM(BK14:BO14) -> 0 | BS14: =IFERROR(IF(OR(BR14=0,ISBLANK(BJ14)),0,IF(BJ14="GJ",BR14*V_GES_GJ_GazNaturel,IF(BJ14="kWh éq.",BR14*V_GES_kWhEq_GazNaturel))),"") -> 0 | BU14: =IFERROR(IF(OR(BT14=0,ISBLANK(BJ14)),0,IF(BJ14="GJ",BT14*V_GES_GJ_Mazout2Leger,IF(BJ14="kWh éq.",BT14*V_GES_kWhEq_Mazout2Leger))),"") -> 0 | BW14: =IFERROR(IF(OR(BV14=0,ISBLANK(BJ14)),0,IF(BJ14="GJ",BV14*V_GES_GJ_Propane,IF(BJ14="kWh éq.",BV14*V_GES_kWhEq_Propane))),"") -> 0 | BY14: =BS14+BU14+BW14 -> 0 | BZ14: =SUM(BR14,BT14,BV14,BX14) -> 0 | CA14: =BQ14+BZ14 -> 0 | CB14: =AX14 -> 0 | CC14: =IFERROR(IF(ISBLANK($BJ14),"",IF($BJ14="GJ",CA14/$P14,IF($BJ14="kWh éq.",CA14*V_GJ_kWh/$P14))),"") | CD14: =AG14 | CE14: =IF(CA14=0,"s. o.",IF(AND(CA14>0,BZ14=0),"Aucun combustible",(BZ14)/CA14)) -> s. o. | CF14: {=_xlfn.IFS(L14<Listes_deroulantes!$F$55,"s. o.",AND(L14<datevigueur,M14=autre),Listes_deroulantes!$H$4,AND(L14<datevigueur,M14=bureau),Listes_deroulantes!$H$5,AND(L14<datevigueur,M14=cegep),Listes_deroulantes!$H$6,AND(L14<datevigueur,M14=Centre),Listes_deroulantes!$H$7,AND(L14<datevigueur,M14=CHSLD),Listes_deroulantes!$H$8,AND(L14<datevigueur,M14=ecole),Listes_deroulantes!$H$9,AND(L14<datevigueur,M14=ecolesec),Listes_deroulantes!$H$10,AND(L14<datevigueur,M14=Universite),Listes_deroulantes!$H$11,AND(L14>=datevigueur,L14<=Listes_deroulantes!$F$48),NEW2025Apres,L14<=Listes_deroulantes!$F$49,New2030Apres,L14>Listes_deroulantes!$F$50,"0%")} -> s. o. | CG14: {=_xlfn.IFS(CE14="Aucun combustible","Oui",AND(CE14="s. o.",CF14="s. o."),"s. o.",AND(CF14="0%",OR(CE14<>"Aucun combustible",CE14<>"s. o.")),IF(CE14<=0%,"Oui","Non"),AND(CF14<>"0%",OR(CE14<>"Aucun combustible",CE14<>"s. o.")),IF(CE14<=CF14,"Oui","Non"))} -> s. o. | CI14: =BE14 -> s. o. | CJ14: {=_xlfn.IFS(CE14="s.o","Non disponible",CE14="Aucun combustible","0",CE14>0,BY14)} -> 0 | CK14: =IFERROR(CI14-CJ14,"Non disponible") -> Non disponible
