Workbook
Name Après2030: Listes_deroulantes!$F$50
Name autre: Listes_deroulantes!$F$4
Name Avant2025: Listes_deroulantes!$F$48
Name Avant2030: Listes_deroulantes!$F$49
Name bureau: Listes_deroulantes!$F$5
Name cegep: Listes_deroulantes!$F$6
Name Centre: Listes_deroulantes!$F$7
Name CHSLD: Listes_deroulantes!$F$8
Name D_GES_BatimentReference: Listes_deroulantes!$F$23:$G$30
Name datevigueur: Listes_deroulantes!$F$53
Name ecole: Listes_deroulantes!$F$9
Name ecolesec: Listes_deroulantes!$F$10
Name Exist20205Apres: Listes_deroulantes!$J$48
Name Exist2025Avant: Listes_deroulantes!$I$48
Name Exist2030Apres: Listes_deroulantes!$J$49
Name Exist2030Avant: Listes_deroulantes!$I$49
Name Exist2031Apres: Listes_deroulantes!$J$50
Name Exist2031Avant: Listes_deroulantes!$I$50
Name GESreference: #REF!
Name kgCO2eq_Essence_VehiculeLeger: TableConversion!#REF!
Name L_100km_vehicules_legers: '[1]Table de conversion'!$P$64
Name L_Agrandissement: Listes_deroulantes!$B$48:$B$49
Name L_Annee: Listes_deroulantes!$B$4:$B$11
Name L_Annees: Listes_deroulantes!$A$55:$A$69
Name L_DocumentNormatif: Listes_deroulantes!$B$40:$B$45
Name L_FormesEnergieGES: Listes_deroulantes!$F$35:$F$42
Name L_Secteur: Listes_deroulantes!$B$14:$B$20
Name L_StatutConversion: Listes_deroulantes!$A$48:$A$51
Name L_StatutProjet: Listes_deroulantes!$A$40:$A$45
Name L_TypeBatiment: Listes_deroulantes!$A$4:$A$20
Name L_TypeCombustible: Listes_deroulantes!$B$34:$B$37
Name L_TypeEnergieRenouvelable: Listes_deroulantes!$B$27:$B$30
Name L_TypeProjet: Listes_deroulantes!$A$34:$A$37
Name L_UniteEnergie: Listes_deroulantes!$B$23:$B$25
Name L_VocationPrincipale: Listes_deroulantes!$F$4:$F$11
Name LD_VocationPrincipale: Listes_deroulantes!$A$23:$A$30
Name NEW2025Apres: Listes_deroulantes!$H$48
Name New2025Avant: Listes_deroulantes!$G$48
Name New2030Apres: Listes_deroulantes!$H$49
Name New2030Avant: Listes_deroulantes!$G$49
Name New2031Apres: Listes_deroulantes!$H$50
Name New2031Avant: Listes_deroulantes!$G$50
Name Plage_EquivColonne_Facteurs_Periode_3: TableConversion!$D$44:$Z$44
Name Plage_EquivLigne_Facteurs_Periode_3: TableConversion!$C$45:$C$71
Name Plage_Facteurs_Periode_3: TableConversion!$D$45:$Z$71
Name regionadm: Listes_deroulantes!$B$54:$B$70
Name TableConversion: #REF!
Name Type_projet: Listes_deroulantes!$D$4:$D$8
Name Universite: Listes_deroulantes!$F$11
Name V_CriteresBE_AvantConversion: Listes_deroulantes!$I$4:$I$11
Name V_CriteresBE_PostConversion: Listes_deroulantes!$J$4:$J$11
Name V_CriteresNB_ApresTravaux: Listes_deroulantes!$H$4:$H$11
Name V_CriteresNB_AvantTravaux: Listes_deroulantes!$G$4:$G$11
Name V_EcartMinimalPerformance_CNEB2011: Listes_deroulantes!$G$14
Name V_GES_GJ: Listes_deroulantes!$I$35:$I$42
Name V_GES_GJ_GazNaturel: Listes_deroulantes!$I$36
Name V_GES_GJ_Mazout2Leger: Listes_deroulantes!$I$37
Name V_GES_GJ_Propane: Listes_deroulantes!$I$39
Name V_GES_kWh: Listes_deroulantes!$J$35:$J$42
Name V_GES_kWhEq_GazNaturel: Listes_deroulantes!$J$36

Sheet À lire

Sheet Nouv. bâtiments
A1: Nouveaux bâtiments
A2: Information de base | J2: Informations sur le projet | R2: Avant la réalisation des travaux du nouveau bâtiment | BI2: Pendant l'exploitation
A3: Veuillez lister tous les nouveaux bâtiments mis en service depuis le 1er janvier 2016, en incluant toute construction neuve, toute partie agrandie d'un bâtiment dont la superficie est supérieure à 600 m2, et tout bâtiment visé par une rénovation majeure. | U3: Performance énergétique du nouveau bâtiment Consommation totale et coûts annuels d'énergie, selon le rapport de simulation | Z3: Validation des critères | AH3: Besoins énergétiques annuels de chauffage (BEC) | AZ3: Validation des critères | BE3: GES (tonnes de CO2éq.) Si la vocation du projet est désignée « Autre vocation », insérez la valeur du bâtiment de référence avec une justification en commentaire (si disponible). | BI3: Consommation totales annuelles d'énergie (CTA) | CE3: Validation des critères | CI3: GES (tonne de CO2éq.)
A4: Secteur (utiliser liste déroulante) | B4: Année (utiliser liste déroulante) | C4: Nom de l'organisation propriétaire | D4: Numéro de l'organisation propriétaire | E4: Nom du bâtiment, de l'installation ou de l'immeuble | F4: Type de bâtiment, d'installation ou d'immeuble (utiliser liste déroulante) | G4: Adresse | H4: Municipalité | I4: No de région administrative (utiliser liste déroulante) | J4: Statut du projet (utiliser liste déroulante) | K4: Numéro de projet (interne à l'organisation) | L4: Date prévue ou réelle de la mise en chantier (AAAA-MM-JJ) | M4: Vocation principale du projet (utiliser liste déroulante) | N4: Type de projet (utiliser liste déroulante) | O4: Nombre d'étages | P4: Superficie du projet (m²) | Q4: Commentaires | R4: Date du rapport de simulation | S4: Nom du logiciel de modélisation utilisé | T4: Document normatif utilisé (utiliser liste déroulante) | U4: Unité d'énergie (utiliser liste déroulante) | V4: Consommation du bâtiment de référence | W4: Coûts énergétiques du bâtiment de référence | X4: Consommation du bâtiment proposé | Y4: Coûts énergétiques du bâtiment proposé | Z4: Écart de la performance énergétique | AA4: Écart min. à respecter (selon le document normatif utilisé) | AB4: Respect de l'écart min. de performance | AC4: Écart des coûts énergétiques | AD4: Écart min. à respecter | AE4: Respect de l'écart min. des coûts énergétiques | AF4: Commentaires (Veuillez spécifier le document normatif utilisé si l'option "Autre/inconnu" a été sélectionnée précédemment) | AG4: Consomation unitaire prévue (bât. proposé) | AH4: Unité d'énergie | AI4: Électricité | AJ4: Solaire | AK4: Éolien | AL4: Biomasse | AM4: Autre énergie renouvelable | AN4: Préciser type autre | AO4: Quantité totale d'énergie renouvelable | AP4: Gaz naturel | AQ4: Émissions de GES (tCO2éq.) - Gaz naturel | AR4: Mazout léger | AS4: Émissions de GES (tCO2éq.) - Mazout léger | AT4: Propane | AU4: Émissions de GES (tCO2éq.) - Propane | AV4: Autre | AW4: Quantité totale d'énergie combustible | AX4: Quantité totale d'énergie (énergie renouvelable + combustible) | AY4: Quantité totale des émissions de GES (tCO2éq.) | AZ4: Proportion des combustibles fossiles | BA4: Pourcentage maximal à respecter | BB4: Respect du pourcentage maximal | BC4: Obligation d'obtenir une autorisation préalable de la part d'Hydro-Québec (zone sensible à l'électrification) | BD4: Commentaires | BE4: Bâtiment de référence | BF4: Bâtiment proposé | BG4: GES évités | BH4: Commentaires | BI4: En cas d'agrandissement : bilan d'exploitation relatif à l'agrandissement ou le bâtiment au complet? (utiliser liste déroulante) | BJ4: Unité d'énergie (utiliser liste déroulante) | BK4: Électricité | BL4: Solaire | BM4: Éolien | BN4: Biomasse | BO4: Autre | BP4: Préciser type Autre | BQ4: Quantité totale d'énergie renouvelable | BR4: Gaz naturel | BS4: Émissions de GES (tCO2eq) Gaz naturel | BT4: Mazout léger | BU4: Émissions de GES (tCO2eq) Mazout léger | BV4: Propane | BW4: Émissions de GES (tCO2eq) Propane | BX4: Autre | BY4: Total émissions de GES (tCO2éq.) | BZ4: Quantité totale d'énergie combustible | CA4: Quantité totale d'énergie (énergie renouvelable + combustible) | CB4: Énergie (bât. proposé) | CC4: Consommation unitaire | CD4: =AG4 -> Consomation unitaire prévue (bât. proposé) | CE4: Proportion de combustible | CF4: Pourcentage maximal à respecter | CG4: Respect du pourcentage maximal | CH4: Commentaires | CI4: Bâtiment de référence | CJ4: Bâtiment réel | CK4: GES évités | CL4: Commentaires
Z5: =IF(OR(V5=0,X5=0),"s.o",(-(V5-X5)/V5)) -> s.o | AA5: {=_xlfn.IFS(T5=Listes_deroulantes!$B$45,"Indisponible",T5=Listes_deroulantes!$B$43,-10%,T5=Listes_deroulantes!$B$42,-40%,T5=Listes_deroulantes!$B$41,-20%,T5=Listes_deroulantes!$B$40,-20%,T5=Listes_deroulantes!$C$35,"s. o.",T5=Listes_deroulantes!$B$44,-10%)} -> s. o. | AB5: =IF(OR(Z5="s.o",AA5="Indisponible"),"s. o.",(IF(Z5>=AA5,"Non","Oui"))) -> s. o. | AC5: =IF(OR(W5=0,Y5=0),"s.o",(-(W5-Y5)/W5)) -> s.o | AD5: {=_xlfn.IFS(T5=Listes_deroulantes!$B$45,"Aucun",T5=Listes_deroulantes!$B$44,"Aucun",T5=Listes_deroulantes!$B$43,-10%,T5=Listes_deroulantes!$B$42,"Aucun",T5=Listes_deroulantes!$B$41,"Aucun",T5=Listes_deroulantes!$B$40,"Aucun",T5=Listes_deroulantes!$C$35,"s. o.")} -> s. o. | AE5: =IF(OR(AC5="s.o",AD5="Aucun"),"s. o.",(IF(OR(AC5<=AD5,AD5="Aucun"),"Oui","Non"))) -> s. o. | AG5: =IFERROR(IF(ISBLANK($U5),"",IF($U5="GJ",X5/$P5,IF($U5="kWh éq.",X5*V_GJ_kWh/$P5))),"") | AH5: =U5 -> 0 | AO5: =SUM(AI5:AM5) -> 0 | AQ5: =IFERROR(IF(OR(AP5=0,ISBLANK($U5)),0,IF($U5="GJ",AP5*V_GES_GJ_GazNaturel,IF($U5="kWh éq.",AP5*V_GES_kWhEq_GazNaturel))),"") -> 0 | AS5: =IFERROR(IF(OR(AR5=0,ISBLANK($U5)),0,IF($U5="GJ",AR5*V_GES_GJ_Mazout2Leger,IF($U5="kWh éq.",AR5*V_GES_kWhEq_Mazout2Leger))),"") -> 0 | AU5: =IFERROR(IF(OR(AT5=0,ISBLANK($U5)),0,IF($U5="GJ",AT5*V_GES_GJ_Propane,IF($U5="kWh éq.",AT5*V_GES_kWhEq_Propane))),"") -> 0 | AW5: =SUM(AP5,AR5,AT5,AV5) -> 0 | AX5: =AO5+AW5 -> 0 | AY5: =AQ5+AS5+AU5 -> 0 | AZ5: =IF(AX5=0,"s. o.",IF(AW5=0,"Aucun combustible",AW5/AX5)) -> s. o. | BA5: {=_xlfn.IFS(L5<Listes_deroulantes!$F$55,"s. o.",AND(L5<datevigueur,M5=autre),Listes_deroulantes!$G$4,AND(L5<datevigueur,M5=bureau),Listes_deroulantes!$G$5,AND(L5<datevigueur,M5=cegep),Listes_deroulantes!$G$6,AND(L5<datevigueur,M5=Centre),Listes_deroulantes!$G$7,AND(L5<datevigueur,M5=CHSLD),Listes_deroulantes!$G$8,AND(L5<datevigueur,M5=ecole),Listes_deroulantes!$G$9,AND(L5<datevigueur,M5=ecolesec),Listes_deroulantes!$G$10,AND(L5<datevigueur,M5=Universite),Listes_deroulantes!$G$11,AND(L5>=datevigueur,L5<=Listes_deroulantes!$F$48),New2025Avant,L5<=Listes_deroulantes!$F$49,New2030Avant,L5>Listes_deroulantes!$F$50,"0%")} -> s. o. | BB5: {=_xlfn.IFS(AZ5="Aucun combustible","Oui",AND(AZ5="s. o.",BA5="s. o."),"s. o.",AND(BA5="0%",OR(AZ5<>"Aucun combustible",AZ5<>"s. o.")),IF(AZ5<=0%,"Oui","Non"),AND(BA5<>"0%",OR(AZ5<>"Aucun combustible",AZ5<>"s. o.")),IF(AZ5<BA5,"Oui","Non"))} -> s. o. | BC5: =IF(AND(AZ5="Aucun combustible",L5>datevigueur),"Oui","Non") -> Non | BE5: =IF(M5="Habitation/Autre vocation","Habitation/Autre vocation",IF(OR(P5=0,ISBLANK(P5)),"s. o.",IF(P5>0,(P5*VLOOKUP(M5,D_GES_BatimentReference,2,FALSE)),""))) -> s. o. | BF5: {=IFERROR(_xlfn.IFS(AND(AO5>0,OR(AY5=0,ISBLANK(AY5)),OR(AW5=0,ISBLANK(AW5))),"100% Énergie renouvelable",AND(OR(AY5=0,ISBLANK(AY5)),AW5>0,),"Non disponible",AY5>0,AY5,AND(AY5=0,AW5=0,AO5=0),"s. o."),"Erreur")} -> s. o. | BG5: =IFERROR(IF(BF5="100% Énergie renouvelable",BE5,BE5-BF5),"s. o.") -> s. o. | BQ5: =SUM(BK5:BO5) -> 0 | BS5: =IFERROR(IF(OR(BR5=0,ISBLANK(BJ5)),0,IF(BJ5="GJ",BR5*V_GES_GJ_GazNaturel,IF(BJ5="kWh éq.",BR5*V_GES_kWhEq_GazNaturel))),"") -> 0 | BU5: =IFERROR(IF(OR(BT5=0,ISBLANK(BJ5)),0,IF(BJ5="GJ",BT5*V_GES_GJ_Mazout2Leger,IF(BJ5="kWh éq.",BT5*V_GES_kWhEq_Mazout2Leger))),"") -> 0 | BW5: =IFERROR(IF(OR(BV5=0,ISBLANK(BJ5)),0,IF(BJ5="GJ",BV5*V_GES_GJ_Propane,IF(BJ5="kWh éq.",BV5*V_GES_kWhEq_Propane))),"") -> 0 | BY5: =BS5+BU5+BW5 -> 0 | BZ5: =SUM(BR5,BT5,BV5,BX5) -> 0 | CA5: =BQ5+BZ5 -> 0 | CB5: =AX5 -> 0 | CC5: =IFERROR(IF(ISBLANK($BJ5),"",IF($BJ5="GJ",CA5/$P5,IF($BJ5="kWh éq.",CA5*V_GJ_kWh/$P5))),"") | CD5: =AG5 | CE5: =IF(CA5=0,"s. o.",IF(AND(CA5>0,BZ5=0),"Aucun combustible",(BZ5)/CA5)) -> s. o. | CF5: {=_xlfn.IFS(L5<Listes_deroulantes!$F$55,"s. o.",AND(L5<datevigueur,M5=autre),Listes_deroulantes!$H$4,AND(L5<datevigueur,M5=bureau),Listes_deroulantes!$H$5,AND(L5<datevigueur,M5=cegep),Listes_deroulantes!$H$6,AND(L5<datevigueur,M5=Centre),Listes_deroulantes!$H$7,AND(L5<datevigueur,M5=CHSLD),Listes_deroulantes!$H$8,AND(L5<datevigueur,M5=ecole),Listes_deroulantes!$H$9,AND(L5<datevigueur,M5=ecolesec),Listes_deroulantes!$H$10,AND(L5<datevigueur,M5=Universite),Listes_deroulantes!$H$11,AND(L5>=datevigueur,L5<=Listes_deroulantes!$F$48),NEW2025Apres,L5<=Listes_deroulantes!$F$49,New2030Apres,L5>Listes_deroulantes!$F$50,"0%")} -> s. o. | CG5: {=_xlfn.IFS(CE5="Aucun combustible","Oui",AND(CE5="s. o.",CF5="s. o."),"s. o.",AND(CF5="0%",OR(CE5<>"Aucun combustible",CE5<>"s. o.")),IF(CE5<=0%,"Oui","Non"),AND(CF5<>"0%",OR(CE5<>"Aucun combustible",CE5<>"s. o.")),IF(CE5<=CF5,"Oui","Non"))} -> s. o. | CI5: =BE5 -> s. o. | CJ5: {=_xlfn.IFS(CE5="s.o","Non disponible",CE5="Aucun combustible","0",CE5>0,BY5)} -> 0 | CK5: =IFERROR(CI5-CJ5,"Non disponible") -> Non disponible
T6: Autre/inconnu | Z6: =IF(OR(V6=0,X6=0),"s.o",(-(V6-X6)/V6)) -> s.o | AA6: {=_xlfn.IFS(T6=Listes_deroulantes!$B$45,"Indisponible",T6=Listes_deroulantes!$B$43,-10%,T6=Listes_deroulantes!$B$42,-40%,T6=Listes_deroulantes!$B$41,-20%,T6=Listes_deroulantes!$B$40,-20%,T6=Listes_deroulantes!$C$35,"s. o.",T6=Listes_deroulantes!$B$44,-10%)} -> Indisponible | AB6: =IF(OR(Z6="s.o",AA6="Indisponible"),"s. o.",(IF(Z6>=AA6,"Non","Oui"))) -> s. o. | AC6: =IF(OR(W6=0,Y6=0),"s.o",(-(W6-Y6)/W6)) -> s.o | AD6: {=_xlfn.IFS(T6=Listes_deroulantes!$B$45,"Aucun",T6=Listes_deroulantes!$B$44,"Aucun",T6=Listes_deroulantes!$B$43,-10%,T6=Listes_deroulantes!$B$42,"Aucun",T6=Listes_deroulantes!$B$41,"Aucun",T6=Listes_deroulantes!$B$40,"Aucun",T6=Listes_deroulantes!$C$35,"s. o.")} -> Aucun | AE6: =IF(OR(AC6="s.o",AD6="Aucun"),"s. o.",(IF(OR(AC6<=AD6,AD6="Aucun"),"Oui","Non"))) -> s. o. | AG6: =IFERROR(IF(ISBLANK($U6),"",IF($U6="GJ",X6/$P6,IF($U6="kWh éq.",X6*V_GJ_kWh/$P6))),"") | AH6: =U6 -> 0 | AO6: =SUM(AI6:AM6) -> 0 | AQ6: =IFERROR(IF(OR(AP6=0,ISBLANK($U6)),0,IF($U6="GJ",AP6*V_GES_GJ_GazNaturel,IF($U6="kWh éq.",AP6*V_GES_kWhEq_GazNaturel))),"") -> 0 | AS6: =IFERROR(IF(OR(AR6=0,ISBLANK($U6)),0,IF($U6="GJ",AR6*V_GES_GJ_Mazout2Leger,IF($U6="kWh éq.",AR6*V_GES_kWhEq_Mazout2Leger))),"") -> 0 | AU6: =IFERROR(IF(OR(AT6=0,ISBLANK($U6)),0,IF($U6="GJ",AT6*V_GES_GJ_Propane,IF($U6="kWh éq.",AT6*V_GES_kWhEq_Propane))),"") -> 0 | AW6: =SUM(AP6,AR6,AT6,AV6) -> 0 | AX6: =AO6+AW6 -> 0 | AY6: =AQ6+AS6+AU6 -> 0 | AZ6: =IF(AX6=0,"s. o.",IF(AW6=0,"Aucun combustible",AW6/AX6)) -> s. o. | BA6: {=_xlfn.IFS(L6<Listes_deroulantes!$F$55,"s. o.",AND(L6<datevigueur,M6=autre),Listes_deroulantes!$G$4,AND(L6<datevigueur,M6=bureau),Listes_deroulantes!$G$5,AND(L6<datevigueur,M6=cegep),Listes_deroulantes!$G$6,AND(L6<datevigueur,M6=Centre),Listes_deroulantes!$G$7,AND(L6<datevigueur,M6=CHSLD),Listes_deroulantes!$G$8,AND(L6<datevigueur,M6=ecole),Listes_deroulantes!$G$9,AND(L6<datevigueur,M6=ecolesec),Listes_deroulantes!$G$10,AND(L6<datevigueur,M6=Universite),Listes_deroulantes!$G$11,AND(L6>=datevigueur,L6<=Listes_deroulantes!$F$48),New2025Avant,L6<=Listes_deroulantes!$F$49,New2030Avant,L6>Listes_deroulantes!$F$50,"0%")} -> s. o. | BB6: {=_xlfn.IFS(AZ6="Aucun combustible","Oui",AND(AZ6="s. o.",BA6="s. o."),"s. o.",AND(BA6="0%",OR(AZ6<>"Aucun combustible",AZ6<>"s. o.")),IF(AZ6<=0%,"Oui","Non"),AND(BA6<>"0%",OR(AZ6<>"Aucun combustible",AZ6<>"s. o.")),IF(AZ6<BA6,"Oui","Non"))} -> s. o. | BC6: =IF(AND(AZ6="Aucun combustible",L6>datevigueur),"Oui","Non") -> Non | BE6: =IF(M6="Habitation/Autre vocation","Habitation/Autre vocation",IF(OR(P6=0,ISBLANK(P6)),"s. o.",IF(P6>0,(P6*VLOOKUP(M6,D_GES_BatimentReference,2,FALSE)),""))) -> s. o. | BF6: {=IFERROR(_xlfn.IFS(AND(AO6>0,OR(AY6=0,ISBLANK(AY6)),OR(AW6=0,ISBLANK(AW6))),"100% Énergie renouvelable",AND(OR(AY6=0,ISBLANK(AY6)),AW6>0,),"Non disponible",AY6>0,AY6,AND(AY6=0,AW6=0,AO6=0),"s. o."),"Erreur")} -> s. o. | BG6: =IFERROR(IF(BF6="100% Énergie renouvelable",BE6,BE6-BF6),"s. o.") -> s. o. | BQ6: =SUM(BK6:BO6) -> 0 | BS6: =IFERROR(IF(OR(BR6=0,ISBLANK(BJ6)),0,IF(BJ6="GJ",BR6*V_GES_GJ_GazNaturel,IF(BJ6="kWh éq.",BR6*V_GES_kWhEq_GazNaturel))),"") -> 0 | BU6: =IFERROR(IF(OR(BT6=0,ISBLANK(BJ6)),0,IF(BJ6="GJ",BT6*V_GES_GJ_Mazout2Leger,IF(BJ6="kWh éq.",BT6*V_GES_kWhEq_Mazout2Leger))),"") -> 0 | BW6: =IFERROR(IF(OR(BV6=0,ISBLANK(BJ6)),0,IF(BJ6="GJ",BV6*V_GES_GJ_Propane,IF(BJ6="kWh éq.",BV6*V_GES_kWhEq_Propane))),"") -> 0 | BY6: =BS6+BU6+BW6 -> 0 | BZ6: =SUM(BR6,BT6,BV6,BX6) -> 0 | CA6: =BQ6+BZ6 -> 0 | CB6: =AX6 -> 0 | CC6: =IFERROR(IF(ISBLANK($BJ6),"",IF($BJ6="GJ",CA6/$P6,IF($BJ6="kWh éq.",CA6*V_GJ_kWh/$P6))),"") | CD6: =AG6 | CE6: =IF(CA6=0,"s. o.",IF(AND(CA6>0,BZ6=0),"Aucun combustible",(BZ6)/CA6)) -> s. o. | CF6: {=_xlfn.IFS(L6<Listes_deroulantes!$F$55,"s. o.",AND(L6<datevigueur,M6=autre),Listes_deroulantes!$H$4,AND(L6<datevigueur,M6=bureau),Listes_deroulantes!$H$5,AND(L6<datevigueur,M6=cegep),Listes_deroulantes!$H$6,AND(L6<datevigueur,M6=Centre),Listes_deroulantes!$H$7,AND(L6<datevigueur,M6=CHSLD),Listes_deroulantes!$H$8,AND(L6<datevigueur,M6=ecole),Listes_deroulantes!$H$9,AND(L6<datevigueur,M6=ecolesec),Listes_deroulantes!$H$10,AND(L6<datevigueur,M6=Universite),Listes_deroulantes!$H$11,AND(L6>=datevigueur,L6<=Listes_deroulantes!$F$48),NEW2025Apres,L6<=Listes_deroulantes!$F$49,New2030Apres,L6>Listes_deroulantes!$F$50,"0%")} -> s. o. | CG6: {=_xlfn.IFS(CE6="Aucun combustible","Oui",AND(CE6="s. o.",CF6="s. o."),"s. o.",AND(CF6="0%",OR(CE6<>"Aucun combustible",CE6<>"s. o.")),IF(CE6<=0%,"Oui","Non"),AND(CF6<>"0%",OR(CE6<>"Aucun combustible",CE6<>"s. o.")),IF(CE6<=CF6,"Oui","Non"))} -> s. o. | CI6: =BE6 -> s. o. | CJ6: {=_xlfn.IFS(CE6="s.o","Non disponible",CE6="Aucun combustible","0",CE6>0,BY6)} -> 0 | CK6: =IFERROR(CI6-CJ6,"Non disponible") -> Non disponible
Z7: =IF(OR(V7=0,X7=0),"s.o",(-(V7-X7)/V7)) -> s.o | AA7: {=_xlfn.IFS(T7=Listes_deroulantes!$B$45,"Indisponible",T7=Listes_deroulantes!$B$43,-10%,T7=Listes_deroulantes!$B$42,-40%,T7=Listes_deroulantes!$B$41,-20%,T7=Listes_deroulantes!$B$40,-20%,T7=Listes_deroulantes!$C$35,"s. o.",T7=Listes_deroulantes!$B$44,-10%)} -> s. o. | AB7: =IF(OR(Z7="s.o",AA7="Indisponible"),"s. o.",(IF(Z7>=AA7,"Non","Oui"))) -> s. o. | AC7: =IF(OR(W7=0,Y7=0),"s.o",(-(W7-Y7)/W7)) -> s.o | AD7: {=_xlfn.IFS(T7=Listes_deroulantes!$B$45,"Aucun",T7=Listes_deroulantes!$B$44,"Aucun",T7=Listes_deroulantes!$B$43,-10%,T7=Listes_deroulantes!$B$42,"Aucun",T7=Listes_deroulantes!$B$41,"Aucun",T7=Listes_deroulantes!$B$40,"Aucun",T7=Listes_deroulantes!$C$35,"s. o.")} -> s. o. | AE7: =IF(OR(AC7="s.o",AD7="Aucun"),"s. o.",(IF(OR(AC7<=AD7,AD7="Aucun"),"Oui","Non"))) -> s. o. | AG7: =IFERROR(IF(ISBLANK($U7),"",IF($U7="GJ",X7/$P7,IF($U7="kWh éq.",X7*V_GJ_kWh/$P7))),"") | AH7: =U7 -> 0 | AO7: =SUM(AI7:AM7) -> 0 | AQ7: =IFERROR(IF(OR(AP7=0,ISBLANK($U7)),0,IF($U7="GJ",AP7*V_GES_GJ_GazNaturel,IF($U7="kWh éq.",AP7*V_GES_kWhEq_GazNaturel))),"") -> 0 | AS7: =IFERROR(IF(OR(AR7=0,ISBLANK($U7)),0,IF($U7="GJ",AR7*V_GES_GJ_Mazout2Leger,IF($U7="kWh éq.",AR7*V_GES_kWhEq_Mazout2Leger))),"") -> 0 | AU7: =IFERROR(IF(OR(AT7=0,ISBLANK($U7)),0,IF($U7="GJ",AT7*V_GES_GJ_Propane,IF($U7="kWh éq.",AT7*V_GES_kWhEq_Propane))),"") -> 0 | AW7: =SUM(AP7,AR7,AT7,AV7) -> 0 | AX7: =AO7+AW7 -> 0 | AY7: =AQ7+AS7+AU7 -> 0 | AZ7: =IF(AX7=0,"s. o.",IF(AW7=0,"Aucun combustible",AW7/AX7)) -> s. o. | BA7: {=_xlfn.IFS(L7<Listes_deroulantes!$F$55,"s. o.",AND(L7<datevigueur,M7=autre),Listes_deroulantes!$G$4,AND(L7<datevigueur,M7=bureau),Listes_deroulantes!$G$5,AND(L7<datevigueur,M7=cegep),Listes_deroulantes!$G$6,AND(L7<datevigueur,M7=Centre),Listes_deroulantes!$G$7,AND(L7<datevigueur,M7=CHSLD),Listes_deroulantes!$G$8,AND(L7<datevigueur,M7=ecole),Listes_deroulantes!$G$9,AND(L7<datevigueur,M7=ecolesec),Listes_deroulantes!$G$10,AND(L7<datevigueur,M7=Universite),Listes_deroulantes!$G$11,AND(L7>=datevigueur,L7<=Listes_deroulantes!$F$48),New2025Avant,L7<=Listes_deroulantes!$F$49,New2030Avant,L7>Listes_deroulantes!$F$50,"0%")} -> s. o. | BB7: {=_xlfn.IFS(AZ7="Aucun combustible","Oui",AND(AZ7="s. o.",BA7="s. o."),"s. o.",AND(BA7="0%",OR(AZ7<>"Aucun combustible",AZ7<>"s. o.")),IF(AZ7<=0%,"Oui","Non"),AND(BA7<>"0%",OR(AZ7<>"Aucun combustible",AZ7<>"s. o.")),IF(AZ7<BA7,"Oui","Non"))} -> s. o. | BC7: =IF(AND(AZ7="Aucun combustible",L7>datevigueur),"Oui","Non") -> Non | BE7: =IF(M7="Habitation/Autre vocation","Habitation/Autre vocation",IF(OR(P7=0,ISBLANK(P7)),"s. o.",IF(P7>0,(P7*VLOOKUP(M7,D_GES_BatimentReference,2,FALSE)),""))) -> s. o. | BF7: {=IFERROR(_xlfn.IFS(AND(AO7>0,OR(AY7=0,ISBLANK(AY7)),OR(AW7=0,ISBLANK(AW7))),"100% Énergie renouvelable",AND(OR(AY7=0,ISBLANK(AY7)),AW7>0,),"Non disponible",AY7>0,AY7,AND(AY7=0,AW7=0,AO7=0),"s. o."),"Erreur")} -> s. o. | BG7: =IFERROR(IF(BF7="100% Énergie renouvelable",BE7,BE7-BF7),"s. o.") -> s. o. | BQ7: =SUM(BK7:BO7) -> 0 | BS7: =IFERROR(IF(OR(BR7=0,ISBLANK(BJ7)),0,IF(BJ7="GJ",BR7*V_GES_GJ_GazNaturel,IF(BJ7="kWh éq.",BR7*V_GES_kWhEq_GazNaturel))),"") -> 0 | BU7: =IFERROR(IF(OR(BT7=0,ISBLANK(BJ7)),0,IF(BJ7="GJ",BT7*V_GES_GJ_Mazout2Leger,IF(BJ7="kWh éq.",BT7*V_GES_kWhEq_Mazout2Leger))),"") -> 0 | BW7: =IFERROR(IF(OR(BV7=0,ISBLANK(BJ7)),0,IF(BJ7="GJ",BV7*V_GES_GJ_Propane,IF(BJ7="kWh éq.",BV7*V_GES_kWhEq_Propane))),"") -> 0 | BY7: =BS7+BU7+BW7 -> 0 | BZ7: =SUM(BR7,BT7,BV7,BX7) -> 0 | CA7: =BQ7+BZ7 -> 0 | CB7: =AX7 -> 0 | CC7: =IFERROR(IF(ISBLANK($BJ7),"",IF($BJ7="GJ",CA7/$P7,IF($BJ7="kWh éq.",CA7*V_GJ_kWh/$P7))),"") | CD7: =AG7 | CE7: =IF(CA7=0,"s. o.",IF(AND(CA7>0,BZ7=0),"Aucun combustible",(BZ7)/CA7)) -> s. o. | CF7: {=_xlfn.IFS(L7<Listes_deroulantes!$F$55,"s. o.",AND(L7<datevigueur,M7=autre),Listes_deroulantes!$H$4,AND(L7<datevigueur,M7=bureau),Listes_deroulantes!$H$5,AND(L7<datevigueur,M7=cegep),Listes_deroulantes!$H$6,AND(L7<datevigueur,M7=Centre),Listes_deroulantes!$H$7,AND(L7<datevigueur,M7=CHSLD),Listes_deroulantes!$H$8,AND(L7<datevigueur,M7=ecole),Listes_deroulantes!$H$9,AND(L7<datevigueur,M7=ecolesec),Listes_deroulantes!$H$10,AND(L7<datevigueur,M7=Universite),Listes_deroulantes!$H$11,AND(L7>=datevigueur,L7<=Listes_deroulantes!$F$48),NEW2025Apres,L7<=Listes_deroulantes!$F$49,New2030Apres,L7>Listes_deroulantes!$F$50,"0%")} -> s. o. | CG7: {=_xlfn.IFS(CE7="Aucun combustible","Oui",AND(CE7="s. o.",CF7="s. o."),"s. o.",AND(CF7="0%",OR(CE7<>"Aucun combustible",CE7<>"s. o.")),IF(CE7<=0%,"Oui","Non"),AND(CF7<>"0%",OR(CE7<>"Aucun combustible",CE7<>"s. o.")),IF(CE7<=CF7,"Oui","Non"))} -> s. o. | CI7: =BE7 -> s. o. | CJ7: {=_xlfn.IFS(CE7="s.o","Non disponible",CE7="Aucun combustible","0",CE7>0,BY7)} -> 0 | CK7: =IFERROR(CI7-CJ7,"Non disponible") -> Non disponible
Z8: =IF(OR(V8=0,X8=0),"s.o",(-(V8-X8)/V8)) -> s.o | AA8: {=_xlfn.IFS(T8=Listes_deroulantes!$B$45,"Indisponible",T8=Listes_deroulantes!$B$43,-10%,T8=Listes_deroulantes!$B$42,-40%,T8=Listes_deroulantes!$B$41,-20%,T8=Listes_deroulantes!$B$40,-20%,T8=Listes_deroulantes!$C$35,"s. o.",T8=Listes_deroulantes!$B$44,-10%)} -> s. o. | AB8: =IF(OR(Z8="s.o",AA8="Indisponible"),"s. o.",(IF(Z8>=AA8,"Non","Oui"))) -> s. o. | AC8: =IF(OR(W8=0,Y8=0),"s.o",(-(W8-Y8)/W8)) -> s.o | AD8: {=_xlfn.IFS(T8=Listes_deroulantes!$B$45,"Aucun",T8=Listes_deroulantes!$B$44,"Aucun",T8=Listes_deroulantes!$B$43,-10%,T8=Listes_deroulantes!$B$42,"Aucun",T8=Listes_deroulantes!$B$41,"Aucun",T8=Listes_deroulantes!$B$40,"Aucun",T8=Listes_deroulantes!$C$35,"s. o.")} -> s. o. | AE8: =IF(OR(AC8="s.o",AD8="Aucun"),"s. o.",(IF(OR(AC8<=AD8,AD8="Aucun"),"Oui","Non"))) -> s. o. | AG8: =IFERROR(IF(ISBLANK($U8),"",IF($U8="GJ",X8/$P8,IF($U8="kWh éq.",X8*V_GJ_kWh/$P8))),"") | AH8: =U8 -> 0 | AO8: =SUM(AI8:AM8) -> 0 | AQ8: =IFERROR(IF(OR(AP8=0,ISBLANK($U8)),0,IF($U8="GJ",AP8*V_GES_GJ_GazNaturel,IF($U8="kWh éq.",AP8*V_GES_kWhEq_GazNaturel))),"") -> 0 | AS8: =IFERROR(IF(OR(AR8=0,ISBLANK($U8)),0,IF($U8="GJ",AR8*V_GES_GJ_Mazout2Leger,IF($U8="kWh éq.",AR8*V_GES_kWhEq_Mazout2Leger))),"") -> 0 | AU8: =IFERROR(IF(OR(AT8=0,ISBLANK($U8)),0,IF($U8="GJ",AT8*V_GES_GJ_Propane,IF($U8="kWh éq.",AT8*V_GES_kWhEq_Propane))),"") -> 0 | AW8: =SUM(AP8,AR8,AT8,AV8) -> 0 | AX8: =AO8+AW8 -> 0 | AY8: =AQ8+AS8+AU8 -> 0 | AZ8: =IF(AX8=0,"s. o.",IF(AW8=0,"Aucun combustible",AW8/AX8)) -> s. o. | BA8: {=_xlfn.IFS(L8<Listes_deroulantes!$F$55,"s. o.",AND(L8<datevigueur,M8=autre),Listes_deroulantes!$G$4,AND(L8<datevigueur,M8=bureau),Listes_deroulantes!$G$5,AND(L8<datevigueur,M8=cegep),Listes_deroulantes!$G$6,AND(L8<datevigueur,M8=Centre),Listes_deroulantes!$G$7,AND(L8<datevigueur,M8=CHSLD),Listes_deroulantes!$G$8,AND(L8<datevigueur,M8=ecole),Listes_deroulantes!$G$9,AND(L8<datevigueur,M8=ecolesec),Listes_deroulantes!$G$10,AND(L8<datevigueur,M8=Universite),Listes_deroulantes!$G$11,AND(L8>=datevigueur,L8<=Listes_deroulantes!$F$48),New2025Avant,L8<=Listes_deroulantes!$F$49,New2030Avant,L8>Listes_deroulantes!$F$50,"0%")} -> s. o. | BB8: {=_xlfn.IFS(AZ8="Aucun combustible","Oui",AND(AZ8="s. o.",BA8="s. o."),"s. o.",AND(BA8="0%",OR(AZ8<>"Aucun combustible",AZ8<>"s. o.")),IF(AZ8<=0%,"Oui","Non"),AND(BA8<>"0%",OR(AZ8<>"Aucun combustible",AZ8<>"s. o.")),IF(AZ8<BA8,"Oui","Non"))} -> s. o. | BC8: =IF(AND(AZ8="Aucun combustible",L8>datevigueur),"Oui","Non") -> Non | BE8: =IF(M8="Habitation/Autre vocation","Habitation/Autre vocation",IF(OR(P8=0,ISBLANK(P8)),"s. o.",IF(P8>0,(P8*VLOOKUP(M8,D_GES_BatimentReference,2,FALSE)),""))) -> s. o. | BF8: {=IFERROR(_xlfn.IFS(AND(AO8>0,OR(AY8=0,ISBLANK(AY8)),OR(AW8=0,ISBLANK(AW8))),"100% Énergie renouvelable",AND(OR(AY8=0,ISBLANK(AY8)),AW8>0,),"Non disponible",AY8>0,AY8,AND(AY8=0,AW8=0,AO8=0),"s. o."),"Erreur")} -> s. o. | BG8: =IFERROR(IF(BF8="100% Énergie renouvelable",BE8,BE8-BF8),"s. o.") -> s. o. | BQ8: =SUM(BK8:BO8) -> 0 | BS8: =IFERROR(IF(OR(BR8=0,ISBLANK(BJ8)),0,IF(BJ8="GJ",BR8*V_GES_GJ_GazNaturel,IF(BJ8="kWh éq.",BR8*V_GES_kWhEq_GazNaturel))),"") -> 0 | BU8: =IFERROR(IF(OR(BT8=0,ISBLANK(BJ8)),0,IF(BJ8="GJ",BT8*V_GES_GJ_Mazout2Leger,IF(BJ8="kWh éq.",BT8*V_GES_kWhEq_Mazout2Leger))),"") -> 0 | BW8: =IFERROR(IF(OR(BV8=0,ISBLANK(BJ8)),0,IF(BJ8="GJ",BV8*V_GES_GJ_Propane,IF(BJ8="kWh éq.",BV8*V_GES_kWhEq_Propane))),"") -> 0 | BY8: =BS8+BU8+BW8 -> 0 | BZ8: =SUM(BR8,BT8,BV8,BX8) -> 0 | CA8: =BQ8+BZ8 -> 0 | CB8: =AX8 -> 0 | CC8: =IFERROR(IF(ISBLANK($BJ8),"",IF($BJ8="GJ",CA8/$P8,IF($BJ8="kWh éq.",CA8*V_GJ_kWh/$P8))),"") | CD8: =AG8 | CE8: =IF(CA8=0,"s. o.",IF(AND(CA8>0,BZ8=0),"Aucun combustible",(BZ8)/CA8)) -> s. o. | CF8: {=_xlfn.IFS(L8<Listes_deroulantes!$F$55,"s. o.",AND(L8<datevigueur,M8=autre),Listes_deroulantes!$H$4,AND(L8<datevigueur,M8=bureau),Listes_deroulantes!$H$5,AND(L8<datevigueur,M8=cegep),Listes_deroulantes!$H$6,AND(L8<datevigueur,M8=Centre),Listes_deroulantes!$H$7,AND(L8<datevigueur,M8=CHSLD),Listes_deroulantes!$H$8,AND(L8<datevigueur,M8=ecole),Listes_deroulantes!$H$9,AND(L8<datevigueur,M8=ecolesec),Listes_deroulantes!$H$10,AND(L8<datevigueur,M8=Universite),Listes_deroulantes!$H$11,AND(L8>=datevigueur,L8<=Listes_deroulantes!$F$48),NEW2025Apres,L8<=Listes_deroulantes!$F$49,New2030Apres,L8>Listes_deroulantes!$F$50,"0%")} -> s. o. | CG8: {=_xlfn.IFS(CE8="Aucun combustible","Oui",AND(CE8="s. o.",CF8="s. o."),"s. o.",AND(CF8="0%",OR(CE8<>"Aucun combustible",CE8<>"s. o.")),IF(CE8<=0%,"Oui","Non"),AND(CF8<>"0%",OR(CE8<>"Aucun combustible",CE8<>"s. o.")),IF(CE8<=CF8,"Oui","Non"))} -> s. o. | CI8: =BE8 -> s. o. | CJ8: {=_xlfn.IFS(CE8="s.o","Non disponible",CE8="Aucun combustible","0",CE8>0,BY8)} -> 0 | CK8: =IFERROR(CI8-CJ8,"Non disponible") -> Non disponible
Z9: =IF(OR(V9=0,X9=0),"s.o",(-(V9-X9)/V9)) -> s.o | AA9: {=_xlfn.IFS(T9=Listes_deroulantes!$B$45,"Indisponible",T9=Listes_deroulantes!$B$43,-10%,T9=Listes_deroulantes!$B$42,-40%,T9=Listes_deroulantes!$B$41,-20%,T9=Listes_deroulantes!$B$40,-20%,T9=Listes_deroulantes!$C$35,"s. o.",T9=Listes_deroulantes!$B$44,-10%)} -> s. o. | AB9: =IF(OR(Z9="s.o",AA9="Indisponible"),"s. o.",(IF(Z9>=AA9,"Non","Oui"))) -> s. o. | AC9: =IF(OR(W9=0,Y9=0),"s.o",(-(W9-Y9)/W9)) -> s.o | AD9: {=_xlfn.IFS(T9=Listes_deroulantes!$B$45,"Aucun",T9=Listes_deroulantes!$B$44,"Aucun",T9=Listes_deroulantes!$B$43,-10%,T9=Listes_deroulantes!$B$42,"Aucun",T9=Listes_deroulantes!$B$41,"Aucun",T9=Listes_deroulantes!$B$40,"Aucun",T9=Listes_deroulantes!$C$35,"s. o.")} -> s. o. | AE9: =IF(OR(AC9="s.o",AD9="Aucun"),"s. o.",(IF(OR(AC9<=AD9,AD9="Aucun"),"Oui","Non"))) -> s. o. | AG9: =IFERROR(IF(ISBLANK($U9),"",IF($U9="GJ",X9/$P9,IF($U9="kWh éq.",X9*V_GJ_kWh/$P9))),"") | AH9: =U9 -> 0 | AO9: =SUM(AI9:AM9) -> 0 | AQ9: =IFERROR(IF(OR(AP9=0,ISBLANK($U9)),0,IF($U9="GJ",AP9*V_GES_GJ_GazNaturel,IF($U9="kWh éq.",AP9*V_GES_kWhEq_GazNaturel))),"") -> 0 | AS9: =IFERROR(IF(OR(AR9=0,ISBLANK($U9)),0,IF($U9="GJ",AR9*V_GES_GJ_Mazout2Leger,IF($U9="kWh éq.",AR9*V_GES_kWhEq_Mazout2Leger))),"") -> 0 | AU9: =IFERROR(IF(OR(AT9=0,ISBLANK($U9)),0,IF($U9="GJ",AT9*V_GES_GJ_Propane,IF($U9="kWh éq.",AT9*V_GES_kWhEq_Propane))),"") -> 0 | AW9: =SUM(AP9,AR9,AT9,AV9) -> 0 | AX9: =AO9+AW9 -> 0 | AY9: =AQ9+AS9+AU9 -> 0 | AZ9: =IF(AX9=0,"s. o.",IF(AW9=0,"Aucun combustible",AW9/AX9)) -> s. o. | BA9: {=_xlfn.IFS(L9<Listes_deroulantes!$F$55,"s. o.",AND(L9<datevigueur,M9=autre),Listes_deroulantes!$G$4,AND(L9<datevigueur,M9=bureau),Listes_deroulantes!$G$5,AND(L9<datevigueur,M9=cegep),Listes_deroulantes!$G$6,AND(L9<datevigueur,M9=Centre),Listes_deroulantes!$G$7,AND(L9<datevigueur,M9=CHSLD),Listes_deroulantes!$G$8,AND(L9<datevigueur,M9=ecole),Listes_deroulantes!$G$9,AND(L9<datevigueur,M9=ecolesec),Listes_deroulantes!$G$10,AND(L9<datevigueur,M9=Universite),Listes_deroulantes!$G$11,AND(L9>=datevigueur,L9<=Listes_deroulantes!$F$48),New2025Avant,L9<=Listes_deroulantes!$F$49,New2030Avant,L9>Listes_deroulantes!$F$50,"0%")} -> s. o. | BB9: {=_xlfn.IFS(AZ9="Aucun combustible","Oui",AND(AZ9="s. o.",BA9="s. o."),"s. o.",AND(BA9="0%",OR(AZ9<>"Aucun combustible",AZ9<>"s. o.")),IF(AZ9<=0%,"Oui","Non"),AND(BA9<>"0%",OR(AZ9<>"Aucun combustible",AZ9<>"s. o.")),IF(AZ9<BA9,"Oui","Non"))} -> s. o. | BC9: =IF(AND(AZ9="Aucun combustible",L9>datevigueur),"Oui","Non") -> Non | BE9: =IF(M9="Habitation/Autre vocation","Habitation/Autre vocation",IF(OR(P9=0,ISBLANK(P9)),"s. o.",IF(P9>0,(P9*VLOOKUP(M9,D_GES_BatimentReference,2,FALSE)),""))) -> s. o. | BF9: {=IFERROR(_xlfn.IFS(AND(AO9>0,OR(AY9=0,ISBLANK(AY9)),OR(AW9=0,ISBLANK(AW9))),"100% Énergie renouvelable",AND(OR(AY9=0,ISBLANK(AY9)),AW9>0,),"Non disponible",AY9>0,AY9,AND(AY9=0,AW9=0,AO9=0),"s. o."),"Erreur")} -> s. o. | BG9: =IFERROR(IF(BF9="100% Énergie renouvelable",BE9,BE9-BF9),"s. o.") -> s. o. | BQ9: =SUM(BK9:BO9) -> 0 | BS9: =IFERROR(IF(OR(BR9=0,ISBLANK(BJ9)),0,IF(BJ9="GJ",BR9*V_GES_GJ_GazNaturel,IF(BJ9="kWh éq.",BR9*V_GES_kWhEq_GazNaturel))),"") -> 0 | BU9: =IFERROR(IF(OR(BT9=0,ISBLANK(BJ9)),0,IF(BJ9="GJ",BT9*V_GES_GJ_Mazout2Leger,IF(BJ9="kWh éq.",BT9*V_GES_kWhEq_Mazout2Leger))),"") -> 0 | BW9: =IFERROR(IF(OR(BV9=0,ISBLANK(BJ9)),0,IF(BJ9="GJ",BV9*V_GES_GJ_Propane,IF(BJ9="kWh éq.",BV9*V_GES_kWhEq_Propane))),"") -> 0 | BY9: =BS9+BU9+BW9 -> 0 | BZ9: =SUM(BR9,BT9,BV9,BX9) -> 0 | CA9: =BQ9+BZ9 -> 0 | CB9: =AX9 -> 0 | CC9: =IFERROR(IF(ISBLANK($BJ9),"",IF($BJ9="GJ",CA9/$P9,IF($BJ9="kWh éq.",CA9*V_GJ_kWh/$P9))),"") | CD9: =AG9 | CE9: =IF(CA9=0,"s. o.",IF(AND(CA9>0,BZ9=0),"Aucun combustible",(BZ9)/CA9)) -> s. o. | CF9: {=_xlfn.IFS(L9<Listes_deroulantes!$F$55,"s. o.",AND(L9<datevigueur,M9=autre),Listes_deroulantes!$H$4,AND(L9<datevigueur,M9=bureau),Listes_deroulantes!$H$5,AND(L9<datevigueur,M9=cegep),Listes_deroulantes!$H$6,AND(L9<datevigueur,M9=Centre),Listes_deroulantes!$H$7,AND(L9<datevigueur,M9=CHSLD),Listes_deroulantes!$H$8,AND(L9<datevigueur,M9=ecole),Listes_deroulantes!$H$9,AND(L9<datevigueur,M9=ecolesec),Listes_deroulantes!$H$10,AND(L9<datevigueur,M9=Universite),Listes_deroulantes!$H$11,AND(L9>=datevigueur,L9<=Listes_deroulantes!$F$48),NEW2025Apres,L9<=Listes_deroulantes!$F$49,New2030Apres,L9>Listes_deroulantes!$F$50,"0%")} -> s. o. | CG9: {=_xlfn.IFS(CE9="Aucun combustible","Oui",AND(CE9="s. o.",CF9="s. o."),"s. o.",AND(CF9="0%",OR(CE9<>"Aucun combustible",CE9<>"s. o.")),IF(CE9<=0%,"Oui","Non"),AND(CF9<>"0%",OR(CE9<>"Aucun combustible",CE9<>"s. o.")),IF(CE9<=CF9,"Oui","Non"))} -> s. o. | CI9: =BE9 -> s. o. | CJ9: {=_xlfn.IFS(CE9="s.o","Non disponible",CE9="Aucun combustible","0",CE9>0,BY9)} -> 0 | CK9: =IFERROR(CI9-CJ9,"Non disponible") -> Non disponible
Z10: =IF(OR(V10=0,X10=0),"s.o",(-(V10-X10)/V10)) -> s.o | AA10: {=_xlfn.IFS(T10=Listes_deroulantes!$B$45,"Indisponible",T10=Listes_deroulantes!$B$43,-10%,T10=Listes_deroulantes!$B$42,-40%,T10=Listes_deroulantes!$B$41,-20%,T10=Listes_deroulantes!$B$40,-20%,T10=Listes_deroulantes!$C$35,"s. o.",T10=Listes_deroulantes!$B$44,-10%)} -> s. o. | AB10: =IF(OR(Z10="s.o",AA10="Indisponible"),"s. o.",(IF(Z10>=AA10,"Non","Oui"))) -> s. o. | AC10: =IF(OR(W10=0,Y10=0),"s.o",(-(W10-Y10)/W10)) -> s.o | AD10: {=_xlfn.IFS(T10=Listes_deroulantes!$B$45,"Aucun",T10=Listes_deroulantes!$B$44,"Aucun",T10=Listes_deroulantes!$B$43,-10%,T10=Listes_deroulantes!$B$42,"Aucun",T10=Listes_deroulantes!$B$41,"Aucun",T10=Listes_deroulantes!$B$40,"Aucun",T10=Listes_deroulantes!$C$35,"s. o.")} -> s. o. | AE10: =IF(OR(AC10="s.o",AD10="Aucun"),"s. o.",(IF(OR(AC10<=AD10,AD10="Aucun"),"Oui","Non"))) -> s. o. | AG10: =IFERROR(IF(ISBLANK($U10),"",IF($U10="GJ",X10/$P10,IF($U10="kWh éq.",X10*V_GJ_kWh/$P10))),"") | AH10: =U10 -> 0 | AO10: =SUM(AI10:AM10) -> 0 | AQ10: =IFERROR(IF(OR(AP10=0,ISBLANK($U10)),0,IF($U10="GJ",AP10*V_GES_GJ_GazNaturel,IF($U10="kWh éq.",AP10*V_GES_kWhEq_GazNaturel))),"") -> 0 | AS10: =IFERROR(IF(OR(AR10=0,ISBLANK($U10)),0,IF($U10="GJ",AR10*V_GES_GJ_Mazout2Leger,IF($U10="kWh éq.",AR10*V_GES_kWhEq_Mazout2Leger))),"") -> 0 | AU10: =IFERROR(IF(OR(AT10=0,ISBLANK($U10)),0,IF($U10="GJ",AT10*V_GES_GJ_Propane,IF($U10="kWh éq.",AT10*V_GES_kWhEq_Propane))),"") -> 0 | AW10: =SUM(AP10,AR10,AT10,AV10) -> 0 | AX10: =AO10+AW10 -> 0 | AY10: =AQ10+AS10+AU10 -> 0 | AZ10: =IF(AX10=0,"s. o.",IF(AW10=0,"Aucun combustible",AW10/AX10)) -> s. o. | BA10: {=_xlfn.IFS(L10<Listes_deroulantes!$F$55,"s. o.",AND(L10<datevigueur,M10=autre),Listes_deroulantes!$G$4,AND(L10<datevigueur,M10=bureau),Listes_deroulantes!$G$5,AND(L10<datevigueur,M10=cegep),Listes_deroulantes!$G$6,AND(L10<datevigueur,M10=Centre),Listes_deroulantes!$G$7,AND(L10<datevigueur,M10=CHSLD),Listes_deroulantes!$G$8,AND(L10<datevigueur,M10=ecole),Listes_deroulantes!$G$9,AND(L10<datevigueur,M10=ecolesec),Listes_deroulantes!$G$10,AND(L10<datevigueur,M10=Universite),Listes_deroulantes!$G$11,AND(L10>=datevigueur,L10<=Listes_deroulantes!$F$48),New2025Avant,L10<=Listes_deroulantes!$F$49,New2030Avant,L10>Listes_deroulantes!$F$50,"0%")} -> s. o. | BB10: {=_xlfn.IFS(AZ10="Aucun combustible","Oui",AND(AZ10="s. o.",BA10="s. o."),"s. o.",AND(BA10="0%",OR(AZ10<>"Aucun combustible",AZ10<>"s. o.")),IF(AZ10<=0%,"Oui","Non"),AND(BA10<>"0%",OR(AZ10<>"Aucun combustible",AZ10<>"s. o.")),IF(AZ10<BA10,"Oui","Non"))} -> s. o. | BC10: =IF(AND(AZ10="Aucun combustible",L10>datevigueur),"Oui","Non") -> Non | BE10: =IF(M10="Habitation/Autre vocation","Habitation/Autre vocation",IF(OR(P10=0,ISBLANK(P10)),"s. o.",IF(P10>0,(P10*VLOOKUP(M10,D_GES_BatimentReference,2,FALSE)),""))) -> s. o. | BF10: {=IFERROR(_xlfn.IFS(AND(AO10>0,OR(AY10=0,ISBLANK(AY10)),OR(AW10=0,ISBLANK(AW10))),"100% Énergie renouvelable",AND(OR(AY10=0,ISBLANK(AY10)),AW10>0,),"Non disponible",AY10>0,AY10,AND(AY10=0,AW10=0,AO10=0),"s. o."),"Erreur")} -> s. o. | BG10: =IFERROR(IF(BF10="100% Énergie renouvelable",BE10,BE10-BF10),"s. o.") -> s. o. | BQ10: =SUM(BK10:BO10) -> 0 | BS10: =IFERROR(IF(OR(BR10=0,ISBLANK(BJ10)),0,IF(BJ10="GJ",BR10*V_GES_GJ_GazNaturel,IF(BJ10="kWh éq.",BR10*V_GES_kWhEq_GazNaturel))),"") -> 0 | BU10: =IFERROR(IF(OR(BT10=0,ISBLANK(BJ10)),0,IF(BJ10="GJ",BT10*V_GES_GJ_Mazout2Leger,IF(BJ10="kWh éq.",BT10*V_GES_kWhEq_Mazout2Leger))),"") -> 0 | BW10: =IFERROR(IF(OR(BV10=0,ISBLANK(BJ10)),0,IF(BJ10="GJ",BV10*V_GES_GJ_Propane,IF(BJ10="kWh éq.",BV10*V_GES_kWhEq_Propane))),"") -> 0 | BY10: =BS10+BU10+BW10 -> 0 | BZ10: =SUM(BR10,BT10,BV10,BX10) -> 0 | CA10: =BQ10+BZ10 -> 0 | CB10: =AX10 -> 0 | CC10: =IFERROR(IF(ISBLANK($BJ10),"",IF($BJ10="GJ",CA10/$P10,IF($BJ10="kWh éq.",CA10*V_GJ_kWh/$P10))),"") | CD10: =AG10 | CE10: =IF(CA10=0,"s. o.",IF(AND(CA10>0,BZ10=0),"Aucun combustible",(BZ10)/CA10)) -> s. o. | CF10: {=_xlfn.IFS(L10<Listes_deroulantes!$F$55,"s. o.",AND(L10<datevigueur,M10=autre),Listes_deroulantes!$H$4,AND(L10<datevigueur,M10=bureau),Listes_deroulantes!$H$5,AND(L10<datevigueur,M10=cegep),Listes_deroulantes!$H$6,AND(L10<datevigueur,M10=Centre),Listes_deroulantes!$H$7,AND(L10<datevigueur,M10=CHSLD),Listes_deroulantes!$H$8,AND(L10<datevigueur,M10=ecole),Listes_deroulantes!$H$9,AND(L10<datevigueur,M10=ecolesec),Listes_deroulantes!$H$10,AND(L10<datevigueur,M10=Universite),Listes_deroulantes!$H$11,AND(L10>=datevigueur,L10<=Listes_deroulantes!$F$48),NEW2025Apres,L10<=Listes_deroulantes!$F$49,New2030Apres,L10>Listes_deroulantes!$F$50,"0%")} -> s. o. | CG10: {=_xlfn.IFS(CE10="Aucun combustible","Oui",AND(CE10="s. o.",CF10="s. o."),"s. o.",AND(CF10="0%",OR(CE10<>"Aucun combustible",CE10<>"s. o.")),IF(CE10<=0%,"Oui","Non"),AND(CF10<>"0%",OR(CE10<>"Aucun combustible",CE10<>"s. o.")),IF(CE10<=CF10,"Oui","Non"))} -> s. o. | CI10: =BE10 -> s. o. | CJ10: {=_xlfn.IFS(CE10="s.o","Non disponible",CE10="Aucun combustible","0",CE10>0,BY10)} -> 0 | CK10: =IFERROR(CI10-CJ10,"Non disponible") -> Non disponible
Z11: =IF(OR(V11=0,X11=0),"s.o",(-(V11-X11)/V11)) -> s.o | AA11: {=_xlfn.IFS(T11=Listes_deroulantes!$B$45,"Indisponible",T11=Listes_deroulantes!$B$43,-10%,T11=Listes_deroulantes!$B$42,-40%,T11=Listes_deroulantes!$B$41,-20%,T11=Listes_deroulantes!$B$40,-20%,T11=Listes_deroulantes!$C$35,"s. o.",T11=Listes_deroulantes!$B$44,-10%)} -> s. o. | AB11: =IF(OR(Z11="s.o",AA11="Indisponible"),"s. o.",(IF(Z11>=AA11,"Non","Oui"))) -> s. o. | AC11: =IF(OR(W11=0,Y11=0),"s.o",(-(W11-Y11)/W11)) -> s.o | AD11: {=_xlfn.IFS(T11=Listes_deroulantes!$B$45,"Aucun",T11=Listes_deroulantes!$B$44,"Aucun",T11=Listes_deroulantes!$B$43,-10%,T11=Listes_deroulantes!$B$42,"Aucun",T11=Listes_deroulantes!$B$41,"Aucun",T11=Listes_deroulantes!$B$40,"Aucun",T11=Listes_deroulantes!$C$35,"s. o.")} -> s. o. | AE11: =IF(OR(AC11="s.o",AD11="Aucun"),"s. o.",(IF(OR(AC11<=AD11,AD11="Aucun"),"Oui","Non"))) -> s. o. | AG11: =IFERROR(IF(ISBLANK($U11),"",IF($U11="GJ",X11/$P11,IF($U11="kWh éq.",X11*V_GJ_kWh/$P11))),"") | AH11: =U11 -> 0 | AO11: =SUM(AI11:AM11) -> 0 | AQ11: =IFERROR(IF(OR(AP11=0,ISBLANK($U11)),0,IF($U11="GJ",AP11*V_GES_GJ_GazNaturel,IF($U11="kWh éq.",AP11*V_GES_kWhEq_GazNaturel))),"") -> 0 | AS11: =IFERROR(IF(OR(AR11=0,ISBLANK($U11)),0,IF($U11="GJ",AR11*V_GES_GJ_Mazout2Leger,IF($U11="kWh éq.",AR11*V_GES_kWhEq_Mazout2Leger))),"") -> 0 | AU11: =IFERROR(IF(OR(AT11=0,ISBLANK($U11)),0,IF($U11="GJ",AT11*V_GES_GJ_Propane,IF($U11="kWh éq.",AT11*V_GES_kWhEq_Propane))),"") -> 0 | AW11: =SUM(AP11,AR11,AT11,AV11) -> 0 | AX11: =AO11+AW11 -> 0 | AY11: =AQ11+AS11+AU11 -> 0 | AZ11: =IF(AX11=0,"s. o.",IF(AW11=0,"Aucun combustible",AW11/AX11)) -> s. o. | BA11: {=_xlfn.IFS(L11<Listes_deroulantes!$F$55,"s. o.",AND(L11<datevigueur,M11=autre),Listes_deroulantes!$G$4,AND(L11<datevigueur,M11=bureau),Listes_deroulantes!$G$5,AND(L11<datevigueur,M11=cegep),Listes_deroulantes!$G$6,AND(L11<datevigueur,M11=Centre),Listes_deroulantes!$G$7,AND(L11<datevigueur,M11=CHSLD),Listes_deroulantes!$G$8,AND(L11<datevigueur,M11=ecole),Listes_deroulantes!$G$9,AND(L11<datevigueur,M11=ecolesec),Listes_deroulantes!$G$10,AND(L11<datevigueur,M11=Universite),Listes_deroulantes!$G$11,AND(L11>=datevigueur,L11<=Listes_deroulantes!$F$48),New2025Avant,L11<=Listes_deroulantes!$F$49,New2030Avant,L11>Listes_deroulantes!$F$50,"0%")} -> s. o. | BB11: {=_xlfn.IFS(AZ11="Aucun combustible","Oui",AND(AZ11="s. o.",BA11="s. o."),"s. o.",AND(BA11="0%",OR(AZ11<>"Aucun combustible",AZ11<>"s. o.")),IF(AZ11<=0%,"Oui","Non"),AND(BA11<>"0%",OR(AZ11<>"Aucun combustible",AZ11<>"s. o.")),IF(AZ11<BA11,"Oui","Non"))} -> s. o. | BC11: =IF(AND(AZ11="Aucun combustible",L11>datevigueur),"Oui","Non") -> Non | BE11: =IF(M11="Habitation/Autre vocation","Habitation/Autre vocation",IF(OR(P11=0,ISBLANK(P11)),"s. o.",IF(P11>0,(P11*VLOOKUP(M11,D_GES_BatimentReference,2,FALSE)),""))) -> s. o. | BF11: {=IFERROR(_xlfn.IFS(AND(AO11>0,OR(AY11=0,ISBLANK(AY11)),OR(AW11=0,ISBLANK(AW11))),"100% Énergie renouvelable",AND(OR(AY11=0,ISBLANK(AY11)),AW11>0,),"Non disponible",AY11>0,AY11,AND(AY11=0,AW11=0,AO11=0),"s. o."),"Erreur")} -> s. o. | BG11: =IFERROR(IF(BF11="100% Énergie renouvelable",BE11,BE11-BF11),"s. o.") -> s. o. | BQ11: =SUM(BK11:BO11) -> 0 | BS11: =IFERROR(IF(OR(BR11=0,ISBLANK(BJ11)),0,IF(BJ11="GJ",BR11*V_GES_GJ_GazNaturel,IF(BJ11="kWh éq.",BR11*V_GES_kWhEq_GazNaturel))),"") -> 0 | BU11: =IFERROR(IF(OR(BT11=0,ISBLANK(BJ11)),0,IF(BJ11="GJ",BT11*V_GES_GJ_Mazout2Leger,IF(BJ11="kWh éq.",BT11*V_GES_kWhEq_Mazout2Leger))),"") -> 0 | BW11: =IFERROR(IF(OR(BV11=0,ISBLANK(BJ11)),0,IF(BJ11="GJ",BV11*V_GES_GJ_Propane,IF(BJ11="kWh éq.",BV11*V_GES_kWhEq_Propane))),"") -> 0 | BY11: =BS11+BU11+BW11 -> 0 | BZ11: =SUM(BR11,BT11,BV11,BX11) -> 0 | CA11: =BQ11+BZ11 -> 0 | CB11: =AX11 -> 0 | CC11: =IFERROR(IF(ISBLANK($BJ11),"",IF($BJ11="GJ",CA11/$P11,IF($BJ11="kWh éq.",CA11*V_GJ_kWh/$P11))),"") | CD11: =AG11 | CE11: =IF(CA11=0,"s. o.",IF(AND(CA11>0,BZ11=0),"Aucun combustible",(BZ11)/CA11)) -> s. o. | CF11: {=_xlfn.IFS(L11<Listes_deroulantes!$F$55,"s. o.",AND(L11<datevigueur,M11=autre),Listes_deroulantes!$H$4,AND(L11<datevigueur,M11=bureau),Listes_deroulantes!$H$5,AND(L11<datevigueur,M11=cegep),Listes_deroulantes!$H$6,AND(L11<datevigueur,M11=Centre),Listes_deroulantes!$H$7,AND(L11<datevigueur,M11=CHSLD),Listes_deroulantes!$H$8,AND(L11<datevigueur,M11=ecole),Listes_deroulantes!$H$9,AND(L11<datevigueur,M11=ecolesec),Listes_deroulantes!$H$10,AND(L11<datevigueur,M11=Universite),Listes_deroulantes!$H$11,AND(L11>=datevigueur,L11<=Listes_deroulantes!$F$48),NEW2025Apres,L11<=Listes_deroulantes!$F$49,New2030Apres,L11>Listes_deroulantes!$F$50,"0%")} -> s. o. | CG11: {=_xlfn.IFS(CE11="Aucun combustible","Oui",AND(CE11="s. o.",CF11="s. o."),"s. o.",AND(CF11="0%",OR(CE11<>"Aucun combustible",CE11<>"s. o.")),IF(CE11<=0%,"Oui","Non"),AND(CF11<>"0%",OR(CE11<>"Aucun combustible",CE11<>"s. o.")),IF(CE11<=CF11,"Oui","Non"))} -> s. o. | CI11: =BE11 -> s. o. | CJ11: {=_xlfn.IFS(CE11="s.o","Non disponible",CE11="Aucun combustible","0",CE11>0,BY11)} -> 0 | CK11: =IFERROR(CI11-CJ11,"Non disponible") -> Non disponible
Z12: =IF(OR(V12=0,X12=0),"s.o",(-(V12-X12)/V12)) -> s.o | AA12: {=_xlfn.IFS(T12=Listes_deroulantes!$B$45,"Indisponible",T12=Listes_deroulantes!$B$43,-10%,T12=Listes_deroulantes!$B$42,-40%,T12=Listes_deroulantes!$B$41,-20%,T12=Listes_deroulantes!$B$40,-20%,T12=Listes_deroulantes!$C$35,"s. o.",T12=Listes_deroulantes!$B$44,-10%)} -> s. o. | AB12: =IF(OR(Z12="s.o",AA12="Indisponible"),"s. o.",(IF(Z12>=AA12,"Non","Oui"))) -> s. o. | AC12: =IF(OR(W12=0,Y12=0),"s.o",(-(W12-Y12)/W12)) -> s.o | AD12: {=_xlfn.IFS(T12=Listes_deroulantes!$B$45,"Aucun",T12=Listes_deroulantes!$B$44,"Aucun",T12=Listes_deroulantes!$B$43,-10%,T12=Listes_deroulantes!$B$42,"Aucun",T12=Listes_deroulantes!$B$41,"Aucun",T12=Listes_deroulantes!$B$40,"Aucun",T12=Listes_deroulantes!$C$35,"s. o.")} -> s. o. | AE12: =IF(OR(AC12="s.o",AD12="Aucun"),"s. o.",(IF(OR(AC12<=AD12,AD12="Aucun"),"Oui","Non"))) -> s. o. | AG12: =IFERROR(IF(ISBLANK($U12),"",IF($U12="GJ",X12/$P12,IF($U12="kWh éq.",X12*V_GJ_kWh/$P12))),"") | AH12: =U12 -> 0 | AO12: =SUM(AI12:AM12) -> 0 | AQ12: =IFERROR(IF(OR(AP12=0,ISBLANK($U12)),0,IF($U12="GJ",AP12*V_GES_GJ_GazNaturel,IF($U12="kWh éq.",AP12*V_GES_kWhEq_GazNaturel))),"") -> 0 | AS12: =IFERROR(IF(OR(AR12=0,ISBLANK($U12)),0,IF($U12="GJ",AR12*V_GES_GJ_Mazout2Leger,IF($U12="kWh éq.",AR12*V_GES_kWhEq_Mazout2Leger))),"") -> 0 | AU12: =IFERROR(IF(OR(AT12=0,ISBLANK($U12)),0,IF($U12="GJ",AT12*V_GES_GJ_Propane,IF($U12="kWh éq.",AT12*V_GES_kWhEq_Propane))),"") -> 0 | AW12: =SUM(AP12,AR12,AT12,AV12) -> 0 | AX12: =AO12+AW12 -> 0 | AY12: =AQ12+AS12+AU12 -> 0 | AZ12: =IF(AX12=0,"s. o.",IF(AW12=0,"Aucun combustible",AW12/AX12)) -> s. o. | BA12: {=_xlfn.IFS(L12<Listes_deroulantes!$F$55,"s. o.",AND(L12<datevigueur,M12=autre),Listes_deroulantes!$G$4,AND(L12<datevigueur,M12=bureau),Listes_deroulantes!$G$5,AND(L12<datevigueur,M12=cegep),Listes_deroulantes!$G$6,AND(L12<datevigueur,M12=Centre),Listes_deroulantes!$G$7,AND(L12<datevigueur,M12=CHSLD),Listes_deroulantes!$G$8,AND(L12<datevigueur,M12=ecole),Listes_deroulantes!$G$9,AND(L12<datevigueur,M12=ecolesec),Listes_deroulantes!$G$10,AND(L12<datevigueur,M12=Universite),Listes_deroulantes!$G$11,AND(L12>=datevigueur,L12<=Listes_deroulantes!$F$48),New2025Avant,L12<=Listes_deroulantes!$F$49,New2030Avant,L12>Listes_deroulantes!$F$50,"0%")} -> s. o. | BB12: {=_xlfn.IFS(AZ12="Aucun combustible","Oui",AND(AZ12="s. o.",BA12="s. o."),"s. o.",AND(BA12="0%",OR(AZ12<>"Aucun combustible",AZ12<>"s. o.")),IF(AZ12<=0%,"Oui","Non"),AND(BA12<>"0%",OR(AZ12<>"Aucun combustible",AZ12<>"s. o.")),IF(AZ12<BA12,"Oui","Non"))} -> s. o. | BC12: =IF(AND(AZ12="Aucun combustible",L12>datevigueur),"Oui","Non") -> Non | BE12: =IF(M12="Habitation/Autre vocation","Habitation/Autre vocation",IF(OR(P12=0,ISBLANK(P12)),"s. o.",IF(P12>0,(P12*VLOOKUP(M12,D_GES_BatimentReference,2,FALSE)),""))) -> s. o. | BF12: {=IFERROR(_xlfn.IFS(AND(AO12>0,OR(AY12=0,ISBLANK(AY12)),OR(AW12=0,ISBLANK(AW12))),"100% Énergie renouvelable",AND(OR(AY12=0,ISBLANK(AY12)),AW12>0,),"Non disponible",AY12>0,AY12,AND(AY12=0,AW12=0,AO12=0),"s. o."),"Erreur")} -> s. o. | BG12: =IFERROR(IF(BF12="100% Énergie renouvelable",BE12,BE12-BF12),"s. o.") -> s. o. | BQ12: =SUM(BK12:BO12) -> 0 | BS12: =IFERROR(IF(OR(BR12=0,ISBLANK(BJ12)),0,IF(BJ12="GJ",BR12*V_GES_GJ_GazNaturel,IF(BJ12="kWh éq.",BR12*V_GES_kWhEq_GazNaturel))),"") -> 0 | BU12: =IFERROR(IF(OR(BT12=0,ISBLANK(BJ12)),0,IF(BJ12="GJ",BT12*V_GES_GJ_Mazout2Leger,IF(BJ12="kWh éq.",BT12*V_GES_kWhEq_Mazout2Leger))),"") -> 0 | BW12: =IFERROR(IF(OR(BV12=0,ISBLANK(BJ12)),0,IF(BJ12="GJ",BV12*V_GES_GJ_Propane,IF(BJ12="kWh éq.",BV12*V_GES_kWhEq_Propane))),"") -> 0 | BY12: =BS12+BU12+BW12 -> 0 | BZ12: =SUM(BR12,BT12,BV12,BX12) -> 0 | CA12: =BQ12+BZ12 -> 0 | CB12: =AX12 -> 0 | CC12: =IFERROR(IF(ISBLANK($BJ12),"",IF($BJ12="GJ",CA12/$P12,IF($BJ12="kWh éq.",CA12*V_GJ_kWh/$P12))),"") | CD12: =AG12 | CE12: =IF(CA12=0,"s. o.",IF(AND(CA12>0,BZ12=0),"Aucun combustible",(BZ12)/CA12)) -> s. o. | CF12: {=_xlfn.IFS(L12<Listes_deroulantes!$F$55,"s. o.",AND(L12<datevigueur,M12=autre),Listes_deroulantes!$H$4,AND(L12<datevigueur,M12=bureau),Listes_deroulantes!$H$5,AND(L12<datevigueur,M12=cegep),Listes_deroulantes!$H$6,AND(L12<datevigueur,M12=Centre),Listes_deroulantes!$H$7,AND(L12<datevigueur,M12=CHSLD),Listes_deroulantes!$H$8,AND(L12<datevigueur,M12=ecole),Listes_deroulantes!$H$9,AND(L12<datevigueur,M12=ecolesec),Listes_deroulantes!$H$10,AND(L12<datevigueur,M12=Universite),Listes_deroulantes!$H$11,AND(L12>=datevigueur,L12<=Listes_deroulantes!$F$48),NEW2025Apres,L12<=Listes_deroulantes!$F$49,New2030Apres,L12>Listes_deroulantes!$F$50,"0%")} -> s. o. | CG12: {=_xlfn.IFS(CE12="Aucun combustible","Oui",AND(CE12="s. o.",CF12="s. o."),"s. o.",AND(CF12="0%",OR(CE12<>"Aucun combustible",CE12<>"s. o.")),IF(CE12<=0%,"Oui","Non"),AND(CF12<>"0%",OR(CE12<>"Aucun combustible",CE12<>"s. o.")),IF(CE12<=CF12,"Oui","Non"))} -> s. o. | CI12: =BE12 -> s. o. | CJ12: {=_xlfn.IFS(CE12="s.o","Non disponible",CE12="Aucun combustible","0",CE12>0,BY12)} -> 0 | CK12: =IFERROR(CI12-CJ12,"Non disponible") -> Non disponible
Z13: =IF(OR(V13=0,X13=0),"s.o",(-(V13-X13)/V13)) -> s.o | AA13: {=_xlfn.IFS(T13=Listes_deroulantes!$B$45,"Indisponible",T13=Listes_deroulantes!$B$43,-10%,T13=Listes_deroulantes!$B$42,-40%,T13=Listes_deroulantes!$B$41,-20%,T13=Listes_deroulantes!$B$40,-20%,T13=Listes_deroulantes!$C$35,"s. o.",T13=Listes_deroulantes!$B$44,-10%)} -> s. o. | AB13: =IF(OR(Z13="s.o",AA13="Indisponible"),"s. o.",(IF(Z13>=AA13,"Non","Oui"))) -> s. o. | AC13: =IF(OR(W13=0,Y13=0),"s.o",(-(W13-Y13)/W13)) -> s.o | AD13: {=_xlfn.IFS(T13=Listes_deroulantes!$B$45,"Aucun",T13=Listes_deroulantes!$B$44,"Aucun",T13=Listes_deroulantes!$B$43,-10%,T13=Listes_deroulantes!$B$42,"Aucun",T13=Listes_deroulantes!$B$41,"Aucun",T13=Listes_deroulantes!$B$40,"Aucun",T13=Listes_deroulantes!$C$35,"s. o.")} -> s. o. | AE13: =IF(OR(AC13="s.o",AD13="Aucun"),"s. o.",(IF(OR(AC13<=AD13,AD13="Aucun"),"Oui","Non"))) -> s. o. | AG13: =IFERROR(IF(ISBLANK($U13),"",IF($U13="GJ",X13/$P13,IF($U13="kWh éq.",X13*V_GJ_kWh/$P13))),"") | AH13: =U13 -> 0 | AO13: =SUM(AI13:AM13) -> 0 | AQ13: =IFERROR(IF(OR(AP13=0,ISBLANK($U13)),0,IF($U13="GJ",AP13*V_GES_GJ_GazNaturel,IF($U13="kWh éq.",AP13*V_GES_kWhEq_GazNaturel))),"") -> 0 | AS13: =IFERROR(IF(OR(AR13=0,ISBLANK($U13)),0,IF($U13="GJ",AR13*V_GES_GJ_Mazout2Leger,IF($U13="kWh éq.",AR13*V_GES_kWhEq_Mazout2Leger))),"") -> 0 | AU13: =IFERROR(IF(OR(AT13=0,ISBLANK($U13)),0,IF($U13="GJ",AT13*V_GES_GJ_Propane,IF($U13="kWh éq.",AT13*V_GES_kWhEq_Propane))),"") -> 0 | AW13: =SUM(AP13,AR13,AT13,AV13) -> 0 | AX13: =AO13+AW13 -> 0 | AY13: =AQ13+AS13+AU13 -> 0 | AZ13: =IF(AX13=0,"s. o.",IF(AW13=0,"Aucun combustible",AW13/AX13)) -> s. o. | BA13: {=_xlfn.IFS(L13<Listes_deroulantes!$F$55,"s. o.",AND(L13<datevigueur,M13=autre),Listes_deroulantes!$G$4,AND(L13<datevigueur,M13=bureau),Listes_deroulantes!$G$5,AND(L13<datevigueur,M13=cegep),Listes_deroulantes!$G$6,AND(L13<datevigueur,M13=Centre),Listes_deroulantes!$G$7,AND(L13<datevigueur,M13=CHSLD),Listes_deroulantes!$G$8,AND(L13<datevigueur,M13=ecole),Listes_deroulantes!$G$9,AND(L13<datevigueur,M13=ecolesec),Listes_deroulantes!$G$10,AND(L13<datevigueur,M13=Universite),Listes_deroulantes!$G$11,AND(L13>=datevigueur,L13<=Listes_deroulantes!$F$48),New2025Avant,L13<=Listes_deroulantes!$F$49,New2030Avant,L13>Listes_deroulantes!$F$50,"0%")} -> s. o. | BB13: {=_xlfn.IFS(AZ13="Aucun combustible","Oui",AND(AZ13="s. o.",BA13="s. o."),"s. o.",AND(BA13="0%",OR(AZ13<>"Aucun combustible",AZ13<>"s. o.")),IF(AZ13<=0%,"Oui","Non"),AND(BA13<>"0%",OR(AZ13<>"Aucun combustible",AZ13<>"s. o.")),IF(AZ13<BA13,"Oui","Non"))} -> s. o. | BC13: =IF(AND(AZ13="Aucun combustible",L13>datevigueur),"Oui","Non") -> Non | BE13: =IF(M13="Habitation/Autre vocation","Habitation/Autre vocation",IF(OR(P13=0,ISBLANK(P13)),"s. o.",IF(P13>0,(P13*VLOOKUP(M13,D_GES_BatimentReference,2,FALSE)),""))) -> s. o. | BF13: {=IFERROR(_xlfn.IFS(AND(AO13>0,OR(AY13=0,ISBLANK(AY13)),OR(AW13=0,ISBLANK(AW13))),"100% Énergie renouvelable",AND(OR(AY13=0,ISBLANK(AY13)),AW13>0,),"Non disponible",AY13>0,AY13,AND(AY13=0,AW13=0,AO13=0),"s. o."),"Erreur")} -> s. o. | BG13: =IFERROR(IF(BF13="100% Énergie renouvelable",BE13,BE13-BF13),"s. o.") -> s. o. | BQ13: =SUM(BK13:BO13) -> 0 | BS13: =IFERROR(IF(OR(BR13=0,ISBLANK(BJ13)),0,IF(BJ13="GJ",BR13*V_GES_GJ_GazNaturel,IF(BJ13="kWh éq.",BR13*V_GES_kWhEq_GazNaturel))),"") -> 0 | BU13: =IFERROR(IF(OR(BT13=0,ISBLANK(BJ13)),0,IF(BJ13="GJ",BT13*V_GES_GJ_Mazout2Leger,IF(BJ13="kWh éq.",BT13*V_GES_kWhEq_Mazout2Leger))),"") -> 0 | BW13: =IFERROR(IF(OR(BV13=0,ISBLANK(BJ13)),0,IF(BJ13="GJ",BV13*V_GES_GJ_Propane,IF(BJ13="kWh éq.",BV13*V_GES_kWhEq_Propane))),"") -> 0 | BY13: =BS13+BU13+BW13 -> 0 | BZ13: =SUM(BR13,BT13,BV13,BX13) -> 0 | CA13: =BQ13+BZ13 -> 0 | CB13: =AX13 -> 0 | CC13: =IFERROR(IF(ISBLANK($BJ13),"",IF($BJ13="GJ",CA13/$P13,IF($BJ13="kWh éq.",CA13*V_GJ_kWh/$P13))),"") | CD13: =AG13 | CE13: =IF(CA13=0,"s. o.",IF(AND(CA13>0,BZ13=0),"Aucun combustible",(BZ13)/CA13)) -> s. o. | CF13: {=_xlfn.IFS(L13<Listes_deroulantes!$F$55,"s. o.",AND(L13<datevigueur,M13=autre),Listes_deroulantes!$H$4,AND(L13<datevigueur,M13=bureau),Listes_deroulantes!$H$5,AND(L13<datevigueur,M13=cegep),Listes_deroulantes!$H$6,AND(L13<datevigueur,M13=Centre),Listes_deroulantes!$H$7,AND(L13<datevigueur,M13=CHSLD),Listes_deroulantes!$H$8,AND(L13<datevigueur,M13=ecole),Listes_deroulantes!$H$9,AND(L13<datevigueur,M13=ecolesec),Listes_deroulantes!$H$10,AND(L13<datevigueur,M13=Universite),Listes_deroulantes!$H$11,AND(L13>=datevigueur,L13<=Listes_deroulantes!$F$48),NEW2025Apres,L13<=Listes_deroulantes!$F$49,New2030Apres,L13>Listes_deroulantes!$F$50,"0%")} -> s. o. | CG13: {=_xlfn.IFS(CE13="Aucun combustible","Oui",AND(CE13="s. o.",CF13="s. o."),"s. o.",AND(CF13="0%",OR(CE13<>"Aucun combustible",CE13<>"s. o.")),IF(CE13<=0%,"Oui","Non"),AND(CF13<>"0%",OR(CE13<>"Aucun combustible",CE13<>"s. o.")),IF(CE13<=CF13,"Oui","Non"))} -> s. o. | CI13: =BE13 -> s. o. | CJ13: {=_xlfn.IFS(CE13="s.o","Non disponible",CE13="Aucun combustible","0",CE13>0,BY13)} -> 0 | CK13: =IFERROR(CI13-CJ13,"Non disponible") -> Non disponible
Z14: =IF(OR(V14=0,X14=0),"s.o",(-(V14-X14)/V14)) -> s.o | AA14: {=_xlfn.IFS(T14=Listes_deroulantes!$B$45,"Indisponible",T14=Listes_deroulantes!$B$43,-10%,T14=Listes_deroulantes!$B$42,-40%,T14=Listes_deroulantes!$B$41,-20%,T14=Listes_deroulantes!$B$40,-20%,T14=Listes_deroulantes!$C$35,"s. o.",T14=Listes_deroulantes!$B$44,-10%)} -> s. o. | AB14: =IF(OR(Z14="s.o",AA14="Indisponible"),"s. o.",(IF(Z14>=AA14,"Non","Oui"))) -> s. o. | AC14: =IF(OR(W14=0,Y14=0),"s.o",(-(W14-Y14)/W14)) -> s.o | AD14: {=_xlfn.IFS(T14=Listes_deroulantes!$B$45,"Aucun",T14=Listes_deroulantes!$B$44,"Aucun",T14=Listes_deroulantes!$B$43,-10%,T14=Listes_deroulantes!$B$42,"Aucun",T14=Listes_deroulantes!$B$41,"Aucun",T14=Listes_deroulantes!$B$40,"Aucun",T14=Listes_deroulantes!$C$35,"s. o.")} -> s. o. | AE14: =IF(OR(AC14="s.o",AD14="Aucun"),"s. o.",(IF(OR(AC14<=AD14,AD14="Aucun"),"Oui","Non"))) -> s. o. | AG14: =IFERROR(IF(ISBLANK($U14),"",IF($U14="GJ",X14/$P14,IF($U14="kWh éq.",X14*V_GJ_kWh/$P14))),"") | AH14: =U14 -> 0 | AO14: =SUM(AI14:AM14) -> 0 | AQ14: =IFERROR(IF(OR(AP14=0,ISBLANK($U14)),0,IF($U14="GJ",AP14*V_GES_GJ_GazNaturel,IF($U14="kWh éq.",AP14*V_GES_kWhEq_GazNaturel))),"") -> 0 | AS14: =IFERROR(IF(OR(AR14=0,ISBLANK($U14)),0,IF($U14="GJ",AR14*V_GES_GJ_Mazout2Leger,IF($U14="kWh éq.",AR14*V_GES_kWhEq_Mazout2Leger))),"") -> 0 | AU14: =IFERROR(IF(OR(AT14=0,ISBLANK($U14)),0,IF($U14="GJ",AT14*V_GES_GJ_Propane,IF($U14="kWh éq.",AT14*V_GES_kWhEq_Propane))),"") -> 0 | AW14: =SUM(AP14,AR14,AT14,AV14) -> 0 | AX14: =AO14+AW14 -> 0 | AY14: =AQ14+AS14+AU14 -> 0 | AZ14: =IF(AX14=0,"s. o.",IF(AW14=0,"Aucun combustible",AW14/AX14)) -> s. o. | BA14: {=_xlfn.IFS(L14<Listes_deroulantes!$F$55,"s. o.",AND(L14<datevigueur,M14=autre),Listes_deroulantes!$G$4,AND(L14<datevigueur,M14=bureau),Listes_deroulantes!$G$5,AND(L14<datevigueur,M14=cegep),Listes_deroulantes!$G$6,AND(L14<datevigueur,M14=Centre),Listes_deroulantes!$G$7,AND(L14<datevigueur,M14=CHSLD),Listes_deroulantes!$G$8,AND(L14<datevigueur,M14=ecole),Listes_deroulantes!$G$9,AND(L14<datevigueur,M14=ecolesec),Listes_deroulantes!$G$10,AND(L14<datevigueur,M14=Universite),Listes_deroulantes!$G$11,AND(L14>=datevigueur,L14<=Listes_deroulantes!$F$48),New2025Avant,L14<=Listes_deroulantes!$F$49,New2030Avant,L14>Listes_deroulantes!$F$50,"0%")} -> s. o. | BB14: {=_xlfn.IFS(AZ14="Aucun combustible","Oui",AND(AZ14="s. o.",BA14="s. o."),"s. o.",AND(BA14="0%",OR(AZ14<>"Aucun combustible",AZ14<>"s. o.")),IF(AZ14<=0%,"Oui","Non"),AND(BA14<>"0%",OR(AZ14<>"Aucun combustible",AZ14<>"s. o.")),IF(AZ14<BA14,"Oui","Non"))} -> s. o. | BC14: =IF(AND(AZ14="Aucun combustible",L14>datevigueur),"Oui","Non") -> Non | BE14: =IF(M14="Habitation/Autre vocation","Habitation/Autre vocation",IF(OR(P14=0,ISBLANK(P14)),"s. o.",IF(P14>0,(P14*VLOOKUP(M14,D_GES_BatimentReference,2,FALSE)),""))) -> s. o. | BF14: {=IFERROR(_xlfn.IFS(AND(AO14>0,OR(AY14=0,ISBLANK(AY14)),OR(AW14=0,ISBLANK(AW14))),"100% Énergie renouvelable",AND(OR(AY14=0,ISBLANK(AY14)),AW14>0,),"Non disponible",AY14>0,AY14,AND(AY14=0,AW14=0,AO14=0),"s. o."),"Erreur")} -> s. o. | BG14: =IFERROR(IF(BF14="100% Énergie renouvelable",BE14,BE14-BF14),"s. o.") -> s. o. | BQ14: =SUM(BK14:BO14) -> 0 | BS14: =IFERROR(IF(OR(BR14=0,ISBLANK(BJ14)),0,IF(BJ14="GJ",BR14*V_GES_GJ_GazNaturel,IF(BJ14="kWh éq.",BR14*V_GES_kWhEq_GazNaturel))),"") -> 0 | BU14: =IFERROR(IF(OR(BT14=0,ISBLANK(BJ14)),0,IF(BJ14="GJ",BT14*V_GES_GJ_Mazout2Leger,IF(BJ14="kWh éq.",BT14*V_GES_kWhEq_Mazout2Leger))),"") -> 0 | BW14: =IFERROR(IF(OR(BV14=0,ISBLANK(BJ14)),0,IF(BJ14="GJ",BV14*V_GES_GJ_Propane,IF(BJ14="kWh éq.",BV14*V_GES_kWhEq_Propane))),"") -> 0 | BY14: =BS14+BU14+BW14 -> 0 | BZ14: =SUM(BR14,BT14,BV14,BX14) -> 0 | CA14: =BQ14+BZ14 -> 0 | CB14: =AX14 -> 0 | CC14: =IFERROR(IF(ISBLANK($BJ14),"",IF($BJ14="GJ",CA14/$P14,IF($BJ14="kWh éq.",CA14*V_GJ_kWh/$P14))),"") | CD14: =AG14 | CE14: =IF(CA14=0,"s. o.",IF(AND(CA14>0,BZ14=0),"Aucun combustible",(BZ14)/CA14)) -> s. o. | CF14: {=_xlfn.IFS(L14<Listes_deroulantes!$F$55,"s. o.",AND(L14<datevigueur,M14=autre),Listes_deroulantes!$H$4,AND(L14<datevigueur,M14=bureau),Listes_deroulantes!$H$5,AND(L14<datevigueur,M14=cegep),Listes_deroulantes!$H$6,AND(L14<datevigueur,M14=Centre),Listes_deroulantes!$H$7,AND(L14<datevigueur,M14=CHSLD),Listes_deroulantes!$H$8,AND(L14<datevigueur,M14=ecole),Listes_deroulantes!$H$9,AND(L14<datevigueur,M14=ecolesec),Listes_deroulantes!$H$10,AND(L14<datevigueur,M14=Universite),Listes_deroulantes!$H$11,AND(L14>=datevigueur,L14<=Listes_deroulantes!$F$48),NEW2025Apres,L14<=Listes_deroulantes!$F$49,New2030Apres,L14>Listes_deroulantes!$F$50,"0%")} -> s. o. | CG14: {=_xlfn.IFS(CE14="Aucun combustible","Oui",AND(CE14="s. o.",CF14="s. o."),"s. o.",AND(CF14="0%",OR(CE14<>"Aucun combustible",CE14<>"s. o.")),IF(CE14<=0%,"Oui","Non"),AND(CF14<>"0%",OR(CE14<>"Aucun combustible",CE14<>"s. o.")),IF(CE14<=CF14,"Oui","Non"))} -> s. o. | CI14: =BE14 -> s. o. | CJ14: {=_xlfn.IFS(CE14="s.o","Non disponible",CE14="Aucun combustible","0",CE14>0,BY14)} -> 0 | CK14: =IFERROR(CI14-CJ14,"Non disponible") -> Non disponible
Z15: =IF(OR(V15=0,X15=0),"s.o",(-(V15-X15)/V15)) -> s.o | AA15: {=_xlfn.IFS(T15=Listes_deroulantes!$B$45,"Indisponible",T15=Listes_deroulantes!$B$43,-10%,T15=Listes_deroulantes!$B$42,-40%,T15=Listes_deroulantes!$B$41,-20%,T15=Listes_deroulantes!$B$40,-20%,T15=Listes_deroulantes!$C$35,"s. o.",T15=Listes_deroulantes!$B$44,-10%)} -> s. o. | AB15: =IF(OR(Z15="s.o",AA15="Indisponible"),"s. o.",(IF(Z15>=AA15,"Non","Oui"))) -> s. o. | AC15: =IF(OR(W15=0,Y15=0),"s.o",(-(W15-Y15)/W15)) -> s.o | AD15: {=_xlfn.IFS(T15=Listes_deroulantes!$B$45,"Aucun",T15=Listes_deroulantes!$B$44,"Aucun",T15=Listes_deroulantes!$B$43,-10%,T15=Listes_deroulantes!$B$42,"Aucun",T15=Listes_deroulantes!$B$41,"Aucun",T15=Listes_deroulantes!$B$40,"Aucun",T15=Listes_deroulantes!$C$35,"s. o.")} -> s. o. | AE15: =IF(OR(AC15="s.o",AD15="Aucun"),"s. o.",(IF(OR(AC15<=AD15,AD15="Aucun"),"Oui","Non"))) -> s. o. | AG15: =IFERROR(IF(ISBLANK($U15),"",IF($U15="GJ",X15/$P15,IF($U15="kWh éq.",X15*V_GJ_kWh/$P15))),"") | AH15: =U15 -> 0 | AO15: =SUM(AI15:AM15) -> 0 | AQ15: =IFERROR(IF(OR(AP15=0,ISBLANK($U15)),0,IF($U15="GJ",AP15*V_GES_GJ_GazNaturel,IF($U15="kWh éq.",AP15*V_GES_kWhEq_GazNaturel))),"") -> 0 | AS15: =IFERROR(IF(OR(AR15=0,ISBLANK($U15)),0,IF($U15="GJ",AR15*V_GES_GJ_Mazout2Leger,IF($U15="kWh éq.",AR15*V_GES_kWhEq_Mazout2Leger))),"") -> 0 | AU15: =IFERROR(IF(OR(AT15=0,ISBLANK($U15)),0,IF($U15="GJ",AT15*V_GES_GJ_Propane,IF($U15="kWh éq.",AT15*V_GES_kWhEq_Propane))),"") -> 0 | AW15: =SUM(AP15,AR15,AT15,AV15) -> 0 | AX15: =AO15+AW15 -> 0 | AY15: =AQ15+AS15+AU15 -> 0 | AZ15: =IF(AX15=0,"s. o.",IF(AW15=0,"Aucun combustible",AW15/AX15)) -> s. o. | BA15: {=_xlfn.IFS(L15<Listes_deroulantes!$F$55,"s. o.",AND(L15<datevigueur,M15=autre),Listes_deroulantes!$G$4,AND(L15<datevigueur,M15=bureau),Listes_deroulantes!$G$5,AND(L15<datevigueur,M15=cegep),Listes_deroulantes!$G$6,AND(L15<datevigueur,M15=Centre),Listes_deroulantes!$G$7,AND(L15<datevigueur,M15=CHSLD),Listes_deroulantes!$G$8,AND(L15<datevigueur,M15=ecole),Listes_deroulantes!$G$9,AND(L15<datevigueur,M15=ecolesec),Listes_deroulantes!$G$10,AND(L15<datevigueur,M15=Universite),Listes_deroulantes!$G$11,AND(L15>=datevigueur,L15<=Listes_deroulantes!$F$48),New2025Avant,L15<=Listes_deroulantes!$F$49,New2030Avant,L15>Listes_deroulantes!$F$50,"0%")} -> s. o. | BB15: {=_xlfn.IFS(AZ15="Aucun combustible","Oui",AND(AZ15="s. o.",BA15="s. o."),"s. o.",AND(BA15="0%",OR(AZ15<>"Aucun combustible",AZ15<>"s. o.")),IF(AZ15<=0%,"Oui","Non"),AND(BA15<>"0%",OR(AZ15<>"Aucun combustible",AZ15<>"s. o.")),IF(AZ15<BA15,"Oui","Non"))} -> s. o. | BC15: =IF(AND(AZ15="Aucun combustible",L15>datevigueur),"Oui","Non") -> Non | BE15: =IF(M15="Habitation/Autre vocation","Habitation/Autre vocation",IF(OR(P15=0,ISBLANK(P15)),"s. o.",IF(P15>0,(P15*VLOOKUP(M15,D_GES_BatimentReference,2,FALSE)),""))) -> s. o. | BF15: {=IFERROR(_xlfn.IFS(AND(AO15>0,OR(AY15=0,ISBLANK(AY15)),OR(AW15=0,ISBLANK(AW15))),"100% Énergie renouvelable",AND(OR(AY15=0,ISBLANK(AY15)),AW15>0,),"Non disponible",AY15>0,AY15,AND(AY15=0,AW15=0,AO15=0),"s. o."),"Erreur")} -> s. o. | BG15: =IFERROR(IF(BF15="100% Énergie renouvelable",BE15,BE15-BF15),"s. o.") -> s. o. | BQ15: =SUM(BK15:BO15) -> 0 | BS15: =IFERROR(IF(OR(BR15=0,ISBLANK(BJ15)),0,IF(BJ15="GJ",BR15*V_GES_GJ_GazNaturel,IF(BJ15="kWh éq.",BR15*V_GES_kWhEq_GazNaturel))),"") -> 0 | BU15: =IFERROR(IF(OR(BT15=0,ISBLANK(BJ15)),0,IF(BJ15="GJ",BT15*V_GES_GJ_Mazout2Leger,IF(BJ15="kWh éq.",BT15*V_GES_kWhEq_Mazout2Leger))),"") -> 0 | BW15: =IFERROR(IF(OR(BV15=0,ISBLANK(BJ15)),0,IF(BJ15="GJ",BV15*V_GES_GJ_Propane,IF(BJ15="kWh éq.",BV15*V_GES_kWhEq_Propane))),"") -> 0 | BY15: =BS15+BU15+BW15 -> 0 | BZ15: =SUM(BR15,BT15,BV15,BX15) -> 0 | CA15: =BQ15+BZ15 -> 0 | CB15: =AX15 -> 0 | CC15: =IFERROR(IF(ISBLANK($BJ15),"",IF($BJ15="GJ",CA15/$P15,IF($BJ15="kWh éq.",CA15*V_GJ_kWh/$P15))),"") | CD15: =AG15 | CE15: =IF(CA15=0,"s. o.",IF(AND(CA15>0,BZ15=0),"Aucun combustible",(BZ15)/CA15)) -> s. o. | CF15: {=_xlfn.IFS(L15<Listes_deroulantes!$F$55,"s. o.",AND(L15<datevigueur,M15=autre),Listes_deroulantes!$H$4,AND(L15<datevigueur,M15=bureau),Listes_deroulantes!$H$5,AND(L15<datevigueur,M15=cegep),Listes_deroulantes!$H$6,AND(L15<datevigueur,M15=Centre),Listes_deroulantes!$H$7,AND(L15<datevigueur,M15=CHSLD),Listes_deroulantes!$H$8,AND(L15<datevigueur,M15=ecole),Listes_deroulantes!$H$9,AND(L15<datevigueur,M15=ecolesec),Listes_deroulantes!$H$10,AND(L15<datevigueur,M15=Universite),Listes_deroulantes!$H$11,AND(L15>=datevigueur,L15<=Listes_deroulantes!$F$48),NEW2025Apres,L15<=Listes_deroulantes!$F$49,New2030Apres,L15>Listes_deroulantes!$F$50,"0%")} -> s. o. | CG15: {=_xlfn.IFS(CE15="Aucun combustible","Oui",AND(CE15="s. o.",CF15="s. o."),"s. o.",AND(CF15="0%",OR(CE15<>"Aucun combustible",CE15<>"s. o.")),IF(CE15<=0%,"Oui","Non"),AND(CF15<>"0%",OR(CE15<>"Aucun combustible",CE15<>"s. o.")),IF(CE15<=CF15,"Oui","Non"))} -> s. o. | CI15: =BE15 -> s. o. | CJ15: {=_xlfn.IFS(CE15="s.o","Non disponible",CE15="Aucun combustible","0",CE15>0,BY15)} -> 0 | CK15: =IFERROR(CI15-CJ15,"Non disponible") -> Non disponible
Z16: =IF(OR(V16=0,X16=0),"s.o",(-(V16-X16)/V16)) -> s.o | AA16: {=_xlfn.IFS(T16=Listes_deroulantes!$B$45,"Indisponible",T16=Listes_deroulantes!$B$43,-10%,T16=Listes_deroulantes!$B$42,-40%,T16=Listes_deroulantes!$B$41,-20%,T16=Listes_deroulantes!$B$40,-20%,T16=Listes_deroulantes!$C$35,"s. o.",T16=Listes_deroulantes!$B$44,-10%)} -> s. o. | AB16: =IF(OR(Z16="s.o",AA16="Indisponible"),"s. o.",(IF(Z16>=AA16,"Non","Oui"))) -> s. o. | AC16: =IF(OR(W16=0,Y16=0),"s.o",(-(W16-Y16)/W16)) -> s.o | AD16: {=_xlfn.IFS(T16=Listes_deroulantes!$B$45,"Aucun",T16=Listes_deroulantes!$B$44,"Aucun",T16=Listes_deroulantes!$B$43,-10%,T16=Listes_deroulantes!$B$42,"Aucun",T16=Listes_deroulantes!$B$41,"Aucun",T16=Listes_deroulantes!$B$40,"Aucun",T16=Listes_deroulantes!$C$35,"s. o.")} -> s. o. | AE16: =IF(OR(AC16="s.o",AD16="Aucun"),"s. o.",(IF(OR(AC16<=AD16,AD16="Aucun"),"Oui","Non"))) -> s. o. | AG16: =IFERROR(IF(ISBLANK($U16),"",IF($U16="GJ",X16/$P16,IF($U16="kWh éq.",X16*V_GJ_kWh/$P16))),"") | AH16: =U16 -> 0 | AO16: =SUM(AI16:AM16) -> 0 | AQ16: =IFERROR(IF(OR(AP16=0,ISBLANK($U16)),0,IF($U16="GJ",AP16*V_GES_GJ_GazNaturel,IF($U16="kWh éq.",AP16*V_GES_kWhEq_GazNaturel))),"") -> 0 | AS16: =IFERROR(IF(OR(AR16=0,ISBLANK($U16)),0,IF($U16="GJ",AR16*V_GES_GJ_Mazout2Leger,IF($U16="kWh éq.",AR16*V_GES_kWhEq_Mazout2Leger))),"") -> 0 | AU16: =IFERROR(IF(OR(AT16=0,ISBLANK($U16)),0,IF($U16="GJ",AT16*V_GES_GJ_Propane,IF($U16="kWh éq.",AT16*V_GES_kWhEq_Propane))),"") -> 0 | AW16: =SUM(AP16,AR16,AT16,AV16) -> 0 | AX16: =AO16+AW16 -> 0 | AY16: =AQ16+AS16+AU16 -> 0 | AZ16: =IF(AX16=0,"s. o.",IF(AW16=0,"Aucun combustible",AW16/AX16)) -> s. o. | BA16: {=_xlfn.IFS(L16<Listes_deroulantes!$F$55,"s. o.",AND(L16<datevigueur,M16=autre),Listes_deroulantes!$G$4,AND(L16<datevigueur,M16=bureau),Listes_deroulantes!$G$5,AND(L16<datevigueur,M16=cegep),Listes_deroulantes!$G$6,AND(L16<datevigueur,M16=Centre),Listes_deroulantes!$G$7,AND(L16<datevigueur,M16=CHSLD),Listes_deroulantes!$G$8,AND(L16<datevigueur,M16=ecole),Listes_deroulantes!$G$9,AND(L16<datevigueur,M16=ecolesec),Listes_deroulantes!$G$10,AND(L16<datevigueur,M16=Universite),Listes_deroulantes!$G$11,AND(L16>=datevigueur,L16<=Listes_deroulantes!$F$48),New2025Avant,L16<=Listes_deroulantes!$F$49,New2030Avant,L16>Listes_deroulantes!$F$50,"0%")} -> s. o. | BB16: {=_xlfn.IFS(AZ16="Aucun combustible","Oui",AND(AZ16="s. o.",BA16="s. o."),"s. o.",AND(BA16="0%",OR(AZ16<>"Aucun combustible",AZ16<>"s. o.")),IF(AZ16<=0%,"Oui","Non"),AND(BA16<>"0%",OR(AZ16<>"Aucun combustible",AZ16<>"s. o.")),IF(AZ16<BA16,"Oui","Non"))} -> s. o. | BC16: =IF(AND(AZ16="Aucun combustible",L16>datevigueur),"Oui","Non") -> Non | BE16: =IF(M16="Habitation/Autre vocation","Habitation/Autre vocation",IF(OR(P16=0,ISBLANK(P16)),"s. o.",IF(P16>0,(P16*VLOOKUP(M16,D_GES_BatimentReference,2,FALSE)),""))) -> s. o. | BF16: {=IFERROR(_xlfn.IFS(AND(AO16>0,OR(AY16=0,ISBLANK(AY16)),OR(AW16=0,ISBLANK(AW16))),"100% Énergie renouvelable",AND(OR(AY16=0,ISBLANK(AY16)),AW16>0,),"Non disponible",AY16>0,AY16,AND(AY16=0,AW16=0,AO16=0),"s. o."),"Erreur")} -> s. o. | BG16: =IFERROR(IF(BF16="100% Énergie renouvelable",BE16,BE16-BF16),"s. o.") -> s. o. | BQ16: =SUM(BK16:BO16) -> 0 | BS16: =IFERROR(IF(OR(BR16=0,ISBLANK(BJ16)),0,IF(BJ16="GJ",BR16*V_GES_GJ_GazNaturel,IF(BJ16="kWh éq.",BR16*V_GES_kWhEq_GazNaturel))),"") -> 0 | BU16: =IFERROR(IF(OR(BT16=0,ISBLANK(BJ16)),0,IF(BJ16="GJ",BT16*V_GES_GJ_Mazout2Leger,IF(BJ16="kWh éq.",BT16*V_GES_kWhEq_Mazout2Leger))),"") -> 0 | BW16: =IFERROR(IF(OR(BV16=0,ISBLANK(BJ16)),0,IF(BJ16="GJ",BV16*V_GES_GJ_Propane,IF(BJ16="kWh éq.",BV16*V_GES_kWhEq_Propane))),"") -> 0 | BY16: =BS16+BU16+BW16 -> 0 | BZ16: =SUM(BR16,BT16,BV16,BX16) -> 0 | CA16: =BQ16+BZ16 -> 0 | CB16: =AX16 -> 0 | CC16: =IFERROR(IF(ISBLANK($BJ16),"",IF($BJ16="GJ",CA16/$P16,IF($BJ16="kWh éq.",CA16*V_GJ_kWh/$P16))),"") | CD16: =AG16 | CE16: =IF(CA16=0,"s. o.",IF(AND(CA16>0,BZ16=0),"Aucun combustible",(BZ16)/CA16)) -> s. o. | CF16: {=_xlfn.IFS(L16<Listes_deroulantes!$F$55,"s. o.",AND(L16<datevigueur,M16=autre),Listes_deroulantes!$H$4,AND(L16<datevigueur,M16=bureau),Listes_deroulantes!$H$5,AND(L16<datevigueur,M16=cegep),Listes_deroulantes!$H$6,AND(L16<datevigueur,M16=Centre),Listes_deroulantes!$H$7,AND(L16<datevigueur,M16=CHSLD),Listes_deroulantes!$H$8,AND(L16<datevigueur,M16=ecole),Listes_deroulantes!$H$9,AND(L16<datevigueur,M16=ecolesec),Listes_deroulantes!$H$10,AND(L16<datevigueur,M16=Universite),Listes_deroulantes!$H$11,AND(L16>=datevigueur,L16<=Listes_deroulantes!$F$48),NEW2025Apres,L16<=Listes_deroulantes!$F$49,New2030Apres,L16>Listes_deroulantes!$F$50,"0%")} -> s. o. | CG16: {=_xlfn.IFS(CE16="Aucun combustible","Oui",AND(CE16="s. o.",CF16="s. o."),"s. o.",AND(CF16="0%",OR(CE16<>"Aucun combustible",CE16<>"s. o.")),IF(CE16<=0%,"Oui","Non"),AND(CF16<>"0%",OR(CE16<>"Aucun combustible",CE16<>"s. o.")),IF(CE16<=CF16,"Oui","Non"))} -> s. o. | CI16: =BE16 -> s. o. | CJ16: {=_xlfn.IFS(CE16="s.o","Non disponible",CE16="Aucun combustible","0",CE16>0,BY16)} -> 0 | CK16: =IFERROR(CI16-CJ16,"Non disponible") -> Non disponible
Z17: =IF(OR(V17=0,X17=0),"s.o",(-(V17-X17)/V17)) -> s.o | AA17: {=_xlfn.IFS(T17=Listes_deroulantes!$B$45,"Indisponible",T17=Listes_deroulantes!$B$43,-10%,T17=Listes_deroulantes!$B$42,-40%,T17=Listes_deroulantes!$B$41,-20%,T17=Listes_deroulantes!$B$40,-20%,T17=Listes_deroulantes!$C$35,"s. o.",T17=Listes_deroulantes!$B$44,-10%)} -> s. o. | AB17: =IF(OR(Z17="s.o",AA17="Indisponible"),"s. o.",(IF(Z17>=AA17,"Non","Oui"))) -> s. o. | AC17: =IF(OR(W17=0,Y17=0),"s.o",(-(W17-Y17)/W17)) -> s.o | AD17: {=_xlfn.IFS(T17=Listes_deroulantes!$B$45,"Aucun",T17=Listes_deroulantes!$B$44,"Aucun",T17=Listes_deroulantes!$B$43,-10%,T17=Listes_deroulantes!$B$42,"Aucun",T17=Listes_deroulantes!$B$41,"Aucun",T17=Listes_deroulantes!$B$40,"Aucun",T17=Listes_deroulantes!$C$35,"s. o.")} -> s. o. | AE17: =IF(OR(AC17="s.o",AD17="Aucun"),"s. o.",(IF(OR(AC17<=AD17,AD17="Aucun"),"Oui","Non"))) -> s. o. | AG17: =IFERROR(IF(ISBLANK($U17),"",IF($U17="GJ",X17/$P17,IF($U17="kWh éq.",X17*V_GJ_kWh/$P17))),"") | AH17: =U17 -> 0 | AO17: =SUM(AI17:AM17) -> 0 | AQ17: =IFERROR(IF(OR(AP17=0,ISBLANK($U17)),0,IF($U17="GJ",AP17*V_GES_GJ_GazNaturel,IF($U17="kWh éq.",AP17*V_GES_kWhEq_GazNaturel))),"") -> 0 | AS17: =IFERROR(IF(OR(AR17=0,ISBLANK($U17)),0,IF($U17="GJ",AR17*V_GES_GJ_Mazout2Leger,IF($U17="kWh éq.",AR17*V_GES_kWhEq_Mazout2Leger))),"") -> 0 | AU17: =IFERROR(IF(OR(AT17=0,ISBLANK($U17)),0,IF($U17="GJ",AT17*V_GES_GJ_Propane,IF($U17="kWh éq.",AT17*V_GES_kWhEq_Propane))),"") -> 0 | AW17: =SUM(AP17,AR17,AT17,AV17) -> 0 | AX17: =AO17+AW17 -> 0 | AY17: =AQ17+AS17+AU17 -> 0 | AZ17: =IF(AX17=0,"s. o.",IF(AW17=0,"Aucun combustible",AW17/AX17)) -> s. o. | BA17: {=_xlfn.IFS(L17<Listes_deroulantes!$F$55,"s. o.",AND(L17<datevigueur,M17=autre),Listes_deroulantes!$G$4,AND(L17<datevigueur,M17=bureau),Listes_deroulantes!$G$5,AND(L17<datevigueur,M17=cegep),Listes_deroulantes!$G$6,AND(L17<datevigueur,M17=Centre),Listes_deroulantes!$G$7,AND(L17<datevigueur,M17=CHSLD),Listes_deroulantes!$G$8,AND(L17<datevigueur,M17=ecole),Listes_deroulantes!$G$9,AND(L17<datevigueur,M17=ecolesec),Listes_deroulantes!$G$10,AND(L17<datevigueur,M17=Universite),Listes_deroulantes!$G$11,AND(L17>=datevigueur,L17<=Listes_deroulantes!$F$48),New2025Avant,L17<=Listes_deroulantes!$F$49,New2030Avant,L17>Listes_deroulantes!$F$50,"0%")} -> s. o. | BB17: {=_xlfn.IFS(AZ17="Aucun combustible","Oui",AND(AZ17="s. o.",BA17="s. o."),"s. o.",AND(BA17="0%",OR(AZ17<>"Aucun combustible",AZ17<>"s. o.")),IF(AZ17<=0%,"Oui","Non"),AND(BA17<>"0%",OR(AZ17<>"Aucun combustible",AZ17<>"s. o.")),IF(AZ17<BA17,"Oui","Non"))} -> s. o. | BC17: =IF(AND(AZ17="Aucun combustible",L17>datevigueur),"Oui","Non") -> Non | BE17: =IF(M17="Habitation/Autre vocation","Habitation/Autre vocation",IF(OR(P17=0,ISBLANK(P17)),"s. o.",IF(P17>0,(P17*VLOOKUP(M17,D_GES_BatimentReference,2,FALSE)),""))) -> s. o. | BF17: {=IFERROR(_xlfn.IFS(AND(AO17>0,OR(AY17=0,ISBLANK(AY17)),OR(AW17=0,ISBLANK(AW17))),"100% Énergie renouvelable",AND(OR(AY17=0,ISBLANK(AY17)),AW17>0,),"Non disponible",AY17>0,AY17,AND(AY17=0,AW17=0,AO17=0),"s. o."),"Erreur")} -> s. o. | BG17: =IFERROR(IF(BF17="100% Énergie renouvelable",BE17,BE17-BF17),"s. o.") -> s. o. | BQ17: =SUM(BK17:BO17) -> 0 | BS17: =IFERROR(IF(OR(BR17=0,ISBLANK(BJ17)),0,IF(BJ17="GJ",BR17*V_GES_GJ_GazNaturel,IF(BJ17="kWh éq.",BR17*V_GES_kWhEq_GazNaturel))),"") -> 0 | BU17: =IFERROR(IF(OR(BT17=0,ISBLANK(BJ17)),0,IF(BJ17="GJ",BT17*V_GES_GJ_Mazout2Leger,IF(BJ17="kWh éq.",BT17*V_GES_kWhEq_Mazout2Leger))),"") -> 0 | BW17: =IFERROR(IF(OR(BV17=0,ISBLANK(BJ17)),0,IF(BJ17="GJ",BV17*V_GES_GJ_Propane,IF(BJ17="kWh éq.",BV17*V_GES_kWhEq_Propane))),"") -> 0 | BY17: =BS17+BU17+BW17 -> 0 | BZ17: =SUM(BR17,BT17,BV17,BX17) -> 0 | CA17: =BQ17+BZ17 -> 0 | CB17: =AX17 -> 0 | CC17: =IFERROR(IF(ISBLANK($BJ17),"",IF($BJ17="GJ",CA17/$P17,IF($BJ17="kWh éq.",CA17*V_GJ_kWh/$P17))),"") | CD17: =AG17 | CE17: =IF(CA17=0,"s. o.",IF(AND(CA17>0,BZ17=0),"Aucun combustible",(BZ17)/CA17)) -> s. o. | CF17: {=_xlfn.IFS(L17<Listes_deroulantes!$F$55,"s. o.",AND(L17<datevigueur,M17=autre),Listes_deroulantes!$H$4,AND(L17<datevigueur,M17=bureau),Listes_deroulantes!$H$5,AND(L17<datevigueur,M17=cegep),Listes_deroulantes!$H$6,AND(L17<datevigueur,M17=Centre),Listes_deroulantes!$H$7,AND(L17<datevigueur,M17=CHSLD),Listes_deroulantes!$H$8,AND(L17<datevigueur,M17=ecole),Listes_deroulantes!$H$9,AND(L17<datevigueur,M17=ecolesec),Listes_deroulantes!$H$10,AND(L17<datevigueur,M17=Universite),Listes_deroulantes!$H$11,AND(L17>=datevigueur,L17<=Listes_deroulantes!$F$48),NEW2025Apres,L17<=Listes_deroulantes!$F$49,New2030Apres,L17>Listes_deroulantes!$F$50,"0%")} -> s. o. | CG17: {=_xlfn.IFS(CE17="Aucun combustible","Oui",AND(CE17="s. o.",CF17="s. o."),"s. o.",AND(CF17="0%",OR(CE17<>"Aucun combustible",CE17<>"s. o.")),IF(CE17<=0%,"Oui","Non"),AND(CF17<>"0%",OR(CE17<>"Aucun combustible",CE17<>"s. o.")),IF(CE17<=CF17,"Oui","Non"))} -> s. o. | CI17: =BE17 -> s. o. | CJ17: {=_xlfn.IFS(CE17="s.o","Non disponible",CE17="Aucun combustible","0",CE17>0,BY17)} -> 0 | CK17: =IFERROR(CI17-CJ17,"Non disponible") -> Non disponible
Z18: =IF(OR(V18=0,X18=0),"s.o",(-(V18-X18)/V18)) -> s.o | AA18: {=_xlfn.IFS(T18=Listes_deroulantes!$B$45,"Indisponible",T18=Listes_deroulantes!$B$43,-10%,T18=Listes_deroulantes!$B$42,-40%,T18=Listes_deroulantes!$B$41,-20%,T18=Listes_deroulantes!$B$40,-20%,T18=Listes_deroulantes!$C$35,"s. o.",T18=Listes_deroulantes!$B$44,-10%)} -> s. o. | AB18: =IF(OR(Z18="s.o",AA18="Indisponible"),"s. o.",(IF(Z18>=AA18,"Non","Oui"))) -> s. o. | AC18: =IF(OR(W18=0,Y18=0),"s.o",(-(W18-Y18)/W18)) -> s.o | AD18: {=_xlfn.IFS(T18=Listes_deroulantes!$B$45,"Aucun",T18=Listes_deroulantes!$B$44,"Aucun",T18=Listes_deroulantes!$B$43,-10%,T18=Listes_deroulantes!$B$42,"Aucun",T18=Listes_deroulantes!$B$41,"Aucun",T18=Listes_deroulantes!$B$40,"Aucun",T18=Listes_deroulantes!$C$35,"s. o.")} -> s. o. | AE18: =IF(OR(AC18="s.o",AD18="Aucun"),"s. o.",(IF(OR(AC18<=AD18,AD18="Aucun"),"Oui","Non"))) -> s. o. | AG18: =IFERROR(IF(ISBLANK($U18),"",IF($U18="GJ",X18/$P18,IF($U18="kWh éq.",X18*V_GJ_kWh/$P18))),"") | AH18: =U18 -> 0 | AO18: =SUM(AI18:AM18) -> 0 | AQ18: =IFERROR(IF(OR(AP18=0,ISBLANK($U18)),0,IF($U18="GJ",AP18*V_GES_GJ_GazNaturel,IF($U18="kWh éq.",AP18*V_GES_kWhEq_GazNaturel))),"") -> 0 | AS18: =IFERROR(IF(OR(AR18=0,ISBLANK($U18)),0,IF($U18="GJ",AR18*V_GES_GJ_Mazout2Leger,IF($U18="kWh éq.",AR18*V_GES_kWhEq_Mazout2Leger))),"") -> 0 | AU18: =IFERROR(IF(OR(AT18=0,ISBLANK($U18)),0,IF($U18="GJ",AT18*V_GES_GJ_Propane,IF($U18="kWh éq.",AT18*V_GES_kWhEq_Propane))),"") -> 0 | AW18: =SUM(AP18,AR18,AT18,AV18) -> 0 | AX18: =AO18+AW18 -> 0 | AY18: =AQ18+AS18+AU18 -> 0 | AZ18: =IF(AX18=0,"s. o.",IF(AW18=0,"Aucun combustible",AW18/AX18)) -> s. o. | BA18: {=_xlfn.IFS(L18<Listes_deroulantes!$F$55,"s. o.",AND(L18<datevigueur,M18=autre),Listes_deroulantes!$G$4,AND(L18<datevigueur,M18=bureau),Listes_deroulantes!$G$5,AND(L18<datevigueur,M18=cegep),Listes_deroulantes!$G$6,AND(L18<datevigueur,M18=Centre),Listes_deroulantes!$G$7,AND(L18<datevigueur,M18=CHSLD),Listes_deroulantes!$G$8,AND(L18<datevigueur,M18=ecole),Listes_deroulantes!$G$9,AND(L18<datevigueur,M18=ecolesec),Listes_deroulantes!$G$10,AND(L18<datevigueur,M18=Universite),Listes_deroulantes!$G$11,AND(L18>=datevigueur,L18<=Listes_deroulantes!$F$48),New2025Avant,L18<=Listes_deroulantes!$F$49,New2030Avant,L18>Listes_deroulantes!$F$50,"0%")} -> s. o. | BB18: {=_xlfn.IFS(AZ18="Aucun combustible","Oui",AND(AZ18="s. o.",BA18="s. o."),"s. o.",AND(BA18="0%",OR(AZ18<>"Aucun combustible",AZ18<>"s. o.")),IF(AZ18<=0%,"Oui","Non"),AND(BA18<>"0%",OR(AZ18<>"Aucun combustible",AZ18<>"s. o.")),IF(AZ18<BA18,"Oui","Non"))} -> s. o. | BC18: =IF(AND(AZ18="Aucun combustible",L18>datevigueur),"Oui","Non") -> Non | BE18: =IF(M18="Habitation/Autre vocation","Habitation/Autre vocation",IF(OR(P18=0,ISBLANK(P18)),"s. o.",IF(P18>0,(P18*VLOOKUP(M18,D_GES_BatimentReference,2,FALSE)),""))) -> s. o. | BF18: {=IFERROR(_xlfn.IFS(AND(AO18>0,OR(AY18=0,ISBLANK(AY18)),OR(AW18=0,ISBLANK(AW18))),"100% Énergie renouvelable",AND(OR(AY18=0,ISBLANK(AY18)),AW18>0,),"Non disponible",AY18>0,AY18,AND(AY18=0,AW18=0,AO18=0),"s. o."),"Erreur")} -> s. o. | BG18: =IFERROR(IF(BF18="100% Énergie renouvelable",BE18,BE18-BF18),"s. o.") -> s. o. | BQ18: =SUM(BK18:BO18) -> 0 | BS18: =IFERROR(IF(OR(BR18=0,ISBLANK(BJ18)),0,IF(BJ18="GJ",BR18*V_GES_GJ_GazNaturel,IF(BJ18="kWh éq.",BR18*V_GES_kWhEq_GazNaturel))),"") -> 0 | BU18: =IFERROR(IF(OR(BT18=0,ISBLANK(BJ18)),0,IF(BJ18="GJ",BT18*V_GES_GJ_Mazout2Leger,IF(BJ18="kWh éq.",BT18*V_GES_kWhEq_Mazout2Leger))),"") -> 0 | BW18: =IFERROR(IF(OR(BV18=0,ISBLANK(BJ18)),0,IF(BJ18="GJ",BV18*V_GES_GJ_Propane,IF(BJ18="kWh éq.",BV18*V_GES_kWhEq_Propane))),"") -> 0 | BY18: =BS18+BU18+BW18 -> 0 | BZ18: =SUM(BR18,BT18,BV18,BX18) -> 0 | CA18: =BQ18+BZ18 -> 0 | CB18: =AX18 -> 0 | CC18: =IFERROR(IF(ISBLANK($BJ18),"",IF($BJ18="GJ",CA18/$P18,IF($BJ18="kWh éq.",CA18*V_GJ_kWh/$P18))),"") | CD18: =AG18 | CE18: =IF(CA18=0,"s. o.",IF(AND(CA18>0,BZ18=0),"Aucun combustible",(BZ18)/CA18)) -> s. o. | CF18: {=_xlfn.IFS(L18<Listes_deroulantes!$F$55,"s. o.",AND(L18<datevigueur,M18=autre),Listes_deroulantes!$H$4,AND(L18<datevigueur,M18=bureau),Listes_deroulantes!$H$5,AND(L18<datevigueur,M18=cegep),Listes_deroulantes!$H$6,AND(L18<datevigueur,M18=Centre),Listes_deroulantes!$H$7,AND(L18<datevigueur,M18=CHSLD),Listes_deroulantes!$H$8,AND(L18<datevigueur,M18=ecole),Listes_deroulantes!$H$9,AND(L18<datevigueur,M18=ecolesec),Listes_deroulantes!$H$10,AND(L18<datevigueur,M18=Universite),Listes_deroulantes!$H$11,AND(L18>=datevigueur,L18<=Listes_deroulantes!$F$48),NEW2025Apres,L18<=Listes_deroulantes!$F$49,New2030Apres,L18>Listes_deroulantes!$F$50,"0%")} -> s. o. | CG18: {=_xlfn.IFS(CE18="Aucun combustible","Oui",AND(CE18="s. o.",CF18="s. o."),"s. o.",AND(CF18="0%",OR(CE18<>"Aucun combustible",CE18<>"s. o.")),IF(CE18<=0%,"Oui","Non"),AND(CF18<>"0%",OR(CE18<>"Aucun combustible",CE18<>"s. o.")),IF(CE18<=CF18,"Oui","Non"))} -> s. o. | CI18: =BE18 -> s. o. | CJ18: {=_xlfn.IFS(CE18="s.o","Non disponible",CE18="Aucun combustible","0",CE18>0,BY18)} -> 0 | CK18: =IFERROR(CI18-CJ18,"Non disponible") -> Non disponible
... Z200: =IF(OR(V200=0,X200=0),"s.o",(-(V200-X200)/V200)) -> s.o | AA200: {=_xlfn.IFS(T200=Listes_deroulantes!$B$45,"Indisponible",T200=Listes_deroulantes!$B$43,-10%,T200=Listes_deroulantes!$B$42,-40%,T200=Listes_deroulantes!$B$41,-20%,T200=Listes_deroulantes!$B$40,-20%,T200=Listes_deroulantes!$C$35,"s. o.",T200=Listes_deroulantes!$B$44,-10%)} -> s. o. | AB200: =IF(OR(Z200="s.o",AA200="Indisponible"),"s. o.",(IF(Z200>=AA200,"Non","Oui"))) -> s. o. | AC200: =IF(OR(W200=0,Y200=0),"s.o",(-(W200-Y200)/W200)) -> s.o | AD200: {=_xlfn.IFS(T200=Listes_deroulantes!$B$45,"Aucun",T200=Listes_deroulantes!$B$44,"Aucun",T200=Listes_deroulantes!$B$43,-10%,T200=Listes_deroulantes!$B$42,"Aucun",T200=Listes_deroulantes!$B$41,"Aucun",T200=Listes_deroulantes!$B$40,"Aucun",T200=Listes_deroulantes!$C$35,"s. o.")} -> s. o. | AE200: =IF(OR(AC200="s.o",AD200="Aucun"),"s. o.",(IF(OR(AC200<=AD200,AD200="Aucun"),"Oui","Non"))) -> s. o. | AG200: =IFERROR(IF(ISBLANK($U200),"",IF($U200="GJ",X200/$P200,IF($U200="kWh éq.",X200*V_GJ_kWh/$P200))),"") | AH200: =U200 -> 0 | AO200: =SUM(AI200:AM200) -> 0 | AQ200: =IFERROR(IF(OR(AP200=0,ISBLANK($U200)),0,IF($U200="GJ",AP200*V_GES_GJ_GazNaturel,IF($U200="kWh éq.",AP200*V_GES_kWhEq_GazNaturel))),"") -> 0 | AS200: =IFERROR(IF(OR(AR200=0,ISBLANK($U200)),0,IF($U200="GJ",AR200*V_GES_GJ_Mazout2Leger,IF($U200="kWh éq.",AR200*V_GES_kWhEq_Mazout2Leger))),"") -> 0 | AU200: =IFERROR(IF(OR(AT200=0,ISBLANK($U200)),0,IF($U200="GJ",AT200*V_GES_GJ_Propane,IF($U200="kWh éq.",AT200*V_GES_kWhEq_Propane))),"") -> 0 | AW200: =SUM(AP200,AR200,AT200,AV200) -> 0 | AX200: =AO200+AW200 -> 0 | AY200: =AQ200+AS200+AU200 -> 0 | AZ200: =IF(AX200=0,"s. o.",IF(AW200=0,"Aucun combustible",AW200/AX200)) -> s. o. | BA200: {=_xlfn.IFS(L200<Listes_deroulantes!$F$55,"s. o.",AND(L200<datevigueur,M200=autre),Listes_deroulantes!$G$4,AND(L200<datevigueur,M200=bureau),Listes_deroulantes!$G$5,AND(L200<datevigueur,M200=cegep),Listes_deroulantes!$G$6,AND(L200<datevigueur,M200=Centre),Listes_deroulantes!$G$7,AND(L200<datevigueur,M200=CHSLD),Listes_deroulantes!$G$8,AND(L200<datevigueur,M200=ecole),Listes_deroulantes!$G$9,AND(L200<datevigueur,M200=ecolesec),Listes_deroulantes!$G$10,AND(L200<datevigueur,M200=Universite),Listes_deroulantes!$G$11,AND(L200>=datevigueur,L200<=Listes_deroulantes!$F$48),New2025Avant,L200<=Listes_deroulantes!$F$49,New2030Avant,L200>Listes_deroulantes!$F$50,"0%")} -> s. o. | BB200: {=_xlfn.IFS(AZ200="Aucun combustible","Oui",AND(AZ200="s. o.",BA200="s. o."),"s. o.",AND(BA200="0%",OR(AZ200<>"Aucun combustible",AZ200<>"s. o.")),IF(AZ200<=0%,"Oui","Non"),AND(BA200<>"0%",OR(AZ200<>"Aucun combustible",AZ200<>"s. o.")),IF(AZ200<BA200,"Oui","Non"))} -> s. o. | BC200: =IF(AND(AZ200="Aucun combustible",L200>datevigueur),"Oui","Non") -> Non | BE200: =IF(M200="Habitation/Autre vocation","Habitation/Autre vocation",IF(OR(P200=0,ISBLANK(P200)),"s. o.",IF(P200>0,(P200*VLOOKUP(M200,D_GES_BatimentReference,2,FALSE)),""))) -> s. o. | BF200: {=IFERROR(_xlfn.IFS(AND(AO200>0,OR(AY200=0,ISBLANK(AY200)),OR(AW200=0,ISBLANK(AW200))),"100% Énergie renouvelable",AND(OR(AY200=0,ISBLANK(AY200)),AW200>0,),"Non disponible",AY200>0,AY200,AND(AY200=0,AW200=0,AO200=0),"s. o."),"Erreur")} -> s. o. | BG200: =IFERROR(IF(BF200="100% Énergie renouvelable",BE200,BE200-BF200),"s. o.") -> s. o. | BQ200: =SUM(BK200:BO200) -> 0 | BS200: =IFERROR(IF(OR(BR200=0,ISBLANK(BJ200)),0,IF(BJ200="GJ",BR200*V_GES_GJ_GazNaturel,IF(BJ200="kWh éq.",BR200*V_GES_kWhEq_GazNaturel))),"") -> 0 | BU200: =IFERROR(IF(OR(BT200=0,ISBLANK(BJ200)),0,IF(BJ200="GJ",BT200*V_GES_GJ_Mazout2Leger,IF(BJ200="kWh éq.",BT200*V_GES_kWhEq_Mazout2Leger))),"") -> 0 | BW200: =IFERROR(IF(OR(BV200=0,ISBLANK(BJ200)),0,IF(BJ200="GJ",BV200*V_GES_GJ_Propane,IF(BJ200="kWh éq.",BV200*V_GES_kWhEq_Propane))),"") -> 0 | BY200: =BS200+BU200+BW200 -> 0 | BZ200: =SUM(BR200,BT200,BV200,BX200) -> 0 | CA200: =BQ200+BZ200 -> 0 | CB200: =AX200 -> 0 | CC200: =IFERROR(IF(ISBLANK($BJ200),"",IF($BJ200="GJ",CA200/$P200,IF($BJ200="kWh éq.",CA200*V_GJ_kWh/$P200))),"") | CD200: =AG200 | CE200: =IF(CA200=0,"s. o.",IF(AND(CA200>0,BZ200=0),"Aucun combustible",(BZ200)/CA200)) -> s. o. | CF200: {=_xlfn.IFS(L200<Listes_deroulantes!$F$55,"s. o.",AND(L200<datevigueur,M200=autre),Listes_deroulantes!$H$4,AND(L200<datevigueur,M200=bureau),Listes_deroulantes!$H$5,AND(L200<datevigueur,M200=cegep),Listes_deroulantes!$H$6,AND(L200<datevigueur,M200=Centre),Listes_deroulantes!$H$7,AND(L200<datevigueur,M200=CHSLD),Listes_deroulantes!$H$8,AND(L200<datevigueur,M200=ecole),Listes_deroulantes!$H$9,AND(L200<datevigueur,M200=ecolesec),Listes_deroulantes!$H$10,AND(L200<datevigueur,M200=Universite),Listes_deroulantes!$H$11,AND(L200>=datevigueur,L200<=Listes_deroulantes!$F$48),NEW2025Apres,L200<=Listes_deroulantes!$F$49,New2030Apres,L200>Listes_deroulantes!$F$50,"0%")} -> s. o. | CG200: {=_xlfn.IFS(CE200="Aucun combustible","Oui",AND(CE200="s. o.",CF200="s. o."),"s. o.",AND(CF200="0%",OR(CE200<>"Aucun combustible",CE200<>"s. o.")),IF(CE200<=0%,"Oui","Non"),AND(CF200<>"0%",OR(CE200<>"Aucun combustible",CE200<>"s. o.")),IF(CE200<=CF200,"Oui","Non"))} -> s. o. | CI200: =BE200 -> s. o. | CJ200: {=_xlfn.IFS(CE200="s.o","Non disponible",CE200="Aucun combustible","0",CE200>0,BY200)} -> 0 | CK200: =IFERROR(CI200-CJ200,"Non disponible") -> Non disponible

Sheet Bât. existants
A1: Bâtiments existants | AO1: {=_xlfn.IFS(AND(ISBLANK(AE5),AG5>0),"Non disponible",AE5=0,0,AE5>0,AE5)} -> 0
A2: Information de base | J2: Informations du projet | P2: Avant le projet de conversion (référence) | AP2: Pendant l'exploitation (après la conversion)
P3: Consommations totales annuelles d'énergie | AL3: Validation des critères | AP3: Consommations totales annuelles d'énergie | BK3: Validation des critères | BO3: GES (tonne de CO2éq.)
A4: Secteur (utiliser liste déroulante) | B4: Année (utiliser liste déroulante) | C4: Nom de l'organisation propriétaire | D4: Numéro de l'organisation propriétaire | E4: Nom du bâtiment, de l'installation ou de l'immeuble | F4: Type de bâtiment, d'installation ou d'immeuble (utiliser liste déroulante) | G4: Adresse | H4: Municipalité | I4: No de région administrative | J4: Statut du projet (utiliser liste déroulante) | K4: Numéro de projet (interne à l'organisation) | L4: Vocation principale du projet (utiliser liste déroulante) | M4: Nombre d'étages | N4: Superficie du projet (m²) | O4: Commentaires | P4: Unité d'énergie (utiliser liste déroulante) | Q4: Électricité | R4: Solaire | S4: Éolien | T4: Biomasse | U4: Autre énergie renouvelable | V4: Préciser type autre | W4: Total Quantité d'énergie renouvelable | X4: Gaz naturel | Y4: Émissions de GES (tCO2éq.) - Gaz naturel | Z4: Mazout léger | AA4: Émissions de GES (tCO2éq.) - Mazout léger | AB4: Propane | AC4: Émissions de GES (tCO2éq.) - Propane | AD4: Autre | AE4: Total émissions de GES (tCO2éq.) | AF4: Quantité totale d'énergie combustible | AG4: Quantité totale d'énergie (énergie renouvelable + combustible) | AH4: Consommation unitaire | AI4: % CTA | AJ4: % CTA mazout | AK4: Proportion de combustible fossile | AL4: Pourcentage maximal à respecter | AM4: Respect du pourcentage maximal | AN4: Commentaires | AO4: GES (tCO2éq.) | AP4: Unité d'énergie | AQ4: Électricité | AR4: Solaire | AS4: Éolien | AT4: Biomasse | AU4: Autre | AV4: Préciser type autre | AW4: Quantité totale d'énergie renouvelable | AX4: Gaz naturel | AY4: Émissions de GES (tCO2eq) Gaz naturel | AZ4: Mazout léger | BA4: Émissions de GES (tCO2eq) Mazout léger | BB4: Propane | BC4: Émissions de GES (tCO2eq) Propane | BD4: Autre | BE4: Total émissions de GES (tCO2éq.) | BF4: Quantité totale d'énergie combustible | BG4: Quantité totale d'énergie (énergie renouvelable + combustible) | BH4: Consommation unitaire | BI4: % CTA | BJ4: % CTA mazout | BK4: Proportion de combustible | BL4: Pourcentage maximal à respecter | BM4: Respect du pourcentage maximal | BN4: Commentaires | BO4: Avant | BP4: Après | BQ4: GES réduits | BR4: Commentaires
W5: =SUM(Q5:U5) -> 0 | Y5: =IFERROR(IF(OR(X5=0,ISBLANK($P5)),0,IF($P5="GJ",X5*V_GES_GJ_GazNaturel,IF($P5="kWh éq.",X5*V_GES_kWhEq_GazNaturel))),"") -> 0 | AA5: =IFERROR(IF(OR(Z5=0,ISBLANK($P5)),0,IF($P5="GJ",Z5*V_GES_GJ_Mazout2Leger,IF($P5="kWh éq.",Z5*V_GES_kWhEq_Mazout2Leger))),"") -> 0 | AC5: =IFERROR(IF(OR(AB5=0,ISBLANK($P5)),0,IF($P5="GJ",AB5*V_GES_GJ_Propane,IF($P5="kWh éq.",AB5*V_GES_kWhEq_Propane))),"") -> 0 | AE5: =Y5+AA5+AC5 -> 0 | AF5: =X5+Z5+AB5+AD5 -> 0 | AG5: =W5+AF5 -> 0 | AH5: =IFERROR(IF(ISBLANK($P5),"",IF($P5="GJ",AG5/$N5,IF($P5="kWh éq.",AG5*V_GJ_kWh/$N5,""))),"") | AI5: {=IFERROR(_xlfn.IFS(DATE(RIGHT(B5,4),3,31)<Listes_deroulantes!$F$54,IF(Z5>0,Z5/AG5,"Aucun mazout"),DATE(RIGHT(B5,4),3,31)>=Listes_deroulantes!$F$54,IF(AF5>0,AF5/AG5,"Aucun combustible")),"")} | AJ5: {=_xlfn.IFS(AG5=0,"",AND(AG5>0,Z5=0),"Aucun mazout",AG5>0,Z5/AG5)} | AK5: {=_xlfn.IFS(AG5=0,0,OR(AF5=0,ISBLANK(AF5)),"Aucun combustible",AND(AF5>0,AG5>0),AF5/AG5)} -> 0 | AL5: {=IFERROR(IF(DATE(RIGHT(B5,4),3,31)<Listes_deroulantes!$F$54,VLOOKUP(L5,Listes_deroulantes!$F$3:$J$11,4,FALSE),_xlfn.IFS(DATE(RIGHT(B5,4),3,31)<Avant2025,Exist2025Avant,DATE(RIGHT(B5,4),3,31)<Avant2030,Exist2030Avant,DATE(RIGHT(B5,4),3,31)>Après2030,"0%")),"")} | AM5: {=_xlfn.IFS(OR(AI5="Aucun combustible",AI5="Aucun mazout"),"Oui",AND(AI5="",AL5=""),"",AND(AL5="0%",OR(AI5<>"Aucun combustible",AI5<>"Aucun mazout")),IF(AI5<=0%,"Oui","Non"),AND(AL5<>"0%",OR(AI5<>"Aucun combustible",AI5<>"Aucun mazout")),IF(AI5<=AL5,"Oui","Non"))} | AO5: {=_xlfn.IFS(AND(OR(AE5=0,ISBLANK(AE5)),AF5>0),"Non disponible",AND(OR(AE5=0,ISBLANK(AE5)),W5>0,OR(AF5=0,ISBLANK(AF5))),"100% Énergie renouvelable",AE5>0,AE5,AND(OR(AE5=0,ISBLANK(AE5)),OR(AF5=0,ISBLANK(AF5)),OR(W5=0,ISBLANK(W5))),"s. o.")} -> s. o. | AW5: =SUM(AQ5:AU5) -> 0 | AY5: =IFERROR(IF(OR(AX5=0,ISBLANK($AP5)),0,IF($AP5="GJ",AX5*V_GES_GJ_GazNaturel,IF($AP5="kWh éq.",AX5*V_GES_kWhEq_GazNaturel))),"") -> 0 | BA5: =IFERROR(IF(OR(AZ5=0,ISBLANK(AP5)),0,IF(AP5="GJ",AZ5*V_GES_GJ_Mazout2Leger,IF(AP5="kWh éq.",AZ5*V_GES_kWhEq_Mazout2Leger))),"") -> 0 | BC5: =IFERROR(IF(OR(BB5=0,ISBLANK(AP5)),0,IF(AP5="GJ",BB5*V_GES_GJ_Propane,IF(AP5="kWh éq.",BB5*V_GES_kWhEq_Propane))),"") -> 0 | BD5: 0 | BE5: =AY5+BA5+BC5 -> 0 | BF5: =AX5+AZ5+BB5+BD5 -> 0 | BG5: =AW5+BF5 -> 0 | BH5: =IFERROR(IF(ISBLANK($AP5),"",IF($AP5="GJ",BG5/$N5,IF($AP5="kWh éq.",BG5*V_GJ_kWh/$N5,""))),"") | BI5: {=IFERROR(_xlfn.IFS(DATE(RIGHT(B5,4),3,31)<Listes_deroulantes!$F$54,IF(AZ5>0,AZ5/BG5,"Aucun mazout"),DATE(RIGHT(B5,4),3,31)>=Listes_deroulantes!$F$54,IF(BF5>0,BF5/BG5,"Aucun combustible")),"")} | BJ5: {=_xlfn.IFS(BG5=0,"",AND(BG5>0,AZ5=0),"Aucun mazout",BG5>0,AZ5/BG5)} | BK5: =IF(OR(BG5=0,ISBLANK(BG5)),"Non disponible",IF(AND(BF5=0,BG5>0),"Aucun combustible",BF5/BG5)) -> Non disponible | BL5: {=IFERROR(IF(DATE(RIGHT(B5,4),3,31)<Listes_deroulantes!$F$54,VLOOKUP(L5,Listes_deroulantes!$F$3:$J$11,4,FALSE),_xlfn.IFS(DATE(RIGHT(B5,4),3,31)<Avant2025,Exist20205Apres,DATE(RIGHT(B5,4),3,31)<Avant2030,Exist2030Apres,DATE(RIGHT(B5,4),3,31)>Après2030,"0%")),"")} | BM5: {=_xlfn.IFS(OR(BI5="Aucun combustible",BI5="Aucun mazout"),"Oui",AND(BI5="",BL5=""),"",AND(BL5="0%",OR(BI5<>"Aucun combustible",BI5<>"Aucun mazout")),IF(BI5<=0%,"Oui","Non"),AND(BL5<>"0%",OR(BI5<>"Aucun combustible",BI5<>"Aucun mazout")),IF(BI5<=BL5,"Oui","Non"))} | BO5: =AO5 -> s. o. | BP5: {=_xlfn.IFS(AND(BF5>0,OR(BE5=0,ISBLANK(BE5))),"Non disponible",AND(OR(BE5=0,ISBLANK(BE5)),OR(BF5=0,ISBLANK(BF5)),AW5>0),"100% Énergie renouvelable",BE5>0,BE5,AND(OR(BE5=0,ISBLANK(BE5)),OR(BF5=0,ISBLANK(BF5)),OR(AW5=0,ISBLANK(AW5))),"s. o.")} -> s. o. | BQ5: {=IFERROR(_xlfn.IFS(AND(BO5="100% Énergie renouvelable",BP5="100% Énergie renouvelable"),"Aucun GES à réduire",AND(BO5<>"100% Énergie renouvelable",BP5="100% Énergie renouvelable"),BO5,AND(BO5<>"100% Énergie renouvelable",BP5<>"100% Énergie renouvelable"),BO5-BP5,AND(BO5="100% Énergie renouvelable",BP5<>"100% Énergie renouvelable"),"Fournir une explication"),"s. o.")} -> s. o.
W6: =SUM(Q6:U6) -> 0 | Y6: =IFERROR(IF(OR(X6=0,ISBLANK($P6)),0,IF($P6="GJ",X6*V_GES_GJ_GazNaturel,IF($P6="kWh éq.",X6*V_GES_kWhEq_GazNaturel))),"") -> 0 | AA6: =IFERROR(IF(OR(Z6=0,ISBLANK($P6)),0,IF($P6="GJ",Z6*V_GES_GJ_Mazout2Leger,IF($P6="kWh éq.",Z6*V_GES_kWhEq_Mazout2Leger))),"") -> 0 | AC6: =IFERROR(IF(OR(AB6=0,ISBLANK($P6)),0,IF($P6="GJ",AB6*V_GES_GJ_Propane,IF($P6="kWh éq.",AB6*V_GES_kWhEq_Propane))),"") -> 0 | AE6: =Y6+AA6+AC6 -> 0 | AF6: =X6+Z6+AB6+AD6 -> 0 | AG6: =W6+AF6 -> 0 | AH6: =IFERROR(IF(ISBLANK($P6),"",IF($P6="GJ",AG6/$N6,IF($P6="kWh éq.",AG6*V_GJ_kWh/$N6,""))),"") | AI6: {=IFERROR(_xlfn.IFS(DATE(RIGHT(B6,4),3,31)<Listes_deroulantes!$F$54,IF(Z6>0,Z6/AG6,"Aucun mazout"),DATE(RIGHT(B6,4),3,31)>=Listes_deroulantes!$F$54,IF(AF6>0,AF6/AG6,"Aucun combustible")),"")} | AJ6: {=_xlfn.IFS(AG6=0,"",AND(AG6>0,Z6=0),"Aucun mazout",AG6>0,Z6/AG6)} | AK6: {=_xlfn.IFS(AG6=0,0,OR(AF6=0,ISBLANK(AF6)),"Aucun combustible",AND(AF6>0,AG6>0),AF6/AG6)} -> 0 | AL6: {=IFERROR(IF(DATE(RIGHT(B6,4),3,31)<Listes_deroulantes!$F$54,VLOOKUP(L6,Listes_deroulantes!$F$3:$J$11,4,FALSE),_xlfn.IFS(DATE(RIGHT(B6,4),3,31)<Avant2025,Exist2025Avant,DATE(RIGHT(B6,4),3,31)<Avant2030,Exist2030Avant,DATE(RIGHT(B6,4),3,31)>Après2030,"0%")),"")} | AM6: {=_xlfn.IFS(OR(AI6="Aucun combustible",AI6="Aucun mazout"),"Oui",AND(AI6="",AL6=""),"",AND(AL6="0%",OR(AI6<>"Aucun combustible",AI6<>"Aucun mazout")),IF(AI6<=0%,"Oui","Non"),AND(AL6<>"0%",OR(AI6<>"Aucun combustible",AI6<>"Aucun mazout")),IF(AI6<=AL6,"Oui","Non"))} | AO6: {=_xlfn.IFS(AND(OR(AE6=0,ISBLANK(AE6)),AF6>0),"Non disponible",AND(OR(AE6=0,ISBLANK(AE6)),W6>0,OR(AF6=0,ISBLANK(AF6))),"100% Énergie renouvelable",AE6>0,AE6,AND(OR(AE6=0,ISBLANK(AE6)),OR(AF6=0,ISBLANK(AF6)),OR(W6=0,ISBLANK(W6))),"s. o.")} -> s. o. | AW6: =SUM(AQ6:AU6) -> 0 | AY6: =IFERROR(IF(OR(AX6=0,ISBLANK($AP6)),0,IF($AP6="GJ",AX6*V_GES_GJ_GazNaturel,IF($AP6="kWh éq.",AX6*V_GES_kWhEq_GazNaturel))),"") -> 0 | BA6: =IFERROR(IF(OR(AZ6=0,ISBLANK(AP6)),0,IF(AP6="GJ",AZ6*V_GES_GJ_Mazout2Leger,IF(AP6="kWh éq.",AZ6*V_GES_kWhEq_Mazout2Leger))),"") -> 0 | BC6: =IFERROR(IF(OR(BB6=0,ISBLANK(AP6)),0,IF(AP6="GJ",BB6*V_GES_GJ_Propane,IF(AP6="kWh éq.",BB6*V_GES_kWhEq_Propane))),"") -> 0 | BE6: =AY6+BA6+BC6 -> 0 | BF6: =AX6+AZ6+BB6+BD6 -> 0 | BG6: =AW6+BF6 -> 0 | BH6: =IFERROR(IF(ISBLANK($AP6),"",IF($AP6="GJ",BG6/$N6,IF($AP6="kWh éq.",BG6*V_GJ_kWh/$N6,""))),"") | BI6: {=IFERROR(_xlfn.IFS(DATE(RIGHT(B6,4),3,31)<Listes_deroulantes!$F$54,IF(AZ6>0,AZ6/BG6,"Aucun mazout"),DATE(RIGHT(B6,4),3,31)>=Listes_deroulantes!$F$54,IF(BF6>0,BF6/BG6,"Aucun combustible")),"")} | BJ6: {=_xlfn.IFS(BG6=0,"",AND(BG6>0,AZ6=0),"Aucun mazout",BG6>0,AZ6/BG6)} | BK6: =IF(OR(BG6=0,ISBLANK(BG6)),"Non disponible",IF(AND(BF6=0,BG6>0),"Aucun combustible",BF6/BG6)) -> Non disponible | BL6: {=IFERROR(IF(DATE(RIGHT(B6,4),3,31)<Listes_deroulantes!$F$54,VLOOKUP(L6,Listes_deroulantes!$F$3:$J$11,4,FALSE),_xlfn.IFS(DATE(RIGHT(B6,4),3,31)<Avant2025,Exist20205Apres,DATE(RIGHT(B6,4),3,31)<Avant2030,Exist2030Apres,DATE(RIGHT(B6,4),3,31)>Après2030,"0%")),"")} | BM6: {=_xlfn.IFS(OR(BI6="Aucun combustible",BI6="Aucun mazout"),"Oui",AND(BI6="",BL6=""),"",AND(BL6="0%",OR(BI6<>"Aucun combustible",BI6<>"Aucun mazout")),IF(BI6<=0%,"Oui","Non"),AND(BL6<>"0%",OR(BI6<>"Aucun combustible",BI6<>"Aucun mazout")),IF(BI6<=BL6,"Oui","Non"))} | BO6: =AO6 -> s. o. | BP6: {=_xlfn.IFS(AND(BF6>0,OR(BE6=0,ISBLANK(BE6))),"Non disponible",AND(OR(BE6=0,ISBLANK(BE6)),OR(BF6=0,ISBLANK(BF6)),AW6>0),"100% Énergie renouvelable",BE6>0,BE6,AND(OR(BE6=0,ISBLANK(BE6)),OR(BF6=0,ISBLANK(BF6)),OR(AW6=0,ISBLANK(AW6))),"s. o.")} -> s. o. | BQ6: {=IFERROR(_xlfn.IFS(AND(BO6="100% Énergie renouvelable",BP6="100% Énergie renouvelable"),"Aucun GES à réduire",AND(BO6<>"100% Énergie renouvelable",BP6="100% Énergie renouvelable"),BO6,AND(BO6<>"100% Énergie renouvelable",BP6<>"100% Énergie renouvelable"),BO6-BP6,AND(BO6="100% Énergie renouvelable",BP6<>"100% Énergie renouvelable"),"Fournir une explication"),"s. o.")} -> s. o.
W7: =SUM(Q7:U7) -> 0 | Y7: =IFERROR(IF(OR(X7=0,ISBLANK($P7)),0,IF($P7="GJ",X7*V_GES_GJ_GazNaturel,IF($P7="kWh éq.",X7*V_GES_kWhEq_GazNaturel))),"") -> 0 | AA7: =IFERROR(IF(OR(Z7=0,ISBLANK($P7)),0,IF($P7="GJ",Z7*V_GES_GJ_Mazout2Leger,IF($P7="kWh éq.",Z7*V_GES_kWhEq_Mazout2Leger))),"") -> 0 | AC7: =IFERROR(IF(OR(AB7=0,ISBLANK($P7)),0,IF($P7="GJ",AB7*V_GES_GJ_Propane,IF($P7="kWh éq.",AB7*V_GES_kWhEq_Propane))),"") -> 0 | AE7: =Y7+AA7+AC7 -> 0 | AF7: =X7+Z7+AB7+AD7 -> 0 | AG7: =W7+AF7 -> 0 | AH7: =IFERROR(IF(ISBLANK($P7),"",IF($P7="GJ",AG7/$N7,IF($P7="kWh éq.",AG7*V_GJ_kWh/$N7,""))),"") | AI7: {=IFERROR(_xlfn.IFS(DATE(RIGHT(B7,4),3,31)<Listes_deroulantes!$F$54,IF(Z7>0,Z7/AG7,"Aucun mazout"),DATE(RIGHT(B7,4),3,31)>=Listes_deroulantes!$F$54,IF(AF7>0,AF7/AG7,"Aucun combustible")),"")} | AJ7: {=_xlfn.IFS(AG7=0,"",AND(AG7>0,Z7=0),"Aucun mazout",AG7>0,Z7/AG7)} | AK7: {=_xlfn.IFS(AG7=0,0,OR(AF7=0,ISBLANK(AF7)),"Aucun combustible",AND(AF7>0,AG7>0),AF7/AG7)} -> 0 | AL7: {=IFERROR(IF(DATE(RIGHT(B7,4),3,31)<Listes_deroulantes!$F$54,VLOOKUP(L7,Listes_deroulantes!$F$3:$J$11,4,FALSE),_xlfn.IFS(DATE(RIGHT(B7,4),3,31)<Avant2025,Exist2025Avant,DATE(RIGHT(B7,4),3,31)<Avant2030,Exist2030Avant,DATE(RIGHT(B7,4),3,31)>Après2030,"0%")),"")} | AM7: {=_xlfn.IFS(OR(AI7="Aucun combustible",AI7="Aucun mazout"),"Oui",AND(AI7="",AL7=""),"",AND(AL7="0%",OR(AI7<>"Aucun combustible",AI7<>"Aucun mazout")),IF(AI7<=0%,"Oui","Non"),AND(AL7<>"0%",OR(AI7<>"Aucun combustible",AI7<>"Aucun mazout")),IF(AI7<=AL7,"Oui","Non"))} | AO7: {=_xlfn.IFS(AND(OR(AE7=0,ISBLANK(AE7)),AF7>0),"Non disponible",AND(OR(AE7=0,ISBLANK(AE7)),W7>0,OR(AF7=0,ISBLANK(AF7))),"100% Énergie renouvelable",AE7>0,AE7,AND(OR(AE7=0,ISBLANK(AE7)),OR(AF7=0,ISBLANK(AF7)),OR(W7=0,ISBLANK(W7))),"s. o.")} -> s. o. | AW7: =SUM(AQ7:AU7) -> 0 | AY7: =IFERROR(IF(OR(AX7=0,ISBLANK($AP7)),0,IF($AP7="GJ",AX7*V_GES_GJ_GazNaturel,IF($AP7="kWh éq.",AX7*V_GES_kWhEq_GazNaturel))),"") -> 0 | BA7: =IFERROR(IF(OR(AZ7=0,ISBLANK(AP7)),0,IF(AP7="GJ",AZ7*V_GES_GJ_Mazout2Leger,IF(AP7="kWh éq.",AZ7*V_GES_kWhEq_Mazout2Leger))),"") -> 0 | BC7: =IFERROR(IF(OR(BB7=0,ISBLANK(AP7)),0,IF(AP7="GJ",BB7*V_GES_GJ_Propane,IF(AP7="kWh éq.",BB7*V_GES_kWhEq_Propane))),"") -> 0 | BE7: =AY7+BA7+BC7 -> 0 | BF7: =AX7+AZ7+BB7+BD7 -> 0 | BG7: =AW7+BF7 -> 0 | BH7: =IFERROR(IF(ISBLANK($AP7),"",IF($AP7="GJ",BG7/$N7,IF($AP7="kWh éq.",BG7*V_GJ_kWh/$N7,""))),"") | BI7: {=IFERROR(_xlfn.IFS(DATE(RIGHT(B7,4),3,31)<Listes_deroulantes!$F$54,IF(AZ7>0,AZ7/BG7,"Aucun mazout"),DATE(RIGHT(B7,4),3,31)>=Listes_deroulantes!$F$54,IF(BF7>0,BF7/BG7,"Aucun combustible")),"")} | BJ7: {=_xlfn.IFS(BG7=0,"",AND(BG7>0,AZ7=0),"Aucun mazout",BG7>0,AZ7/BG7)} | BK7: =IF(OR(BG7=0,ISBLANK(BG7)),"Non disponible",IF(AND(BF7=0,BG7>0),"Aucun combustible",BF7/BG7)) -> Non disponible | BL7: {=IFERROR(IF(DATE(RIGHT(B7,4),3,31)<Listes_deroulantes!$F$54,VLOOKUP(L7,Listes_deroulantes!$F$3:$J$11,4,FALSE),_xlfn.IFS(DATE(RIGHT(B7,4),3,31)<Avant2025,Exist20205Apres,DATE(RIGHT(B7,4),3,31)<Avant2030,Exist2030Apres,DATE(RIGHT(B7,4),3,31)>Après2030,"0%")),"")} | BM7: {=_xlfn.IFS(OR(BI7="Aucun combustible",BI7="Aucun mazout"),"Oui",AND(BI7="",BL7=""),"",AND(BL7="0%",OR(BI7<>"Aucun combustible",BI7<>"Aucun mazout")),IF(BI7<=0%,"Oui","Non"),AND(BL7<>"0%",OR(BI7<>"Aucun combustible",BI7<>"Aucun mazout")),IF(BI7<=BL7,"Oui","Non"))} | BO7: =AO7 -> s. o. | BP7: {=_xlfn.IFS(AND(BF7>0,OR(BE7=0,ISBLANK(BE7))),"Non disponible",AND(OR(BE7=0,ISBLANK(BE7)),OR(BF7=0,ISBLANK(BF7)),AW7>0),"100% Énergie renouvelable",BE7>0,BE7,AND(OR(BE7=0,ISBLANK(BE7)),OR(BF7=0,ISBLANK(BF7)),OR(AW7=0,ISBLANK(AW7))),"s. o.")} -> s. o. | BQ7: {=IFERROR(_xlfn.IFS(AND(BO7="100% Énergie renouvelable",BP7="100% Énergie renouvelable"),"Aucun GES à réduire",AND(BO7<>"100% Énergie renouvelable",BP7="100% Énergie renouvelable"),BO7,AND(BO7<>"100% Énergie renouvelable",BP7<>"100% Énergie renouvelable"),BO7-BP7,AND(BO7="100% Énergie renouvelable",BP7<>"100% Énergie renouvelable"),"Fournir une explication"),"s. o.")} -> s. o.
W8: =SUM(Q8:U8) -> 0 | Y8: =IFERROR(IF(OR(X8=0,ISBLANK($P8)),0,IF($P8="GJ",X8*V_GES_GJ_GazNaturel,IF($P8="kWh éq.",X8*V_GES_kWhEq_GazNaturel))),"") -> 0 | AA8: =IFERROR(IF(OR(Z8=0,ISBLANK($P8)),0,IF($P8="GJ",Z8*V_GES_GJ_Mazout2Leger,IF($P8="kWh éq.",Z8*V_GES_kWhEq_Mazout2Leger))),"") -> 0 | AC8: =IFERROR(IF(OR(AB8=0,ISBLANK($P8)),0,IF($P8="GJ",AB8*V_GES_GJ_Propane,IF($P8="kWh éq.",AB8*V_GES_kWhEq_Propane))),"") -> 0 | AE8: =Y8+AA8+AC8 -> 0 | AF8: =X8+Z8+AB8+AD8 -> 0 | AG8: =W8+AF8 -> 0 | AH8: =IFERROR(IF(ISBLANK($P8),"",IF($P8="GJ",AG8/$N8,IF($P8="kWh éq.",AG8*V_GJ_kWh/$N8,""))),"") | AI8: {=IFERROR(_xlfn.IFS(DATE(RIGHT(B8,4),3,31)<Listes_deroulantes!$F$54,IF(Z8>0,Z8/AG8,"Aucun mazout"),DATE(RIGHT(B8,4),3,31)>=Listes_deroulantes!$F$54,IF(AF8>0,AF8/AG8,"Aucun combustible")),"")} | AJ8: {=_xlfn.IFS(AG8=0,"",AND(AG8>0,Z8=0),"Aucun mazout",AG8>0,Z8/AG8)} | AK8: {=_xlfn.IFS(AG8=0,0,OR(AF8=0,ISBLANK(AF8)),"Aucun combustible",AND(AF8>0,AG8>0),AF8/AG8)} -> 0 | AL8: {=IFERROR(IF(DATE(RIGHT(B8,4),3,31)<Listes_deroulantes!$F$54,VLOOKUP(L8,Listes_deroulantes!$F$3:$J$11,4,FALSE),_xlfn.IFS(DATE(RIGHT(B8,4),3,31)<Avant2025,Exist2025Avant,DATE(RIGHT(B8,4),3,31)<Avant2030,Exist2030Avant,DATE(RIGHT(B8,4),3,31)>Après2030,"0%")),"")} | AM8: {=_xlfn.IFS(OR(AI8="Aucun combustible",AI8="Aucun mazout"),"Oui",AND(AI8="",AL8=""),"",AND(AL8="0%",OR(AI8<>"Aucun combustible",AI8<>"Aucun mazout")),IF(AI8<=0%,"Oui","Non"),AND(AL8<>"0%",OR(AI8<>"Aucun combustible",AI8<>"Aucun mazout")),IF(AI8<=AL8,"Oui","Non"))} | AO8: {=_xlfn.IFS(AND(OR(AE8=0,ISBLANK(AE8)),AF8>0),"Non disponible",AND(OR(AE8=0,ISBLANK(AE8)),W8>0,OR(AF8=0,ISBLANK(AF8))),"100% Énergie renouvelable",AE8>0,AE8,AND(OR(AE8=0,ISBLANK(AE8)),OR(AF8=0,ISBLANK(AF8)),OR(W8=0,ISBLANK(W8))),"s. o.")} -> s. o. | AW8: =SUM(AQ8:AU8) -> 0 | AY8: =IFERROR(IF(OR(AX8=0,ISBLANK($AP8)),0,IF($AP8="GJ",AX8*V_GES_GJ_GazNaturel,IF($AP8="kWh éq.",AX8*V_GES_kWhEq_GazNaturel))),"") -> 0 | BA8: =IFERROR(IF(OR(AZ8=0,ISBLANK(AP8)),0,IF(AP8="GJ",AZ8*V_GES_GJ_Mazout2Leger,IF(AP8="kWh éq.",AZ8*V_GES_kWhEq_Mazout2Leger))),"") -> 0 | BC8: =IFERROR(IF(OR(BB8=0,ISBLANK(AP8)),0,IF(AP8="GJ",BB8*V_GES_GJ_Propane,IF(AP8="kWh éq.",BB8*V_GES_kWhEq_Propane))),"") -> 0 | BE8: =AY8+BA8+BC8 -> 0 | BF8: =AX8+AZ8+BB8+BD8 -> 0 | BG8: =AW8+BF8 -> 0 | BH8: =IFERROR(IF(ISBLANK($AP8),"",IF($AP8="GJ",BG8/$N8,IF($AP8="kWh éq.",BG8*V_GJ_kWh/$N8,""))),"") | BI8: {=IFERROR(_xlfn.IFS(DATE(RIGHT(B8,4),3,31)<Listes_deroulantes!$F$54,IF(AZ8>0,AZ8/BG8,"Aucun mazout"),DATE(RIGHT(B8,4),3,31)>=Listes_deroulantes!$F$54,IF(BF8>0,BF8/BG8,"Aucun combustible")),"")} | BJ8: {=_xlfn.IFS(BG8=0,"",AND(BG8>0,AZ8=0),"Aucun mazout",BG8>0,AZ8/BG8)} | BK8: =IF(OR(BG8=0,ISBLANK(BG8)),"Non disponible",IF(AND(BF8=0,BG8>0),"Aucun combustible",BF8/BG8)) -> Non disponible | BL8: {=IFERROR(IF(DATE(RIGHT(B8,4),3,31)<Listes_deroulantes!$F$54,VLOOKUP(L8,Listes_deroulantes!$F$3:$J$11,4,FALSE),_xlfn.IFS(DATE(RIGHT(B8,4),3,31)<Avant2025,Exist20205Apres,DATE(RIGHT(B8,4),3,31)<Avant2030,Exist2030Apres,DATE(RIGHT(B8,4),3,31)>Après2030,"0%")),"")} | BM8: {=_xlfn.IFS(OR(BI8="Aucun combustible",BI8="Aucun mazout"),"Oui",AND(BI8="",BL8=""),"",AND(BL8="0%",OR(BI8<>"Aucun combustible",BI8<>"Aucun mazout")),IF(BI8<=0%,"Oui","Non"),AND(BL8<>"0%",OR(BI8<>"Aucun combustible",BI8<>"Aucun mazout")),IF(BI8<=BL8,"Oui","Non"))} | BO8: =AO8 -> s. o. | BP8: {=_xlfn.IFS(AND(BF8>0,OR(BE8=0,ISBLANK(BE8))),"Non disponible",AND(OR(BE8=0,ISBLANK(BE8)),OR(BF8=0,ISBLANK(BF8)),AW8>0),"100% Énergie renouvelable",BE8>0,BE8,AND(OR(BE8=0,ISBLANK(BE8)),OR(BF8=0,ISBLANK(BF8)),OR(AW8=0,ISBLANK(AW8))),"s. o.")} -> s. o. | BQ8: {=IFERROR(_xlfn.IFS(AND(BO8="100% Énergie renouvelable",BP8="100% Énergie renouvelable"),"Aucun GES à réduire",AND(BO8<>"100% Énergie renouvelable",BP8="100% Énergie renouvelable"),BO8,AND(BO8<>"100% Énergie renouvelable",BP8<>"100% Énergie renouvelable"),BO8-BP8,AND(BO8="100% Énergie renouvelable",BP8<>"100% Énergie renouvelable"),"Fournir une explication"),"s. o.")} -> s. o.
W9: =SUM(Q9:U9) -> 0 | Y9: =IFERROR(IF(OR(X9=0,ISBLANK($P9)),0,IF($P9="GJ",X9*V_GES_GJ_GazNaturel,IF($P9="kWh éq.",X9*V_GES_kWhEq_GazNaturel))),"") -> 0 | AA9: =IFERROR(IF(OR(Z9=0,ISBLANK($P9)),0,IF($P9="GJ",Z9*V_GES_GJ_Mazout2Leger,IF($P9="kWh éq.",Z9*V_GES_kWhEq_Mazout2Leger))),"") -> 0 | AC9: =IFERROR(IF(OR(AB9=0,ISBLANK($P9)),0,IF($P9="GJ",AB9*V_GES_GJ_Propane,IF($P9="kWh éq.",AB9*V_GES_kWhEq_Propane))),"") -> 0 | AE9: =Y9+AA9+AC9 -> 0 | AF9: =X9+Z9+AB9+AD9 -> 0 | AG9: =W9+AF9 -> 0 | AH9: =IFERROR(IF(ISBLANK($P9),"",IF($P9="GJ",AG9/$N9,IF($P9="kWh éq.",AG9*V_GJ_kWh/$N9,""))),"") | AI9: {=IFERROR(_xlfn.IFS(DATE(RIGHT(B9,4),3,31)<Listes_deroulantes!$F$54,IF(Z9>0,Z9/AG9,"Aucun mazout"),DATE(RIGHT(B9,4),3,31)>=Listes_deroulantes!$F$54,IF(AF9>0,AF9/AG9,"Aucun combustible")),"")} | AJ9: {=_xlfn.IFS(AG9=0,"",AND(AG9>0,Z9=0),"Aucun mazout",AG9>0,Z9/AG9)} | AK9: {=_xlfn.IFS(AG9=0,0,OR(AF9=0,ISBLANK(AF9)),"Aucun combustible",AND(AF9>0,AG9>0),AF9/AG9)} -> 0 | AL9: {=IFERROR(IF(DATE(RIGHT(B9,4),3,31)<Listes_deroulantes!$F$54,VLOOKUP(L9,Listes_deroulantes!$F$3:$J$11,4,FALSE),_xlfn.IFS(DATE(RIGHT(B9,4),3,31)<Avant2025,Exist2025Avant,DATE(RIGHT(B9,4),3,31)<Avant2030,Exist2030Avant,DATE(RIGHT(B9,4),3,31)>Après2030,"0%")),"")} | AM9: {=_xlfn.IFS(OR(AI9="Aucun combustible",AI9="Aucun mazout"),"Oui",AND(AI9="",AL9=""),"",AND(AL9="0%",OR(AI9<>"Aucun combustible",AI9<>"Aucun mazout")),IF(AI9<=0%,"Oui","Non"),AND(AL9<>"0%",OR(AI9<>"Aucun combustible",AI9<>"Aucun mazout")),IF(AI9<=AL9,"Oui","Non"))} | AO9: {=_xlfn.IFS(AND(OR(AE9=0,ISBLANK(AE9)),AF9>0),"Non disponible",AND(OR(AE9=0,ISBLANK(AE9)),W9>0,OR(AF9=0,ISBLANK(AF9))),"100% Énergie renouvelable",AE9>0,AE9,AND(OR(AE9=0,ISBLANK(AE9)),OR(AF9=0,ISBLANK(AF9)),OR(W9=0,ISBLANK(W9))),"s. o.")} -> s. o. | AW9: =SUM(AQ9:AU9) -> 0 | AY9: =IFERROR(IF(OR(AX9=0,ISBLANK($AP9)),0,IF($AP9="GJ",AX9*V_GES_GJ_GazNaturel,IF($AP9="kWh éq.",AX9*V_GES_kWhEq_GazNaturel))),"") -> 0 | BA9: =IFERROR(IF(OR(AZ9=0,ISBLANK(AP9)),0,IF(AP9="GJ",AZ9*V_GES_GJ_Mazout2Leger,IF(AP9="kWh éq.",AZ9*V_GES_kWhEq_Mazout2Leger))),"") -> 0 | BC9: =IFERROR(IF(OR(BB9=0,ISBLANK(AP9)),0,IF(AP9="GJ",BB9*V_GES_GJ_Propane,IF(AP9="kWh éq.",BB9*V_GES_kWhEq_Propane))),"") -> 0 | BE9: =AY9+BA9+BC9 -> 0 | BF9: =AX9+AZ9+BB9+BD9 -> 0 | BG9: =AW9+BF9 -> 0 | BH9: =IFERROR(IF(ISBLANK($AP9),"",IF($AP9="GJ",BG9/$N9,IF($AP9="kWh éq.",BG9*V_GJ_kWh/$N9,""))),"") | BI9: {=IFERROR(_xlfn.IFS(DATE(RIGHT(B9,4),3,31)<Listes_deroulantes!$F$54,IF(AZ9>0,AZ9/BG9,"Aucun mazout"),DATE(RIGHT(B9,4),3,31)>=Listes_deroulantes!$F$54,IF(BF9>0,BF9/BG9,"Aucun combustible")),"")} | BJ9: {=_xlfn.IFS(BG9=0,"",AND(BG9>0,AZ9=0),"Aucun mazout",BG9>0,AZ9/BG9)} | BK9: =IF(OR(BG9=0,ISBLANK(BG9)),"Non disponible",IF(AND(BF9=0,BG9>0),"Aucun combustible",BF9/BG9)) -> Non disponible | BL9: {=IFERROR(IF(DATE(RIGHT(B9,4),3,31)<Listes_deroulantes!$F$54,VLOOKUP(L9,Listes_deroulantes!$F$3:$J$11,4,FALSE),_xlfn.IFS(DATE(RIGHT(B9,4),3,31)<Avant2025,Exist20205Apres,DATE(RIGHT(B9,4),3,31)<Avant2030,Exist2030Apres,DATE(RIGHT(B9,4),3,31)>Après2030,"0%")),"")} | BM9: {=_xlfn.IFS(OR(BI9="Aucun combustible",BI9="Aucun mazout"),"Oui",AND(BI9="",BL9=""),"",AND(BL9="0%",OR(BI9<>"Aucun combustible",BI9<>"Aucun mazout")),IF(BI9<=0%,"Oui","Non"),AND(BL9<>"0%",OR(BI9<>"Aucun combustible",BI9<>"Aucun mazout")),IF(BI9<=BL9,"Oui","Non"))} | BO9: =AO9 -> s. o. | BP9: {=_xlfn.IFS(AND(BF9>0,OR(BE9=0,ISBLANK(BE9))),"Non disponible",AND(OR(BE9=0,ISBLANK(BE9)),OR(BF9=0,ISBLANK(BF9)),AW9>0),"100% Énergie renouvelable",BE9>0,BE9,AND(OR(BE9=0,ISBLANK(BE9)),OR(BF9=0,ISBLANK(BF9)),OR(AW9=0,ISBLANK(AW9))),"s. o.")} -> s. o. | BQ9: {=IFERROR(_xlfn.IFS(AND(BO9="100% Énergie renouvelable",BP9="100% Énergie renouvelable"),"Aucun GES à réduire",AND(BO9<>"100% Énergie renouvelable",BP9="100% Énergie renouvelable"),BO9,AND(BO9<>"100% Énergie renouvelable",BP9<>"100% Énergie renouvelable"),BO9-BP9,AND(BO9="100% Énergie renouvelable",BP9<>"100% Énergie renouvelable"),"Fournir une explication"),"s. o.")} -> s. o.
W10: =SUM(Q10:U10) -> 0 | Y10: =IFERROR(IF(OR(X10=0,ISBLANK($P10)),0,IF($P10="GJ",X10*V_GES_GJ_GazNaturel,IF($P10="kWh éq.",X10*V_GES_kWhEq_GazNaturel))),"") -> 0 | AA10: =IFERROR(IF(OR(Z10=0,ISBLANK($P10)),0,IF($P10="GJ",Z10*V_GES_GJ_Mazout2Leger,IF($P10="kWh éq.",Z10*V_GES_kWhEq_Mazout2Leger))),"") -> 0 | AC10: =IFERROR(IF(OR(AB10=0,ISBLANK($P10)),0,IF($P10="GJ",AB10*V_GES_GJ_Propane,IF($P10="kWh éq.",AB10*V_GES_kWhEq_Propane))),"") -> 0 | AE10: =Y10+AA10+AC10 -> 0 | AF10: =X10+Z10+AB10+AD10 -> 0 | AG10: =W10+AF10 -> 0 | AH10: =IFERROR(IF(ISBLANK($P10),"",IF($P10="GJ",AG10/$N10,IF($P10="kWh éq.",AG10*V_GJ_kWh/$N10,""))),"") | AI10: {=IFERROR(_xlfn.IFS(DATE(RIGHT(B10,4),3,31)<Listes_deroulantes!$F$54,IF(Z10>0,Z10/AG10,"Aucun mazout"),DATE(RIGHT(B10,4),3,31)>=Listes_deroulantes!$F$54,IF(AF10>0,AF10/AG10,"Aucun combustible")),"")} | AJ10: {=_xlfn.IFS(AG10=0,"",AND(AG10>0,Z10=0),"Aucun mazout",AG10>0,Z10/AG10)} | AK10: {=_xlfn.IFS(AG10=0,0,OR(AF10=0,ISBLANK(AF10)),"Aucun combustible",AND(AF10>0,AG10>0),AF10/AG10)} -> 0 | AL10: {=IFERROR(IF(DATE(RIGHT(B10,4),3,31)<Listes_deroulantes!$F$54,VLOOKUP(L10,Listes_deroulantes!$F$3:$J$11,4,FALSE),_xlfn.IFS(DATE(RIGHT(B10,4),3,31)<Avant2025,Exist2025Avant,DATE(RIGHT(B10,4),3,31)<Avant2030,Exist2030Avant,DATE(RIGHT(B10,4),3,31)>Après2030,"0%")),"")} | AM10: {=_xlfn.IFS(OR(AI10="Aucun combustible",AI10="Aucun mazout"),"Oui",AND(AI10="",AL10=""),"",AND(AL10="0%",OR(AI10<>"Aucun combustible",AI10<>"Aucun mazout")),IF(AI10<=0%,"Oui","Non"),AND(AL10<>"0%",OR(AI10<>"Aucun combustible",AI10<>"Aucun mazout")),IF(AI10<=AL10,"Oui","Non"))} | AO10: {=_xlfn.IFS(AND(OR(AE10=0,ISBLANK(AE10)),AF10>0),"Non disponible",AND(OR(AE10=0,ISBLANK(AE10)),W10>0,OR(AF10=0,ISBLANK(AF10))),"100% Énergie renouvelable",AE10>0,AE10,AND(OR(AE10=0,ISBLANK(AE10)),OR(AF10=0,ISBLANK(AF10)),OR(W10=0,ISBLANK(W10))),"s. o.")} -> s. o. | AW10: =SUM(AQ10:AU10) -> 0 | AY10: =IFERROR(IF(OR(AX10=0,ISBLANK($AP10)),0,IF($AP10="GJ",AX10*V_GES_GJ_GazNaturel,IF($AP10="kWh éq.",AX10*V_GES_kWhEq_GazNaturel))),"") -> 0 | BA10: =IFERROR(IF(OR(AZ10=0,ISBLANK(AP10)),0,IF(AP10="GJ",AZ10*V_GES_GJ_Mazout2Leger,IF(AP10="kWh éq.",AZ10*V_GES_kWhEq_Mazout2Leger))),"") -> 0 | BC10: =IFERROR(IF(OR(BB10=0,ISBLANK(AP10)),0,IF(AP10="GJ",BB10*V_GES_GJ_Propane,IF(AP10="kWh éq.",BB10*V_GES_kWhEq_Propane))),"") -> 0 | BE10: =AY10+BA10+BC10 -> 0 | BF10: =AX10+AZ10+BB10+BD10 -> 0 | BG10: =AW10+BF10 -> 0 | BH10: =IFERROR(IF(ISBLANK($AP10),"",IF($AP10="GJ",BG10/$N10,IF($AP10="kWh éq.",BG10*V_GJ_kWh/$N10,""))),"") | BI10: {=IFERROR(_xlfn.IFS(DATE(RIGHT(B10,4),3,31)<Listes_deroulantes!$F$54,IF(AZ10>0,AZ10/BG10,"Aucun mazout"),DATE(RIGHT(B10,4),3,31)>=Listes_deroulantes!$F$54,IF(BF10>0,BF10/BG10,"Aucun combustible")),"")} | BJ10: {=_xlfn.IFS(BG10=0,"",AND(BG10>0,AZ10=0),"Aucun mazout",BG10>0,AZ10/BG10)} | BK10: =IF(OR(BG10=0,ISBLANK(BG10)),"Non disponible",IF(AND(BF10=0,BG10>0),"Aucun combustible",BF10/BG10)) -> Non disponible | BL10: {=IFERROR(IF(DATE(RIGHT(B10,4),3,31)<Listes_deroulantes!$F$54,VLOOKUP(L10,Listes_deroulantes!$F$3:$J$11,4,FALSE),_xlfn.IFS(DATE(RIGHT(B10,4),3,31)<Avant2025,Exist20205Apres,DATE(RIGHT(B10,4),3,31)<Avant2030,Exist2030Apres,DATE(RIGHT(B10,4),3,31)>Après2030,"0%")),"")} | BM10: {=_xlfn.IFS(OR(BI10="Aucun combustible",BI10="Aucun mazout"),"Oui",AND(BI10="",BL10=""),"",AND(BL10="0%",OR(BI10<>"Aucun combustible",BI10<>"Aucun mazout")),IF(BI10<=0%,"Oui","Non"),AND(BL10<>"0%",OR(BI10<>"Aucun combustible",BI10<>"Aucun mazout")),IF(BI10<=BL10,"Oui","Non"))} | BO10: =AO10 -> s. o. | BP10: {=_xlfn.IFS(AND(BF10>0,OR(BE10=0,ISBLANK(BE10))),"Non disponible",AND(OR(BE10=0,ISBLANK(BE10)),OR(BF10=0,ISBLANK(BF10)),AW10>0),"100% Énergie renouvelable",BE10>0,BE10,AND(OR(BE10=0,ISBLANK(BE10)),OR(BF10=0,ISBLANK(BF10)),OR(AW10=0,ISBLANK(AW10))),"s. o.")} -> s. o. | BQ10: {=IFERROR(_xlfn.IFS(AND(BO10="100% Énergie renouvelable",BP10="100% Énergie renouvelable"),"Aucun GES à réduire",AND(BO10<>"100% Énergie renouvelable",BP10="100% Énergie renouvelable"),BO10,AND(BO10<>"100% Énergie renouvelable",BP10<>"100% Énergie renouvelable"),BO10-BP10,AND(BO10="100% Énergie renouvelable",BP10<>"100% Énergie renouvelable"),"Fournir une explication"),"s. o.")} -> s. o.
W11: =SUM(Q11:U11) -> 0 | Y11: =IFERROR(IF(OR(X11=0,ISBLANK($P11)),0,IF($P11="GJ",X11*V_GES_GJ_GazNaturel,IF($P11="kWh éq.",X11*V_GES_kWhEq_GazNaturel))),"") -> 0 | AA11: =IFERROR(IF(OR(Z11=0,ISBLANK($P11)),0,IF($P11="GJ",Z11*V_GES_GJ_Mazout2Leger,IF($P11="kWh éq.",Z11*V_GES_kWhEq_Mazout2Leger))),"") -> 0 | AC11: =IFERROR(IF(OR(AB11=0,ISBLANK($P11)),0,IF($P11="GJ",AB11*V_GES_GJ_Propane,IF($P11="kWh éq.",AB11*V_GES_kWhEq_Propane))),"") -> 0 | AE11: =Y11+AA11+AC11 -> 0 | AF11: =X11+Z11+AB11+AD11 -> 0 | AG11: =W11+AF11 -> 0 | AH11: =IFERROR(IF(ISBLANK($P11),"",IF($P11="GJ",AG11/$N11,IF($P11="kWh éq.",AG11*V_GJ_kWh/$N11,""))),"") | AI11: {=IFERROR(_xlfn.IFS(DATE(RIGHT(B11,4),3,31)<Listes_deroulantes!$F$54,IF(Z11>0,Z11/AG11,"Aucun mazout"),DATE(RIGHT(B11,4),3,31)>=Listes_deroulantes!$F$54,IF(AF11>0,AF11/AG11,"Aucun combustible")),"")} | AJ11: {=_xlfn.IFS(AG11=0,"",AND(AG11>0,Z11=0),"Aucun mazout",AG11>0,Z11/AG11)} | AK11: {=_xlfn.IFS(AG11=0,0,OR(AF11=0,ISBLANK(AF11)),"Aucun combustible",AND(AF11>0,AG11>0),AF11/AG11)} -> 0 | AL11: {=IFERROR(IF(DATE(RIGHT(B11,4),3,31)<Listes_deroulantes!$F$54,VLOOKUP(L11,Listes_deroulantes!$F$3:$J$11,4,FALSE),_xlfn.IFS(DATE(RIGHT(B11,4),3,31)<Avant2025,Exist2025Avant,DATE(RIGHT(B11,4),3,31)<Avant2030,Exist2030Avant,DATE(RIGHT(B11,4),3,31)>Après2030,"0%")),"")} | AM11: {=_xlfn.IFS(OR(AI11="Aucun combustible",AI11="Aucun mazout"),"Oui",AND(AI11="",AL11=""),"",AND(AL11="0%",OR(AI11<>"Aucun combustible",AI11<>"Aucun mazout")),IF(AI11<=0%,"Oui","Non"),AND(AL11<>"0%",OR(AI11<>"Aucun combustible",AI11<>"Aucun mazout")),IF(AI11<=AL11,"Oui","Non"))} | AO11: {=_xlfn.IFS(AND(OR(AE11=0,ISBLANK(AE11)),AF11>0),"Non disponible",AND(OR(AE11=0,ISBLANK(AE11)),W11>0,OR(AF11=0,ISBLANK(AF11))),"100% Énergie renouvelable",AE11>0,AE11,AND(OR(AE11=0,ISBLANK(AE11)),OR(AF11=0,ISBLANK(AF11)),OR(W11=0,ISBLANK(W11))),"s. o.")} -> s. o. | AW11: =SUM(AQ11:AU11) -> 0 | AY11: =IFERROR(IF(OR(AX11=0,ISBLANK($AP11)),0,IF($AP11="GJ",AX11*V_GES_GJ_GazNaturel,IF($AP11="kWh éq.",AX11*V_GES_kWhEq_GazNaturel))),"") -> 0 | BA11: =IFERROR(IF(OR(AZ11=0,ISBLANK(AP11)),0,IF(AP11="GJ",AZ11*V_GES_GJ_Mazout2Leger,IF(AP11="kWh éq.",AZ11*V_GES_kWhEq_Mazout2Leger))),"") -> 0 | BC11: =IFERROR(IF(OR(BB11=0,ISBLANK(AP11)),0,IF(AP11="GJ",BB11*V_GES_GJ_Propane,IF(AP11="kWh éq.",BB11*V_GES_kWhEq_Propane))),"") -> 0 | BE11: =AY11+BA11+BC11 -> 0 | BF11: =AX11+AZ11+BB11+BD11 -> 0 | BG11: =AW11+BF11 -> 0 | BH11: =IFERROR(IF(ISBLANK($AP11),"",IF($AP11="GJ",BG11/$N11,IF($AP11="kWh éq.",BG11*V_GJ_kWh/$N11,""))),"") | BI11: {=IFERROR(_xlfn.IFS(DATE(RIGHT(B11,4),3,31)<Listes_deroulantes!$F$54,IF(AZ11>0,AZ11/BG11,"Aucun mazout"),DATE(RIGHT(B11,4),3,31)>=Listes_deroulantes!$F$54,IF(BF11>0,BF11/BG11,"Aucun combustible")),"")} | BJ11: {=_xlfn.IFS(BG11=0,"",AND(BG11>0,AZ11=0),"Aucun mazout",BG11>0,AZ11/BG11)} | BK11: =IF(OR(BG11=0,ISBLANK(BG11)),"Non disponible",IF(AND(BF11=0,BG11>0),"Aucun combustible",BF11/BG11)) -> Non disponible | BL11: {=IFERROR(IF(DATE(RIGHT(B11,4),3,31)<Listes_deroulantes!$F$54,VLOOKUP(L11,Listes_deroulantes!$F$3:$J$11,4,FALSE),_xlfn.IFS(DATE(RIGHT(B11,4),3,31)<Avant2025,Exist20205Apres,DATE(RIGHT(B11,4),3,31)<Avant2030,Exist2030Apres,DATE(RIGHT(B11,4),3,31)>Après2030,"0%")),"")} | BM11: {=_xlfn.IFS(OR(BI11="Aucun combustible",BI11="Aucun mazout"),"Oui",AND(BI11="",BL11=""),"",AND(BL11="0%",OR(BI11<>"Aucun combustible",BI11<>"Aucun mazout")),IF(BI11<=0%,"Oui","Non"),AND(BL11<>"0%",OR(BI11<>"Aucun combustible",BI11<>"Aucun mazout")),IF(BI11<=BL11,"Oui","Non"))} | BO11: =AO11 -> s. o. | BP11: {=_xlfn.IFS(AND(BF11>0,OR(BE11=0,ISBLANK(BE11))),"Non disponible",AND(OR(BE11=0,ISBLANK(BE11)),OR(BF11=0,ISBLANK(BF11)),AW11>0),"100% Énergie renouvelable",BE11>0,BE11,AND(OR(BE11=0,ISBLANK(BE11)),OR(BF11=0,ISBLANK(BF11)),OR(AW11=0,ISBLANK(AW11))),"s. o.")} -> s. o. | BQ11: {=IFERROR(_xlfn.IFS(AND(BO11="100% Énergie renouvelable",BP11="100% Énergie renouvelable"),"Aucun GES à réduire",AND(BO11<>"100% Énergie renouvelable",BP11="100% Énergie renouvelable"),BO11,AND(BO11<>"100% Énergie renouvelable",BP11<>"100% Énergie renouvelable"),BO11-BP11,AND(BO11="100% Énergie renouvelable",BP11<>"100% Énergie renouvelable"),"Fournir une explication"),"s. o.")} -> s. o.
W12: =SUM(Q12:U12) -> 0 | Y12: =IFERROR(IF(OR(X12=0,ISBLANK($P12)),0,IF($P12="GJ",X12*V_GES_GJ_GazNaturel,IF($P12="kWh éq.",X12*V_GES_kWhEq_GazNaturel))),"") -> 0 | AA12: =IFERROR(IF(OR(Z12=0,ISBLANK($P12)),0,IF($P12="GJ",Z12*V_GES_GJ_Mazout2Leger,IF($P12="kWh éq.",Z12*V_GES_kWhEq_Mazout2Leger))),"") -> 0 | AC12: =IFERROR(IF(OR(AB12=0,ISBLANK($P12)),0,IF($P12="GJ",AB12*V_GES_GJ_Propane,IF($P12="kWh éq.",AB12*V_GES_kWhEq_Propane))),"") -> 0 | AE12: =Y12+AA12+AC12 -> 0 | AF12: =X12+Z12+AB12+AD12 -> 0 | AG12: =W12+AF12 -> 0 | AH12: =IFERROR(IF(ISBLANK($P12),"",IF($P12="GJ",AG12/$N12,IF($P12="kWh éq.",AG12*V_GJ_kWh/$N12,""))),"") | AI12: {=IFERROR(_xlfn.IFS(DATE(RIGHT(B12,4),3,31)<Listes_deroulantes!$F$54,IF(Z12>0,Z12/AG12,"Aucun mazout"),DATE(RIGHT(B12,4),3,31)>=Listes_deroulantes!$F$54,IF(AF12>0,AF12/AG12,"Aucun combustible")),"")} | AJ12: {=_xlfn.IFS(AG12=0,"",AND(AG12>0,Z12=0),"Aucun mazout",AG12>0,Z12/AG12)} | AK12: {=_xlfn.IFS(AG12=0,0,OR(AF12=0,ISBLANK(AF12)),"Aucun combustible",AND(AF12>0,AG12>0),AF12/AG12)} -> 0 | AL12: {=IFERROR(IF(DATE(RIGHT(B12,4),3,31)<Listes_deroulantes!$F$54,VLOOKUP(L12,Listes_deroulantes!$F$3:$J$11,4,FALSE),_xlfn.IFS(DATE(RIGHT(B12,4),3,31)<Avant2025,Exist2025Avant,DATE(RIGHT(B12,4),3,31)<Avant2030,Exist2030Avant,DATE(RIGHT(B12,4),3,31)>Après2030,Exist2031Avant)),"")} | AM12: {=_xlfn.IFS(OR(AI12="Aucun combustible",AI12="Aucun mazout"),"Oui",AND(AI12="",AL12=""),"",AND(AL12="0%",OR(AI12<>"Aucun combustible",AI12<>"Aucun mazout")),IF(AI12<=0%,"Oui","Non"),AND(AL12<>"0%",OR(AI12<>"Aucun combustible",AI12<>"Aucun mazout")),IF(AI12<=AL12,"Oui","Non"))} | AO12: {=_xlfn.IFS(AND(OR(AE12=0,ISBLANK(AE12)),AF12>0),"Non disponible",AND(OR(AE12=0,ISBLANK(AE12)),W12>0,OR(AF12=0,ISBLANK(AF12))),"100% Énergie renouvelable",AE12>0,AE12,AND(OR(AE12=0,ISBLANK(AE12)),OR(AF12=0,ISBLANK(AF12)),OR(W12=0,ISBLANK(W12))),"s. o.")} -> s. o. | AW12: =SUM(AQ12:AU12) -> 0 | AY12: =IFERROR(IF(OR(AX12=0,ISBLANK($AP12)),0,IF($AP12="GJ",AX12*V_GES_GJ_GazNaturel,IF($AP12="kWh éq.",AX12*V_GES_kWhEq_GazNaturel))),"") -> 0 | BA12: =IFERROR(IF(OR(AZ12=0,ISBLANK(AP12)),0,IF(AP12="GJ",AZ12*V_GES_GJ_Mazout2Leger,IF(AP12="kWh éq.",AZ12*V_GES_kWhEq_Mazout2Leger))),"") -> 0 | BC12: =IFERROR(IF(OR(BB12=0,ISBLANK(AP12)),0,IF(AP12="GJ",BB12*V_GES_GJ_Propane,IF(AP12="kWh éq.",BB12*V_GES_kWhEq_Propane))),"") -> 0 | BE12: =AY12+BA12+BC12 -> 0 | BF12: =AX12+AZ12+BB12+BD12 -> 0 | BG12: =AW12+BF12 -> 0 | BH12: =IFERROR(IF(ISBLANK($AP12),"",IF($AP12="GJ",BG12/$N12,IF($AP12="kWh éq.",BG12*V_GJ_kWh/$N12,""))),"") | BI12: {=IFERROR(_xlfn.IFS(DATE(RIGHT(B12,4),3,31)<Listes_deroulantes!$F$54,IF(AZ12>0,AZ12/BG12,"Aucun mazout"),DATE(RIGHT(B12,4),3,31)>=Listes_deroulantes!$F$54,IF(BF12>0,BF12/BG12,"Aucun combustible")),"")} | BJ12: {=_xlfn.IFS(BG12=0,"",AND(BG12>0,AZ12=0),"Aucun mazout",BG12>0,AZ12/BG12)} | BK12: =IF(OR(BG12=0,ISBLANK(BG12)),"Non disponible",IF(AND(BF12=0,BG12>0),"Aucun combustible",BF12/BG12)) -> Non disponible | BL12: {=IFERROR(IF(DATE(RIGHT(B12,4),3,31)<Listes_deroulantes!$F$54,VLOOKUP(L12,Listes_deroulantes!$F$3:$J$11,4,FALSE),_xlfn.IFS(DATE(RIGHT(B12,4),3,31)<Avant2025,Exist20205Apres,DATE(RIGHT(B12,4),3,31)<Avant2030,Exist2030Apres,DATE(RIGHT(B12,4),3,31)>Après2030,"0%")),"")} | BM12: {=_xlfn.IFS(OR(BI12="Aucun combustible",BI12="Aucun mazout"),"Oui",AND(BI12="",BL12=""),"",AND(BL12="0%",OR(BI12<>"Aucun combustible",BI12<>"Aucun mazout")),IF(BI12<=0%,"Oui","Non"),AND(BL12<>"0%",OR(BI12<>"Aucun combustible",BI12<>"Aucun mazout")),IF(BI12<=BL12,"Oui","Non"))} | BO12: =AO12 -> s. o. | BP12: {=_xlfn.IFS(AND(BF12>0,OR(BE12=0,ISBLANK(BE12))),"Non disponible",AND(OR(BE12=0,ISBLANK(BE12)),OR(BF12=0,ISBLANK(BF12)),AW12>0),"100% Énergie renouvelable",BE12>0,BE12,AND(OR(BE12=0,ISBLANK(BE12)),OR(BF12=0,ISBLANK(BF12)),OR(AW12=0,ISBLANK(AW12))),"s. o.")} -> s. o. | BQ12: {=IFERROR(_xlfn.IFS(AND(BO12="100% Énergie renouvelable",BP12="100% Énergie renouvelable"),"Aucun GES à réduire",AND(BO12<>"100% Énergie renouvelable",BP12="100% Énergie renouvelable"),BO12,AND(BO12<>"100% Énergie renouvelable",BP12<>"100% Énergie renouvelable"),BO12-BP12,AND(BO12="100% Énergie renouvelable",BP12<>"100% Énergie renouvelable"),"Fournir une explication"),"s. o.")} -> s. o.
W13: =SUM(Q13:U13) -> 0 | Y13: =IFERROR(IF(OR(X13=0,ISBLANK($P13)),0,IF($P13="GJ",X13*V_GES_GJ_GazNaturel,IF($P13="kWh éq.",X13*V_GES_kWhEq_GazNaturel))),"") -> 0 | AA13: =IFERROR(IF(OR(Z13=0,ISBLANK($P13)),0,IF($P13="GJ",Z13*V_GES_GJ_Mazout2Leger,IF($P13="kWh éq.",Z13*V_GES_kWhEq_Mazout2Leger))),"") -> 0 | AC13: =IFERROR(IF(OR(AB13=0,ISBLANK($P13)),0,IF($P13="GJ",AB13*V_GES_GJ_Propane,IF($P13="kWh éq.",AB13*V_GES_kWhEq_Propane))),"") -> 0 | AE13: =Y13+AA13+AC13 -> 0 | AF13: =X13+Z13+AB13+AD13 -> 0 | AG13: =W13+AF13 -> 0 | AH13: =IFERROR(IF(ISBLANK($P13),"",IF($P13="GJ",AG13/$N13,IF($P13="kWh éq.",AG13*V_GJ_kWh/$N13,""))),"") | AI13: {=IFERROR(_xlfn.IFS(DATE(RIGHT(B13,4),3,31)<Listes_deroulantes!$F$54,IF(Z13>0,Z13/AG13,"Aucun mazout"),DATE(RIGHT(B13,4),3,31)>=Listes_deroulantes!$F$54,IF(AF13>0,AF13/AG13,"Aucun combustible")),"")} | AJ13: {=_xlfn.IFS(AG13=0,"",AND(AG13>0,Z13=0),"Aucun mazout",AG13>0,Z13/AG13)} | AK13: {=_xlfn.IFS(AG13=0,0,OR(AF13=0,ISBLANK(AF13)),"Aucun combustible",AND(AF13>0,AG13>0),AF13/AG13)} -> 0 | AL13: {=IFERROR(IF(DATE(RIGHT(B13,4),3,31)<Listes_deroulantes!$F$54,VLOOKUP(L13,Listes_deroulantes!$F$3:$J$11,4,FALSE),_xlfn.IFS(DATE(RIGHT(B13,4),3,31)<Avant2025,Exist2025Avant,DATE(RIGHT(B13,4),3,31)<Avant2030,Exist2030Avant,DATE(RIGHT(B13,4),3,31)>Après2030,Exist2031Avant)),"")} | AM13: {=_xlfn.IFS(OR(AI13="Aucun combustible",AI13="Aucun mazout"),"Oui",AND(AI13="",AL13=""),"",AND(AL13="0%",OR(AI13<>"Aucun combustible",AI13<>"Aucun mazout")),IF(AI13<=0%,"Oui","Non"),AND(AL13<>"0%",OR(AI13<>"Aucun combustible",AI13<>"Aucun mazout")),IF(AI13<=AL13,"Oui","Non"))} | AO13: {=_xlfn.IFS(AND(OR(AE13=0,ISBLANK(AE13)),AF13>0),"Non disponible",AND(OR(AE13=0,ISBLANK(AE13)),W13>0,OR(AF13=0,ISBLANK(AF13))),"100% Énergie renouvelable",AE13>0,AE13,AND(OR(AE13=0,ISBLANK(AE13)),OR(AF13=0,ISBLANK(AF13)),OR(W13=0,ISBLANK(W13))),"s. o.")} -> s. o. | AP13: =P13 -> 0 | AW13: =SUM(AQ13:AU13) -> 0 | AY13: =IFERROR(IF(OR(AX13=0,ISBLANK($AP13)),0,IF($AP13="GJ",AX13*V_GES_GJ_GazNaturel,IF($AP13="kWh éq.",AX13*V_GES_kWhEq_GazNaturel))),"") -> 0 | BA13: =IFERROR(IF(OR(AZ13=0,ISBLANK(AP13)),0,IF(AP13="GJ",AZ13*V_GES_GJ_Mazout2Leger,IF(AP13="kWh éq.",AZ13*V_GES_kWhEq_Mazout2Leger))),"") -> 0 | BC13: =IFERROR(IF(OR(BB13=0,ISBLANK(AP13)),0,IF(AP13="GJ",BB13*V_GES_GJ_Propane,IF(AP13="kWh éq.",BB13*V_GES_kWhEq_Propane))),"") -> 0 | BE13: =AY13+BA13+BC13 -> 0 | BF13: =AX13+AZ13+BB13+BD13 -> 0 | BG13: =AW13+BF13 -> 0 | BH13: =IFERROR(IF(ISBLANK($AP13),"",IF($AP13="GJ",BG13/$N13,IF($AP13="kWh éq.",BG13*V_GJ_kWh/$N13,""))),"") | BI13: {=IFERROR(_xlfn.IFS(DATE(RIGHT(B13,4),3,31)<Listes_deroulantes!$F$54,IF(AZ13>0,AZ13/BG13,"Aucun mazout"),DATE(RIGHT(B13,4),3,31)>=Listes_deroulantes!$F$54,IF(BF13>0,BF13/BG13,"Aucun combustible")),"")} | BJ13: {=_xlfn.IFS(BG13=0,"",AND(BG13>0,AZ13=0),"Aucun mazout",BG13>0,AZ13/BG13)} | BK13: =IF(OR(BG13=0,ISBLANK(BG13)),"Non disponible",IF(AND(BF13=0,BG13>0),"Aucun combustible",BF13/BG13)) -> Non disponible | BL13: {=IFERROR(IF(DATE(RIGHT(B13,4),3,31)<Listes_deroulantes!$F$54,VLOOKUP(L13,Listes_deroulantes!$F$3:$J$11,4,FALSE),_xlfn.IFS(DATE(RIGHT(B13,4),3,31)<Avant2025,Exist20205Apres,DATE(RIGHT(B13,4),3,31)<Avant2030,Exist2030Apres,DATE(RIGHT(B13,4),3,31)>Après2030,"0%")),"")} | BM13: {=_xlfn.IFS(OR(BI13="Aucun combustible",BI13="Aucun mazout"),"Oui",AND(BI13="",BL13=""),"",AND(BL13="0%",OR(BI13<>"Aucun combustible",BI13<>"Aucun mazout")),IF(BI13<=0%,"Oui","Non"),AND(BL13<>"0%",OR(BI13<>"Aucun combustible",BI13<>"Aucun mazout")),IF(BI13<=BL13,"Oui","Non"))} | BO13: =AO13 -> s. o. | BP13: {=_xlfn.IFS(AND(BF13>0,OR(BE13=0,ISBLANK(BE13))),"Non disponible",AND(OR(BE13=0,ISBLANK(BE13)),OR(BF13=0,ISBLANK(BF13)),AW13>0),"100% Énergie renouvelable",BE13>0,BE13,AND(OR(BE13=0,ISBLANK(BE13)),OR(BF13=0,ISBLANK(BF13)),OR(AW13=0,ISBLANK(AW13))),"s. o.")} -> s. o. | BQ13: {=IFERROR(_xlfn.IFS(AND(BO13="100% Énergie renouvelable",BP13="100% Énergie renouvelable"),"Aucun GES à réduire",AND(BO13<>"100% Énergie renouvelable",BP13="100% Énergie renouvelable"),BO13,AND(BO13<>"100% Énergie renouvelable",BP13<>"100% Énergie renouvelable"),BO13-BP13,AND(BO13="100% Énergie renouvelable",BP13<>"100% Énergie renouvelable"),"Fournir une explication"),"s. o.")} -> s. o.
W14: =SUM(Q14:U14) -> 0 | Y14: =IFERROR(IF(OR(X14=0,ISBLANK($P14)),0,IF($P14="GJ",X14*V_GES_GJ_GazNaturel,IF($P14="kWh éq.",X14*V_GES_kWhEq_GazNaturel))),"") -> 0 | AA14: =IFERROR(IF(OR(Z14=0,ISBLANK($P14)),0,IF($P14="GJ",Z14*V_GES_GJ_Mazout2Leger,IF($P14="kWh éq.",Z14*V_GES_kWhEq_Mazout2Leger))),"") -> 0 | AC14: =IFERROR(IF(OR(AB14=0,ISBLANK($P14)),0,IF($P14="GJ",AB14*V_GES_GJ_Propane,IF($P14="kWh éq.",AB14*V_GES_kWhEq_Propane))),"") -> 0 | AE14: =Y14+AA14+AC14 -> 0 | AF14: =X14+Z14+AB14+AD14 -> 0 | AG14: =W14+AF14 -> 0 | AH14: =IFERROR(IF(ISBLANK($P14),"",IF($P14="GJ",AG14/$N14,IF($P14="kWh éq.",AG14*V_GJ_kWh/$N14,""))),"") | AI14: {=IFERROR(_xlfn.IFS(DATE(RIGHT(B14,4),3,31)<Listes_deroulantes!$F$54,IF(Z14>0,Z14/AG14,"Aucun mazout"),DATE(RIGHT(B14,4),3,31)>=Listes_deroulantes!$F$54,IF(AF14>0,AF14/AG14,"Aucun combustible")),"")} | AJ14: {=_xlfn.IFS(AG14=0,"",AND(AG14>0,Z14=0),"Aucun mazout",AG14>0,Z14/AG14)} | AK14: {=_xlfn.IFS(AG14=0,0,OR(AF14=0,ISBLANK(AF14)),"Aucun combustible",AND(AF14>0,AG14>0),AF14/AG14)} -> 0 | AL14: {=IFERROR(IF(DATE(RIGHT(B14,4),3,31)<Listes_deroulantes!$F$54,VLOOKUP(L14,Listes_deroulantes!$F$3:$J$11,4,FALSE),_xlfn.IFS(DATE(RIGHT(B14,4),3,31)<Avant2025,Exist2025Avant,DATE(RIGHT(B14,4),3,31)<Avant2030,Exist2030Avant,DATE(RIGHT(B14,4),3,31)>Après2030,Exist2031Avant)),"")} | AM14: {=_xlfn.IFS(OR(AI14="Aucun combustible",AI14="Aucun mazout"),"Oui",AND(AI14="",AL14=""),"",AND(AL14="0%",OR(AI14<>"Aucun combustible",AI14<>"Aucun mazout")),IF(AI14<=0%,"Oui","Non"),AND(AL14<>"0%",OR(AI14<>"Aucun combustible",AI14<>"Aucun mazout")),IF(AI14<=AL14,"Oui","Non"))} | AO14: {=_xlfn.IFS(AND(OR(AE14=0,ISBLANK(AE14)),AF14>0),"Non disponible",AND(OR(AE14=0,ISBLANK(AE14)),W14>0,OR(AF14=0,ISBLANK(AF14))),"100% Énergie renouvelable",AE14>0,AE14,AND(OR(AE14=0,ISBLANK(AE14)),OR(AF14=0,ISBLANK(AF14)),OR(W14=0,ISBLANK(W14))),"s. o.")} -> s. o. | AP14: =P14 -> 0 | AW14: =SUM(AQ14:AU14) -> 0 | AY14: =IFERROR(IF(OR(AX14=0,ISBLANK($AP14)),0,IF($AP14="GJ",AX14*V_GES_GJ_GazNaturel,IF($AP14="kWh éq.",AX14*V_GES_kWhEq_GazNaturel))),"") -> 0 | BA14: =IFERROR(IF(OR(AZ14=0,ISBLANK(AP14)),0,IF(AP14="GJ",AZ14*V_GES_GJ_Mazout2Leger,IF(AP14="kWh éq.",AZ14*V_GES_kWhEq_Mazout2Leger))),"") -> 0 | BC14: =IFERROR(IF(OR(BB14=0,ISBLANK(AP14)),0,IF(AP14="GJ",BB14*V_GES_GJ_Propane,IF(AP14="kWh éq.",BB14*V_GES_kWhEq_Propane))),"") -> 0 | BE14: =AY14+BA14+BC14 -> 0 | BF14: =AX14+AZ14+BB14+BD14 -> 0 | BG14: =AW14+BF14 -> 0 | BH14: =IFERROR(IF(ISBLANK($AP14),"",IF($AP14="GJ",BG14/$N14,IF($AP14="kWh éq.",BG14*V_GJ_kWh/$N14,""))),"") | BI14: {=IFERROR(_xlfn.IFS(DATE(RIGHT(B14,4),3,31)<Listes_deroulantes!$F$54,IF(AZ14>0,AZ14/BG14,"Aucun mazout"),DATE(RIGHT(B14,4),3,31)>=Listes_deroulantes!$F$54,IF(BF14>0,BF14/BG14,"Aucun combustible")),"")} | BJ14: {=_xlfn.IFS(BG14=0,"",AND(BG14>0,AZ14=0),"Aucun mazout",BG14>0,AZ14/BG14)} | BK14: =IF(OR(BG14=0,ISBLANK(BG14)),"Non disponible",IF(AND(BF14=0,BG14>0),"Aucun combustible",BF14/BG14)) -> Non disponible | BL14: {=IFERROR(IF(DATE(RIGHT(B14,4),3,31)<Listes_deroulantes!$F$54,VLOOKUP(L14,Listes_deroulantes!$F$3:$J$11,4,FALSE),_xlfn.IFS(DATE(RIGHT(B14,4),3,31)<Avant2025,Exist20205Apres,DATE(RIGHT(B14,4),3,31)<Avant2030,Exist2030Apres,DATE(RIGHT(B14,4),3,31)>Après2030,"0%")),"")} | BM14: {=_xlfn.IFS(OR(BI14="Aucun combustible",BI14="Aucun mazout"),"Oui",AND(BI14="",BL14=""),"",AND(BL14="0%",OR(BI14<>"Aucun combustible",BI14<>"Aucun mazout")),IF(BI14<=0%,"Oui","Non"),AND(BL14<>"0%",OR(BI14<>"Aucun combustible",BI14<>"Aucun mazout")),IF(BI14<=BL14,"Oui","Non"))} | BO14: =AO14 -> s. o. | BP14: {=_xlfn.IFS(AND(BF14>0,OR(BE14=0,ISBLANK(BE14))),"Non disponible",AND(OR(BE14=0,ISBLANK(BE14)),OR(BF14=0,ISBLANK(BF14)),AW14>0),"100% Énergie renouvelable",BE14>0,BE14,AND(OR(BE14=0,ISBLANK(BE14)),OR(BF14=0,ISBLANK(BF14)),OR(AW14=0,ISBLANK(AW14))),"s. o.")} -> s. o. | BQ14: {=IFERROR(_xlfn.IFS(AND(BO14="100% Énergie renouvelable",BP14="100% Énergie renouvelable"),"Aucun GES à réduire",AND(BO14<>"100% Énergie renouvelable",BP14="100% Énergie renouvelable"),BO14,AND(BO14<>"100% Énergie renouvelable",BP14<>"100% Énergie renouvelable"),BO14-BP14,AND(BO14="100% Énergie renouvelable",BP14<>"100% Énergie renouvelable"),"Fournir une explication"),"s. o.")} -> s. o.
W15: =SUM(Q15:U15) -> 0 | Y15: =IFERROR(IF(OR(X15=0,ISBLANK($P15)),0,IF($P15="GJ",X15*V_GES_GJ_GazNaturel,IF($P15="kWh éq.",X15*V_GES_kWhEq_GazNaturel))),"") -> 0 | AA15: =IFERROR(IF(OR(Z15=0,ISBLANK($P15)),0,IF($P15="GJ",Z15*V_GES_GJ_Mazout2Leger,IF($P15="kWh éq.",Z15*V_GES_kWhEq_Mazout2Leger))),"") -> 0 | AC15: =IFERROR(IF(OR(AB15=0,ISBLANK($P15)),0,IF($P15="GJ",AB15*V_GES_GJ_Propane,IF($P15="kWh éq.",AB15*V_GES_kWhEq_Propane))),"") -> 0 | AE15: =Y15+AA15+AC15 -> 0 | AF15: =X15+Z15+AB15+AD15 -> 0 | AG15: =W15+AF15 -> 0 | AH15: =IFERROR(IF(ISBLANK($P15),"",IF($P15="GJ",AG15/$N15,IF($P15="kWh éq.",AG15*V_GJ_kWh/$N15,""))),"") | AI15: {=IFERROR(_xlfn.IFS(DATE(RIGHT(B15,4),3,31)<Listes_deroulantes!$F$54,IF(Z15>0,Z15/AG15,"Aucun mazout"),DATE(RIGHT(B15,4),3,31)>=Listes_deroulantes!$F$54,IF(AF15>0,AF15/AG15,"Aucun combustible")),"")} | AJ15: {=_xlfn.IFS(AG15=0,"",AND(AG15>0,Z15=0),"Aucun mazout",AG15>0,Z15/AG15)} | AK15: {=_xlfn.IFS(AG15=0,0,OR(AF15=0,ISBLANK(AF15)),"Aucun combustible",AND(AF15>0,AG15>0),AF15/AG15)} -> 0 | AL15: {=IFERROR(IF(DATE(RIGHT(B15,4),3,31)<Listes_deroulantes!$F$54,VLOOKUP(L15,Listes_deroulantes!$F$3:$J$11,4,FALSE),_xlfn.IFS(DATE(RIGHT(B15,4),3,31)<Avant2025,Exist2025Avant,DATE(RIGHT(B15,4),3,31)<Avant2030,Exist2030Avant,DATE(RIGHT(B15,4),3,31)>Après2030,Exist2031Avant)),"")} | AM15: {=_xlfn.IFS(OR(AI15="Aucun combustible",AI15="Aucun mazout"),"Oui",AND(AI15="",AL15=""),"",AND(AL15="0%",OR(AI15<>"Aucun combustible",AI15<>"Aucun mazout")),IF(AI15<=0%,"Oui","Non"),AND(AL15<>"0%",OR(AI15<>"Aucun combustible",AI15<>"Aucun mazout")),IF(AI15<=AL15,"Oui","Non"))} | AO15: {=_xlfn.IFS(AND(OR(AE15=0,ISBLANK(AE15)),AF15>0),"Non disponible",AND(OR(AE15=0,ISBLANK(AE15)),W15>0,OR(AF15=0,ISBLANK(AF15))),"100% Énergie renouvelable",AE15>0,AE15,AND(OR(AE15=0,ISBLANK(AE15)),OR(AF15=0,ISBLANK(AF15)),OR(W15=0,ISBLANK(W15))),"s. o.")} -> s. o. | AP15: =P15 -> 0 | AW15: =SUM(AQ15:AU15) -> 0 | AY15: =IFERROR(IF(OR(AX15=0,ISBLANK($AP15)),0,IF($AP15="GJ",AX15*V_GES_GJ_GazNaturel,IF($AP15="kWh éq.",AX15*V_GES_kWhEq_GazNaturel))),"") -> 0 | BA15: =IFERROR(IF(OR(AZ15=0,ISBLANK(AP15)),0,IF(AP15="GJ",AZ15*V_GES_GJ_Mazout2Leger,IF(AP15="kWh éq.",AZ15*V_GES_kWhEq_Mazout2Leger))),"") -> 0 | BC15: =IFERROR(IF(OR(BB15=0,ISBLANK(AP15)),0,IF(AP15="GJ",BB15*V_GES_GJ_Propane,IF(AP15="kWh éq.",BB15*V_GES_kWhEq_Propane))),"") -> 0 | BE15: =AY15+BA15+BC15 -> 0 | BF15: =AX15+AZ15+BB15+BD15 -> 0 | BG15: =AW15+BF15 -> 0 | BH15: =IFERROR(IF(ISBLANK($AP15),"",IF($AP15="GJ",BG15/$N15,IF($AP15="kWh éq.",BG15*V_GJ_kWh/$N15,""))),"") | BI15: {=IFERROR(_xlfn.IFS(DATE(RIGHT(B15,4),3,31)<Listes_deroulantes!$F$54,IF(AZ15>0,AZ15/BG15,"Aucun mazout"),DATE(RIGHT(B15,4),3,31)>=Listes_deroulantes!$F$54,IF(BF15>0,BF15/BG15,"Aucun combustible")),"")} | BJ15: {=_xlfn.IFS(BG15=0,"",AND(BG15>0,AZ15=0),"Aucun mazout",BG15>0,AZ15/BG15)} | BK15: =IF(OR(BG15=0,ISBLANK(BG15)),"Non disponible",IF(AND(BF15=0,BG15>0),"Aucun combustible",BF15/BG15)) -> Non disponible | BL15: {=IFERROR(IF(DATE(RIGHT(B15,4),3,31)<Listes_deroulantes!$F$54,VLOOKUP(L15,Listes_deroulantes!$F$3:$J$11,4,FALSE),_xlfn.IFS(DATE(RIGHT(B15,4),3,31)<Avant2025,Exist20205Apres,DATE(RIGHT(B15,4),3,31)<Avant2030,Exist2030Apres,DATE(RIGHT(B15,4),3,31)>Après2030,"0%")),"")} | BM15: {=_xlfn.IFS(OR(BI15="Aucun combustible",BI15="Aucun mazout"),"Oui",AND(BI15="",BL15=""),"",AND(BL15="0%",OR(BI15<>"Aucun combustible",BI15<>"Aucun mazout")),IF(BI15<=0%,"Oui","Non"),AND(BL15<>"0%",OR(BI15<>"Aucun combustible",BI15<>"Aucun mazout")),IF(BI15<=BL15,"Oui","Non"))} | BO15: =AO15 -> s. o. | BP15: {=_xlfn.IFS(AND(BF15>0,OR(BE15=0,ISBLANK(BE15))),"Non disponible",AND(OR(BE15=0,ISBLANK(BE15)),OR(BF15=0,ISBLANK(BF15)),AW15>0),"100% Énergie renouvelable",BE15>0,BE15,AND(OR(BE15=0,ISBLANK(BE15)),OR(BF15=0,ISBLANK(BF15)),OR(AW15=0,ISBLANK(AW15))),"s. o.")} -> s. o. | BQ15: {=IFERROR(_xlfn.IFS(AND(BO15="100% Énergie renouvelable",BP15="100% Énergie renouvelable"),"Aucun GES à réduire",AND(BO15<>"100% Énergie renouvelable",BP15="100% Énergie renouvelable"),BO15,AND(BO15<>"100% Énergie renouvelable",BP15<>"100% Énergie renouvelable"),BO15-BP15,AND(BO15="100% Énergie renouvelable",BP15<>"100% Énergie renouvelable"),"Fournir une explication"),"s. o.")} -> s. o.
W16: =SUM(Q16:U16) -> 0 | Y16: =IFERROR(IF(OR(X16=0,ISBLANK($P16)),0,IF($P16="GJ",X16*V_GES_GJ_GazNaturel,IF($P16="kWh éq.",X16*V_GES_kWhEq_GazNaturel))),"") -> 0 | AA16: =IFERROR(IF(OR(Z16=0,ISBLANK($P16)),0,IF($P16="GJ",Z16*V_GES_GJ_Mazout2Leger,IF($P16="kWh éq.",Z16*V_GES_kWhEq_Mazout2Leger))),"") -> 0 | AC16: =IFERROR(IF(OR(AB16=0,ISBLANK($P16)),0,IF($P16="GJ",AB16*V_GES_GJ_Propane,IF($P16="kWh éq.",AB16*V_GES_kWhEq_Propane))),"") -> 0 | AE16: =Y16+AA16+AC16 -> 0 | AF16: =X16+Z16+AB16+AD16 -> 0 | AG16: =W16+AF16 -> 0 | AH16: =IFERROR(IF(ISBLANK($P16),"",IF($P16="GJ",AG16/$N16,IF($P16="kWh éq.",AG16*V_GJ_kWh/$N16,""))),"") | AI16: {=IFERROR(_xlfn.IFS(DATE(RIGHT(B16,4),3,31)<Listes_deroulantes!$F$54,IF(Z16>0,Z16/AG16,"Aucun mazout"),DATE(RIGHT(B16,4),3,31)>=Listes_deroulantes!$F$54,IF(AF16>0,AF16/AG16,"Aucun combustible")),"")} | AJ16: {=_xlfn.IFS(AG16=0,"",AND(AG16>0,Z16=0),"Aucun mazout",AG16>0,Z16/AG16)} | AK16: {=_xlfn.IFS(AG16=0,0,OR(AF16=0,ISBLANK(AF16)),"Aucun combustible",AND(AF16>0,AG16>0),AF16/AG16)} -> 0 | AL16: {=IFERROR(IF(DATE(RIGHT(B16,4),3,31)<Listes_deroulantes!$F$54,VLOOKUP(L16,Listes_deroulantes!$F$3:$J$11,4,FALSE),_xlfn.IFS(DATE(RIGHT(B16,4),3,31)<Avant2025,Exist2025Avant,DATE(RIGHT(B16,4),3,31)<Avant2030,Exist2030Avant,DATE(RIGHT(B16,4),3,31)>Après2030,Exist2031Avant)),"")} | AM16: {=_xlfn.IFS(OR(AI16="Aucun combustible",AI16="Aucun mazout"),"Oui",AND(AI16="",AL16=""),"",AND(AL16="0%",OR(AI16<>"Aucun combustible",AI16<>"Aucun mazout")),IF(AI16<=0%,"Oui","Non"),AND(AL16<>"0%",OR(AI16<>"Aucun combustible",AI16<>"Aucun mazout")),IF(AI16<=AL16,"Oui","Non"))} | AO16: {=_xlfn.IFS(AND(OR(AE16=0,ISBLANK(AE16)),AF16>0),"Non disponible",AND(OR(AE16=0,ISBLANK(AE16)),W16>0,OR(AF16=0,ISBLANK(AF16))),"100% Énergie renouvelable",AE16>0,AE16,AND(OR(AE16=0,ISBLANK(AE16)),OR(AF16=0,ISBLANK(AF16)),OR(W16=0,ISBLANK(W16))),"s. o.")} -> s. o. | AP16: =P16 -> 0 | AW16: =SUM(AQ16:AU16) -> 0 | AY16: =IFERROR(IF(OR(AX16=0,ISBLANK($AP16)),0,IF($AP16="GJ",AX16*V_GES_GJ_GazNaturel,IF($AP16="kWh éq.",AX16*V_GES_kWhEq_GazNaturel))),"") -> 0 | BA16: =IFERROR(IF(OR(AZ16=0,ISBLANK(AP16)),0,IF(AP16="GJ",AZ16*V_GES_GJ_Mazout2Leger,IF(AP16="kWh éq.",AZ16*V_GES_kWhEq_Mazout2Leger))),"") -> 0 | BC16: =IFERROR(IF(OR(BB16=0,ISBLANK(AP16)),0,IF(AP16="GJ",BB16*V_GES_GJ_Propane,IF(AP16="kWh éq.",BB16*V_GES_kWhEq_Propane))),"") -> 0 | BE16: =AY16+BA16+BC16 -> 0 | BF16: =AX16+AZ16+BB16+BD16 -> 0 | BG16: =AW16+BF16 -> 0 | BH16: =IFERROR(IF(ISBLANK($AP16),"",IF($AP16="GJ",BG16/$N16,IF($AP16="kWh éq.",BG16*V_GJ_kWh/$N16,""))),"") | BI16: {=IFERROR(_xlfn.IFS(DATE(RIGHT(B16,4),3,31)<Listes_deroulantes!$F$54,IF(AZ16>0,AZ16/BG16,"Aucun mazout"),DATE(RIGHT(B16,4),3,31)>=Listes_deroulantes!$F$54,IF(BF16>0,BF16/BG16,"Aucun combustible")),"")} | BJ16: {=_xlfn.IFS(BG16=0,"",AND(BG16>0,AZ16=0),"Aucun mazout",BG16>0,AZ16/BG16)} | BK16: =IF(OR(BG16=0,ISBLANK(BG16)),"Non disponible",IF(AND(BF16=0,BG16>0),"Aucun combustible",BF16/BG16)) -> Non disponible | BL16: {=IFERROR(IF(DATE(RIGHT(B16,4),3,31)<Listes_deroulantes!$F$54,VLOOKUP(L16,Listes_deroulantes!$F$3:$J$11,4,FALSE),_xlfn.IFS(DATE(RIGHT(B16,4),3,31)<Avant2025,Exist20205Apres,DATE(RIGHT(B16,4),3,31)<Avant2030,Exist2030Apres,DATE(RIGHT(B16,4),3,31)>Après2030,"0%")),"")} | BM16: {=_xlfn.IFS(OR(BI16="Aucun combustible",BI16="Aucun mazout"),"Oui",AND(BI16="",BL16=""),"",AND(BL16="0%",OR(BI16<>"Aucun combustible",BI16<>"Aucun mazout")),IF(BI16<=0%,"Oui","Non"),AND(BL16<>"0%",OR(BI16<>"Aucun combustible",BI16<>"Aucun mazout")),IF(BI16<=BL16,"Oui","Non"))} | BO16: =AO16 -> s. o. | BP16: {=_xlfn.IFS(AND(BF16>0,OR(BE16=0,ISBLANK(BE16))),"Non disponible",AND(OR(BE16=0,ISBLANK(BE16)),OR(BF16=0,ISBLANK(BF16)),AW16>0),"100% Énergie renouvelable",BE16>0,BE16,AND(OR(BE16=0,ISBLANK(BE16)),OR(BF16=0,ISBLANK(BF16)),OR(AW16=0,ISBLANK(AW16))),"s. o.")} -> s. o. | BQ16: {=IFERROR(_xlfn.IFS(AND(BO16="100% Énergie renouvelable",BP16="100% Énergie renouvelable"),"Aucun GES à réduire",AND(BO16<>"100% Énergie renouvelable",BP16="100% Énergie renouvelable"),BO16,AND(BO16<>"100% Énergie renouvelable",BP16<>"100% Énergie renouvelable"),BO16-BP16,AND(BO16="100% Énergie renouvelable",BP16<>"100% Énergie renouvelable"),"Fournir une explication"),"s. o.")} -> s. o.
W17: =SUM(Q17:U17) -> 0 | Y17: =IFERROR(IF(OR(X17=0,ISBLANK($P17)),0,IF($P17="GJ",X17*V_GES_GJ_GazNaturel,IF($P17="kWh éq.",X17*V_GES_kWhEq_GazNaturel))),"") -> 0 | AA17: =IFERROR(IF(OR(Z17=0,ISBLANK($P17)),0,IF($P17="GJ",Z17*V_GES_GJ_Mazout2Leger,IF($P17="kWh éq.",Z17*V_GES_kWhEq_Mazout2Leger))),"") -> 0 | AC17: =IFERROR(IF(OR(AB17=0,ISBLANK($P17)),0,IF($P17="GJ",AB17*V_GES_GJ_Propane,IF($P17="kWh éq.",AB17*V_GES_kWhEq_Propane))),"") -> 0 | AE17: =Y17+AA17+AC17 -> 0 | AF17: =X17+Z17+AB17+AD17 -> 0 | AG17: =W17+AF17 -> 0 | AH17: =IFERROR(IF(ISBLANK($P17),"",IF($P17="GJ",AG17/$N17,IF($P17="kWh éq.",AG17*V_GJ_kWh/$N17,""))),"") | AI17: {=IFERROR(_xlfn.IFS(DATE(RIGHT(B17,4),3,31)<Listes_deroulantes!$F$54,IF(Z17>0,Z17/AG17,"Aucun mazout"),DATE(RIGHT(B17,4),3,31)>=Listes_deroulantes!$F$54,IF(AF17>0,AF17/AG17,"Aucun combustible")),"")} | AJ17: {=_xlfn.IFS(AG17=0,"",AND(AG17>0,Z17=0),"Aucun mazout",AG17>0,Z17/AG17)} | AK17: {=_xlfn.IFS(AG17=0,0,OR(AF17=0,ISBLANK(AF17)),"Aucun combustible",AND(AF17>0,AG17>0),AF17/AG17)} -> 0 | AL17: {=IFERROR(IF(DATE(RIGHT(B17,4),3,31)<Listes_deroulantes!$F$54,VLOOKUP(L17,Listes_deroulantes!$F$3:$J$11,4,FALSE),_xlfn.IFS(DATE(RIGHT(B17,4),3,31)<Avant2025,Exist2025Avant,DATE(RIGHT(B17,4),3,31)<Avant2030,Exist2030Avant,DATE(RIGHT(B17,4),3,31)>Après2030,Exist2031Avant)),"")} | AM17: {=_xlfn.IFS(OR(AI17="Aucun combustible",AI17="Aucun mazout"),"Oui",AND(AI17="",AL17=""),"",AND(AL17="0%",OR(AI17<>"Aucun combustible",AI17<>"Aucun mazout")),IF(AI17<=0%,"Oui","Non"),AND(AL17<>"0%",OR(AI17<>"Aucun combustible",AI17<>"Aucun mazout")),IF(AI17<=AL17,"Oui","Non"))} | AO17: {=_xlfn.IFS(AND(OR(AE17=0,ISBLANK(AE17)),AF17>0),"Non disponible",AND(OR(AE17=0,ISBLANK(AE17)),W17>0,OR(AF17=0,ISBLANK(AF17))),"100% Énergie renouvelable",AE17>0,AE17,AND(OR(AE17=0,ISBLANK(AE17)),OR(AF17=0,ISBLANK(AF17)),OR(W17=0,ISBLANK(W17))),"s. o.")} -> s. o. | AP17: =P17 -> 0 | AW17: =SUM(AQ17:AU17) -> 0 | AY17: =IFERROR(IF(OR(AX17=0,ISBLANK($AP17)),0,IF($AP17="GJ",AX17*V_GES_GJ_GazNaturel,IF($AP17="kWh éq.",AX17*V_GES_kWhEq_GazNaturel))),"") -> 0 | BA17: =IFERROR(IF(OR(AZ17=0,ISBLANK(AP17)),0,IF(AP17="GJ",AZ17*V_GES_GJ_Mazout2Leger,IF(AP17="kWh éq.",AZ17*V_GES_kWhEq_Mazout2Leger))),"") -> 0 | BC17: =IFERROR(IF(OR(BB17=0,ISBLANK(AP17)),0,IF(AP17="GJ",BB17*V_GES_GJ_Propane,IF(AP17="kWh éq.",BB17*V_GES_kWhEq_Propane))),"") -> 0 | BE17: =AY17+BA17+BC17 -> 0 | BF17: =AX17+AZ17+BB17+BD17 -> 0 | BG17: =AW17+BF17 -> 0 | BH17: =IFERROR(IF(ISBLANK($AP17),"",IF($AP17="GJ",BG17/$N17,IF($AP17="kWh éq.",BG17*V_GJ_kWh/$N17,""))),"") | BI17: {=IFERROR(_xlfn.IFS(DATE(RIGHT(B17,4),3,31)<Listes_deroulantes!$F$54,IF(AZ17>0,AZ17/BG17,"Aucun mazout"),DATE(RIGHT(B17,4),3,31)>=Listes_deroulantes!$F$54,IF(BF17>0,BF17/BG17,"Aucun combustible")),"")} | BJ17: {=_xlfn.IFS(BG17=0,"",AND(BG17>0,AZ17=0),"Aucun mazout",BG17>0,AZ17/BG17)} | BK17: =IF(OR(BG17=0,ISBLANK(BG17)),"Non disponible",IF(AND(BF17=0,BG17>0),"Aucun combustible",BF17/BG17)) -> Non disponible | BL17: {=IFERROR(IF(DATE(RIGHT(B17,4),3,31)<Listes_deroulantes!$F$54,VLOOKUP(L17,Listes_deroulantes!$F$3:$J$11,4,FALSE),_xlfn.IFS(DATE(RIGHT(B17,4),3,31)<Avant2025,Exist20205Apres,DATE(RIGHT(B17,4),3,31)<Avant2030,Exist2030Apres,DATE(RIGHT(B17,4),3,31)>Après2030,"0%")),"")} | BM17: {=_xlfn.IFS(OR(BI17="Aucun combustible",BI17="Aucun mazout"),"Oui",AND(BI17="",BL17=""),"",AND(BL17="0%",OR(BI17<>"Aucun combustible",BI17<>"Aucun mazout")),IF(BI17<=0%,"Oui","Non"),AND(BL17<>"0%",OR(BI17<>"Aucun combustible",BI17<>"Aucun mazout")),IF(BI17<=BL17,"Oui","Non"))} | BO17: =AO17 -> s. o. | BP17: {=_xlfn.IFS(AND(BF17>0,OR(BE17=0,ISBLANK(BE17))),"Non disponible",AND(OR(BE17=0,ISBLANK(BE17)),OR(BF17=0,ISBLANK(BF17)),AW17>0),"100% Énergie renouvelable",BE17>0,BE17,AND(OR(BE17=0,ISBLANK(BE17)),OR(BF17=0,ISBLANK(BF17)),OR(AW17=0,ISBLANK(AW17))),"s. o.")} -> s. o. | BQ17: {=IFERROR(_xlfn.IFS(AND(BO17="100% Énergie renouvelable",BP17="100% Énergie renouvelable"),"Aucun GES à réduire",AND(BO17<>"100% Énergie renouvelable",BP17="100% Énergie renouvelable"),BO17,AND(BO17<>"100% Énergie renouvelable",BP17<>"100% Énergie renouvelable"),BO17-BP17,AND(BO17="100% Énergie renouvelable",BP17<>"100% Énergie renouvelable"),"Fournir une explication"),"s. o.")} -> s. o.
W18: =SUM(Q18:U18) -> 0 | Y18: =IFERROR(IF(OR(X18=0,ISBLANK($P18)),0,IF($P18="GJ",X18*V_GES_GJ_GazNaturel,IF($P18="kWh éq.",X18*V_GES_kWhEq_GazNaturel))),"") -> 0 | AA18: =IFERROR(IF(OR(Z18=0,ISBLANK($P18)),0,IF($P18="GJ",Z18*V_GES_GJ_Mazout2Leger,IF($P18="kWh éq.",Z18*V_GES_kWhEq_Mazout2Leger))),"") -> 0 | AC18: =IFERROR(IF(OR(AB18=0,ISBLANK($P18)),0,IF($P18="GJ",AB18*V_GES_GJ_Propane,IF($P18="kWh éq.",AB18*V_GES_kWhEq_Propane))),"") -> 0 | AE18: =Y18+AA18+AC18 -> 0 | AF18: =X18+Z18+AB18+AD18 -> 0 | AG18: =W18+AF18 -> 0 | AH18: =IFERROR(IF(ISBLANK($P18),"",IF($P18="GJ",AG18/$N18,IF($P18="kWh éq.",AG18*V_GJ_kWh/$N18,""))),"") | AI18: {=IFERROR(_xlfn.IFS(DATE(RIGHT(B18,4),3,31)<Listes_deroulantes!$F$54,IF(Z18>0,Z18/AG18,"Aucun mazout"),DATE(RIGHT(B18,4),3,31)>=Listes_deroulantes!$F$54,IF(AF18>0,AF18/AG18,"Aucun combustible")),"")} | AJ18: {=_xlfn.IFS(AG18=0,"",AND(AG18>0,Z18=0),"Aucun mazout",AG18>0,Z18/AG18)} | AK18: {=_xlfn.IFS(AG18=0,0,OR(AF18=0,ISBLANK(AF18)),"Aucun combustible",AND(AF18>0,AG18>0),AF18/AG18)} -> 0 | AL18: {=IFERROR(IF(DATE(RIGHT(B18,4),3,31)<Listes_deroulantes!$F$54,VLOOKUP(L18,Listes_deroulantes!$F$3:$J$11,4,FALSE),_xlfn.IFS(DATE(RIGHT(B18,4),3,31)<Avant2025,Exist2025Avant,DATE(RIGHT(B18,4),3,31)<Avant2030,Exist2030Avant,DATE(RIGHT(B18,4),3,31)>Après2030,Exist2031Avant)),"")} | AM18: {=_xlfn.IFS(OR(AI18="Aucun combustible",AI18="Aucun mazout"),"Oui",AND(AI18="",AL18=""),"",AND(AL18="0%",OR(AI18<>"Aucun combustible",AI18<>"Aucun mazout")),IF(AI18<=0%,"Oui","Non"),AND(AL18<>"0%",OR(AI18<>"Aucun combustible",AI18<>"Aucun mazout")),IF(AI18<=AL18,"Oui","Non"))} | AO18: {=_xlfn.IFS(AND(OR(AE18=0,ISBLANK(AE18)),AF18>0),"Non disponible",AND(OR(AE18=0,ISBLANK(AE18)),W18>0,OR(AF18=0,ISBLANK(AF18))),"100% Énergie renouvelable",AE18>0,AE18,AND(OR(AE18=0,ISBLANK(AE18)),OR(AF18=0,ISBLANK(AF18)),OR(W18=0,ISBLANK(W18))),"s. o.")} -> s. o. | AP18: =P18 -> 0 | AW18: =SUM(AQ18:AU18) -> 0 | AY18: =IFERROR(IF(OR(AX18=0,ISBLANK($AP18)),0,IF($AP18="GJ",AX18*V_GES_GJ_GazNaturel,IF($AP18="kWh éq.",AX18*V_GES_kWhEq_GazNaturel))),"") -> 0 | BA18: =IFERROR(IF(OR(AZ18=0,ISBLANK(AP18)),0,IF(AP18="GJ",AZ18*V_GES_GJ_Mazout2Leger,IF(AP18="kWh éq.",AZ18*V_GES_kWhEq_Mazout2Leger))),"") -> 0 | BC18: =IFERROR(IF(OR(BB18=0,ISBLANK(AP18)),0,IF(AP18="GJ",BB18*V_GES_GJ_Propane,IF(AP18="kWh éq.",BB18*V_GES_kWhEq_Propane))),"") -> 0 | BE18: =AY18+BA18+BC18 -> 0 | BF18: =AX18+AZ18+BB18+BD18 -> 0 | BG18: =AW18+BF18 -> 0 | BH18: =IFERROR(IF(ISBLANK($AP18),"",IF($AP18="GJ",BG18/$N18,IF($AP18="kWh éq.",BG18*V_GJ_kWh/$N18,""))),"") | BI18: {=IFERROR(_xlfn.IFS(DATE(RIGHT(B18,4),3,31)<Listes_deroulantes!$F$54,IF(AZ18>0,AZ18/BG18,"Aucun mazout"),DATE(RIGHT(B18,4),3,31)>=Listes_deroulantes!$F$54,IF(BF18>0,BF18/BG18,"Aucun combustible")),"")} | BJ18: {=_xlfn.IFS(BG18=0,"",AND(BG18>0,AZ18=0),"Aucun mazout",BG18>0,AZ18/BG18)} | BK18: =IF(OR(BG18=0,ISBLANK(BG18)),"Non disponible",IF(AND(BF18=0,BG18>0),"Aucun combustible",BF18/BG18)) -> Non disponible | BL18: {=IFERROR(IF(DATE(RIGHT(B18,4),3,31)<Listes_deroulantes!$F$54,VLOOKUP(L18,Listes_deroulantes!$F$3:$J$11,4,FALSE),_xlfn.IFS(DATE(RIGHT(B18,4),3,31)<Avant2025,Exist20205Apres,DATE(RIGHT(B18,4),3,31)<Avant2030,Exist2030Apres,DATE(RIGHT(B18,4),3,31)>Après2030,"0%")),"")} | BM18: {=_xlfn.IFS(OR(BI18="Aucun combustible",BI18="Aucun mazout"),"Oui",AND(BI18="",BL18=""),"",AND(BL18="0%",OR(BI18<>"Aucun combustible",BI18<>"Aucun mazout")),IF(BI18<=0%,"Oui","Non"),AND(BL18<>"0%",OR(BI18<>"Aucun combustible",BI18<>"Aucun mazout")),IF(BI18<=BL18,"Oui","Non"))} | BO18: =AO18 -> s. o. | BP18: {=_xlfn.IFS(AND(BF18>0,OR(BE18=0,ISBLANK(BE18))),"Non disponible",AND(OR(BE18=0,ISBLANK(BE18)),OR(BF18=0,ISBLANK(BF18)),AW18>0),"100% Énergie renouvelable",BE18>0,BE18,AND(OR(BE18=0,ISBLANK(BE18)),OR(BF18=0,ISBLANK(BF18)),OR(AW18=0,ISBLANK(AW18))),"s. o.")} -> s. o. | BQ18: {=IFERROR(_xlfn.IFS(AND(BO18="100% Énergie renouvelable",BP18="100% Énergie renouvelable"),"Aucun GES à réduire",AND(BO18<>"100% Énergie renouvelable",BP18="100% Énergie renouvelable"),BO18,AND(BO18<>"100% Énergie renouvelable",BP18<>"100% Énergie renouvelable"),BO18-BP18,AND(BO18="100% Énergie renouvelable",BP18<>"100% Énergie renouvelable"),"Fournir une explication"),"s. o.")} -> s. o.
W19: =SUM(Q19:U19) -> 0 | Y19: =IFERROR(IF(OR(X19=0,ISBLANK($P19)),0,IF($P19="GJ",X19*V_GES_GJ_GazNaturel,IF($P19="kWh éq.",X19*V_GES_kWhEq_GazNaturel))),"") -> 0 | AA19: =IFERROR(IF(OR(Z19=0,ISBLANK($P19)),0,IF($P19="GJ",Z19*V_GES_GJ_Mazout2Leger,IF($P19="kWh éq.",Z19*V_GES_kWhEq_Mazout2Leger))),"") -> 0 | AC19: =IFERROR(IF(OR(AB19=0,ISBLANK($P19)),0,IF($P19="GJ",AB19*V_GES_GJ_Propane,IF($P19="kWh éq.",AB19*V_GES_kWhEq_Propane))),"") -> 0 | AE19: =Y19+AA19+AC19 -> 0 | AF19: =X19+Z19+AB19+AD19 -> 0 | AG19: =W19+AF19 -> 0 | AH19: =IFERROR(IF(ISBLANK($P19),"",IF($P19="GJ",AG19/$N19,IF($P19="kWh éq.",AG19*V_GJ_kWh/$N19,""))),"") | AI19: {=IFERROR(_xlfn.IFS(DATE(RIGHT(B19,4),3,31)<Listes_deroulantes!$F$54,IF(Z19>0,Z19/AG19,"Aucun mazout"),DATE(RIGHT(B19,4),3,31)>=Listes_deroulantes!$F$54,IF(AF19>0,AF19/AG19,"Aucun combustible")),"")} | AJ19: {=_xlfn.IFS(AG19=0,"",AND(AG19>0,Z19=0),"Aucun mazout",AG19>0,Z19/AG19)} | AK19: {=_xlfn.IFS(AG19=0,0,OR(AF19=0,ISBLANK(AF19)),"Aucun combustible",AND(AF19>0,AG19>0),AF19/AG19)} -> 0 | AL19: {=IFERROR(IF(DATE(RIGHT(B19,4),3,31)<Listes_deroulantes!$F$54,VLOOKUP(L19,Listes_deroulantes!$F$3:$J$11,4,FALSE),_xlfn.IFS(DATE(RIGHT(B19,4),3,31)<Avant2025,Exist2025Avant,DATE(RIGHT(B19,4),3,31)<Avant2030,Exist2030Avant,DATE(RIGHT(B19,4),3,31)>Après2030,Exist2031Avant)),"")} | AM19: {=_xlfn.IFS(OR(AI19="Aucun combustible",AI19="Aucun mazout"),"Oui",AND(AI19="",AL19=""),"",AND(AL19="0%",OR(AI19<>"Aucun combustible",AI19<>"Aucun mazout")),IF(AI19<=0%,"Oui","Non"),AND(AL19<>"0%",OR(AI19<>"Aucun combustible",AI19<>"Aucun mazout")),IF(AI19<=AL19,"Oui","Non"))} | AO19: {=_xlfn.IFS(AND(OR(AE19=0,ISBLANK(AE19)),AF19>0),"Non disponible",AND(OR(AE19=0,ISBLANK(AE19)),W19>0,OR(AF19=0,ISBLANK(AF19))),"100% Énergie renouvelable",AE19>0,AE19,AND(OR(AE19=0,ISBLANK(AE19)),OR(AF19=0,ISBLANK(AF19)),OR(W19=0,ISBLANK(W19))),"s. o.")} -> s. o. | AP19: =P19 -> 0 | AW19: =SUM(AQ19:AU19) -> 0 | AY19: =IFERROR(IF(OR(AX19=0,ISBLANK($AP19)),0,IF($AP19="GJ",AX19*V_GES_GJ_GazNaturel,IF($AP19="kWh éq.",AX19*V_GES_kWhEq_GazNaturel))),"") -> 0 | BA19: =IFERROR(IF(OR(AZ19=0,ISBLANK(AP19)),0,IF(AP19="GJ",AZ19*V_GES_GJ_Mazout2Leger,IF(AP19="kWh éq.",AZ19*V_GES_kWhEq_Mazout2Leger))),"") -> 0 | BC19: =IFERROR(IF(OR(BB19=0,ISBLANK(AP19)),0,IF(AP19="GJ",BB19*V_GES_GJ_Propane,IF(AP19="kWh éq.",BB19*V_GES_kWhEq_Propane))),"") -> 0 | BE19: =AY19+BA19+BC19 -> 0 | BF19: =AX19+AZ19+BB19+BD19 -> 0 | BG19: =AW19+BF19 -> 0 | BH19: =IFERROR(IF(ISBLANK($AP19),"",IF($AP19="GJ",BG19/$N19,IF($AP19="kWh éq.",BG19*V_GJ_kWh/$N19,""))),"") | BI19: {=IFERROR(_xlfn.IFS(DATE(RIGHT(B19,4),3,31)<Listes_deroulantes!$F$54,IF(AZ19>0,AZ19/BG19,"Aucun mazout"),DATE(RIGHT(B19,4),3,31)>=Listes_deroulantes!$F$54,IF(BF19>0,BF19/BG19,"Aucun combustible")),"")} | BJ19: {=_xlfn.IFS(BG19=0,"",AND(BG19>0,AZ19=0),"Aucun mazout",BG19>0,AZ19/BG19)} | BK19: =IF(OR(BG19=0,ISBLANK(BG19)),"Non disponible",IF(AND(BF19=0,BG19>0),"Aucun combustible",BF19/BG19)) -> Non disponible | BL19: {=IFERROR(IF(DATE(RIGHT(B19,4),3,31)<Listes_deroulantes!$F$54,VLOOKUP(L19,Listes_deroulantes!$F$3:$J$11,4,FALSE),_xlfn.IFS(DATE(RIGHT(B19,4),3,31)<Avant2025,Exist20205Apres,DATE(RIGHT(B19,4),3,31)<Avant2030,Exist2030Apres,DATE(RIGHT(B19,4),3,31)>Après2030,"0%")),"")} | BM19: {=_xlfn.IFS(OR(BI19="Aucun combustible",BI19="Aucun mazout"),"Oui",AND(BI19="",BL19=""),"",AND(BL19="0%",OR(BI19<>"Aucun combustible",BI19<>"Aucun mazout")),IF(BI19<=0%,"Oui","Non"),AND(BL19<>"0%",OR(BI19<>"Aucun combustible",BI19<>"Aucun mazout")),IF(BI19<=BL19,"Oui","Non"))} | BO19: =AO19 -> s. o. | BP19: {=_xlfn.IFS(AND(BF19>0,OR(BE19=0,ISBLANK(BE19))),"Non disponible",AND(OR(BE19=0,ISBLANK(BE19)),OR(BF19=0,ISBLANK(BF19)),AW19>0),"100% Énergie renouvelable",BE19>0,BE19,AND(OR(BE19=0,ISBLANK(BE19)),OR(BF19=0,ISBLANK(BF19)),OR(AW19=0,ISBLANK(AW19))),"s. o.")} -> s. o. | BQ19: {=IFERROR(_xlfn.IFS(AND(BO19="100% Énergie renouvelable",BP19="100% Énergie renouvelable"),"Aucun GES à réduire",AND(BO19<>"100% Énergie renouvelable",BP19="100% Énergie renouvelable"),BO19,AND(BO19<>"100% Énergie renouvelable",BP19<>"100% Énergie renouvelable"),BO19-BP19,AND(BO19="100% Énergie renouvelable",BP19<>"100% Énergie renouvelable"),"Fournir une explication"),"s. o.")} -> s. o.
W20: =SUM(Q20:U20) -> 0 | Y20: =IFERROR(IF(OR(X20=0,ISBLANK($P20)),0,IF($P20="GJ",X20*V_GES_GJ_GazNaturel,IF($P20="kWh éq.",X20*V_GES_kWhEq_GazNaturel))),"") -> 0 | AA20: =IFERROR(IF(OR(Z20=0,ISBLANK($P20)),0,IF($P20="GJ",Z20*V_GES_GJ_Mazout2Leger,IF($P20="kWh éq.",Z20*V_GES_kWhEq_Mazout2Leger))),"") -> 0 | AC20: =IFERROR(IF(OR(AB20=0,ISBLANK($P20)),0,IF($P20="GJ",AB20*V_GES_GJ_Propane,IF($P20="kWh éq.",AB20*V_GES_kWhEq_Propane))),"") -> 0 | AE20: =Y20+AA20+AC20 -> 0 | AF20: =X20+Z20+AB20+AD20 -> 0 | AG20: =W20+AF20 -> 0 | AH20: =IFERROR(IF(ISBLANK($P20),"",IF($P20="GJ",AG20/$N20,IF($P20="kWh éq.",AG20*V_GJ_kWh/$N20,""))),"") | AI20: {=IFERROR(_xlfn.IFS(DATE(RIGHT(B20,4),3,31)<Listes_deroulantes!$F$54,IF(Z20>0,Z20/AG20,"Aucun mazout"),DATE(RIGHT(B20,4),3,31)>=Listes_deroulantes!$F$54,IF(AF20>0,AF20/AG20,"Aucun combustible")),"")} | AJ20: {=_xlfn.IFS(AG20=0,"",AND(AG20>0,Z20=0),"Aucun mazout",AG20>0,Z20/AG20)} | AK20: {=_xlfn.IFS(AG20=0,0,OR(AF20=0,ISBLANK(AF20)),"Aucun combustible",AND(AF20>0,AG20>0),AF20/AG20)} -> 0 | AL20: {=IFERROR(IF(DATE(RIGHT(B20,4),3,31)<Listes_deroulantes!$F$54,VLOOKUP(L20,Listes_deroulantes!$F$3:$J$11,4,FALSE),_xlfn.IFS(DATE(RIGHT(B20,4),3,31)<Avant2025,Exist2025Avant,DATE(RIGHT(B20,4),3,31)<Avant2030,Exist2030Avant,DATE(RIGHT(B20,4),3,31)>Après2030,Exist2031Avant)),"")} | AM20: {=_xlfn.IFS(OR(AI20="Aucun combustible",AI20="Aucun mazout"),"Oui",AND(AI20="",AL20=""),"",AND(AL20="0%",OR(AI20<>"Aucun combustible",AI20<>"Aucun mazout")),IF(AI20<=0%,"Oui","Non"),AND(AL20<>"0%",OR(AI20<>"Aucun combustible",AI20<>"Aucun mazout")),IF(AI20<=AL20,"Oui","Non"))} | AO20: {=_xlfn.IFS(AND(OR(AE20=0,ISBLANK(AE20)),AF20>0),"Non disponible",AND(OR(AE20=0,ISBLANK(AE20)),W20>0,OR(AF20=0,ISBLANK(AF20))),"100% Énergie renouvelable",AE20>0,AE20,AND(OR(AE20=0,ISBLANK(AE20)),OR(AF20=0,ISBLANK(AF20)),OR(W20=0,ISBLANK(W20))),"s. o.")} -> s. o. | AP20: =P20 -> 0 | AW20: =SUM(AQ20:AU20) -> 0 | AY20: =IFERROR(IF(OR(AX20=0,ISBLANK($AP20)),0,IF($AP20="GJ",AX20*V_GES_GJ_GazNaturel,IF($AP20="kWh éq.",AX20*V_GES_kWhEq_GazNaturel))),"") -> 0 | BA20: =IFERROR(IF(OR(AZ20=0,ISBLANK(AP20)),0,IF(AP20="GJ",AZ20*V_GES_GJ_Mazout2Leger,IF(AP20="kWh éq.",AZ20*V_GES_kWhEq_Mazout2Leger))),"") -> 0 | BC20: =IFERROR(IF(OR(BB20=0,ISBLANK(AP20)),0,IF(AP20="GJ",BB20*V_GES_GJ_Propane,IF(AP20="kWh éq.",BB20*V_GES_kWhEq_Propane))),"") -> 0 | BE20: =AY20+BA20+BC20 -> 0 | BF20: =AX20+AZ20+BB20+BD20 -> 0 | BG20: =AW20+BF20 -> 0 | BH20: =IFERROR(IF(ISBLANK($AP20),"",IF($AP20="GJ",BG20/$N20,IF($AP20="kWh éq.",BG20*V_GJ_kWh/$N20,""))),"") | BI20: {=IFERROR(_xlfn.IFS(DATE(RIGHT(B20,4),3,31)<Listes_deroulantes!$F$54,IF(AZ20>0,AZ20/BG20,"Aucun mazout"),DATE(RIGHT(B20,4),3,31)>=Listes_deroulantes!$F$54,IF(BF20>0,BF20/BG20,"Aucun combustible")),"")} | BJ20: {=_xlfn.IFS(BG20=0,"",AND(BG20>0,AZ20=0),"Aucun mazout",BG20>0,AZ20/BG20)} | BK20: =IF(OR(BG20=0,ISBLANK(BG20)),"Non disponible",IF(AND(BF20=0,BG20>0),"Aucun combustible",BF20/BG20)) -> Non disponible | BL20: {=IFERROR(IF(DATE(RIGHT(B20,4),3,31)<Listes_deroulantes!$F$54,VLOOKUP(L20,Listes_deroulantes!$F$3:$J$11,4,FALSE),_xlfn.IFS(DATE(RIGHT(B20,4),3,31)<Avant2025,Exist20205Apres,DATE(RIGHT(B20,4),3,31)<Avant2030,Exist2030Apres,DATE(RIGHT(B20,4),3,31)>Après2030,"0%")),"")} | BM20: {=_xlfn.IFS(OR(BI20="Aucun combustible",BI20="Aucun mazout"),"Oui",AND(BI20="",BL20=""),"",AND(BL20="0%",OR(BI20<>"Aucun combustible",BI20<>"Aucun mazout")),IF(BI20<=0%,"Oui","Non"),AND(BL20<>"0%",OR(BI20<>"Aucun combustible",BI20<>"Aucun mazout")),IF(BI20<=BL20,"Oui","Non"))} | BO20: =AO20 -> s. o. | BP20: {=_xlfn.IFS(AND(BF20>0,OR(BE20=0,ISBLANK(BE20))),"Non disponible",AND(OR(BE20=0,ISBLANK(BE20)),OR(BF20=0,ISBLANK(BF20)),AW20>0),"100% Énergie renouvelable",BE20>0,BE20,AND(OR(BE20=0,ISBLANK(BE20)),OR(BF20=0,ISBLANK(BF20)),OR(AW20=0,ISBLANK(AW20))),"s. o.")} -> s. o. | BQ20: {=IFERROR(_xlfn.IFS(AND(BO20="100% Énergie renouvelable",BP20="100% Énergie renouvelable"),"Aucun GES à réduire",AND(BO20<>"100% Énergie renouvelable",BP20="100% Énergie renouvelable"),BO20,AND(BO20<>"100% Énergie renouvelable",BP20<>"100% Énergie renouvelable"),BO20-BP20,AND(BO20="100% Énergie renouvelable",BP20<>"100% Énergie renouvelable"),"Fournir une explication"),"s. o.")} -> s. o.
W21: =SUM(Q21:U21) -> 0 | Y21: =IFERROR(IF(OR(X21=0,ISBLANK($P21)),0,IF($P21="GJ",X21*V_GES_GJ_GazNaturel,IF($P21="kWh éq.",X21*V_GES_kWhEq_GazNaturel))),"") -> 0 | AA21: =IFERROR(IF(OR(Z21=0,ISBLANK($P21)),0,IF($P21="GJ",Z21*V_GES_GJ_Mazout2Leger,IF($P21="kWh éq.",Z21*V_GES_kWhEq_Mazout2Leger))),"") -> 0 | AC21: =IFERROR(IF(OR(AB21=0,ISBLANK($P21)),0,IF($P21="GJ",AB21*V_GES_GJ_Propane,IF($P21="kWh éq.",AB21*V_GES_kWhEq_Propane))),"") -> 0 | AE21: =Y21+AA21+AC21 -> 0 | AF21: =X21+Z21+AB21+AD21 -> 0 | AG21: =W21+AF21 -> 0 | AH21: =IFERROR(IF(ISBLANK($P21),"",IF($P21="GJ",AG21/$N21,IF($P21="kWh éq.",AG21*V_GJ_kWh/$N21,""))),"") | AI21: {=IFERROR(_xlfn.IFS(DATE(RIGHT(B21,4),3,31)<Listes_deroulantes!$F$54,IF(Z21>0,Z21/AG21,"Aucun mazout"),DATE(RIGHT(B21,4),3,31)>=Listes_deroulantes!$F$54,IF(AF21>0,AF21/AG21,"Aucun combustible")),"")} | AJ21: {=_xlfn.IFS(AG21=0,"",AND(AG21>0,Z21=0),"Aucun mazout",AG21>0,Z21/AG21)} | AK21: {=_xlfn.IFS(AG21=0,0,OR(AF21=0,ISBLANK(AF21)),"Aucun combustible",AND(AF21>0,AG21>0),AF21/AG21)} -> 0 | AL21: {=IFERROR(IF(DATE(RIGHT(B21,4),3,31)<Listes_deroulantes!$F$54,VLOOKUP(L21,Listes_deroulantes!$F$3:$J$11,4,FALSE),_xlfn.IFS(DATE(RIGHT(B21,4),3,31)<Avant2025,Exist2025Avant,DATE(RIGHT(B21,4),3,31)<Avant2030,Exist2030Avant,DATE(RIGHT(B21,4),3,31)>Après2030,Exist2031Avant)),"")} | AM21: {=_xlfn.IFS(OR(AI21="Aucun combustible",AI21="Aucun mazout"),"Oui",AND(AI21="",AL21=""),"",AND(AL21="0%",OR(AI21<>"Aucun combustible",AI21<>"Aucun mazout")),IF(AI21<=0%,"Oui","Non"),AND(AL21<>"0%",OR(AI21<>"Aucun combustible",AI21<>"Aucun mazout")),IF(AI21<=AL21,"Oui","Non"))} | AO21: {=_xlfn.IFS(AND(OR(AE21=0,ISBLANK(AE21)),AF21>0),"Non disponible",AND(OR(AE21=0,ISBLANK(AE21)),W21>0,OR(AF21=0,ISBLANK(AF21))),"100% Énergie renouvelable",AE21>0,AE21,AND(OR(AE21=0,ISBLANK(AE21)),OR(AF21=0,ISBLANK(AF21)),OR(W21=0,ISBLANK(W21))),"s. o.")} -> s. o. | AP21: =P21 -> 0 | AW21: =SUM(AQ21:AU21) -> 0 | AY21: =IFERROR(IF(OR(AX21=0,ISBLANK($AP21)),0,IF($AP21="GJ",AX21*V_GES_GJ_GazNaturel,IF($AP21="kWh éq.",AX21*V_GES_kWhEq_GazNaturel))),"") -> 0 | BA21: =IFERROR(IF(OR(AZ21=0,ISBLANK(AP21)),0,IF(AP21="GJ",AZ21*V_GES_GJ_Mazout2Leger,IF(AP21="kWh éq.",AZ21*V_GES_kWhEq_Mazout2Leger))),"") -> 0 | BC21: =IFERROR(IF(OR(BB21=0,ISBLANK(AP21)),0,IF(AP21="GJ",BB21*V_GES_GJ_Propane,IF(AP21="kWh éq.",BB21*V_GES_kWhEq_Propane))),"") -> 0 | BE21: =AY21+BA21+BC21 -> 0 | BF21: =AX21+AZ21+BB21+BD21 -> 0 | BG21: =AW21+BF21 -> 0 | BH21: =IFERROR(IF(ISBLANK($AP21),"",IF($AP21="GJ",BG21/$N21,IF($AP21="kWh éq.",BG21*V_GJ_kWh/$N21,""))),"") | BI21: {=IFERROR(_xlfn.IFS(DATE(RIGHT(B21,4),3,31)<Listes_deroulantes!$F$54,IF(AZ21>0,AZ21/BG21,"Aucun mazout"),DATE(RIGHT(B21,4),3,31)>=Listes_deroulantes!$F$54,IF(BF21>0,BF21/BG21,"Aucun combustible")),"")} | BJ21: {=_xlfn.IFS(BG21=0,"",AND(BG21>0,AZ21=0),"Aucun mazout",BG21>0,AZ21/BG21)} | BK21: =IF(OR(BG21=0,ISBLANK(BG21)),"Non disponible",IF(AND(BF21=0,BG21>0),"Aucun combustible",BF21/BG21)) -> Non disponible | BL21: {=IFERROR(IF(DATE(RIGHT(B21,4),3,31)<Listes_deroulantes!$F$54,VLOOKUP(L21,Listes_deroulantes!$F$3:$J$11,4,FALSE),_xlfn.IFS(DATE(RIGHT(B21,4),3,31)<Avant2025,Exist20205Apres,DATE(RIGHT(B21,4),3,31)<Avant2030,Exist2030Apres,DATE(RIGHT(B21,4),3,31)>Après2030,"0%")),"")} | BM21: {=_xlfn.IFS(OR(BI21="Aucun combustible",BI21="Aucun mazout"),"Oui",AND(BI21="",BL21=""),"",AND(BL21="0%",OR(BI21<>"Aucun combustible",BI21<>"Aucun mazout")),IF(BI21<=0%,"Oui","Non"),AND(BL21<>"0%",OR(BI21<>"Aucun combustible",BI21<>"Aucun mazout")),IF(BI21<=BL21,"Oui","Non"))} | BO21: =AO21 -> s. o. | BP21: {=_xlfn.IFS(AND(BF21>0,OR(BE21=0,ISBLANK(BE21))),"Non disponible",AND(OR(BE21=0,ISBLANK(BE21)),OR(BF21=0,ISBLANK(BF21)),AW21>0),"100% Énergie renouvelable",BE21>0,BE21,AND(OR(BE21=0,ISBLANK(BE21)),OR(BF21=0,ISBLANK(BF21)),OR(AW21=0,ISBLANK(AW21))),"s. o.")} -> s. o. | BQ21: {=IFERROR(_xlfn.IFS(AND(BO21="100% Énergie renouvelable",BP21="100% Énergie renouvelable"),"Aucun GES à réduire",AND(BO21<>"100% Énergie renouvelable",BP21="100% Énergie renouvelable"),BO21,AND(BO21<>"100% Énergie renouvelable",BP21<>"100% Énergie renouvelable"),BO21-BP21,AND(BO21="100% Énergie renouvelable",BP21<>"100% Énergie renouvelable"),"Fournir une explication"),"s. o.")} -> s. o.
W22: =SUM(Q22:U22) -> 0 | Y22: =IFERROR(IF(OR(X22=0,ISBLANK($P22)),0,IF($P22="GJ",X22*V_GES_GJ_GazNaturel,IF($P22="kWh éq.",X22*V_GES_kWhEq_GazNaturel))),"") -> 0 | AA22: =IFERROR(IF(OR(Z22=0,ISBLANK($P22)),0,IF($P22="GJ",Z22*V_GES_GJ_Mazout2Leger,IF($P22="kWh éq.",Z22*V_GES_kWhEq_Mazout2Leger))),"") -> 0 | AC22: =IFERROR(IF(OR(AB22=0,ISBLANK($P22)),0,IF($P22="GJ",AB22*V_GES_GJ_Propane,IF($P22="kWh éq.",AB22*V_GES_kWhEq_Propane))),"") -> 0 | AE22: =Y22+AA22+AC22 -> 0 | AF22: =X22+Z22+AB22+AD22 -> 0 | AG22: =W22+AF22 -> 0 | AH22: =IFERROR(IF(ISBLANK($P22),"",IF($P22="GJ",AG22/$N22,IF($P22="kWh éq.",AG22*V_GJ_kWh/$N22,""))),"") | AI22: {=IFERROR(_xlfn.IFS(DATE(RIGHT(B22,4),3,31)<Listes_deroulantes!$F$54,IF(Z22>0,Z22/AG22,"Aucun mazout"),DATE(RIGHT(B22,4),3,31)>=Listes_deroulantes!$F$54,IF(AF22>0,AF22/AG22,"Aucun combustible")),"")} | AJ22: {=_xlfn.IFS(AG22=0,"",AND(AG22>0,Z22=0),"Aucun mazout",AG22>0,Z22/AG22)} | AK22: {=_xlfn.IFS(AG22=0,0,OR(AF22=0,ISBLANK(AF22)),"Aucun combustible",AND(AF22>0,AG22>0),AF22/AG22)} -> 0 | AL22: {=IFERROR(IF(DATE(RIGHT(B22,4),3,31)<Listes_deroulantes!$F$54,VLOOKUP(L22,Listes_deroulantes!$F$3:$J$11,4,FALSE),_xlfn.IFS(DATE(RIGHT(B22,4),3,31)<Avant2025,Exist2025Avant,DATE(RIGHT(B22,4),3,31)<Avant2030,Exist2030Avant,DATE(RIGHT(B22,4),3,31)>Après2030,Exist2031Avant)),"")} | AM22: {=_xlfn.IFS(OR(AI22="Aucun combustible",AI22="Aucun mazout"),"Oui",AND(AI22="",AL22=""),"",AND(AL22="0%",OR(AI22<>"Aucun combustible",AI22<>"Aucun mazout")),IF(AI22<=0%,"Oui","Non"),AND(AL22<>"0%",OR(AI22<>"Aucun combustible",AI22<>"Aucun mazout")),IF(AI22<=AL22,"Oui","Non"))} | AO22: {=_xlfn.IFS(AND(OR(AE22=0,ISBLANK(AE22)),AF22>0),"Non disponible",AND(OR(AE22=0,ISBLANK(AE22)),W22>0,OR(AF22=0,ISBLANK(AF22))),"100% Énergie renouvelable",AE22>0,AE22,AND(OR(AE22=0,ISBLANK(AE22)),OR(AF22=0,ISBLANK(AF22)),OR(W22=0,ISBLANK(W22))),"s. o.")} -> s. o. | AP22: =P22 -> 0 | AW22: =SUM(AQ22:AU22) -> 0 | AY22: =IFERROR(IF(OR(AX22=0,ISBLANK($AP22)),0,IF($AP22="GJ",AX22*V_GES_GJ_GazNaturel,IF($AP22="kWh éq.",AX22*V_GES_kWhEq_GazNaturel))),"") -> 0 | BA22: =IFERROR(IF(OR(AZ22=0,ISBLANK(AP22)),0,IF(AP22="GJ",AZ22*V_GES_GJ_Mazout2Leger,IF(AP22="kWh éq.",AZ22*V_GES_kWhEq_Mazout2Leger))),"") -> 0 | BC22: =IFERROR(IF(OR(BB22=0,ISBLANK(AP22)),0,IF(AP22="GJ",BB22*V_GES_GJ_Propane,IF(AP22="kWh éq.",BB22*V_GES_kWhEq_Propane))),"") -> 0 | BE22: =AY22+BA22+BC22 -> 0 | BF22: =AX22+AZ22+BB22+BD22 -> 0 | BG22: =AW22+BF22 -> 0 | BH22: =IFERROR(IF(ISBLANK($AP22),"",IF($AP22="GJ",BG22/$N22,IF($AP22="kWh éq.",BG22*V_GJ_kWh/$N22,""))),"") | BI22: {=IFERROR(_xlfn.IFS(DATE(RIGHT(B22,4),3,31)<Listes_deroulantes!$F$54,IF(AZ22>0,AZ22/BG22,"Aucun mazout"),DATE(RIGHT(B22,4),3,31)>=Listes_deroulantes!$F$54,IF(BF22>0,BF22/BG22,"Aucun combustible")),"")} | BJ22: {=_xlfn.IFS(BG22=0,"",AND(BG22>0,AZ22=0),"Aucun mazout",BG22>0,AZ22/BG22)} | BK22: =IF(OR(BG22=0,ISBLANK(BG22)),"Non disponible",IF(AND(BF22=0,BG22>0),"Aucun combustible",BF22/BG22)) -> Non disponible | BL22: {=IFERROR(IF(DATE(RIGHT(B22,4),3,31)<Listes_deroulantes!$F$54,VLOOKUP(L22,Listes_deroulantes!$F$3:$J$11,4,FALSE),_xlfn.IFS(DATE(RIGHT(B22,4),3,31)<Avant2025,Exist20205Apres,DATE(RIGHT(B22,4),3,31)<Avant2030,Exist2030Apres,DATE(RIGHT(B22,4),3,31)>Après2030,"0%")),"")} | BM22: {=_xlfn.IFS(OR(BI22="Aucun combustible",BI22="Aucun mazout"),"Oui",AND(BI22="",BL22=""),"",AND(BL22="0%",OR(BI22<>"Aucun combustible",BI22<>"Aucun mazout")),IF(BI22<=0%,"Oui","Non"),AND(BL22<>"0%",OR(BI22<>"Aucun combustible",BI22<>"Aucun mazout")),IF(BI22<=BL22,"Oui","Non"))} | BO22: =AO22 -> s. o. | BP22: {=_xlfn.IFS(AND(BF22>0,OR(BE22=0,ISBLANK(BE22))),"Non disponible",AND(OR(BE22=0,ISBLANK(BE22)),OR(BF22=0,ISBLANK(BF22)),AW22>0),"100% Énergie renouvelable",BE22>0,BE22,AND(OR(BE22=0,ISBLANK(BE22)),OR(BF22=0,ISBLANK(BF22)),OR(AW22=0,ISBLANK(AW22))),"s. o.")} -> s. o. | BQ22: {=IFERROR(_xlfn.IFS(AND(BO22="100% Énergie renouvelable",BP22="100% Énergie renouvelable"),"Aucun GES à réduire",AND(BO22<>"100% Énergie renouvelable",BP22="100% Énergie renouvelable"),BO22,AND(BO22<>"100% Énergie renouvelable",BP22<>"100% Énergie renouvelable"),BO22-BP22,AND(BO22="100% Énergie renouvelable",BP22<>"100% Énergie renouvelable"),"Fournir une explication"),"s. o.")} -> s. o.
W23: =SUM(Q23:U23) -> 0 | Y23: =IFERROR(IF(OR(X23=0,ISBLANK($P23)),0,IF($P23="GJ",X23*V_GES_GJ_GazNaturel,IF($P23="kWh éq.",X23*V_GES_kWhEq_GazNaturel))),"") -> 0 | AA23: =IFERROR(IF(OR(Z23=0,ISBLANK($P23)),0,IF($P23="GJ",Z23*V_GES_GJ_Mazout2Leger,IF($P23="kWh éq.",Z23*V_GES_kWhEq_Mazout2Leger))),"") -> 0 | AC23: =IFERROR(IF(OR(AB23=0,ISBLANK($P23)),0,IF($P23="GJ",AB23*V_GES_GJ_Propane,IF($P23="kWh éq.",AB23*V_GES_kWhEq_Propane))),"") -> 0 | AE23: =Y23+AA23+AC23 -> 0 | AF23: =X23+Z23+AB23+AD23 -> 0 | AG23: =W23+AF23 -> 0 | AH23: =IFERROR(IF(ISBLANK($P23),"",IF($P23="GJ",AG23/$N23,IF($P23="kWh éq.",AG23*V_GJ_kWh/$N23,""))),"") | AI23: {=IFERROR(_xlfn.IFS(DATE(RIGHT(B23,4),3,31)<Listes_deroulantes!$F$54,IF(Z23>0,Z23/AG23,"Aucun mazout"),DATE(RIGHT(B23,4),3,31)>=Listes_deroulantes!$F$54,IF(AF23>0,AF23/AG23,"Aucun combustible")),"")} | AJ23: {=_xlfn.IFS(AG23=0,"",AND(AG23>0,Z23=0),"Aucun mazout",AG23>0,Z23/AG23)} | AK23: {=_xlfn.IFS(AG23=0,0,OR(AF23=0,ISBLANK(AF23)),"Aucun combustible",AND(AF23>0,AG23>0),AF23/AG23)} -> 0 | AL23: {=IFERROR(IF(DATE(RIGHT(B23,4),3,31)<Listes_deroulantes!$F$54,VLOOKUP(L23,Listes_deroulantes!$F$3:$J$11,4,FALSE),_xlfn.IFS(DATE(RIGHT(B23,4),3,31)<Avant2025,Exist2025Avant,DATE(RIGHT(B23,4),3,31)<Avant2030,Exist2030Avant,DATE(RIGHT(B23,4),3,31)>Après2030,Exist2031Avant)),"")} | AM23: {=_xlfn.IFS(OR(AI23="Aucun combustible",AI23="Aucun mazout"),"Oui",AND(AI23="",AL23=""),"",AND(AL23="0%",OR(AI23<>"Aucun combustible",AI23<>"Aucun mazout")),IF(AI23<=0%,"Oui","Non"),AND(AL23<>"0%",OR(AI23<>"Aucun combustible",AI23<>"Aucun mazout")),IF(AI23<=AL23,"Oui","Non"))} | AO23: {=_xlfn.IFS(AND(OR(AE23=0,ISBLANK(AE23)),AF23>0),"Non disponible",AND(OR(AE23=0,ISBLANK(AE23)),W23>0,OR(AF23=0,ISBLANK(AF23))),"100% Énergie renouvelable",AE23>0,AE23,AND(OR(AE23=0,ISBLANK(AE23)),OR(AF23=0,ISBLANK(AF23)),OR(W23=0,ISBLANK(W23))),"s. o.")} -> s. o. | AP23: =P23 -> 0 | AW23: =SUM(AQ23:AU23) -> 0 | AY23: =IFERROR(IF(OR(AX23=0,ISBLANK($AP23)),0,IF($AP23="GJ",AX23*V_GES_GJ_GazNaturel,IF($AP23="kWh éq.",AX23*V_GES_kWhEq_GazNaturel))),"") -> 0 | BA23: =IFERROR(IF(OR(AZ23=0,ISBLANK(AP23)),0,IF(AP23="GJ",AZ23*V_GES_GJ_Mazout2Leger,IF(AP23="kWh éq.",AZ23*V_GES_kWhEq_Mazout2Leger))),"") -> 0 | BC23: =IFERROR(IF(OR(BB23=0,ISBLANK(AP23)),0,IF(AP23="GJ",BB23*V_GES_GJ_Propane,IF(AP23="kWh éq.",BB23*V_GES_kWhEq_Propane))),"") -> 0 | BE23: =AY23+BA23+BC23 -> 0 | BF23: =AX23+AZ23+BB23+BD23 -> 0 | BG23: =AW23+BF23 -> 0 | BH23: =IFERROR(IF(ISBLANK($AP23),"",IF($AP23="GJ",BG23/$N23,IF($AP23="kWh éq.",BG23*V_GJ_kWh/$N23,""))),"") | BI23: {=IFERROR(_xlfn.IFS(DATE(RIGHT(B23,4),3,31)<Listes_deroulantes!$F$54,IF(AZ23>0,AZ23/BG23,"Aucun mazout"),DATE(RIGHT(B23,4),3,31)>=Listes_deroulantes!$F$54,IF(BF23>0,BF23/BG23,"Aucun combustible")),"")} | BJ23: {=_xlfn.IFS(BG23=0,"",AND(BG23>0,AZ23=0),"Aucun mazout",BG23>0,AZ23/BG23)} | BK23: =IF(OR(BG23=0,ISBLANK(BG23)),"Non disponible",IF(AND(BF23=0,BG23>0),"Aucun combustible",BF23/BG23)) -> Non disponible | BL23: {=IFERROR(IF(DATE(RIGHT(B23,4),3,31)<Listes_deroulantes!$F$54,VLOOKUP(L23,Listes_deroulantes!$F$3:$J$11,4,FALSE),_xlfn.IFS(DATE(RIGHT(B23,4),3,31)<Avant2025,Exist20205Apres,DATE(RIGHT(B23,4),3,31)<Avant2030,Exist2030Apres,DATE(RIGHT(B23,4),3,31)>Après2030,"0%")),"")} | BM23: {=_xlfn.IFS(OR(BI23="Aucun combustible",BI23="Aucun mazout"),"Oui",AND(BI23="",BL23=""),"",AND(BL23="0%",OR(BI23<>"Aucun combustible",BI23<>"Aucun mazout")),IF(BI23<=0%,"Oui","Non"),AND(BL23<>"0%",OR(BI23<>"Aucun combustible",BI23<>"Aucun mazout")),IF(BI23<=BL23,"Oui","Non"))} | BO23: =AO23 -> s. o. | BP23: {=_xlfn.IFS(AND(BF23>0,OR(BE23=0,ISBLANK(BE23))),"Non disponible",AND(OR(BE23=0,ISBLANK(BE23)),OR(BF23=0,ISBLANK(BF23)),AW23>0),"100% Énergie renouvelable",BE23>0,BE23,AND(OR(BE23=0,ISBLANK(BE23)),OR(BF23=0,ISBLANK(BF23)),OR(AW23=0,ISBLANK(AW23))),"s. o.")} -> s. o. | BQ23: {=IFERROR(_xlfn.IFS(AND(BO23="100% Énergie renouvelable",BP23="100% Énergie renouvelable"),"Aucun GES à réduire",AND(BO23<>"100% Énergie renouvelable",BP23="100% Énergie renouvelable"),BO23,AND(BO23<>"100% Énergie renouvelable",BP23<>"100% Énergie renouvelable"),BO23-BP23,AND(BO23="100% Énergie renouvelable",BP23<>"100% Énergie renouvelable"),"Fournir une explication"),"s. o.")} -> s. o.
W24: =SUM(Q24:U24) -> 0 | Y24: =IFERROR(IF(OR(X24=0,ISBLANK($P24)),0,IF($P24="GJ",X24*V_GES_GJ_GazNaturel,IF($P24="kWh éq.",X24*V_GES_kWhEq_GazNaturel))),"") -> 0 | AA24: =IFERROR(IF(OR(Z24=0,ISBLANK($P24)),0,IF($P24="GJ",Z24*V_GES_GJ_Mazout2Leger,IF($P24="kWh éq.",Z24*V_GES_kWhEq_Mazout2Leger))),"") -> 0 | AC24: =IFERROR(IF(OR(AB24=0,ISBLANK($P24)),0,IF($P24="GJ",AB24*V_GES_GJ_Propane,IF($P24="kWh éq.",AB24*V_GES_kWhEq_Propane))),"") -> 0 | AE24: =Y24+AA24+AC24 -> 0 | AF24: =X24+Z24+AB24+AD24 -> 0 | AG24: =W24+AF24 -> 0 | AH24: =IFERROR(IF(ISBLANK($P24),"",IF($P24="GJ",AG24/$N24,IF($P24="kWh éq.",AG24*V_GJ_kWh/$N24,""))),"") | AI24: {=IFERROR(_xlfn.IFS(DATE(RIGHT(B24,4),3,31)<Listes_deroulantes!$F$54,IF(Z24>0,Z24/AG24,"Aucun mazout"),DATE(RIGHT(B24,4),3,31)>=Listes_deroulantes!$F$54,IF(AF24>0,AF24/AG24,"Aucun combustible")),"")} | AJ24: {=_xlfn.IFS(AG24=0,"",AND(AG24>0,Z24=0),"Aucun mazout",AG24>0,Z24/AG24)} | AK24: {=_xlfn.IFS(AG24=0,0,OR(AF24=0,ISBLANK(AF24)),"Aucun combustible",AND(AF24>0,AG24>0),AF24/AG24)} -> 0 | AL24: {=IFERROR(IF(DATE(RIGHT(B24,4),3,31)<Listes_deroulantes!$F$54,VLOOKUP(L24,Listes_deroulantes!$F$3:$J$11,4,FALSE),_xlfn.IFS(DATE(RIGHT(B24,4),3,31)<Avant2025,Exist2025Avant,DATE(RIGHT(B24,4),3,31)<Avant2030,Exist2030Avant,DATE(RIGHT(B24,4),3,31)>Après2030,Exist2031Avant)),"")} | AM24: {=_xlfn.IFS(OR(AI24="Aucun combustible",AI24="Aucun mazout"),"Oui",AND(AI24="",AL24=""),"",AND(AL24="0%",OR(AI24<>"Aucun combustible",AI24<>"Aucun mazout")),IF(AI24<=0%,"Oui","Non"),AND(AL24<>"0%",OR(AI24<>"Aucun combustible",AI24<>"Aucun mazout")),IF(AI24<=AL24,"Oui","Non"))} | AO24: {=_xlfn.IFS(AND(OR(AE24=0,ISBLANK(AE24)),AF24>0),"Non disponible",AND(OR(AE24=0,ISBLANK(AE24)),W24>0,OR(AF24=0,ISBLANK(AF24))),"100% Énergie renouvelable",AE24>0,AE24,AND(OR(AE24=0,ISBLANK(AE24)),OR(AF24=0,ISBLANK(AF24)),OR(W24=0,ISBLANK(W24))),"s. o.")} -> s. o. | AP24: =P24 -> 0 | AW24: =SUM(AQ24:AU24) -> 0 | AY24: =IFERROR(IF(OR(AX24=0,ISBLANK($AP24)),0,IF($AP24="GJ",AX24*V_GES_GJ_GazNaturel,IF($AP24="kWh éq.",AX24*V_GES_kWhEq_GazNaturel))),"") -> 0 | BA24: =IFERROR(IF(OR(AZ24=0,ISBLANK(AP24)),0,IF(AP24="GJ",AZ24*V_GES_GJ_Mazout2Leger,IF(AP24="kWh éq.",AZ24*V_GES_kWhEq_Mazout2Leger))),"") -> 0 | BC24: =IFERROR(IF(OR(BB24=0,ISBLANK(AP24)),0,IF(AP24="GJ",BB24*V_GES_GJ_Propane,IF(AP24="kWh éq.",BB24*V_GES_kWhEq_Propane))),"") -> 0 | BE24: =AY24+BA24+BC24 -> 0 | BF24: =AX24+AZ24+BB24+BD24 -> 0 | BG24: =AW24+BF24 -> 0 | BH24: =IFERROR(IF(ISBLANK($AP24),"",IF($AP24="GJ",BG24/$N24,IF($AP24="kWh éq.",BG24*V_GJ_kWh/$N24,""))),"") | BI24: {=IFERROR(_xlfn.IFS(DATE(RIGHT(B24,4),3,31)<Listes_deroulantes!$F$54,IF(AZ24>0,AZ24/BG24,"Aucun mazout"),DATE(RIGHT(B24,4),3,31)>=Listes_deroulantes!$F$54,IF(BF24>0,BF24/BG24,"Aucun combustible")),"")} | BJ24: {=_xlfn.IFS(BG24=0,"",AND(BG24>0,AZ24=0),"Aucun mazout",BG24>0,AZ24/BG24)} | BK24: =IF(OR(BG24=0,ISBLANK(BG24)),"Non disponible",IF(AND(BF24=0,BG24>0),"Aucun combustible",BF24/BG24)) -> Non disponible | BL24: {=IFERROR(IF(DATE(RIGHT(B24,4),3,31)<Listes_deroulantes!$F$54,VLOOKUP(L24,Listes_deroulantes!$F$3:$J$11,4,FALSE),_xlfn.IFS(DATE(RIGHT(B24,4),3,31)<Avant2025,Exist20205Apres,DATE(RIGHT(B24,4),3,31)<Avant2030,Exist2030Apres,DATE(RIGHT(B24,4),3,31)>Après2030,"0%")),"")} | BM24: {=_xlfn.IFS(OR(BI24="Aucun combustible",BI24="Aucun mazout"),"Oui",AND(BI24="",BL24=""),"",AND(BL24="0%",OR(BI24<>"Aucun combustible",BI24<>"Aucun mazout")),IF(BI24<=0%,"Oui","Non"),AND(BL24<>"0%",OR(BI24<>"Aucun combustible",BI24<>"Aucun mazout")),IF(BI24<=BL24,"Oui","Non"))} | BO24: =AO24 -> s. o. | BP24: {=_xlfn.IFS(AND(BF24>0,OR(BE24=0,ISBLANK(BE24))),"Non disponible",AND(OR(BE24=0,ISBLANK(BE24)),OR(BF24=0,ISBLANK(BF24)),AW24>0),"100% Énergie renouvelable",BE24>0,BE24,AND(OR(BE24=0,ISBLANK(BE24)),OR(BF24=0,ISBLANK(BF24)),OR(AW24=0,ISBLANK(AW24))),"s. o.")} -> s. o. | BQ24: {=IFERROR(_xlfn.IFS(AND(BO24="100% Énergie renouvelable",BP24="100% Énergie renouvelable"),"Aucun GES à réduire",AND(BO24<>"100% Énergie renouvelable",BP24="100% Énergie renouvelable"),BO24,AND(BO24<>"100% Énergie renouvelable",BP24<>"100% Énergie renouvelable"),BO24-BP24,AND(BO24="100% Énergie renouvelable",BP24<>"100% Énergie renouvelable"),"Fournir une explication"),"s. o.")} -> s. o.
... W200: =SUM(Q200:U200) -> 0 | Y200: =IFERROR(IF(OR(X200=0,ISBLANK($P200)),0,IF($P200="GJ",X200*V_GES_GJ_GazNaturel,IF($P200="kWh éq.",X200*V_GES_kWhEq_GazNaturel))),"") -> 0 | AA200: =IFERROR(IF(OR(Z200=0,ISBLANK($P200)),0,IF($P200="GJ",Z200*V_GES_GJ_Mazout2Leger,IF($P200="kWh éq.",Z200*V_GES_kWhEq_Mazout2Leger))),"") -> 0 | AC200: =IFERROR(IF(OR(AB200=0,ISBLANK($P200)),0,IF($P200="GJ",AB200*V_GES_GJ_Propane,IF($P200="kWh éq.",AB200*V_GES_kWhEq_Propane))),"") -> 0 | AE200: =Y200+AA200+AC200 -> 0 | AF200: =X200+Z200+AB200+AD200 -> 0 | AG200: =W200+AF200 -> 0 | AH200: =IFERROR(IF(ISBLANK($P200),"",IF($P200="GJ",AG200/$N200,IF($P200="kWh éq.",AG200*V_GJ_kWh/$N200,""))),"") | AI200: {=IFERROR(_xlfn.IFS(DATE(RIGHT(B200,4),3,31)<Listes_deroulantes!$F$54,IF(Z200>0,Z200/AG200,"Aucun mazout"),DATE(RIGHT(B200,4),3,31)>=Listes_deroulantes!$F$54,IF(AF200>0,AF200/AG200,"Aucun combustible")),"")} | AJ200: {=_xlfn.IFS(AG200=0,"",AND(AG200>0,Z200=0),"Aucun mazout",AG200>0,Z200/AG200)} | AK200: {=_xlfn.IFS(AG200=0,0,OR(AF200=0,ISBLANK(AF200)),"Aucun combustible",AND(AF200>0,AG200>0),AF200/AG200)} -> 0 | AL200: {=IFERROR(IF(DATE(RIGHT(B200,4),3,31)<Listes_deroulantes!$F$54,VLOOKUP(L200,Listes_deroulantes!$F$3:$J$11,4,FALSE),_xlfn.IFS(DATE(RIGHT(B200,4),3,31)<Avant2025,Exist2025Avant,DATE(RIGHT(B200,4),3,31)<Avant2030,Exist2030Avant,DATE(RIGHT(B200,4),3,31)>Après2030,Exist2031Avant)),"")} | AM200: {=_xlfn.IFS(OR(AI200="Aucun combustible",AI200="Aucun mazout"),"Oui",AND(AI200="",AL200=""),"",AND(AL200="0%",OR(AI200<>"Aucun combustible",AI200<>"Aucun mazout")),IF(AI200<=0%,"Oui","Non"),AND(AL200<>"0%",OR(AI200<>"Aucun combustible",AI200<>"Aucun mazout")),IF(AI200<=AL200,"Oui","Non"))} | AO200: {=_xlfn.IFS(AND(OR(AE200=0,ISBLANK(AE200)),AF200>0),"Non disponible",AND(OR(AE200=0,ISBLANK(AE200)),W200>0,OR(AF200=0,ISBLANK(AF200))),"100% Énergie renouvelable",AE200>0,AE200,AND(OR(AE200=0,ISBLANK(AE200)),OR(AF200=0,ISBLANK(AF200)),OR(W200=0,ISBLANK(W200))),"s. o.")} -> s. o. | AP200: =P200 -> 0 | AW200: =SUM(AQ200:AU200) -> 0 | AY200: =IFERROR(IF(OR(AX200=0,ISBLANK($AP200)),0,IF($AP200="GJ",AX200*V_GES_GJ_GazNaturel,IF($AP200="kWh éq.",AX200*V_GES_kWhEq_GazNaturel))),"") -> 0 | BA200: =IFERROR(IF(OR(AZ200=0,ISBLANK(AP200)),0,IF(AP200="GJ",AZ200*V_GES_GJ_Mazout2Leger,IF(AP200="kWh éq.",AZ200*V_GES_kWhEq_Mazout2Leger))),"") -> 0 | BC200: =IFERROR(IF(OR(BB200=0,ISBLANK(AP200)),0,IF(AP200="GJ",BB200*V_GES_GJ_Propane,IF(AP200="kWh éq.",BB200*V_GES_kWhEq_Propane))),"") -> 0 | BE200: =AY200+BA200+BC200 -> 0 | BF200: =AX200+AZ200+BB200+BD200 -> 0 | BG200: =AW200+BF200 -> 0 | BH200: =IFERROR(IF(ISBLANK($AP200),"",IF($AP200="GJ",BG200/$N200,IF($AP200="kWh éq.",BG200*V_GJ_kWh/$N200,""))),"") | BI200: {=IFERROR(_xlfn.IFS(DATE(RIGHT(B200,4),3,31)<Listes_deroulantes!$F$54,IF(AZ200>0,AZ200/BG200,"Aucun mazout"),DATE(RIGHT(B200,4),3,31)>=Listes_deroulantes!$F$54,IF(BF200>0,BF200/BG200,"Aucun combustible")),"")} | BJ200: {=_xlfn.IFS(BG200=0,"",AND(BG200>0,AZ200=0),"Aucun mazout",BG200>0,AZ200/BG200)} | BK200: =IF(OR(BG200=0,ISBLANK(BG200)),"Non disponible",IF(AND(BF200=0,BG200>0),"Aucun combustible",BF200/BG200)) -> Non disponible | BL200: {=IFERROR(IF(DATE(RIGHT(B200,4),3,31)<Listes_deroulantes!$F$54,VLOOKUP(L200,Listes_deroulantes!$F$3:$J$11,4,FALSE),_xlfn.IFS(DATE(RIGHT(B200,4),3,31)<Avant2025,Exist20205Apres,DATE(RIGHT(B200,4),3,31)<Avant2030,Exist2030Apres,DATE(RIGHT(B200,4),3,31)>Après2030,"0%")),"")} | BM200: {=_xlfn.IFS(OR(BI200="Aucun combustible",BI200="Aucun mazout"),"Oui",AND(BI200="",BL200=""),"",AND(BL200="0%",OR(BI200<>"Aucun combustible",BI200<>"Aucun mazout")),IF(BI200<=0%,"Oui","Non"),AND(BL200<>"0%",OR(BI200<>"Aucun combustible",BI200<>"Aucun mazout")),IF(BI200<=BL200,"Oui","Non"))} | BO200: =AO200 -> s. o. | BP200: {=_xlfn.IFS(AND(BF200>0,OR(BE200=0,ISBLANK(BE200))),"Non disponible",AND(OR(BE200=0,ISBLANK(BE200)),OR(BF200=0,ISBLANK(BF200)),AW200>0),"100% Énergie renouvelable",BE200>0,BE200,AND(OR(BE200=0,ISBLANK(BE200)),OR(BF200=0,ISBLANK(BF200)),OR(AW200=0,ISBLANK(AW200))),"s. o.")} -> s. o. | BQ200: {=IFERROR(_xlfn.IFS(AND(BO200="100% Énergie renouvelable",BP200="100% Énergie renouvelable"),"Aucun GES à réduire",AND(BO200<>"100% Énergie renouvelable",BP200="100% Énergie renouvelable"),BO200,AND(BO200<>"100% Énergie renouvelable",BP200<>"100% Énergie renouvelable"),BO200-BP200,AND(BO200="100% Énergie renouvelable",BP200<>"100% Énergie renouvelable"),"Fournir une explication"),"s. o.")} -> s. o.

Sheet Listes_deroulantes
A1: Listes déroulantes | F1: Critères
G2: Nouveau bâtiment | I2: Bâtiment existant
A3: Type de bâtiment | F3: Vocation principale | G3: Avant les travaux | H3: Après les travaux | I3: Avant-conversion | J3: Post-conversion
A4: Bibliothèques, salles de spectacle, etc. | F4: Habitation/autre vocation | G4: 0.2 | H4: 0.15 | I4: 0.15 | J4: 0.15
A5: Bureaux, hôtel de ville | F5: Bureau | G5: 0.2 | H5: 0.15 | I5: 0.15 | J5: 0.15
A6: Centre de détention | F6: Cégep | G6: 0.2 | H6: 0.15 | I6: 0.15 | J6: 0.15
A7: Centre de la petite enfance | F7: Centre hospitalier | G7: 0.25 | H7: 0.2 | I7: 0.2 | J7: 0.2
A8: Centre de service d'urgence, poste de police | F8: CHSLD | G8: 0.2 | H8: 0.15 | I8: 0.15 | J8: 0.15
A9: Centres et salles communautaires | F9: École primaire | G9: 0.2 | H9: 0.15 | I9: 0.15 | J9: 0.15
A10: Éducation primaire et secondaire | F10: École secondaire | G10: 0.2 | H10: 0.15 | I10: 0.15 | J10: 0.15
A11: Enseignement supérieur et recherche | F11: Université | G11: 0.25 | H11: 0.2 | I11: 0.2 | J11: 0.2
A12: Établissement de santé et de servcices soc iaux
A13: Habitation (multiétagée, HLM, auberge, etc.) | B13: Secteur | F13: Écart de performance énergétique minimal
A14: Hébergement plein-air (chalets, etc.) | B14: CSS | E14: =LEFT(B40,4) -> CNEB | F14: CNEB 2011 (respectant les conditions de LEED v4, VCA* canadiennes), | G14: 0.2
A15: Palais de justice, cour municipale | B15: Cégeps | E15: =LEFT(B41,4) -> ASHR | F15: ASHRAE 90.1, 2010 (annexe G) | G15: 0.2
A16: Plein-air (bâtiment d'accueil, centre d'interprétation, etc.) | B16: Universités | E16: =LEFT(B42,4) -> CMNE | F16: CMNEB 1997 | G16: 0.4
A17: Ponts et passerelles | B17: SQI
A18: Sport et loisirs (stades, arénas, complexes multifonctionnels, etc.) | B18: RSSS
A19: Utilitaire (entrepôts, ateliers, garages, haltes routières, etc.) | B19: SHQ
A20: Autre | B20: MO
A22: Vocation principale | B22: Unité d'énergie | F22: GES bâtiment de référence (tCO2eq./m2)
A23: Bureau | B23: GJ | F23: Bureau | G23: 0.013
A24: École secondaire | B24: kWh éq. | F24: École secondaire | G24: 0.011
A25: École primaire | F25: École primaire | G25: 0.011
A26: CHSLD | B26: Type d'énergie renouvelable | F26: CHSLD | G26: 0.025
A27: Cégep | B27: Électricité | F27: Cégep | G27: 0.01
A28: Université | B28: Solaire | F28: Université | G28: 0.016
A29: Centre hospitalier | B29: Éolien | F29: Centre hospitalier | G29: 0.04
A30: Habitation/Autre vocation | B30: Autre (spécifier en commentaire) | F30: Autre vocation | G30: À déterminer avec TEQ
A33: Type de projet | B33: Type de combustible
A34: Construction neuve | B34: Gaz naturel | F34: Forme d'énergie | G34: kg CO2 éq./GJ | H34: kg CO2éq./kWhéq. | I34: tCO2eq/GJ | J34: tCO2eq/kWh éq.
A35: Agrandissement | B35: Mazout 2 léger | F35: Électricité | G35: =INDEX(TableConversion!$L$4:$L$14,MATCH(F35,TableConversion!$C$4:$C$14,0)) -> 0.41666667 | H35: =G35*0.0036 -> 0.0015 | I35: =G35/1000 -> 0.00041666667 | J35: =H35/1000 -> 1.5e-06
A36: Rénovation majeure (sans agrandisssement) | B36: Propane | F36: Gaz naturel | G36: =INDEX(TableConversion!$L$4:$L$14,MATCH(F36,TableConversion!$C$4:$C$14,0)) -> 51.131037 | H36: =G36*0.0036 -> 0.18407173 | I36: =G36/1000 -> 0.051131037 | J36: =H36/1000 -> 0.00018407173
A37: Agrandissement et rénovation majeure | B37: Autre (spécifier en commentaire) | F37: Mazout 2 léger | G37: =INDEX(TableConversion!$L$4:$L$14,MATCH(F37,TableConversion!$C$4:$C$14,0)) -> 71.208454 | H37: =G37*0.0036 -> 0.25635043 | I37: =G37/1000 -> 0.071208454 | J37: =H37/1000 -> 0.00025635043
F38: Mazout 6 lourd | G38: =INDEX(TableConversion!$L$4:$L$14,MATCH(F38,TableConversion!$C$4:$C$14,0)) -> 74.741106 | H38: =G38*0.0036 -> 0.26906798 | I38: =G38/1000 -> 0.074741106 | J38: =H38/1000 -> 0.00026906798
A39: Statut du projet (nouveau bâtiment) | B39: Document normatif utilisé | F39: Propane | G39: =INDEX(TableConversion!$L$4:$L$14,MATCH(F39,TableConversion!$C$4:$C$14,0)) -> 61.080663 | H39: =G39*0.0036 -> 0.21989039 | I39: =G39/1000 -> 0.061080663 | J39: =H39/1000 -> 0.00021989039
A40: En planification | B40: CNEB 2011 | F40: Résidus de bois (8 % d'humidité) | G40: =INDEX(TableConversion!$L$4:$L$14,MATCH(F40,TableConversion!$C$4:$C$14,0)) -> 1.9451042 | H40: =G40*0.0036 -> 0.007002375 | I40: =G40/1000 -> 0.0019451042 | J40: =H40/1000 -> 7.002375e-06
A41: En conception | B41: ASHRAE 90.1, 2010 | F41: Résidus de bois (35 % d'humidité) | G41: =INDEX(TableConversion!$L$4:$L$14,MATCH(F41,TableConversion!$C$4:$C$14,0)) -> 1.9451042 | H41: =G41*0.0036 -> 0.007002375 | I41: =G41/1000 -> 0.0019451042 | J41: =H41/1000 -> 7.002375e-06
A42: En construction | B42: CMNEB 1997 | F42: Vapeur | G42: =INDEX(TableConversion!$L$4:$L$14,MATCH(F42,TableConversion!$C$4:$C$14,0)) -> 51.131037 | H42: =G42*0.0036 -> 0.18407173 | I42: =G42/1000 -> 0.051131037 | J42: =H42/1000 -> 0.00018407173
A43: En opération (moins de 1 an) | B43: CNEB 2015
A44: En opération (1 an et plus) | B44: Partie 11, chapitre I du CCQ
A45: Inactif/abandonné | B45: Autre/Inconnu | F45: Critères
G46: Nouveau bâtiment | I46: Bâtiment existant
A47: Statut du projet (projets de conversion) | B47: Agrandissement | F47: Année | G47: Avant les travaux | H47: Après les travaux | I47: Avant-conversion | J47: Post-conversion
A48: Conversion à faire | B48: Agrandissement | E48: Avant | F48: 46022 | G48: 0.2 | H48: 0.25 | I48: 0.15 | J48: 0.15
A49: Conversion en cours | B49: Bâtiment complet | E49: Avant | F49: 47848 | G49: 0.2 | H49: 0.15 | I49: 0.15 | J49: 0.1
A50: Conversion complétée | E50: Après | F50: 47848 | G50: 0 | H50: 0 | I50: 0 | J50: 0
A51: Projet inactif/abandonné
F52: Entrée en vigueur des modalités
B53: Région administrative | F53: 44682
A54: Année | B54: 1 | F54: 44651
A55: 2016-2017 | B55: 2 | F55: 42369
A56: 2017-2018 | B56: 3
A57: 2018-2019 | B57: 4
A58: 2019-2020 | B58: 5
A59: 2020-2021 | B59: 6
A60: 2021-2022 | B60: 7
A61: 2022-2023 | B61: 8
A62: 2023-2024 | B62: 9
A63: 2024-2025 | B63: 10
A64: 2025-2026 | B64: 11
A65: 2026-2027 | B65: 12
A66: 2027-2028 | B66: 13
A67: 2028-2029 | B67: 14
... A69: 2030-2031 | B69: 16
B70: 17

Sheet TableConversion
B2: Table de conversion utilisées pour la reddition de comptes et l'inventaire des gaz à effet de serres du secteur institutionnel
C3: Forme d'énergie | D3: Unité | E3: MJ/unité | F3: GJ/unité | G3: g CO2/unité | H3: g CH4/unité | I3: g N2O/unité | J3: g CO2 éq./unité | K3: kg CO2 éq./unité | L3: kg CO2 éq./GJ
B4: Volet bâtiment | C4: Électricité | D4: kWh | E4: 3.6 | F4: 0.0036 | G4: 1.1666667 | H4: 0.0002 | I4: 0.0001 | J4: 1.5 | K4: 0.0015 | L4: 0.41666667
C5: Gaz naturel | D5: m³ | E5: 37.89 | F5: 0.03789 | G5: 1926 | H5: 0.037 | I5: 0.035 | J5: 1937.355 | K5: 1.937355 | L5: 51.131037
C6: Gaz naturel renouvelable | D6: m³ | E6: 37.89 | F6: 0.03789 | G6: 1926 | H6: 0.037 | I6: 0.035 | J6: 11.355 | K6: 0.011355 | L6: 0.29968329
C7: Mazout 2 léger | D7: L | E7: 38.8 | F7: 0.0388 | G7: 2753 | H7: 0.026 | I7: 0.031 | J7: 2762.888 | K7: 2.762888 | L7: 71.208454
C8: Mazout 6 lourd | D8: L | E8: 42.5 | F8: 0.0425 | G8: 3156 | H8: 0.057 | I8: 0.064 | J8: 3176.497 | K8: 3.176497 | L8: 74.741106
C9: Propane | D9: L | E9: 25.34 | F9: 0.02534 | G9: 1515 | H9: 0.024 | I9: 0.108 | J9: 1547.784 | K9: 1.547784 | L9: 61.080663
C10: Vapeur | D10: Lbs | E10: 1.5061429 | F10: 0.0015061429 | G10: 76.559281 | H10: 0.001470765 | I10: 0.0013912642 | J10: 77.010646 | K10: 0.077010646 | L10: 51.131037
C11: Résidus de bois (8 % d'humidité) | D11: kg | E11: 17.406566 | F11: 0.017406566 | G11: 1799 | H11: 0.5749058 | I11: 0.076853727 | J11: 33.857585 | K11: 0.033857585 | L11: 1.9451042
C12: Résidus de bois (35 % d'humidité) | D12: kg | E12: 11.353728 | F12: 0.011353728 | G12: 1799 | H12: 0.57121288 | I12: 0.076360055 | J12: 22.084184 | K12: 0.022084184 | L12: 1.9451042
C13: Eau refroidie | D13: MBTU | E13: 211 | F13: 0.211 | G13: 65.481398 | H13: 0.011225382 | I13: 0.0056126912 | J13: 87.916667 | K13: 0.087916667 | L13: 0.41666667
C14: Eau chaude | D14: MBTU | E14: 1318.75 | F14: 1.31875 | G14: 67033.848 | H14: 1.2877738 | I14: 1.2181644 | J14: 67429.055 | K14: 67.429055 | L14: 51.131037
B15: Références : | C15: Les facteurs de conversion énergétique en GJ et d'émissions de gaz à effet de serre (GES) proviennent du Rapport d'inventaire national [1], sauf pour les formes d'énergies suivantes :
C16: Gaz naturel : le facteur de conversion énergétique correspond à la valeur normalisée par les distributeurs de gaz naturel au Québec, soit Énergir et Gazifère.
C17: Résidus de bois : les facteurs de conversion énérgétique ont été élaborés à partir du Règlement sur la déclaration obligatoire de certaines émissions de contaminants dans l'atmosphère [2].
C18: Vapeur, eau refroidie et eau chaude : les facteurs d'émission ont été déterminés à partir d'hypothèses élaborées par le MERN.
B19: Sources : | C19: 1. Environnement et Changement climatique Canada. 2022. Rapport d'inventaire national 1990-2020 : Sources et puis de gaz à effet de serre au Canada.
C20: 2. Règlement sur la déclaration obligatoire de certaines émissions de contaminants dans l'atmosphère. Loi sur la qualité de l'environnement (chapitre Q-2, a. 2.2, 46.2, 115.27, 115.34 et 124.1)
C21: Les références précises peuvent être fournies sur demande.
B22: Notes additionnelles : | C22: Le facteur d'émission de l'électricité correspond à la moyenne des valeurs présentées pour les années 2017, 2018 et 2019, dans le tableau A13-6 de la partie 3 du RIN 1990-2020.
C23: Pour obtenir une tonne métrique de CO2 éq, il faut diviser la quantité de kilogrammes de CO2 éq par 1000. | M23: Dernière mise à jour : 2022-05-30
