{"text_format":"1","workbook":"xlsx","n_sheets":33,"sheets":["Accueil","Accueil - PATS","Traitements du site","TS_BD","Traitements du site - PATS","TS_PATS_BD","Régénération artificielle","RA_BD","Éducation de peuplement","EP_BD","Éducation de peuplement - PATS","EP_PATS_BD","Éclaircie commerciale EAF","Martelage","MA_BD","Travaux de planif et techniques","TT_BD","Travaux planif et tech - PATS","TT_PATS_BD","Suivi d'efficacité","SE_BD","Indice dispersion TS","Traitements admissibles","Étapes calcul majorations","Étapes calcul majorat. - PATS","Versions du fichier","Versions du fichier - PATS","Calculs grille","Majorations applicables","Menus","Formules","RXF","Log"],"not_rendered":{"charts":0,"images":25,"macros":1,"external_links":4,"defined_names":238,"comments":3,"pivot_tables":0},"unopened":[],"bounds":{"document_bytes":16777216,"sheet_cells":100000,"rows_first":2000,"rows_last":500,"rows_between":2000,"halvings":0,"cell_chars":16384,"cell_head_chars":4096},"cells_cut":0,"cells_raw":0,"read":"whole","date_system":"1900"}

{"sheet":"Accueil","index":0,"n_rows":19,"n_cols":4,"rows_kept":19,"cut":false,"hidden":true,"merged":[[13,3,13,13],[15,2,16,14],[18,3,18,13]]}
[]
[]
[]
[]
[]
[]
[]
[]
[]
[]
[]
[]
[]
[null,null,null,"Annexe au calcul des taux des traitements non commerciaux 2024-2025          \nForêt publique\n"]
[]
[null,null,"L'activation du contenu de ce fichier est requise afin d'assurer l'exécution des macro-commandes qui sont nécessaires\nà son bon fonctionnement."]
[]
[]
[null,null,null,"https://support.office.com/fr-fr/article/activer-ou-d%C3%A9sactiver-les-macros-dans-les-fichiers-office-12b036fd-d140-4e74-b45e-16fed1a7e5c6"]

{"sheet":"Accueil - PATS","index":1,"n_rows":19,"n_cols":4,"rows_kept":19,"cut":false,"hidden":true,"merged":[[13,3,13,13],[15,2,16,14],[18,3,18,13]]}
[]
[]
[]
[]
[]
[]
[]
[]
[]
[]
[]
[]
[]
[null,null,null,"Annexe au calcul des taux des traitements sylvicoles non commerciaux 2024-2025\nspécifique aux projets du\nProcessus d'analyse des traitements sylvicoles (PATS)\nForêt publique\n"]
[]
[null,null,"L'activation du contenu de ce fichier est requise afin d'assurer l'exécution des macro-commandes qui sont nécessaires\nà son bon fonctionnement."]
[]
[]
[null,null,null,"https://support.office.com/fr-fr/article/activer-ou-d%C3%A9sactiver-les-macros-dans-les-fichiers-office-12b036fd-d140-4e74-b45e-16fed1a7e5c6"]

{"sheet":"Traitements du site","index":2,"n_rows":323,"n_cols":7,"rows_kept":323,"cut":false,"hidden":false,"merged":[[110,0,110,2],[108,0,108,1],[109,0,109,1],[103,0,103,6],[105,0,105,1],[106,0,106,1],[107,0,107,1],[68,0,68,2],[69,0,69,2],[70,0,70,6],[78,0,78,6],[82,0,82,2],[77,0,77,6],[91,0,91,1],[92,0,92,1],[89,0,89,1],[84,0,84,2],[76,2,76,3],[88,2,88,3],[80,0,80,2],[88,0,88,1],[71,2,71,3],[72,4,72,5],[71,4,71,5],[56,0,56,1],[62,0,62,6],[64,0,64,2],[65,0,65,2],[63,0,63,2],[59,0,59,5],[57,2,57,3],[58,2,58,3],[104,0,104,1],[76,0,76,1],[81,0,81,2],[76,4,76,5],[90,0,90,1],[73,4,73,5],[71,0,71,1],[72,0,72,1],[73,0,73,1],[74,0,74,1],[75,0,75,1],[74,4,74,5],[75,4,75,5],[72,2,72,3],[73,2,73,3],[74,2,74,3],[47,4,47,5],[48,4,48,5],[44,0,44,1],[45,0,45,1],[46,0,46,1],[66,0,66,2],[67,0,67,2],[47,0,47,1],[48,0,48,1],[44,4,44,5],[45,4,45,5],[46,4,46,5],[49,0,49,1],[49,2,49,3],[49,4,49,5],[50,0,50,5],[51,0,51,6],[53,4,53,5],[53,0,53,1],[54,4,54,5],[61,0,61,6],[60,0,60,6],[54,0,54,1],[55,0,55,1],[38,0,38,1],[39,0,39,1],[40,0,40,1],[40,2,40,3],[43,0,43,6],[42,0,42,6],[58,4,58,5],[44,2,44,3],[45,2,45,3],[46,2,46,3],[47,2,47,3],[48,2,48,3],[40,4,40,5],[41,0,41,5],[55,4,55,5],[56,4,56,5],[52,0,52,6],[57,4,57,5],[57,0,57,1],[58,0,58,1],[53,2,53,3],[54,2,54,3],[55,2,55,3],[56,2,56,3],[9,0,9,3],[35,4,35,5],[36,4,36,5],[35,2,35,3],[36,2,36,3],[37,2,37,3],[38,2,38,3],[39,2,39,3],[37,4,37,5],[38,4,38,5],[39,4,39,5],[19,1,19,4],[30,0,30,5],[31,0,31,5],[32,0,32,5],[33,0,33,6],[34,0,34,6],[14,0,14,5],[15,2,15,6],[24,1,24,4],[16,0,16,4],[35,0,35,1],[36,0,36,1],[37,0,37,1],[137,0,137,6],[138,0,138,4],[139,0,139,6],[140,0,140,6],[141,0,141,4],[111,0,111,6],[115,0,115,6],[142,0,142,6],[144,0,144,4],[134,0,134,6],[127,0,127,5],[129,0,129,5],[128,0,128,6],[130,0,130,6],[124,0,124,5],[123,0,123,5],[125,0,125,6],[136,0,136,3],[121,0,121,6],[132,0,132,5],[126,0,126,5],[122,0,122,6],[113,0,113,5],[133,0,133,5],[155,0,155,5],[181,0,181,5],[180,0,180,5],[159,0,159,5],[158,0,158,5],[196,0,196,5],[177,0,177,5],[193,0,193,5],[192,0,192,5],[185,0,185,5],[183,0,183,5],[166,0,166,5],[167,0,167,5],[153,0,153,5],[145,0,145,6],[149,0,149,4],[146,0,146,6],[147,0,147,4],[148,0,148,4],[151,0,151,6],[150,0,150,6],[152,0,152,5],[291,0,291,6],[292,0,292,6],[255,0,255,5],[269,0,269,5],[272,0,272,5],[259,0,259,5],[273,0,273,5],[266,0,266,5],[264,0,264,5],[262,0,262,5],[261,0,261,5],[260,0,260,5],[271,0,271,5],[283,0,283,5],[284,0,284,5],[285,0,285,5],[286,0,286,5],[287,0,287,5],[288,0,288,5],[289,0,289,5],[276,0,276,5],[278,0,278,5],[274,0,274,6],[281,0,281,5],[297,0,297,5],[305,2,306,4],[290,0,290,6],[303,0,303,4],[251,0,251,5],[252,0,252,5],[239,0,239,5],[270,0,270,5],[300,0,300,5],[294,6,296,6],[293,0,293,6],[250,0,250,5],[298,6,299,6],[298,0,299,5],[294,0,296,5],[267,0,267,5],[249,0,249,5],[257,0,257,5],[254,0,254,5],[258,0,258,6],[256,0,256,5],[244,0,244,6],[275,0,275,5],[265,0,265,5],[208,0,208,5],[241,0,241,5],[243,0,243,5],[216,0,216,6],[240,0,240,5],[236,0,236,5],[238,0,238,5],[184,0,184,6],[170,0,170,5],[174,0,174,5],[179,0,179,5],[187,0,187,5],[171,0,171,5],[182,0,182,5],[188,0,188,5],[190,0,190,5],[201,0,201,5],[200,0,200,6],[173,0,173,5],[178,0,178,5],[189,0,189,5],[194,0,194,5],[235,0,235,5],[242,0,242,5],[279,0,279,5],[280,0,280,5],[248,0,248,5],[247,0,247,5],[245,0,245,5],[253,0,253,5],[268,0,268,5],[277,0,277,5],[246,0,246,5],[263,0,263,5],[0,0,0,6],[3,0,3,6],[26,0,26,6],[15,0,15,1],[25,0,25,5],[10,0,10,6],[29,0,29,6],[17,0,17,6],[12,0,12,4],[20,1,20,3],[21,1,21,3],[23,1,23,3],[27,0,27,6],[4,0,4,5],[5,0,5,5],[6,0,6,5],[7,0,7,5],[28,0,28,6],[2,0,2,5],[8,0,8,5],[18,0,18,6],[11,0,11,4],[13,0,13,5],[9,4,9,5],[1,0,1,6],[314,3,314,4],[96,2,96,3],[101,4,101,5],[102,0,102,5],[135,0,135,6],[143,0,143,6],[97,4,97,5],[116,0,116,6],[131,0,131,5],[117,0,117,5],[101,0,101,1],[97,2,97,3],[98,2,98,3],[99,2,99,3],[100,2,100,3],[101,2,101,3],[112,0,112,6],[118,0,118,5],[119,0,119,5],[282,0,282,5],[96,4,96,5],[75,2,75,3],[89,4,89,5],[91,4,91,5],[93,4,93,5],[86,0,86,2],[83,0,83,2],[79,0,79,6],[90,4,90,5],[92,4,92,5],[98,0,98,1],[99,4,99,5],[96,0,96,1],[94,0,94,6],[93,0,93,1],[97,0,97,1],[85,0,85,2],[87,0,87,6],[88,4,88,5],[89,2,89,3],[90,2,90,3],[91,2,91,3],[92,2,92,3],[93,2,93,3],[95,0,95,6],[120,0,120,5],[114,0,114,5],[233,0,233,5],[163,0,163,5],[230,0,230,5],[226,0,226,5],[206,0,206,5],[186,0,186,5],[209,0,209,5],[213,0,213,5],[214,0,214,5],[212,0,212,5],[203,0,203,5],[195,0,195,5],[207,0,207,5],[198,0,198,5],[205,0,205,5],[210,0,210,5],[191,0,191,5],[217,0,217,5],[227,0,227,5],[218,0,218,5],[224,0,224,5],[232,0,232,6],[231,0,231,5],[225,0,225,5],[237,0,237,5],[234,0,234,5],[222,0,222,5],[219,0,219,5],[220,0,220,5],[229,0,229,5],[221,0,221,5],[223,0,223,5],[215,0,215,5],[211,0,211,5],[228,0,228,5],[98,4,98,5],[175,0,175,5],[162,0,162,5],[157,0,157,5],[161,0,161,5],[176,0,176,5],[204,0,204,5],[154,0,154,5],[197,0,197,5],[202,0,202,5],[199,0,199,5],[165,0,165,5],[169,0,169,6],[172,0,172,5],[164,0,164,5],[168,0,168,5],[100,4,100,5],[99,0,99,1],[100,0,100,1],[156,0,156,5],[160,0,160,5]]}
[]
["Annexe au calcul des taux des traitements non commerciaux 2024-2025          \n   Traitements du site\nForêt publique"]
[" *** Veuillez saisir les informations dans les cellules blanches seulement ***",null,null,null,null,null,"Version 2 : 2024-04-19"]
["Identification"]
["Unité d'aménagement (UA)"]
["Secteur d'intervention"]
["Unité de compilation"]
["Numéro de la prescription"]
["Traitement (code DICA)"]
["Traitement (code RATF)",null,null,null,{"$f":"IFERROR(VLOOKUP($G$9,Menus!$A$219:$D$264,3,FALSE),Menus!$C$265)","v":"PRT_Codes_RATF"}]
["Traitement du site à taux fixe ou variable"]
["Traitement",null,null,null,null,{"$f":"IFERROR(VLOOKUP($G$12,Menus!$A$4:$B$12,2,FALSE),\"\")","v":"PRT_Inscrire_une_valeur"},"Inscrire une valeur"]
["Équipement ou modalité",null,null,null,null,{"$f":"IFERROR(VLOOKUP($G$13,Menus!$B$15:$H$31,2,FALSE),\"\")","v":0},"Inscrire une valeur"]
[{"$f":"IFERROR(IF(OR(EXACT(UPPER($G$13),UPPER(Menus!$B$23)),EXACT(UPPER($G$13),UPPER(Menus!$B$25)),EXACT(UPPER($G$13),UPPER(Menus!$B$26))),\"Taux de base en fonction d'une distance entre les passages de 5 mètres - Voir majoration PA0\",\"Taux de base\"),\"Taux de base\")","v":"Taux de base"},null,null,null,null,null,{"$f":"IFERROR(VLOOKUP($G$13,Menus!$B$15:$G$31,5,FALSE),\"\")","v":"S/O"}]
["Unité de mesure",null,null,null,null,null,{"$f":"IFERROR(VLOOKUP($G$13,Menus!$B$15:$G$31,6,FALSE),\"\")","v":"S/O"}]
[{"$f":"\"Formule (e=Constante \"&Menus!$A$76&\")\"","v":"Formule (e=Constante 2,718)"},null,{"$f":"IFERROR(VLOOKUP($G$13,Formules,3,FALSE),\"\")","v":""}]
["Est-ce que la délimitation des secteurs est effectuée par la même entreprise que celle qui réalise le traitement (en régie) de préparation de terrain ?",null,null,null,null,{"$f":"IFERROR(VLOOKUP($G$17,Menus!$A$125:$B$126,2,FALSE),\"\")","v":""}]
[{"$f":"\"Valeurs spécifiques à remplir selon le traitement - \"&$G$12&\" - \"&$G$13","v":"Valeurs spécifiques à remplir selon le traitement - Inscrire une valeur - Inscrire une valeur"}]
["Taux variable - Déblaiement des résidus de coupe (Excavatrice ou débusqueuse ou abatteuse) et Scarifiage par monticules ou inversion par placeaux ou décapage par placeaux (Excavatrice)"]
["R","Superficie préparée\nRapport entre la superficie préparée et la superficie brute (%)",null,null,null,{"$f":"IFERROR(VLOOKUP($G$13,Menus!$B$15:$H$31,7,FALSE),\"\")","v":0}]
["TP","Type de couvert",null,null,{"$f":"IFERROR(VLOOKUP($G$13,Menus!$B$15:$H$31,3,FALSE),\"\")","v":0},{"$f":"IFERROR(IF(OR(ISBLANK($G$21)=TRUE,ISBLANK($G$24)=TRUE),\"\",IF(EXACT($G$24,PRT_Debusqueuse_Type_de_peuplement_résineux_feuillus_mixtes_VEH),0,VLOOKUP($G$21,Menus!$A$84:$B$86,2,FALSE))),\"\")","v":""}]
["TR","Type de procédé de récolte",null,null,{"$f":"IFERROR(VLOOKUP($G$21,Menus!$A$84:$C$86,3,FALSE),\"\")","v":""},{"$f":"IFERROR(VLOOKUP($G$22,Menus!$A$89:$B$94,2,FALSE),\"\")","v":""}]
["PER","Type de perturbation",null,null,{"$f":"IFERROR(VLOOKUP($G$22,Menus!$A$89:$C$94,3,FALSE),\"\")","v":""},{"$f":"IFERROR(VLOOKUP($G$23,Menus!$A$97:$B$99,2,FALSE),\"\")","v":""}]
["VEH","Type d'engin forestier",null,null,{"$f":"IFERROR(VLOOKUP($G$13,Menus!$B$15:$H$31,4,FALSE),\"\")","v":0},{"$f":"IFERROR(VLOOKUP($G$24,Menus!$A$102:$B$104,2,FALSE),\"\")","v":""}]
["Valeur","VEH utilisée dans la formule",null,null,null,{"$f":"IFERROR(IF(EXACT($F$24,\"\"),\"\",IF(EXACT($F$24,3),Menus!$B$107,IF(EXACT($F$24,2),Menus!$B$108,(Menus!$B$110/(Menus!$B$111*POWER($G$20,Menus!$B$112))*Menus!$B$113)))),\"\")","v":""},"VEH = (1 / (1,4063 * R 0,069)) * 0,85"]
["Taux calculé à partir de l'équation et des variables reliées au traitement",null,null,null,null,null,{"$f":"IFERROR(IF(ISBLANK($G$20)=TRUE,0,ROUND(IF(ISNUMBER($G$20)=FALSE,\"Valeur R non valide\",IF(AND(ROUND($G$20,2)=$G$20,$G$20>=0.01,$G$20<=1),_xlfn.IFS(G12=Menus!$A$9,('Calculs grille'!$L$16*$G$20)/POWER(Menus!$A$76,(Menus!$A$77*$G$20-Menus!$A$78*$F$21-Menus!$A$79*$F$22+Menus!$A$80*$F$23+Menus!$A$81)),G12=\"Déblaiement des résidus de coupe\",('Calculs grille'!$L$22*$G$20)/POWER(Menus!$A$76,(Menus!$A$77*$G$20-Menus!$A$78*$F$21-Menus!$A$79*$F$22+Menus!$A$80*$F$23+Menus!$A$81))*$F$25),\"Valeur R non valide\")),2)),0)","v":0}]
[{"$f":"\"Majorations et/ou réduction applicables à l'exécution - \"&$G$12&\" - \"&$G$13&\" - Voir l'onglet « Étapes calcul majoration »\"","v":"Majorations et/ou réduction applicables à l'exécution - Inscrire une valeur - Inscrire une valeur - Voir l'onglet « Étapes calcul majoration »"}]
[{"$f":"IFERROR(IFERROR(VLOOKUP($G$13,Majorations_applicables,11,FALSE),VLOOKUP($G$12,Majorations_applicables,11,FALSE)),\"\")","v":""}]
["Majoration pour la distance entre les passages de l'engin forestier (PA0)"]
["Majoration pour la distance entre les passages de l'engin forestier (PA0) - Disque-Bracke"]
["Distance entre les passages de l'engin forestier « DP »\nValeur de 3,50 m à 5,00 m inclusivement"]
["Nombre de microsite par hectare désiré calculé à partir d'une valeur standard de distance entre les passages de l'engin forestier",null,null,null,null,null,{"$f":"IFERROR(IF(ISBLANK($G$31)=TRUE,\"\",IF(ISNA(VLOOKUP($G$31,Menus!$A$35:$B$38,2,FALSE)),\"La valeur de distance entre les passages est différente des valeurs standards (classes de 50 cm), calcul à titre indicatif seulement : « \"&ROUND(10000/$G$31,0)&\" » microsites par hectare\",VLOOKUP($G$31,Menus!$A$35:$B$38,2,FALSE))),\"\")","v":""}]
["Majoration du taux d'exécution de base calculé à partir de la valeur inscrite de distance entre les passages de l'engin forestier\nLa majoration est calculée selon la formule suivante :  =ARRONDI(1,4659 EXP (-0,0765 * DP);4)",null,null,null,null,null,{"$f":"IFERROR(IF(ISBLANK($G$31),\"\",IF(ROUND($G$31,2)<>$G$31,\"Valeur « Distance entre les passages » non valide\",IF(AND($G$31>=Menus!$A$35,$G$31<=Menus!$A$38),ROUND(Menus!$B$40*EXP(Menus!$B$41*ROUND('Traitements du site'!$G$31,2)),4),\"Valeur « Distance entre les passages » non valide\"))),\"\")","v":""}]
["Majoration pour la pente (PE1)"]
["Majoration pour la pente (PE1) - Disque-T26-Wadell-M36"]
["Classe de pente\nnumérique",null,"Taux calculé",null,"Écart",null,"Superficie (ha)"]
["Pente A",null,{"$f":"IFERROR($G$14*(1+VLOOKUP($A$37,'Majorations applicables'!$A$69:$B$73,2,FALSE)),0)","v":0},null,{"$f":"IFERROR($C$37-$G$14,0)","v":0}]
["Pente B",null,{"$f":"IFERROR($G$14*(1+VLOOKUP($A$38,'Majorations applicables'!$A$69:$B$73,2,FALSE)),0)","v":0},null,{"$f":"IFERROR($C$38-$G$14,0)","v":0}]
["Pente C",null,{"$f":"IFERROR($G$14*(1+VLOOKUP($A$39,'Majorations applicables'!$A$69:$B$73,2,FALSE)),0)","v":0},null,{"$f":"IFERROR($C$39-$G$14,0)","v":0}]
["Pente D",null,{"$f":"IFERROR($G$14*(1+VLOOKUP($A$40,'Majorations applicables'!$A$69:$B$73,2,FALSE)),0)","v":0},null,{"$f":"IFERROR($C$40-$G$14,0)","v":0}]
["Pente E et plus",null,{"$f":"IFERROR($G$14*(1+VLOOKUP($A$41,'Majorations applicables'!$A$69:$B$73,2,FALSE)),0)","v":0},null,{"$f":"IFERROR($C$41-$G$14,0)","v":0}]
["Total",null,null,null,null,null,{"$f":"IFERROR(SUM($G$37:$G$41),0)","v":0}]
["Majoration pour la pente (PE2)"]
["Majoration pour la pente (PE2) - Abatteuse et Fertilisation PEH"]
["Classe de pente numérique",null,"Taux calculé",null,"Écart",null,"Superficie (ha)"]
["Pente A",null,{"$f":"IFERROR($G$14*(1+VLOOKUP($A$46,'Majorations applicables'!$A$76:$B$80,2,FALSE)),0)","v":0},null,{"$f":"IFERROR($C$46-$G$14,0)","v":0}]
["Pente B",null,{"$f":"IFERROR($G$14*(1+VLOOKUP($A$47,'Majorations applicables'!$A$76:$B$80,2,FALSE)),0)","v":0},null,{"$f":"IFERROR($C$47-$G$14,0)","v":0}]
["Pente C",null,{"$f":"IFERROR($G$14*(1+VLOOKUP($A$48,'Majorations applicables'!$A$76:$B$80,2,FALSE)),0)","v":0},null,{"$f":"IFERROR($C$48-$G$14,0)","v":0}]
["Pente D",null,{"$f":"IFERROR($G$14*(1+VLOOKUP($A$49,'Majorations applicables'!$A$76:$B$80,2,FALSE)),0)","v":0},null,{"$f":"IFERROR($C$49-$G$14,0)","v":0}]
["Pente E et plus",null,{"$f":"IFERROR($G$14*(1+VLOOKUP($A$50,'Majorations applicables'!$A$76:$B$80,2,FALSE)),0)","v":0},null,{"$f":"IFERROR($C$50-$G$14,0)","v":0}]
["Total",null,null,null,null,null,{"$f":"IFERROR(SUM($G$46:$G$50),0)","v":0}]
["Majoration pour la pente (PE4)"]
["Majoration pour la pente (PE4) - Bouteur"]
["Classe de pente numérique",null,"Taux calculé",null,"Écart",null,"Superficie (ha)"]
["Pente A",null,{"$f":"IFERROR($G$14*(1+VLOOKUP($A$55,'Majorations applicables'!$A$90:$B$94,2,FALSE)),0)","v":0},null,{"$f":"IFERROR($C$55-$G$14,0)","v":0}]
["Pente B",null,{"$f":"IFERROR($G$14*(1+VLOOKUP($A$56,'Majorations applicables'!$A$90:$B$94,2,FALSE)),0)","v":0},null,{"$f":"IFERROR($C$56-$G$14,0)","v":0}]
["Pente C",null,{"$f":"IFERROR($G$14*(1+VLOOKUP($A$57,'Majorations applicables'!$A$90:$B$94,2,FALSE)),0)","v":0},null,{"$f":"IFERROR($C$57-$G$14,0)","v":0}]
["Pente D",null,{"$f":"IFERROR($G$14*(1+VLOOKUP($A$58,'Majorations applicables'!$A$90:$B$94,2,FALSE)),0)","v":0},null,{"$f":"IFERROR($C$58-$G$14,0)","v":0}]
["Pente E et plus",null,{"$f":"IFERROR($G$14*(1+VLOOKUP($A$59,'Majorations applicables'!$A$90:$B$94,2,FALSE)),0)","v":0},null,{"$f":"IFERROR($C$59-$G$14,0)","v":0}]
["Total",null,null,null,null,null,{"$f":"IFERROR(SUM($G$55:$G$59),0)","v":0}]
["Majoration pour le nombre de passage et la pente (PA1 et PE1)"]
["Majoration pour le nombre de passage et la pente (PA1 et PE1) - Disque-T26-Wadell"]
["Superficie  (hectares)"]
["Classe de pente numérique",null,null,"Simple passage ","Double passage","Triple passage","Total"]
["Pente A",null,null,null,null,null,{"$f":"SUM($D$65:$F$65)","v":0}]
["Pente B",null,null,null,null,null,{"$f":"SUM($D$66:$F$66)","v":0}]
["Pente C",null,null,null,null,null,{"$f":"SUM($D$67:$F$67)","v":0}]
["Pente D",null,null,null,null,null,{"$f":"SUM($D$68:$F$68)","v":0}]
["Pente E et plus",null,null,null,null,null,{"$f":"SUM($D$69:$F$69)","v":0}]
["Total",null,null,{"$f":"IFERROR(SUM($D$65:$D$69),0)","v":0},{"$f":"IFERROR(SUM($E$65:$E$69),0)","v":0},{"$f":"IFERROR(SUM($F$65:$F$69),0)","v":0},{"$f":"IFERROR(SUM($G$65:$G$69),0)","v":0}]
["Taux calculé ($/hectare)"]
["Nombre de passage",null,1,null,2,null,3]
["Pente A",null,{"$f":"IFERROR(SUM($G$153:$G$154)*(1+VLOOKUP($A$73,'Majorations applicables'!$A$69:$B$73,2,FALSE)),0)","v":0},null,{"$f":"IFERROR(SUM($G$153:$G$154)*(1+VLOOKUP($A$73,'Majorations applicables'!$A$69:$B$73,2,FALSE))+SUM($G$153:$G$154)*(1+VLOOKUP($A$73,'Majorations applicables'!$A$69:$B$73,2,FALSE))*'Majorations applicables'!$A$63,0)","v":0},null,{"$f":"IFERROR(SUM($G$153:$G$154)*(1+VLOOKUP($A$73,'Majorations applicables'!$A$69:$B$73,2,FALSE))+SUM($G$153:$G$154)*(1+VLOOKUP($A$73,'Majorations applicables'!$A$69:$B$73,2,FALSE))*'Majorations applicables'!$A$63+SUM($G$153:$G$154)*(1+VLOOKUP($A$73,'Majorations applicables'!$A$69:$B$73,2,FALSE))*POWER('Majorations applicables'!$A$63,2),0)","v":0}]
["Pente B",null,{"$f":"IFERROR(SUM($G$153:$G$154)*(1+VLOOKUP($A$74,'Majorations applicables'!$A$69:$B$73,2,FALSE)),0)","v":0},null,{"$f":"IFERROR(SUM($G$153:$G$154)*(1+VLOOKUP($A$74,'Majorations applicables'!$A$69:$B$73,2,FALSE))+SUM($G$153:$G$154)*(1+VLOOKUP($A$74,'Majorations applicables'!$A$69:$B$73,2,FALSE))*'Majorations applicables'!$A$63,0)","v":0},null,{"$f":"IFERROR(SUM($G$153:$G$154)*(1+VLOOKUP($A$74,'Majorations applicables'!$A$69:$B$73,2,FALSE))+SUM($G$153:$G$154)*(1+VLOOKUP($A$74,'Majorations applicables'!$A$69:$B$73,2,FALSE))*'Majorations applicables'!$A$63+SUM($G$153:$G$154)*(1+VLOOKUP($A$74,'Majorations applicables'!$A$69:$B$73,2,FALSE))*POWER('Majorations applicables'!$A$63,2),0)","v":0}]
["Pente C",null,{"$f":"IFERROR(SUM($G$153:$G$154)*(1+VLOOKUP($A$75,'Majorations applicables'!$A$69:$B$73,2,FALSE)),0)","v":0},null,{"$f":"IFERROR(SUM($G$153:$G$154)*(1+VLOOKUP($A$75,'Majorations applicables'!$A$69:$B$73,2,FALSE))+SUM($G$153:$G$154)*(1+VLOOKUP($A$75,'Majorations applicables'!$A$69:$B$73,2,FALSE))*'Majorations applicables'!$A$63,0)","v":0},null,{"$f":"IFERROR(SUM($G$153:$G$154)*(1+VLOOKUP($A$75,'Majorations applicables'!$A$69:$B$73,2,FALSE))+SUM($G$153:$G$154)*(1+VLOOKUP($A$75,'Majorations applicables'!$A$69:$B$73,2,FALSE))*'Majorations applicables'!$A$63+SUM($G$153:$G$154)*(1+VLOOKUP($A$75,'Majorations applicables'!$A$69:$B$73,2,FALSE))*POWER('Majorations applicables'!$A$63,2),0)","v":0}]
["Pente D",null,{"$f":"IFERROR(SUM($G$153:$G$154)*(1+VLOOKUP($A$76,'Majorations applicables'!$A$69:$B$73,2,FALSE)),0)","v":0},null,{"$f":"IFERROR(SUM($G$153:$G$154)*(1+VLOOKUP($A$76,'Majorations applicables'!$A$69:$B$73,2,FALSE))+SUM($G$153:$G$154)*(1+VLOOKUP($A$76,'Majorations applicables'!$A$69:$B$73,2,FALSE))*'Majorations applicables'!$A$63,0)","v":0},null,{"$f":"IFERROR(SUM($G$153:$G$154)*(1+VLOOKUP($A$76,'Majorations applicables'!$A$69:$B$73,2,FALSE))+SUM($G$153:$G$154)*(1+VLOOKUP($A$76,'Majorations applicables'!$A$69:$B$73,2,FALSE))*'Majorations applicables'!$A$63+SUM($G$153:$G$154)*(1+VLOOKUP($A$76,'Majorations applicables'!$A$69:$B$73,2,FALSE))*POWER('Majorations applicables'!$A$63,2),0)","v":0}]
["Pente E et plus",null,{"$f":"SUM($G$153:$G$154)*(1+VLOOKUP($A$77,'Majorations applicables'!$A$69:$B$73,2,FALSE))","v":0},null,{"$f":"IFERROR(SUM($G$153:$G$154)*(1+VLOOKUP($A$77,'Majorations applicables'!$A$69:$B$73,2,FALSE))+SUM($G$153:$G$154)*(1+VLOOKUP($A$77,'Majorations applicables'!$A$69:$B$73,2,FALSE))*'Majorations applicables'!$A$63,0)","v":0},null,{"$f":"IFERROR(SUM($G$153:$G$154)*(1+VLOOKUP($A$77,'Majorations applicables'!$A$69:$B$73,2,FALSE))+SUM($G$153:$G$154)*(1+VLOOKUP($A$77,'Majorations applicables'!$A$69:$B$73,2,FALSE))*'Majorations applicables'!$A$63+SUM($G$153:$G$154)*(1+VLOOKUP($A$77,'Majorations applicables'!$A$69:$B$73,2,FALSE))*POWER('Majorations applicables'!$A$63,2),0)","v":0}]
["Majoration pour la pente (PE2)"]
["Majoration pour le nombre de passage et la pente (PA2 et PE2) - Herse"]
["Superficie (hectares)"]
["Classe de pente numérique",null,null,"Simple passage ","Double passage",null,"Total"]
["Pente A",null,null,null,null,null,{"$f":"SUM($D82:$E82)","v":0}]
["Pente B",null,null,null,null,null,{"$f":"SUM($D83:$E83)","v":0}]
["Pente C",null,null,null,null,null,0]
["Pente D",null,null,null,null,null,{"$f":"SUM($D85:$E85)","v":0}]
["Pente E et plus",null,null,null,null,null,{"$f":"SUM($D86:$E86)","v":0}]
["Total",null,null,{"$f":"IFERROR(SUM($D$82:$D$86),0)","v":0},{"$f":"IFERROR(SUM($E$82:$F$86),0)","v":0},null,{"$f":"IFERROR(SUM($G$82:$G$86),0)","v":0}]
["Taux calculé ($/hectare)"]
["Nombre de passage",null,1,null,2,null,3]
["Pente A",null,{"$f":"IFERROR($G$14*(1+VLOOKUP($A90,'Majorations applicables'!$A$76:$B$80,2,FALSE)),0)","v":0},null,{"$f":"IFERROR(($G$14*(1+'Majorations applicables'!$A$66))*(1+VLOOKUP($A90,'Majorations applicables'!$A$76:$B$80,2,FALSE)),0)","v":0},null,{"$f":"IFERROR($G$14*(1+VLOOKUP($A$90,'Majorations applicables'!$A$76:$B$80,2,FALSE))+$G$14*(1+VLOOKUP($A$90,'Majorations applicables'!$A$76:$B$80,2,FALSE))*'Majorations applicables'!$A$66+$G$14*(1+VLOOKUP($A$90,'Majorations applicables'!$A$76:$B$80,2,FALSE))*POWER('Majorations applicables'!$A$66,2),0)","v":0}]
["Pente B",null,{"$f":"IFERROR($G$14*(1+VLOOKUP($A91,'Majorations applicables'!$A$76:$B$80,2,FALSE)),0)","v":0},null,{"$f":"IFERROR(($G$14*(1+'Majorations applicables'!$A$66))*(1+VLOOKUP($A91,'Majorations applicables'!$A$76:$B$80,2,FALSE)),0)","v":0},null,{"$f":"IFERROR($G$14*(1+VLOOKUP($A$91,'Majorations applicables'!$A$76:$B$80,2,FALSE))+$G$14*(1+VLOOKUP($A$91,'Majorations applicables'!$A$76:$B$80,2,FALSE))*'Majorations applicables'!$A$66+$G$14*(1+VLOOKUP($A$91,'Majorations applicables'!$A$76:$B$80,2,FALSE))*POWER('Majorations applicables'!$A$66,2),0)","v":0}]
["Pente C",null,{"$f":"IFERROR($G$14*(1+VLOOKUP($A92,'Majorations applicables'!$A$76:$B$80,2,FALSE)),0)","v":0},null,{"$f":"IFERROR(($G$14*(1+'Majorations applicables'!$A$66))*(1+VLOOKUP($A92,'Majorations applicables'!$A$76:$B$80,2,FALSE)),0)","v":0},null,{"$f":"IFERROR($G$14*(1+VLOOKUP($A$92,'Majorations applicables'!$A$76:$B$80,2,FALSE))+$G$14*(1+VLOOKUP($A$92,'Majorations applicables'!$A$76:$B$80,2,FALSE))*'Majorations applicables'!$A$66+$G$14*(1+VLOOKUP($A$92,'Majorations applicables'!$A$76:$B$80,2,FALSE))*POWER('Majorations applicables'!$A$66,2),0)","v":0}]
["Pente D",null,{"$f":"IFERROR($G$14*(1+VLOOKUP($A93,'Majorations applicables'!$A$76:$B$80,2,FALSE)),0)","v":0},null,{"$f":"IFERROR(($G$14*(1+'Majorations applicables'!$A$66))*(1+VLOOKUP($A93,'Majorations applicables'!$A$76:$B$80,2,FALSE)),0)","v":0},null,{"$f":"IFERROR($G$14*(1+VLOOKUP($A$93,'Majorations applicables'!$A$76:$B$80,2,FALSE))+$G$14*(1+VLOOKUP($A$93,'Majorations applicables'!$A$76:$B$80,2,FALSE))*'Majorations applicables'!$A$66+$G$14*(1+VLOOKUP($A$93,'Majorations applicables'!$A$76:$B$80,2,FALSE))*POWER('Majorations applicables'!$A$66,2),0)","v":0}]
["Pente E et plus",null,{"$f":"IFERROR($G$14*(1+VLOOKUP($A94,'Majorations applicables'!$A$76:$B$80,2,FALSE)),0)","v":0},null,{"$f":"IFERROR(($G$14*(1+'Majorations applicables'!$A$66))*(1+VLOOKUP($A94,'Majorations applicables'!$A$76:$B$80,2,FALSE)),0)","v":0},null,{"$f":"IFERROR($G$14*(1+VLOOKUP($A$94,'Majorations applicables'!$A$76:$B$80,2,FALSE))+$G$14*(1+VLOOKUP($A$94,'Majorations applicables'!$A$76:$B$80,2,FALSE))*'Majorations applicables'!$A$66+$G$14*(1+VLOOKUP($A$94,'Majorations applicables'!$A$76:$B$80,2,FALSE))*POWER('Majorations applicables'!$A$66,2),0)","v":0}]
[{"$f":"IFERROR(IF($G$24=\"\",\"Majoration pour la pente (PE2 ou PE3 selon le type d'équipement)\",IF($G$24<>Menus!$A$104,\"Majoration pour la pente (PE2)\",\"Majoration pour la pente (PE3)\")),\"Majoration pour la pente (PE2 ou PE3 selon le type d'équipement)\")","v":"Majoration pour la pente (PE2 ou PE3 selon le type d'équipement)"}]
["Majoration pour la pente (PE2 ou PE3 selon le type d'équipement) - Variable"]
["Classe de pente numérique",null,"Taux calculé",null,"Écart",null,"Superficie brute\n(hectare)"]
["Pente A",null,{"$f":"IFERROR(IF(EXACT($F$24,1),$G$26*(1+VLOOKUP($A$98,'Majorations applicables'!$A$83:$B$87,2,FALSE)),$G$26*(1+VLOOKUP($A$98,'Majorations applicables'!$A$76:$B$80,2,FALSE))),0)","v":0},null,{"$f":"IFERROR($C98-$G$26,0)","v":0}]
["Pente B",null,{"$f":"IFERROR(IF(EXACT($F$24,1),$G$26*(1+VLOOKUP($A$99,'Majorations applicables'!$A$83:$B$87,2,FALSE)),$G$26*(1+VLOOKUP($A$99,'Majorations applicables'!$A$76:$B$80,2,FALSE))),0)","v":0},null,{"$f":"IFERROR($C99-$G$26,0)","v":0}]
["Pente C",null,{"$f":"IFERROR(IF(EXACT($F$24,1),$G$26*(1+VLOOKUP($A$100,'Majorations applicables'!$A$83:$B$87,2,FALSE)),$G$26*(1+VLOOKUP($A$100,'Majorations applicables'!$A$76:$B$80,2,FALSE))),0)","v":0},null,0]
["Pente D",null,{"$f":"IFERROR(IF(EXACT($F$24,1),$G$26*(1+VLOOKUP($A$101,'Majorations applicables'!$A$83:$B$87,2,FALSE)),$G$26*(1+VLOOKUP($A$101,'Majorations applicables'!$A$76:$B$80,2,FALSE))),0)","v":0},null,0]
["Pente E et plus",null,{"$f":"IFERROR(IF(EXACT($F$24,1),$G$26*(1+VLOOKUP($A$102,'Majorations applicables'!$A$83:$B$87,2,FALSE)),$G$26*(1+VLOOKUP($A$102,'Majorations applicables'!$A$76:$B$80,2,FALSE))),0)","v":0},null,{"$f":"IFERROR($C102-$G$26,0)","v":0}]
["Total",null,null,null,null,null,{"$f":"IFERROR(SUM($G$98:$G$102),0)","v":0}]
["Majoration pour la pente (PE2) - Débroussaillement manuel"]
["Classe de pente numérique",null,"Taux calculé","Écart","Superficie nette (ha) excluant les andains","Superficie brute (hectare)","% andains"]
["Pente A",null,{"$f":"IFERROR($G$14*(1+VLOOKUP($A106,'Majorations applicables'!$A$76:$B$80,2,FALSE)),0)","v":0},{"$f":"IFERROR($C106-$G$14,0)","v":0},{"$f":"IFERROR($F106*(1-$G106),0)","v":0}]
["Pente B",null,{"$f":"IFERROR($G$14*(1+VLOOKUP($A107,'Majorations applicables'!$A$76:$B$80,2,FALSE)),0)","v":0},{"$f":"IFERROR($C107-$G$14,0)","v":0},{"$f":"IFERROR($F107*(1-$G107),0)","v":0}]
["Pente C",null,{"$f":"IFERROR($G$14*(1+VLOOKUP($A108,'Majorations applicables'!$A$76:$B$80,2,FALSE)),0)","v":0},0,{"$f":"IFERROR($F108*(1-$G108),0)","v":0}]
["Pente D",null,{"$f":"IFERROR($G$14*(1+VLOOKUP($A109,'Majorations applicables'!$A$76:$B$80,2,FALSE)),0)","v":0},0,0]
["Pente E et plus",null,{"$f":"IFERROR($G$14*(1+VLOOKUP($A110,'Majorations applicables'!$A$76:$B$80,2,FALSE)),0)","v":0},0,0]
[null,null,null,"Total",{"$f":"IFERROR(SUM($E$106:$E$110),0)","v":0},{"$f":"IFERROR(SUM($F$106:$F$110),0)","v":0},{"$f":"IFERROR((SUMPRODUCT($G$106:$G$110,$F$106:$F$110)/$F$111),0)","v":0}]
[{"$f":"\"Unités de mesure pour le traitement \"&$D$13","v":"Unités de mesure pour le traitement "}]
["Unités de mesure pour le traitement - Drainage et Taupe"]
["Nombre de kilomètres ou de milliers de mètres cubes"]
["Nombre de milliers de microsites"]
["Majoration pour l'indice de dispersion (DRAP ou DMOD)"]
["Majoration pour l'indice de dispersion (DRAP ou DMOD) - Tous sauf Drainage et Taupe"]
["Unité d'aménagement (UA)",null,null,null,null,null,{"$f":"IFERROR(IF(ISBLANK($G$5)=TRUE,\"Inscrire une valeur à G5\",$G$5),\"\")","v":"Inscrire une valeur à G5"}]
[{"$f":"IFERROR(IF(OR(ISBLANK($G$13),EXACT(UPPER($G$13),UPPER(Menus!$A$12))),\"Indice relatif de dispersion\",IF(OR(EXACT($G$13,Menus!$B$17),EXACT($G$13,Menus!$B$18),EXACT($G$13,Menus!$B$20),EXACT($G$13,Menus!$B$23),EXACT($G$13,Menus!$B$25),EXACT($G$13,Menus!$B$26)),\"Indice relatif de dispersion (DRAP)\",IF(OR(EXACT($G$13,Menus!#REF!),EXACT($G$13,Menus!$B$15),EXACT($G$13,Menus!$B$16),EXACT($G$13,Menus!$B$19)),\"Indice relatif de dispersion (DMOD)\",\"Indice relatif de dispersion\"))),\"Indice relatif de dispersion\")","v":"Indice relatif de dispersion"},null,null,null,null,null,{"$f":"IFERROR(IF(ISBLANK($G$5),\"Inscrire une valeur à G5\",IF(OR(EXACT($G$13,Menus!$B$17),EXACT($G$13,Menus!$B$18),EXACT($G$13,Menus!$B$20),EXACT($G$13,Menus!$B$23),EXACT($G$13,Menus!$B$25),EXACT($G$13,Menus!$B$26)),VLOOKUP($G$118,'Indice dispersion TS'!$B$6:$F$64,2,FALSE),IF(OR(EXACT($G$13,Menus!#REF!),EXACT($G$13,Menus!$B$15),EXACT($G$13,Menus!$B$16),EXACT($G$13,Menus!$B$19)),VLOOKUP($G$118,'Indice dispersion TS'!$B$6:$F$64,3,FALSE)))),\"Inscrire une valeur à G5\")","v":"Inscrire une valeur à G5"}]
["Dispersion (DRAP)",null,null,null,null,null,{"$f":"IFERROR(VLOOKUP($G$118,'Indice dispersion TS'!$B$6:$F$64,4,FALSE),0)","v":0}]
["Dispersion (DMOD)",null,null,null,null,null,{"$f":"IFERROR(VLOOKUP($G$118,'Indice dispersion TS'!$B$6:$F$64,5,FALSE),0)","v":0}]
["Inventaire de conformité (Vérification)"]
["Inventaire de conformité - Débroussaillement mécanique"]
["Inventaire de conformité (taux par placette inventoriée)"]
["Nombre de placettes inventoriées par hectare"]
["Inventaire de conformité - Disque-Bracke-Wadell/M36/Variable/Herse/Bouteur/Abatteuse"]
["Inventaire de conformité (taux par placette inventoriée)"]
["Nombre de placettes inventoriées par hectare"]
["Inventaire de conformité - Drainage"]
["Inventaire de conformité (taux par kilomètre ou par millier de mètres cubes)"]
["Inventaire de conformité - Taupe et Fertilisation PEH"]
["Inventaire de conformité (taux par placette inventoriée)"]
["Nombre de placettes inventoriées par hectare"]
["Nombre de placettes inventoriées par milliers de microsites"]
["Majoration pour l'hébergement ou la durée du déplacement (HPT ou HRA)"]
["Majoration pour l'hébergement et la distance ou la durée du déplacement (HPT ou HRA et DTEXE) - HPT pour mécanisé et HRA et DTEXE pour manuel (Taupe et Fertilisation PEH)"]
[{"$f":"IFERROR(IF(OR(EXACT($G$13,Menus!$B$21),EXACT($G$13,Menus!$B$22)),\"Hébergement (HRA)\",\"Hébergement (HPT)\"),\"Hébergement\")","v":"Hébergement (HPT)"},null,null,null,{"$f":"IFERROR(IF(OR(EXACT($G$13,Menus!$B$23),EXACT($G$13,Menus!$B$25)),Menus!$B$50,Menus!$B$44),Menus!$B$44)","v":"PRT_Majoration_HPT"},{"$f":"IFERROR(IF(OR(EXACT($G$13,Menus!$B$21),EXACT($G$13,Menus!$B$22)),IF(ISBLANK($G$137)=TRUE,\"\",IFERROR(VLOOKUP($G$137,Menus!$A$51:$B$53,2,FALSE),IF($G$137<=Menus!$B$52,ROUND($G$137,8),\"Max \"&TEXT(Menus!$B$52,\"0,00%\")))),IF(ISBLANK($G$137)=TRUE,\"\",IFERROR(VLOOKUP(G137,Menus!$A$45:$B$48,2,FALSE),IF($G$137<=Menus!$B$47,ROUND($G$137,8),\"Max \"&TEXT(Menus!$B$47,\"0,00%\"))))),\"\")","v":""}]
["Majoration pour l'hébergement et le transport collectif pour le débroussaillement manuel (HEP et TCEP)"]
["Hébergement (HEP) ou transport collectif (TCEP)",null,null,null,null,{"$f":"IFERROR(IF(ISBLANK($G$139)=TRUE,\"\",IFERROR(VLOOKUP($G$139,Menus!$A$511:$B$515,2,FALSE),IF($G$139<=Menus!$B$513,ROUND($G$139,8),\"Max \"&TEXT(Menus!$B$513,\"0,0%\")))),\"\")","v":""}]
["Majoration pour la certification (CEAF3 ou ISO3)"]
["Majoration pour la certification (CEAF3 ou ISO3) - Débroussaillement manuel"]
["Certification (CEAF3 ou ISO3)",null,null,null,null,{"$f":"IFERROR(VLOOKUP($G$142,Menus!$A$533:$B$535,2,FALSE),\"\")","v":""}]
[]
["Majoration pour la certification (CEAF1 ou ISO1) - Tous"]
["Certification (CEAF1 ou ISO1)",null,null,null,null,{"$f":"IFERROR(VLOOKUP($G$145,Menus!$A$71:$B$73,2,FALSE),\"\")","v":""}]
["Distance ou durée du déplacement (DTEXE)"]
["Inventaire de conformité - Majoration pour l'hébergement et la distance ou la durée du déplacement"]
["Hébergement (HPVTM)",null,null,null,null,{"$f":"IFERROR(IF(ISBLANK($G$148)=TRUE,\"\",IFERROR(VLOOKUP($G$148,Menus!$A$56:$B$58,2,FALSE),IF($G$148<=Menus!$B$57,ROUND($G$148,4),\"Max \"&TEXT(Menus!$B$57,\"0,00%\")))),\"\")","v":""}]
["Distance ou durée du déplacement (DTPVTM)",null,null,null,null,{"$f":"IFERROR(VLOOKUP($G$149,Menus!$A$66:$B$68,2,FALSE),\"\")","v":""}]
["Distance ou durée du déplacement (DTEXE)",null,null,null,null,{"$f":"IFERROR(VLOOKUP($G$150,Menus!$A$61:$B$63,2,FALSE),\"\")","v":""}]
["Totaux"]
["Calculs - Disque-T26-Wadell"]
["Taux d'exécution de base",null,null,null,null,null,{"$f":"IFERROR(IF(ISBLANK($G$14)=TRUE,0,IF($G$33=\"Valeur « Distance entre les passages » non valide\",\"Valeur « Distance entre les passages » non valide\",$G$14)),0)","v":"S/O"}]
["Taux PA0",null,null,null,null,null,{"$f":"IFERROR(ROUND(IF(ISBLANK($G$31)=TRUE,0,-($G$14*(1-$G$33))),2),0)","v":0}]
["Taux PA1 et PE1",null,null,null,null,null,{"$f":"IFERROR(ROUND(((SUMPRODUCT($C$73:$C$77,$D$65:$D$69)+SUMPRODUCT($E$73:$E$77,$E$65:$E$69)+SUMPRODUCT($G$73:$G$77,$F$65:$F$69))/$G$70)-($G$153+$G$154),2),0)","v":0}]
["Taux DRAP",null,null,null,null,null,{"$f":"IFERROR((SUM(G153:G155)*$G$120),0)","v":0}]
["Taux VERIF",null,null,null,null,null,{"$f":"IFERROR($G$127*$G$128/$G$70,0)","v":0}]
["Taux sous-total exécution",null,null,null,null,null,{"$f":"IFERROR(SUM($G$153:$G$157),0)","v":0}]
["Taux HPT",null,null,null,null,null,{"$f":"IFERROR((SUM($G$153:$G$157)*$F$137),0)","v":0}]
["Taux CEAF1 ou ISO1",null,null,null,null,null,{"$f":"IFERROR((SUM($G$153:$G$157,G159)*$F$145),0)","v":0}]
["Taux DTEXE",null,null,null,null,null,{"$f":"IFERROR($F$150*$G157,0)","v":0}]
["Taux exécution total, majorations, réductions admissibles et inventaire conformité total",null,null,null,null,null,{"$f":"IFERROR(ROUND(SUM($G$153:$G$157,G159:G161),2),0)","v":0}]
[{"$f":"IFERROR(IF(EXACT(UPPER($G$17),UPPER(Menus!$A$125)),\"Taux inventaire de conformité (incluant le paiement pour la délimitation des secteurs en régie)\",\"Taux inventaire de conformité\"),\"Taux inventaire de conformité\")","v":"Taux inventaire de conformité"},null,null,null,null,null,{"$f":"IFERROR(IF(EXACT($G$124,PRT_Delimitation_des_secteurs_en_regie)=FALSE,(($G$124*$G$125)+($G$127*$G$128)+SUM(#REF!)*'Calculs grille'!$L$157*$G$128+SUM(#REF!)*'Calculs grille'!$L$158*$G$128)/$G$166,(((Menus!$A$134*$G$166)+(G$127*$G$128)+SUM(#REF!)*'Calculs grille'!$L$157*$G$128+SUM(#REF!)*'Calculs grille'!$L$158*$G$128)/$G$166)),0)","v":0}]
["Taux HPVTM et/ou DTPVTM",null,null,null,null,null,{"$f":"IFERROR((SUM($F$148:$F$149)*$G$163),0)","v":0}]
["Taux exécution et inventaire de conformité total",null,null,null,null,null,{"$f":"IFERROR(ROUND(SUM($G$162,G161),2),0)","v":0}]
["Superficie",null,null,null,null,null,{"$f":"IFERROR(ROUND($G$70,2),0)","v":0}]
["Total exécution",null,null,null,null,null,{"$f":"IFERROR(ROUND($G$162*$G$166,2),0)","v":0}]
["Total inventaire de conformité",null,null,null,null,null,{"$f":"IFERROR(ROUND(SUM($G$163:$G$164)*$G$166,2),0)","v":0}]
["Grand total admissible",null,null,null,null,null,{"$f":"IFERROR(G162*G166,0)","v":0}]
["Calculs - M36"]
["Taux d'exécution de base",null,null,null,null,null,{"$f":"IFERROR(IF(ISBLANK($G$14)=TRUE,0,$G$14),0)","v":"S/O"}]
["Taux PE1",null,null,null,null,null,{"$f":"IFERROR(ROUND((SUMPRODUCT($E$37:$E$41,$G$37:$G$41)/$G$42),2),0)","v":0}]
["Taux DRAP",null,null,null,null,null,{"$f":"IFERROR((SUM(G171:G172)*$G$120),0)","v":0}]
["Taux VERIF",null,null,null,null,null,{"$f":"IFERROR($G$127*$G$128/$G$42,0)","v":0}]
["Taux HPT",null,null,null,null,null,{"$f":"IFERROR((SUM(G171:$G$174)*$F$137),0)","v":0}]
["Taux CEAF1 ou ISO1",null,null,null,null,null,{"$f":"IFERROR((SUM($G$171:$G$175)*$F$145),0)","v":0}]
["Taux exécution total et majoration(s) admissible(s)",null,null,null,null,null,{"$f":"IFERROR(ROUND(SUM($G$171:$G$176),2),0)","v":0}]
[{"$f":"IFERROR(IF(EXACT(UPPER($G$17),UPPER(Menus!$A$125)),\"Taux inventaire de conformité (incluant le paiement pour la délimitation des secteurs en régie)\",\"Taux inventaire de conformité\"),\"Taux inventaire de conformité\")","v":"Taux inventaire de conformité"},null,null,null,null,null,{"$f":"IFERROR(IF(EXACT($G$124,PRT_Delimitation_des_secteurs_en_regie)=FALSE,(($G$124*$G$125)+($G$127*$G$128)+SUM(#REF!)*'Calculs grille'!$L$157*$G$128+SUM(#REF!)*'Calculs grille'!$L$158*$G$128)/$G$181,(((Menus!$A$134*$G$181)+($G$127*$G$128)+SUM(#REF!)*'Calculs grille'!$L$157*$G$128+SUM(#REF!)*'Calculs grille'!$L$158*$G$128)/$G$181)),0)","v":0}]
["Taux DTEXE",null,null,null,null,null,{"$f":"IFERROR($F$150*$G174,0)","v":0}]
["Taux exécution total, majorations, réductions admissibles et inventaire conformité total",null,null,null,null,null,{"$f":"IFERROR(ROUND(SUM($G$171:$G$176,$G$179),2),0)","v":0}]
["Superficie",null,null,null,null,null,{"$f":"IFERROR(ROUND($G$42,2),0)","v":0}]
["Total exécution",null,null,null,null,null,{"$f":"IFERROR(ROUND($G$177*$G$181,2),0)","v":0}]
["Total inventaire de conformité",null,null,null,null,null,{"$f":"IFERROR(ROUND(SUM($G$178:$G$179)*$G$181,2),0)","v":0}]
["Grand total admissible",null,null,null,null,null,{"$f":"IFERROR(G180*G181,0)","v":0}]
["Calculs - Herse"]
["Taux d'exécution de base",null,null,null,null,null,{"$f":"IFERROR(IF(ISBLANK($G$14)=TRUE,0,$G$14),0)","v":"S/O"}]
["Taux PA2 et PE2",null,null,null,null,null,{"$f":"IFERROR(((SUMPRODUCT($C$90:$C$94,$D$82:$D$86)+SUMPRODUCT($E$90:$E$94,$E$82:$E$86)+SUMPRODUCT($G$90:$G$94,$F$82:$F$86))/$G$87)-($G$186),0)","v":0}]
["Taux sous-total exécution",null,null,null,null,null,{"$f":"IFERROR(SUM($G$186:$G$187),0)","v":0}]
["Taux DRAP",null,null,null,null,null,{"$f":"IFERROR((SUM(G186:G187)*$G$120),0)","v":0}]
["Taux VERIF",null,null,null,null,null,{"$f":"IFERROR($G$127*$G$128/$G$87,0)","v":0}]
["Taux HPT",null,null,null,null,null,{"$f":"IFERROR((SUM(G186:G187,G189:G190)*$F$137),0)","v":0}]
["Taux CEAF1 ou ISO1",null,null,null,null,null,{"$f":"IFERROR((SUM(G186:G187,G189:G191)*$F$145),0)","v":0}]
["Taux exécution total et majoration(s) admissible(s)",null,null,null,null,null,{"$f":"IFERROR((ROUND(SUM($G$188:$G$192),2)),0)","v":0}]
[{"$f":"IFERROR(IF(EXACT(UPPER($G$17),UPPER(Menus!$A$125)),\"Taux inventaire de conformité (incluant le paiement pour la délimitation des secteurs en régie)\",\"Taux inventaire de conformité\"),\"Taux inventaire de conformité\")","v":"Taux inventaire de conformité"},null,null,null,null,null,{"$f":"IFERROR(IF(EXACT($G$124,PRT_Delimitation_des_secteurs_en_regie)=FALSE,(($G$124*$G$125)+($G$127*$G$128)+SUM(#REF!)*'Calculs grille'!$L$157*$G$128+SUM(#REF!)*'Calculs grille'!$L$158*$G$128)/$G$197,(((Menus!$A$134*$G$197)+($G$127*$G$128)+SUM(#REF!)*'Calculs grille'!$L$157*$G$128+SUM(#REF!)*'Calculs grille'!$L$158*$G$128)/$G$197)),0)","v":0}]
["Taux DTEXE",null,null,null,null,null,{"$f":"IFERROR($F$150*$G190,0)","v":0}]
["Taux exécution total, majorations, réductions admissibles et inventaire conformité total",null,null,null,null,null,{"$f":"IFERROR((ROUND(SUM($G$186:$G$187,G189:G192,G195),2)),0)","v":0}]
["Superficie",null,null,null,null,null,{"$f":"IFERROR(ROUND($G$87,2),0)","v":0}]
["Total exécution",null,null,null,null,null,{"$f":"IFERROR(ROUND($G$193*$G$197,2),0)","v":0}]
["Total inventaire de conformité",null,null,null,null,null,{"$f":"IFERROR(ROUND(SUM($G$194:$G$195)*$G$197,2),0)","v":0}]
["Grand total admissible",null,null,null,null,null,{"$f":"IFERROR(G196*G197,0)","v":0}]
["Calculs - Bouteur"]
["Taux d'exécution de base",null,null,null,null,null,{"$f":"IFERROR(IF(ISBLANK($G$14)=TRUE,0,$G$14),0)","v":"S/O"}]
["Taux PE4",null,null,null,null,null,{"$f":"IFERROR(ROUND((SUMPRODUCT($E$55:$E$59,$G$55:$G$59)/$G$60),2),0)","v":0}]
["Taux sous-total exécution",null,null,null,null,null,{"$f":"IFERROR(SUM($G$202:$G$203),0)","v":0}]
["Taux DMOD",null,null,null,null,null,{"$f":"IFERROR((SUM(G202:G203)*$G$121),0)","v":0}]
["Taux VERIF",null,null,null,null,null,{"$f":"IFERROR($G$127*$G$128/$G$60,0)","v":0}]
["Taux HPT",null,null,null,null,null,{"$f":"IFERROR((SUM($G$202:$G$203,G205:G206)*$F$137),0)","v":0}]
["Taux CEAF1 ou ISO1",null,null,null,null,null,{"$f":"IFERROR((SUM($G$202:$G$203,G205:G207)*$F$145),0)","v":0}]
["Taux exécution total  et majoration(s) admissible(s)",null,null,null,null,null,{"$f":"IFERROR((ROUND(SUM($G$204:$G$208),2)),0)","v":0}]
[{"$f":"IFERROR(IF(EXACT(UPPER($G$17),UPPER(Menus!$A$125)),\"Taux inventaire de conformité (incluant le paiement pour la délimitation des secteurs en régie)\",\"Taux inventaire de conformité\"),\"Taux inventaire de conformité\")","v":"Taux inventaire de conformité"},null,null,null,null,null,{"$f":"IFERROR(IF(EXACT($G$124,PRT_Delimitation_des_secteurs_en_regie)=FALSE,(($G$124*$G$125)+($G$127*$G$128)+SUM(#REF!)*'Calculs grille'!$L$157*$G$128+SUM(#REF!)*'Calculs grille'!$L$158*$G$128)/$G$213,(((Menus!$A$134*$G$213)+($G$127*$G$128)+SUM(#REF!)*'Calculs grille'!$L$157*$G$128+SUM(#REF!)*'Calculs grille'!$L$158*$G$128)/$G$213)),0)","v":0}]
["Taux DTEXE",null,null,null,null,null,{"$f":"IFERROR($F$150*$G206,0)","v":0}]
["Taux exécution total, majorations, réductions admissibles et inventaire conformité total",null,null,null,null,null,{"$f":"IFERROR((ROUND(SUM($G$202:$G$203,G205:G208,G211),2)),0)","v":0}]
["Superficie",null,null,null,null,null,{"$f":"IFERROR(ROUND($G$60,2),0)","v":0}]
["Total exécution",null,null,null,null,null,{"$f":"IFERROR(ROUND($G$209*$G$213,2),0)","v":0}]
["Total inventaire de conformité",null,null,null,null,null,{"$f":"IFERROR(ROUND(SUM($G$210:$G$211)*$G$213,2),0)","v":0}]
["Grand total admissible",null,null,null,null,null,{"$f":"IFERROR(G212*G213,0)","v":0}]
["Calculs - Débroussaillement mécanique"]
["Taux d'exécution de base",null,null,null,null,null,{"$f":"IFERROR(IF(ISBLANK($G$14)=TRUE,0,$G$14),0)","v":"S/O"}]
["Taux PE2",null,null,null,null,null,{"$f":"IFERROR(ROUND((SUMPRODUCT($D$106:$D$110,$E$106:$E$110)/$E$111),2),0)","v":0}]
["Taux sous-total exécution",null,null,null,null,null,{"$f":"IFERROR(SUM($G$218:$G$219),0)","v":0}]
["Taux DMOD",null,null,null,null,null,{"$f":"IFERROR(($G$218+G219*$G$121),0)","v":0}]
["Taux VERIF",null,null,null,null,null,{"$f":"IFERROR($G$124*$G$125/$E$111,0)","v":0}]
["Taux HEP ou TCEP",null,null,null,null,null,{"$f":"IFERROR((SUM($G$218:$G$219,G222)*$F$139),0)","v":0}]
["Taux DTEXE",null,null,null,null,null,{"$f":"IFERROR($F$150*SUM($G218:$G219,G222),0)","v":0}]
["Taux CEAF3 ou ISO3",null,null,null,null,null,{"$f":"IFERROR((SUM($G$218:$G$219,G222:G224)*$F$142),0)","v":0}]
["Taux exécution total et majoration(s) admissible(s)",null,null,null,null,null,{"$f":"IFERROR((ROUND(SUM($G$220:$G$225),2)),0)","v":0}]
[{"$f":"IFERROR(IF(EXACT(UPPER($G$17),UPPER(Menus!$A$125)),\"Taux inventaire de conformité (incluant le paiement pour la délimitation des secteurs en régie)\",\"Taux inventaire de conformité\"),\"Taux inventaire de conformité\")","v":"Taux inventaire de conformité"},null,null,null,null,null,{"$f":"IFERROR(IF(EXACT($G$124,PRT_Delimitation_des_secteurs_en_regie)=FALSE,(($G$124*$G$125)+($G$127*$G$128)+SUM(#REF!)*'Calculs grille'!$L$157*$G$128+SUM(#REF!)*'Calculs grille'!$L$158*$G$128)/$G$229,(((Menus!$A$134*$G$229)+($G$127*$G$128)+SUM(#REF!)*'Calculs grille'!$L$157*$G$128+SUM(#REF!)*'Calculs grille'!$L$158*$G$128)/$G$229)),0)","v":0}]
["Taux exécution total, majorations, réductions admissibles et inventaire conformité total",null,null,null,null,null,{"$f":"IFERROR((ROUND(SUM($G$218:$G$219,G222:G225),2)),0)","v":0}]
["Superficie",null,null,null,null,null,{"$f":"IFERROR(ROUND($F$111,2),0)","v":0}]
["Superficie nette (excluant les andains)",null,null,null,null,null,{"$f":"IFERROR(ROUND($E$111,2),0)","v":0}]
["Total inventaire de conformité",null,null,null,null,null,{"$f":"IFERROR(ROUND(SUM($G$227:$G$227)*$G$229,2),0)","v":0}]
["Grand total admissible",null,null,null,null,null,{"$f":"IFERROR(G228*G230,0)","v":0}]
["Calculs - Drainage"]
["Taux d'exécution de base",null,null,null,null,null,{"$f":"IFERROR(IF(ISBLANK($G$14)=TRUE,0,$G$14),0)","v":"S/O"}]
["Taux HPT",null,null,null,null,null,{"$f":"IFERROR(($G$234*$F$137),0)","v":0}]
["Taux CEAF1 ou ISO1",null,null,null,null,null,{"$f":"IFERROR((SUM($G$234:$G$235)*$F$145),0)","v":0}]
["Taux exécution total et majoration(s) admissible(s)",null,null,null,null,null,{"$f":"IFERROR((ROUND(SUM($G$234:$G$236),2)),0)","v":0}]
[{"$f":"IFERROR(IF(EXACT(UPPER($G$17),UPPER(Menus!$A$125)),\"Taux de vérification (incluant le paiement pour la délimitation des secteurs en régie)\",\"Taux de vérification\"),\"Taux de vérification\")","v":"Taux de vérification"},null,null,null,null,null,{"$f":"IFERROR(IF(EXACT($G$124,PRT_Delimitation_des_secteurs_en_regie)=FALSE,(($G$124*$G$125)+(#REF!*$G$241))/$G$241,((Menus!$A$136*$G$241)+(#REF!*$G$241))/$G$241),0)","v":0}]
["Taux HPVTM et/ou DTPVTM",null,null,null,null,null,{"$f":"IFERROR((SUM($F$148:$F$149)*$G$238),0)","v":0}]
["Taux exécution et vérification total",null,null,null,null,null,{"$f":"IFERROR(ROUND(SUM($G$237:$G$239),2),0)","v":0}]
["Nombre de kilomètres ou de milliers de mètres cubes",null,null,null,null,null,{"$f":"IFERROR(ROUND($G$114,2),0)","v":0}]
["Total exécution",null,null,null,null,null,{"$f":"IFERROR(ROUND($G$237*$G$241,2),0)","v":0}]
["Total vérification",null,null,null,null,null,{"$f":"IFERROR(ROUND(SUM($G$238:$G$239)*$G$241,2),0)","v":0}]
["Grand total admissible",null,null,null,null,null,{"$f":"IFERROR(SUM($G$242:$G$243),0)","v":0}]
["Calculs - Taupe"]
["Taux d'exécution de base",null,null,null,null,null,{"$f":"IFERROR(IF(ISBLANK($G$14)=TRUE,0,$G$14),0)","v":"S/O"}]
["Taux VERIF",null,null,null,null,null,{"$f":"IFERROR($G$132*$G$134/$G$115,0)","v":0}]
["Taux HRA",null,null,null,null,null,{"$f":"IFERROR($F$137*SUM(G246:G247),0)","v":0}]
["Taux DTEXE",null,null,null,null,null,{"$f":"IFERROR(($F$150*SUM($G$246:$G$247)),0)","v":0}]
["Taux CEAF1 ou ISO1",null,null,null,null,null,{"$f":"IFERROR((SUM($G$246:$G$249)*$F$145),0)","v":0}]
["Taux exécution total  et majoration(s) admissible(s)",null,null,null,null,null,{"$f":"IFERROR((ROUND(SUM($G$246:$G$250),2)),0)","v":0}]
[{"$f":"IFERROR(IF(EXACT(UPPER($G$17),UPPER(Menus!$A$125)),\"Taux  inventaire de conformité (incluant le paiement pour la délimitation des secteurs en régie)\",\"Taux inventaire de conformité\"),\"Taux inventaire de conformité\")","v":"Taux inventaire de conformité"},null,null,null,null,null,{"$f":"IFERROR(IF(EXACT($G$124,PRT_Delimitation_des_secteurs_en_regie)=FALSE,(($G$124*$G$125)+($G$132*$G$133))/$G$255,((Menus!$A$135*$G$255)+($G$132*$G$133))/$G$255),0)","v":0}]
["Taux HPVTM et/ou DTPVTM",null,null,null,null,null,{"$f":"IFERROR((SUM($F$148:$F$149)*$G$252),0)","v":0}]
["Taux exécution total, majorations, réductions admissibles et inventaire conformité total",null,null,null,null,null,{"$f":"IFERROR((ROUND(SUM($G$246:$G$250),2)),0)","v":0}]
["Nombre de millier de microsites",null,null,null,null,null,{"$f":"IFERROR(ROUND($G$115,3),0)","v":0}]
["Total exécution",null,null,null,null,null,{"$f":"IFERROR(ROUND($G$251*$G$255,2),0)","v":0}]
["Total inventaire de conformité",null,null,null,null,null,{"$f":"IFERROR(ROUND(SUM($G$252:$G$253)*$G$255,2),0)","v":0}]
["Grand total admissible",null,null,null,null,null,{"$f":"IFERROR(G254*G255,0)","v":0}]
["Calculs - Variable"]
["Taux d'exécution de base",null,null,null,null,null,{"$f":"IFERROR($G$26,0)","v":0}]
[{"$f":"IFERROR(IF($G$24=\"\",\"Taux PE2 ou PE3\",IF($G$24<>Menus!$A$104,\"Taux PE2\",\"Taux PE3\")),\"Taux PE2 ou PE3\")","v":"Taux PE2 ou PE3"},null,null,null,null,null,{"$f":"IFERROR((IF(EXACT($G$103,0),0,ROUND((SUMPRODUCT($E$98:$E$102,$G$98:$G$102)/$G$103),2))),0)","v":0}]
["Taux sous-total exécution",null,null,null,null,null,{"$f":"IFERROR(SUM($G$260:$G$261),0)","v":0}]
["Taux DMOD",null,null,null,null,null,{"$f":"IFERROR((G260+G261)*$G$121,0)","v":0}]
["Taux VERIF",null,null,null,null,null,{"$f":"IFERROR($G$127*$G$128/$G$103,0)","v":0}]
["Taux HPT",null,null,null,null,null,{"$f":"IFERROR((SUM($G$260:$G$261,G263:G264)*$F$137),0)","v":0}]
["Taux CEAF1 ou ISO1",null,null,null,null,null,{"$f":"IFERROR((SUM($G$260:$G$261,G263:G265)*$F$145),0)","v":0}]
["Taux exécution total et majoration(s) admissible(s)",null,null,null,null,null,{"$f":"IFERROR((ROUND(SUM($G$262:$G$266),2)),0)","v":0}]
[{"$f":"IFERROR(IF(EXACT(UPPER($G$17),UPPER(Menus!$A$125)),\"Taux inventaire de conformité (incluant le paiement pour la délimitation des secteurs en régie)\",\"Taux inventaire de conformité\"),\"Taux inventaire de conformité\")","v":"Taux inventaire de conformité"},null,null,null,null,null,{"$f":"IFERROR(IF(EXACT($G$124,PRT_Delimitation_des_secteurs_en_regie)=FALSE,(($G$124*$G$125)+($G$127*$G$128)+SUM(#REF!)*'Calculs grille'!$L$157*$G$128+SUM(#REF!)*'Calculs grille'!$L$158*$G$128)/$G$271,(((Menus!$A$134*$G$271)+($G$127*$G$128)+SUM(#REF!)*'Calculs grille'!$L$157*$G$128+SUM(#REF!)*'Calculs grille'!$L$158*$G$128)/$G$271)),0)","v":0}]
["Taux DTEXE",null,null,null,null,null,{"$f":"IFERROR($F$150*$G264,0)","v":0}]
["Taux exécution total, majorations, réductions admissibles et inventaire conformité total",null,null,null,null,null,{"$f":"IFERROR((ROUND(SUM($G$260:$G$261,G263:G266,G269),2)),0)","v":0}]
["Superficie",null,null,null,null,null,{"$f":"IFERROR(ROUND($G$103,2),0)","v":0}]
["Total exécution",null,null,null,null,null,{"$f":"IFERROR(ROUND($G$267*$G$271,2),0)","v":0}]
["Total inventaire de conformité",null,null,null,null,null,{"$f":"IFERROR(ROUND(SUM($G$268:$G$269)*$G$271,2),0)","v":0}]
["Grand total admissible",null,null,null,null,null,{"$f":"IFERROR(G270*G271,0)","v":0}]
["Calculs - Fertilisation du peuplier hybride"]
["Taux d'exécution de base",null,null,null,null,null,{"$f":"IFERROR(IF(ISBLANK($G$14)=TRUE,0,$G$14),0)","v":"S/O"}]
["Taux PE2",null,null,null,null,null,{"$f":"IFERROR(ROUND((SUMPRODUCT($E$46:$E$50,$G$46:$G$50)/$G$51),2),0)","v":0}]
["Taux VERIF",null,null,null,null,null,{"$f":"IFERROR($G$132*$G$133/$G$51,0)","v":0}]
["Taux sous-total exécution",null,null,null,null,null,{"$f":"IFERROR(SUM($G$276:$G$277),0)","v":0}]
["Taux HRA",null,null,null,null,null,{"$f":"IFERROR(SUM(G276:G278)*$F$137,0)","v":0}]
["Taux DTEXE",null,null,null,null,null,{"$f":"IFERROR((SUM(G276:G278)*$F$150),0)","v":0}]
["Taux CEAF1 ou ISO1",null,null,null,null,null,{"$f":"IFERROR((SUM($G$276:$G$278,G280:G281)*$F$145),0)","v":0}]
["Taux exécution total  et majoration(s) admissible(s)",null,null,null,null,null,{"$f":"IFERROR((ROUND(SUM($G$279:$G$282),2)),0)","v":0}]
[{"$f":"IFERROR(IF(EXACT(UPPER($G$17),UPPER(Menus!$A$125)),\"Taux inventaire de conformité (incluant le paiement pour la délimitation des secteurs en régie)\",\"Taux inventaire de conformité\"),\"Taux inventaire de conformité\")","v":"Taux inventaire de conformité"},null,null,null,null,null,{"$f":"IFERROR(IF(EXACT($G$124,PRT_Delimitation_des_secteurs_en_regie)=FALSE,SUM(($G$124*$G$125),($G$132*$G$133))/$G$287,((Menus!$A$134*$G$287)+($G$132*$G$133))/$G$287),0)","v":0}]
["Taux HPVTM et/ou DTPVTM",null,null,null,null,null,{"$f":"IFERROR((SUM($F$148:$F$149)*$G$284),0)","v":0}]
["Taux exécution total, majorations, réductions admissibles et inventaire conformité total",null,null,null,null,null,{"$f":"IFERROR((ROUND(SUM($G$276:$G$278,G280:G282),2)),0)","v":0}]
["Superficie",null,null,null,null,null,{"$f":"IFERROR(ROUND($G$51,2),0)","v":0}]
["Total exécution",null,null,null,null,null,{"$f":"IFERROR(ROUND($G$283*$G$287,2),0)","v":0}]
["Total inventaire de conformité",null,null,null,null,null,{"$f":"IFERROR(ROUND(SUM($G$284,G285)*$G$287,2),0)","v":0}]
["Grand total admissible",null,null,null,null,null,{"$f":"IFERROR(G286*G287,0)","v":0}]
[]
["Remarques"]
[]
["J'atteste que les renseignements fournis dans ce document afin de calculer le taux du traitement sont complets et conformes à la vérité, au meilleur de mes connaissances."]
[]
[]
[]
["Nom et prénom de l'ingénieur forestier",null,null,null,null,null,"Numéro de permis"]
[null,null,null,null,null,null,{"$f":"TODAY()","v":"2026-04-08"}]
[]
["Signature de l'ingénieur forestier",null,null,null,null,null,"Date (AAAA-MM-JJ)"]
[]
[]
["Section réservée au suivi du contrat"]
[]
[null,"Numéro de la prescription :",{"$f":"IF(G8<>\"\",G8,\"\")","v":""}]
[]
[null,"Numéro du contrat :"]
[null,"Numéro du projet :"]
[null,"U.G. :"]
[null,"MRC :"]
[null,"Code de traitement DICA :",{"$f":"IF($G$9<>\"\",$G$9,\"\")","v":""}]
[null,"Code de traitement RATF :",{"$f":"IF($G$10<>\"\",$G$10,\"\")","v":""}]
[null,"Type d'attribution :"]
[null,{"$f":"IFERROR(IF(EXACT(UPPER($D$315),UPPER(Menus!$A$762)),\"Taux AO (avec vérif.) :\",IF(EXACT(UPPER($D$315),UPPER(Menus!$A$763)),\"Taux AO (sans vérif.) :\",\"Taux AO :\")),\"Taux AO :\")","v":"Taux AO :"},null,"Inscrire une valeur"]
[null,{"$f":"IFERROR(IF(EXACT(UPPER($D$315),UPPER(Menus!$A$763)),\"Taux Grille (sans vérif.) :\",\"Taux Grille (avec vérif.) :\"),\"Taux Grille (avec vérif.) :\")","v":"Taux Grille (avec vérif.) :"},{"$f":"IFERROR(IF(OR(ISBLANK($D$315=TRUE),EXACT(UPPER($D$315),UPPER(Menus!$A$764))),VLOOKUP($G$13,Rexforêt_Taux_AO,3,FALSE),IF(EXACT(UPPER($D$315),UPPER(Menus!$A$762)),VLOOKUP($G$13,Rexforêt_Taux_AO,3,FALSE),IF(EXACT(UPPER($D$315),UPPER(Menus!$A$763)),VLOOKUP($G$13,Rexforêt_Taux_AO,4,FALSE),0))),0)","v":0}]
[null,"Ratio AO/Grille :",{"$f":"IFERROR(IF(AND(ISBLANK($C$315)=FALSE,$C$316>0),ROUND($C$315/$C$316,4),\"S/O\"),\"\")","v":"S/O"}]
[null,"Grand total AO :",{"$f":"IFERROR(IF(OR(ISBLANK($C$315)=TRUE,EXACT(C$316,0)),\"S/O\",IF(AND($C$315>0,OR(EXACT(UPPER($D$315),UPPER(Menus!$A$762)),EXACT(UPPER($D$315),UPPER(Menus!$A$764)))),ROUND(VLOOKUP($G$13,RXF!$A$1:$G$55,5,FALSE)*$C$317,2),IF(AND($C$315>0,EXACT(UPPER($D$315),UPPER(Menus!$A$763))),ROUND(VLOOKUP($G$13,RXF!$A$1:$G$55,7,FALSE)*$C$317,2)))),\"\")","v":"S/O"}]
[null,"Nom de l'entrepreneur :"]
[null,"Numéro de fournisseur :"]
[null,"Date de début :"]
[null,"Date de fin :"]
[null,"Commentaires :"]

{"sheet":"TS_BD","index":3,"n_rows":2,"n_cols":55,"rows_kept":2,"cut":false,"hidden":true,"merged":[]}
["NO_CONTRAT","NO_SEC_INT","NO_PRS","NO_UA","TY_TR_OPE","CODE_RATF","TY_TR","SU_PNT_A","SU_PNT_B","SU_PNT_C","SU_PNT_D","SU_PNT_E","DIST_PASSE","SU_PNT_A_1","SU_PNT_B_1","SU_PNT_C_1","SU_PNT_D_1","SU_PNT_E_1","SU_PNT_A_2","SU_PNT_B_2","SU_PNT_C_2","SU_PNT_D_2","SU_PNT_E_2","SU_PNT_A_3","SU_PNT_B_3","SU_PNT_C_3","SU_PNT_D_3","SU_PNT_E_3","EQUIPEMENT","IN_DELEMIT","PC_HA_PRP","PC_HA2_PRP","TY_COUVERT","TY_RECOLTE","TY_PERTURB","TY_ENGIN","DIR_OPE","QTE_EXCA","PE_PS_C","NBR_MICRO","TAUX_EX_BA","TAUX_PA0","TAUX_PAPE","TAUX_PE","TAUX_DRAP","TAUX_DMOD","TAUX_VERIF","TAUX_HPT","TAUX_HRA","TAUX_HEP","TAUX_CEAF","TAUX_DTEXE","TAUX_EXTOT","QTE_CONTRA","MNT_EX_IN"]
[{"$f":"'Traitements du site'!C308","v":0},{"$f":"'Traitements du site'!G6","v":0},{"$f":"'Traitements du site'!G8","v":0},{"$f":"'Traitements du site'!G5","v":0},{"$f":"'Traitements du site'!G9","v":0},{"$f":"'Traitements du site'!G10","v":0},{"$f":"'Traitements du site'!G12","v":"Inscrire une valeur"},{"$f":"IFERROR(_xlfn.IFS(AND($G$2=\"Scarifiage par mixage (hersage/labourage)\",$AC$2=\"Herses forestières\"),'Traitements du site'!E82,AND($G$2=\"Déblaiement des résidus de coupe\",$AC$2=\"Bouteur avec pelle râteau\"),'Traitements du site'!G55,AND($G$2=\"Déblaiement des résidus de coupe\",$AC$2=\"Excavatrice ou débusqueuse ou abatteuse\"),'Traitements du site'!G98,$G$2=\"Fertilisation du peuplier hybride\",'Traitements du site'!G46,AND($G$2=\"Scarifiage par monticules avec scarificateur\",$AC$2=\"Bracke M-36a avec débardeur\"),'Traitements du site'!G37,AND($G$2=\"Scarifiage par monticules avec scarificateur\",$AC$2=\"Bracke M-36a avec porteur ou débardeur à six roues\"),'Traitements du site'!G37,$G$2=\"Scarifiage par monticules ou par mixage ou inversion en placeaux ou décapage en placeaux\",'Traitements du site'!G98,$G$2=\"Débroussaillement mécanique\",'Traitements du site'!$F$106),0)","v":0},{"$f":"IFERROR(_xlfn.IFS(AND($G$2=\"Déblaiement des résidus de coupe\",$AC$2=\"Bouteur avec pelle râteau\"),'Traitements du site'!G56,AND($G$2=\"Déblaiement des résidus de coupe\",$AC$2=\"Excavatrice ou débusqueuse ou abatteuse\"),'Traitements du site'!G99,$G$2=\"Fertilisation du peuplier hybride\",'Traitements du site'!G47,AND($G$2=\"Scarifiage par monticules avec scarificateur\",$AC$2=\"Bracke M-36a avec débardeur\"),'Traitements du site'!G38,AND($G$2=\"Scarifiage par monticules avec scarificateur\",$AC$2=\"Bracke M-36a avec porteur ou débardeur à six roues\"),'Traitements du site'!G38,$G$2=\"Scarifiage par monticules ou par mixage ou inversion en placeaux ou décapage en placeaux\",'Traitements du site'!G99,$G$2=\"Débroussaillement mécanique\",'Traitements du site'!$F$107),0)","v":0},{"$f":"IFERROR(_xlfn.IFS(AND($G$2=\"Scarifiage par mixage (hersage/labourage)\",$AC$2=\"Herses forestières\"),'Traitements du site'!E84,AND($G$2=\"Déblaiement des résidus de coupe\",$AC$2=\"Bouteur avec pelle râteau\"),'Traitements du site'!G57,AND($G$2=\"Déblaiement des résidus de coupe\",$AC$2=\"Excavatrice ou débusqueuse ou abatteuse\"),'Traitements du site'!G100,$G$2=\"Fertilisation du peuplier hybride\",'Traitements du site'!G48,AND($G$2=\"Scarifiage par monticules avec scarificateur\",$AC$2=\"Bracke M-36a avec débardeur\"),'Traitements du site'!G39,AND($G$2=\"Scarifiage par monticules avec scarificateur\",$AC$2=\"Bracke M-36a avec porteur ou débardeur à six roues\"),'Traitements du site'!G39,$G$2=\"Scarifiage par monticules ou par mixage ou inversion en placeaux ou décapage en placeaux\",'Traitements du site'!G100,$G$2=\"Débroussaillement mécanique\",'Traitements du site'!$F$108),0)","v":0},{"$f":"IFERROR(_xlfn.IFS(AND($G$2=\"Scarifiage par mixage (hersage/labourage)\",$AC$2=\"Herses forestières\"),'Traitements du site'!E86,AND($G$2=\"Déblaiement des résidus de coupe\",$AC$2=\"Bouteur avec pelle râteau\"),'Traitements du site'!G58,AND($G$2=\"Déblaiement des résidus de coupe\",$AC$2=\"Excavatrice ou débusqueuse ou abatteuse\"),'Traitements du site'!G101,$G$2=\"Fertilisation du peuplier hybride\",'Traitements du site'!G49,AND($G$2=\"Scarifiage par monticules avec scarificateur\",$AC$2=\"Bracke M-36a avec débardeur\"),'Traitements du site'!G40,AND($G$2=\"Scarifiage par monticules avec scarificateur\",$AC$2=\"Bracke M-36a avec porteur ou débardeur à six roues\"),'Traitements du site'!G40,$G$2=\"Scarifiage par monticules ou par mixage ou inversion en placeaux ou décapage en placeaux\",'Traitements du site'!G101,$G$2=\"Débroussaillement mécanique\",'Traitements du site'!$F$109),0)","v":0},{"$f":"IFERROR(_xlfn.IFS(AND($G$2=\"Scarifiage par mixage (hersage/labourage)\",$AC$2=\"Herses forestières\"),'Traitements du site'!#REF!,AND($G$2=\"Déblaiement des résidus de coupe\",$AC$2=\"Bouteur avec pelle râteau\"),'Traitements du site'!G59,AND($G$2=\"Déblaiement des résidus de coupe\",$AC$2=\"Excavatrice ou débusqueuse ou abatteuse\"),'Traitements du site'!G102,$G$2=\"Fertilisation du peuplier hybride\",'Traitements du site'!G50,AND($G$2=\"Scarifiage par monticules avec scarificateur\",$AC$2=\"Bracke M-36a avec débardeur\"),'Traitements du site'!G41,AND($G$2=\"Scarifiage par monticules avec scarificateur\",$AC$2=\"Bracke M-36a avec porteur ou débardeur à six roues\"),'Traitements du site'!G41,$G$2=\"Scarifiage par monticules ou par mixage ou inversion en placeaux ou décapage en placeaux\",'Traitements du site'!G102,$G$2=\"Débroussaillement mécanique\",'Traitements du site'!$F$110),0)","v":0},{"$f":"'Traitements du site'!G31","v":0},{"$f":"IFERROR(_xlfn.IFS($G$2=\"Scarifiage par sillons continus ou discontinus avec scarificateur\",'Traitements du site'!D65),0)","v":0},{"$f":"IFERROR(_xlfn.IFS(AND($G$2=\"Scarifiage par mixage (hersage/labourage)\",$AC$2=\"Herses forestières\"),'Traitements du site'!E83,$G$2=\"Scarifiage par sillons continus ou discontinus avec scarificateur\",'Traitements du site'!D66),0)","v":0},{"$f":"IFERROR(_xlfn.IFS($G$2=\"Scarifiage par sillons continus ou discontinus avec scarificateur\",'Traitements du site'!D67),0)","v":0},{"$f":"IFERROR(_xlfn.IFS($G$2=\"Scarifiage par sillons continus ou discontinus avec scarificateur\",'Traitements du site'!D68),0)","v":0},{"$f":"IFERROR(_xlfn.IFS($G$2=\"Scarifiage par sillons continus ou discontinus avec scarificateur\",'Traitements du site'!D69),0)","v":0},{"$f":"IFERROR(_xlfn.IFS($G$2=\"Scarifiage par sillons continus ou discontinus avec scarificateur\",'Traitements du site'!E65),0)","v":0},{"$f":"IFERROR(_xlfn.IFS($G$2=\"Scarifiage par sillons continus ou discontinus avec scarificateur\",'Traitements du site'!E66),0)","v":0},{"$f":"IFERROR(_xlfn.IFS($G$2=\"Scarifiage par sillons continus ou discontinus avec scarificateur\",'Traitements du site'!E67),0)","v":0},{"$f":"IFERROR(_xlfn.IFS($G$2=\"Scarifiage par sillons continus ou discontinus avec scarificateur\",'Traitements du site'!E68),0)","v":0},{"$f":"IFERROR(_xlfn.IFS($G$2=\"Scarifiage par sillons continus ou discontinus avec scarificateur\",'Traitements du site'!E69),0)","v":0},{"$f":"IFERROR(_xlfn.IFS($G$2=\"Scarifiage par sillons continus ou discontinus avec scarificateur\",'Traitements du site'!F65),0)","v":0},{"$f":"IFERROR(_xlfn.IFS($G$2=\"Scarifiage par sillons continus ou discontinus avec scarificateur\",'Traitements du site'!F66),0)","v":0},{"$f":"IFERROR(_xlfn.IFS($G$2=\"Scarifiage par sillons continus ou discontinus avec scarificateur\",'Traitements du site'!F67),0)","v":0},{"$f":"IFERROR(_xlfn.IFS($G$2=\"Scarifiage par sillons continus ou discontinus avec scarificateur\",'Traitements du site'!F68),0)","v":0},{"$f":"IFERROR(_xlfn.IFS($G$2=\"Scarifiage par sillons continus ou discontinus avec scarificateur\",'Traitements du site'!F69),0)","v":0},{"$f":"'Traitements du site'!G13","v":"Inscrire une valeur"},{"$f":"'Traitements du site'!G17","v":0},{"$f":"'Traitements du site'!G20","v":0},null,{"$f":"'Traitements du site'!G21","v":0},{"$f":"'Traitements du site'!G22","v":0},{"$f":"'Traitements du site'!G23","v":0},{"$f":"'Traitements du site'!G24","v":0},null,null,{"$f":"IFERROR(_xlfn.IFS($G$2=\"Scarifiage par monticules avec scarificateur\",'Traitements du site'!G128,$G$2=\"Scarifiage par monticules ou par mixage ou inversion en placeaux ou décapage en placeaux\",'Traitements du site'!G128,$G$2=\"Scarifiage par sillons continus ou discontinus avec scarificateur\",'Traitements du site'!G128,$G$2=\"Scarifiage par mixage en placeaux\",'Traitements du site'!G134,$G$2=\"Scarifiage par mixage (hersage/labourage)\",'Traitements du site'!G128,$G$2=\"Fertilisation du peuplier hybride\",'Traitements du site'!G133,AND($G$2=\"Déblaiement des résidus de coupe\",$AC$2=\"Excavatrice ou débusqueuse ou abatteuse\"),'Traitements du site'!G128,AND($G$2=\"Déblaiement des résidus de coupe\",$AC$2=\"Bouteur avec pelle râteau\"),'Traitements du site'!G128,$G$2=\"Débroussaillement mécanique\",'Traitements du site'!$G$125),\"\")","v":""},{"$f":"'Traitements du site'!G32","v":""},{"$f":"IFERROR(_xlfn.IFS($G$2=\"Scarifiage par monticules avec scarificateur\",'Traitements du site'!G171,$G$2=\"Scarifiage par monticules ou par mixage ou inversion en placeaux ou décapage en placeaux\",'Traitements du site'!G260,$G$2=\"Scarifiage par sillons continus ou discontinus avec scarificateur\",'Traitements du site'!G153,$G$2=\"Scarifiage par mixage en placeaux\",'Traitements du site'!G246,$G$2=\"Scarifiage par mixage (hersage/labourage)\",'Traitements du site'!G186,$G$2=\"Fertilisation du peuplier hybride\",'Traitements du site'!G276,AND($G$2=\"Déblaiement des résidus de coupe\",$AC$2=\"Excavatrice ou débusqueuse ou abatteuse\"),'Traitements du site'!G260,AND($G$2=\"Déblaiement des résidus de coupe\",$AC$2=\"Bouteur avec pelle râteau\"),'Traitements du site'!G202,$G$2=\"Débroussaillement mécanique\",'Traitements du site'!$G$218),\"\")","v":""},{"$f":"IFERROR(_xlfn.IFS($G$2=\"Scarifiage par sillons continus ou discontinus avec scarificateur\",'Traitements du site'!G154),\"\")","v":""},{"$f":"IFERROR(_xlfn.IFS($G$2=\"Scarifiage par sillons continus ou discontinus avec scarificateur\",'Traitements du site'!G155,$G$2=\"Scarifiage par mixage (hersage/labourage)\",'Traitements du site'!G187),\"\")","v":""},{"$f":"IFERROR(_xlfn.IFS($G$2=\"Scarifiage par monticules avec scarificateur\",'Traitements du site'!G172,$G$2=\"Scarifiage par monticules ou par mixage ou inversion en placeaux ou décapage en placeaux\",'Traitements du site'!G261,$G$2=\"Fertilisation du peuplier hybride\",'Traitements du site'!G277,AND($G$2=\"Déblaiement des résidus de coupe\",$AC$2=\"Excavatrice ou débusqueuse ou abatteuse\"),'Traitements du site'!G261,AND($G$2=\"Déblaiement des résidus de coupe\",$AC$2=\"Bouteur avec pelle râteau\"),'Traitements du site'!G203,$G$2=\"Débroussaillement mécanique\",'Traitements du site'!G219),\"\")","v":""},{"$f":"IFERROR(_xlfn.IFS($G$2=\"Scarifiage par monticules avec scarificateur\",'Traitements du site'!G173,$G$2=\"Scarifiage par sillons continus ou discontinus avec scarificateur\",'Traitements du site'!G156,$G$2=\"Scarifiage par mixage (hersage/labourage)\",'Traitements du site'!G189),\"\")","v":""},{"$f":"IFERROR(_xlfn.IFS($G$2=\"Scarifiage par monticules ou par mixage ou inversion en placeaux ou décapage en placeaux\",'Traitements du site'!G263,AND($G$2=\"Déblaiement des résidus de coupe\",$AC$2=\"Excavatrice ou débusqueuse ou abatteuse\"),'Traitements du site'!G263,AND($G$2=\"Déblaiement des résidus de coupe\",$AC$2=\"Bouteur avec pelle râteau\"),'Traitements du site'!G205),\"\")","v":""},{"$f":"IFERROR(_xlfn.IFS($G$2=\"Scarifiage par monticules avec scarificateur\",'Traitements du site'!G174,$G$2=\"Scarifiage par monticules ou par mixage ou inversion en placeaux ou décapage en placeaux\",'Traitements du site'!G264,$G$2=\"Scarifiage par sillons continus ou discontinus avec scarificateur\",'Traitements du site'!G157,$G$2=\"Scarifiage par mixage en placeaux\",'Traitements du site'!G247,$G$2=\"Scarifiage par mixage (hersage/labourage)\",'Traitements du site'!G190,$G$2=\"Fertilisation du peuplier hybride\",'Traitements du site'!G278,AND($G$2=\"Déblaiement des résidus de coupe\",$AC$2=\"Excavatrice ou débusqueuse ou abatteuse\"),'Traitements du site'!G264,AND($G$2=\"Déblaiement des résidus de coupe\",$AC$2=\"Bouteur avec pelle râteau\"),'Traitements du site'!G206,$G$2=\"Débroussaillement mécanique\",'Traitements du site'!G222),\"\")","v":""},{"$f":"IFERROR(_xlfn.IFS($G$2=\"Scarifiage par monticules avec scarificateur\",'Traitements du site'!G175,$G$2=\"Scarifiage par monticules ou par mixage ou inversion en placeaux ou décapage en placeaux\",'Traitements du site'!G265,$G$2=\"Scarifiage par sillons continus ou discontinus avec scarificateur\",'Traitements du site'!G159,$G$2=\"Scarifiage par mixage (hersage/labourage)\",'Traitements du site'!G191,AND($G$2=\"Déblaiement des résidus de coupe\",$AC$2=\"Excavatrice ou débusqueuse ou abatteuse\"),'Traitements du site'!G265,AND($G$2=\"Déblaiement des résidus de coupe\",$AC$2=\"Bouteur avec pelle râteau\"),'Traitements du site'!G207),\"\")","v":""},{"$f":"IFERROR(_xlfn.IFS($G$2=\"Scarifiage par mixage en placeaux\",'Traitements du site'!G248,$G$2=\"Fertilisation du peuplier hybride\",'Traitements du site'!G278),\"\")","v":""},{"$f":"IFERROR(_xlfn.IFS($G$2=\"Débroussaillement mécanique\",'Traitements du site'!G223),\"\")","v":""},{"$f":"IFERROR(_xlfn.IFS($G$2=\"Scarifiage par monticules avec scarificateur\",'Traitements du site'!G176,$G$2=\"Scarifiage par monticules ou par mixage ou inversion en placeaux ou décapage en placeaux\",'Traitements du site'!G266,$G$2=\"Scarifiage par sillons continus ou discontinus avec scarificateur\",'Traitements du site'!G160,$G$2=\"Scarifiage par mixage en placeaux\",'Traitements du site'!G250,$G$2=\"Scarifiage par mixage (hersage/labourage)\",'Traitements du site'!G192,$G$2=\"Fertilisation du peuplier hybride\",'Traitements du site'!G282,AND($G$2=\"Déblaiement des résidus de coupe\",$AC$2=\"Excavatrice ou débusqueuse ou abatteuse\"),'Traitements du site'!G266,AND($G$2=\"Déblaiement des résidus de coupe\",$AC$2=\"Bouteur avec pelle râteau\"),'Traitements du site'!G208,$G$2=\"Débroussaillement mécanique\",'Traitements du site'!G225),\"\")","v":""},{"$f":"IFERROR(_xlfn.IFS($G$2=\"Scarifiage par monticules avec scarificateur\",'Traitements du site'!G179,$G$2=\"Scarifiage par monticules ou par mixage ou inversion en placeaux ou décapage en placeaux\",'Traitements du site'!G269,$G$2=\"Scarifiage par sillons continus ou discontinus avec scarificateur\",'Traitements du site'!G161,$G$2=\"Scarifiage par mixage en placeaux\",'Traitements du site'!G249,$G$2=\"Scarifiage par mixage (hersage/labourage)\",'Traitements du site'!G195,$G$2=\"Fertilisation du peuplier hybride\",'Traitements du site'!G281,AND($G$2=\"Déblaiement des résidus de coupe\",$AC$2=\"Excavatrice ou débusqueuse ou abatteuse\"),'Traitements du site'!G269,AND($G$2=\"Déblaiement des résidus de coupe\",$AC$2=\"Bouteur avec pelle râteau\"),'Traitements du site'!G211,$G$2=\"Débroussaillement mécanique\",'Traitements du site'!G224),\"\")","v":""},{"$f":"IFERROR(_xlfn.IFS($G$2=\"Scarifiage par monticules avec scarificateur\",'Traitements du site'!G180,$G$2=\"Scarifiage par monticules ou par mixage ou inversion en placeaux ou décapage en placeaux\",'Traitements du site'!G270,$G$2=\"Scarifiage par sillons continus ou discontinus avec scarificateur\",'Traitements du site'!G162,$G$2=\"Scarifiage par mixage en placeaux\",'Traitements du site'!G254,$G$2=\"Scarifiage par mixage (hersage/labourage)\",'Traitements du site'!G196,$G$2=\"Fertilisation du peuplier hybride\",'Traitements du site'!G286,AND($G$2=\"Déblaiement des résidus de coupe\",$AC$2=\"Excavatrice ou débusqueuse ou abatteuse\"),'Traitements du site'!G270,AND($G$2=\"Déblaiement des résidus de coupe\",$AC$2=\"Bouteur avec pelle râteau\"),'Traitements du site'!G212,$G$2=\"Débroussaillement mécanique\",'Traitements du site'!$G$228),\"\")","v":""},{"$f":"IFERROR(_xlfn.IFS($G$2=\"Scarifiage par monticules avec scarificateur\",'Traitements du site'!G181,$G$2=\"Scarifiage par monticules ou par mixage ou inversion en placeaux ou décapage en placeaux\",'Traitements du site'!G271,$G$2=\"Scarifiage par sillons continus ou discontinus avec scarificateur\",'Traitements du site'!G166,$G$2=\"Scarifiage par mixage en placeaux\",'Traitements du site'!G255,$G$2=\"Scarifiage par mixage (hersage/labourage)\",'Traitements du site'!G197,$G$2=\"Fertilisation du peuplier hybride\",'Traitements du site'!G287,AND($G$2=\"Déblaiement des résidus de coupe\",$AC$2=\"Excavatrice ou débusqueuse ou abatteuse\"),'Traitements du site'!G271,AND($G$2=\"Déblaiement des résidus de coupe\",$AC$2=\"Bouteur avec pelle râteau\"),'Traitements du site'!G213,$G$2=\"Débroussaillement mécanique\",'Traitements du site'!$G$229),\"\")","v":""},{"$f":"IFERROR(_xlfn.IFS($G$2=\"Scarifiage par monticules avec scarificateur\",'Traitements du site'!G184,$G$2=\"Scarifiage par monticules ou par mixage ou inversion en placeaux ou décapage en placeaux\",'Traitements du site'!G274,$G$2=\"Scarifiage par sillons continus ou discontinus avec scarificateur\",'Traitements du site'!G169,$G$2=\"Scarifiage par mixage en placeaux\",'Traitements du site'!G258,$G$2=\"Scarifiage par mixage (hersage/labourage)\",'Traitements du site'!G200,$G$2=\"Fertilisation du peuplier hybride\",'Traitements du site'!G290,AND($G$2=\"Déblaiement des résidus de coupe\",$AC$2=\"Excavatrice ou débusqueuse ou abatteuse\"),'Traitements du site'!G274,AND($G$2=\"Déblaiement des résidus de coupe\",$AC$2=\"Bouteur avec pelle râteau\"),'Traitements du site'!G216,$G$2=\"Débroussaillement mécanique\",'Traitements du site'!$G$232),\"\")","v":""}]

{"sheet":"Traitements du site - PATS","index":4,"n_rows":324,"n_cols":7,"rows_kept":324,"cut":false,"hidden":true,"merged":[[287,0,287,5],[145,0,145,3],[145,4,145,5],[132,0,132,3],[6,0,6,5],[7,0,7,5],[8,0,8,5],[9,0,9,3],[9,4,9,5],[10,0,10,6],[20,1,20,4],[21,1,21,3],[22,1,22,3],[19,0,19,6],[35,0,35,6],[36,0,36,5],[37,0,37,5],[38,0,38,5],[39,0,39,6],[40,0,40,6],[24,1,24,3],[25,1,25,4],[26,0,26,5],[32,0,32,6],[0,0,0,6],[1,0,1,6],[2,0,2,5],[3,0,3,6],[4,0,4,5],[5,0,5,5],[16,0,16,4],[17,0,17,6],[18,0,18,6],[11,0,11,4],[12,0,12,4],[13,0,13,5],[14,0,14,5],[15,0,15,1],[15,2,15,6],[33,0,33,6],[34,0,34,6],[27,0,27,6],[28,0,28,6],[29,1,29,4],[30,0,30,4],[31,0,31,5],[43,0,43,1],[43,2,43,3],[43,4,43,5],[44,0,44,1],[44,2,44,3],[44,4,44,5],[41,0,41,1],[41,2,41,3],[41,4,41,5],[42,0,42,1],[42,2,42,3],[42,4,42,5],[47,0,47,5],[48,0,48,6],[49,0,49,6],[50,0,50,1],[50,2,50,3],[50,4,50,5],[45,0,45,1],[45,2,45,3],[45,4,45,5],[46,0,46,1],[46,2,46,3],[46,4,46,5],[53,0,53,1],[53,2,53,3],[53,4,53,5],[54,0,54,1],[54,2,54,3],[54,4,54,5],[51,0,51,1],[51,2,51,3],[51,4,51,5],[52,0,52,1],[52,2,52,3],[52,4,52,5],[67,0,67,1],[67,2,67,3],[67,4,67,5],[68,0,68,1],[68,2,68,3],[68,4,68,5],[55,0,55,1],[55,2,55,3],[55,4,55,5],[56,0,56,5],[65,0,65,6],[66,0,66,6],[57,0,57,6],[58,0,58,1],[59,0,59,1],[60,0,60,1],[61,0,61,1],[62,0,62,1],[63,0,63,1],[64,0,64,2],[71,0,71,1],[71,2,71,3],[71,4,71,5],[72,0,72,1],[72,2,72,3],[72,4,72,5],[69,0,69,1],[69,2,69,3],[69,4,69,5],[70,0,70,1],[70,2,70,3],[70,4,70,5],[79,0,79,2],[80,0,80,2],[81,0,81,2],[82,0,82,2],[83,0,83,2],[84,0,84,6],[73,0,73,5],[74,0,74,6],[75,0,75,6],[76,0,76,6],[77,0,77,2],[78,0,78,2],[87,0,87,1],[87,2,87,3],[87,4,87,5],[88,0,88,1],[88,2,88,3],[88,4,88,5],[85,0,85,1],[85,2,85,3],[85,4,85,5],[86,0,86,1],[86,2,86,3],[86,4,86,5],[91,0,91,6],[92,0,92,6],[93,0,93,6],[94,0,94,2],[95,0,95,2],[96,0,96,2],[89,0,89,1],[89,2,89,3],[89,4,89,5],[90,0,90,1],[90,2,90,3],[90,4,90,5],[103,0,103,1],[103,2,103,3],[103,4,103,5],[104,0,104,1],[104,2,104,3],[104,4,104,5],[97,0,97,2],[98,0,98,2],[99,0,99,2],[100,0,100,2],[101,0,101,6],[102,0,102,1],[102,2,102,3],[102,4,102,5],[107,0,107,1],[107,2,107,3],[107,4,107,5],[108,0,108,6],[109,0,109,6],[110,0,110,1],[110,2,110,3],[110,4,110,5],[105,0,105,1],[105,2,105,3],[105,4,105,5],[106,0,106,1],[106,2,106,3],[106,4,106,5],[113,0,113,1],[113,2,113,3],[113,4,113,5],[114,0,114,1],[114,2,114,3],[114,4,114,5],[111,0,111,1],[111,2,111,3],[111,4,111,5],[112,0,112,1],[112,2,112,3],[112,4,112,5],[119,0,119,5],[120,0,120,5],[121,0,121,6],[122,0,122,6],[123,0,123,5],[124,0,124,5],[115,0,115,1],[115,2,115,3],[115,4,115,5],[116,0,116,5],[117,0,117,6],[118,0,118,6],[127,0,127,6],[128,0,128,6],[125,0,125,5],[126,0,126,5],[151,0,151,6],[152,0,152,6],[153,0,153,3],[154,0,154,4],[157,0,157,3],[138,1,138,3],[139,1,139,3],[140,1,140,3],[141,0,141,5],[142,0,142,6],[143,0,143,5],[130,0,130,5],[131,0,131,6],[133,0,133,5],[134,0,139,0],[134,1,134,3],[134,4,139,4],[135,1,135,3],[136,1,136,3],[137,1,137,3],[150,0,150,4],[158,0,158,6],[159,0,159,6],[160,0,160,5],[161,0,161,5],[162,0,162,5],[144,0,144,6],[146,0,146,5],[147,0,147,6],[148,0,148,6],[149,0,149,4],[155,0,155,6],[156,0,156,6],[169,0,169,5],[170,0,170,5],[171,0,171,5],[172,0,172,5],[173,0,173,5],[174,0,174,5],[163,0,163,5],[164,0,164,5],[165,0,165,5],[166,0,166,5],[167,0,167,5],[168,0,168,5],[181,0,181,5],[182,0,182,5],[183,0,183,5],[184,0,184,5],[185,0,185,5],[186,0,186,5],[175,0,175,6],[176,0,176,5],[177,0,177,5],[178,0,178,5],[179,0,179,5],[180,0,180,5],[193,0,193,5],[194,0,194,5],[195,0,195,5],[196,0,196,5],[197,0,197,5],[198,0,198,5],[187,0,187,5],[188,0,188,5],[189,0,189,5],[190,0,190,6],[191,0,191,5],[192,0,192,5],[205,0,205,6],[206,0,206,5],[207,0,207,5],[208,0,208,5],[210,0,210,5],[199,0,199,5],[200,0,200,5],[201,0,201,5],[202,0,202,5],[203,0,203,5],[204,0,204,5],[209,0,209,5],[217,0,217,5],[218,0,218,5],[219,0,219,5],[220,0,220,6],[221,0,221,5],[222,0,222,5],[211,0,211,5],[212,0,212,5],[213,0,213,5],[214,0,214,5],[215,0,215,5],[216,0,216,5],[229,0,229,5],[230,0,230,5],[231,0,231,5],[232,0,232,5],[233,0,233,5],[234,0,234,5],[223,0,223,5],[225,0,225,5],[226,0,226,5],[227,0,227,5],[228,0,228,5],[224,0,224,5],[241,0,241,5],[242,0,242,5],[243,0,243,5],[244,0,244,5],[245,0,245,5],[246,0,246,5],[235,0,235,6],[236,0,236,5],[237,0,237,5],[238,0,238,5],[239,0,239,5],[240,0,240,5],[253,0,253,5],[254,0,254,5],[255,0,255,5],[256,0,256,5],[257,0,257,5],[258,0,258,5],[247,0,247,6],[248,0,248,5],[249,0,249,5],[250,0,250,5],[251,0,251,5],[252,0,252,5],[265,0,265,5],[266,0,266,5],[267,0,267,5],[268,0,268,5],[269,0,269,5],[270,0,270,5],[259,0,259,5],[260,0,260,6],[261,0,261,5],[262,0,262,5],[263,0,263,5],[264,0,264,5],[279,0,279,5],[280,0,280,5],[281,0,281,5],[282,0,282,5],[271,0,271,5],[272,0,272,5],[273,0,273,5],[274,0,274,5],[275,0,275,6],[276,0,276,5],[23,1,23,3],[129,0,129,5],[315,3,315,4],[298,0,298,5],[299,0,300,5],[299,6,300,6],[301,0,301,5],[304,0,304,4],[306,2,307,4],[290,0,290,5],[291,0,291,6],[292,0,292,6],[293,0,293,6],[294,0,294,6],[295,0,297,5],[295,6,297,6],[283,0,283,5],[284,0,284,5],[285,0,285,5],[286,0,286,5],[288,0,288,5],[289,0,289,5],[277,0,277,5],[278,0,278,5]]}
[]
["Annexe au calcul des taux des traitements sylvicoles non commerciaux 2024-2025\nspécifique aux projets du\nProcessus d'analyse des traitements sylvicoles (PATS)\n   Traitements du site\nForêt publique"]
[" *** Veuillez saisir les informations dans les cellules blanches seulement ***",null,null,null,null,null,"Version 1 - PATS : 2024-03-26"]
["Identification"]
["Unité d'aménagement (UA)"]
["Secteur d'intervention"]
["Unité de compilation"]
["Numéro de la prescription"]
["Traitement (code DICA)"]
["Traitement (code RATF)",null,null,null,{"$f":"IFERROR(VLOOKUP($G$9,Menus!$A$846:$D$846,3,FALSE),Menus!$C$846)","v":"PATS_PRT_RATF_NCOTS"}]
["Traitement du site à taux fixe ou variable"]
["Traitement",null,null,null,null,{"$f":"IFERROR(VLOOKUP($G$12,Menus!$A$770:$B$776,2,FALSE),\"\")","v":"PATS_PRT_Inscrire_une_valeur"},"Inscrire une valeur"]
["Équipement ou modalité",null,null,null,null,{"$f":"IFERROR(VLOOKUP($G$13,Menus!$A$770:$B$776,2,FALSE),\"\")","v":"PATS_PRT_Inscrire_une_valeur"},"Inscrire une valeur"]
[{"$f":"IFERROR(IF(OR(EXACT(UPPER($G$13),UPPER(Menus!$B$23)),EXACT(UPPER($G$13),UPPER(Menus!$B$25)),EXACT(UPPER($G$13),UPPER(Menus!$B$26))),\"Taux de base en fonction d'une distance entre les passages de 5 mètres - Voir majoration PA0\",\"Taux de base\"),\"Taux de base\")","v":"Taux de base"},null,null,null,null,null,{"$f":"IFERROR(VLOOKUP($G$13,Menus!$A$779:$C$790,2,FALSE),\"\")","v":"S/O"}]
["Unité de mesure",null,null,null,null,null,{"$f":"IFERROR(VLOOKUP($G$13,Menus!$A$779:$C$790,3,FALSE),\"\")","v":"S/O"}]
[{"$f":"\"Formule (e=Constante \"&Menus!$A$76&\")\"","v":"Formule (e=Constante 2,718)"},null,{"$f":"IFERROR(IF(EXACT($G$13,PATS_PRT_Déblaiement_Monticules_Combinés),\"Deux formules distinctes sont utilisées pour les étapes 1 et 2, voir les lignes 20 et 29\",VLOOKUP($G$13,Formules,3,FALSE)),\"\")","v":""}]
["Est-ce que la délimitation des secteurs est effectuée par la même entreprise que celle qui réalise le traitement (en régie) de préparation de terrain ?",null,null,null,null,{"$f":"IFERROR(IF(EXACT($G$12,Menus!$A$11),VLOOKUP($G$13,Menus!$B$27:$D$30,4,FALSE),IF(EXACT($G$17,Menus!$A$125),\"PRT_Delimitation_des_secteurs_en_regie\",IF(EXACT($G$17,Menus!$A$126),\"PRT_Delimitation_des_secteurs_tierce_partie\",\"\"))),\"PRT_Delimitation_des_secteurs_tierce_partie\")","v":""}]
[{"$f":"\"Valeurs spécifiques à remplir selon le traitement - \"&$G$12&\" - \"&$G$13","v":"Valeurs spécifiques à remplir selon le traitement - Inscrire une valeur - Inscrire une valeur"}]
["Taux variable - Déblaiement d'un peuplement sans perturbation naturelle et sans récolte (Excavatrice ou débusqueuse), Déblaiement des résidus de coupe combiné à un scarifiage en monticule (Excavatrice ), Scarifiage par monticules et tranchées (Excavatrice pour le PEH)"]
[{"$f":"\"Étape # 1 – Déblaiement des résidus de coupe avec excavatrice : \"&IFERROR(VLOOKUP(\"Excavatrice (COMBO1)\",Formules,3,FALSE),\"\")","v":"Étape # 1 – Déblaiement des résidus de coupe avec excavatrice : Taux ($/ha) = (40 616 * R) / e (1,683 * R - 0,299 * TP - 0,313 * TR + 2,014)"}]
["R","Superficie préparée\nRapport entre la superficie préparée et la superficie brute (%)",null,null,null,{"$f":"IFERROR(VLOOKUP($G$13,Menus!$A$779:$D$790,4,FALSE),\"\")","v":0}]
["TP","Type de couvert",null,null,{"$f":"IFERROR(VLOOKUP($G$13,Menus!$A$779:$E$790,5,FALSE),\"\")","v":0},{"$f":"IFERROR(IF(OR(ISBLANK($G$22)=TRUE,ISBLANK($G$25)=TRUE),\"\",IF(EXACT($G$25,PRT_Debusqueuse_Type_de_peuplement_résineux_feuillus_mixtes_VEH),0,VLOOKUP($G$22,Menus!$A$84:$B$86,2,FALSE))),\"\")","v":""}]
["TR","Type de procédé de récolte",null,null,{"$f":"IFERROR(VLOOKUP($G$13,Menus!$A$779:$G$790,7,FALSE),\"\")","v":0},{"$f":"IFERROR(IF(EXACT($G$13,PATS_PRT_Déblaiement_sans_perturbation_naturelle_et_sans_récolte),VLOOKUP($G$23,Menus!$A$815:$B$816,2,FALSE),IF(OR(EXACT($G$13,PATS_PRT_Scarifiage_par_monticules_tranchées),EXACT($G$13,PATS_PRT_Déblaiement_Monticules_Combinés)),VLOOKUP($G$23,Menus!$A$819:$B$820,2,FALSE),0)),\"\")","v":0}]
["PER","Type de perturbation",null,null,{"$f":"IFERROR(VLOOKUP($G$23,Menus!$A$89:$C$94,3,FALSE),\"\")","v":""},{"$f":"IFERROR(VLOOKUP($G$24,Menus!$A$97:$B$99,2,FALSE),\"\")","v":""}]
["VEH","Type d'engin forestier",null,null,{"$f":"IFERROR(VLOOKUP($G$13,Menus!$A$779:$F$790,6,FALSE),\"\")","v":0},{"$f":"IFERROR(VLOOKUP($G$25,Menus!$A$102:$B$104,2,FALSE),\"\")","v":""}]
["Valeur","VEH utilisée dans la formule",null,null,null,{"$f":"IFERROR(IF(EXACT($F$25,\"\"),\"\",IF(EXACT($F$25,3),Menus!$B$107,IF(EXACT($F$25,2),Menus!$B$108,(Menus!$B$110/(Menus!$B$111*POWER($G$21,Menus!$B$112))*Menus!$B$113)))),\"\")","v":""},50]
[{"$f":"IFERROR(IF(EXACT($G$13,PATS_PRT_Scarifiage_par_monticules_tranchées),\"Taux calculé à partir de l'équation et des variables reliées au traitement et avec une majoration spécifique en lien avec des conditions d'opérations particulières (CNESST) — \"&TEXT('Calculs grille'!$L$32*100,\"##,#\")&\" %\",\"Taux calculé à partir de l'équation et des variables reliées au traitement\"),\"Taux calculé à partir de l'équation et des variables reliées au traitement\")","v":"Taux calculé à partir de l'équation et des variables reliées au traitement"},null,null,null,null,null,{"$f":"IFERROR(ROUND(IF(EXACT($G$13,PATS_PRT_Déblaiement_sans_perturbation_naturelle_et_sans_récolte),IF(ISBLANK($G$21)=TRUE,0,IF(ISNUMBER($G$21)=FALSE,\"Valeur R non valide\",IF(AND(ROUND($G$21,2)=$G$21,$G$21>=0.01,$G$21<=1),(((('Calculs grille'!$L$22*$G$21)/POWER(Menus!$A$793,(Menus!$A$794*$G$21-Menus!$A$795*$F$22-Menus!$A$796*$F$23+Menus!$A$797))))*$F$26),\"Valeur R non valide\"))),IF(EXACT($G$13,PATS_PRT_Scarifiage_par_monticules_tranchées),IF(ISBLANK($G$21)=TRUE,0,IF(ISNUMBER($G$21)=FALSE,\"Valeur R non valide\",IF(AND(ROUND($G$21,2)=$G$21,$G$21>=0.01,$G$21<=1),((('Calculs grille'!$L$16*$G$21)/POWER(Menus!$A$800,(Menus!$A$801*$G$21-Menus!$A$802*$F$23+Menus!$A$803)))*(1+'Calculs grille'!$L$32)),\"Valeur R non valide\"))),IF(EXACT($G$13,PATS_PRT_Déblaiement_Monticules_Combinés),IF(ISBLANK($G$21)=TRUE,0,IF(ISNUMBER($G$21)=FALSE,\"Valeur R non valide\",IF(AND(ROUND($G$21,2)=$G$21,$G$21>=0.01,$G$21<=1),('Calculs grille'!$L$22*$G$21)/POWER(Menus!$A$793,(Menus!$A$794*$G$21-Menus!$A$795*$F$22-Menus!$A$796*$F$23+Menus!$A$797)),\"Valeur R non valide\"))),0))),2),0)","v":0}]
["Taux variable - Déblaiement des résidus de coupe et scarifiage par monticules avec excavatrice (traitements combinés) - Étape monticules - Conditions d'opération CNESST disponible)"]
[{"$f":"\"Étape #2 – Scarifiage en monticules avec excavatrice : \"&IFERROR(VLOOKUP(\"Excavatrice (COMBO2)\",Formules,3,FALSE),\"\")","v":"Étape #2 – Scarifiage en monticules avec excavatrice : Taux ($/ha) = (26 839 * R) / e (1,683 * R + 2,014)"}]
["R","Superficie préparée\nRapport entre la superficie préparée et la superficie brute (%)",null,null,null,"PATS_PRT_PCT_Variable_MONT"]
["Directive opérationnelle",null,null,null,null,{"$f":"IFERROR(VLOOKUP($G$31,PATS_PRT_CNESST_Valeurs,2,FALSE),\"\")","v":""}]
[{"$f":"IFERROR(IF(EXACT($G$31,Menus!$A$828),\"Taux calculé à partir de l'équation et des variables reliées au traitement et avec une majoration spécifique en lien avec des conditions d'opérations particulières (CNESST) — \"&TEXT('Calculs grille'!$L$32*100,\"##,#\")&\" %\",\"Taux calculé à partir de l'équation et des variables reliées au traitement\"),\"Taux calculé à partir de l'équation et des variables reliées au traitement\")","v":"Taux calculé à partir de l'équation et des variables reliées au traitement"},null,null,null,null,null,{"$f":"IF(OR(ISBLANK($G$30)=TRUE,ISBLANK($G$31)=TRUE),0,IF(ISNUMBER($G$30)=FALSE,\"Valeur R non valide\",IF(AND(ROUND($G$30,2)=$G$30,$G$30>=0.01,$G$30<=1),ROUND((('Calculs grille'!$L$33*$G$30)/POWER(Menus!$A$806,(Menus!$A$807*$G$30+Menus!$A$808))*(1+SUM($F$31))),2),\"Valeur R non valide\")))","v":0}]
[{"$f":"\"Majorations et/ou réduction applicables à l'exécution - \"&$G$12&\" - \"&$G$13&\" - Voir l'onglet « Étapes calcul majoration »\"","v":"Majorations et/ou réduction applicables à l'exécution - Inscrire une valeur - Inscrire une valeur - Voir l'onglet « Étapes calcul majoration »"}]
[{"$f":"IFERROR(IFERROR(VLOOKUP($G$13,Majorations_applicables,11,FALSE),VLOOKUP($G$12,Majorations_applicables,11,FALSE)),\"\")","v":""}]
["Majoration pour la distance entre les passages de l'engin forestier (PA0)"]
["Majoration pour la distance entre les passages de l'engin forestier (PA0) - Disque-Bracke"]
["Distance entre les passages de l'engin forestier « DP »\nValeur de 3,50 m à 5,00 m inclusivement"]
["Nombre de microsite par hectare désiré calculé à partir d'une valeur standard de distance entre les passages de l'engin forestier",null,null,null,null,null,{"$f":"IFERROR(IF(ISBLANK($G$37)=TRUE,\"\",IF(ISNA(VLOOKUP($G$37,Menus!$A$35:$B$38,2,FALSE)),\"La valeur de distance entre les passages est différente des valeurs standards (classes de 50 cm), calcul à titre indicatif seulement : « \"&ROUND(10000/$G$37,0)&\" » microsites par hectare\",VLOOKUP($G$37,Menus!$A$35:$B$38,2,FALSE))),\"\")","v":""}]
["Majoration du taux d'exécution de base calculé à partir de la valeur inscrite de distance entre les passages de l'engin forestier\nLa majoration est calculée selon la formule suivante :  =ARRONDI(1,4659 EXP (-0,0765 * DP);4)",null,null,null,null,null,{"$f":"IFERROR(IF(ISBLANK($G$37),\"\",IF(ROUND($G$37,2)<>$G$37,\"Valeur « Distance entre les passages » non valide\",IF(AND($G$37>=Menus!$A$35,$G$37<=Menus!$A$38),ROUND(Menus!$B$40*EXP(Menus!$B$41*ROUND('Traitements du site - PATS'!$G$37,2)),4),\"Valeur « Distance entre les passages » non valide\"))),\"\")","v":""}]
["Majoration pour la pente (PE1)"]
["Majoration pour la pente (PE1) - Disque-T26-Wadell-M36"]
["Classe de pente\nnumérique",null,"Taux calculé",null,"Écart",null,"Superficie (ha)"]
["Pente A",null,{"$f":"IFERROR($G$14*(1+VLOOKUP($A$43,'Majorations applicables'!$A$69:$B$73,2,FALSE)),0)","v":0},null,{"$f":"IFERROR($C$43-$G$14,0)","v":0}]
["Pente B",null,{"$f":"IFERROR($G$14*(1+VLOOKUP($A$44,'Majorations applicables'!$A$69:$B$73,2,FALSE)),0)","v":0},null,{"$f":"IFERROR($C$44-$G$14,0)","v":0}]
["Pente C",null,{"$f":"IFERROR($G$14*(1+VLOOKUP($A$45,'Majorations applicables'!$A$69:$B$73,2,FALSE)),0)","v":0},null,{"$f":"IFERROR($C$45-$G$14,0)","v":0}]
["Pente D",null,{"$f":"IFERROR($G$14*(1+VLOOKUP($A$46,'Majorations applicables'!$A$69:$B$73,2,FALSE)),0)","v":0},null,{"$f":"IFERROR($C$46-$G$14,0)","v":0}]
["Pente E et plus",null,{"$f":"IFERROR($G$14*(1+VLOOKUP($A$47,'Majorations applicables'!$A$69:$B$73,2,FALSE)),0)","v":0},null,{"$f":"IFERROR($C$47-$G$14,0)","v":0}]
["Total",null,null,null,null,null,{"$f":"IFERROR(SUM($G$43:$G$47),0)","v":0}]
["Majoration pour la pente (PE2)"]
["Majoration pour la pente (PE2) - Abatteuse et Fertilisation PEH/Broyage forestier/Abatteuse groupeuse"]
["Classe de pente numérique",null,"Taux calculé",null,"Écart",null,"Superficie (ha)"]
["Pente A",null,{"$f":"IFERROR($G$14*(1+VLOOKUP($A$52,'Majorations applicables'!$A$76:$B$80,2,FALSE)),0)","v":0},null,{"$f":"IFERROR($C$52-$G$14,0)","v":0}]
["Pente B",null,{"$f":"IFERROR($G$14*(1+VLOOKUP($A$53,'Majorations applicables'!$A$76:$B$80,2,FALSE)),0)","v":0},null,{"$f":"IFERROR($C$53-$G$14,0)","v":0}]
["Pente C",null,{"$f":"IFERROR($G$14*(1+VLOOKUP($A$54,'Majorations applicables'!$A$76:$B$80,2,FALSE)),0)","v":0},null,{"$f":"IFERROR($C$54-$G$14,0)","v":0}]
["Pente D",null,{"$f":"IFERROR($G$14*(1+VLOOKUP($A$55,'Majorations applicables'!$A$76:$B$80,2,FALSE)),0)","v":0},null,{"$f":"IFERROR($C$55-$G$14,0)","v":0}]
["Pente E et plus",null,{"$f":"IFERROR($G$14*(1+VLOOKUP($A$56,'Majorations applicables'!$A$76:$B$80,2,FALSE)),0)","v":0},null,{"$f":"IFERROR($C$56-$G$14,0)","v":0}]
["Total",null,null,null,null,null,{"$f":"IFERROR(SUM($G$52:$G$56),0)","v":0}]
["Majoration pour la pente (PE2) - Débroussaillement manuel"]
["Classe de pente numérique",null,"Taux calculé","Écart","Superficie nette (ha) excluant les andains","Superficie brute (hectare)","% andains"]
["Pente A",null,{"$f":"IFERROR($G$14*(1+VLOOKUP($A$60,'Majorations applicables'!$A$76:$B$80,2,FALSE)),0)","v":0},{"$f":"IFERROR($C$60-$G$14,0)","v":0},{"$f":"IFERROR($F$60*(1-$G$60),0)","v":0}]
["Pente B",null,{"$f":"IFERROR($G$14*(1+VLOOKUP($A$61,'Majorations applicables'!$A$76:$B$80,2,FALSE)),0)","v":0},{"$f":"IFERROR($C$61-$G$14,0)","v":0},{"$f":"IFERROR($F$61*(1-$G$61),0)","v":0}]
["Pente C",null,{"$f":"IFERROR($G$14*(1+VLOOKUP($A$62,'Majorations applicables'!$A$76:$B$80,2,FALSE)),0)","v":0},{"$f":"IFERROR($C$62-$G$14,0)","v":0},{"$f":"IFERROR($F$62*(1-$G$62),0)","v":0}]
["Pente D",null,{"$f":"IFERROR($G$14*(1+VLOOKUP($A$63,'Majorations applicables'!$A$76:$B$80,2,FALSE)),0)","v":0},{"$f":"IFERROR($C$63-$G$14,0)","v":0},{"$f":"IFERROR($F$63*(1-$G$63),0)","v":0}]
["Pente E et plus",null,{"$f":"IFERROR($G$14*(1+VLOOKUP($A$64,'Majorations applicables'!$A$76:$B$80,2,FALSE)),0)","v":0},{"$f":"IFERROR($C$64-$G$14,0)","v":0},{"$f":"IFERROR($F$64*(1-$G$64),0)","v":0}]
[null,null,null,"Total",{"$f":"IFERROR(SUM($E$60:$E$64),0)","v":0},{"$f":"IFERROR(SUM($F$60:$F$64),0)","v":0},{"$f":"IFERROR((SUMPRODUCT($G$60:$G$64,$F$60:$F$64)/$F$65),0)","v":0}]
["Majoration pour la pente (PE4)"]
["Majoration pour la pente (PE4) - Bouteur/Bouteur pelle modifiée/Bouteur lame tranchante"]
["Classe de pente numérique",null,"Taux calculé",null,"Écart",null,"Superficie (ha)"]
["Pente A",null,{"$f":"IFERROR($G$14*(1+VLOOKUP($A$69,'Majorations applicables'!$A$90:$B$94,2,FALSE)),0)","v":0},null,{"$f":"IFERROR($C$69-$G$14,0)","v":0}]
["Pente B",null,{"$f":"IFERROR($G$14*(1+VLOOKUP($A$70,'Majorations applicables'!$A$90:$B$94,2,FALSE)),0)","v":0},null,{"$f":"IFERROR($C$70-$G$14,0)","v":0}]
["Pente C",null,{"$f":"IFERROR($G$14*(1+VLOOKUP($A$71,'Majorations applicables'!$A$90:$B$94,2,FALSE)),0)","v":0},null,{"$f":"IFERROR($C$71-$G$14,0)","v":0}]
["Pente D",null,{"$f":"IFERROR($G$14*(1+VLOOKUP($A$72,'Majorations applicables'!$A$90:$B$94,2,FALSE)),0)","v":0},null,{"$f":"IFERROR($C$72-$G$14,0)","v":0}]
["Pente E et plus",null,{"$f":"IFERROR($G$14*(1+VLOOKUP($A$73,'Majorations applicables'!$A$90:$B$94,2,FALSE)),0)","v":0},null,{"$f":"IFERROR($C$73-$G$14,0)","v":0}]
["Total",null,null,null,null,null,{"$f":"IFERROR(SUM($G$69:$G$73),0)","v":0}]
["Majoration pour le nombre de passage et la pente (PA1 et PE1)"]
["Majoration pour le nombre de passage et la pente (PA1 et PE1) - Disque-T26-Wadell"]
["Superficie  (hectares)"]
["Classe de pente numérique",null,null,"Simple passage ","Double passage","Triple passage","Total"]
["Pente A",null,null,null,null,null,{"$f":"SUM($D$79:$F$79)","v":0}]
["Pente B",null,null,null,null,null,{"$f":"SUM($D$80:$F$80)","v":0}]
["Pente C",null,null,null,null,null,{"$f":"SUM($D$81:$F$81)","v":0}]
["Pente D",null,null,null,null,null,{"$f":"SUM($D$82:$F$82)","v":0}]
["Pente E et plus",null,null,null,null,null,{"$f":"SUM($D$83:$F$83)","v":0}]
["Total",null,null,{"$f":"IFERROR(SUM($D$79:$D$83),0)","v":0},{"$f":"IFERROR(SUM($E$79:$E$83),0)","v":0},{"$f":"IFERROR(SUM($F$79:$F$83),0)","v":0},{"$f":"IFERROR(SUM($G$79:$G$83),0)","v":0}]
["Taux calculé ($/hectare)"]
["Nombre de passage",null,1,null,2,null,3]
["Pente A",null,{"$f":"IFERROR(SUM($G$161:$G$162)*(1+VLOOKUP($A$87,'Majorations applicables'!$A$69:$B$73,2,FALSE)),0)","v":0},null,{"$f":"IFERROR(SUM($G$161:$G$162)*(1+VLOOKUP($A$87,'Majorations applicables'!$A$69:$B$73,2,FALSE))+SUM($G$161:$G$162)*(1+VLOOKUP($A$87,'Majorations applicables'!$A$69:$B$73,2,FALSE))*'Majorations applicables'!$A$63,0)","v":0},null,{"$f":"IFERROR(SUM($G$161:$G$162)*(1+VLOOKUP($A$87,'Majorations applicables'!$A$69:$B$73,2,FALSE))+SUM($G$161:$G$162)*(1+VLOOKUP($A$87,'Majorations applicables'!$A$69:$B$73,2,FALSE))*'Majorations applicables'!$A$63+SUM($G$161:$G$162)*(1+VLOOKUP($A$87,'Majorations applicables'!$A$69:$B$73,2,FALSE))*POWER('Majorations applicables'!$A$63,2),0)","v":0}]
["Pente B",null,{"$f":"IFERROR(SUM($G$161:$G$162)*(1+VLOOKUP($A$88,'Majorations applicables'!$A$69:$B$73,2,FALSE)),0)","v":0},null,{"$f":"IFERROR(SUM($G$161:$G$162)*(1+VLOOKUP($A$88,'Majorations applicables'!$A$69:$B$73,2,FALSE))+SUM($G$161:$G$162)*(1+VLOOKUP($A$88,'Majorations applicables'!$A$69:$B$73,2,FALSE))*'Majorations applicables'!$A$63,0)","v":0},null,{"$f":"IFERROR(SUM($G$161:$G$162)*(1+VLOOKUP($A$88,'Majorations applicables'!$A$69:$B$73,2,FALSE))+SUM($G$161:$G$162)*(1+VLOOKUP($A$88,'Majorations applicables'!$A$69:$B$73,2,FALSE))*'Majorations applicables'!$A$63+SUM($G$161:$G$162)*(1+VLOOKUP($A$88,'Majorations applicables'!$A$69:$B$73,2,FALSE))*POWER('Majorations applicables'!$A$63,2),0)","v":0}]
["Pente C",null,{"$f":"IFERROR(SUM($G$161:$G$162)*(1+VLOOKUP($A$89,'Majorations applicables'!$A$69:$B$73,2,FALSE)),0)","v":0},null,{"$f":"IFERROR(SUM($G$161:$G$162)*(1+VLOOKUP($A$89,'Majorations applicables'!$A$69:$B$73,2,FALSE))+SUM($G$161:$G$162)*(1+VLOOKUP($A$89,'Majorations applicables'!$A$69:$B$73,2,FALSE))*'Majorations applicables'!$A$63,0)","v":0},null,{"$f":"IFERROR(SUM($G$161:$G$162)*(1+VLOOKUP($A$89,'Majorations applicables'!$A$69:$B$73,2,FALSE))+SUM($G$161:$G$162)*(1+VLOOKUP($A$89,'Majorations applicables'!$A$69:$B$73,2,FALSE))*'Majorations applicables'!$A$63+SUM($G$161:$G$162)*(1+VLOOKUP($A$89,'Majorations applicables'!$A$69:$B$73,2,FALSE))*POWER('Majorations applicables'!$A$63,2),0)","v":0}]
["Pente D",null,{"$f":"IFERROR(SUM($G$161:$G$162)*(1+VLOOKUP($A$90,'Majorations applicables'!$A$69:$B$73,2,FALSE)),0)","v":0},null,{"$f":"IFERROR(SUM($G$161:$G$162)*(1+VLOOKUP($A$90,'Majorations applicables'!$A$69:$B$73,2,FALSE))+SUM($G$161:$G$162)*(1+VLOOKUP($A$90,'Majorations applicables'!$A$69:$B$73,2,FALSE))*'Majorations applicables'!$A$63,0)","v":0},null,{"$f":"IFERROR(SUM($G$161:$G$162)*(1+VLOOKUP($A$90,'Majorations applicables'!$A$69:$B$73,2,FALSE))+SUM($G$161:$G$162)*(1+VLOOKUP($A$90,'Majorations applicables'!$A$69:$B$73,2,FALSE))*'Majorations applicables'!$A$63+SUM($G$161:$G$162)*(1+VLOOKUP($A$90,'Majorations applicables'!$A$69:$B$73,2,FALSE))*POWER('Majorations applicables'!$A$63,2),0)","v":0}]
["Pente E et plus",null,{"$f":"SUM($G$161:$G$162)*(1+VLOOKUP($A$91,'Majorations applicables'!$A$69:$B$73,2,FALSE))","v":0},null,{"$f":"IFERROR(SUM($G$161:$G$162)*(1+VLOOKUP($A$91,'Majorations applicables'!$A$69:$B$73,2,FALSE))+SUM($G$161:$G$162)*(1+VLOOKUP($A$91,'Majorations applicables'!$A$69:$B$73,2,FALSE))*'Majorations applicables'!$A$63,0)","v":0},null,{"$f":"IFERROR(SUM($G$161:$G$162)*(1+VLOOKUP($A$91,'Majorations applicables'!$A$69:$B$73,2,FALSE))+SUM($G$161:$G$162)*(1+VLOOKUP($A$91,'Majorations applicables'!$A$69:$B$73,2,FALSE))*'Majorations applicables'!$A$63+SUM($G$161:$G$162)*(1+VLOOKUP($A$91,'Majorations applicables'!$A$69:$B$73,2,FALSE))*POWER('Majorations applicables'!$A$63,2),0)","v":0}]
["Majoration pour le nombre de passage et la pente (PA2 et PE2)"]
["Majoration pour le nombre de passage et la pente (PA2 et PE2) - Herse"]
["Superficie (hectares)"]
["Classe de pente numérique",null,null,"Simple passage ","Double passage","Triple passage","Total"]
["Pente A",null,null,null,null,null,{"$f":"SUM($D$96:$F$96)","v":0}]
["Pente B",null,null,null,null,null,{"$f":"SUM($D$97:$F$97)","v":0}]
["Pente C",null,null,null,null,null,{"$f":"SUM($D$98:$F$98)","v":0}]
["Pente D",null,null,null,null,null,{"$f":"SUM($D$99:$F$99)","v":0}]
["Pente E et plus",null,null,null,null,null,{"$f":"SUM($D$100:$F$100)","v":0}]
["Total",null,null,{"$f":"IFERROR(SUM($D$96:$D$100),0)","v":0},{"$f":"IFERROR(SUM($E$96:$E$100),0)","v":0},{"$f":"IFERROR(SUM($F$96:$F$100),0)","v":0},{"$f":"IFERROR(SUM($G$96:$G$100),0)","v":0}]
["Taux calculé ($/hectare)"]
["Nombre de passage",null,1,null,2,null,3]
["Pente A",null,{"$f":"IFERROR($G$14*(1+VLOOKUP($A$104,'Majorations applicables'!$A$76:$B$80,2,FALSE)),0)","v":0},null,{"$f":"IFERROR($G$14*(1+VLOOKUP($A$104,'Majorations applicables'!$A$76:$B$80,2,FALSE))+$G$14*'Majorations applicables'!$A$66,0)","v":0},null,{"$f":"IFERROR($G$14*(1+VLOOKUP($A$104,'Majorations applicables'!$A$76:$B$80,2,FALSE))+$G$14*(1+VLOOKUP($A$104,'Majorations applicables'!$A$76:$B$80,2,FALSE))*'Majorations applicables'!$A$66+$G$14*(1+VLOOKUP($A$104,'Majorations applicables'!$A$76:$B$80,2,FALSE))*POWER('Majorations applicables'!$A$66,2),0)","v":0}]
["Pente B",null,{"$f":"IFERROR($G$14*(1+VLOOKUP($A$105,'Majorations applicables'!$A$76:$B$80,2,FALSE)),0)","v":0},null,{"$f":"IFERROR($G$14*(1+VLOOKUP($A$105,'Majorations applicables'!$A$76:$B$80,2,FALSE))+$G$14*'Majorations applicables'!$A$66,0)","v":0},null,{"$f":"IFERROR($G$14*(1+VLOOKUP($A$105,'Majorations applicables'!$A$76:$B$80,2,FALSE))+$G$14*(1+VLOOKUP($A$105,'Majorations applicables'!$A$76:$B$80,2,FALSE))*'Majorations applicables'!$A$66+$G$14*(1+VLOOKUP($A$105,'Majorations applicables'!$A$76:$B$80,2,FALSE))*POWER('Majorations applicables'!$A$66,2),0)","v":0}]
["Pente C",null,{"$f":"IFERROR($G$14*(1+VLOOKUP($A$106,'Majorations applicables'!$A$76:$B$80,2,FALSE)),0)","v":0},null,{"$f":"IFERROR($G$14*(1+VLOOKUP($A$106,'Majorations applicables'!$A$76:$B$80,2,FALSE))+$G$14*(1+VLOOKUP($A$106,'Majorations applicables'!$A$76:$B$80,2,FALSE))*'Majorations applicables'!$A$66,0)","v":0},null,{"$f":"IFERROR($G$14*(1+VLOOKUP($A$106,'Majorations applicables'!$A$76:$B$80,2,FALSE))+$G$14*(1+VLOOKUP($A$106,'Majorations applicables'!$A$76:$B$80,2,FALSE))*'Majorations applicables'!$A$66+$G$14*(1+VLOOKUP($A$106,'Majorations applicables'!$A$76:$B$80,2,FALSE))*POWER('Majorations applicables'!$A$66,2),0)","v":0}]
["Pente D",null,{"$f":"IFERROR($G$14*(1+VLOOKUP($A$107,'Majorations applicables'!$A$76:$B$80,2,FALSE)),0)","v":0},null,{"$f":"IFERROR($G$14*(1+VLOOKUP($A$107,'Majorations applicables'!$A$76:$B$80,2,FALSE))+$G$14*(1+VLOOKUP($A$107,'Majorations applicables'!$A$76:$B$80,2,FALSE))*'Majorations applicables'!$A$66,0)","v":0},null,{"$f":"IFERROR($G$14*(1+VLOOKUP($A$107,'Majorations applicables'!$A$76:$B$80,2,FALSE))+$G$14*(1+VLOOKUP($A$107,'Majorations applicables'!$A$76:$B$80,2,FALSE))*'Majorations applicables'!$A$66+$G$14*(1+VLOOKUP($A$107,'Majorations applicables'!$A$76:$B$80,2,FALSE))*POWER('Majorations applicables'!$A$66,2),0)","v":0}]
["Pente E et plus",null,{"$f":"IFERROR($G$14*(1+VLOOKUP($A$108,'Majorations applicables'!$A$76:$B$80,2,FALSE)),0)","v":0},null,{"$f":"IFERROR($G$14*(1+VLOOKUP($A$108,'Majorations applicables'!$A$76:$B$80,2,FALSE))+$G$14*(1+VLOOKUP($A$108,'Majorations applicables'!$A$76:$B$80,2,FALSE))*'Majorations applicables'!$A$66,0)","v":0},null,{"$f":"IFERROR($G$14*(1+VLOOKUP($A$108,'Majorations applicables'!$A$76:$B$80,2,FALSE))+$G$14*(1+VLOOKUP($A$108,'Majorations applicables'!$A$76:$B$80,2,FALSE))*'Majorations applicables'!$A$66+$G$14*(1+VLOOKUP($A$108,'Majorations applicables'!$A$76:$B$80,2,FALSE))*POWER('Majorations applicables'!$A$66,2),0)","v":0}]
[{"$f":"IFERROR(IF($G$25=\"\",\"Majoration pour la pente (PE2 ou PE3 selon le type d'équipement)\",IF($G$25<>Menus!$A$823,\"Majoration pour la pente (PE2)\",\"Majoration pour la pente (PE3)\")),\"Majoration pour la pente (PE2 ou PE3 selon le type d'équipement)\")","v":"Majoration pour la pente (PE2 ou PE3 selon le type d'équipement)"}]
["Majoration pour la pente (PE2 ou PE3 selon le type d'équipement) - Variable"]
["Classe de pente numérique",null,"Taux calculé",null,"Écart",null,"Superficie brute\n(hectare)"]
["Pente A",null,{"$f":"IFERROR(IF(EXACT($G$13,PATS_PRT_Déblaiement_sans_perturbation_naturelle_et_sans_récolte),IF(EXACT($F$25,1),$G$27*(1+VLOOKUP($A$112,'Majorations applicables'!$A$83:$B$87,2,FALSE)),$G$27*(1+VLOOKUP($A$112,'Majorations applicables'!$A$76:$B$80,2,FALSE))),IF(EXACT($G$13,PATS_PRT_Scarifiage_par_monticules_tranchées),$G$27*(1+VLOOKUP($A$112,'Majorations applicables'!$A$76:$B$80,2,FALSE)),IF(EXACT($G$13,PATS_PRT_Déblaiement_Monticules_Combinés),SUM($G$27,$G$32)*(1+VLOOKUP($A$112,'Majorations applicables'!$A$76:$B$80,2,FALSE)),0))),0)","v":0},null,{"$f":"IFERROR(IF(EXACT($G$13,PATS_PRT_Déblaiement_sans_perturbation_naturelle_et_sans_récolte),$C$112-$G$27,IF(EXACT($G$13,PATS_PRT_Scarifiage_par_monticules_tranchées),$C$112-$G$27,IF(EXACT($G$13,PATS_PRT_Déblaiement_Monticules_Combinés),$C$112-SUM($G$27,$G$32),0))),0)","v":0},{"$f":"IF(EXACT($G$13,PATS_PRT_Déblaiement_sans_perturbation_naturelle_et_sans_récolte),$C$112-$G$27,IF(EXACT($G$13,PATS_PRT_Scarifiage_par_monticules_tranchées),$C$112-$G$27,IF(EXACT($G$13,PATS_PRT_Déblaiement_Monticules_Combinés),$C$112-SUM($G$27,$G$32),0)))","v":0}]
["Pente B",null,{"$f":"IFERROR(IF(EXACT($G$13,PATS_PRT_Déblaiement_sans_perturbation_naturelle_et_sans_récolte),IF(EXACT($F$25,1),$G$27*(1+VLOOKUP($A$113,'Majorations applicables'!$A$83:$B$87,2,FALSE)),$G$27*(1+VLOOKUP($A$113,'Majorations applicables'!$A$76:$B$80,2,FALSE))),IF(EXACT($G$13,PATS_PRT_Scarifiage_par_monticules_tranchées),$G$27*(1+VLOOKUP($A$113,'Majorations applicables'!$A$76:$B$80,2,FALSE)),IF(EXACT($G$13,PATS_PRT_Déblaiement_Monticules_Combinés),SUM($G$27,$G$32)*(1+VLOOKUP($A$113,'Majorations applicables'!$A$76:$B$80,2,FALSE)),0))),0)","v":0},null,{"$f":"IFERROR(IF(EXACT($G$13,PATS_PRT_Déblaiement_sans_perturbation_naturelle_et_sans_récolte),$C$113-$G$27,IF(EXACT($G$13,PATS_PRT_Scarifiage_par_monticules_tranchées),$C$113-$G$27,IF(EXACT($G$13,PATS_PRT_Déblaiement_Monticules_Combinés),$C$113-SUM($G$27,$G$32),0))),0)","v":0},{"$f":"IF(EXACT($G$13,PATS_PRT_Déblaiement_sans_perturbation_naturelle_et_sans_récolte),$C$113-$G$27,IF(EXACT($G$13,PATS_PRT_Scarifiage_par_monticules_tranchées),$C$113-$G$27,IF(EXACT($G$13,PATS_PRT_Déblaiement_Monticules_Combinés),$C$113-SUM($G$27,$G$32),0)))","v":0}]
["Pente C",null,{"$f":"IFERROR(IF(EXACT($G$13,PATS_PRT_Déblaiement_sans_perturbation_naturelle_et_sans_récolte),IF(EXACT($F$25,1),$G$27*(1+VLOOKUP($A$114,'Majorations applicables'!$A$83:$B$87,2,FALSE)),$G$27*(1+VLOOKUP($A$114,'Majorations applicables'!$A$76:$B$80,2,FALSE))),IF(EXACT($G$13,PATS_PRT_Scarifiage_par_monticules_tranchées),$G$27*(1+VLOOKUP($A$114,'Majorations applicables'!$A$76:$B$80,2,FALSE)),IF(EXACT($G$13,PATS_PRT_Déblaiement_Monticules_Combinés),SUM($G$27,$G$32)*(1+VLOOKUP($A$114,'Majorations applicables'!$A$76:$B$80,2,FALSE)),0))),0)","v":0},null,{"$f":"IFERROR(IF(EXACT($G$13,PATS_PRT_Déblaiement_sans_perturbation_naturelle_et_sans_récolte),$C$114-$G$27,IF(EXACT($G$13,PATS_PRT_Scarifiage_par_monticules_tranchées),$C$114-$G$27,IF(EXACT($G$13,PATS_PRT_Déblaiement_Monticules_Combinés),$C$114-SUM($G$27,$G$32),0))),0)","v":0},{"$f":"IF(EXACT($G$13,PATS_PRT_Déblaiement_sans_perturbation_naturelle_et_sans_récolte),$C$114-$G$27,IF(EXACT($G$13,PATS_PRT_Scarifiage_par_monticules_tranchées),$C$114-$G$27,IF(EXACT($G$13,PATS_PRT_Déblaiement_Monticules_Combinés),$C$114-SUM($G$27,$G$32),0)))","v":0}]
["Pente D",null,{"$f":"IFERROR(IF(EXACT($G$13,PATS_PRT_Déblaiement_sans_perturbation_naturelle_et_sans_récolte),IF(EXACT($F$25,1),$G$27*(1+VLOOKUP($A$115,'Majorations applicables'!$A$83:$B$87,2,FALSE)),$G$27*(1+VLOOKUP($A$115,'Majorations applicables'!$A$76:$B$80,2,FALSE))),IF(EXACT($G$13,PATS_PRT_Scarifiage_par_monticules_tranchées),$G$27*(1+VLOOKUP($A$115,'Majorations applicables'!$A$76:$B$80,2,FALSE)),IF(EXACT($G$13,PATS_PRT_Déblaiement_Monticules_Combinés),SUM($G$27,$G$32)*(1+VLOOKUP($A$115,'Majorations applicables'!$A$76:$B$80,2,FALSE)),0))),0)","v":0},null,{"$f":"IFERROR(IF(EXACT($G$13,PATS_PRT_Déblaiement_sans_perturbation_naturelle_et_sans_récolte),$C$115-$G$27,IF(EXACT($G$13,PATS_PRT_Scarifiage_par_monticules_tranchées),$C$115-$G$27,IF(EXACT($G$13,PATS_PRT_Déblaiement_Monticules_Combinés),$C$115-SUM($G$27,$G$32),0))),0)","v":0},{"$f":"IF(EXACT($G$13,PATS_PRT_Déblaiement_sans_perturbation_naturelle_et_sans_récolte),$C$115-$G$27,IF(EXACT($G$13,PATS_PRT_Scarifiage_par_monticules_tranchées),$C$115-$G$27,IF(EXACT($G$13,PATS_PRT_Déblaiement_Monticules_Combinés),$C$115-SUM($G$27,$G$32),0)))","v":0}]
["Pente E et plus",null,{"$f":"IFERROR(IF(EXACT($G$13,PATS_PRT_Déblaiement_sans_perturbation_naturelle_et_sans_récolte),IF(EXACT($F$25,1),$G$27*(1+VLOOKUP($A$116,'Majorations applicables'!$A$83:$B$87,2,FALSE)),$G$27*(1+VLOOKUP($A$116,'Majorations applicables'!$A$76:$B$80,2,FALSE))),IF(EXACT($G$13,PATS_PRT_Scarifiage_par_monticules_tranchées),$G$27*(1+VLOOKUP($A$116,'Majorations applicables'!$A$76:$B$80,2,FALSE)),IF(EXACT($G$13,PATS_PRT_Déblaiement_Monticules_Combinés),SUM($G$27,$G$32)*(1+VLOOKUP($A$116,'Majorations applicables'!$A$76:$B$80,2,FALSE)),0))),0)","v":0},null,{"$f":"IFERROR(IF(EXACT($G$13,PATS_PRT_Déblaiement_sans_perturbation_naturelle_et_sans_récolte),$C$116-$G$27,IF(EXACT($G$13,PATS_PRT_Scarifiage_par_monticules_tranchées),$C$116-$G$27,IF(EXACT($G$13,PATS_PRT_Déblaiement_Monticules_Combinés),$C$116-SUM($G$27,$G$32),0))),0)","v":0},{"$f":"IF(EXACT($G$13,PATS_PRT_Déblaiement_sans_perturbation_naturelle_et_sans_récolte),$C$116-$G$27,IF(EXACT($G$13,PATS_PRT_Scarifiage_par_monticules_tranchées),$C$116-$G$27,IF(EXACT($G$13,PATS_PRT_Déblaiement_Monticules_Combinés),$C$116-SUM($G$27,$G$32),0)))","v":0}]
["Total",null,null,null,null,null,{"$f":"IFERROR(SUM($G$112:$G$116),0)","v":0}]
[{"$f":"\"Unités de mesure pour le traitement \"&$D$13","v":"Unités de mesure pour le traitement "}]
["Unités de mesure pour le traitement - Drainage et Taupe"]
["Nombre de kilomètres ou de milliers de mètres cubes"]
["Nombre de milliers de microsites"]
["Majoration pour l'indice de dispersion (DRAP ou DMOD)"]
["Majoration pour l'indice de dispersion (DRAP ou DMOD) - Tous sauf Drainage et Taupe/Débroussaillement manuel"]
["Unité d'aménagement (UA)",null,null,null,null,null,{"$f":"IFERROR(IF(ISBLANK($G$5)=TRUE,\"Inscrire une valeur à G5\",$G$5),\"\")","v":"Inscrire une valeur à G5"}]
[{"$f":"IFERROR(IF(OR(ISBLANK($G$13),EXACT(UPPER($G$13),UPPER(Menus!$A$12))),\"Indice relatif de dispersion\",IF(OR(EXACT($G$13,Menus!$B$17),EXACT($G$13,Menus!$B$18),EXACT($G$13,Menus!$B$20),EXACT($G$13,Menus!$B$23),EXACT($G$13,Menus!$B$25),EXACT($G$13,Menus!$B$26)),\"Indice relatif de dispersion (DRAP)\",IF(OR(EXACT($G$13,Menus!#REF!),EXACT($G$13,Menus!$B$15),EXACT($G$13,Menus!$B$16),EXACT($G$13,Menus!$B$19)),\"Indice relatif de dispersion (DMOD)\",\"Indice relatif de dispersion\"))),\"Indice relatif de dispersion\")","v":"Indice relatif de dispersion"},null,null,null,null,null,{"$f":"IFERROR(IF(ISBLANK($G$5),\"Inscrire une valeur à G5\",IF(OR(EXACT($G$13,Menus!$B$17),EXACT($G$13,Menus!$B$18),EXACT($G$13,Menus!$B$20),EXACT($G$13,Menus!$B$23),EXACT($G$13,Menus!$B$25),EXACT($G$13,Menus!$B$26)),VLOOKUP($G$124,'Indice dispersion TS'!$B$6:$F$64,2,FALSE),IF(OR(EXACT($G$13,Menus!#REF!),EXACT($G$13,Menus!$B$15),EXACT($G$13,Menus!$B$16),EXACT($G$13,Menus!$B$19)),VLOOKUP($G$124,'Indice dispersion TS'!$B$6:$F$64,3,FALSE)))),\"Inscrire une valeur à G5\")","v":"Inscrire une valeur à G5"}]
["Dispersion (DRAP)",null,null,null,null,null,{"$f":"IFERROR(VLOOKUP($G$124,'Indice dispersion TS'!$B$6:$F$64,4,FALSE),0)","v":0}]
["Dispersion (DMOD)",null,null,null,null,null,{"$f":"IFERROR(VLOOKUP($G$124,'Indice dispersion TS'!$B$6:$F$64,5,FALSE),0)","v":0}]
["Inventaire de conformité (Vérification)"]
["Inventaire de conformité - Tous"]
[{"$f":"IFERROR(IF(EXACT($G$12,Menus!$A$11),\"Délimitation des secteur\",IF(EXACT(UPPER($G$17),UPPER(Menus!$A$125)),\"Délimitation des secteurs systématiquement inclue dans le taux de vérification\",IF(EXACT(UPPER($G$17),UPPER(Menus!$A$126)),\"Délimitation des secteurs (taux par kilomètre délimité par une tierce partie)\",\"Délimitation des secteurs - Inscrire une valeur à G17\"))),\"Délimitation des secteurs\")","v":"Délimitation des secteurs - Inscrire une valeur à G17"}]
["Nombre de kilomètres délimités"]
["Inventaire de conformité - Disque-Bracke-Wadell/M36/Variable/Herse/Bouteur/Abatteuse/Broyage forestier/Bouteur pelle modifiée/Bouteur lame tranchante/Abatteuse groupeuse"]
["Inventaire de conformité (taux par placette inventoriée)"]
["Nombre de placettes inventoriées"]
["Critère #1","Coefficient de distribution des microsites propices ou des placeaux propices à l'ensemencement ",null,null,{"$f":"IFERROR(SUM($F$135:$F$140)*'Calculs grille'!$L$157,0)","v":0},{"$f":"IFERROR(IF(EXACT(UPPER($G$135),UPPER(Menus!$A$147)),1,IF(EXACT(UPPER($G$135),UPPER(Menus!$A$148)),0,\"\")),\"\")","v":""}]
[null,"Coefficient de distribution d'arbre d'avenir naturels complémentaires",null,null,null,{"$f":"IFERROR(IF(EXACT(UPPER($G$136),UPPER(Menus!$A$147)),1,IF(EXACT(UPPER($G$136),UPPER(Menus!$A$148)),0,\"\")),\"\")","v":""}]
[null,"Espacement entre les sillons ou les passages",null,null,null,{"$f":"IFERROR(IF(EXACT(UPPER($G$137),UPPER(Menus!$A$147)),1,IF(EXACT(UPPER($G$137),UPPER(Menus!$A$148)),0,\"\")),\"\")","v":""}]
[null,"Localisation des microsites propices",null,null,null,{"$f":"IFERROR(IF(EXACT(UPPER($G$138),UPPER(Menus!$A$147)),1,IF(EXACT(UPPER($G$138),UPPER(Menus!$A$148)),0,\"\")),\"\")","v":""}]
[null,"Coefficient de distribution des microplacettes décapées en profondeur",null,null,null,{"$f":"IFERROR(IF(EXACT(UPPER($G$139),UPPER(Menus!$A$147)),1,IF(EXACT(UPPER($G$139),UPPER(Menus!$A$148)),0,\"\")),\"\")","v":""}]
[null,"Type de plant",null,null,null,{"$f":"IFERROR(IF(EXACT(UPPER($G$140),UPPER(Menus!$A$147)),1,IF(EXACT(UPPER($G$140),UPPER(Menus!$A$148)),0,\"\")),\"\")","v":""}]
["Critère #2","Nombre de microsites propices à la mise en terre incluant le coefficient de distribution ",null,null,{"$f":"IFERROR(SUM($F$141)*'Calculs grille'!$L$158,0)","v":0},{"$f":"IFERROR(IF(EXACT(UPPER($G$141),UPPER(Menus!$A$147)),1,IF(EXACT(UPPER($G$141),UPPER(Menus!$A$148)),0,\"\")),\"\")","v":""}]
["Nombre total de critères",null,null,null,null,null,{"$f":"IFERROR(SUM($F$135:$F$141),0)","v":0}]
["Inventaire de conformité - Drainage"]
["Inventaire de conformité (taux par kilomètre ou par millier de mètres cubes)"]
["Inventaire de conformité - Taupe et Fertilisation PEH/Débroussaillement manuel"]
["Inventaire de conformité (taux par placette inventoriée)",null,null,null,{"$f":"IFERROR(IF(EXACT($G$12,Menus!$A$11),\"PATS_PRT_DM_Vérification_Taux\",\"PRT_Vérification_Taux_Manuel\"),\"PATS_PRT_DM_Vérification_Taux\")","v":"PRT_Vérification_Taux_Manuel"}]
["Nombre de placettes inventoriées"]
["Inventaire de conformité - Majoration pour l'hébergement et la distance ou la durée du déplacement (HPVTM et DTPVTM)"]
["Inventaire de conformité - Majoration pour l'hébergement et la distance ou la durée du déplacement (HPVTM et DTPVTM) - Tous"]
["Hébergement (HPVTM)",null,null,null,null,{"$f":"IFERROR(IF(ISBLANK($G$150)=TRUE,\"\",IFERROR(VLOOKUP($G$150,Menus!$A$56:$B$58,2,FALSE),IF($G$150<=Menus!$B$57,ROUND($G$150,4),\"Max \"&TEXT(Menus!$B$57,\"0,00%\")))),\"\")","v":""}]
["Distance ou durée du déplacement (DTPVTM)",null,null,null,null,{"$f":"IFERROR(VLOOKUP($G$151,Menus!$A$66:$B$68,2,FALSE),\"\")","v":""}]
[{"$f":"IFERROR(IF(EXACT($G$12,Menus!$A$11),\"Majoration pour l'hébergement, le transport collectif et la distance ou la durée du déplacement (HEP, TC et DTEXE)\",\"Majoration pour l'hébergement et la distance ou la durée du déplacement (HPT ou HRA et DTEXE)\"),\"Majoration pour l'hébergement et la distance ou la durée du déplacement (HPT ou HRA et DTEXE)\")","v":"Majoration pour l'hébergement et la distance ou la durée du déplacement (HPT ou HRA et DTEXE)"}]
["Majoration pour l'hébergement et la distance ou la durée du déplacement (HPT ou HEP et DTEXE) - HPT pour mécanisé et HEP/TC et DTEXE pour manuel (Taupe et Fertilisation PEH/Débroussaillement manuel)"]
[{"$f":"IFERROR(IF(EXACT($G$12,Menus!$A$11),\"Hébergement (HEP ou TC)\",\"Hébergement (HPT)\"),\"Hébergement\")","v":"Hébergement (HPT)"},null,null,null,{"$f":"IFERROR(IF(EXACT($G$12,Menus!$A$11),Menus!$B$848,Menus!$B$44),Menus!$B$44)","v":"PRT_Majoration_HPT"},{"$f":"IFERROR(IF(EXACT($G$12,Menus!$A$11),IF(ISBLANK($G$154)=TRUE,\"\",IFERROR(VLOOKUP($G$154,PATS_PRT_Majoration_HPT_MAN_Valeurs,2,FALSE),IF($G$154<=Menus!$B$850,ROUND($G$154,4),\"Max \"&TEXT(Menus!$B$850,\"0,00%\")))),IF(ISBLANK($G$154)=TRUE,\"\",IFERROR(VLOOKUP(G154,Menus!$A$45:$B$48,2,FALSE),IF($G$154<=Menus!$B$47,ROUND($G$154,4),\"Max \"&TEXT(Menus!$B$47,\"0,00%\"))))),\"\")","v":""}]
["Distance ou durée du déplacement (DTEXE)",null,null,null,null,{"$f":"IFERROR(VLOOKUP($G$155,Menus!$A$61:$B$63,2,FALSE),\"\")","v":""}]
[{"$f":"IFERROR(IF(EXACT($G$12,Menus!$A$11),\"Majoration pour la certification (CEAF3 ou ISO3)\",\"Majoration pour la certification (CEAF1 ou ISO1)\"),\"Majoration pour la certification (CEAF1 ou ISO1)\")","v":"Majoration pour la certification (CEAF1 ou ISO1)"}]
["Majoration pour la certification (CEAF1 ou ISO1) - Tous"]
[{"$f":"IFERROR(IF(EXACT($G$12,Menus!$A$11),\"Certification (CEAF3 ou ISO3)\",\"Certification (CEAF1 ou ISO1)\"),\"Certification (CEAF1 ou ISO1)\")","v":"Certification (CEAF1 ou ISO1)"},null,null,null,{"$f":"IFERROR(IF(EXACT($G$12,Menus!$A$11),\"EP_Majoration_CEAF3_ISO3\",\"PRT_Majoration_CEAF1_ISO1\"),\"PRT_Majoration_CEAF1_ISO1\")","v":"PRT_Majoration_CEAF1_ISO1"},{"$f":"IFERROR(IF(EXACT($G$12,Menus!$A$11),VLOOKUP($G$158,Menus!$A$533:$B$535,2,FALSE),VLOOKUP($G$158,Menus!$A$71:$B$73,2,FALSE)),\"\")","v":""}]
["Totaux"]
["Calculs - Disque-T26-Wadell"]
["Taux d'exécution de base",null,null,null,null,null,{"$f":"IFERROR(IF(ISBLANK($G$14)=TRUE,0,IF($G$39=\"Valeur « Distance entre les passages » non valide\",\"Valeur « Distance entre les passages » non valide\",$G$14)),0)","v":"S/O"}]
["Taux PA0",null,null,null,null,null,{"$f":"IFERROR(ROUND(IF(ISBLANK($G$37)=TRUE,0,-($G$14*(1-$G$39))),2),0)","v":0}]
["Taux PA1 et PE1",null,null,null,null,null,{"$f":"IFERROR(ROUND(((SUMPRODUCT($C$87:$C$91,$D$79:$D$83)+SUMPRODUCT($E$87:$E$91,$E$79:$E$83)+SUMPRODUCT($G$87:$G$91,$F$79:$F$83))/$G$84)-($G$161+$G$162),2),0)","v":0}]
["Taux sous-total exécution",null,null,null,null,null,{"$f":"IFERROR(SUM($G$161:$G$163),0)","v":0}]
["Taux DRAP",null,null,null,null,null,{"$f":"IFERROR(($G$164*$G$126),0)","v":0}]
["Taux HPT",null,null,null,null,null,{"$f":"IFERROR((SUM($G$164:$G$165)*$F$154),0)","v":0}]
["Taux CEAF1 ou ISO1",null,null,null,null,null,{"$f":"IFERROR((SUM($G$164:$G$166)*$F$158),0)","v":0}]
["Taux exécution total, majorations, réductions admissibles et inventaire conformité total",null,null,null,null,null,{"$f":"IFERROR(ROUND(SUM($G$164:$G$167),2),0)","v":0}]
[{"$f":"IFERROR(IF(EXACT(UPPER($G$17),UPPER(Menus!$A$125)),\"Taux inventaire de conformité (incluant le paiement pour la délimitation des secteurs en régie)\",\"Taux inventaire de conformité\"),\"Taux inventaire de conformité\")","v":"Taux inventaire de conformité"},null,null,null,null,null,{"$f":"IFERROR(IF(EXACT($G$130,PRT_Delimitation_des_secteurs_en_regie)=FALSE,(($G$130*$G$131)+($G$133*$G$134)+SUM($F$135:$F$140)*'Calculs grille'!$L$157*$G$134+SUM($F$141)*'Calculs grille'!$L$158*$G$134)/$G$172,(((Menus!$A$134*$G$172)+(G$133*$G$134)+SUM($F$135:$F$140)*'Calculs grille'!$L$157*$G$134+SUM($F$141)*'Calculs grille'!$L$158*$G$134)/$G$172)),0)","v":0}]
["Taux HPVTM et/ou DTPVTM",null,null,null,null,null,{"$f":"IFERROR((SUM($F$150:$F$151)*$G$169),0)","v":0}]
["Taux exécution et inventaire de conformité total",null,null,null,null,null,{"$f":"IFERROR(ROUND(SUM($G$168:$G$170),2),0)","v":0}]
["Superficie",null,null,null,null,null,{"$f":"IFERROR(ROUND($G$84,2),0)","v":0}]
["Total exécution",null,null,null,null,null,{"$f":"IFERROR(ROUND($G$168*$G$172,2),0)","v":0}]
["Total inventaire de conformité",null,null,null,null,null,{"$f":"IFERROR(ROUND(SUM($G$169:$G$170)*$G$172,2),0)","v":0}]
["Grand total admissible",null,null,null,null,null,{"$f":"IFERROR(SUM($G$173:$G$174),0)","v":0}]
["Calculs - M36"]
["Taux d'exécution de base",null,null,null,null,null,{"$f":"IFERROR(IF(ISBLANK($G$14)=TRUE,0,$G$14),0)","v":"S/O"}]
["Taux PE1",null,null,null,null,null,{"$f":"IFERROR(ROUND((SUMPRODUCT($E$43:$E$47,$G$43:$G$47)/$G$48),2),0)","v":0}]
["Taux sous-total exécution",null,null,null,null,null,{"$f":"IFERROR(SUM($G$177:$G$178),0)","v":0}]
["Taux DRAP",null,null,null,null,null,{"$f":"IFERROR(($G$179*$G$126),0)","v":0}]
["Taux HPT",null,null,null,null,null,{"$f":"IFERROR((SUM($G$179:$G$180)*$F$154),0)","v":0}]
["Taux CEAF1 ou ISO1",null,null,null,null,null,{"$f":"IFERROR((SUM($G$179:$G$181)*$F$158),0)","v":0}]
["Taux exécution total, majorations, réductions admissibles et inventaire conformité total",null,null,null,null,null,{"$f":"IFERROR(ROUND(SUM($G$179:$G$182),2),0)","v":0}]
[{"$f":"IFERROR(IF(EXACT(UPPER($G$17),UPPER(Menus!$A$125)),\"Taux inventaire de conformité (incluant le paiement pour la délimitation des secteurs en régie)\",\"Taux inventaire de conformité\"),\"Taux inventaire de conformité\")","v":"Taux inventaire de conformité"},null,null,null,null,null,{"$f":"IFERROR(IF(EXACT($G$130,PRT_Delimitation_des_secteurs_en_regie)=FALSE,(($G$130*$G$131)+($G$133*$G$134)+SUM($F$135:$F$140)*'Calculs grille'!$L$157*$G$134+SUM($F$141)*'Calculs grille'!$L$158*$G$134)/$G$187,(((Menus!$A$134*$G$187)+($G$133*$G$134)+SUM($F$135:$F$140)*'Calculs grille'!$L$157*$G$134+SUM($F$141)*'Calculs grille'!$L$158*$G$134)/$G$187)),0)","v":0}]
["Taux HPVTM et/ou DTPVTM",null,null,null,null,null,{"$f":"IFERROR((SUM($F$150:$F$151)*$G$184),0)","v":0}]
["Taux exécution et inventaire de conformité total",null,null,null,null,null,{"$f":"IFERROR(ROUND(SUM($G$183:$G$185),2),0)","v":0}]
["Superficie",null,null,null,null,null,{"$f":"IFERROR(ROUND($G$48,2),0)","v":0}]
["Total exécution",null,null,null,null,null,{"$f":"IFERROR(ROUND($G$183*$G$187,2),0)","v":0}]
["Total inventaire de conformité",null,null,null,null,null,{"$f":"IFERROR(ROUND(SUM($G$184:$G$185)*$G$187,2),0)","v":0}]
["Grand total admissible",null,null,null,null,null,{"$f":"IFERROR(SUM($G$188:$G$189),0)","v":0}]
["Calculs - Herse"]
["Taux d'exécution de base",null,null,null,null,null,{"$f":"IFERROR(IF(ISBLANK($G$14)=TRUE,0,$G$14),0)","v":"S/O"}]
["Taux PA2 et PE2",null,null,null,null,null,{"$f":"IFERROR(ROUND(((SUMPRODUCT($C$104:$C$108,$D$96:$D$100)+SUMPRODUCT($E$104:$E$108,$E$96:$E$100)+SUMPRODUCT($G$104:$G$108,$F$96:$F$100))/$G$101)-($G$192),2),0)","v":0}]
["Taux sous-total exécution",null,null,null,null,null,{"$f":"IFERROR(SUM($G$192:$G$193),0)","v":0}]
["Taux DRAP",null,null,null,null,null,{"$f":"IFERROR(($G$194*$G$126),0)","v":0}]
["Taux HPT",null,null,null,null,null,{"$f":"IFERROR((SUM($G$194:$G$195)*$F$154),0)","v":0}]
["Taux CEAF1 ou ISO1",null,null,null,null,null,{"$f":"IFERROR((SUM($G$194:$G$196)*$F$158),0)","v":0}]
["Taux exécution total, majorations, réductions admissibles et inventaire conformité total",null,null,null,null,null,{"$f":"IFERROR((ROUND(SUM($G$194:$G$197),2)),0)","v":0}]
[{"$f":"IFERROR(IF(EXACT(UPPER($G$17),UPPER(Menus!$A$125)),\"Taux inventaire de conformité (incluant le paiement pour la délimitation des secteurs en régie)\",\"Taux inventaire de conformité\"),\"Taux inventaire de conformité\")","v":"Taux inventaire de conformité"},null,null,null,null,null,{"$f":"IFERROR(IF(EXACT($G$130,PRT_Delimitation_des_secteurs_en_regie)=FALSE,(($G$130*$G$131)+($G$133*$G$134)+SUM($F$135:$F$140)*'Calculs grille'!$L$157*$G$134+SUM($F$141)*'Calculs grille'!$L$158*$G$134)/$G$202,(((Menus!$A$134*$G$202)+($G$133*$G$134)+SUM($F$135:$F$140)*'Calculs grille'!$L$157*$G$134+SUM($F$141)*'Calculs grille'!$L$158*$G$134)/$G$202)),0)","v":0}]
["Taux HPVTM et/ou DTPVTM",null,null,null,null,null,{"$f":"IFERROR((SUM($F$150:$F$151)*$G$199),0)","v":0}]
["Taux exécution et inventaire de conformité total",null,null,null,null,null,{"$f":"IFERROR((ROUND(SUM($G$198:$G$200),2)),0)","v":0}]
["Superficie",null,null,null,null,null,{"$f":"IFERROR(ROUND($G$101,2),0)","v":0}]
["Total exécution",null,null,null,null,null,{"$f":"IFERROR(ROUND($G$198*$G$202,2),0)","v":0}]
["Total inventaire de conformité",null,null,null,null,null,{"$f":"IFERROR(ROUND(SUM($G$199:$G$200)*$G$202,2),0)","v":0}]
["Grand total admissible",null,null,null,null,null,{"$f":"IFERROR(SUM($G$203:$G$204),0)","v":0}]
["Calculs - Bouteur/Bouteur pelle modifiée/Bouteur lame tranchante"]
["Taux d'exécution de base",null,null,null,null,null,{"$f":"IFERROR(IF(ISBLANK($G$14)=TRUE,0,$G$14),0)","v":"S/O"}]
["Taux PE4",null,null,null,null,null,{"$f":"IFERROR(ROUND((SUMPRODUCT($E$69:$E$73,$G$69:$G$73)/$G$74),2),0)","v":0}]
["Taux DMOD",null,null,null,null,null,{"$f":"IFERROR((SUM(G207:G208)*$G$127),0)","v":0}]
["Taux VERIF",null,null,null,null,null,{"$f":"IFERROR($G$133*$G$134/$G$74,0)","v":0}]
["Taux HPT",null,null,null,null,null,{"$f":"IFERROR((SUM($G$207:$G$210)*$F$154),0)","v":0}]
["Taux CEAF1 ou ISO1",null,null,null,null,null,{"$f":"IFERROR((SUM($G$207:$G$211)*$F$158),0)","v":0}]
["Taux DTEXE",null,null,null,null,null,{"$f":"IFERROR(G210*$F$155,0)","v":0}]
[{"$f":"IFERROR(IF(EXACT(UPPER($G$17),UPPER(Menus!$A$125)),\"Taux inventaire de conformité (incluant le paiement pour la délimitation des secteurs en régie)\",\"Taux inventaire de conformité\"),\"Taux inventaire de conformité\")","v":"Taux inventaire de conformité"},null,null,null,null,null,{"$f":"IFERROR(IF(EXACT($G$130,PRT_Delimitation_des_secteurs_en_regie)=FALSE,(($G$130*$G$131)+($G$133*$G$134)+SUM($F$135:$F$140)*'Calculs grille'!$L$157*$G$134+SUM($F$141)*'Calculs grille'!$L$158*$G$134)/$G$217,(((Menus!$A$134*$G$217)+($G$133*$G$134)+SUM($F$135:$F$140)*'Calculs grille'!$L$157*$G$134+SUM($F$141)*'Calculs grille'!$L$158*$G$134)/$G$217)),0)","v":0}]
["Taux HPVTM et/ou DTPVTM",null,null,null,null,null,{"$f":"IFERROR((SUM($F$150:$F$151)*$G$214),0)","v":0}]
["Taux exécution total, majorations, réductions admissibles et inventaire conformité total",null,null,null,null,null,{"$f":"IFERROR((ROUND(SUM($G$207:$G$213),2)),0)","v":0}]
["Superficie",null,null,null,null,null,{"$f":"IFERROR(ROUND($G$74,2),0)","v":0}]
["Total exécution",null,null,null,null,null,{"$f":"IFERROR(ROUND($G$213*$G$217,2),0)","v":0}]
["Total inventaire de conformité",null,null,null,null,null,{"$f":"IFERROR(ROUND(SUM($G$214:$G$215)*$G$217,2),0)","v":0}]
["Grand total admissible",null,null,null,null,null,{"$f":"IFERROR(G216*G217,0)","v":0}]
["Calculs - Abatteuse/Broyage forestier/Abatteuse groupeuse"]
["Taux d'exécution de base",null,null,null,null,null,{"$f":"IFERROR(IF(ISBLANK($G$14)=TRUE,0,$G$14),0)","v":"S/O"}]
["Taux PE2",null,null,null,null,null,{"$f":"IFERROR(ROUND((SUMPRODUCT($E$52:$E$56,$G$52:$G$56)/$G$57),2),0)","v":0}]
["Taux DMOD",null,null,null,null,null,{"$f":"IFERROR((SUM(G222:G223)*$G$127),0)","v":0}]
["Taux VERIF",null,null,null,null,null,{"$f":"IFERROR($G$133*$G$134/$G$57,0)","v":0}]
["Taux HPT",null,null,null,null,null,{"$f":"IFERROR((SUM(G222:G225)*$F$154),0)","v":0}]
["Taux CEAF1 ou ISO1",null,null,null,null,null,{"$f":"IFERROR((SUM($G$222:$G$226)*$F$158),0)","v":0}]
["Taux DTEXE",null,null,null,null,null,{"$f":"IFERROR(G225*$F$155,0)","v":0}]
[{"$f":"IFERROR(IF(EXACT(UPPER($G$17),UPPER(Menus!$A$125)),\"Taux inventaire de conformité (incluant le paiement pour la délimitation des secteurs en régie)\",\"Taux inventaire de conformité\"),\"Taux inventaire de conformité\")","v":"Taux inventaire de conformité"},null,null,null,null,null,{"$f":"IFERROR(IF(EXACT($G$130,PRT_Delimitation_des_secteurs_en_regie)=FALSE,(($G$130*$G$131)+($G$133*$G$134)+SUM($F$135:$F$140)*'Calculs grille'!$L$157*$G$134+SUM($F$141)*'Calculs grille'!$L$158*$G$134)/$G$232,(((Menus!$A$134*$G$232)+($G$133*$G$134)+SUM($F$135:$F$140)*'Calculs grille'!$L$157*$G$134+SUM($F$141)*'Calculs grille'!$L$158*$G$134)/$G$232)),0)","v":0}]
["Taux HPVTM et/ou DTPVTM",null,null,null,null,null,{"$f":"IFERROR((SUM($F$150:$F$151)*$G$229),0)","v":0}]
["Taux exécution total, majorations, réductions admissibles et inventaire conformité total",null,null,null,null,null,{"$f":"IFERROR((ROUND(SUM($G$222:$G$228),2)),0)","v":0}]
["Superficie",null,null,null,null,null,{"$f":"IFERROR(ROUND($G$57,2),0)","v":0}]
["Total exécution",null,null,null,null,null,{"$f":"IFERROR(ROUND($G$228*$G$232,2),0)","v":0}]
["Total inventaire de conformité",null,null,null,null,null,{"$f":"IFERROR(ROUND(SUM($G$229:$G$230)*$G$232,2),0)","v":0}]
["Grand total admissible",null,null,null,null,null,{"$f":"IFERROR(G231*G232,0)","v":0}]
["Calculs - Drainage"]
["Taux d'exécution de base",null,null,null,null,null,{"$f":"IFERROR(IF(ISBLANK($G$14)=TRUE,0,$G$14),0)","v":"S/O"}]
["Taux HPT",null,null,null,null,null,{"$f":"IFERROR(($G$237*$F$154),0)","v":0}]
["Taux CEAF1 ou ISO1",null,null,null,null,null,{"$f":"IFERROR((SUM($G$237:$G$238)*$F$158),0)","v":0}]
["Taux exécution total et majoration(s) admissible(s)",null,null,null,null,null,{"$f":"IFERROR((ROUND(SUM($G$237:$G$239),2)),0)","v":0}]
[{"$f":"IFERROR(IF(EXACT(UPPER($G$17),UPPER(Menus!$A$125)),\"Taux de vérification (incluant le paiement pour la délimitation des secteurs en régie)\",\"Taux de vérification\"),\"Taux de vérification\")","v":"Taux de vérification"},null,null,null,null,null,{"$f":"IFERROR(IF(EXACT($G$130,PRT_Delimitation_des_secteurs_en_regie)=FALSE,(($G$130*$G$131)+($G$144*$G$244))/$G$244,((Menus!$A$136*$G$244)+($G$144*$G$244))/$G$244),0)","v":0}]
["Taux HPVTM et/ou DTPVTM",null,null,null,null,null,{"$f":"IFERROR((SUM($F$150:$F$151)*$G$241),0)","v":0}]
["Taux exécution et vérification total",null,null,null,null,null,{"$f":"IFERROR(ROUND(SUM($G$240:$G$242),2),0)","v":0}]
["Nombre de kilomètres ou de milliers de mètres cubes",null,null,null,null,null,{"$f":"IFERROR(ROUND($G$120,2),0)","v":0}]
["Total exécution",null,null,null,null,null,{"$f":"IFERROR(ROUND($G$240*$G$244,2),0)","v":0}]
["Total vérification",null,null,null,null,null,{"$f":"IFERROR(ROUND(SUM($G$241:$G$242)*$G$244,2),0)","v":0}]
["Grand total admissible",null,null,null,null,null,{"$f":"IFERROR(SUM($G$245:$G$246),0)","v":0}]
["Calculs - Taupe"]
["Taux d'exécution de base",null,null,null,null,null,{"$f":"IFERROR(IF(ISBLANK($G$14)=TRUE,0,$G$14),0)","v":"S/O"}]
["Taux HRA",null,null,null,null,null,{"$f":"IFERROR(($F$154*$G$249),0)","v":0}]
["Taux DTEXE",null,null,null,null,null,{"$f":"IFERROR(($F$155*$G$249),0)","v":0}]
["Taux CEAF1 ou ISO1",null,null,null,null,null,{"$f":"IFERROR((SUM($G$249:$G$251)*$F$158),0)","v":0}]
["Taux exécution total, majorations, réductions admissibles et inventaire conformité total",null,null,null,null,null,{"$f":"IFERROR((ROUND(SUM($G$249:$G$252),2)),0)","v":0}]
[{"$f":"IFERROR(IF(EXACT(UPPER($G$17),UPPER(Menus!$A$125)),\"Taux  inventaire de conformité (incluant le paiement pour la délimitation des secteurs en régie)\",\"Taux inventaire de conformité\"),\"Taux inventaire de conformité\")","v":"Taux inventaire de conformité"},null,null,null,null,null,{"$f":"IFERROR(IF(EXACT($G$130,PRT_Delimitation_des_secteurs_en_regie)=FALSE,(($G$130*$G$131)+($G$146*$G$147))/$G$257,((Menus!$A$135*$G$257)+($G$146*$G$147))/$G$257),0)","v":0}]
["Taux HPVTM et/ou DTPVTM",null,null,null,null,null,{"$f":"IFERROR((SUM($F$150:$F$151)*$G$254),0)","v":0}]
["Taux exécution et inventaire de conformité total",null,null,null,null,null,{"$f":"IFERROR((ROUND(SUM($G$253:$G$255),2)),0)","v":0}]
["Nombre de millier de microsites",null,null,null,null,null,{"$f":"IFERROR(ROUND($G$121,3),0)","v":0}]
["Total exécution",null,null,null,null,null,{"$f":"IFERROR(ROUND($G$253*$G$257,2),0)","v":0}]
["Total inventaire de conformité",null,null,null,null,null,{"$f":"IFERROR(ROUND(SUM($G$254:$G$255)*$G$257,2),0)","v":0}]
["Grand total admissible",null,null,null,null,null,{"$f":"IFERROR(SUM($G$258:$G$259),0)","v":0}]
["Calculs - Variable"]
["Taux d'exécution de base",null,null,null,null,null,{"$f":"IFERROR(IF(EXACT($G$13,PATS_PRT_Déblaiement_Monticules_Combinés),SUM($G$27,$G$32),$G$27),0)","v":0}]
[{"$f":"IFERROR(IF($G$25=\"\",\"Taux PE2 ou PE3\",IF($G$25<>Menus!$A$104,\"Taux PE2\",\"Taux PE3\")),\"Taux PE2 ou PE3\")","v":"Taux PE2 ou PE3"},null,null,null,null,null,{"$f":"IFERROR(ROUND((IF(EXACT($G$117,0),0,(SUMPRODUCT($E$112:$E$116,$G$112:$G$116)/$G$117))),2),0)","v":0}]
["Taux DMOD",null,null,null,null,null,{"$f":"IFERROR(SUM(G262:G263)*$G$127,0)","v":0}]
["Taux VERIF",null,null,null,null,null,{"$f":"IFERROR($G$133*$G$134/$G$117,0)","v":0}]
["Taux HPT",null,null,null,null,null,{"$f":"IFERROR((SUM($G$262:$G$265)*$F$154),0)","v":0}]
["Taux CEAF1 ou ISO1",null,null,null,null,null,{"$f":"IFERROR((SUM($G$262:$G$266)*$F$158),0)","v":0}]
["Taux DTEXE",null,null,null,null,null,{"$f":"IFERROR(G265*$F$155,0)","v":0}]
[{"$f":"IFERROR(IF(EXACT(UPPER($G$17),UPPER(Menus!$A$125)),\"Taux inventaire de conformité (incluant le paiement pour la délimitation des secteurs en régie)\",\"Taux inventaire de conformité\"),\"Taux inventaire de conformité\")","v":"Taux inventaire de conformité"},null,null,null,null,null,{"$f":"IFERROR(IF(EXACT($G$130,PRT_Delimitation_des_secteurs_en_regie)=FALSE,(($G$130*$G$131)+($G$133*$G$134)+SUM($F$135:$F$140)*'Calculs grille'!$L$157*$G$134+SUM($F$141)*'Calculs grille'!$L$158*$G$134)/$G$272,(((Menus!$A$134*$G$272)+($G$133*$G$134)+SUM($F$135:$F$140)*'Calculs grille'!$L$157*$G$134+SUM($F$141)*'Calculs grille'!$L$158*$G$134)/$G$272)),0)","v":0}]
["Taux HPVTM et/ou DTPVTM",null,null,null,null,null,{"$f":"IFERROR((SUM($F$150:$F$151)*$G$269),0)","v":0}]
["Taux exécution total, majorations, réductions admissibles et inventaire conformité total",null,null,null,null,null,{"$f":"IFERROR((ROUND(SUM($G$262:$G$268),2)),0)","v":0}]
["Superficie",null,null,null,null,null,{"$f":"IFERROR(ROUND($G$117,2),0)","v":0}]
["Total exécution",null,null,null,null,null,{"$f":"IFERROR(ROUND($G$268*$G$272,2),0)","v":0}]
["Total inventaire de conformité",null,null,null,null,null,{"$f":"IFERROR(ROUND(SUM($G$269:$G$270)*$G$272,2),0)","v":0}]
["Grand total admissible",null,null,null,null,null,{"$f":"IFERROR(G271*G272,0)","v":0}]
["Calculs - Fertilisation du peuplier hybride/Débroussaillement manuel"]
["Taux d'exécution de base",null,null,null,null,null,{"$f":"IFERROR(IF(ISBLANK($G$14)=TRUE,0,$G$14),0)","v":"S/O"}]
["Taux PE2",null,null,null,null,null,{"$f":"IFERROR(ROUND((SUMPRODUCT($D$60:$D$64,$E$60:$E$64)/$E$65),2),0)","v":0}]
["Taux sous-total exécution",null,null,null,null,null,{"$f":"IFERROR(SUM($G$277:$G$278),0)","v":0}]
["Taux HEP ou TC",null,null,null,null,null,{"$f":"IFERROR($G$279*$F$154,0)","v":0}]
["Taux DTEXE",null,null,null,null,null,{"$f":"IFERROR(($G$279*$F$155),0)","v":0}]
["Taux CEAF3 ou ISO3",null,null,null,null,null,{"$f":"IFERROR((SUM($G$279:$G$281)*$F$158),0)","v":0}]
["Taux exécution total, majorations, réductions admissibles et inventaire conformité total",null,null,null,null,null,{"$f":"IFERROR((ROUND(SUM($G$279:$G$282),2)),0)","v":0}]
[{"$f":"IFERROR(IF(EXACT(UPPER($G$17),UPPER(Menus!$A$125)),\"Taux inventaire de conformité (incluant le paiement pour la délimitation des secteurs en régie)\",\"Taux inventaire de conformité\"),\"Taux inventaire de conformité\")","v":"Taux inventaire de conformité"},null,null,null,null,null,{"$f":"IFERROR(IF(EXACT($G$130,PRT_Delimitation_des_secteurs_en_regie)=FALSE,SUM(($G$130*$G$131),($G$146*$G$147))/$G$287,((Menus!$A$134*$G$287)+($G$146*$G$147))/$G$287),0)","v":0}]
["Taux HPVTM et/ou DTPVTM",null,null,null,null,null,{"$f":"IFERROR((SUM($F$150:$F$151)*$G$284),0)","v":0}]
["Taux exécution et inventaire de conformité total (sur la base de la superficie nette)",null,null,null,null,null,{"$f":"IFERROR((ROUND(SUM($G$283:$G$285),2)),0)","v":0}]
["Superficie brute",null,null,null,null,null,{"$f":"IFERROR(ROUND($F$65,2),0)","v":0}]
["Superficie nette (excluant les andains)",null,null,null,null,null,{"$f":"IFERROR(ROUND($E$65,2),0)","v":0}]
["Total exécution",null,null,null,null,null,{"$f":"IFERROR(ROUND($G$283*$G$288,2),0)","v":0}]
["Total inventaire de conformité",null,null,null,null,null,{"$f":"IFERROR(ROUND(SUM($G$284,G285)*$G$287,2),0)","v":0}]
["Grand total admissible",null,null,null,null,null,{"$f":"IFERROR(SUM($G$289:$G$290),0)","v":0}]
[]
["Remarques"]
[]
["J'atteste que les renseignements fournis dans ce document afin de calculer le taux du traitement sont complets et conformes à la vérité, au meilleur de mes connaissances."]
[]
[]
[]
["Nom et prénom de l'ingénieur forestier",null,null,null,null,null,"Numéro de permis"]
[null,null,null,null,null,null,{"$f":"TODAY()","v":"2026-04-08"}]
[]
["Signature de l'ingénieur forestier",null,null,null,null,null,"Date (AAAA-MM-JJ)"]
[]
[]
["Section réservée au suivi du contrat"]
[]
[null,"Numéro de la prescription :",{"$f":"IF(G7<>\"\",G7,\"\")","v":""}]
[]
[null,"Numéro du contrat :"]
[null,"Numéro du projet :"]
[null,"U.G. :"]
[null,"MRC :"]
[null,"Code de traitement DICA :",{"$f":"IF($G$9<>\"\",$G$9,\"\")","v":""}]
[null,"Code de traitement RATF :",{"$f":"IF($G$10<>\"\",$G$10,\"\")","v":""}]
[null,"Type d'attribution :"]
[null,{"$f":"IFERROR(IF(EXACT(UPPER($D$316),UPPER(Menus!$A$762)),\"Taux AO (avec vérif.) :\",IF(EXACT(UPPER($D$316),UPPER(Menus!$A$763)),\"Taux AO (sans vérif.) :\",\"Taux AO :\")),\"Taux AO :\")","v":"Taux AO :"},null,"Inscrire une valeur"]
[null,{"$f":"IFERROR(IF(EXACT(UPPER($D$316),UPPER(Menus!$A$763)),\"Taux Grille (sans vérif.) :\",\"Taux Grille (avec vérif.) :\"),\"Taux Grille (avec vérif.) :\")","v":"Taux Grille (avec vérif.) :"},{"$f":"IFERROR(IF(OR(ISBLANK($D$316=TRUE),EXACT(UPPER($D$316),UPPER(Menus!$A$764))),VLOOKUP($G$13,Rexforêt_Taux_AO,3,FALSE),IF(EXACT(UPPER($D$316),UPPER(Menus!$A$762)),VLOOKUP($G$13,Rexforêt_Taux_AO,3,FALSE),IF(EXACT(UPPER($D$316),UPPER(Menus!$A$763)),VLOOKUP($G$13,Rexforêt_Taux_AO,4,FALSE),0))),0)","v":0}]
[null,"Ratio AO/Grille :",{"$f":"IFERROR(IF(AND(ISBLANK($C$316)=FALSE,$C$317>0),ROUND($C$316/$C$317,4),\"S/O\"),\"\")","v":"S/O"}]
[null,"Grand total AO :",{"$f":"IFERROR(IF(OR(ISBLANK($C$316)=TRUE,EXACT(C$317,0)),\"S/O\",IF(AND($C$316>0,OR(EXACT(UPPER($D$316),UPPER(Menus!$A$762)),EXACT(UPPER($D$316),UPPER(Menus!$A$764)))),ROUND(VLOOKUP($G$13,RXF!$A$1:$G$55,5,FALSE)*$C$318,2),IF(AND($C$316>0,EXACT(UPPER($D$316),UPPER(Menus!$A$763))),ROUND(VLOOKUP($G$13,RXF!$A$1:$G$55,7,FALSE)*$C$318,2)))),\"\")","v":"S/O"}]
[null,"Nom de l'entrepreneur :"]
[null,"Numéro de fournisseur :"]
[null,"Date de début :"]
[null,"Date de fin :"]
[null,"Commentaires :"]

{"sheet":"TS_PATS_BD","index":5,"n_rows":4,"n_cols":55,"rows_kept":4,"cut":false,"hidden":true,"merged":[]}
["NO_CONTRAT","NO_SEC_INT","NO_PRS","NO_UA","TY_TR_OPE","CODE_RATF","TY_TR","SU_PNT_A","SU_PNT_B","SU_PNT_C","SU_PNT_D","SU_PNT_E","DIST_PASSE","SU_PNT_A_1","SU_PNT_B_1","SU_PNT_C_1","SU_PNT_D_1","SU_PNT_E_1","SU_PNT_A_2","SU_PNT_B_2","SU_PNT_C_2","SU_PNT_D_2","SU_PNT_E_2","SU_PNT_A_3","SU_PNT_B_3","SU_PNT_C_3","SU_PNT_D_3","SU_PNT_E_3","EQUIPEMENT","IN_DELEMIT","PC_HA_PRP","PC_HA2_PRP","TY_COUVERT","TY_RECOLTE","TY_PERTURB","TY_ENGIN","DIR_OPE","QTE_EXCA","PE_PS_C","NBR_MICRO","TAUX_EX_BA","TAUX_PA0","TAUX_PAPE","TAUX_PE","TAUX_DRAP","TAUX_DMOD","TAUX_VERIF","TAUX_HPT","TAUX_HRA","TAUX_HEP","TAUX_CEAF","TAUX_DTEXE","TAUX_EXTOT","QTE_CONTRA","MNT_EX_IN"]
[{"$f":"'Traitements du site - PATS'!C309","v":0},{"$f":"'Traitements du site - PATS'!G6","v":0},{"$f":"'Traitements du site - PATS'!G8","v":0},{"$f":"'Traitements du site - PATS'!G5","v":0},{"$f":"'Traitements du site - PATS'!G9","v":0},{"$f":"'Traitements du site - PATS'!G10","v":0},{"$f":"'Traitements du site - PATS'!G12","v":"Inscrire une valeur"},{"$f":"IFERROR(_xlfn.IFS($G$2=\"Broyage forestier\",'Traitements du site - PATS'!G52,$G$2=\"Déblaiement après perturbation naturelle sans récolte\",'Traitements du site - PATS'!G52,$G$2=\"Déblaiement des résidus de coupe combiné à un scarifiage en monticules\",'Traitements du site - PATS'!G112,$G$2=\"Déblaiement d'un peuplement sans perturbation naturelle et sans récolte\",'Traitements du site - PATS'!G112,$G$2=\"Scarifiage par monticules et tranchées\",'Traitements du site - PATS'!G112,$G$2=\"Déblaiement des résidus de coupe combiné à abatteuse groupeuse après feux\",'Traitements du site - PATS'!G52,$G$2=\"Déblaiement des résidus de coupe combiné à bouteur avec pelle modifié\",'Traitements du site - PATS'!G69),\"\")","v":""},{"$f":"IFERROR(_xlfn.IFS($G$2=\"Broyage forestier\",'Traitements du site - PATS'!G53,$G$2=\"Déblaiement après perturbation naturelle sans récolte\",'Traitements du site - PATS'!G53,$G$2=\"Déblaiement des résidus de coupe combiné à un scarifiage en monticules\",'Traitements du site - PATS'!G113,$G$2=\"Déblaiement d'un peuplement sans perturbation naturelle et sans récolte\",'Traitements du site - PATS'!G113,$G$2=\"Scarifiage par monticules et tranchées\",'Traitements du site - PATS'!G113,$G$2=\"Déblaiement des résidus de coupe combiné à abatteuse groupeuse après feux\",'Traitements du site - PATS'!G53,$G$2=\"Déblaiement des résidus de coupe combiné à bouteur avec pelle modifié\",'Traitements du site - PATS'!G70),\"\")","v":""},{"$f":"IFERROR(_xlfn.IFS($G$2=\"Broyage forestier\",'Traitements du site - PATS'!G54,$G$2=\"Déblaiement après perturbation naturelle sans récolte\",'Traitements du site - PATS'!G54,$G$2=\"Déblaiement des résidus de coupe combiné à un scarifiage en monticules\",'Traitements du site - PATS'!G114,$G$2=\"Déblaiement d'un peuplement sans perturbation naturelle et sans récolte\",'Traitements du site - PATS'!G114,$G$2=\"Scarifiage par monticules et tranchées\",'Traitements du site - PATS'!G114,$G$2=\"Déblaiement des résidus de coupe combiné à abatteuse groupeuse après feux\",'Traitements du site - PATS'!G54,$G$2=\"Déblaiement des résidus de coupe combiné à bouteur avec pelle modifié\",'Traitements du site - PATS'!G71),\"\")","v":""},{"$f":"IFERROR(_xlfn.IFS($G$2=\"Broyage forestier\",'Traitements du site - PATS'!G55,$G$2=\"Déblaiement après perturbation naturelle sans récolte\",'Traitements du site - PATS'!G55,$G$2=\"Déblaiement des résidus de coupe combiné à un scarifiage en monticules\",'Traitements du site - PATS'!G115,$G$2=\"Déblaiement d'un peuplement sans perturbation naturelle et sans récolte\",'Traitements du site - PATS'!G115,$G$2=\"Scarifiage par monticules et tranchées\",'Traitements du site - PATS'!G115,$G$2=\"Déblaiement des résidus de coupe combiné à abatteuse groupeuse après feux\",'Traitements du site - PATS'!G55,$G$2=\"Déblaiement des résidus de coupe combiné à bouteur avec pelle modifié\",'Traitements du site - PATS'!G72),\"\")","v":""},{"$f":"IFERROR(_xlfn.IFS($G$2=\"Broyage forestier\",'Traitements du site - PATS'!G56,$G$2=\"Déblaiement après perturbation naturelle sans récolte\",'Traitements du site - PATS'!G56,$G$2=\"Déblaiement des résidus de coupe combiné à un scarifiage en monticules\",'Traitements du site - PATS'!G116,$G$2=\"Déblaiement d'un peuplement sans perturbation naturelle et sans récolte\",'Traitements du site - PATS'!G116,$G$2=\"Scarifiage par monticules et tranchées\",'Traitements du site - PATS'!G116,$G$2=\"Déblaiement des résidus de coupe combiné à abatteuse groupeuse après feux\",'Traitements du site - PATS'!G56,$G$2=\"Déblaiement des résidus de coupe combiné à bouteur avec pelle modifié\",'Traitements du site - PATS'!G73),\"\")","v":""},{"$f":"'Traitements du site - PATS'!G37","v":0},null,null,null,null,null,null,null,null,null,null,null,null,null,null,null,{"$f":"'Traitements du site - PATS'!G13","v":"Inscrire une valeur"},{"$f":"'Traitements du site - PATS'!G17","v":0},{"$f":"'Traitements du site - PATS'!G21","v":0},{"$f":"'Traitements du site - PATS'!G30","v":0},{"$f":"'Traitements du site - PATS'!G22","v":0},{"$f":"'Traitements du site - PATS'!G23","v":0},{"$f":"'Traitements du site - PATS'!G24","v":0},{"$f":"'Traitements du site - PATS'!G25","v":0},{"$f":"'Traitements du site - PATS'!G31","v":0},null,{"$f":"IFERROR(_xlfn.IFS($G$2=\"Broyage forestier\",'Traitements du site - PATS'!G134,$G$2=\"Déblaiement après perturbation naturelle sans récolte\",'Traitements du site - PATS'!G134,$G$2=\"Déblaiement des résidus de coupe combiné à un scarifiage en monticules\",'Traitements du site - PATS'!G134,$G$2=\"Déblaiement d'un peuplement sans perturbation naturelle et sans récolte\",'Traitements du site - PATS'!G134,$G$2=\"Débroussaillement manuel\",'Traitements du site - PATS'!G134,$G$2=\"Scarifiage par monticules et tranchées\",'Traitements du site - PATS'!G134,$G$2=\"Déblaiement des résidus de coupe combiné à abatteuse groupeuse après feux\",'Traitements du site - PATS'!G134,$G$2=\"Déblaiement des résidus de coupe combiné à bouteur avec pelle modifié\",'Traitements du site - PATS'!G134),\"\")","v":""},{"$f":"'Traitements du site - PATS'!G38","v":""},{"$f":"IFERROR(_xlfn.IFS($G$2=\"Broyage forestier\",'Traitements du site - PATS'!G222,$G$2=\"Déblaiement après perturbation naturelle sans récolte\",'Traitements du site - PATS'!G222,$G$2=\"Déblaiement des résidus de coupe combiné à un scarifiage en monticules\",'Traitements du site - PATS'!G262,$G$2=\"Déblaiement d'un peuplement sans perturbation naturelle et sans récolte\",'Traitements du site - PATS'!G262,$G$2=\"Débroussaillement manuel\",'Traitements du site - PATS'!G277,$G$2=\"Scarifiage par monticules et tranchées\",'Traitements du site - PATS'!G262,$G$2=\"Déblaiement des résidus de coupe combiné à abatteuse groupeuse après feux\",'Traitements du site - PATS'!G222,$G$2=\"Déblaiement des résidus de coupe combiné à bouteur avec pelle modifié\",'Traitements du site - PATS'!G207),\"\")","v":""},null,null,{"$f":"IFERROR(_xlfn.IFS($G$2=\"Broyage forestier\",'Traitements du site - PATS'!G223,$G$2=\"Déblaiement après perturbation naturelle sans récolte\",'Traitements du site - PATS'!G223,$G$2=\"Déblaiement des résidus de coupe combiné à un scarifiage en monticules\",'Traitements du site - PATS'!G263,$G$2=\"Déblaiement d'un peuplement sans perturbation naturelle et sans récolte\",'Traitements du site - PATS'!G263,$G$2=\"Débroussaillement manuel\",'Traitements du site - PATS'!G278,$G$2=\"Scarifiage par monticules et tranchées\",'Traitements du site - PATS'!G263,$G$2=\"Déblaiement des résidus de coupe combiné à abatteuse groupeuse après feux\",'Traitements du site - PATS'!G223,$G$2=\"Déblaiement des résidus de coupe combiné à bouteur avec pelle modifié\",'Traitements du site - PATS'!G208),\"\")","v":""},null,{"$f":"IFERROR(_xlfn.IFS($G$2=\"Broyage forestier\",'Traitements du site - PATS'!G224,$G$2=\"Déblaiement après perturbation naturelle sans récolte\",'Traitements du site - PATS'!G224,$G$2=\"Déblaiement des résidus de coupe combiné à un scarifiage en monticules\",'Traitements du site - PATS'!G264,$G$2=\"Déblaiement d'un peuplement sans perturbation naturelle et sans récolte\",'Traitements du site - PATS'!G264,$G$2=\"Débroussaillement manuel\",'Traitements du site - PATS'!G279,$G$2=\"Scarifiage par monticules et tranchées\",'Traitements du site - PATS'!G264,$G$2=\"Déblaiement des résidus de coupe combiné à abatteuse groupeuse après feux\",'Traitements du site - PATS'!G224,$G$2=\"Déblaiement des résidus de coupe combiné à bouteur avec pelle modifié\",'Traitements du site - PATS'!G209),\"\")","v":""},{"$f":"IFERROR(_xlfn.IFS($G$2=\"Broyage forestier\",'Traitements du site - PATS'!G225,$G$2=\"Déblaiement après perturbation naturelle sans récolte\",'Traitements du site - PATS'!G225,$G$2=\"Déblaiement des résidus de coupe combiné à un scarifiage en monticules\",'Traitements du site - PATS'!G265,$G$2=\"Déblaiement d'un peuplement sans perturbation naturelle et sans récolte\",'Traitements du site - PATS'!G265,$G$2=\"Débroussaillement manuel\",'Traitements du site - PATS'!G280,$G$2=\"Scarifiage par monticules et tranchées\",'Traitements du site - PATS'!G265,$G$2=\"Déblaiement des résidus de coupe combiné à abatteuse groupeuse après feux\",'Traitements du site - PATS'!G225,$G$2=\"Déblaiement des résidus de coupe combiné à bouteur avec pelle modifié\",'Traitements du site - PATS'!G210),\"\")","v":""},{"$f":"IFERROR(_xlfn.IFS($G$2=\"Broyage forestier\",'Traitements du site - PATS'!G226,$G$2=\"Déblaiement après perturbation naturelle sans récolte\",'Traitements du site - PATS'!G226,$G$2=\"Déblaiement des résidus de coupe combiné à un scarifiage en monticules\",'Traitements du site - PATS'!G266,$G$2=\"Déblaiement d'un peuplement sans perturbation naturelle et sans récolte\",'Traitements du site - PATS'!G266,$G$2=\"Débroussaillement manuel\",'Traitements du site - PATS'!G281,$G$2=\"Scarifiage par monticules et tranchées\",'Traitements du site - PATS'!G266,$G$2=\"Déblaiement des résidus de coupe combiné à abatteuse groupeuse après feux\",'Traitements du site - PATS'!G226,$G$2=\"Déblaiement des résidus de coupe combiné à bouteur avec pelle modifié\",'Traitements du site - PATS'!G211),\"\")","v":""},null,null,{"$f":"IFERROR(_xlfn.IFS($G$2=\"Broyage forestier\",'Traitements du site - PATS'!G227,$G$2=\"Déblaiement après perturbation naturelle sans récolte\",'Traitements du site - PATS'!G227,$G$2=\"Déblaiement des résidus de coupe combiné à un scarifiage en monticules\",'Traitements du site - PATS'!G267,$G$2=\"Déblaiement d'un peuplement sans perturbation naturelle et sans récolte\",'Traitements du site - PATS'!G267,$G$2=\"Débroussaillement manuel\",'Traitements du site - PATS'!G282,$G$2=\"Scarifiage par monticules et tranchées\",'Traitements du site - PATS'!G267,$G$2=\"Déblaiement des résidus de coupe combiné à abatteuse groupeuse après feux\",'Traitements du site - PATS'!G227,$G$2=\"Déblaiement des résidus de coupe combiné à bouteur avec pelle modifié\",'Traitements du site - PATS'!G212),\"\")","v":""},{"$f":"IFERROR(_xlfn.IFS($G$2=\"Broyage forestier\",'Traitements du site - PATS'!G228,$G$2=\"Déblaiement après perturbation naturelle sans récolte\",'Traitements du site - PATS'!G228,$G$2=\"Déblaiement des résidus de coupe combiné à un scarifiage en monticules\",'Traitements du site - PATS'!G268,$G$2=\"Déblaiement d'un peuplement sans perturbation naturelle et sans récolte\",'Traitements du site - PATS'!G268,$G$2=\"Débroussaillement manuel\",'Traitements du site - PATS'!G283,$G$2=\"Scarifiage par monticules et tranchées\",'Traitements du site - PATS'!G268,$G$2=\"Déblaiement des résidus de coupe combiné à abatteuse groupeuse après feux\",'Traitements du site - PATS'!G228,$G$2=\"Déblaiement des résidus de coupe combiné à bouteur avec pelle modifié\",'Traitements du site - PATS'!G213),\"\")","v":""},{"$f":"IFERROR(_xlfn.IFS($G$2=\"Broyage forestier\",'Traitements du site - PATS'!G231,$G$2=\"Déblaiement après perturbation naturelle sans récolte\",'Traitements du site - PATS'!G231,$G$2=\"Déblaiement des résidus de coupe combiné à un scarifiage en monticules\",'Traitements du site - PATS'!G271,$G$2=\"Déblaiement d'un peuplement sans perturbation naturelle et sans récolte\",'Traitements du site - PATS'!G271,$G$2=\"Débroussaillement manuel\",'Traitements du site - PATS'!G286,$G$2=\"Scarifiage par monticules et tranchées\",'Traitements du site - PATS'!G271,$G$2=\"Déblaiement des résidus de coupe combiné à abatteuse groupeuse après feux\",'Traitements du site - PATS'!G231,$G$2=\"Déblaiement des résidus de coupe combiné à bouteur avec pelle modifié\",'Traitements du site - PATS'!G216),\"\")","v":""},{"$f":"IFERROR(_xlfn.IFS($G$2=\"Broyage forestier\",'Traitements du site - PATS'!G232,$G$2=\"Déblaiement après perturbation naturelle sans récolte\",'Traitements du site - PATS'!G232,$G$2=\"Déblaiement des résidus de coupe combiné à un scarifiage en monticules\",'Traitements du site - PATS'!G272,$G$2=\"Déblaiement d'un peuplement sans perturbation naturelle et sans récolte\",'Traitements du site - PATS'!G272,$G$2=\"Débroussaillement manuel\",'Traitements du site - PATS'!G287,$G$2=\"Scarifiage par monticules et tranchées\",'Traitements du site - PATS'!G272,$G$2=\"Déblaiement des résidus de coupe combiné à abatteuse groupeuse après feux\",'Traitements du site - PATS'!G232,$G$2=\"Déblaiement des résidus de coupe combiné à bouteur avec pelle modifié\",'Traitements du site - PATS'!G217),\"\")","v":""},{"$f":"IFERROR(_xlfn.IFS($G$2=\"Broyage forestier\",'Traitements du site - PATS'!G235,$G$2=\"Déblaiement après perturbation naturelle sans récolte\",'Traitements du site - PATS'!G235,$G$2=\"Déblaiement des résidus de coupe combiné à un scarifiage en monticules\",'Traitements du site - PATS'!G275,$G$2=\"Déblaiement d'un peuplement sans perturbation naturelle et sans récolte\",'Traitements du site - PATS'!G275,$G$2=\"Débroussaillement manuel\",'Traitements du site - PATS'!G290,$G$2=\"Scarifiage par monticules et tranchées\",'Traitements du site - PATS'!G275,$G$2=\"Déblaiement des résidus de coupe combiné à abatteuse groupeuse après feux\",'Traitements du site - PATS'!G235,$G$2=\"Déblaiement des résidus de coupe combiné à bouteur avec pelle modifié\",'Traitements du site - PATS'!G220),\"\")","v":""}]
[]
[null,null,null,null,null,null,null,null,null,null,null,null,null,null,null,null,null,null,null,null,null,null,null,null,null,null,null,null,null,"Disparait "]

{"sheet":"Régénération artificielle","index":6,"n_rows":217,"n_cols":7,"rows_kept":217,"cut":false,"hidden":false,"merged":[[208,3,208,4],[9,0,9,2],[134,0,134,5],[120,0,120,6],[61,3,61,5],[38,2,38,4],[39,1,39,4],[40,0,40,5],[41,0,41,5],[42,0,42,5],[60,3,60,5],[59,1,59,2],[61,1,61,2],[43,0,43,5],[47,0,47,5],[48,0,48,5],[49,0,49,5],[45,0,45,5],[57,3,57,5],[58,3,58,5],[59,3,59,5],[55,0,55,6],[60,1,60,2],[188,6,190,6],[58,1,58,2],[62,3,62,5],[71,0,71,6],[96,0,96,5],[82,0,82,6],[151,0,151,5],[163,0,163,5],[145,0,145,5],[130,0,130,5],[131,0,131,5],[132,0,132,5],[133,0,133,5],[66,0,66,5],[67,0,67,5],[104,0,104,5],[95,0,95,5],[91,0,91,5],[92,0,92,5],[113,0,113,5],[121,0,121,5],[115,0,115,5],[78,0,78,6],[62,1,62,2],[148,0,148,5],[50,0,50,6],[194,0,194,5],[188,0,190,5],[169,0,169,6],[170,0,170,5],[117,0,117,5],[118,0,118,5],[86,0,86,6],[87,0,87,5],[80,0,80,3],[102,0,102,5],[100,0,100,5],[85,0,85,6],[165,0,165,5],[185,0,185,6],[186,0,186,6],[191,0,191,5],[179,0,179,5],[175,0,175,5],[187,0,187,6],[128,0,128,5],[97,0,97,5],[56,0,56,6],[192,0,193,5],[192,6,193,6],[52,0,52,6],[9,3,9,5],[199,2,200,4],[63,0,63,2],[84,0,84,3],[80,4,80,5],[68,1,68,3],[70,1,70,3],[162,0,162,5],[161,0,161,5],[158,0,158,5],[136,0,136,5],[197,0,197,4],[182,0,182,5],[183,0,183,5],[171,0,171,5],[137,0,137,5],[103,0,103,6],[74,0,74,3],[153,0,153,5],[154,0,154,5],[63,3,63,5],[46,0,46,6],[0,0,0,6],[3,0,3,6],[15,0,15,6],[16,0,16,6],[25,0,25,6],[28,1,30,1],[24,0,24,5],[10,0,10,6],[14,0,14,6],[17,0,17,6],[4,0,4,5],[5,0,5,5],[6,0,6,5],[7,0,7,5],[22,1,22,4],[11,0,11,5],[13,0,13,5],[18,1,18,4],[23,0,23,5],[2,0,2,5],[8,0,8,5],[12,0,12,5],[19,1,19,5],[20,1,21,1],[20,0,21,0],[37,2,37,5],[33,0,33,5],[34,0,34,5],[36,1,36,5],[29,2,29,4],[28,2,28,5],[28,0,30,0],[30,2,30,5],[21,2,21,4],[32,0,32,5],[64,0,64,6],[88,0,88,5],[93,0,93,5],[110,0,110,5],[127,0,127,5],[135,0,135,5],[125,0,125,5],[126,0,126,5],[119,0,119,5],[108,0,108,5],[109,0,109,5],[111,0,111,5],[114,0,114,5],[116,0,116,5],[83,0,83,3],[98,0,98,5],[69,1,69,3],[65,0,65,6],[94,0,94,5],[77,4,77,5],[68,4,69,4],[105,0,105,5],[122,0,122,5],[146,0,146,5],[150,0,150,5],[147,0,147,5],[149,0,149,5],[81,0,81,6],[144,0,144,5],[77,0,77,3],[79,0,79,6],[107,0,107,5],[124,0,124,5],[142,0,142,5],[90,0,90,5],[140,0,140,5],[89,0,89,5],[141,0,141,5],[106,0,106,5],[123,0,123,5],[138,0,138,6],[139,0,139,5],[112,0,112,5],[99,0,99,5],[129,0,129,5],[143,0,143,5],[160,0,160,5],[167,0,167,5],[168,0,168,5],[184,0,184,6],[181,0,181,5],[177,0,177,5],[178,0,178,5],[152,0,152,5],[156,0,156,5],[159,0,159,5],[180,0,180,5],[176,0,176,5],[174,0,174,5],[172,0,172,5],[166,0,166,5],[164,0,164,5],[173,0,173,5],[157,0,157,5],[155,0,155,6],[54,0,54,3],[54,4,54,5],[53,0,53,6],[1,0,1,6],[68,0,69,0],[76,0,76,6],[84,4,84,5],[101,0,101,5],[27,1,27,5],[26,1,26,4],[51,0,51,6],[57,1,57,2],[35,0,35,6],[74,4,74,5],[83,4,83,5],[72,0,72,6],[73,4,73,5],[75,0,75,6],[73,0,73,2],[44,0,44,6],[37,1,38,1],[37,0,38,0],[31,1,31,4],[20,2,20,5]]}
[]
["Annexe au calcul des taux des traitements non commerciaux 2024-2025              \n   Régénération artificielle\nForêt publique"]
[" *** Veuillez saisir les informations dans les cellules blanches seulement ***",null,null,null,null,null,"Version 2 : 2024-04-19"]
["Identification"]
["Unité d'aménagement (UA)"]
["Secteur d'intervention"]
["Unité de compilation"]
["Numéro de la prescription"]
["Traitement (code DICA)"]
["Traitement (code RATF)",null,null,{"$f":"IFERROR(VLOOKUP($G$9,Menus!$A$374:$D$427,3,FALSE),Menus!$C$427)","v":"RA_Codes_RATF"}]
["Traitement de régénération artificielle à taux fixe ou variable"]
["Traitement",null,null,null,null,null,"Inscrire une valeur"]
["Taux de base",null,null,null,null,null,{"$f":"IFERROR(VLOOKUP($G$12,Menus!$A$270:$C$276,2,FALSE),\"\")","v":"S/O"}]
["Unité de mesure",null,null,null,null,null,{"$f":"IFERROR(VLOOKUP($G$12,Menus!$A$270:$C$276,3,FALSE),\"\")","v":"S/O"}]
["Taux d'exécution à déterminer selon la formule suivante"]
[{"$f":"IFERROR(VLOOKUP($G$12,Formules,3,FALSE),\"\")","v":""}]
[{"$f":"\"Valeurs spécifiques à remplir selon le traitement - \"&$G$12","v":"Valeurs spécifiques à remplir selon le traitement - Inscrire une valeur"}]
["Valeurs spécifiques à remplir selon le traitement - Plantation uniforme et regarni en plein manuel sauf PEH"]
["PR","Préparation de terrain",null,null,null,{"$f":"IFERROR(VLOOKUP($G$19,Menus!$A$279:$B$280,2,FALSE),\"\")","v":""}]
["DE","Densité totale (nombre de plants à mettre en terre par hectare)"]
["DS","Distance entre les rangées de plants\n(sillons si disponible)","Objectif de densité de plantation à terme\n•  Outil de calcul afin de permettre d'afficher une valeur suggérée pour DS"]
[null,null,"Outil de calcul de la valeur de la variable DS\n•  Calcul en fonction de « Objectif de densité de plantation à terme »\n•  Une valeur différente peut être inscrite",null,null,{"$f":"IFERROR(ROUND(SQRT(10000/$G$21),2),\"\")","v":""}]
["Gabarit","Constante liée au gabarit retenu",null,null,null,{"$f":"IFERROR(VLOOKUP($G$23,Menus!$A$283:$B$288,2,FALSE),\"\")","v":""}]
["Nombre total de milliers de plants à mettre en terre"]
["Taux calculé à partir de l'équation et des variables reliées au traitement",null,null,null,null,null,{"$f":"IFERROR(ROUND(('Calculs grille'!$L$55+'Calculs grille'!$L$56*$F$19+('Calculs grille'!$L$57/($G$20*$G$22))+$F$23),2),0)","v":0}]
["Valeurs spécifiques à remplir selon le traitement - Regarni de sentier et plantation d'enrichissement manuel sauf PEH"]
["PR","Préparation de terrain",null,null,null,{"$f":"IFERROR(VLOOKUP($G$27,Menus!$A$279:$B$280,2,FALSE),\"\")","v":""}]
["DE","Densité totale (nombre de plants à mettre en terre par hectare)"]
["DS","Distance entre les rangées de plants\n(sillons si disponible)","Objectif de densité de plantation à terme\n•  Outil de calcul afin de permettre d'afficher une valeur suggérée pour DS"]
[null,null,"Outil de calcul de la valeur de la variable DS\n•  Calcul en fonction de « Objectif de densité de plantation à terme »\n•  Une valeur différente peut être inscrite",null,null,{"$f":"IFERROR(ROUND(SQRT(10000/$G$29),2),\"\")","v":""}]
[null,null,"Calcul de la distance ajustée entre les plants (DSA)\n•  Calcul en fonction de « Objectif de densité de plantation à terme » et de\n     « Pourcentage d'occupation des sentiers (regarni) ou proportion de la\n     superficie traitée (enrichissement) »\n•   La valeur DSA calculée et la valeur DS inscrite par l'utilisateur seront\n     utilisées pour établir le taux",null,null,null,{"$f":"IFERROR(IF(OR(ISBLANK($G$30),ISBLANK($G$33))=TRUE,\"\",$G$30/$G$33),\"\")","v":""}]
["Gabarit","Constante liée au gabarit retenu",null,null,null,{"$f":"IFERROR(VLOOKUP($G$32,Menus!$A$283:$B$288,2,FALSE),\"\")","v":""}]
["Pourcentage d'occupation des sentiers (regarni) ou proportion de la superficie traitée (enrichissement)"]
["Nombre total de milliers de plants à mettre en terre"]
["Taux calculé à partir de l'équation et des variables reliées au traitement",null,null,null,null,null,{"$f":"IFERROR(ROUND(IF(ISBLANK($G$33),('Calculs grille'!$L$55+'Calculs grille'!$L$56*$F$27+('Calculs grille'!$L$57/($G$28*$G$30))+$F$32),('Calculs grille'!$L$55+'Calculs grille'!$L$56*$F$27+('Calculs grille'!$L$57/($G$28*$G$31))+$F$32)*(1+((('Calculs grille'!$L$55+'Calculs grille'!$L$56*$F$27+('Calculs grille'!$L$57/($G$29*$G$30))+$F$32)-('Calculs grille'!$L$55+'Calculs grille'!$L$56*$F$27+('Calculs grille'!$L$57/($G$29*$G$31))+$F$32))/('Calculs grille'!$L$55+'Calculs grille'!$L$56*$F$27+('Calculs grille'!$L$57/($G$29*$G$31))+$F$32)))),2),0)","v":0}]
["Valeurs spécifiques à remplir selon le traitement - Plantation uniforme et regarni en plein manuel sentier préparé sauf PEH"]
["DE","Densité totale (nombre de plants à mettre en terre par hectare)"]
["DS","Distance entre les rangées de plants\n(sillons si disponible)","Objectif de densité de plantation à terme\n•  Outil de calcul afin de permettre d'afficher une valeur suggérée pour DS"]
[null,null,"Outil de calcul de la valeur de la variable DS\n•  Calcul en fonction de « Objectif de densité de plantation à terme »\n•  Une valeur différente peut être inscrite",null,null,{"$f":"IFERROR(ROUND(SQRT(10000/$G$38),2),\"\")","v":""}]
["Gabarit","Constante liée au gabarit retenu",null,null,null,{"$f":"IFERROR(VLOOKUP($G$40,Menus!$A$283:$B$288,2,FALSE),\"\")","v":""}]
["Nombre total de milliers de plants à mettre en terre dans les sentiers"]
["Nombre total de milliers de plants à mettre en terre dans les bandes"]
["Taux calculé à partir de l'équation et des variables reliées au traitement AVEC préparation de terrain",null,null,null,null,null,{"$f":"IFERROR(ROUND(('Calculs grille'!$L$55+'Calculs grille'!$L$56*1+('Calculs grille'!$L$57/($G$37*$G$39))+$F$40),2),0)","v":0}]
["Taux calculé à partir de l'équation et des variables reliées au traitement SANS préparation de terrain",null,null,null,null,null,{"$f":"IFERROR(ROUND(('Calculs grille'!$L$55+'Calculs grille'!$L$56*0+('Calculs grille'!$L$57/($G$37*$G$39))+$F$40),2),0)","v":0}]
["Valeurs spécifiques à remplir selon le traitement - Plantation uniforme PEH"]
["Nombre de milliers de plants à mettre en terre"]
["Valeurs spécifiques à remplir selon le traitement - Plantation uniforme et regarni mécanique (Scarificateur-planteur Bracke P-11a)"]
["Spécification"]
["Nombre de milliers de plants à mettre en terre"]
["Taux",null,null,null,null,null,{"$f":"IFERROR(VLOOKUP($G$48,Menus!$A$291:$B$294,2,FALSE),0)","v":0}]
[{"$f":"\"Majorations applicables à l'exécution - \"&$G$12&\" - Voir l'onglet « Étapes calcul majoration »\"","v":"Majorations applicables à l'exécution - Inscrire une valeur - Voir l'onglet « Étapes calcul majoration »"}]
[{"$f":"IFERROR(VLOOKUP($G$12,Majorations_applicables,11,FALSE),\"\")","v":""}]
["Majoration pour le type de préparation de terrain (RAPM)"]
["Majoration pour le type de préparation de terrain (RAPM) - Tous sauf Ensemencement terrestre manuel et Plantation uniforme et regarni mécanique (Scarificateur-planteur Bracke P-11a)"]
["Type de préparation de terrain (RAPM)",null,null,null,{"$f":"IFERROR(VLOOKUP($G$55,Menus!$A$430:$B$431,2,FALSE),\"\")","v":""},null,"Inscrire une valeur"]
["Majoration pour la pente (PE2)"]
["Majoration pour la pente (PE2) - Ensemencement terrestre manuel"]
["Classe de pente numérique","Taux calculé",null,"Écart",null,null,"Superficie (hectare)"]
["Pente A",{"$f":"IFERROR($G$13*(1+VLOOKUP($A$59,'Majorations applicables'!$A$76:$B$80,2,FALSE)),0)","v":0},{"$f":"B59-$G$12","v":{"$error":"#VALUE!"}},{"$f":"IFERROR($B$59-$G$13,0)","v":0}]
["Pente B",{"$f":"IFERROR($G$13*(1+VLOOKUP($A$60,'Majorations applicables'!$A$76:$B$80,2,FALSE)),0)","v":0},{"$f":"B60-$G$12","v":{"$error":"#VALUE!"}},{"$f":"IFERROR($B$60-$G$13,0)","v":0}]
["Pente C",{"$f":"IFERROR($G$13*(1+VLOOKUP($A$61,'Majorations applicables'!$A$76:$B$80,2,FALSE)),0)","v":0},{"$f":"B61-$G$12","v":{"$error":"#VALUE!"}},{"$f":"IFERROR($B$61-$G$13,0)","v":0}]
["Pente D",{"$f":"IFERROR($G$13*(1+VLOOKUP($A$62,'Majorations applicables'!$A$76:$B$80,2,FALSE)),0)","v":0},{"$f":"B62-$G$12","v":{"$error":"#VALUE!"}},{"$f":"IFERROR($B$62-$G$13,0)","v":0}]
["Pente E et plus",{"$f":"IFERROR($G$13*(1+VLOOKUP($A$63,'Majorations applicables'!$A$76:$B$80,2,FALSE)),0)","v":0},{"$f":"B63-$G$12","v":{"$error":"#VALUE!"}},{"$f":"IFERROR($B$63-$G$13,0)","v":0}]
[null,null,null,"Total",null,null,{"$f":"IFERROR(SUM($G$59:$G$63),0)","v":0}]
["Inventaire de conformité (Vérification)"]
["Inventaire de conformité - Tous"]
["Inventaire de conformité (taux par placette inventoriée)"]
["Nombre de placettes inventoriées par milliers de plants"]
["Critère #3","Alignement des plants mis en terre",null,null,{"$f":"IFERROR(SUM($F$69:$F$70)*'Calculs grille'!$L$162,0)","v":0},{"$f":"IFERROR(IF(EXACT(UPPER($G$69),UPPER(Menus!$A$334)),1,IF(EXACT(UPPER($G$69),UPPER(Menus!$A$335)),0,\"\")),\"\")","v":""}]
[null,"Nombre de microplacettes localisées, en partie ou en totalité, sur un andain",null,null,null,{"$f":"IFERROR(IF(EXACT(UPPER($G$70),UPPER(Menus!$A$334)),1,IF(EXACT(UPPER($G$70),UPPER(Menus!$A$335)),0,\"\")),\"\")","v":""}]
["Critère #4","Nombre de plants conformes dont l'échantillonnage est une grappe",null,null,{"$f":"IFERROR(SUM($F$71)*'Calculs grille'!$L$164,0)","v":0},{"$f":"IFERROR(IF(EXACT(UPPER($G$71),UPPER(Menus!$A$334)),1,IF(EXACT(UPPER($G$71),UPPER(Menus!$A$335)),0,\"\")),\"\")","v":""}]
["Majoration pour l'hébergement, le transport collectif et la distance ou la durée du déplacement (HRA ou HPT, TCRA et DTEXE)"]
["Majoration pour l'hébergement, le transport collectif et la distance ou la durée du déplacement (HRA ou HPT, TC et DTEXE) - Tous sauf TC et DTEXE pour Plantation uniforme et regarni mécanique (Scarificateur-planteur Bracke P-11a)"]
[{"$f":"IFERROR(IF(EXACT($G$12,Menus!$A$273),\"Hébergement (HPT)\",\"Hébergement (HRA) ou transport collectif (TCRA)\"),\"Hébergement\")","v":"Hébergement (HRA) ou transport collectif (TCRA)"},null,null,{"$f":"IFERROR(IF(EXACT($G$12,Menus!$A$273),Menus!$B$303,Menus!$B$296),Menus!$B$296)","v":"RA_Majoration_HRA_ou_TCRA"},{"$f":"IFERROR(IF(EXACT($G$12,Menus!$A$273),IF(ISBLANK($G$74)=TRUE,\"\",IFERROR(VLOOKUP($G$74,Menus!$A$304:$B$307,2,FALSE),IF($G$74<=Menus!$B$305,ROUND($G$74,8),\"Max \"&TEXT(Menus!$B$305,\"0,00%\")))),IF(ISBLANK($G$74)=TRUE,\"\",IFERROR(VLOOKUP($G$74,Menus!$A$297:$B$301,2,FALSE),IF($G$74<=Menus!$B$299,ROUND($G$74,8),\"Max \"&TEXT(Menus!$B$299,\"0,00%\"))))),\"\")","v":""}]
["Distance ou durée du déplacement (DTEXE)",null,null,null,{"$f":"IFERROR(VLOOKUP($G$75,Menus!$A$315:$B$317,2,FALSE),\"\")","v":""}]
["Majoration pour la certification (CEAF2 ou ISO2)"]
["Majoration pour la certification (CEAF2 ou ISO2) - Tous"]
["Certification (CEAF2 ou ISO2)",null,null,null,{"$f":"IFERROR(VLOOKUP($G$78,Menus!$A$325:$B$327,2,FALSE),\"\")","v":""}]
["Majoration pour la traçabilité (TRA)"]
["Majoration pour la traçabilité (TRA) - Tous sauf Ensemencement terrestre manuel"]
["Traçabilité (TRA)",null,null,null,{"$f":"IFERROR(VLOOKUP($G$81,Menus!$A$338:$B$339,2,FALSE),\"\")","v":""}]
["Inventaire de conformité - Majoration pour l'hébergement et la distance ou la durée du déplacement (HPVTM et DTPVTM)"]
["Inventaire de conformité - Majoration pour l'hébergement et la distance ou la durée du déplacement (HPVTM et DTPVTM) - Tous"]
["Hébergement (HPVTM)",null,null,null,{"$f":"IFERROR(IF(ISBLANK($G$84)=TRUE,\"\",IFERROR(VLOOKUP($G$84,Menus!$A$310:$B$312,2,FALSE),IF($G$84<=Menus!$B$311,ROUND($G$84,4),\"Max \"&TEXT(Menus!$B$311,\"0,0%\")))),\"\")","v":""}]
["Distance ou durée du déplacement (DTPVTM)",null,null,null,{"$f":"IFERROR(VLOOKUP($G$85,Menus!$A$320:$B$322,2,FALSE),\"\")","v":""}]
["Totaux"]
["Calculs - Plantation uniforme, regarni manuel et plantation d'enrichissement sauf PEH"]
["Taux d'exécution de base",null,null,null,null,null,{"$f":"IFERROR($G$25,0)","v":0}]
["Taux RAPM",null,null,null,null,null,{"$f":"IFERROR($G$88*SUM($E$55),0)","v":0}]
["Taux VERIF",null,null,null,null,null,{"$f":"IFERROR($G$67*$G$68/$G$24,0)","v":0}]
["Taux sous-total exécution",null,null,null,null,null,{"$f":"IFERROR(SUM($G$88:$G$89),0)","v":0}]
["Taux HRA ou TCRA",null,null,null,null,null,{"$f":"IFERROR(SUM(G88:G90)*$E$74,0)","v":0}]
["Taux DTEXE",null,null,null,null,null,{"$f":"IFERROR(SUM($G$88:$G$90)*$E$75,0)","v":0}]
["Taux CEAF2 ou ISO2",null,null,null,null,null,{"$f":"IFERROR((SUM($G$88:$G$90,G92:G93)*$E$78),0)","v":0}]
["Taux TRA",null,null,null,null,null,{"$f":"IFERROR(SUM($E$81),0)","v":0}]
["Taux exécution total, majorations, réductions admissibles et inventaire conformité total",null,null,null,null,null,{"$f":"IFERROR((ROUND(SUM($G$88:$G$90,G92:G94),2)),0)","v":0}]
["Taux inventaire de conformité",null,null,null,null,null,{"$f":"IFERROR((SUM($G$67,E$69:$E$71)*$G$68)/$G$100,0)","v":0}]
["Taux HPVTM et/ou DTPVTM",null,null,null,null,null,{"$f":"IFERROR(($G$97*SUM($E$84:$F$85)),0)","v":0}]
["Taux exécution et inventaire de conformité total",null,null,null,null,null,{"$f":"IFERROR(ROUND(SUM($G$96:$G$98),2),0)","v":0}]
["Nombre de milliers de plants",null,null,null,null,null,{"$f":"IFERROR(ROUND($G$24,3),0)","v":0}]
["Total exécution",null,null,null,null,null,{"$f":"IFERROR(ROUND($G$96*$G$100,2),0)","v":0}]
["Total inventaire de conformité",null,null,null,null,null,{"$f":"IFERROR(ROUND(SUM($G$97:$G$98)*$G$100,2),0)","v":0}]
["Grand total admissible",null,null,null,null,null,{"$f":"IFERROR(G96*G100,0)","v":0}]
["Calculs - Regarni de sentier et plantation d'enrichissement manuel sauf PEH"]
["Taux d'exécution de base",null,null,null,null,null,{"$f":"IFERROR($G$35,0)","v":0}]
["Taux RAPM",null,null,null,null,null,{"$f":"IFERROR($G$105*SUM($E$55),0)","v":0}]
["Taux VERIF",null,null,null,null,null,{"$f":"IFERROR($G$67*$G$68/$G$34,0)","v":0}]
["Taux sous-total exécution",null,null,null,null,null,{"$f":"IFERROR(SUM($G$105:$G$106),0)","v":0}]
["Taux HRA ou TCRA",null,null,null,null,null,{"$f":"IFERROR(SUM($G$105:$G$107)*$E$74,0)","v":0}]
["Taux DTEXE",null,null,null,null,null,{"$f":"IFERROR(SUM($G$105:$G$107)*$E$75,0)","v":0}]
["Taux CEAF2 ou ISO2",null,null,null,null,null,{"$f":"IFERROR((SUM($G$105:$G$107,G109:G110)*$E$78),0)","v":0}]
["Taux TRA",null,null,null,null,null,{"$f":"IFERROR(SUM($E$81),0)","v":0}]
["Taux exécution total, majorations, réductions admissibles et inventaire conformité total",null,null,null,null,null,{"$f":"IFERROR((ROUND(SUM($G$105:$G$107,G109:G111),2)),0)","v":0}]
["Taux inventaire de conformité",null,null,null,null,null,{"$f":"IFERROR((SUM($G$67,E$69:$E$71)*$G$68)/$G$117,0)","v":0}]
["Taux HPVTM et/ou DTPVTM",null,null,null,null,null,{"$f":"IFERROR(($G$114*SUM($E$84:$F$85)),0)","v":0}]
["Taux exécution et inventaire de conformité total",null,null,null,null,null,{"$f":"IFERROR((ROUND(SUM($G$113:$G$115),2)),0)","v":0}]
["Nombre de milliers de plants",null,null,null,null,null,{"$f":"IFERROR(ROUND($G$34,3),0)","v":0}]
["Total exécution",null,null,null,null,null,{"$f":"IFERROR(ROUND($G$113*$G$117,2),0)","v":0}]
["Total inventaire de conformité",null,null,null,null,null,{"$f":"IFERROR(ROUND(SUM($G$114:$G$115)*$G$117,2),0)","v":0}]
["Grand total admissible",null,null,null,null,null,{"$f":"IFERROR(G113*G117,0)","v":0}]
["Calculs - Plantation uniforme et regarni en plein manuel sentier préparé sauf PEH"]
["Taux d'exécution de base",null,null,null,null,null,{"$f":"IFERROR((SUMPRODUCT($G$41:$G$42,$G$43:$G$44)/SUM($G$41:$G$42)),0)","v":0}]
["Taux RAPM",null,null,null,null,null,{"$f":"IFERROR($G$122*SUM($E$55),0)","v":0}]
["Taux VERIF",null,null,null,null,null,{"$f":"IFERROR($G$67*$G$68/(SUM($G$41:$G$42)),0)","v":0}]
["Taux sous-total exécution",null,null,null,null,null,{"$f":"IFERROR(SUM($G$122:$G$123),0)","v":0}]
["Taux HRA ou TCRA",null,null,null,null,null,{"$f":"IFERROR(SUM($G$122:$G$124)*$E$74,0)","v":0}]
["Taux DTEXE",null,null,null,null,null,{"$f":"IFERROR(SUM($G$122:$G$124)*$E$75,0)","v":0}]
["Taux CEAF2 ou ISO2",null,null,null,null,null,{"$f":"IFERROR((SUM($G$122:$G$124,G126:G127)*$E$78),0)","v":0}]
["Taux TRA",null,null,null,null,null,{"$f":"IFERROR(SUM($E$81),0)","v":0}]
["Taux exécution total, majorations, réductions admissibles et inventaire conformité total",null,null,null,null,null,{"$f":"IFERROR((ROUND(SUM($G$122:$G$124,G126:G128),2)),0)","v":0}]
["Taux inventaire de conformité",null,null,null,null,null,{"$f":"IFERROR((SUM($G$67,E$69:$E$71)*$G$68)/SUM($G$134:$G$135),0)","v":0}]
["Taux HPVTM et/ou DTPVTM",null,null,null,null,null,{"$f":"IFERROR(($G$131*SUM($E$84:$F$85)),0)","v":0}]
["Taux exécution et inventaire de conformité total",null,null,null,null,null,{"$f":"IFERROR((ROUND(SUM($G$130:$G$132),2)),0)","v":0}]
["Nombre de milliers de plants dans les sentiers",null,null,null,null,null,{"$f":"IFERROR(ROUND($G$41,3),0)","v":0}]
["Nombre de milliers de plants dans les bandes",null,null,null,null,null,{"$f":"IFERROR(ROUND($G$42,3),0)","v":0}]
["Nombre de plants total pour code VBA",null,null,null,null,null,{"$f":"IFERROR((SUM($G$134:$G$135)),0)","v":0}]
["Total inventaire de conformité",null,null,null,null,null,{"$f":"IFERROR(ROUND(SUM($G$131:$G$132)*SUM($G$134:$G$135),2),0)","v":0}]
["Grand total admissible",null,null,null,null,null,{"$f":"IFERROR(SUM($G$134:$G$135)*G130,0)","v":0}]
["Calculs - Plantation uniforme PEH"]
["Taux d'exécution de base",null,null,null,null,null,{"$f":"IFERROR(IF(ISNUMBER($G$13)=TRUE,$G$13,0),0)","v":0}]
["Taux RAPM",null,null,null,null,null,{"$f":"IFERROR($G$140*SUM($E$55),0)","v":0}]
["Taux VERIF",null,null,null,null,null,{"$f":"IFERROR($G$67*$G$68/$G$46,0)","v":0}]
["Taux sous-total exécution",null,null,null,null,null,{"$f":"IFERROR(SUM($G$140:$G$141),0)","v":0}]
["Taux HRA ou TCRA",null,null,null,null,null,{"$f":"IFERROR(SUM(G140:G142)*$E$74,0)","v":0}]
["Taux DTEXE",null,null,null,null,null,{"$f":"IFERROR(SUM(G140:G142)*$E$75,0)","v":0}]
["Taux CEAF2 ou ISO2",null,null,null,null,null,{"$f":"IFERROR((SUM($G$140:$G$142,G144:G145)*$E$78),0)","v":0}]
["Taux TRA",null,null,null,null,null,{"$f":"IFERROR(SUM($E$81),0)","v":0}]
["Taux exécution total, majorations, réductions admissibles et inventaire conformité total",null,null,null,null,null,{"$f":"IFERROR((ROUND(SUM($G$140:$G$142,G144:G146),2)),0)","v":0}]
["Taux inventaire de conformité",null,null,null,null,null,{"$f":"IFERROR((SUM($G$67,E$69:$E$71)*$G$68)/$G$152,0)","v":0}]
["Taux HPVTM et/ou DTPVTM",null,null,null,null,null,{"$f":"IFERROR(($G$149*SUM($E$84:$F$85)),0)","v":0}]
["Taux exécution et inventaire de conformité total",null,null,null,null,null,{"$f":"IFERROR((ROUND(SUM($G$148:$G$150),2)),0)","v":0}]
["Nombre de milliers de plants",null,null,null,null,null,{"$f":"IFERROR(ROUND($G$46,3),0)","v":0}]
["Total exécution",null,null,null,null,null,{"$f":"IFERROR(ROUND($G$148*$G$152,2),0)","v":0}]
["Total inventaire de conformité",null,null,null,null,null,{"$f":"IFERROR(ROUND(SUM($G$149:$G$150)*$G$152,2),0)","v":0}]
["Grand total admissible",null,null,null,null,null,{"$f":"IFERROR(G148*G152,0)","v":0}]
["Calculs - Plantation uniforme et regarni mécanique (Scarificateur-planteur Bracke P-11a)"]
["Taux d'exécution de base",null,null,null,null,null,{"$f":"IFERROR($G$50,0)","v":0}]
["Taux VERIF",null,null,null,null,null,{"$f":"IFERROR($G$67*$G$68/$G$49,0)","v":0}]
["Taux HPT",null,null,null,null,null,{"$f":"IFERROR((SUM($G$157:$G$158)*$E$74),0)","v":0}]
["Taux CEAF2 ou ISO2",null,null,null,null,null,{"$f":"IFERROR((SUM($G$157:$G$159)*$E$78),0)","v":0}]
["Taux TRA",null,null,null,null,null,{"$f":"IFERROR(SUM($E$81),0)","v":0}]
["Taux exécution total, majorations, réductions admissibles et inventaire conformité total",null,null,null,null,null,{"$f":"IFERROR((ROUND(SUM($G$157:$G$160),2)),0)","v":0}]
["Taux inventaire de conformité",null,null,null,null,null,{"$f":"IFERROR((SUM($G$67,E$69:$E$71)*$G$68)/$G$166,0)","v":0}]
["Taux HPVTM et/ou DTPVTM",null,null,null,null,null,{"$f":"IFERROR(($G$163*SUM($E$84:$F$85)),0)","v":0}]
["Taux exécution et inventaire de conformité total",null,null,null,null,null,{"$f":"IFERROR((ROUND(SUM($G$162:$G$164),2)),0)","v":0}]
["Nombre de milliers de plants",null,null,null,null,null,{"$f":"IFERROR(ROUND($G$49,3),0)","v":0}]
["Total exécution",null,null,null,null,null,{"$f":"IFERROR(ROUND($G$162*$G$166,2),0)","v":0}]
["Total inventaire de conformité",null,null,null,null,null,{"$f":"IFERROR(ROUND(SUM($G$163:$G$164)*$G$166,2),0)","v":0}]
["Grand total admissible",null,null,null,null,null,{"$f":"IFERROR(G162*G166,0)","v":0}]
["Calculs - Ensemencement terrestre manuel"]
["Taux d'exécution de base",null,null,null,null,null,{"$f":"IFERROR(IF(ISNUMBER($G$13)=TRUE,$G$13,0),0)","v":0}]
["Taux PE2",null,null,null,null,null,{"$f":"IFERROR((SUMPRODUCT($D$59:$D$63,$G$59:$G$63)/$G$64),0)","v":0}]
["Taux sous-total exécution",null,null,null,null,null,{"$f":"IFERROR(SUM($G$171:$G$172),0)","v":0}]
["Taux HRA ou TC",null,null,null,null,null,{"$f":"IFERROR(($G$173*$E$74),0)","v":0}]
["Taux DTEXE",null,null,null,null,null,{"$f":"IFERROR(($G$173*$E$75),0)","v":0}]
["Taux CEAF2 ou ISO2",null,null,null,null,null,{"$f":"IFERROR((SUM($G$173:$G$175)*$E$78),0)","v":0}]
["Taux exécution total et majoration(s) admissible(s)",null,null,null,null,null,{"$f":"IFERROR((ROUND(SUM($G$173:$G$176),2)),0)","v":0}]
["Taux inventaire de conformité",null,null,null,null,null,{"$f":"IFERROR((SUM($G$67,E$69:$E$71)*$G$68)/$G$181,0)","v":0}]
["Taux HPVTM et/ou DTPVTM",null,null,null,null,null,{"$f":"IFERROR(($G$178*SUM(($E$84:$F$85))),0)","v":0}]
["Taux exécution et inventaire de conformité total",null,null,null,null,null,{"$f":"IFERROR((ROUND(SUM($G$177:$G$179),2)),0)","v":0}]
["Superficie",null,null,null,null,null,{"$f":"IFERROR(ROUND($G$64,2),0)","v":0}]
["Total exécution",null,null,null,null,null,{"$f":"IFERROR(ROUND($G$177*$G$181,2),0)","v":0}]
["Total inventaire de conformité",null,null,null,null,null,{"$f":"IFERROR(ROUND(SUM($G$178:$G$179)*$G$181,2),0)","v":0}]
["Grand total admissible",null,null,null,null,null,{"$f":"IFERROR(SUM($G$182:$G$183),0)","v":0}]
[]
["Remarques"]
[]
["J'atteste que les renseignements fournis dans ce document afin de calculer le taux du traitement sont complets et conformes à la vérité, au meilleur de mes connaissances."]
[]
[]
[]
["Nom et prénom de l'ingénieur forestier",null,null,null,null,null,"Numéro de permis"]
[null,null,null,null,null,null,{"$f":"TODAY()","v":"2026-04-08"}]
[]
["Signature de l'ingénieur forestier",null,null,null,null,null,"Date (AAAA-MM-JJ)"]
[]
[]
["Section réservée au suivi du contrat"]
[]
[null,"Numéro de la prescription :",{"$f":"IF($G$8<>\"\",$G$8,\"\")","v":""}]
[]
[null,"Numéro du contrat :"]
[null,"Numéro du projet :"]
[null,"U.G. :"]
[null,"MRC :"]
[null,"Code de traitement DICA :",{"$f":"IF($G$9<>\"\",$G$9,\"\")","v":""}]
[null,"Code de traitement RATF :",{"$f":"IF($G$10<>\"\",$G$10,\"\")","v":""}]
[null,"Type d'attribution : "]
[null,{"$f":"IFERROR(IF(EXACT(UPPER($D$209),UPPER(Menus!$A$762)),\"Taux AO (avec vérif.) :\",IF(EXACT(UPPER($D$209),UPPER(Menus!$A$763)),\"Taux AO (sans vérif.) :\",\"Taux AO :\")),\"Taux AO :\")","v":"Taux AO :"},null,"Inscrire une valeur"]
[null,{"$f":"IFERROR(IF(EXACT(UPPER($D$209),UPPER(Menus!$A$763)),\"Taux Grille (sans vérif.) :\",\"Taux Grille (avec vérif.) :\"),\"Taux Grille (avec vérif.) :\")","v":"Taux Grille (avec vérif.) :"},{"$f":"IFERROR(IF(OR(ISBLANK($D$209)=TRUE,EXACT(UPPER($D$209),UPPER(Menus!$A$764))),VLOOKUP($G$12,Rexforêt_Taux_AO,3,FALSE),IF(EXACT(UPPER($D$209),UPPER(Menus!$A$762)),VLOOKUP($G$12,Rexforêt_Taux_AO,3,FALSE),IF(EXACT(UPPER($D$209),UPPER(Menus!$A$763)),VLOOKUP($G$12,Rexforêt_Taux_AO,4,FALSE),0))),0)","v":0}]
[null,"Ratio AO/Grille :",{"$f":"IF(AND(ISBLANK($C$209)=FALSE,$C$210>0),ROUND($C$209/$C$210,4),\"S/O\")","v":"S/O"}]
[null,"Grand total AO :",{"$f":"IFERROR(IF(OR(ISBLANK($C$209)=TRUE,EXACT($C$210,0)),\"S/O\",IF(AND($C$209>0,OR(EXACT(UPPER($D$209),UPPER(Menus!$A$762)),EXACT(UPPER($D$209),UPPER(Menus!$A$764)))),ROUND(VLOOKUP($G$12,RXF!$A$1:$G$55,5,FALSE)*$C$211,2),IF(AND($C$209>0,EXACT(UPPER(D$209),UPPER(Menus!$A$763))),ROUND(VLOOKUP($G$12,RXF!$A$1:$G$55,7,FALSE)*$C$211,2),0))),\"\")","v":"S/O"}]
[null,"Nom de l'entrepreneur : "]
[null,"Numéro de fournisseur : "]
[null,"Date de début :"]
[null,"Date de fin :"]
[null,"Commentaires :"]

{"sheet":"RA_BD","index":7,"n_rows":4,"n_cols":36,"rows_kept":4,"cut":false,"hidden":true,"merged":[]}
["NO_CONTRAT","NO_SEC_INT","NO_PRS","NO_UA","TY_TR_OPE","CODE_RATF","TY_TR","IN_TRACA","TY_PREP","SU_PNT_A","SU_PNT_B","SU_PNT_C","SU_PNT_D","SU_PNT_E","IN_PREP_AN","PR_DENSREC","OBJ_DENS","PR_ESPAREC","AJ_ESPAREC","PR_TYPEPLA","PC_SNT_TRT","NB_PLT","NB_PLT_SNT","NB_PLT_BND","TY_SPEC","PE_RA_C","TAUX_EX_BA","TAUX_RAPM","TAUX_VERIF","TAUX_HRA","TAUX_HPT","TAUX_DTEXE","TAUX_CEAF","TAUX_EXTOT","QTE_CONTRA","MNT_EX_IN"]
[{"$f":"'Régénération artificielle'!C202","v":0},{"$f":"'Régénération artificielle'!G6","v":0},{"$f":"'Régénération artificielle'!G8","v":0},{"$f":"'Régénération artificielle'!G5","v":0},{"$f":"'Régénération artificielle'!G9","v":0},{"$f":"'Régénération artificielle'!G10","v":0},{"$f":"IF('Régénération artificielle'!G12 = \"Inscrire une valeur\",\"\",'Régénération artificielle'!G12)","v":""},{"$f":"'Régénération artificielle'!G81","v":0},{"$f":"IF('Régénération artificielle'!G55 = \"Inscrire une valeur\",\"\",'Régénération artificielle'!G55)","v":""},{"$f":"'Régénération artificielle'!G59","v":0},{"$f":"'Régénération artificielle'!G60","v":0},{"$f":"'Régénération artificielle'!G61","v":0},{"$f":"'Régénération artificielle'!G62","v":0},{"$f":"'Régénération artificielle'!G63","v":0},{"$f":"IFERROR(_xlfn.IFS($G$2=\"Plantation uniforme, regarni manuel et plantation d'enrichissement sauf PEH\",'Régénération artificielle'!G19,$G$2=\"Regarni de sentier et plantation d'enrichissement manuel sauf PEH\",'Régénération artificielle'!G27),0)","v":0},{"$f":"IFERROR(_xlfn.IFS($G$2=\"Plantation uniforme, regarni manuel et plantation d'enrichissement sauf PEH\",'Régénération artificielle'!G20,$G$2=\"Regarni de sentier et plantation d'enrichissement manuel sauf PEH\",'Régénération artificielle'!G28,$G$2=\"Plantation uniforme et regarni en plein manuel sentier préparé sauf PEH\",'Régénération artificielle'!G37),0)","v":0},{"$f":"IFERROR(_xlfn.IFS($G$2=\"Plantation uniforme, regarni manuel et plantation d'enrichissement sauf PEH\",'Régénération artificielle'!G21,$G$2=\"Regarni de sentier et plantation d'enrichissement manuel sauf PEH\",'Régénération artificielle'!G29,$G$2=\"Plantation uniforme et regarni en plein manuel sentier préparé sauf PEH\",'Régénération artificielle'!G38),0)","v":0},{"$f":"IFERROR(_xlfn.IFS($G$2=\"Plantation uniforme, regarni manuel et plantation d'enrichissement sauf PEH\",'Régénération artificielle'!G22,$G$2=\"Regarni de sentier et plantation d'enrichissement manuel sauf PEH\",'Régénération artificielle'!G30,$G$2=\"Plantation uniforme et regarni en plein manuel sentier préparé sauf PEH\",'Régénération artificielle'!G39),0)","v":0},{"$f":"'Régénération artificielle'!G31","v":""},{"$f":"IFERROR(_xlfn.IFS($G$2=\"Plantation uniforme, regarni manuel et plantation d'enrichissement sauf PEH\",'Régénération artificielle'!G23,$G$2=\"Regarni de sentier et plantation d'enrichissement manuel sauf PEH\",'Régénération artificielle'!G32,$G$2=\"Plantation uniforme et regarni en plein manuel sentier préparé sauf PEH\",'Régénération artificielle'!G40),0)","v":0},{"$f":"'Régénération artificielle'!G33","v":0},{"$f":"IFERROR(_xlfn.IFS($G$2=\"Plantation uniforme, regarni manuel et plantation d'enrichissement sauf PEH\",'Régénération artificielle'!G24,$G$2=\"Plantation uniforme et regarni en plein manuel sentier préparé sauf PEH\",('Régénération artificielle'!G41+'Régénération artificielle'!G42),$G$2=\"Plantation uniforme et regarni mécanique (Scarificateur­planteur Bracke P­11a)\",'Régénération artificielle'!G49,$G$2=\"Regarni de sentier et plantation d'enrichissement manuel sauf PEH\",'Régénération artificielle'!G34),\"\")","v":""},{"$f":"'Régénération artificielle'!G41","v":0},{"$f":"'Régénération artificielle'!G42","v":0},{"$f":"'Régénération artificielle'!G48","v":0},{"$f":"IFERROR('Régénération artificielle'!G68,\"\")","v":0},{"$f":"IFERROR(_xlfn.IFS($G$2=\"Plantation uniforme, regarni manuel et plantation d'enrichissement sauf PEH\",'Régénération artificielle'!G88,$G$2=\"Plantation uniforme et regarni en plein manuel sentier préparé sauf PEH\",'Régénération artificielle'!G122,$G$2=\"Plantation uniforme et regarni mécanique (Scarificateur­planteur Bracke P­11a)\",'Régénération artificielle'!G157,$G$2=\"Plantation uniforme PEH\",'Régénération artificielle'!G140,$G$2=\"Regarni de sentier et plantation d'enrichissement manuel sauf PEH\",'Régénération artificielle'!G105),\"\")","v":""},{"$f":"IFERROR(_xlfn.IFS($G$2=\"Plantation uniforme, regarni manuel et plantation d'enrichissement sauf PEH\",'Régénération artificielle'!G89,$G$2=\"Plantation uniforme et regarni en plein manuel sentier préparé sauf PEH\",'Régénération artificielle'!G123,$G$2=\"Plantation uniforme PEH\",'Régénération artificielle'!G141,$G$2=\"Regarni de sentier et plantation d'enrichissement manuel sauf PEH\",'Régénération artificielle'!G106),\"\")","v":""},{"$f":"IFERROR(_xlfn.IFS($G$2=\"Plantation uniforme, regarni manuel et plantation d'enrichissement sauf PEH\",'Régénération artificielle'!G90,$G$2=\"Plantation uniforme et regarni en plein manuel sentier préparé sauf PEH\",'Régénération artificielle'!G124,$G$2=\"Plantation uniforme et regarni mécanique (Scarificateur­planteur Bracke P­11a)\",'Régénération artificielle'!G158,$G$2=\"Plantation uniforme PEH\",'Régénération artificielle'!G142,$G$2=\"Regarni de sentier et plantation d'enrichissement manuel sauf PEH\",'Régénération artificielle'!G107),\"\")","v":""},{"$f":"IFERROR(_xlfn.IFS($G$2=\"Plantation uniforme, regarni manuel et plantation d'enrichissement sauf PEH\",'Régénération artificielle'!G92,$G$2=\"Plantation uniforme et regarni en plein manuel sentier préparé sauf PEH\",'Régénération artificielle'!G126,$G$2=\"Plantation uniforme PEH\",'Régénération artificielle'!G144,$G$2=\"Regarni de sentier et plantation d'enrichissement manuel sauf PEH\",'Régénération artificielle'!G109),\"\")","v":""},{"$f":"IFERROR(_xlfn.IFS($G$2=\"Plantation uniforme et regarni mécanique (Scarificateur­planteur Bracke P­11a)\",'Régénération artificielle'!G159),\"\")","v":""},{"$f":"IFERROR(_xlfn.IFS($G$2=\"Plantation uniforme, regarni manuel et plantation d'enrichissement sauf PEH\",'Régénération artificielle'!G93,$G$2=\"Plantation uniforme et regarni en plein manuel sentier préparé sauf PEH\",'Régénération artificielle'!G127,$G$2=\"Plantation uniforme PEH\",'Régénération artificielle'!G145,$G$2=\"Regarni de sentier et plantation d'enrichissement manuel sauf PEH\",'Régénération artificielle'!G110),\"\")","v":""},{"$f":"IFERROR(_xlfn.IFS($G$2=\"Plantation uniforme, regarni manuel et plantation d'enrichissement sauf PEH\",'Régénération artificielle'!G94,$G$2=\"Plantation uniforme et regarni en plein manuel sentier préparé sauf PEH\",'Régénération artificielle'!G128,$G$2=\"Plantation uniforme et regarni mécanique (Scarificateur­planteur Bracke P­11a)\",'Régénération artificielle'!G160,$G$2=\"Plantation uniforme PEH\",'Régénération artificielle'!G146,$G$2=\"Regarni de sentier et plantation d'enrichissement manuel sauf PEH\",'Régénération artificielle'!G111),\"\")","v":""},{"$f":"IFERROR(_xlfn.IFS($G$2=\"Plantation uniforme, regarni manuel et plantation d'enrichissement sauf PEH\",'Régénération artificielle'!G96,$G$2=\"Plantation uniforme et regarni en plein manuel sentier préparé sauf PEH\",'Régénération artificielle'!G130,$G$2=\"Plantation uniforme et regarni mécanique (Scarificateur­planteur Bracke P­11a)\",'Régénération artificielle'!G162,$G$2=\"Plantation uniforme PEH\",'Régénération artificielle'!G148,$G$2=\"Regarni de sentier et plantation d'enrichissement manuel sauf PEH\",'Régénération artificielle'!G113),\"\")","v":""},{"$f":"IFERROR(_xlfn.IFS($G$2=\"Plantation uniforme, regarni manuel et plantation d'enrichissement sauf PEH\",'Régénération artificielle'!G100,$G$2=\"Plantation uniforme et regarni en plein manuel sentier préparé sauf PEH\",SUM('Régénération artificielle'!G134+'Régénération artificielle'!G135),$G$2=\"Plantation uniforme et regarni mécanique (Scarificateur­planteur Bracke P­11a)\",'Régénération artificielle'!G166,$G$2=\"Plantation uniforme PEH\",'Régénération artificielle'!G152,$G$2=\"Regarni de sentier et plantation d'enrichissement manuel sauf PEH\",'Régénération artificielle'!G117),\"\")","v":""},{"$f":"IFERROR(_xlfn.IFS($G$2=\"Plantation uniforme, regarni manuel et plantation d'enrichissement sauf PEH\",'Régénération artificielle'!G103,$G$2=\"Plantation uniforme et regarni en plein manuel sentier préparé sauf PEH\",'Régénération artificielle'!G138,$G$2=\"Plantation uniforme et regarni mécanique (Scarificateur­planteur Bracke P­11a)\",'Régénération artificielle'!G169,$G$2=\"Plantation uniforme PEH\",'Régénération artificielle'!G155,$G$2=\"Regarni de sentier et plantation d'enrichissement manuel sauf PEH\",'Régénération artificielle'!G120),\"\")","v":""}]
[]
[null,null,null,null,null,null,null,null,null,null,null,null,null,null,null,null,null,null,null,null,null,null,null,null,"Pats aussi"]

{"sheet":"Éducation de peuplement","index":8,"n_rows":302,"n_cols":7,"rows_kept":302,"cut":false,"hidden":false,"merged":[[196,0,196,5],[197,0,197,5],[198,0,198,5],[199,0,199,5],[200,0,200,5],[201,0,201,5],[202,0,202,5],[187,0,187,6],[188,0,188,5],[189,0,189,5],[190,0,190,5],[191,0,191,5],[192,0,192,5],[193,0,193,5],[194,0,194,5],[195,0,195,5],[2,0,2,5],[269,0,269,6],[160,0,160,5],[210,0,210,5],[227,0,227,5],[117,1,117,3],[107,2,107,3],[108,2,108,3],[109,2,109,3],[110,0,110,3],[155,0,155,5],[136,0,136,5],[138,0,138,5],[141,0,141,5],[142,0,142,5],[144,0,144,5],[148,0,148,5],[147,0,147,5],[130,0,130,6],[134,0,134,6],[117,0,119,0],[126,0,126,4],[104,4,104,5],[132,0,132,4],[293,3,293,4],[38,0,38,4],[40,1,40,5],[105,0,105,1],[51,0,51,6],[103,0,103,6],[97,0,97,1],[98,0,98,1],[89,0,89,1],[88,0,88,1],[90,0,90,1],[91,0,91,1],[93,0,93,1],[87,0,87,6],[92,0,92,1],[101,0,101,1],[64,0,64,1],[65,0,65,1],[66,0,66,1],[67,0,67,1],[68,0,68,1],[146,0,146,5],[117,4,119,4],[120,4,121,4],[133,0,133,4],[131,0,131,6],[120,0,121,0],[99,0,99,1],[100,0,100,1],[114,0,114,5],[116,0,116,5],[115,0,115,5],[123,0,123,6],[125,0,125,4],[128,0,128,6],[129,0,129,4],[106,2,106,3],[110,4,110,5],[102,4,102,5],[102,0,102,3],[104,2,104,3],[105,2,105,3],[127,0,127,6],[113,0,113,5],[107,0,107,1],[108,0,108,1],[109,0,109,1],[118,1,118,3],[72,0,72,1],[70,0,70,2],[81,0,81,1],[75,0,75,1],[76,0,76,1],[62,0,62,6],[52,1,52,5],[48,1,48,5],[50,0,50,5],[54,1,54,5],[53,1,53,5],[61,0,61,4],[60,0,60,6],[69,0,69,1],[9,4,9,5],[9,0,9,3],[12,0,12,5],[13,0,13,5],[21,0,21,5],[20,1,20,4],[23,2,23,5],[32,0,32,5],[42,1,42,4],[41,1,41,5],[24,2,24,5],[25,0,27,0],[25,5,27,5],[39,0,39,4],[33,0,33,6],[28,2,28,5],[29,2,29,4],[30,2,30,4],[31,2,31,4],[236,0,236,5],[19,2,19,5],[47,1,47,4],[25,2,27,3],[49,1,49,4],[37,0,37,6],[18,2,18,5],[80,0,80,1],[124,0,124,6],[96,2,96,3],[97,2,97,3],[86,0,86,2],[83,0,83,1],[95,0,95,6],[96,0,96,1],[101,2,101,3],[101,4,101,5],[105,4,105,5],[122,0,122,5],[119,1,119,3],[120,1,120,3],[121,1,121,3],[111,0,111,6],[104,0,104,1],[251,0,251,5],[107,4,107,5],[108,4,108,5],[109,4,109,5],[112,0,112,6],[94,0,94,2],[84,0,84,1],[85,0,85,1],[273,0,275,5],[273,6,275,6],[137,0,137,5],[235,0,235,5],[158,0,158,5],[159,0,159,5],[213,0,213,5],[154,0,154,5],[215,0,215,5],[140,0,140,5],[164,0,164,5],[167,0,167,5],[228,0,228,5],[222,0,222,5],[224,0,224,5],[165,0,165,5],[268,0,268,5],[252,0,252,5],[276,0,276,5],[277,0,278,5],[258,0,258,5],[253,0,253,6],[242,0,242,5],[243,0,243,5],[245,0,245,5],[249,0,249,5],[246,0,246,5],[255,0,255,5],[265,0,265,5],[264,0,264,5],[270,0,270,6],[272,0,272,6],[271,0,271,6],[266,0,266,5],[267,0,267,5],[262,0,262,5],[257,0,257,5],[259,0,259,5],[261,0,261,5],[256,0,256,5],[220,0,220,6],[219,0,219,5],[204,0,204,5],[207,0,207,5],[282,0,282,4],[277,6,278,6],[279,0,279,5],[284,2,285,4],[217,0,217,5],[239,0,239,5],[237,0,237,6],[241,0,241,5],[231,0,231,5],[263,0,263,5],[229,0,229,5],[230,0,230,5],[244,0,244,5],[260,0,260,5],[247,0,247,5],[248,0,248,5],[250,0,250,5],[254,0,254,5],[232,0,232,5],[233,0,233,5],[139,0,139,5],[156,0,156,5],[173,0,173,5],[170,0,170,6],[171,0,171,5],[0,0,0,6],[3,0,3,6],[57,0,57,6],[10,0,10,6],[14,0,14,6],[15,0,15,6],[1,0,1,6],[22,0,22,6],[34,2,34,5],[35,2,35,4],[36,0,36,5],[44,0,44,5],[43,0,43,5],[46,1,46,5],[7,0,7,5],[8,0,8,5],[11,0,11,5],[4,0,4,5],[5,0,5,5],[6,0,6,5],[45,0,45,6],[63,0,63,6],[98,4,98,5],[99,4,99,5],[100,4,100,5],[82,0,82,1],[71,0,71,6],[79,0,79,6],[98,2,98,3],[99,2,99,3],[100,2,100,3],[96,4,96,5],[97,4,97,5],[77,0,77,1],[78,0,78,2],[59,0,59,6],[73,0,73,1],[74,0,74,1],[55,1,55,5],[56,0,56,5],[58,0,58,6],[17,0,17,6],[16,0,16,6],[106,4,106,5],[106,0,106,1],[240,0,240,5],[223,0,223,5],[206,0,206,5],[180,0,180,5],[181,0,181,5],[182,0,182,5],[183,0,183,5],[184,0,184,5],[185,0,185,5],[186,0,186,5],[208,0,208,5],[209,0,209,5],[238,0,238,5],[226,0,226,5],[205,0,205,5],[234,0,234,5],[172,0,172,5],[174,0,174,5],[175,0,175,5],[176,0,176,5],[163,0,163,5],[161,0,161,5],[216,0,216,5],[225,0,225,5],[203,0,203,6],[211,0,211,5],[212,0,212,5],[218,0,218,5],[221,0,221,5],[214,0,214,5],[135,0,135,6],[162,0,162,5],[168,0,168,5],[157,0,157,5],[169,0,169,5],[153,0,153,6],[145,0,145,5],[143,0,143,5],[152,0,152,5],[149,0,149,5],[150,0,150,5],[151,0,151,5],[166,0,166,5],[177,0,177,5],[178,0,178,5],[179,0,179,5]]}
[]
["Annexe au calcul des taux des traitements non commerciaux 2024-2025                  \n   Éducation de peuplement\nForêt publique"]
[" *** Veuillez saisir les informations dans les cellules blanches seulement ***",null,null,null,null,null,"Version 2 : 2024-04-19"]
["Identification"]
["Unité d'aménagement (UA)"]
["Secteur d'intervention"]
["Unité de compilation"]
["Numéro de la prescription"]
["Traitement (code DICA)"]
["Traitement (code RATF)",null,null,null,{"$f":"IFERROR(VLOOKUP($G$9,Menus!$A$572:$D$594,3,FALSE),Menus!$C$594)","v":"EP_Codes_RATF"}]
["Traitement d'éducation de peuplement à taux variable"]
["Traitement",null,null,null,null,null,"Inscrire une valeur"]
["Taux de base",null,null,null,null,null,{"$f":"IFERROR(VLOOKUP($G$12,Menus!$A$436:$C$444,2,FALSE),\"\")","v":"S/O"}]
["Unité de mesure",null,null,null,null,null,{"$f":"IFERROR(VLOOKUP($G$12,Menus!$A$436:$C$444,3,FALSE),\"\")","v":"S/O"}]
["Taux d'exécution à déterminer selon la formule suivante"]
[{"$f":"IFERROR(VLOOKUP($G$12,Formules,3,FALSE),\"\")","v":""}]
[{"$f":"\"Valeurs spécifiques à remplir selon le traitement - \"&$G$12","v":"Valeurs spécifiques à remplir selon le traitement - Inscrire une valeur"}]
["Valeurs spécifiques à remplir selon le traitement - Dégagement mécanique d'un peuplement résineux ou mixte à dominance de résineux (MR-FI)"]
["RECFFE","Recouvrement FFÉ","Pourcentage de recouvrement des framboisiers, des fougères et des épilobes (FFÉ)"]
["DI","Densité initiale (tiges/hectare)","Dénombrement de toutes les tiges de 1 m et plus de hauteur\n•  Inventaire un an avant exécution : 80 cm"]
["MODE","Mode d'établissement de la régénération",null,null,null,{"$f":"IFERROR(VLOOKUP($G$21,Menus!$B$447:$C$448,2,FALSE),\"\")","v":""}]
["Taux calculé à partir de l'équation et des variables reliées au traitement",null,null,null,null,null,{"$f":"IFERROR(ROUND(IF(OR(ISBLANK($G$19),ISBLANK($G$20),ISBLANK($G$21))=FALSE,'Calculs grille'!$L$79+('Calculs grille'!$L$80*$G$19*100)+('Calculs grille'!$L$81*$G$20)+('Calculs grille'!$L$82*$F$21),0),2),0)","v":0}]
["Valeurs spécifiques à remplir selon le traitement - Nettoiement d'un peuplement résineux ou mixte à dominance résineux (MR-FI)"]
["DI","Densité initiale (tiges/hectare)","Dénombrement de toutes les tiges dont le diamètre à hauteur de souche (15 cm) est supérieur à 1,5 cm\n•  Inventaire un an avant exécution : Résineux > 1,0 m et Feuillus > 1,6 m de hauteur\n•  Inventaire même année qu'exécution : Résineux > 1,2 m et Feuillus > 1,8 m de hauteur\n•  Le dénombrement des tiges peut être effectué à partir de la hauteur de la tige ou du\n    diamètre à hauteur de souche après entente avec les autorités"]
["SRLC","Stocking résineux libre de croître (%)","Nombre de placettes contenant un résineux libre de croître sur le nombre\ntotal de placettes"]
["TPGI","Peuplements","Facteur d'ajustement",null,null,{"$f":"IFERROR(VLOOKUP(CONCATENATE($G$26,\" - \",$G$27,\" - \",$G$28),Menus!$A$472:$B$475,2,FALSE),\"\")","v":""}]
[null,"Gradient d'intensité",null,null,{"$f":"IFERROR(IF(EXACT($G$26,Menus!$A$460),\"EP_Nettoiement_Gradiant\",IF(EXACT($G$26,Menus!$A$461),\"EP_Nettoiement_Gradiant2\",\"\")),\"\")","v":""}]
[null,"Type nettoiement",null,null,{"$f":"IFERROR(IF(OR(ISBLANK($G$26),ISBLANK($G$27))=TRUE,\"\",IF(AND(EXACT($G$26,Menus!$A$461),EXACT('Éducation de peuplement'!$G$27,Menus!$A$465)),\"EP_Nettoiement_Type_Sans_objet\",\"EP_Nettoiement_Type\")),\"\")","v":""}]
["SFAC","Stocking des feuillus\nà contrôler (%)","Nombre de placettes contenant un feuillu à contrôler sur le nombre\ntotal de placettes"]
["CP1","Composition du peuplement 1","Facteur d'ajustement lié à la hauteur moyenne des\ntiges à couper",null,null,{"$f":"IFERROR(VLOOKUP(G30,PATS_EP_NETSCOUV_Variable_CP1_Valeurs,2,FALSE),\"\")","v":""}]
["CP2","Composition du peuplement 2","Facteur d'ajustement lié au pourcentage de\nprélèvement à la récolte",null,null,{"$f":"IFERROR(VLOOKUP($G$31,PATS_EP_NETSCOUV_Variable_CP2_Valeurs,2,FALSE),\"\")","v":""}]
["CP3","Composition du peuplement 3","Facteur d'ajustement lié au mode d'opération à la\nrécolte",null,null,{"$f":"IFERROR(VLOOKUP($G$32,PATS_EP_NETSCOUV_Variable_CP3_Valeurs,2,FALSE),\"\")","v":""}]
["Taux calculé à partir de l'équation et des variables reliées au traitement",null,null,null,null,null,{"$f":"IFERROR(_xlfn.IFS(OR(G12=\"Nettoiement d'un peuplement résineux ou mixte à dominance de résineux (MR-FI) - Gradient d'intensité de la sylviculture de base\",G12=\"Nettoiement d'un peuplement résineux ou mixte à dominance de résineux (MR-FI) - Gradient d'intensité de la sylviculture d'intensive/élite\"),(ROUND((_xlfn.IFS(G12=Menus!A439,IF(OR(ISBLANK($G$24),ISBLANK($G$25),$G$25>1,$G$25<0,ISBLANK($G$26),ISBLANK($G$27),ISBLANK($G$28))=FALSE,(('Calculs grille'!$L$83+('Calculs grille'!$L$84*$G$24)-(ABS('Calculs grille'!$L$85)*$G$25))*$F$26),0),G12=Menus!A440,IF(OR(ISBLANK($G$24),ISBLANK($G$25),$G$25>1,$G$25<0)=FALSE,(('Calculs grille'!$L$88+('Calculs grille'!$L$89*$G$24)-(ABS('Calculs grille'!$L$90)*$G$25)))))),2)),G12=\"Nettoiement mécanique sous couvert d’un peuplement de feuillus tolérants (contenir l’envahissement du hêtre à grandes feuilles)\",ROUND(IF(OR(ISBLANK($G$24),ISBLANK($G$29),ISBLANK($G$30),ISBLANK($G$31),ISBLANK($G$32),$G$29>1,$G$29<0),0,('Calculs grille'!$L$131+('Calculs grille'!$L$132*$G$24)-(ABS('Calculs grille'!$L$133)*(1-$G$29)))*SUM($F$30:$F$32)),2)),0)","v":0}]
["Valeurs spécifiques à remplir selon le traitement - EPC systématique d'un peuplement résineux ou de peuplier"]
["DI","Densité initiale (tiges/hectare)","Dénombrement de toutes les tiges dont le diamètre à hauteur de souche (15 cm) est supérieur à 1,5 cm\n•  Inventaire un an avant exécution : Résineux > 1,0 m et Feuillus > 1,6 m de hauteur\n•  Inventaire même année qu'exécution : Résineux > 1,2 m et Feuillus > 1,8 m de hauteur\n•  Le dénombrement des tiges peut être effectué à partir de la hauteur de la tige ou du\n    diamètre à hauteur de souche après entente avec les autorités"]
["TP","Type de composition visée","Facteur d'ajustement",null,null,{"$f":"IFERROR(VLOOKUP($G$36,Menus!$A$451:$B$452,2,FALSE),\"\")","v":""}]
["Taux calculé à partir de l'équation et des variables reliées au traitement",null,null,null,null,null,{"$f":"IFERROR(ROUND(IF($G$35<EP_EPCSYS_Variable_DI_Mininale,0,IF(AND(ISBLANK($G$35),ISBLANK($G$36))=FALSE,('Calculs grille'!$L$91+('Calculs grille'!$L$92*LN($G$35)-'Calculs grille'!$L$93)*$F$36),0)),2),0)","v":0}]
["Valeurs spécifiques à remplir selon le traitement - EPC par puits de lumière ET Taille de formation avec martelage"]
["Éclaircie précommerciale",null,null,null,null,{"$f":"IFERROR(VLOOKUP($G$39,Menus!$B$486:$C$487,2,FALSE),\"\")","v":""}]
["Martelage",null,null,null,null,{"$f":"IFERROR(VLOOKUP($G$40,Menus!$B$482:$C$483,2,FALSE),\"\")","v":""}]
["DENSTIGE","Densité des arbres à éclaircir et/ou marteler et/ou tailler à l'hectare"]
["HTTIGE","Hauteur totale des arbres à éclaircir et/ou marteler et/ou tailler (m)"]
["TAIL","Taille de formation",null,null,null,{"$f":"IFERROR(VLOOKUP($G$43,Menus!$B$478:$C$479,2,FALSE),\"\")","v":""}]
[{"$f":"IF(ISBLANK($G$39)=TRUE,\"Taux calculé pour le traitement à partir de l'équation et des variables\",\"Taux calculé pour le traitement à partir de l'équation et des variables - \"&$G$39)","v":"Taux calculé pour le traitement à partir de l'équation et des variables"},null,null,null,null,null,{"$f":"IFERROR(ROUND(IF(OR(ISBLANK($G$39),ISBLANK($G$41),ISBLANK($G$42))=FALSE,(('Calculs grille'!$L$97*$G$41*EXP('Calculs grille'!$L$98*$G$42)+'Calculs grille'!$L$104)*$F$39),0),2),0)","v":0}]
[{"$f":"\"Taux calculé pour \"&IF(AND(EXACT($F$43,0),EXACT($F$40,1))=TRUE,\"le martelage sans taille de formation\",IF(AND(EXACT($F$43,1),EXACT($F$40,0))=TRUE,\"la taille de formation sans martelage\",IF(AND(EXACT($F$43,1),EXACT($F$40,1))=TRUE,\"le martelage et la taille de formation\",\"la taille de formation et le martelage\")))","v":"Taux calculé pour la taille de formation et le martelage"},null,null,null,null,null,{"$f":"IFERROR(ROUND(IF(AND(EXACT($F$40,1),EXACT($F$43,1))=TRUE,(('Calculs grille'!$L$99*$G$41/(('Calculs grille'!$L$100*$G$41)+'Calculs grille'!$L$101)+'Calculs grille'!$L$102*$F$43)+'Calculs grille'!$L$106+'Calculs grille'!$L$107),IF(AND(EXACT($F$40,1),EXACT($F$43,0))=TRUE,(('Calculs grille'!$L$99*$G$41/(('Calculs grille'!$L$100*$G$41)+'Calculs grille'!$L$101)+'Calculs grille'!$L$102*$F$43)+'Calculs grille'!$L$105),IF(AND(EXACT($F$39,0),EXACT($F$40,0),EXACT($F$43,1))=TRUE,\"Cette combinaison n'est pas possible\",IF(AND(EXACT($F$40,0),EXACT($F$43,1))=TRUE,(('Calculs grille'!$L$99*$G$41/(('Calculs grille'!$L$100*$G$41)+'Calculs grille'!$L$101)+'Calculs grille'!$L$102*$F$43)+'Calculs grille'!$L$107),0)))),2),0)","v":0}]
["Valeurs spécifiques à remplir selon le traitement - Élagage artificiel pour le pin blanc et le pin rouge"]
["BRAN","Nombre de branches à couper par tige"]
["LONGELA","Longueur d'élagage ",null,null,null,{"$f":"IFERROR(VLOOKUP($G$48,Menus!$B$490:$C$491,2,FALSE),\"\")","v":""}]
["DENSELA","Densité des arbres à élaguer à l'hectare"]
["MP","Martelage positif selon le nombre de tiges à l'hectare",null,null,null,{"$f":"IFERROR(VLOOKUP($G$50,Menus!$A$494:$B$496,2,FALSE),\"\")","v":""}]
["Taux calculé à partir de l'équation et des variables reliées au traitement",null,null,null,null,null,{"$f":"IFERROR(ROUND(IF(OR(ISBLANK($G$47),ISBLANK($G$48),ISBLANK($G$49),ISBLANK($G$50))=FALSE,((('Calculs grille'!$L$108*$G$47+'Calculs grille'!$L$109+'Calculs grille'!$L$110*$F$48)+(-'Calculs grille'!$L$111*LN($G$49)+'Calculs grille'!$L$112))*$G$49+$F$50+'Calculs grille'!$L$115),0),2),0)","v":0}]
["Valeurs spécifiques à remplir selon le traitement - Taille phytosanitaire"]
["BRAN","Nombre de branches à couper par tige"]
["DENSELA","Densité des arbres à élaguer à l'hectare"]
["DENSCO","Densité des arbres à couper à l'hectare"]
["DENSTF","Densité des arbres avec taille de formation à l'hectare"]
["Taux calculé à partir de l'équation et des variables reliées au traitement",null,null,null,null,null,{"$f":"IFERROR(ROUND(IF(OR(ISBLANK($G$53),ISBLANK($G$54),ISBLANK($G$55),ISBLANK($G$56))=FALSE,((('Calculs grille'!$L$116*$G$53+'Calculs grille'!$L$117+(-'Calculs grille'!$L$118*LN($G$54)+'Calculs grille'!$L$119))*$G$54)+'Calculs grille'!$L$120*$G$55+'Calculs grille'!$L$121*$G$56+'Calculs grille'!$L$122),0),2),0)","v":0}]
[{"$f":"\"Majorations applicables à l'exécution - \"&$G$12&\" - Voir l'onglet « Étapes calcul majoration »\"","v":"Majorations applicables à l'exécution - Inscrire une valeur - Voir l'onglet « Étapes calcul majoration »"}]
[{"$f":"IFERROR(VLOOKUP($G$12,Majorations_applicables,11,FALSE),\"\")","v":""}]
["Majoration pour le type de préparation de terrain (DEGPM)"]
["Majoration pour le type de préparation de terrain (DEGPM) - Dégagement mécanique"]
["Type de préparation de terrain  (DEGPM)",null,null,null,null,{"$f":"IFERROR(VLOOKUP($G$62,Menus!$A$597:$B$598,2,FALSE),\"\")","v":""},"Inscrire une valeur"]
["Majoration pour la pente (PE2)"]
["Majoration pour la pente (PE2) - Dégagement mécanique d'un peuplement résineux ou mixte à dominance de résineux (MR-FI)"]
["Classe de pente numérique",null,"Taux calculé","Écart","Superficie nette (ha) excluant les andains","Superficie brute (hectare)","% andains"]
["Pente A",null,{"$f":"IFERROR($G$22*SUM(1,$F$62)*(1+VLOOKUP($A$66,'Majorations applicables'!$A$76:$B$80,2,FALSE)),0)","v":0},{"$f":"IFERROR($C$66-$G$22*SUM(1,$F$62),0)","v":0},{"$f":"IFERROR(ROUND($F$66*(1-$G$66),2),0)","v":0}]
["Pente B",null,{"$f":"IFERROR($G$22*SUM(1,$F$62)*(1+VLOOKUP($A$67,'Majorations applicables'!$A$76:$B$80,2,FALSE)),0)","v":0},{"$f":"IFERROR($C$67-$G$22*SUM(1,$F$62),0)","v":0},{"$f":"IFERROR(ROUND($F$67*(1-$G$67),2),0)","v":0}]
["Pente C",null,{"$f":"IFERROR($G$22*SUM(1,$F$62)*(1+VLOOKUP($A$68,'Majorations applicables'!$A$76:$B$80,2,FALSE)),0)","v":0},{"$f":"IFERROR($C$68-$G$22*SUM(1,$F$62),0)","v":0},{"$f":"IFERROR(ROUND($F$68*(1-$G$68),2),0)","v":0}]
["Pente D",null,{"$f":"IFERROR($G$22*SUM(1,$F$62)*(1+VLOOKUP($A$69,'Majorations applicables'!$A$76:$B$80,2,FALSE)),0)","v":0},{"$f":"IFERROR($C$69-$G$22*SUM(1,$F$62),0)","v":0},{"$f":"IFERROR(ROUND($F$69*(1-$G$69),2),0)","v":0}]
["Pente E et plus",null,{"$f":"IFERROR($G$22*SUM(1,$F$62)*(1+VLOOKUP($A$70,'Majorations applicables'!$A$76:$B$80,2,FALSE)),0)","v":0},{"$f":"IFERROR($C$70-$G$22*SUM(1,$F$62),0)","v":0},{"$f":"IFERROR(ROUND($F$70*(1-$G$70),2),0)","v":0}]
[null,null,null,"Total",{"$f":"IFERROR(SUM($E$66:$E$70),0)","v":0},{"$f":"IFERROR(SUM($F$66:$F$70),0)","v":0},{"$f":"IFERROR((SUMPRODUCT($G$66:$G$70,$F$66:$F$70)/$F$71),0)","v":0}]
["Majoration pour la pente (PE2) - Nettoiement d'un peuplement résineux ou mixte à dominance de résineux (MR-FI) et nettoiement sous couvert d’un peuplement de feuillus tolérants"]
["Classe de pente numérique",null,"Taux calculé","Écart","Superficie nette (ha) excluant les andains","Superficie brute (hectare)","% andains"]
["Pente A",null,{"$f":"IFERROR($G$33*(1+VLOOKUP($A$74,'Majorations applicables'!$A$76:$B$80,2,FALSE)),0)","v":0},{"$f":"IFERROR($C$74-$G$33,0)","v":0},{"$f":"IFERROR(ROUND($F$74*(1-$G$74),2),0)","v":0}]
["Pente B",null,{"$f":"IFERROR($G$33*(1+VLOOKUP($A$75,'Majorations applicables'!$A$76:$B$80,2,FALSE)),0)","v":0},{"$f":"IFERROR($C$75-$G$33,0)","v":0},{"$f":"IFERROR(ROUND($F$75*(1-$G$75),2),0)","v":0}]
["Pente C",null,{"$f":"IFERROR($G$33*(1+VLOOKUP($A$76,'Majorations applicables'!$A$76:$B$80,2,FALSE)),0)","v":0},{"$f":"IFERROR($C$76-$G$33,0)","v":0},{"$f":"IFERROR(ROUND($F$76*(1-$G$76),2),0)","v":0}]
["Pente D",null,{"$f":"IFERROR($G$33*(1+VLOOKUP($A$77,'Majorations applicables'!$A$76:$B$80,2,FALSE)),0)","v":0},{"$f":"IFERROR($C$77-$G$33,0)","v":0},{"$f":"IFERROR(ROUND($F$77*(1-$G$77),2),0)","v":0}]
["Pente E et plus",null,{"$f":"IFERROR($G$33*(1+VLOOKUP($A$78,'Majorations applicables'!$A$76:$B$80,2,FALSE)),0)","v":0},{"$f":"IFERROR($C$78-$G$33,0)","v":0},{"$f":"IFERROR(ROUND($F$78*(1-$G$78),2),0)","v":0}]
[null,null,null,"Total",{"$f":"IFERROR(SUM($E$74:$E$78),0)","v":0},{"$f":"IFERROR(SUM($F$74:$F$78),0)","v":0},{"$f":"IFERROR((SUMPRODUCT($G$74:$G$78,$F$74:$F$78)/$F$79),0)","v":0}]
["Majoration pour la pente (PE2) -EPC systématique d'un peuplement résineux ou de peuplier"]
["Classe de pente numérique",null,"Taux calculé","Écart","Superficie nette (ha) excluant les andains","Superficie brute (hectare)","% andains"]
["Pente A",null,{"$f":"IFERROR($G$37*(1+VLOOKUP($A$82,'Majorations applicables'!$A$76:$B$80,2,FALSE)),0)","v":0},{"$f":"IFERROR($C$82-$G$37,0)","v":0},{"$f":"IFERROR(ROUND($F$82*(1-$G$82),2),0)","v":0}]
["Pente B",null,{"$f":"IFERROR($G$37*(1+VLOOKUP($A$83,'Majorations applicables'!$A$76:$B$80,2,FALSE)),0)","v":0},{"$f":"IFERROR($C$83-$G$37,0)","v":0},{"$f":"IFERROR(ROUND($F$83*(1-$G$83),2),0)","v":0}]
["Pente C",null,{"$f":"IFERROR($G$37*(1+VLOOKUP($A$84,'Majorations applicables'!$A$76:$B$80,2,FALSE)),0)","v":0},{"$f":"IFERROR($C$84-$G$37,0)","v":0},{"$f":"IFERROR(ROUND($F$84*(1-$G$84),2),0)","v":0}]
["Pente D",null,{"$f":"IFERROR($G$37*(1+VLOOKUP($A$85,'Majorations applicables'!$A$76:$B$80,2,FALSE)),0)","v":0},{"$f":"IFERROR($C$85-$G$37,0)","v":0},{"$f":"IFERROR(ROUND($F$85*(1-$G$85),2),0)","v":0}]
["Pente E et plus",null,{"$f":"IFERROR($G$37*(1+VLOOKUP($A$86,'Majorations applicables'!$A$76:$B$80,2,FALSE)),0)","v":0},{"$f":"IFERROR($C$86-$G$37,0)","v":0},{"$f":"IFERROR(ROUND($F$86*(1-$G$86),2),0)","v":0}]
[null,null,null,"Total",{"$f":"IFERROR(SUM($E$82:$E$86),0)","v":0},{"$f":"IFERROR(SUM($F$82:$F$86),0)","v":0},{"$f":"IFERROR((SUMPRODUCT($G$82:$G$86,$F$82:$F$86)/$F$87),0)","v":0}]
["Majoration pour la pente (PE2) - EPC par puits de lumière ET Taille de formation avec martelage"]
["Classe de pente numérique",null,"Taux calculé","Écart","Superficie nette (ha) excluant les andains","Superficie brute (hectare)","% andains"]
["Pente A",null,{"$f":"IFERROR(SUM($G$44:$G$45)*(1+VLOOKUP($A$90,'Majorations applicables'!$A$76:$B$80,2,FALSE)),0)","v":0},{"$f":"IFERROR($C$90-($G$44+$G$45),0)","v":0},{"$f":"IFERROR(ROUND($F$90*(1-$G$90),2),0)","v":0}]
["Pente B",null,{"$f":"IFERROR(SUM($G$44:$G$45)*(1+VLOOKUP($A$91,'Majorations applicables'!$A$76:$B$80,2,FALSE)),0)","v":0},{"$f":"IFERROR($C$91-($G$44+$G$45),0)","v":0},{"$f":"IFERROR(ROUND($F$91*(1-$G$91),2),0)","v":0}]
["Pente C",null,{"$f":"IFERROR(SUM($G$44:$G$45)*(1+VLOOKUP($A$92,'Majorations applicables'!$A$76:$B$80,2,FALSE)),0)","v":0},{"$f":"IFERROR($C$92-($G$44+$G$45),0)","v":0},{"$f":"IFERROR(ROUND($F$92*(1-$G$92),2),0)","v":0}]
["Pente D",null,{"$f":"IFERROR(SUM($G$44:$G$45)*(1+VLOOKUP($A$93,'Majorations applicables'!$A$76:$B$80,2,FALSE)),0)","v":0},{"$f":"IFERROR($C$93-($G$44+$G$45),0)","v":0},{"$f":"IFERROR(ROUND($F$93*(1-$G$93),2),0)","v":0}]
["Pente E et plus",null,{"$f":"IFERROR(SUM($G$44:$G$45)*(1+VLOOKUP($A$94,'Majorations applicables'!$A$76:$B$80,2,FALSE)),0)","v":0},{"$f":"IFERROR($C$94-($G$44+$G$45),0)","v":0},{"$f":"IFERROR(ROUND($F$94*(1-$G$94),2),0)","v":0}]
[null,null,null,"Total",{"$f":"IFERROR(SUM($E$90:$E$94),0)","v":0},{"$f":"IFERROR(SUM($F$90:$F$94),0)","v":0},{"$f":"IFERROR((SUMPRODUCT($G$90:$G$94,$F$90:$F$94)/$F$95),0)","v":0}]
["Majoration pour la pente (PE2) - Élagage artificiel pour le pin blanc et le pin rouge"]
["Classe de pente numérique",null,"Taux calculé",null,"Écart",null,"Superficie (hectare)"]
["Pente A",null,{"$f":"IFERROR($G$51*(1+VLOOKUP($A$98,'Majorations applicables'!$A$76:$B$80,2,FALSE)),0)","v":0},null,{"$f":"IFERROR($C$98-$G$51,0)","v":0}]
["Pente B",null,{"$f":"IFERROR($G$51*(1+VLOOKUP($A$99,'Majorations applicables'!$A$76:$B$80,2,FALSE)),0)","v":0},null,{"$f":"IFERROR($C$99-$G$51,0)","v":0}]
["Pente C",null,{"$f":"IFERROR($G$51*(1+VLOOKUP($A$100,'Majorations applicables'!$A$76:$B$80,2,FALSE)),0)","v":0},null,{"$f":"IFERROR($C$100-$G$51,0)","v":0}]
["Pente D",null,{"$f":"IFERROR($G$51*(1+VLOOKUP($A$101,'Majorations applicables'!$A$76:$B$80,2,FALSE)),0)","v":0},null,{"$f":"IFERROR($C$101-$G$51,0)","v":0}]
["Pente E et plus",null,{"$f":"IFERROR($G$51*(1+VLOOKUP($A$102,'Majorations applicables'!$A$76:$B$80,2,FALSE)),0)","v":0},null,{"$f":"IFERROR($C$102-$G$51,0)","v":0}]
[null,null,null,null,"Total",null,{"$f":"IFERROR(SUM($G$98:$G$102),0)","v":0}]
["Majoration pour la pente (PE2) - Taille phytosanitaire"]
["Classe de pente numérique",null,"Taux calculé",null,"Écart",null,"Superficie (hectare)"]
["Pente A",null,{"$f":"IFERROR($G$57*(1+VLOOKUP($A$106,'Majorations applicables'!$A$76:$B$80,2,FALSE)),0)","v":0},null,{"$f":"IFERROR($C$106-$G$57,0)","v":0}]
["Pente B",null,{"$f":"IFERROR($G$57*(1+VLOOKUP($A$107,'Majorations applicables'!$A$76:$B$80,2,FALSE)),0)","v":0},null,{"$f":"IFERROR($C$107-$G$57,0)","v":0}]
["Pente C",null,{"$f":"IFERROR($G$57*(1+VLOOKUP($A$108,'Majorations applicables'!$A$76:$B$80,2,FALSE)),0)","v":0},null,{"$f":"IFERROR($C$108-$G$57,0)","v":0}]
["Pente D",null,{"$f":"IFERROR($G$57*(1+VLOOKUP($A$109,'Majorations applicables'!$A$76:$B$80,2,FALSE)),0)","v":0},null,{"$f":"IFERROR($C$109-$G$57,0)","v":0}]
["Pente E et plus",null,{"$f":"IFERROR($G$57*(1+VLOOKUP($A$110,'Majorations applicables'!$A$76:$B$80,2,FALSE)),0)","v":0},null,{"$f":"IFERROR($C$110-$G$57,0)","v":0}]
[null,null,null,null,"Total",null,{"$f":"IFERROR(SUM($G$106:$G$110),0)","v":0}]
["Inventaire de conformité (Vérification)"]
["Inventaire de conformité - Tous"]
["Délimitation des secteurs (taux par kilomètre délimité)"]
["Nombre de kilomètres délimités"]
["Inventaire (taux par placette inventoriée)"]
["Nombre de placettes inventoriées par hectare"]
["Critère #5","Coefficient de distribution total des arbres d'avenir d'essences désirées (éclaircis systématiquement ou par puits de lumière, nettoyés, dégagés ou non)",null,null,{"$f":"IFERROR(SUM($F$118:$F$120)*'Calculs grille'!$L$166,0)","v":0},{"$f":"IFERROR(IF(EXACT(UPPER($G$118),UPPER(Menus!$A$507)),1,IF(EXACT(UPPER($G$118),UPPER(Menus!$A$508)),0,\"\")),\"\")","v":""}]
[null,"Coefficient de distribution des arbres d'essence en voie de raréfaction",null,null,null,{"$f":"IFERROR(IF(EXACT(UPPER($G$119),UPPER(Menus!$A$507)),1,IF(EXACT(UPPER($G$119),UPPER(Menus!$A$508)),0,\"\")),\"\")","v":""}]
[null,"Coefficient de distribution des arbres feuillus d'essence commerciale",null,null,null,{"$f":"IFERROR(IF(EXACT(UPPER($G$120),UPPER(Menus!$A$507)),1,IF(EXACT(UPPER($G$120),UPPER(Menus!$A$508)),0,\"\")),\"\")","v":""}]
["Critère #6","Arbre étude",null,null,{"$f":"IFERROR(SUM($F$121:$F$122)*'Calculs grille'!$L$168,0)","v":0},{"$f":"IFERROR(IF(EXACT(UPPER($G$121),UPPER(Menus!$A$507)),1,IF(EXACT(UPPER($G$121),UPPER(Menus!$A$508)),0,\"\")),\"\")","v":""}]
[null,"Nombre de tiges résineuses (éclaircies systématiquement ou par puits de lumière, nettoyées, dégagées ou non)",null,null,null,{"$f":"IFERROR(IF(EXACT(UPPER($G$122),UPPER(Menus!$A$507)),1,IF(EXACT(UPPER($G$122),UPPER(Menus!$A$508)),0,\"\")),\"\")","v":""}]
["Nombre total de critères",null,null,null,null,null,{"$f":"SUM($F$118:$F$122)","v":0}]
["Majoration pour l'hébergement, le transport collectif et la distance ou la durée du déplacement (HEP, TCEP et DTEXE)"]
["Majoration pour l'hébergement, le transport collectif et la distance ou la durée du déplacement (HEP, TCEP et DTEXE) - Tous "]
["Hébergement (HEP) ou transport collectif (TCEP)",null,null,null,null,{"$f":"IFERROR(IF(ISBLANK($G$126)=TRUE,\"\",IFERROR(VLOOKUP($G$126,Menus!$A$511:$B$515,2,FALSE),IF($G$126<=Menus!$B$513,ROUND($G$126,4),\"Max \"&TEXT(Menus!$B$513,\"0,0%\")))),\"\")","v":""}]
["Distance ou durée du déplacement (DTEXE)",null,null,null,null,{"$f":"IFERROR(VLOOKUP($G$127,Menus!$A$523:$B$525,2,FALSE),\"\")","v":""}]
["Majoration pour la certification (CEAF3 ou ISO3)"]
["Majoration pour la certification (CEAF3 ou ISO3) - Tous"]
["Certification (CEAF3 ou ISO3)",null,null,null,null,{"$f":"IFERROR(VLOOKUP($G$130,Menus!$A$533:$B$535,2,FALSE),\"\")","v":""}]
["Inventaire de conformité - Majoration pour l'hébergement et la distance ou la durée du déplacement (HPVTM et DTPVTM)"]
["Inventaire de conformité - Majoration pour l'hébergement et la distance ou la durée du déplacement (HPVTM et DTPVTM) - Tous"]
["Hébergement (HPVTM)",null,null,null,null,{"$f":"IFERROR(IF(ISBLANK($G$133)=TRUE,\"\",IFERROR(VLOOKUP($G$133,Menus!$A$518:$B$520,2,FALSE),IF($G$133<=Menus!$B$519,ROUND($G$133,4),\"Max \"&TEXT(Menus!$B$519,\"0,0%\")))),\"\")","v":""}]
["Distance ou durée du déplacement (DTPVTM)",null,null,null,null,{"$f":"IFERROR(VLOOKUP($G$134,Menus!$A$528:$B$530,2,FALSE),\"\")","v":""}]
["Totaux"]
["Calculs - Dégagement mécanique d'un peuplement résineux ou mixte à dominance de résineux (MR-FI)"]
["Taux d'exécution de base",null,null,null,null,null,{"$f":"IFERROR($G$22,0)","v":0}]
["Taux DEGPM",null,null,null,null,null,{"$f":"IFERROR($G$137*SUM($F$62),0)","v":0}]
["Taux PE2",null,null,null,null,null,{"$f":"IFERROR(ROUND((SUMPRODUCT($D$66:$D$70,$E$66:$E$70)/$E$71),2),0)","v":0}]
["Taux VERIF",null,null,null,null,null,{"$f":"IFERROR($G$116*$G$117/$E$71,0)","v":0}]
["Taux sous-total exécution",null,null,null,null,null,{"$f":"IFERROR(SUM($G$137:$G$139),0)","v":0}]
["Taux HEP ou TCEP",null,null,null,null,null,{"$f":"IFERROR((SUM($G$137:$G$140)*$F$126),0)","v":0}]
["Taux DTEXE",null,null,null,null,null,{"$f":"IFERROR((SUM($G$137:$G$140)*$F$127),0)","v":0}]
["Taux CEAF3 ou ISO3",null,null,null,null,null,{"$f":"IFERROR((SUM($G$137:$G$140,G142:G143)*$F$130),0)","v":0}]
["Taux exécution total, majorations, réductions admissibles et inventaire conformité total",null,null,null,null,null,{"$f":"IFERROR((ROUND(SUM($G$137:$G$140,G142:G144),2)),0)","v":0}]
["Taux inventaire de conformité",null,null,null,null,null,{"$f":"IFERROR(((($G$114*$G$115)+($G$116*$G$117)+SUM($F$118:$F$120)*'Calculs grille'!$L$166*$G$117+SUM($F$121:$F$122)*'Calculs grille'!L$168*$G$117)/$G$149),0)","v":0}]
["Taux HPVTM et/ou DTPVTM",null,null,null,null,null,{"$f":"IFERROR(($G$146*SUM($F$133:$F$134)),0)","v":0}]
["Taux exécution et inventaire de conformité total (sur la base de la superficie nette)",null,null,null,null,null,{"$f":"IFERROR((ROUND(SUM($G$145:$G$147),2)),0)","v":0}]
["Superficie brute",null,null,null,null,null,{"$f":"IFERROR(ROUND($F$71,2),0)","v":0}]
["Superficie nette (excluant les andains)",null,null,null,null,null,{"$f":"IFERROR(ROUND($E$71,2),0)","v":0}]
["Total exécution",null,null,null,null,null,{"$f":"IFERROR(ROUND($G$145*$G$150,2),0)","v":0}]
["Total inventaire de conformité",null,null,null,null,null,{"$f":"IFERROR(ROUND(SUM($G$140)*$G$149,2),0)","v":0}]
["Grand total admissible",null,null,null,null,null,{"$f":"IFERROR((G145*G150),0)","v":0}]
["Calculs - Nettoiement d'un peuplement résineux ou mixte à dominance de résineux (MR-FI) - Gradient d'intensité de la sylviculture de base"]
["Taux d'exécution de base",null,null,null,null,null,{"$f":"IFERROR($G$33,0)","v":0}]
["Taux PE2",null,null,null,null,null,{"$f":"IFERROR(ROUND((SUMPRODUCT($D$74:$D$78,$E$74:$E$78)/$E$79),2),0)","v":0}]
["Taux VERIF",null,null,null,null,null,{"$f":"IFERROR($G$116*$G$117/$E$79,0)","v":0}]
["Taux sous-total exécution",null,null,null,null,null,{"$f":"IFERROR(SUM($G$155:$G$156),0)","v":0}]
["Taux HEP ou TCEP",null,null,null,null,null,{"$f":"IFERROR((SUM($G$155:$G$157)*$F$126),0)","v":0}]
["Taux DTEXE",null,null,null,null,null,{"$f":"IFERROR((SUM(G155:G157)*$F$127),0)","v":0}]
["Taux CEAF3 ou ISO3",null,null,null,null,null,{"$f":"IFERROR((SUM($G$155:$G$157,G159:G160)*$F$130),0)","v":0}]
["Taux exécution total, majorations, réductions admissibles et inventaire conformité total",null,null,null,null,null,{"$f":"IFERROR((ROUND(SUM($G$155:$G$157,G159:G161),2)),0)","v":0}]
["Taux inventaire de conformité",null,null,null,null,null,{"$f":"IFERROR(((($G$114*$G$115)+($G$116*$G$117)+SUM($F$118:$F$120)*'Calculs grille'!$L$166*$G$117+SUM($F$121:$F$122)*'Calculs grille'!L$168*$G$117)/$G$166),0)","v":0}]
["Taux HPVTM et/ou DTPVTM",null,null,null,null,null,{"$f":"IFERROR(($G$163*SUM($F$133:$F$134)),0)","v":0}]
["Taux exécution et inventaire de conformité total (sur la base de la superficie nette)",null,null,null,null,null,{"$f":"IFERROR(ROUND(SUM($G$162:$G$164),2),0)","v":0}]
["Superficie brute",null,null,null,null,null,{"$f":"IFERROR(ROUND($F$79,2),0)","v":0}]
["Superficie nette (excluant les andains)",null,null,null,null,null,{"$f":"IFERROR(ROUND($E$79,2),0)","v":0}]
["Total exécution",null,null,null,null,null,{"$f":"IFERROR(ROUND($G$162*$G$167,2),0)","v":0}]
["Total inventaire de conformité",null,null,null,null,null,{"$f":"IFERROR(ROUND(SUM($G$163:$G$164)*$G$166,2),0)","v":0}]
["Grand total admissible",null,null,null,null,null,{"$f":"IFERROR((G162*G167),0)","v":0}]
["Calculs - Nettoiement d'un peuplement résineux ou mixte à dominance de résineux (MR-FI) - Gradient d'intensité de la sylviculture d'intensive/élite"]
["Taux d'exécution de base",null,null,null,null,null,{"$f":"IFERROR($G$33,0)","v":0}]
["Taux PE2",null,null,null,null,null,{"$f":"IFERROR(ROUND((SUMPRODUCT($D$74:$D$78,$E$74:$E$78)/$E$79),2),0)","v":0}]
["Taux VERIF",null,null,null,null,null,{"$f":"IFERROR($G$116*$G$117/$E$79,0)","v":0}]
["Taux sous-total exécution",null,null,null,null,null,{"$f":"IFERROR(SUM($G$155:$G$156),0)","v":0}]
["Taux HEP ou TCEP",null,null,null,null,null,{"$f":"IFERROR((SUM(G172:G174)*$F$126),0)","v":0}]
["Taux DTEXE",null,null,null,null,null,{"$f":"IFERROR((SUM(G172:G174)*$F$127),0)","v":0}]
["Taux CEAF3 ou ISO3",null,null,null,null,null,{"$f":"IFERROR((SUM(G172:G174,G176:G177)*$F$130),0)","v":0}]
["Taux exécution total, majorations, réductions admissibles et inventaire conformité total",null,null,null,null,null,{"$f":"IFERROR((ROUND(SUM(G172:G174,G176:G178),2)),0)","v":0}]
["Taux inventaire de conformité",null,null,null,null,null,{"$f":"IFERROR(((($G$114*$G$115)+($G$116*$G$117)+SUM($F$118:$F$120)*'Calculs grille'!$L$166*$G$117+SUM($F$121:$F$122)*'Calculs grille'!L$168*$G$117)/$G$166),0)","v":0}]
["Taux HPVTM et/ou DTPVTM",null,null,null,null,null,{"$f":"IFERROR(($G$163*SUM($F$133:$F$134)),0)","v":0}]
["Taux exécution et inventaire de conformité total (sur la base de la superficie nette)",null,null,null,null,null,{"$f":"IFERROR(ROUND(SUM($G$162:$G$164),2),0)","v":0}]
["Superficie brute",null,null,null,null,null,{"$f":"IFERROR(ROUND($F$79,2),0)","v":0}]
["Superficie nette (excluant les andains)",null,null,null,null,null,{"$f":"IFERROR(ROUND($E$79,2),0)","v":0}]
["Total exécution",null,null,null,null,null,{"$f":"IFERROR(ROUND($G$162*$G$167,2),0)","v":0}]
["Total inventaire de conformité",null,null,null,null,null,{"$f":"IFERROR(ROUND(SUM($G$163:$G$164)*$G$166,2),0)","v":0}]
["Grand total admissible",null,null,null,null,null,{"$f":"IFERROR((G179*G184),0)","v":0}]
["Calculs - Nettoiement mécanique sous couvert d’un peuplement de feuillus tolérants (contenir l’envahissement du hêtre à grandes feuilles)"]
["Taux d'exécution de base",null,null,null,null,null,{"$f":"IFERROR(IF(EXACT($G$12,Menus!$A$441),$G$33,0),0)","v":0}]
["Taux PE2",null,null,null,null,null,{"$f":"IFERROR(ROUND((SUMPRODUCT($D$74:$D$78,$E$74:$E$78)/$E$79),2),0)","v":0}]
["Taux Verif",null,null,null,null,null,{"$f":"IFERROR($G$116*$G$117/$E$79,0)","v":0}]
["Taux HEP ou TC",null,null,null,null,null,{"$f":"IFERROR((SUM($G$189:$G$191)*$F$126),0)","v":0}]
["Taux DTEXE",null,null,null,null,null,{"$f":"IFERROR((SUM($G$189:$G$191)*$F$127),0)","v":0}]
["Taux CEAF3 ou ISO3",null,null,null,null,null,{"$f":"IFERROR((SUM($G$189:$G$193)*$F$130),0)","v":0}]
["Taux exécution total et majoration(s) admissible(s)",null,null,null,null,null,{"$f":"IFERROR((ROUND(SUM($G$165:$G$168),2)),0)","v":0}]
["Taux inventaire de conformité",null,null,null,null,null,{"$f":"IFERROR(((($G$123*$G$124)+($G$125*$G$126)+SUM($F$127:$F$129)*'[2]Calculs grille'!$AL$166*$G$126+SUM($F$130:$F$131)*'[2]Calculs grille'!AL$168*$G$126)/$G$173),0)","v":0}]
["Taux HPVTM et/ou DTPVTM",null,null,null,null,null,{"$f":"IFERROR(($G$170*SUM($F$115:$F$116)),0)","v":0}]
["Taux exécution total, majorations, réductions admissibles et inventaire conformité total",null,null,null,null,null,{"$f":"IFERROR(ROUND(SUM($G$189:$G$194),2),0)","v":0}]
["Superficie brute",null,null,null,null,null,{"$f":"IFERROR(ROUND($F$79,2),0)","v":0}]
["Superficie nette (excluant les andains)",null,null,null,null,null,{"$f":"IFERROR(ROUND($E$79,2),0)","v":0}]
["Total exécution",null,null,null,null,null,{"$f":"IFERROR(ROUND($G$169*$G$174,2),0)","v":0}]
["Total inventaire de conformité",null,null,null,null,null,{"$f":"IFERROR(ROUND(SUM($G$170:$G$171)*$G$173,2),0)","v":0}]
["Grand total admissible",null,null,null,null,null,{"$f":"IFERROR((G198*G200),0)","v":0}]
["Calculs - EPC systématique d'un peuplement résineux ou de peuplier"]
["Taux d'exécution de base",null,null,null,null,null,{"$f":"IFERROR($G$37,0)","v":0}]
["Taux PE2",null,null,null,null,null,{"$f":"IFERROR(ROUND((SUMPRODUCT($D$82:$D$86,$E$82:$E$86)/$E$87),2),0)","v":0}]
["Taux VERIF",null,null,null,null,null,{"$f":"IFERROR($G$116*$G$117/$E$87,0)","v":0}]
["Taux sous-total exécution",null,null,null,null,null,{"$f":"IFERROR(SUM($G$205:$G$206),0)","v":0}]
["Taux HEP ou TCEP",null,null,null,null,null,{"$f":"IFERROR((SUM(G205:G207)*$F$126),0)","v":0}]
["Taux DTEXE",null,null,null,null,null,{"$f":"IFERROR((SUM(G205:G207)*$F$127),0)","v":0}]
["Taux CEAF3 ou ISO3",null,null,null,null,null,{"$f":"IFERROR((SUM(G205:G207,G209:G210)*$F$130),0)","v":0}]
["Taux exécution total, majorations, réductions admissibles et inventaire conformité total",null,null,null,null,null,{"$f":"IFERROR((ROUND(SUM(G205:G207,G209:G211),2)),0)","v":0}]
["Taux inventaire de conformité",null,null,null,null,null,{"$f":"IFERROR(((($G$114*$G$115)+($G$116*$G$117)+SUM($F$118:$F$120)*'Calculs grille'!$L$166*$G$117+SUM($F$121:$F$122)*'Calculs grille'!L$168*$G$117)/$G$216),0)","v":0}]
["Taux HPVTM et/ou DTPVTM",null,null,null,null,null,{"$f":"IFERROR(($G$213*SUM($F$133:$F$134)),0)","v":0}]
["Taux exécution et inventaire de conformité total (sur la base de la superficie nette)",null,null,null,null,null,{"$f":"IFERROR((ROUND(SUM($G$212:$G$214),2)),0)","v":0}]
["Superficie brute",null,null,null,null,null,{"$f":"IFERROR(ROUND($F$87,2),0)","v":0}]
["Superficie nette (excluant les andains)",null,null,null,null,null,{"$f":"IFERROR(ROUND($E$87,2),0)","v":0}]
["Total exécution",null,null,null,null,null,{"$f":"IFERROR(ROUND($G$212*$G$217,2),0)","v":0}]
["Total inventaire de conformité",null,null,null,null,null,{"$f":"IFERROR(ROUND(SUM($G$213:$G$214)*$G$216,2),0)","v":0}]
["Grand total admissible",null,null,null,null,null,{"$f":"IFERROR((G212*G217),0)","v":0}]
["Calculs - EPC par puits de lumière ET Taille de formation avec martelage"]
["Taux d'exécution de base",null,null,null,null,null,{"$f":"IFERROR(SUM($G$44:$G$45),0)","v":0}]
["Taux PE2",null,null,null,null,null,{"$f":"IFERROR(ROUND((SUMPRODUCT($D$90:$D$94,$E$90:$E$94)/$E$95),2),0)","v":0}]
["Taux VERIF",null,null,null,null,null,{"$f":"IFERROR($G$116*$G$117/$E$95,0)","v":0}]
["Taux sous-total exécution",null,null,null,null,null,{"$f":"IFERROR(SUM($G$222:$G$223),0)","v":0}]
["Taux HEP ou TCEP",null,null,null,null,null,{"$f":"IFERROR((SUM(G222:G224)*$F$126),0)","v":0}]
["Taux DTEXE",null,null,null,null,null,{"$f":"IFERROR((SUM(G222:G224)*$F$127),0)","v":0}]
["Taux CEAF3 ou ISO3",null,null,null,null,null,{"$f":"IFERROR((SUM(G222:G224,G226:G227)*$F$130),0)","v":0}]
["Taux exécution total, majorations, réductions admissibles et inventaire conformité total",null,null,null,null,null,{"$f":"IFERROR((ROUND(SUM(G222:G224,G226:G228),2)),0)","v":0}]
["Taux inventaire de conformité",null,null,null,null,null,{"$f":"IFERROR(((($G$114*$G$115)+($G$116*$G$117)+SUM($F$118:$F$120)*'Calculs grille'!$L$166*$G$117+SUM($F$121:$F$122)*'Calculs grille'!L$168*$G$117)/$G$233),0)","v":0}]
["Taux HPVTM et/ou DTPVTM",null,null,null,null,null,{"$f":"IFERROR(($G$230*SUM($F$133:$F$134)),0)","v":0}]
["Taux exécution et inventaire de conformité total (sur la base de la superficie nette)",null,null,null,null,null,{"$f":"IFERROR((ROUND(SUM($G$229:$G$231),2)),0)","v":0}]
["Superficie brute",null,null,null,null,null,{"$f":"IFERROR(ROUND($F$95,2),0)","v":0}]
["Superficie nette (excluant les andains)",null,null,null,null,null,{"$f":"IFERROR(ROUND($E$95,2),0)","v":0}]
["Total exécution",null,null,null,null,null,{"$f":"IFERROR(ROUND($G$229*$G$234,2),0)","v":0}]
["Total inventaire de conformité",null,null,null,null,null,{"$f":"IFERROR(ROUND(SUM($G$230:$G$231)*$G$233,2),0)","v":0}]
["Grand total admissible",null,null,null,null,null,{"$f":"IFERROR((G229*G234),0)","v":0}]
["Calculs - Élagage artificiel pour le pin blanc et le pin rouge"]
["Taux d'exécution de base",null,null,null,null,null,{"$f":"IFERROR($G$51,0)","v":0}]
["Taux PE2",null,null,null,null,null,{"$f":"IFERROR(ROUND((SUMPRODUCT($E$98:$E$102,$G$98:$G$102)/$G$103),2),0)","v":0}]
["Taux VERIF",null,null,null,null,null,{"$f":"IFERROR($G$116*$G$117/$G$103,0)","v":0}]
["Taux sous-total exécution",null,null,null,null,null,{"$f":"IFERROR(SUM($G$239:$G$240),0)","v":0}]
["Taux HEP ou TCEP",null,null,null,null,null,{"$f":"IFERROR((SUM(G239:G241)*$F$126),0)","v":0}]
["Taux DTEXE",null,null,null,null,null,{"$f":"IFERROR((SUM(G239:G241)*$F$127),0)","v":0}]
["Taux CEAF3 ou ISO3",null,null,null,null,null,{"$f":"IFERROR((SUM(G239:G241,G243:G244)*$F$130),0)","v":0}]
["Taux exécution total, majorations, réductions admissibles et inventaire conformité total",null,null,null,null,null,{"$f":"IFERROR((ROUND(SUM(G239:G241,G243:G245),2)),0)","v":0}]
["Taux inventaire de conformité",null,null,null,null,null,{"$f":"IFERROR(((($G$114*$G$115)+($G$116*$G$117)+SUM($F$118:$F$120)*'Calculs grille'!$L$166*$G$117+SUM($F$121:$F$122)*'Calculs grille'!L$168*$G$117)/$G$250),0)","v":0}]
["Taux HPVTM et/ou DTPVTM",null,null,null,null,null,{"$f":"IFERROR(($G$247*SUM($F$133:$F$134)),0)","v":0}]
["Taux exécution et inventaire de conformité total",null,null,null,null,null,{"$f":"IFERROR((ROUND(SUM($G$246:$G$248),2)),0)","v":0}]
["Superficie",null,null,null,null,null,{"$f":"IFERROR(ROUND($G$103,2),0)","v":0}]
["Total exécution",null,null,null,null,null,{"$f":"IFERROR(ROUND($G$246*$G$250,2),0)","v":0}]
["Total inventaire de conformité",null,null,null,null,null,{"$f":"IFERROR(ROUND(SUM($G$247:$G$248)*$G$250,2),0)","v":0}]
["Grand total admissible",null,null,null,null,null,{"$f":"IFERROR(G246*G250,0)","v":0}]
["Calculs - Taille phytosanitaire"]
["Taux d'exécution de base",null,null,null,null,null,{"$f":"IFERROR($G$57,0)","v":0}]
["Taux PE2",null,null,null,null,null,{"$f":"IFERROR(ROUND((SUMPRODUCT($E$106:$E$110,$G$106:$G$110)/$G$111),2),0)","v":0}]
["Taux VERIF",null,null,null,null,null,{"$f":"IFERROR($G$116*$G$117/$G$111,0)","v":0}]
["Taux sous-total exécution",null,null,null,null,null,{"$f":"IFERROR(SUM($G$255:$G$256),0)","v":0}]
["Taux HEP ou TCEP",null,null,null,null,null,{"$f":"IFERROR((SUM($G$255:$G$257)*$F$126),0)","v":0}]
["Taux DTEXE",null,null,null,null,null,{"$f":"IFERROR((SUM($G$255:$G$257)*$F$127),0)","v":0}]
["Taux CEAF3 ou ISO3",null,null,null,null,null,{"$f":"IFERROR((SUM($G$255:$G$257,G259:G260)*$F$130),0)","v":0}]
["Taux exécution total, majorations, réductions admissibles et inventaire conformité total",null,null,null,null,null,{"$f":"IFERROR((ROUND(SUM($G$255:$G$257,G259:G261),2)),0)","v":0}]
["Taux inventaire de conformité",null,null,null,null,null,{"$f":"IFERROR(((($G$114*$G$115)+($G$116*$G$117)+SUM($F$118:$F$120)*'Calculs grille'!$L$166*$G$117+SUM($F$121:$F$122)*'Calculs grille'!L$168*$G$117)/$G$266),0)","v":0}]
["Taux HPVTM et/ou DTPVTM",null,null,null,null,null,{"$f":"IFERROR(($G$263*SUM($F$133:$F$134)),0)","v":0}]
["Taux exécution et inventaire de conformité total",null,null,null,null,null,{"$f":"IFERROR((ROUND(SUM($G$262:$G$264),2)),0)","v":0}]
["Superficie",null,null,null,null,null,{"$f":"IFERROR(ROUND($G$111,2),0)","v":0}]
["Total exécution",null,null,null,null,null,{"$f":"IFERROR(ROUND($G$262*$G$266,2),0)","v":0}]
["Total inventaire de conformité",null,null,null,null,null,{"$f":"IFERROR(ROUND(SUM($G$263:$G$264)*$G$266,2),0)","v":0}]
["Grand total admissible",null,null,null,null,null,{"$f":"IFERROR(G262*G266,0)","v":0}]
[]
["Remarques"]
[]
["J'atteste que les renseignements fournis dans ce document afin de calculer le taux du traitement sont complets et conformes à la vérité, au meilleur de mes connaissances."]
[]
[]
[]
["Nom et prénom de l'ingénieur forestier",null,null,null,null,null,"Numéro de permis"]
[null,null,null,null,null,null,{"$f":"TODAY()","v":"2026-04-08"}]
[]
["Signature de l'ingénieur forestier",null,null,null,null,null,"Date (AAAA-MM-JJ)"]
[]
[]
["Section réservée au suivi du contrat"]
[]
[null,"Numéro de la prescription :",{"$f":"IF($G$8<>\"\",$G$8,\"\")","v":""}]
[]
[null,"Numéro du contrat :"]
[null,"Numéro du projet :"]
[null,"U.G. :"]
[null,"MRC :"]
[null,"Code de traitement DICA : ",{"$f":"IF($G$9<>\"\",$G$9,\"\")","v":""}]
[null,"Code de traitement RATF :",{"$f":"IF($G$10<>\"\",$G$10,\"\")","v":""}]
[null,"Type d'attribution :"]
[null,{"$f":"IF(EXACT(UPPER($D$294),UPPER(Menus!$A$762)),\"Taux AO (avec vérif.) :\",IF(EXACT(UPPER($D$294),UPPER(Menus!$A$763)),\"Taux AO (sans vérif.) :\",\"Taux AO :\"))","v":"Taux AO :"},null,"Inscrire une valeur"]
[null,{"$f":"IFERROR(IF(EXACT(UPPER($D$294),UPPER(Menus!$A$763)),\"Taux Grille (sans vérif.) :\",\"Taux Grille (avec vérif.) :\"),\"Taux Grille (avec vérif.) :\")","v":"Taux Grille (avec vérif.) :"},{"$f":"IFERROR(IF(OR(ISBLANK($D$294)=TRUE,EXACT(UPPER($D$294),UPPER(Menus!$A$764))),VLOOKUP($G$12,Rexforêt_Taux_AO,3,FALSE),IF(EXACT(UPPER($D$294),UPPER(Menus!$A$762)),VLOOKUP($G$12,Rexforêt_Taux_AO,3,FALSE),IF(EXACT(UPPER($D$294),UPPER(Menus!$A$763)),VLOOKUP($G$12,Rexforêt_Taux_AO,4,FALSE),0))),0)","v":0}]
[null,"Ratio AO/Grille :",{"$f":"IFERROR(IF(AND(ISBLANK($C$294)=FALSE,$C$295>0),ROUND($C$294/$C$295,4),\"S/O\"),\"\")","v":"S/O"}]
[null,"Grand total AO :",{"$f":"IFERROR(IF(OR(ISBLANK($C$294)=TRUE,EXACT($C$295,0)),\"S/O\",IF(AND($C$294>0,OR(EXACT(UPPER($D$294),UPPER(Menus!$A$762)),EXACT(UPPER($D$294),UPPER(Menus!$A$764)))),ROUND(VLOOKUP($G$12,RXF!$A$1:$G$55,5,FALSE)*$C$296,2),IF(AND($C$294>0,EXACT(UPPER($D$294),UPPER(Menus!$A$763))),ROUND(VLOOKUP($G$12,RXF!$A$1:$G$55,7,FALSE)*$C$296,2),0))),\"\")","v":"S/O"}]
[null,"Nom de l'entrepreneur :"]
[null,"Numéro de fournisseur :"]
[null,"Date de début :"]
[null,"Date de fin :"]
[null,"Commentaires :"]

{"sheet":"EP_BD","index":9,"n_rows":2,"n_cols":58,"rows_kept":2,"cut":false,"hidden":true,"merged":[]}
["NO_CONTRAT","NO_SEC_INT","NO_PRS","NO_UA","TY_TR_OPE","CODE_RATF","TY_TR","TY_PREP","SU_PNT_A","SU_PNT_B","SU_PNT_C","SU_PNT_D","SU_PNT_E","SU_PNT_A_N","SU_PNT_B_N","SU_PNT_C_N","SU_PNT_D_N","SU_PNT_E_N","RECOUVRE","DS_TOT_DEG","MODE_REGEN","DS_TOT_NET","PC_STO_RES","COMPO_VISE","TPGI_PEUP","TPGI_GRAD","TPGI_TYPE","IN_EPC","IN_MRT_EPC","DS_TG_EC","HT_TG_EC","IN_TAIL","NBR_BRCH","LONG_ELG","DS_TG_ELG","TY_MRT_ELG","DS_TG_CO","DS_TG_TAIL","NIV_DIFF","HT_PATRON","AJ_CND_SPC","PC_TG_FEU","AJ_HT_CP1","AJ_PC_CP2","AJ_MO_CP3","PE_EP_C","TAUX_EX_BA","TAUX_DEGPM","TAUX_PE","TAUX_DMOD","TAUX_VERIF","TAUX_HEP","TAUX_HPT","TAUX_DTEXE","TAUX_CEAF","TAUX_EXTOT","QTE_CONTRA","MNT_EX_IN"]
[{"$f":"'Éducation de peuplement'!C287","v":0},{"$f":"'Éducation de peuplement'!G6","v":0},{"$f":"'Éducation de peuplement'!G8","v":0},{"$f":"'Éducation de peuplement'!G5","v":0},{"$f":"'Éducation de peuplement'!G9","v":0},{"$f":"'Éducation de peuplement'!G10","v":0},{"$f":"'Éducation de peuplement'!G12","v":"Inscrire une valeur"},{"$f":"'Éducation de peuplement'!G62","v":"Inscrire une valeur"},{"$f":"IFERROR(_xlfn.IFS($G$2=\"Dégagement mécanique d'un peuplement résineux ou mixte à dominance de résineux (MR-FI)\",'Éducation de peuplement'!F66,$G$2=\"Élagage artificiel pour le pin blanc et le pin rouge\",'Éducation de peuplement'!G98,$G$2=\"EPC par puits de lumière ET taille de formation avec martelage\",'Éducation de peuplement'!F90,$G$2=\"Nettoiement d'un peuplement résineux ou mixte à dominance de résineux (MR-FI) - Gradient d'intensité de la sylviculture de base\",'Éducation de peuplement'!F74,$G$2=\"Nettoiement d'un peuplement résineux ou mixte à dominance de résineux (MR-FI) - Gradient d'intensité de la sylviculture d'intensive/élite\",'Éducation de peuplement'!F74,$G$2=\"EPC systématique d'un peuplement résineux ou de peuplier\",'Éducation de peuplement'!F82,$G$2=\"Taille phytosanitaire\",'Éducation de peuplement'!G106,$G$2=\"Nettoiement mécanique sous couvert d’un peuplement de feuillus tolérants (contenir l’envahissement du hêtre à grandes feuilles)\",'Éducation de peuplement'!F74),0)","v":0},{"$f":"IFERROR(_xlfn.IFS($G$2=\"Dégagement mécanique d'un peuplement résineux ou mixte à dominance de résineux (MR-FI)\",'Éducation de peuplement'!F67,$G$2=\"Élagage artificiel pour le pin blanc et le pin rouge\",'Éducation de peuplement'!G99,$G$2=\"EPC par puits de lumière ET taille de formation avec martelage\",'Éducation de peuplement'!F91,$G$2=\"Nettoiement d'un peuplement résineux ou mixte à dominance de résineux (MR-FI) - Gradient d'intensité de la sylviculture de base\",'Éducation de peuplement'!F75,$G$2=\"Nettoiement d'un peuplement résineux ou mixte à dominance de résineux (MR-FI) - Gradient d'intensité de la sylviculture d'intensive/élite\",'Éducation de peuplement'!F75,$G$2=\"EPC systématique d'un peuplement résineux ou de peuplier\",'Éducation de peuplement'!F83,$G$2=\"Taille phytosanitaire\",'Éducation de peuplement'!G107,$G$2=\"Nettoiement mécanique sous couvert d’un peuplement de feuillus tolérants (contenir l’envahissement du hêtre à grandes feuilles)\",'Éducation de peuplement'!F75),0)","v":0},{"$f":"IFERROR(_xlfn.IFS($G$2=\"Dégagement mécanique d'un peuplement résineux ou mixte à dominance de résineux (MR-FI)\",'Éducation de peuplement'!F68,$G$2=\"Élagage artificiel pour le pin blanc et le pin rouge\",'Éducation de peuplement'!G100,$G$2=\"EPC par puits de lumière ET taille de formation avec martelage\",'Éducation de peuplement'!F92,$G$2=\"Nettoiement d'un peuplement résineux ou mixte à dominance de résineux (MR-FI) - Gradient d'intensité de la sylviculture de base\",'Éducation de peuplement'!F76,$G$2=\"Nettoiement d'un peuplement résineux ou mixte à dominance de résineux (MR-FI) - Gradient d'intensité de la sylviculture d'intensive/élite\",'Éducation de peuplement'!F76,$G$2=\"EPC systématique d'un peuplement résineux ou de peuplier\",'Éducation de peuplement'!F84,$G$2=\"Taille phytosanitaire\",'Éducation de peuplement'!G108,$G$2=\"Nettoiement mécanique sous couvert d’un peuplement de feuillus tolérants (contenir l’envahissement du hêtre à grandes feuilles)\",'Éducation de peuplement'!F76),0)","v":0},{"$f":"IFERROR(_xlfn.IFS($G$2=\"Dégagement mécanique d'un peuplement résineux ou mixte à dominance de résineux (MR-FI)\",'Éducation de peuplement'!F69,$G$2=\"Élagage artificiel pour le pin blanc et le pin rouge\",'Éducation de peuplement'!G101,$G$2=\"EPC par puits de lumière ET taille de formation avec martelage\",'Éducation de peuplement'!F93,$G$2=\"Nettoiement d'un peuplement résineux ou mixte à dominance de résineux (MR-FI) - Gradient d'intensité de la sylviculture de base\",'Éducation de peuplement'!F77,$G$2=\"Nettoiement d'un peuplement résineux ou mixte à dominance de résineux (MR-FI) - Gradient d'intensité de la sylviculture d'intensive/élite\",'Éducation de peuplement'!F77,$G$2=\"EPC systématique d'un peuplement résineux ou de peuplier\",'Éducation de peuplement'!F85,$G$2=\"Taille phytosanitaire\",'Éducation de peuplement'!G109,$G$2=\"Nettoiement mécanique sous couvert d’un peuplement de feuillus tolérants (contenir l’envahissement du hêtre à grandes feuilles)\",'Éducation de peuplement'!F77),0)","v":0},{"$f":"IFERROR(_xlfn.IFS($G$2=\"Dégagement mécanique d'un peuplement résineux ou mixte à dominance de résineux (MR-FI)\",'Éducation de peuplement'!F70,$G$2=\"Élagage artificiel pour le pin blanc et le pin rouge\",'Éducation de peuplement'!G102,$G$2=\"EPC par puits de lumière ET taille de formation avec martelage\",'Éducation de peuplement'!F94,$G$2=\"Nettoiement d'un peuplement résineux ou mixte à dominance de résineux (MR-FI) - Gradient d'intensité de la sylviculture de base\",'Éducation de peuplement'!F78,$G$2=\"Nettoiement d'un peuplement résineux ou mixte à dominance de résineux (MR-FI) - Gradient d'intensité de la sylviculture d'intensive/élite\",'Éducation de peuplement'!F78,$G$2=\"EPC systématique d'un peuplement résineux ou de peuplier\",'Éducation de peuplement'!F86,$G$2=\"Taille phytosanitaire\",'Éducation de peuplement'!G110,$G$2=\"Nettoiement mécanique sous couvert d’un peuplement de feuillus tolérants (contenir l’envahissement du hêtre à grandes feuilles)\",'Éducation de peuplement'!F78),0)","v":0},{"$f":"IFERROR(_xlfn.IFS($G$2=\"Dégagement mécanique d'un peuplement résineux ou mixte à dominance de résineux (MR-FI)\",'Éducation de peuplement'!E66,$G$2=\"EPC par puits de lumière ET taille de formation avec martelage\",'Éducation de peuplement'!E90,$G$2=\"Nettoiement d'un peuplement résineux ou mixte à dominance de résineux (MR-FI) - Gradient d'intensité de la sylviculture de base\",'Éducation de peuplement'!E74,$G$2=\"Nettoiement d'un peuplement résineux ou mixte à dominance de résineux (MR-FI) - Gradient d'intensité de la sylviculture d'intensive/élite\",'Éducation de peuplement'!E74,$G$2=\"EPC systématique d'un peuplement résineux ou de peuplier\",'Éducation de peuplement'!E82,$G$2=\"Nettoiement mécanique sous couvert d’un peuplement de feuillus tolérants (contenir l’envahissement du hêtre à grandes feuilles)\",'Éducation de peuplement'!E74),0)","v":0},{"$f":"IFERROR(_xlfn.IFS($G$2=\"Dégagement mécanique d'un peuplement résineux ou mixte à dominance de résineux (MR-FI)\",'Éducation de peuplement'!E67,$G$2=\"EPC par puits de lumière ET taille de formation avec martelage\",'Éducation de peuplement'!E91,$G$2=\"Nettoiement d'un peuplement résineux ou mixte à dominance de résineux (MR-FI) - Gradient d'intensité de la sylviculture de base\",'Éducation de peuplement'!E75,$G$2=\"Nettoiement d'un peuplement résineux ou mixte à dominance de résineux (MR-FI) - Gradient d'intensité de la sylviculture d'intensive/élite\",'Éducation de peuplement'!E75,$G$2=\"EPC systématique d'un peuplement résineux ou de peuplier\",'Éducation de peuplement'!E83,$G$2=\"Nettoiement mécanique sous couvert d’un peuplement de feuillus tolérants (contenir l’envahissement du hêtre à grandes feuilles)\",'Éducation de peuplement'!E75),0)","v":0},{"$f":"IFERROR(_xlfn.IFS($G$2=\"Dégagement mécanique d'un peuplement résineux ou mixte à dominance de résineux (MR-FI)\",'Éducation de peuplement'!E68,$G$2=\"EPC par puits de lumière ET taille de formation avec martelage\",'Éducation de peuplement'!E92,$G$2=\"Nettoiement d'un peuplement résineux ou mixte à dominance de résineux (MR-FI) - Gradient d'intensité de la sylviculture de base\",'Éducation de peuplement'!E76,$G$2=\"Nettoiement d'un peuplement résineux ou mixte à dominance de résineux (MR-FI) - Gradient d'intensité de la sylviculture d'intensive/élite\",'Éducation de peuplement'!E76,$G$2=\"EPC systématique d'un peuplement résineux ou de peuplier\",'Éducation de peuplement'!E84,$G$2=\"Nettoiement mécanique sous couvert d’un peuplement de feuillus tolérants (contenir l’envahissement du hêtre à grandes feuilles)\",'Éducation de peuplement'!E76),0)","v":0},{"$f":"IFERROR(_xlfn.IFS($G$2=\"Dégagement mécanique d'un peuplement résineux ou mixte à dominance de résineux (MR-FI)\",'Éducation de peuplement'!E69,$G$2=\"EPC par puits de lumière ET taille de formation avec martelage\",'Éducation de peuplement'!E93,$G$2=\"Nettoiement d'un peuplement résineux ou mixte à dominance de résineux (MR-FI) - Gradient d'intensité de la sylviculture de base\",'Éducation de peuplement'!E77,$G$2=\"Nettoiement d'un peuplement résineux ou mixte à dominance de résineux (MR-FI) - Gradient d'intensité de la sylviculture d'intensive/élite\",'Éducation de peuplement'!E77,$G$2=\"EPC systématique d'un peuplement résineux ou de peuplier\",'Éducation de peuplement'!E85,$G$2=\"Nettoiement mécanique sous couvert d’un peuplement de feuillus tolérants (contenir l’envahissement du hêtre à grandes feuilles)\",'Éducation de peuplement'!E77),0)","v":0},{"$f":"IFERROR(_xlfn.IFS($G$2=\"Dégagement mécanique d'un peuplement résineux ou mixte à dominance de résineux (MR-FI)\",'Éducation de peuplement'!E70,$G$2=\"EPC par puits de lumière ET taille de formation avec martelage\",'Éducation de peuplement'!E94,$G$2=\"Nettoiement d'un peuplement résineux ou mixte à dominance de résineux (MR-FI) - Gradient d'intensité de la sylviculture de base\",'Éducation de peuplement'!E78,$G$2=\"Nettoiement d'un peuplement résineux ou mixte à dominance de résineux (MR-FI) - Gradient d'intensité de la sylviculture d'intensive/élite\",'Éducation de peuplement'!E78,$G$2=\"EPC systématique d'un peuplement résineux ou de peuplier\",'Éducation de peuplement'!E86,$G$2=\"Nettoiement mécanique sous couvert d’un peuplement de feuillus tolérants (contenir l’envahissement du hêtre à grandes feuilles)\",'Éducation de peuplement'!E78),0)","v":0},{"$f":"'Éducation de peuplement'!G19","v":0},{"$f":"'Éducation de peuplement'!G20","v":0},{"$f":"'Éducation de peuplement'!G21","v":0},{"$f":"IFERROR(_xlfn.IFS($G$2=\"EPC systématique d'un peuplement résineux ou de peuplier\",'Éducation de peuplement'!G35,$G$2=\"Nettoiement d'un peuplement résineux ou mixte à dominance de résineux (MR-FI)\",'Éducation de peuplement'!G24,$G$2=\"Nettoiement mécanique sous couvert d’un peuplement de feuillus tolérants (contenir l’envahissement du hêtre à grandes feuilles)\",'Éducation de peuplement'!G24),0)","v":0},{"$f":"'Éducation de peuplement'!G25","v":0},{"$f":"'Éducation de peuplement'!G36","v":0},{"$f":"'Éducation de peuplement'!G26","v":0},{"$f":"'Éducation de peuplement'!G27","v":0},{"$f":"'Éducation de peuplement'!G28","v":0},{"$f":"'Éducation de peuplement'!G39","v":0},{"$f":"'Éducation de peuplement'!G40","v":0},{"$f":"'Éducation de peuplement'!G41","v":0},{"$f":"'Éducation de peuplement'!G42","v":0},{"$f":"'Éducation de peuplement'!G43","v":0},{"$f":"'Éducation de peuplement'!G47","v":0},{"$f":"'Éducation de peuplement'!G48","v":0},{"$f":"'Éducation de peuplement'!G49","v":0},{"$f":"'Éducation de peuplement'!G50","v":0},{"$f":"'Éducation de peuplement'!G55","v":0},{"$f":"'Éducation de peuplement'!G56","v":0},null,null,null,{"$f":"'Éducation de peuplement'!G29","v":0},{"$f":"'Éducation de peuplement'!G30","v":0},{"$f":"'Éducation de peuplement'!G31","v":0},{"$f":"'Éducation de peuplement'!G32","v":0},{"$f":"'Éducation de peuplement'!G117","v":0},{"$f":"IFERROR(_xlfn.IFS($G$2=\"Dégagement mécanique d'un peuplement résineux ou mixte à dominance de résineux (MR-FI)\",'Éducation de peuplement'!G137,$G$2=\"Élagage artificiel pour le pin blanc et le pin rouge\",'Éducation de peuplement'!G239,$G$2=\"EPC par puits de lumière ET taille de formation avec martelage\",'Éducation de peuplement'!G222,$G$2=\"Nettoiement d'un peuplement résineux ou mixte à dominance de résineux (MR-FI) - Gradient d'intensité de la sylviculture de base\",'Éducation de peuplement'!G155,$G$2=\"Nettoiement d'un peuplement résineux ou mixte à dominance de résineux (MR-FI) - Gradient d'intensité de la sylviculture d'intensive/élite\",'Éducation de peuplement'!G172,$G$2=\"EPC systématique d'un peuplement résineux ou de peuplier\",'Éducation de peuplement'!G205,$G$2=\"Taille phytosanitaire\",'Éducation de peuplement'!G255,$G$2=\"Nettoiement mécanique sous couvert d’un peuplement de feuillus tolérants (contenir l’envahissement du hêtre à grandes feuilles)\",'Éducation de peuplement'!G189),\"\")","v":""},{"$f":"IFERROR(_xlfn.IFS($G$2=\"Dégagement mécanique d'un peuplement résineux ou mixte à dominance de résineux (MR-FI)\",'Éducation de peuplement'!G138),\"\")","v":""},{"$f":"IFERROR(_xlfn.IFS($G$2=\"Dégagement mécanique d'un peuplement résineux ou mixte à dominance de résineux (MR-FI)\",'Éducation de peuplement'!G139,$G$2=\"Élagage artificiel pour le pin blanc et le pin rouge\",'Éducation de peuplement'!G240,$G$2=\"EPC par puits de lumière ET taille de formation avec martelage\",'Éducation de peuplement'!G223,$G$2=\"Nettoiement d'un peuplement résineux ou mixte à dominance de résineux (MR-FI) - Gradient d'intensité de la sylviculture de base\",'Éducation de peuplement'!G156,$G$2=\"Nettoiement d'un peuplement résineux ou mixte à dominance de résineux (MR-FI) - Gradient d'intensité de la sylviculture d'intensive/élite\",'Éducation de peuplement'!G173,$G$2=\"EPC systématique d'un peuplement résineux ou de peuplier\",'Éducation de peuplement'!G206,$G$2=\"Taille phytosanitaire\",'Éducation de peuplement'!G256,$G$2=\"Nettoiement mécanique sous couvert d’un peuplement de feuillus tolérants (contenir l’envahissement du hêtre à grandes feuilles)\",'Éducation de peuplement'!G190),\"\")","v":""},null,{"$f":"IFERROR(_xlfn.IFS($G$2=\"Dégagement mécanique d'un peuplement résineux ou mixte à dominance de résineux (MR-FI)\",'Éducation de peuplement'!G140,$G$2=\"Élagage artificiel pour le pin blanc et le pin rouge\",'Éducation de peuplement'!G241,$G$2=\"EPC par puits de lumière ET taille de formation avec martelage\",'Éducation de peuplement'!G224,$G$2=\"Nettoiement d'un peuplement résineux ou mixte à dominance de résineux (MR-FI) - Gradient d'intensité de la sylviculture de base\",'Éducation de peuplement'!G157,$G$2=\"Nettoiement d'un peuplement résineux ou mixte à dominance de résineux (MR-FI) - Gradient d'intensité de la sylviculture d'intensive/élite\",'Éducation de peuplement'!G174,$G$2=\"EPC systématique d'un peuplement résineux ou de peuplier\",'Éducation de peuplement'!G207,$G$2=\"Taille phytosanitaire\",'Éducation de peuplement'!G257,$G$2=\"Nettoiement mécanique sous couvert d’un peuplement de feuillus tolérants (contenir l’envahissement du hêtre à grandes feuilles)\",'Éducation de peuplement'!G191),\"\")","v":""},{"$f":"IFERROR(_xlfn.IFS($G$2=\"Dégagement mécanique d'un peuplement résineux ou mixte à dominance de résineux (MR-FI)\",'Éducation de peuplement'!G142,$G$2=\"Élagage artificiel pour le pin blanc et le pin rouge\",'Éducation de peuplement'!G243,$G$2=\"EPC par puits de lumière ET taille de formation avec martelage\",'Éducation de peuplement'!G226,$G$2=\"Nettoiement d'un peuplement résineux ou mixte à dominance de résineux (MR-FI) - Gradient d'intensité de la sylviculture de base\",'Éducation de peuplement'!G159,$G$2=\"Nettoiement d'un peuplement résineux ou mixte à dominance de résineux (MR-FI) - Gradient d'intensité de la sylviculture d'intensive/élite\",'Éducation de peuplement'!G176,$G$2=\"EPC systématique d'un peuplement résineux ou de peuplier\",'Éducation de peuplement'!G209,$G$2=\"Taille phytosanitaire\",'Éducation de peuplement'!G259,$G$2=\"Nettoiement mécanique sous couvert d’un peuplement de feuillus tolérants (contenir l’envahissement du hêtre à grandes feuilles)\",'Éducation de peuplement'!G192),\"\")","v":""},null,{"$f":"IFERROR(_xlfn.IFS($G$2=\"Dégagement mécanique d'un peuplement résineux ou mixte à dominance de résineux (MR-FI)\",'Éducation de peuplement'!G143,$G$2=\"Élagage artificiel pour le pin blanc et le pin rouge\",'Éducation de peuplement'!G244,$G$2=\"EPC par puits de lumière ET taille de formation avec martelage\",'Éducation de peuplement'!G227,$G$2=\"Nettoiement d'un peuplement résineux ou mixte à dominance de résineux (MR-FI) - Gradient d'intensité de la sylviculture de base\",'Éducation de peuplement'!G160,$G$2=\"Nettoiement d'un peuplement résineux ou mixte à dominance de résineux (MR-FI) - Gradient d'intensité de la sylviculture d'intensive/élite\",'Éducation de peuplement'!G177,$G$2=\"EPC systématique d'un peuplement résineux ou de peuplier\",'Éducation de peuplement'!G210,$G$2=\"Taille phytosanitaire\",'Éducation de peuplement'!G260,$G$2=\"Nettoiement mécanique sous couvert d’un peuplement de feuillus tolérants (contenir l’envahissement du hêtre à grandes feuilles)\",'Éducation de peuplement'!G193),\"\")","v":""},{"$f":"IFERROR(_xlfn.IFS($G$2=\"Dégagement mécanique d'un peuplement résineux ou mixte à dominance de résineux (MR-FI)\",'Éducation de peuplement'!G144,$G$2=\"Élagage artificiel pour le pin blanc et le pin rouge\",'Éducation de peuplement'!G245,$G$2=\"EPC par puits de lumière ET taille de formation avec martelage\",'Éducation de peuplement'!G228,$G$2=\"Nettoiement d'un peuplement résineux ou mixte à dominance de résineux (MR-FI) - Gradient d'intensité de la sylviculture de base\",'Éducation de peuplement'!G161,$G$2=\"Nettoiement d'un peuplement résineux ou mixte à dominance de résineux (MR-FI) - Gradient d'intensité de la sylviculture d'intensive/élite\",'Éducation de peuplement'!G178,$G$2=\"EPC systématique d'un peuplement résineux ou de peuplier\",'Éducation de peuplement'!G211,$G$2=\"Taille phytosanitaire\",'Éducation de peuplement'!G261,$G$2=\"Nettoiement mécanique sous couvert d’un peuplement de feuillus tolérants (contenir l’envahissement du hêtre à grandes feuilles)\",'Éducation de peuplement'!G194),\"\")","v":""},{"$f":"IFERROR(_xlfn.IFS($G$2=\"Dégagement mécanique d'un peuplement résineux ou mixte à dominance de résineux (MR-FI)\",'Éducation de peuplement'!G145,$G$2=\"Élagage artificiel pour le pin blanc et le pin rouge\",'Éducation de peuplement'!G246,$G$2=\"EPC par puits de lumière ET taille de formation avec martelage\",'Éducation de peuplement'!G229,$G$2=\"Nettoiement d'un peuplement résineux ou mixte à dominance de résineux (MR-FI) - Gradient d'intensité de la sylviculture de base\",'Éducation de peuplement'!G162,$G$2=\"Nettoiement d'un peuplement résineux ou mixte à dominance de résineux (MR-FI) - Gradient d'intensité de la sylviculture d'intensive/élite\",'Éducation de peuplement'!G179,$G$2=\"EPC systématique d'un peuplement résineux ou de peuplier\",'Éducation de peuplement'!G212,$G$2=\"Taille phytosanitaire\",'Éducation de peuplement'!G262,$G$2=\"Nettoiement mécanique sous couvert d’un peuplement de feuillus tolérants (contenir l’envahissement du hêtre à grandes feuilles)\",'Éducation de peuplement'!G198),\"\")","v":""},{"$f":"IFERROR(_xlfn.IFS($G$2=\"Dégagement mécanique d'un peuplement résineux ou mixte à dominance de résineux (MR-FI)\",'Éducation de peuplement'!G149,$G$2=\"Élagage artificiel pour le pin blanc et le pin rouge\",'Éducation de peuplement'!G250,$G$2=\"EPC par puits de lumière ET taille de formation avec martelage\",'Éducation de peuplement'!G233,$G$2=\"Nettoiement d'un peuplement résineux ou mixte à dominance de résineux (MR-FI) - Gradient d'intensité de la sylviculture de base\",'Éducation de peuplement'!G166,$G$2=\"Nettoiement d'un peuplement résineux ou mixte à dominance de résineux (MR-FI) - Gradient d'intensité de la sylviculture d'intensive/élite\",'Éducation de peuplement'!G183,$G$2=\"EPC systématique d'un peuplement résineux ou de peuplier\",'Éducation de peuplement'!G216,$G$2=\"Taille phytosanitaire\",'Éducation de peuplement'!G266,$G$2=\"Nettoiement mécanique sous couvert d’un peuplement de feuillus tolérants (contenir l’envahissement du hêtre à grandes feuilles)\",'Éducation de peuplement'!G199),\"\")","v":""},{"$f":"IFERROR(_xlfn.IFS($G$2=\"Dégagement mécanique d'un peuplement résineux ou mixte à dominance de résineux (MR-FI)\",'Éducation de peuplement'!G153,$G$2=\"Élagage artificiel pour le pin blanc et le pin rouge\",'Éducation de peuplement'!G253,$G$2=\"EPC par puits de lumière ET taille de formation avec martelage\",'Éducation de peuplement'!G237,$G$2=\"Nettoiement d'un peuplement résineux ou mixte à dominance de résineux (MR-FI) - Gradient d'intensité de la sylviculture de base\",'Éducation de peuplement'!G170,$G$2=\"Nettoiement d'un peuplement résineux ou mixte à dominance de résineux (MR-FI) - Gradient d'intensité de la sylviculture d'intensive/élite\",'Éducation de peuplement'!G187,$G$2=\"EPC systématique d'un peuplement résineux ou de peuplier\",'Éducation de peuplement'!G220,$G$2=\"Taille phytosanitaire\",'Éducation de peuplement'!G269,$G$2=\"Nettoiement mécanique sous couvert d’un peuplement de feuillus tolérants (contenir l’envahissement du hêtre à grandes feuilles)\",'Éducation de peuplement'!G203),\"\")","v":""}]

{"sheet":"Éducation de peuplement - PATS","index":10,"n_rows":272,"n_cols":7,"rows_kept":272,"cut":false,"hidden":true,"merged":[[0,0,0,6],[1,0,1,6],[2,0,2,5],[3,0,3,6],[4,0,4,5],[5,0,5,5],[11,0,11,5],[12,0,12,5],[13,0,13,5],[31,1,31,4],[21,1,21,5],[22,0,22,4],[14,0,14,6],[15,0,15,6],[16,0,16,6],[6,0,6,5],[7,0,7,5],[8,0,8,5],[9,0,9,3],[9,4,9,5],[10,0,10,6],[26,2,26,5],[27,2,27,5],[28,0,30,0],[28,2,30,3],[28,5,30,5],[17,0,17,6],[18,2,18,5],[19,2,19,5],[20,1,20,4],[24,0,24,5],[25,0,25,6],[23,0,23,4],[32,0,32,5],[41,0,41,6],[42,2,42,5],[43,2,43,4],[45,0,45,5],[33,0,33,6],[34,2,34,5],[35,2,35,5],[36,2,36,4],[37,2,37,4],[38,2,38,4],[39,1,39,2],[39,3,39,4],[40,0,40,5],[44,0,44,5],[52,0,52,5],[53,0,53,5],[54,0,54,6],[55,1,55,5],[56,1,56,4],[57,1,57,5],[46,0,46,6],[47,0,47,4],[48,0,48,4],[49,1,49,5],[50,1,50,5],[51,1,51,4],[65,0,65,5],[66,0,66,6],[67,0,67,6],[68,0,68,6],[69,0,69,6],[58,1,58,4],[59,0,59,5],[60,0,60,6],[62,1,62,5],[63,1,63,5],[64,0,64,5],[61,0,61,6],[76,0,76,1],[77,0,77,1],[78,0,78,1],[79,0,79,2],[80,0,80,6],[81,0,81,1],[70,0,70,4],[71,0,71,6],[72,0,72,6],[73,0,73,1],[74,0,74,1],[75,0,75,1],[88,0,88,6],[89,0,89,1],[90,0,90,1],[91,0,91,1],[92,0,92,1],[93,0,93,1],[82,0,82,1],[83,0,83,1],[84,0,84,1],[85,0,85,1],[86,0,86,1],[87,0,87,2],[100,0,100,1],[101,0,101,1],[102,0,102,1],[103,0,103,2],[94,0,94,1],[95,0,95,2],[96,0,96,6],[97,0,97,1],[98,0,98,1],[99,0,99,1],[107,0,107,1],[107,2,107,3],[107,4,107,5],[108,0,108,1],[108,2,108,3],[108,4,108,5],[105,0,105,1],[105,2,105,3],[105,4,105,5],[106,0,106,1],[106,2,106,3],[106,4,106,5],[124,0,124,5],[125,0,125,5],[111,0,111,5],[109,0,109,1],[109,2,109,3],[109,4,109,5],[110,0,110,1],[110,2,110,3],[110,4,110,5],[136,0,136,6],[113,0,113,6],[141,0,141,4],[143,0,143,6],[144,0,144,6],[145,0,145,5],[112,0,112,6],[137,0,137,6],[138,0,138,4],[129,0,129,6],[130,0,130,6],[131,0,131,3],[114,0,114,5],[115,0,115,5],[139,0,139,6],[140,0,140,6],[120,0,120,6],[121,0,121,6],[122,0,122,5],[132,0,132,6],[133,0,133,6],[134,0,134,4],[135,0,135,4],[123,0,123,5],[152,0,152,5],[153,0,153,5],[154,0,154,5],[155,0,155,5],[156,0,156,5],[157,0,157,5],[146,0,146,5],[147,0,147,5],[148,0,148,5],[149,0,149,5],[150,0,150,5],[151,0,151,5],[164,0,164,5],[165,0,165,5],[166,0,166,5],[167,0,167,5],[168,0,168,5],[169,0,169,5],[158,0,158,5],[159,0,159,5],[160,0,160,5],[161,0,161,6],[162,0,162,5],[163,0,163,5],[176,0,176,5],[177,0,177,6],[178,0,178,5],[179,0,179,5],[180,0,180,5],[181,0,181,5],[170,0,170,5],[171,0,171,5],[172,0,172,5],[173,0,173,5],[174,0,174,5],[175,0,175,5],[188,0,188,5],[189,0,189,5],[190,0,190,5],[191,0,191,5],[192,0,192,5],[193,0,193,6],[182,0,182,5],[183,0,183,5],[184,0,184,5],[185,0,185,5],[186,0,186,5],[187,0,187,5],[200,0,200,5],[201,0,201,5],[202,0,202,5],[203,0,203,5],[204,0,204,5],[205,0,205,5],[194,0,194,5],[195,0,195,5],[196,0,196,5],[197,0,197,5],[198,0,198,5],[199,0,199,5],[212,0,212,5],[213,0,213,5],[214,0,214,5],[215,0,215,5],[216,0,216,5],[217,0,217,5],[206,0,206,5],[207,0,207,5],[208,0,208,5],[209,0,209,6],[210,0,210,5],[211,0,211,5],[227,0,227,5],[229,0,229,5],[218,0,218,5],[219,0,219,5],[220,0,220,5],[221,0,221,5],[222,0,222,5],[223,0,223,5],[228,0,228,5],[104,0,104,6],[249,0,249,5],[252,0,252,4],[254,2,255,4],[263,3,263,4],[242,0,242,6],[243,0,245,5],[243,6,245,6],[246,0,246,5],[247,0,248,5],[247,6,248,6],[236,0,236,5],[237,0,237,5],[238,0,238,5],[239,0,239,6],[240,0,240,6],[241,0,241,6],[232,0,232,5],[233,0,233,5],[234,0,234,5],[235,0,235,5],[224,0,224,6],[225,0,225,5],[226,0,226,5]]}
[]
["Annexe au calcul des taux des traitements sylvicoles non commerciaux 2024-2025\nspécifique aux projets du\nProcessus d'analyse des traitements sylvicoles (PATS)\n   Éducation de peuplement\nForêt publique"]
[" *** Veuillez saisir les informations dans les cellules blanches seulement ***",null,null,null,null,null,"Version 1 - PATS : 2024-03-26"]
["Identification"]
["Unité d'aménagement (UA)"]
["Secteur d'intervention"]
["Unité de compilation"]
["Numéro de la prescription"]
["Traitement (code DICA)"]
["Traitement (code RATF)",null,null,null,{"$f":"IFERROR(VLOOKUP($G$9,Menus!$A$922:$C$924,3,FALSE),Menus!$A$917)","v":"DEBR"}]
["Traitement d'éducation de peuplement à taux variable"]
["Traitement",null,null,null,null,null,"Inscrire une valeur"]
["Taux de base",null,null,null,null,null,{"$f":"IFERROR(VLOOKUP($G$12,Menus!A865:C869,2,FALSE),\"\")","v":"S/O"}]
["Unité de mesure",null,null,null,null,null,{"$f":"IFERROR(VLOOKUP($G$12,Menus!A865:C869,3,FALSE),\"\")","v":"S/O"}]
["Taux d'exécution à déterminer selon la formule suivante"]
[{"$f":"IFERROR(IF(EXACT($G$12,Menus!$A$866),IF(ISBLANK($G$45),\"Inscrire une valeur à G45 afin d'afficher la formule adéquate\",VLOOKUP(CONCATENATE($G$12,\" - \",$G$45),Formules,3,FALSE)),VLOOKUP($G$12,Formules,3,FALSE)),\"\")","v":""}]
[{"$f":"\"Valeurs spécifiques à remplir selon le traitement - \"&$G$12","v":"Valeurs spécifiques à remplir selon le traitement - Inscrire une valeur"}]
["Valeurs spécifiques à remplir selon le traitement - Dégagement mécanique d'un peuplement résineux ou mixte à dominance de résineux (MR-FI) et Débroussaillement mécanique interplaceaux"]
["RECFFE","Recouvrement FFÉ","Pourcentage de recouvrement des framboisiers, des fougères et des épilobes (FFÉ)"]
["DI","Densité initiale (tiges/hectare)","Dénombrement de toutes les tiges de 1 m et plus de hauteur\n•  Inventaire un an avant exécution : 80 cm"]
["MODE","Mode d'établissement de la régénération",null,null,null,{"$f":"IFERROR(VLOOKUP($G$21,Menus!$B$447:$C$448,2,FALSE),\"\")","v":""}]
["R","Superficie traitée (%)\nRapport entre la superficie traitée et la superficie brute (%)"]
["Niveau de difficulté",null,null,null,null,{"$f":"IFERROR(VLOOKUP($G$23,PATS_EP_DM_INTER_Niveaux_de_difficulté_Valeurs,2,FALSE),\"\")","v":""}]
[null,null,null,null,null,null,"Inscrire une valeur"]
["Taux calculé à partir de l'équation et des variables reliées au traitement",null,null,null,null,null,{"$f":"IFERROR(ROUND(IF(OR(ISBLANK($G$22),ISBLANK($G$23),$G$22>1,$G$22<0),0,'Calculs grille'!$L$137+($G$22*SUM($F$23))),2),0)","v":0}]
["Valeurs spécifiques à remplir selon le traitement - Nettoiement d'un peuplement résineux ou mixte à dominance résineux (MR-FI) dans des conditions spécifiques"]
["DI","Densité initiale (tiges/hectare)","Dénombrement de toutes les tiges dont le diamètre à hauteur de souche (15 cm) est supérieur à 1,5 cm\n•  Inventaire un an avant exécution : Résineux > 1,0 m et Feuillus > 1,6 m de hauteur\n•  Inventaire même année qu'exécution : Résineux > 1,2 m et Feuillus > 1,8 m de hauteur\n•  Le dénombrement des tiges peut être effectué à partir de la hauteur de la tige ou du\n    diamètre à hauteur de souche après entente avec les autorités"]
["SRLC","Stocking résineux libre de croître (%)","Nombre de placettes contenant un résineux libre de croître sur le nombre\ntotal de placettes"]
["TPGI","Peuplements","Facteur d'ajustement",null,null,{"$f":"IFERROR(VLOOKUP(CONCATENATE($G$29,\" - \",$G$31,\" - \",#REF!),Menus!$A$472:$B$475,2,FALSE),\"\")","v":""}]
[null,"Gradient d'intensité",null,null,{"$f":"IFERROR(IF(EXACT($G$29,Menus!$A$460),\"EP_Nettoiement_Gradiant\",IF(EXACT($G$29,Menus!$A$461),\"EP_Nettoiement_Gradiant2\",\"\")),\"\")","v":""}]
[null,"Type nettoiement",null,null,{"$f":"IFERROR(IF(OR(ISBLANK($G$29),ISBLANK($G$31))=TRUE,\"\",IF(AND(EXACT($G$29,Menus!$A$461),EXACT('Éducation de peuplement - PATS'!$G$31,Menus!$A$465)),\"EP_Nettoiement_Type_Sans_objet\",\"EP_Nettoiement_Type\")),\"\")","v":""}]
["AJUST","Conditions spécifiques",null,null,null,{"$f":"IFERROR(VLOOKUP($G$32,PATS_EP_Nettoiement_Ajustement_spécifique_Valeurs,2,FALSE),\"\")","v":""}]
["Taux calculé à partir de l'équation et des variables reliées au traitement",null,null,null,null,null,{"$f":"IFERROR(ROUND(IF(OR(ISBLANK($G$27),ISBLANK($G$28),$G$28>1,$G$28<0,ISBLANK($G$32))=FALSE,(('Calculs grille'!$L$83+('Calculs grille'!$L$84*$G$27)-(ABS('Calculs grille'!$L$85)*$G$28))*SUM($F$32)),0),2),0)","v":0}]
["Valeurs spécifiques à remplir selon le traitement - Nettoiement sous couvert d’un peuplement de feuillus tolérants"]
["DI","Densité initiale (tiges/hectare)","Dénombrement de toutes les tiges dont le diamètre à hauteur de souche (15 cm) est supérieur à 1,5 cm\n•  Inventaire un an avant exécution : Résineux > 1,0 m et Feuillus > 1,6 m de hauteur\n•  Inventaire même année qu'exécution : Résineux > 1,2 m et Feuillus > 1,8 m de hauteur\n•  Le dénombrement des tiges peut être effectué à partir de la hauteur de la tige ou du\n    diamètre à hauteur de souche après entente avec les autorités"]
["SFAC","Stocking des feuillus\nà contrôler (%)","Nombre de placettes contenant un feuillu à contrôler sur le nombre\ntotal de placettes"]
["CP1","Composition du peuplement 1","Facteur d'ajustement lié à la hauteur moyenne des\ntiges à couper",null,null,{"$f":"IFERROR(VLOOKUP($G$37,PATS_EP_NETSCOUV_Variable_CP1_Valeurs,2,FALSE),\"\")","v":""}]
["CP2","Composition du peuplement 2","Facteur d'ajustement lié au pourcentage de\nprélèvement à la récolte",null,null,{"$f":"IFERROR(VLOOKUP($G$38,PATS_EP_NETSCOUV_Variable_CP2_Valeurs,2,FALSE),\"\")","v":""}]
["CP3","Composition du peuplement 3","Facteur d'ajustement lié au mode d'opération à la\nrécolte",null,null,{"$f":"IFERROR(VLOOKUP($G$39,PATS_EP_NETSCOUV_Variable_CP3_Valeurs,2,FALSE),\"\")","v":""}]
[]
["Taux calculé à partir de l'équation et des variables reliées au traitement",null,null,null,null,null,{"$f":"IFERROR(ROUND(IF(OR(ISBLANK($G$35),ISBLANK($G$36),ISBLANK($G$37),ISBLANK($G$38),ISBLANK($G$39),$G$36>1,$G$36<0),0,('Calculs grille'!$L$131+('Calculs grille'!$L$132*$G$35)-(ABS('Calculs grille'!$L$133)*(1-$G$36)))*SUM($F$37:$F$39)),2),0)","v":0}]
["Valeurs spécifiques à remplir selon le traitement - EPC systématique d'un peuplement résineux ou de peuplier et Dépressage"]
["DI","Densité initiale (tiges/hectare)","Dénombrement de toutes les tiges dont le diamètre à hauteur de souche (15 cm) est supérieur à 1,5 cm\n•  Inventaire un an avant exécution : Résineux > 1,0 m et Feuillus > 1,6 m de hauteur\n•  Inventaire même année qu'exécution : Résineux > 1,2 m et Feuillus > 1,8 m de hauteur\n•  Le dénombrement des tiges peut être effectué à partir de la hauteur de la tige ou du\n    diamètre à hauteur de souche après entente avec les autorités"]
["TP","Type de composition visée","Facteur d'ajustement",null,null,{"$f":"IFERROR(VLOOKUP($G$44,Menus!$A$451:$B$452,2,FALSE),\"\")","v":""}]
["Hauteur du peuplement et patron d'opération (layons et entraxes)"]
["Taux calculé à partir de l'équation et des variables reliées au traitement",null,null,null,null,null,{"$f":"IFERROR(ROUND(IF(OR(ISBLANK($G$43),ISBLANK($G$45)),0,IF(EXACT($G$45,Menus!$A$908),IF('Calculs grille'!$L$125+('Calculs grille'!$L$126*LN($G$43)-'Calculs grille'!$L$127)<'Calculs grille'!$L$129,'Calculs grille'!$L$129,'Calculs grille'!$L$125+('Calculs grille'!$L$126*LN($G$43)-'Calculs grille'!$L$127)),IF(EXACT($G$45,Menus!$A$909),IF('Calculs grille'!$L$128+('Calculs grille'!$L$129*LN($G$43)-'Calculs grille'!$L$130)<'Calculs grille'!$L$129,'Calculs grille'!$L$129,'Calculs grille'!$L$128+('Calculs grille'!$L$129*LN($G$43)-'Calculs grille'!$L$130)),0))),2),0)","v":0}]
["Valeurs spécifiques à remplir selon le traitement - EPC par puits de lumière ET Taille de formation avec martelage"]
["Éclaircie précommerciale",null,null,null,null,{"$f":"IFERROR(VLOOKUP($G$48,Menus!$B$486:$C$487,2,FALSE),\"\")","v":""}]
["Martelage",null,null,null,null,{"$f":"IFERROR(VLOOKUP($G$49,Menus!$B$482:$C$483,2,FALSE),\"\")","v":""}]
["DENSTIGE","Densité des arbres à éclaircir et/ou marteler et/ou tailler à l'hectare"]
["HTTIGE","Hauteur totale des arbres à éclaircir et/ou marteler et/ou tailler (m)"]
["TAIL","Taille de formation",null,null,null,{"$f":"IFERROR(VLOOKUP($G$52,Menus!$B$478:$C$479,2,FALSE),\"\")","v":""}]
[{"$f":"IF(ISBLANK($G$48)=TRUE,\"Taux calculé pour le traitement à partir de l'équation et des variables\",\"Taux calculé pour le traitement à partir de l'équation et des variables - \"&$G$48)","v":"Taux calculé pour le traitement à partir de l'équation et des variables"},null,null,null,null,null,{"$f":"IFERROR(ROUND(IF(OR(ISBLANK($G$48),ISBLANK($G$50),ISBLANK($G$51))=FALSE,(('Calculs grille'!$L$97*$G$50*EXP('Calculs grille'!$L$98*$G$51)+'Calculs grille'!$L$104)*$F$48),0),2),0)","v":0}]
[{"$f":"\"Taux calculé pour \"&IF(AND(EXACT($F$52,0),EXACT($F$49,1))=TRUE,\"le martelage sans taille de formation\",IF(AND(EXACT($F$52,1),EXACT($F$49,0))=TRUE,\"la taille de formation sans martelage\",IF(AND(EXACT($F$52,1),EXACT($F$49,1))=TRUE,\"le martelage et la taille de formation\",\"la taille de formation et le martelage\")))","v":"Taux calculé pour la taille de formation et le martelage"},null,null,null,null,null,{"$f":"IFERROR(ROUND(IF(AND(EXACT($F$49,1),EXACT($F$52,1))=TRUE,(('Calculs grille'!$L$99*$G$50/(('Calculs grille'!$L$100*$G$50)+'Calculs grille'!$L$101)+'Calculs grille'!$L$102*$F$52)+'Calculs grille'!$L$106+'Calculs grille'!$L$107),IF(AND(EXACT($F$49,1),EXACT($F$52,0))=TRUE,(('Calculs grille'!$L$99*$G$50/(('Calculs grille'!$L$100*$G$50)+'Calculs grille'!$L$101)+'Calculs grille'!$L$102*$F$52)+'Calculs grille'!$L$105),IF(AND(EXACT($F$48,0),EXACT($F$49,0),EXACT($F$52,1))=TRUE,\"Cette combinaison n'est pas possible\",IF(AND(EXACT($F$49,0),EXACT($F$52,1))=TRUE,(('Calculs grille'!$L$99*$G$50/(('Calculs grille'!$L$100*$G$50)+'Calculs grille'!$L$101)+'Calculs grille'!$L$102*$F$52)+'Calculs grille'!$L$107),0)))),2),0)","v":0}]
["Valeurs spécifiques à remplir selon le traitement - Élagage artificiel pour le pin blanc et le pin rouge"]
["BRAN","Nombre de branches à couper par tige"]
["LONGELA","Longueur d'élagage ",null,null,null,{"$f":"IFERROR(VLOOKUP($G$57,Menus!$B$490:$C$491,2,FALSE),\"\")","v":""}]
["DENSELA","Densité des arbres à élaguer à l'hectare"]
["MP","Martelage positif selon le nombre de tiges à l'hectare",null,null,null,{"$f":"IFERROR(VLOOKUP($G$59,Menus!$A$494:$B$496,2,FALSE),\"\")","v":""}]
["Taux calculé à partir de l'équation et des variables reliées au traitement",null,null,null,null,null,{"$f":"IFERROR(ROUND(IF(OR(ISBLANK($G$56),ISBLANK($G$57),ISBLANK($G$58),ISBLANK($G$59))=FALSE,((('Calculs grille'!$L$108*$G$56+'Calculs grille'!$L$109+'Calculs grille'!$L$110*$F$57)+(-'Calculs grille'!$L$111*LN($G$58)+'Calculs grille'!$L$112))*$G$58+$F$59+'Calculs grille'!$L$115),0),2),0)","v":0}]
["Valeurs spécifiques à remplir selon le traitement - Dépressage mécanisé systématique par layons avec abatteuse-groupeuse"]
["Valeurs spécifiques à remplir selon le traitement - Dépressage mécanisé systématique par layons avec abatteuse-groupeuse"]
["DENSELA","Densité des arbres à élaguer à l'hectare"]
["DENSCO","Densité des arbres à couper à l'hectare"]
["Espacement entre les layons traités",null,null,null,null,null,"Inscrire une valeur"]
["Taux de base",null,null,null,null,null,{"$f":"IFERROR(_xlfn.XLOOKUP($G$65,Menus!A927:A928,Menus!B927:B928,,0),0)","v":0}]
[{"$f":"\"Majorations applicables à l'exécution - \"&$G$12&\" - Voir l'onglet « Étapes calcul majoration »\"","v":"Majorations applicables à l'exécution - Inscrire une valeur - Voir l'onglet « Étapes calcul majoration »"}]
[{"$f":"IFERROR(VLOOKUP($G$12,Majorations_applicables,11,FALSE),\"\")","v":""}]
["Majoration pour le type de préparation de terrain (DEGPM)"]
["Majoration pour le type de préparation de terrain (DEGPM) - Dégagement mécanique"]
["Type de préparation de terrain  (DEGPM)",null,null,null,null,{"$f":"IFERROR(VLOOKUP($G$71,Menus!$A$597:$B$598,2,FALSE),\"\")","v":""}]
["Majoration pour la pente (PE2) - (PE3)"]
["Majoration pour la pente (PE2) - Dégagement mécanique d'un peuplement résineux ou mixte à dominance de résineux (MR-FI)"]
["Classe de pente numérique",null,"Taux calculé","Écart","Superficie nette (ha) excluant les andains","Superficie brute (hectare)","% andains"]
["Pente A",null,{"$f":"IFERROR($G$25*SUM(1,$F$71)*(1+VLOOKUP($A$75,'Majorations applicables'!$A$76:$B$80,2,FALSE)),0)","v":0},{"$f":"IFERROR($C$75-$G$25*SUM(1,$F$71),0)","v":0},{"$f":"IFERROR($F$75*(1-$G$75),0)","v":0}]
["Pente B",null,{"$f":"IFERROR($G$25*SUM(1,$F$71)*(1+VLOOKUP($A$76,'Majorations applicables'!$A$76:$B$80,2,FALSE)),0)","v":0},{"$f":"IFERROR($C$76-$G$25*SUM(1,$F$71),0)","v":0},{"$f":"IFERROR($F$76*(1-$G$76),0)","v":0}]
["Pente C",null,{"$f":"IFERROR($G$25*SUM(1,$F$71)*(1+VLOOKUP($A$77,'Majorations applicables'!$A$76:$B$80,2,FALSE)),0)","v":0},{"$f":"IFERROR($C$77-$G$25*SUM(1,$F$71),0)","v":0},{"$f":"IFERROR($F$77*(1-$G$77),0)","v":0}]
["Pente D",null,{"$f":"IFERROR($G$25*SUM(1,$F$71)*(1+VLOOKUP($A$78,'Majorations applicables'!$A$76:$B$80,2,FALSE)),0)","v":0},{"$f":"IFERROR($C$78-$G$25*SUM(1,$F$71),0)","v":0},{"$f":"IFERROR($F$78*(1-$G$78),0)","v":0}]
["Pente E et plus",null,{"$f":"IFERROR($G$25*SUM(1,$F$71)*(1+VLOOKUP($A$79,'Majorations applicables'!$A$76:$B$80,2,FALSE)),0)","v":0},{"$f":"IFERROR($C$79-$G$25*SUM(1,$F$71),0)","v":0},{"$f":"IFERROR($F$79*(1-$G$79),0)","v":0}]
[null,null,null,"Total",{"$f":"IFERROR(SUM($E$75:$E$79),0)","v":0},{"$f":"IFERROR(SUM($F$75:$F$79),0)","v":0},{"$f":"IFERROR((SUMPRODUCT($G$75:$G$79,$F$75:$F$79)/$F$80),0)","v":0}]
["Majoration pour la pente (PE2) - Nettoiement d'un peuplement résineux ou mixte à dominance de résineux (MR-FI) dans des conditions spécifiques et - Nettoiement sous couvert d’un peuplement de feuillus tolérants"]
["Classe de pente numérique",null,"Taux calculé","Écart","Superficie nette (ha) excluant les andains","Superficie brute (hectare)","% andains"]
["Pente A",null,{"$f":"IFERROR(IF(EXACT($G$12,Menus!$A$868),$G$33*(1+VLOOKUP($A$83,'Majorations applicables'!$A$76:$B$80,2,FALSE)),IF(EXACT($G$12,Menus!#REF!),$G$41*(1+VLOOKUP($A$83,'Majorations applicables'!$A$76:$B$80,2,FALSE)),0)),0)","v":0},{"$f":"IFERROR(IF(EXACT($G$12,Menus!$A$868),$C$83-$G$33,IF(EXACT($G$12,Menus!#REF!),$C$83-$G$41,0)),0)","v":0},{"$f":"IFERROR($F$83*(1-$G$83),0)","v":0}]
["Pente B",null,{"$f":"IFERROR(IF(EXACT($G$12,Menus!$A$868),$G$33*(1+VLOOKUP($A$84,'Majorations applicables'!$A$76:$B$80,2,FALSE)),IF(EXACT($G$12,Menus!#REF!),$G$41*(1+VLOOKUP($A$84,'Majorations applicables'!$A$76:$B$80,2,FALSE)),0)),0)","v":0},{"$f":"IFERROR(IF(EXACT($G$12,Menus!$A$868),$C$84-$G$33,IF(EXACT($G$12,Menus!#REF!),$C$84-$G$41,0)),0)","v":0},{"$f":"IFERROR($F$84*(1-$G$84),0)","v":0}]
["Pente C",null,{"$f":"IFERROR(IF(EXACT($G$12,Menus!$A$868),$G$33*(1+VLOOKUP($A$85,'Majorations applicables'!$A$76:$B$80,2,FALSE)),IF(EXACT($G$12,Menus!#REF!),$G$41*(1+VLOOKUP($A$85,'Majorations applicables'!$A$76:$B$80,2,FALSE)),0)),0)","v":0},{"$f":"IFERROR(IF(EXACT($G$12,Menus!$A$868),$C$85-$G$33,IF(EXACT($G$12,Menus!#REF!),$C$85-$G$41,0)),0)","v":0},{"$f":"IFERROR($F$85*(1-$G$85),0)","v":0}]
["Pente D",null,{"$f":"IFERROR(IF(EXACT($G$12,Menus!$A$868),$G$33*(1+VLOOKUP($A$86,'Majorations applicables'!$A$76:$B$80,2,FALSE)),IF(EXACT($G$12,Menus!#REF!),$G$41*(1+VLOOKUP($A$86,'Majorations applicables'!$A$76:$B$80,2,FALSE)),0)),0)","v":0},{"$f":"IFERROR(IF(EXACT($G$12,Menus!$A$868),$C$86-$G$33,IF(EXACT($G$12,Menus!#REF!),$C$86-$G$41,0)),0)","v":0},{"$f":"IFERROR($F$86*(1-$G$86),0)","v":0}]
["Pente E et plus",null,{"$f":"IFERROR(IF(EXACT($G$12,Menus!$A$868),$G$33*(1+VLOOKUP($A$87,'Majorations applicables'!$A$76:$B$80,2,FALSE)),IF(EXACT($G$12,Menus!#REF!),$G$41*(1+VLOOKUP($A$87,'Majorations applicables'!$A$76:$B$80,2,FALSE)),0)),0)","v":0},{"$f":"IFERROR(IF(EXACT($G$12,Menus!$A$868),$C$87-$G$33,IF(EXACT($G$12,Menus!#REF!),$C$87-$G$41,0)),0)","v":0},{"$f":"IFERROR($F$87*(1-$G$87),0)","v":0}]
[null,null,null,"Total",{"$f":"IFERROR(SUM($E$83:$E$87),0)","v":0},{"$f":"IFERROR(SUM($F$83:$F$87),0)","v":0},{"$f":"IFERROR((SUMPRODUCT($G$83:$G$87,$F$83:$F$87)/$F$88),0)","v":0}]
["Majoration pour la pente (PE2) -EPC systématique d'un peuplement résineux ou de peuplier et Dépressage"]
["Classe de pente numérique",null,"Taux calculé","Écart","Superficie nette (ha) excluant les andains","Superficie brute (hectare)","% andains"]
["Pente A",null,{"$f":"IFERROR($G$46*(1+VLOOKUP($A$91,'Majorations applicables'!$A$76:$B$80,2,FALSE)),0)","v":0},{"$f":"IFERROR($C$91-$G$46,0)","v":0},{"$f":"IFERROR($F$91*(1-$G$91),0)","v":0}]
["Pente B",null,{"$f":"IFERROR($G$46*(1+VLOOKUP($A$92,'Majorations applicables'!$A$76:$B$80,2,FALSE)),0)","v":0},{"$f":"IFERROR($C$92-$G$46,0)","v":0},{"$f":"IFERROR($F$92*(1-$G$92),0)","v":0}]
["Pente C",null,{"$f":"IFERROR($G$46*(1+VLOOKUP($A$93,'Majorations applicables'!$A$76:$B$80,2,FALSE)),0)","v":0},{"$f":"IFERROR($C$93-$G$46,0)","v":0},{"$f":"IFERROR($F$93*(1-$G$93),0)","v":0}]
["Pente D",null,{"$f":"IFERROR($G$46*(1+VLOOKUP($A$94,'Majorations applicables'!$A$76:$B$80,2,FALSE)),0)","v":0},{"$f":"IFERROR($C$94-$G$46,0)","v":0},{"$f":"IFERROR($F$94*(1-$G$94),0)","v":0}]
["Pente E et plus",null,{"$f":"IFERROR($G$46*(1+VLOOKUP($A$95,'Majorations applicables'!$A$76:$B$80,2,FALSE)),0)","v":0},{"$f":"IFERROR($C$95-$G$46,0)","v":0},{"$f":"IFERROR($F$95*(1-$G$95),0)","v":0}]
[null,null,null,"Total",{"$f":"IFERROR(SUM($E$91:$E$95),0)","v":0},{"$f":"IFERROR(SUM($F$91:$F$95),0)","v":0},{"$f":"IFERROR((SUMPRODUCT($G$91:$G$95,$F$91:$F$95)/$F$96),0)","v":0}]
["Majoration pour la pente (PE2) - EPC par puits de lumière ET Taille de formation avec martelage"]
["Classe de pente numérique",null,"Taux calculé","Écart","Superficie nette (ha) excluant les andains","Superficie brute (hectare)","% andains"]
["Pente A",null,{"$f":"IFERROR(SUM($G$53:$G$54)*(1+VLOOKUP($A$99,'Majorations applicables'!$A$76:$B$80,2,FALSE)),0)","v":0},{"$f":"IFERROR($C$99-($G$53+$G$54),0)","v":0},{"$f":"IFERROR($F$99*(1-$G$99),0)","v":0}]
["Pente B",null,{"$f":"IFERROR(SUM($G$53:$G$54)*(1+VLOOKUP($A$100,'Majorations applicables'!$A$76:$B$80,2,FALSE)),0)","v":0},{"$f":"IFERROR($C$100-($G$53+$G$54),0)","v":0},{"$f":"IFERROR($F$100*(1-$G$100),0)","v":0}]
["Pente C",null,{"$f":"IFERROR(SUM($G$53:$G$54)*(1+VLOOKUP($A$101,'Majorations applicables'!$A$76:$B$80,2,FALSE)),0)","v":0},{"$f":"IFERROR($C$101-($G$53+$G$54),0)","v":0},{"$f":"IFERROR($F$101*(1-$G$101),0)","v":0}]
["Pente D",null,{"$f":"IFERROR(SUM($G$53:$G$54)*(1+VLOOKUP($A$102,'Majorations applicables'!$A$76:$B$80,2,FALSE)),0)","v":0},{"$f":"IFERROR($C$102-($G$53+$G$54),0)","v":0},{"$f":"IFERROR($F$102*(1-$G$102),0)","v":0}]
["Pente E et plus",null,{"$f":"IFERROR(SUM($G$53:$G$54)*(1+VLOOKUP($A$103,'Majorations applicables'!$A$76:$B$80,2,FALSE)),0)","v":0},{"$f":"IFERROR($C$103-($G$53+$G$54),0)","v":0},{"$f":"IFERROR($F$103*(1-$G$103),0)","v":0}]
[null,null,null,"Total",{"$f":"IFERROR(SUM($E$99:$E$103),0)","v":0},{"$f":"IFERROR(SUM($F$99:$F$103),0)","v":0},{"$f":"IFERROR((SUMPRODUCT($G$99:$G$103,$F$99:$F$103)/$F$104),0)","v":0}]
["Majoration pour la pente (PE3) - Dépressage mécanisé systématique par layons avec abatteuse-groupeuse"]
["Classe de pente numérique",null,"Taux calculé",null,"Écart",null,"Superficie brute\n(hectare)"]
["Pente A",null,{"$f":"$G$66*(1+VLOOKUP($A107,'Majorations applicables'!$A$83:$B$87,2,FALSE))","v":0},null,{"$f":"IFERROR($C107-$G$66,0)","v":0}]
["Pente B",null,{"$f":"$G$66*(1+VLOOKUP($A108,'Majorations applicables'!$A$83:$B$87,2,FALSE))","v":0},null,{"$f":"IFERROR($C108-$G$66,0)","v":0}]
["Pente C",null,{"$f":"$G$66*(1+VLOOKUP($A109,'Majorations applicables'!$A$83:$B$87,2,FALSE))","v":0},null,{"$f":"IFERROR($C109-$G$66,0)","v":0}]
["Pente D",null,{"$f":"$G$66*(1+VLOOKUP($A110,'Majorations applicables'!$A$83:$B$87,2,FALSE))","v":0},null,{"$f":"IFERROR($C110-$G$66,0)","v":0}]
["Pente E et plus",null,{"$f":"$G$66*(1+VLOOKUP($A111,'Majorations applicables'!$A$83:$B$87,2,FALSE))","v":0},null,{"$f":"IFERROR($C111-$G$66,0)","v":0}]
["Total",null,null,null,null,null,{"$f":"IFERROR(SUM($G$107:$G$111),0)","v":0}]
["Majoration pour l'indice de dispersion (DRAP ou DMOD)"]
["Majoration pour l'indice de dispersion (DRAP ou DMOD) - Tous sauf Drainage et Taupe"]
["Unité d'aménagement (UA)",null,null,null,null,null,{"$f":"IFERROR(IF(ISBLANK($G$5)=TRUE,\"Inscrire une valeur à G5\",$G$5),\"\")","v":"Inscrire une valeur à G5"}]
["Dispersion (DMOD)",null,null,null,null,null,{"$f":"IFERROR(VLOOKUP($G$115,'Indice dispersion TS'!$B$6:$F$64,5,FALSE),0)","v":0}]
[]
[]
[]
[]
["Inventaire de conformité (Vérification)"]
["Inventaire de conformité - Tous"]
["Délimitation des secteurs (taux par kilomètre délimité)"]
["Nombre de kilomètres délimités"]
["Inventaire (taux par placette inventoriée)"]
["Nombre de placettes inventoriées"]
["Critère #5","Coefficient de distribution total des arbres d'avenir d'essences désirées (éclaircis systématiquement ou par puits de lumière, nettoyés, dégagés ou non)",null,null,{"$f":"IFERROR(SUM($F$127:$F$129)*'Calculs grille'!$L$166,0)","v":0},{"$f":"IFERROR(IF(EXACT(UPPER($G$127),UPPER(Menus!$A$507)),1,IF(EXACT(UPPER($G$127),UPPER(Menus!$A$508)),0,\"\")),\"\")","v":""}]
[null,"Coefficient de distribution des arbres d'essence en voie de raréfaction",null,null,null,{"$f":"IFERROR(IF(EXACT(UPPER($G$128),UPPER(Menus!$A$507)),1,IF(EXACT(UPPER($G$128),UPPER(Menus!$A$508)),0,\"\")),\"\")","v":""}]
[null,"Coefficient de distribution des arbres feuillus d'essence commerciale",null,null,null,{"$f":"IFERROR(IF(EXACT(UPPER($G$129),UPPER(Menus!$A$507)),1,IF(EXACT(UPPER($G$129),UPPER(Menus!$A$508)),0,\"\")),\"\")","v":""}]
["Majoration pour l'hébergement (HPT)"]
["Majoration pour l'hébergement (HPT) - HPT pour mécanisé"]
["Hébergement (HPT)",null,null,null,{"$f":"IFERROR(IF(OR(EXACT($G$13,Menus!$B$23),EXACT($G$13,Menus!$B$25)),Menus!$B$50,Menus!$B$44),Menus!$B$44)","v":"PRT_Majoration_HPT"},{"$f":"IFERROR(IF(ISBLANK($G$132)=TRUE,\"\",IFERROR(VLOOKUP(G132,Menus!$A$45:$B$48,2,FALSE),IF($G$132<=Menus!$B$47,ROUND($G$132,4),\"Max \"&TEXT(Menus!$B$47,\"0,00%\")))),\"\")","v":""}]
["Majoration pour l'hébergement, le transport collectif et la distance ou la durée du déplacement (HEP, TCEP et DTEXE)"]
["Majoration pour l'hébergement, le transport collectif et la distance ou la durée du déplacement (HEP, TC et DTEXE) - Tous "]
["Hébergement (HEP) ou transport collectif (TCEP)",null,null,null,null,{"$f":"IFERROR(IF(ISBLANK($G$135)=TRUE,\"\",IFERROR(VLOOKUP($G$135,Menus!$A$511:$B$515,2,FALSE),IF($G$135<=Menus!$B$513,ROUND($G$135,4),\"Max \"&TEXT(Menus!$B$513,\"0,0%\")))),\"\")","v":""}]
["Distance ou durée du déplacement (DTEXE)",null,null,null,null,{"$f":"IFERROR(VLOOKUP($G$136,Menus!$A$523:$B$525,2,FALSE),\"\")","v":""}]
["Majoration pour la certification (CEAF3 ou ISO3)"]
["Majoration pour la certification (CEAF3 ou ISO3)"]
[{"$f":"IF($G$12=\"Dépressage mécanisé systématique par layons avec abatteuse-groupeuse\",\"Certification (CEAF1 ou ISO1)\",\"Certification (CEAF3 ou ISO3)\")","v":"Certification (CEAF3 ou ISO3)"},null,null,null,null,{"$f":"IFERROR(IF($G$12=\"Dépressage mécanisé systématique par layons avec abatteuse-groupeuse\",VLOOKUP($G$139,Menus!$A$71:$B$73,2,FALSE),VLOOKUP($G$139,Menus!$A$533:$B$535,2,FALSE)),\"\")","v":""}]
["Majoration pour la certification (CEAF1 ou ISO1)"]
["Majoration pour la certification (CEAF1 ou ISO1) - Dépressage mécanisé systématique par layons avec abatteuse-groupeuse"]
[{"$f":"IF($G$12=\"Dépressage mécanisé systématique par layons avec abatteuse-groupeuse\",\"Certification (CEAF1 ou ISO1)\",\"Certification (CEAF3 ou ISO3)\")","v":"Certification (CEAF3 ou ISO3)"},null,null,null,null,{"$f":"IFERROR(IF($G$12=\"Dépressage mécanisé systématique par layons avec abatteuse-groupeuse\",VLOOKUP($G$142,Menus!$A$71:$B$73,2,FALSE),VLOOKUP($G$142,Menus!$A$533:$B$535,2,FALSE)),\"\")","v":""}]
[]
["Totaux"]
["Calculs - Dégagement mécanique d'un peuplement résineux ou mixte à dominance de résineux (MR-FI) et Débroussaillement mécanique interplaceaux"]
["Taux d'exécution de base",null,null,null,null,null,{"$f":"IFERROR($G$25,0)","v":0}]
["Taux DEGPM",null,null,null,null,null,{"$f":"IFERROR($G$146*SUM($F$71),0)","v":0}]
["Taux PE2",null,null,null,null,null,{"$f":"IFERROR(ROUND((SUMPRODUCT($D$75:$D$79,$E$75:$E$79)/$E$80),2),0)","v":0}]
["Taux VERIF",null,null,null,null,null,{"$f":"IFERROR($G$125*$G$126/$E$80,0)","v":0}]
["Taux HEP ou TCEP",null,null,null,null,null,{"$f":"IFERROR((SUM($G$148:$G$149,G146)*$F$135),0)","v":0}]
["Taux DTEXE",null,null,null,null,null,{"$f":"IFERROR((SUM($G$148:$G$149,G146)*$F$136),0)","v":0}]
["Taux CEAF3 ou ISO3",null,null,null,null,null,{"$f":"IFERROR((SUM($G$148:$G$151,G146)*$F$139),0)","v":0}]
["Taux exécution total et majoration(s) admissible(s)",null,null,null,null,null,{"$f":"IFERROR((ROUND(SUM($G$149:$G$152),2)),0)","v":0}]
["Taux inventaire de conformité",null,null,null,null,null,{"$f":"IFERROR(((($G$123*$G$124)+($G$125*$G$126)+SUM($F$127:$F$129)*'Calculs grille'!$L$166*$G$126+SUM($F$130:$F$131)*'Calculs grille'!L$168*$G$126)/$G$157),0)","v":0}]
["Taux HPVTM et/ou DTPVTM",null,null,null,null,null,{"$f":"IFERROR(($G$154*SUM($F$115:$F$116)),0)","v":0}]
["Taux exécution total, majorations, réductions admissibles et inventaire conformité total",null,null,null,null,null,{"$f":"IFERROR((ROUND(SUM($G$148:$G$152,G146),2)),0)","v":0}]
["Superficie brute",null,null,null,null,null,{"$f":"IFERROR(ROUND($F$80,2),0)","v":0}]
["Superficie nette (excluant les andains)",null,null,null,null,null,{"$f":"IFERROR(ROUND($E$80,2),0)","v":0}]
["Total exécution",null,null,null,null,null,{"$f":"IFERROR(ROUND($G$153*$G$158,2),0)","v":0}]
["Total inventaire de conformité",null,null,null,null,null,{"$f":"IFERROR(ROUND(SUM($G$154:$G$155)*$G$157,2),0)","v":0}]
["Grand total admissible",null,null,null,null,null,{"$f":"IFERROR((G156*G158),0)","v":0}]
["Calculs - Nettoiement d'un peuplement résineux ou mixte à dominance de résineux (MR-FI) et - Nettoiement sous couvert d’un peuplement de feuillus tolérants"]
["Taux d'exécution de base",null,null,null,null,null,{"$f":"IFERROR(IF(EXACT($G$12,Menus!$A$868),$G$33,IF(EXACT($G$12,Menus!#REF!),$G$41,0)),0)","v":0}]
["Taux PE2",null,null,null,null,null,{"$f":"IFERROR(ROUND((SUMPRODUCT($D$83:$D$87,$E$83:$E$87)/$E$88),2),0)","v":0}]
["Taux Verif",null,null,null,null,null,{"$f":"IFERROR($G$125*$G$126/$E$88,0)","v":0}]
["Taux HEP ou TC",null,null,null,null,null,{"$f":"IFERROR((SUM($G$163:$G$165)*$F$135),0)","v":0}]
["Taux DTEXE",null,null,null,null,null,{"$f":"IFERROR((SUM($G$163:$G$165)*$F$136),0)","v":0}]
["Taux CEAF3 ou ISO3",null,null,null,null,null,{"$f":"IFERROR((SUM($G$163:$G$167)*$F$139),0)","v":0}]
["Taux exécution total et majoration(s) admissible(s)",null,null,null,null,null,{"$f":"IFERROR((ROUND(SUM($G$165:$G$168),2)),0)","v":0}]
["Taux inventaire de conformité",null,null,null,null,null,{"$f":"IFERROR(((($G$123*$G$124)+($G$125*$G$126)+SUM($F$127:$F$129)*'Calculs grille'!$L$166*$G$126+SUM($F$130:$F$131)*'Calculs grille'!L$168*$G$126)/$G$173),0)","v":0}]
["Taux HPVTM et/ou DTPVTM",null,null,null,null,null,{"$f":"IFERROR(($G$170*SUM($F$115:$F$116)),0)","v":0}]
["Taux exécution total, majorations, réductions admissibles et inventaire conformité total",null,null,null,null,null,{"$f":"IFERROR(ROUND(SUM($G$163:$G$168),2),0)","v":0}]
["Superficie brute",null,null,null,null,null,{"$f":"IFERROR(ROUND($F$88,2),0)","v":0}]
["Superficie nette (excluant les andains)",null,null,null,null,null,{"$f":"IFERROR(ROUND($E$88,2),0)","v":0}]
["Total exécution",null,null,null,null,null,{"$f":"IFERROR(ROUND($G$169*$G$174,2),0)","v":0}]
["Total inventaire de conformité",null,null,null,null,null,{"$f":"IFERROR(ROUND(SUM($G$170:$G$171)*$G$173,2),0)","v":0}]
["Grand total admissible",null,null,null,null,null,{"$f":"IFERROR((G172*G174),0)","v":0}]
["Calculs - EPC systématique d'un peuplement résineux ou de peuplier et Dépressage"]
["Taux d'exécution de base",null,null,null,null,null,{"$f":"IFERROR($G$46,0)","v":0}]
["Taux PE2",null,null,null,null,null,{"$f":"IFERROR(ROUND((SUMPRODUCT($D$91:$D$95,$E$91:$E$95)/$E$96),2),0)","v":0}]
["Taux VERIF",null,null,null,null,null,{"$f":"IFERROR($G$125*$G$126/$E$96,0)","v":0}]
["Taux HEP ou TC",null,null,null,null,null,{"$f":"IFERROR((SUM($G$179:$G$181)*$F$135),0)","v":0}]
["Taux DTEXE",null,null,null,null,null,{"$f":"IFERROR((SUM($G$179:$G$181)*$F$136),0)","v":0}]
["Taux CEAF3 ou ISO3",null,null,null,null,null,{"$f":"IFERROR((SUM($G$179:$G$183)*$F$139),0)","v":0}]
["Taux exécution total et majoration(s) admissible(s)",null,null,null,null,null,{"$f":"IFERROR((ROUND(SUM($G$181:$G$184),2)),0)","v":0}]
["Taux inventaire de conformité",null,null,null,null,null,{"$f":"IFERROR(((($G$123*$G$124)+($G$125*$G$126)+SUM($F$127:$F$129)*'Calculs grille'!$L$166*$G$126+SUM($F$130:$F$131)*'Calculs grille'!L$168*$G$126)/$G$189),0)","v":0}]
["Taux HPVTM et/ou DTPVTM",null,null,null,null,null,{"$f":"IFERROR(($G$186*SUM($F$115:$F$116)),0)","v":0}]
["Taux exécution total, majorations, réductions admissibles et inventaire conformité total",null,null,null,null,null,{"$f":"IFERROR((ROUND(SUM($G$179:$G$184),2)),0)","v":0}]
["Superficie brute",null,null,null,null,null,{"$f":"IFERROR(ROUND($F$96,2),0)","v":0}]
["Superficie nette (excluant les andains)",null,null,null,null,null,{"$f":"IFERROR(ROUND($E$96,2),0)","v":0}]
["Total exécution",null,null,null,null,null,{"$f":"IFERROR(ROUND($G$185*$G$190,2),0)","v":0}]
["Total inventaire de conformité",null,null,null,null,null,{"$f":"IFERROR(ROUND(SUM($G$186:$G$187)*$G$189,2),0)","v":0}]
["Grand total admissible",null,null,null,null,null,{"$f":"IFERROR((G190*G188),0)","v":0}]
["Calculs - EPC par puits de lumière ET Taille de formation avec martelage"]
["Taux d'exécution de base",null,null,null,null,null,{"$f":"IFERROR(SUM($G$53:$G$54),0)","v":0}]
["Taux PE2",null,null,null,null,null,{"$f":"IFERROR(ROUND((SUMPRODUCT($D$99:$D$103,$E$99:$E$103)/$E$104),2),0)","v":0}]
["Taux sous-total exécution",null,null,null,null,null,{"$f":"IFERROR(SUM($G$195:$G$196),0)","v":0}]
["Taux HEP ou TC",null,null,null,null,null,{"$f":"IFERROR(($G$197*$F$135),0)","v":0}]
["Taux DTEXE",null,null,null,null,null,{"$f":"IFERROR(($G$197*$F$136),0)","v":0}]
["Taux CEAF3 ou ISO3",null,null,null,null,null,{"$f":"IFERROR((SUM($G$197:$G$199)*$F$139),0)","v":0}]
["Taux exécution total et majoration(s) admissible(s)",null,null,null,null,null,{"$f":"IFERROR((ROUND(SUM($G$197:$G$200),2)),0)","v":0}]
["Taux inventaire de conformité",null,null,null,null,null,{"$f":"IFERROR(((($G$123*$G$124)+($G$125*$G$126)+SUM($F$127:$F$129)*'Calculs grille'!$L$166*$G$126+SUM($F$130:$F$131)*'Calculs grille'!L$168*$G$126)/$G$205),0)","v":0}]
["Taux HPVTM et/ou DTPVTM",null,null,null,null,null,{"$f":"IFERROR(($G$202*SUM($F$115:$F$116)),0)","v":0}]
["Taux exécution et inventaire de conformité total (sur la base de la superficie nette)",null,null,null,null,null,{"$f":"IFERROR((ROUND(SUM($G$201:$G$203),2)),0)","v":0}]
["Superficie brute",null,null,null,null,null,{"$f":"IFERROR(ROUND($F$104,2),0)","v":0}]
["Superficie nette (excluant les andains)",null,null,null,null,null,{"$f":"IFERROR(ROUND($E$104,2),0)","v":0}]
["Total exécution",null,null,null,null,null,{"$f":"IFERROR(ROUND($G$201*$G$206,2),0)","v":0}]
["Total inventaire de conformité",null,null,null,null,null,{"$f":"IFERROR(ROUND(SUM($G$202:$G$203)*$G$205,2),0)","v":0}]
["Grand total admissible",null,null,null,null,null,{"$f":"IFERROR(SUM($G$207:$G$208),0)","v":0}]
["Calculs - Élagage artificiel pour le pin blanc et le pin rouge"]
["Taux d'exécution de base",null,null,null,null,null,{"$f":"IFERROR($G$60,0)","v":0}]
["Taux PE2",null,null,null,null,null,{"$f":"IFERROR(ROUND((SUMPRODUCT(#REF!,#REF!)/#REF!),2),0)","v":0}]
["Taux sous-total exécution",null,null,null,null,null,{"$f":"IFERROR(SUM($G$211:$G$212),0)","v":0}]
["Taux HEP ou TC",null,null,null,null,null,{"$f":"IFERROR(($G$213*$F$135),0)","v":0}]
["Taux DTEXE",null,null,null,null,null,{"$f":"IFERROR(($G$213*$F$136),0)","v":0}]
["Taux CEAF3 ou ISO3",null,null,null,null,null,{"$f":"IFERROR((SUM($G$213:$G$215)*F$139),0)","v":0}]
["Taux exécution total et majoration(s) admissible(s)",null,null,null,null,null,{"$f":"IFERROR((ROUND(SUM($G$213:$G$216),2)),0)","v":0}]
["Taux inventaire de conformité",null,null,null,null,null,{"$f":"IFERROR(((($G$123*$G$124)+($G$125*$G$126)+SUM($F$127:$F$129)*'Calculs grille'!$L$166*$G$126+SUM($F$130:$F$131)*'Calculs grille'!L$168*$G$126)/$G$221),0)","v":0}]
["Taux HPVTM et/ou DTPVTM",null,null,null,null,null,{"$f":"IFERROR(($G$218*SUM($F$115:$F$116)),0)","v":0}]
["Taux exécution et inventaire de conformité total",null,null,null,null,null,{"$f":"IFERROR((ROUND(SUM($G$217:$G$219),2)),0)","v":0}]
["Superficie",null,null,null,null,null,{"$f":"IFERROR(ROUND(#REF!,2),0)","v":0}]
["Total exécution",null,null,null,null,null,{"$f":"IFERROR(ROUND($G$217*$G$221,2),0)","v":0}]
["Total inventaire de conformité",null,null,null,null,null,{"$f":"IFERROR(ROUND(SUM($G$218:$G$219)*$G$221,2),0)","v":0}]
["Grand total admissible",null,null,null,null,null,{"$f":"IFERROR(SUM($G$222:$G$223),0)","v":0}]
["Calculs - Dépressage mécanisé systématique par layons avec abatteuse-groupeuse"]
["Taux d'exécution de base",null,null,null,null,null,{"$f":"IFERROR($G$66,0)","v":0}]
["Taux PE3",null,null,null,null,null,{"$f":"IFERROR(ROUND((SUMPRODUCT($E$107:$E$111,$G$107:$G$111)/$G$112),2),0)","v":0}]
["Taux DMOD",null,null,null,null,null,{"$f":"IFERROR(SUM($G$226:$G$227)*$G$116,0)","v":0}]
["Taux Verif",null,null,null,null,null,{"$f":"IFERROR($G$125*$G$126/$G$112,0)","v":0}]
["Taux HPT",null,null,null,null,null,{"$f":"IFERROR((SUM($G$226:$G$229)*$F$132),0)","v":0}]
["Taux CEAF3 ou ISO3",null,null,null,null,null,{"$f":"IFERROR((SUM($G$226:$G$230)*$F$142),0)","v":0}]
["Taux DTEXE",null,null,null,null,null,{"$f":"IFERROR((SUM($G$229)*$F$136),0)","v":0}]
["Taux inventaire de conformité",null,null,null,null,null,{"$f":"IFERROR(((($G$123*$G$124)+($G$125*$G$126)+SUM($F$127:$F$129)*'Calculs grille'!$L$166*$G$126+SUM($F$130:$F$131)*'Calculs grille'!L$168*$G$126)/$G$236),0)","v":0}]
["Taux HPVTM et/ou DTPVTM",null,null,null,null,null,{"$f":"IFERROR(($G$233*SUM($F$115:$F$116)),0)","v":0}]
["Taux exécution total, majorations, réductions admissibles et inventaire conformité total",null,null,null,null,null,{"$f":"IFERROR((ROUND(SUM($G$226:$G$232),2)),0)","v":0}]
["Superficie",null,null,null,null,null,{"$f":"IFERROR(ROUND($G$112,2),0)","v":0}]
["Total exécution",null,null,null,null,null,{"$f":"IFERROR(ROUND(#REF!*$G$236,2),0)","v":0}]
["Total inventaire de conformité",null,null,null,null,null,{"$f":"IFERROR(ROUND(SUM($G$233:$G$234)*$G$236,2),0)","v":0}]
["Grand total admissible",null,null,null,null,null,{"$f":"IFERROR($G$235*$G$236,0)","v":0}]
[]
["Remarques"]
[]
["J'atteste que les renseignements fournis dans ce document afin de calculer le taux du traitement sont complets et conformes à la vérité, au meilleur de mes connaissances."]
[]
[]
[]
["Nom et prénom de l'ingénieur forestier",null,null,null,null,null,"Numéro de permis"]
[null,null,null,null,null,null,{"$f":"TODAY()","v":"2026-04-08"}]
[]
["Signature de l'ingénieur forestier",null,null,null,null,null,"Date (AAAA-MM-JJ)"]
[]
[]
["Section réservée au suivi du contrat"]
[]
[null,"Numéro de la prescription :",{"$f":"IF($G$8<>\"\",$G$8,\"\")","v":""}]
[]
[null,"Numéro du contrat :"]
[null,"Numéro du projet :"]
[null,"U.G. :"]
[null,"MRC :"]
[null,"Code de traitement DICA : ",{"$f":"IF($G$9<>\"\",$G$9,\"\")","v":""}]
[null,"Code de traitement RATF :",{"$f":"IF($G$10<>\"\",$G$10,\"\")","v":""}]
[null,"Type d'attribution :"]
[null,{"$f":"IF(EXACT(UPPER($D$264),UPPER(Menus!$A$762)),\"Taux AO (avec vérif.) :\",IF(EXACT(UPPER($D$264),UPPER(Menus!$A$763)),\"Taux AO (sans vérif.) :\",\"Taux AO :\"))","v":"Taux AO :"},null,"Inscrire une valeur"]
[null,{"$f":"IFERROR(IF(EXACT(UPPER($D$264),UPPER(Menus!$A$763)),\"Taux Grille (sans vérif.) :\",\"Taux Grille (avec vérif.) :\"),\"Taux Grille (avec vérif.) :\")","v":"Taux Grille (avec vérif.) :"},{"$f":"IFERROR(IF(OR(ISBLANK($D$264)=TRUE,EXACT(UPPER($D$264),UPPER(Menus!$A$764))),VLOOKUP($G$12,Rexforêt_Taux_AO,3,FALSE),IF(EXACT(UPPER($D$264),UPPER(Menus!$A$762)),VLOOKUP($G$12,Rexforêt_Taux_AO,3,FALSE),IF(EXACT(UPPER($D$264),UPPER(Menus!$A$763)),VLOOKUP($G$12,Rexforêt_Taux_AO,4,FALSE),0))),0)","v":0}]
[null,"Ratio AO/Grille :",{"$f":"IFERROR(IF(AND(ISBLANK($C$264)=FALSE,$C$265>0),ROUND($C$264/$C$265,4),\"S/O\"),\"\")","v":"S/O"}]
[null,"Grand total AO :",{"$f":"IFERROR(IF(OR(ISBLANK($C$264)=TRUE,EXACT($C$265,0)),\"S/O\",IF(AND($C$264>0,OR(EXACT(UPPER($D$264),UPPER(Menus!$A$762)),EXACT(UPPER($D$264),UPPER(Menus!$A$764)))),ROUND(VLOOKUP($G$12,RXF!$A$1:$G$55,5,FALSE)*$C$266,2),IF(AND($C$264>0,EXACT(UPPER($D$264),UPPER(Menus!$A$763))),ROUND(VLOOKUP($G$12,RXF!$A$1:$G$55,7,FALSE)*$C$266,2),0))),\"\")","v":"S/O"}]
[null,"Nom de l'entrepreneur :"]
[null,"Numéro de fournisseur :"]
[null,"Date de début :"]
[null,"Date de fin :"]
[null,"Commentaires :"]

{"sheet":"EP_PATS_BD","index":11,"n_rows":2,"n_cols":58,"rows_kept":2,"cut":false,"hidden":true,"merged":[]}
["NO_CONTRAT","NO_SEC_INT","NO_PRS","NO_UA","TY_TR_OPE","CODE_RATF","TY_TR","TY_PREP","SU_PNT_A","SU_PNT_B","SU_PNT_C","SU_PNT_D","SU_PNT_E","SU_PNT_A_N","SU_PNT_B_N","SU_PNT_C_N","SU_PNT_D_N","SU_PNT_E_N","RECOUVRE","DS_TOT_DEG","MODE_REGEN","DS_TOT_NET","PC_STO_RES","COMPO_VISE","TPGI_PEUP","TPGI_GRAD","TPGI_TYPE","IN_EPC","IN_MRT_EPC","DS_TG_EC","HT_TG_EC","IN_TAIL","NBR_BRCH","LONG_ELG","DS_TG_ELG","TY_MRT_ELG","DS_TG_CO","DS_TG_TAIL","NIV_DIFF","HT_PATRON","AJ_CND_SPC","PC_TG_FEU","AJ_HT_CP1","AJ_PC_CP2","AJ_MO_CP3","PE_EP_C","TAUX_EX_BA","TAUX_DEGPM","TAUX_PE","TAUX_DMOD","TAUX_VERIF","TAUX_HEP","TAUX_HPT","TAUX_DTEXE","TAUX_CEAF","TAUX_EXTOT","QTE_CONTRA","MNT_EX_IN"]
[{"$f":"'Éducation de peuplement - PATS'!C257","v":0},{"$f":"'Éducation de peuplement - PATS'!G6","v":0},{"$f":"'Éducation de peuplement - PATS'!G8","v":0},{"$f":"'Éducation de peuplement - PATS'!G5","v":0},{"$f":"'Éducation de peuplement - PATS'!G9","v":0},{"$f":"'Éducation de peuplement - PATS'!G10","v":0},{"$f":"'Éducation de peuplement - PATS'!G12","v":"Inscrire une valeur"},null,{"$f":"IFERROR(_xlfn.IFS($G$2=\"Débroussaillement mécanique interplaceaux\",'Éducation de peuplement - PATS'!F75,$G$2=\"Dépressage mécanique\",'Éducation de peuplement - PATS'!F91,$G$2=\"Nettoiement d'un peuplement résineux ou mixte à dominance de résineux (MR-FI) réalisé dans des conditions spécifiques\",'Éducation de peuplement - PATS'!F83,$G$2=\"Nettoiement sous couvert d’un peuplement de feuillus tolérants\",'Éducation de peuplement - PATS'!F83),0)","v":0},{"$f":"IFERROR(_xlfn.IFS($G$2=\"Débroussaillement mécanique interplaceaux\",'Éducation de peuplement - PATS'!F76,$G$2=\"Dépressage mécanique\",'Éducation de peuplement - PATS'!F92,$G$2=\"Nettoiement d'un peuplement résineux ou mixte à dominance de résineux (MR-FI) réalisé dans des conditions spécifiques\",'Éducation de peuplement - PATS'!F84,$G$2=\"Nettoiement sous couvert d’un peuplement de feuillus tolérants\",'Éducation de peuplement - PATS'!F84),0)","v":0},{"$f":"IFERROR(_xlfn.IFS($G$2=\"Débroussaillement mécanique interplaceaux\",'Éducation de peuplement - PATS'!F77,$G$2=\"Dépressage mécanique\",'Éducation de peuplement - PATS'!F93,$G$2=\"Nettoiement d'un peuplement résineux ou mixte à dominance de résineux (MR-FI) réalisé dans des conditions spécifiques\",'Éducation de peuplement - PATS'!F85,$G$2=\"Nettoiement sous couvert d’un peuplement de feuillus tolérants\",'Éducation de peuplement - PATS'!F85),0)","v":0},{"$f":"IFERROR(_xlfn.IFS($G$2=\"Débroussaillement mécanique interplaceaux\",'Éducation de peuplement - PATS'!F78,$G$2=\"Dépressage mécanique\",'Éducation de peuplement - PATS'!F94,$G$2=\"Nettoiement d'un peuplement résineux ou mixte à dominance de résineux (MR-FI) réalisé dans des conditions spécifiques\",'Éducation de peuplement - PATS'!F86,$G$2=\"Nettoiement sous couvert d’un peuplement de feuillus tolérants\",'Éducation de peuplement - PATS'!F86),0)","v":0},{"$f":"IFERROR(_xlfn.IFS($G$2=\"Débroussaillement mécanique interplaceaux\",'Éducation de peuplement - PATS'!F79,$G$2=\"Dépressage mécanique\",'Éducation de peuplement - PATS'!F95,$G$2=\"Nettoiement d'un peuplement résineux ou mixte à dominance de résineux (MR-FI) réalisé dans des conditions spécifiques\",'Éducation de peuplement - PATS'!F87,$G$2=\"Nettoiement sous couvert d’un peuplement de feuillus tolérants\",'Éducation de peuplement - PATS'!F87),0)","v":0},{"$f":"IFERROR(_xlfn.IFS($G$2=\"Débroussaillement mécanique interplaceaux\",'Éducation de peuplement - PATS'!E75,$G$2=\"Dépressage mécanique\",'Éducation de peuplement - PATS'!E91,$G$2=\"Nettoiement d'un peuplement résineux ou mixte à dominance de résineux (MR-FI) réalisé dans des conditions spécifiques\",'Éducation de peuplement - PATS'!E83,$G$2=\"Nettoiement sous couvert d’un peuplement de feuillus tolérants\",'Éducation de peuplement - PATS'!E83),0)","v":0},{"$f":"IFERROR(_xlfn.IFS($G$2=\"Débroussaillement mécanique interplaceaux\",'Éducation de peuplement - PATS'!E76,$G$2=\"Dépressage mécanique\",'Éducation de peuplement - PATS'!E92,$G$2=\"Nettoiement d'un peuplement résineux ou mixte à dominance de résineux (MR-FI) réalisé dans des conditions spécifiques\",'Éducation de peuplement - PATS'!E84,$G$2=\"Nettoiement sous couvert d’un peuplement de feuillus tolérants\",'Éducation de peuplement - PATS'!E84),0)","v":0},{"$f":"IFERROR(_xlfn.IFS($G$2=\"Débroussaillement mécanique interplaceaux\",'Éducation de peuplement - PATS'!E77,$G$2=\"Dépressage mécanique\",'Éducation de peuplement - PATS'!E93,$G$2=\"Nettoiement d'un peuplement résineux ou mixte à dominance de résineux (MR-FI) réalisé dans des conditions spécifiques\",'Éducation de peuplement - PATS'!E85,$G$2=\"Nettoiement sous couvert d’un peuplement de feuillus tolérants\",'Éducation de peuplement - PATS'!E85),0)","v":0},{"$f":"IFERROR(_xlfn.IFS($G$2=\"Débroussaillement mécanique interplaceaux\",'Éducation de peuplement - PATS'!E78,$G$2=\"Dépressage mécanique\",'Éducation de peuplement - PATS'!E94,$G$2=\"Nettoiement d'un peuplement résineux ou mixte à dominance de résineux (MR-FI) réalisé dans des conditions spécifiques\",'Éducation de peuplement - PATS'!E86,$G$2=\"Nettoiement sous couvert d’un peuplement de feuillus tolérants\",'Éducation de peuplement - PATS'!E86),0)","v":0},{"$f":"IFERROR(_xlfn.IFS($G$2=\"Débroussaillement mécanique interplaceaux\",'Éducation de peuplement - PATS'!E79,$G$2=\"Dépressage mécanique\",'Éducation de peuplement - PATS'!E95,$G$2=\"Nettoiement d'un peuplement résineux ou mixte à dominance de résineux (MR-FI) réalisé dans des conditions spécifiques\",'Éducation de peuplement - PATS'!E87,$G$2=\"Nettoiement sous couvert d’un peuplement de feuillus tolérants\",'Éducation de peuplement - PATS'!E87),0)","v":0},{"$f":"'Éducation de peuplement - PATS'!G19","v":0},{"$f":"'Éducation de peuplement - PATS'!G20","v":0},{"$f":"'Éducation de peuplement - PATS'!G21","v":0},{"$f":"IFERROR(_xlfn.IFS($G$2=\"Dépressage mécanique\",'Éducation de peuplement - PATS'!G43,$G$2=\"Nettoiement d'un peuplement résineux ou mixte à dominance de résineux (MR-FI) réalisé dans des conditions spécifiques\",'Éducation de peuplement - PATS'!G27,$G$2=\"Nettoiement sous couvert d’un peuplement de feuillus tolérants\",'Éducation de peuplement - PATS'!G35),\"0\")","v":"0"},{"$f":"'Éducation de peuplement - PATS'!G28","v":0},null,null,null,null,null,null,null,null,null,null,null,null,null,null,null,{"$f":"'Éducation de peuplement - PATS'!G23","v":0},{"$f":"IFERROR(_xlfn.IFS($G$2=\"Dépressage mécanique\",'Éducation de peuplement - PATS'!G45,G2=\"Dépressage mécanisé systématique par layons avec abatteuse-groupeuse\",'Éducation de peuplement - PATS'!G65),\"\")","v":""},{"$f":"'Éducation de peuplement - PATS'!G32","v":0},{"$f":"'Éducation de peuplement - PATS'!G36","v":0},{"$f":"'Éducation de peuplement - PATS'!G37","v":0},{"$f":"'Éducation de peuplement - PATS'!G38","v":0},{"$f":"'Éducation de peuplement - PATS'!G39","v":0},{"$f":"'Éducation de peuplement - PATS'!G126","v":0},{"$f":"IFERROR(_xlfn.IFS($G$2=\"Débroussaillement mécanique interplaceaux\",'Éducation de peuplement - PATS'!G146,$G$2=\"Dépressage mécanique\",'Éducation de peuplement - PATS'!G179,$G$2=\"Nettoiement d'un peuplement résineux ou mixte à dominance de résineux (MR-FI) réalisé dans des conditions spécifiques\",'Éducation de peuplement - PATS'!G163,$G$2=\"Nettoiement sous couvert d’un peuplement de feuillus tolérants\",'Éducation de peuplement - PATS'!G163,$G$2=\"Dépressage mécanisé systématique par layons avec abatteuse-groupeuse\",'Éducation de peuplement - PATS'!G226),\"\")","v":""},{"$f":"IFERROR(_xlfn.IFS($G$2=\"Débroussaillement mécanique interplaceaux\",'Éducation de peuplement - PATS'!G147),\"\")","v":""},{"$f":"IFERROR(_xlfn.IFS($G$2=\"Débroussaillement mécanique interplaceaux\",'Éducation de peuplement - PATS'!G148,$G$2=\"Dépressage mécanique\",'Éducation de peuplement - PATS'!G180,$G$2=\"Nettoiement d'un peuplement résineux ou mixte à dominance de résineux (MR-FI) réalisé dans des conditions spécifiques\",'Éducation de peuplement - PATS'!G164,$G$2=\"Nettoiement sous couvert d’un peuplement de feuillus tolérants\",'Éducation de peuplement - PATS'!G164,$G$2=\"Dépressage mécanisé systématique par layons avec abatteuse-groupeuse\",'Éducation de peuplement - PATS'!G227),\"\")","v":""},{"$f":"IFERROR(_xlfn.IFS($G$2=\"Dépressage mécanisé systématique par layons avec abatteuse-groupeuse\",'Éducation de peuplement - PATS'!G228),\"\")","v":""},{"$f":"IFERROR(_xlfn.IFS($G$2=\"Débroussaillement mécanique interplaceaux\",'Éducation de peuplement - PATS'!G149,$G$2=\"Dépressage mécanique\",'Éducation de peuplement - PATS'!G181,$G$2=\"Nettoiement d'un peuplement résineux ou mixte à dominance de résineux (MR-FI) réalisé dans des conditions spécifiques\",'Éducation de peuplement - PATS'!G165,$G$2=\"Nettoiement sous couvert d’un peuplement de feuillus tolérants\",'Éducation de peuplement - PATS'!G165,$G$2=\"Dépressage mécanisé systématique par layons avec abatteuse-groupeuse\",'Éducation de peuplement - PATS'!G229),\"\")","v":""},{"$f":"IFERROR(_xlfn.IFS($G$2=\"Débroussaillement mécanique interplaceaux\",'Éducation de peuplement - PATS'!G150,$G$2=\"Dépressage mécanique\",'Éducation de peuplement - PATS'!G182,$G$2=\"Nettoiement d'un peuplement résineux ou mixte à dominance de résineux (MR-FI) réalisé dans des conditions spécifiques\",'Éducation de peuplement - PATS'!G166,$G$2=\"Nettoiement sous couvert d’un peuplement de feuillus tolérants\",'Éducation de peuplement - PATS'!G166),\"\")","v":""},{"$f":"IFERROR(_xlfn.IFS($G$2=\"Dépressage mécanisé systématique par layons avec abatteuse-groupeuse\",'Éducation de peuplement - PATS'!G230),\"\")","v":""},{"$f":"IFERROR(_xlfn.IFS($G$2=\"Débroussaillement mécanique interplaceaux\",'Éducation de peuplement - PATS'!G151,$G$2=\"Dépressage mécanique\",'Éducation de peuplement - PATS'!G183,$G$2=\"Nettoiement d'un peuplement résineux ou mixte à dominance de résineux (MR-FI) réalisé dans des conditions spécifiques\",'Éducation de peuplement - PATS'!G167,$G$2=\"Nettoiement sous couvert d’un peuplement de feuillus tolérants\",'Éducation de peuplement - PATS'!G167,$G$2=\"Dépressage mécanisé systématique par layons avec abatteuse-groupeuse\",'Éducation de peuplement - PATS'!G232),\"\")","v":""},{"$f":"IFERROR(_xlfn.IFS($G$2=\"Débroussaillement mécanique interplaceaux\",'Éducation de peuplement - PATS'!G152,$G$2=\"Dépressage mécanique\",'Éducation de peuplement - PATS'!G184,$G$2=\"Nettoiement d'un peuplement résineux ou mixte à dominance de résineux (MR-FI) réalisé dans des conditions spécifiques\",'Éducation de peuplement - PATS'!G168,$G$2=\"Nettoiement sous couvert d’un peuplement de feuillus tolérants\",'Éducation de peuplement - PATS'!G168,$G$2=\"Dépressage mécanisé systématique par layons avec abatteuse-groupeuse\",'Éducation de peuplement - PATS'!G231),\"\")","v":""},{"$f":"IFERROR(_xlfn.IFS($G$2=\"Débroussaillement mécanique interplaceaux\",'Éducation de peuplement - PATS'!G156,$G$2=\"Dépressage mécanique\",'Éducation de peuplement - PATS'!G188,$G$2=\"Nettoiement d'un peuplement résineux ou mixte à dominance de résineux (MR-FI) réalisé dans des conditions spécifiques\",'Éducation de peuplement - PATS'!G172,$G$2=\"Nettoiement sous couvert d’un peuplement de feuillus tolérants\",'Éducation de peuplement - PATS'!G172,$G$2=\"Dépressage mécanisé systématique par layons avec abatteuse-groupeuse\",'Éducation de peuplement - PATS'!G235),\"\")","v":""},{"$f":"IFERROR(_xlfn.IFS($G$2=\"Débroussaillement mécanique interplaceaux\",'Éducation de peuplement - PATS'!G158,$G$2=\"Dépressage mécanique\",'Éducation de peuplement - PATS'!G190,$G$2=\"Nettoiement d'un peuplement résineux ou mixte à dominance de résineux (MR-FI) réalisé dans des conditions spécifiques\",'Éducation de peuplement - PATS'!G174,$G$2=\"Nettoiement sous couvert d’un peuplement de feuillus tolérants\",'Éducation de peuplement - PATS'!G174,$G$2=\"Dépressage mécanisé systématique par layons avec abatteuse-groupeuse\",'Éducation de peuplement - PATS'!G236),\"\")","v":""},{"$f":"IFERROR(_xlfn.IFS($G$2=\"Débroussaillement mécanique interplaceaux\",'Éducation de peuplement - PATS'!G161,$G$2=\"Dépressage mécanique\",'Éducation de peuplement - PATS'!G193,$G$2=\"Nettoiement d'un peuplement résineux ou mixte à dominance de résineux (MR-FI) réalisé dans des conditions spécifiques\",'Éducation de peuplement - PATS'!G177,$G$2=\"Nettoiement sous couvert d’un peuplement de feuillus tolérants\",'Éducation de peuplement - PATS'!G177,$G$2=\"Dépressage mécanisé systématique par layons avec abatteuse-groupeuse\",'Éducation de peuplement - PATS'!G239),\"\")","v":""}]

{"sheet":"Éclaircie commerciale EAF","index":12,"n_rows":86,"n_cols":7,"rows_kept":86,"cut":false,"hidden":false,"merged":[[40,0,40,4],[35,4,35,5],[35,0,35,3],[36,0,36,6],[39,0,39,6],[38,0,38,4],[37,0,37,6],[34,0,34,1],[34,2,34,3],[32,0,32,1],[33,0,33,1],[32,2,32,3],[33,2,33,3],[32,4,32,5],[33,4,33,5],[34,4,34,5],[12,0,12,5],[13,0,13,5],[19,1,19,5],[20,0,20,5],[25,0,25,6],[26,0,26,6],[29,0,29,1],[30,0,30,1],[31,0,31,1],[29,4,29,5],[27,0,27,6],[28,0,28,6],[30,4,30,5],[6,0,6,5],[7,0,7,5],[8,0,8,5],[11,0,11,5],[10,0,10,6],[9,0,9,3],[9,4,9,5],[31,4,31,5],[29,2,29,3],[30,2,30,3],[31,2,31,3],[21,0,21,5],[22,0,22,6],[23,0,23,6],[24,0,24,5],[14,0,14,6],[15,0,15,6],[16,0,16,6],[17,0,17,6],[18,1,18,5],[5,0,5,5],[0,0,0,6],[3,0,3,6],[4,0,4,5],[2,0,2,5],[1,0,1,6],[48,0,48,5],[50,0,50,5],[49,0,49,5],[41,0,41,6],[42,0,42,6],[43,0,43,5],[47,0,47,5],[44,0,44,5],[46,0,46,5],[45,0,45,5],[51,0,51,5],[52,0,52,5],[77,3,77,4],[68,2,69,4],[53,0,53,6],[56,0,56,6],[66,0,66,4],[57,0,59,5],[57,6,59,6],[60,0,60,5],[61,0,62,5],[61,6,62,6],[63,0,63,5],[55,0,55,6],[54,0,54,6]]}
[]
["Annexe au calcul des taux des traitements non commerciaux 2024-2025\nPremière éclaircie commerciale de plantation résineuse\nréservée aux entreprises d'aménagement forestier (EAF)\nForêt publique"]
[" *** Veuillez saisir les informations dans les cellules blanches seulement ***",null,null,null,null,null,"Version 2 : 2024-04-19"]
["Identification"]
["Unité d'aménagement (UA)"]
["Secteur d'intervention"]
["Unité de compilation"]
["Numéro de la prescription"]
["Traitement (code DICA)"]
["Traitement (code RATF)",null,null,null,{"$f":"IFERROR(VLOOKUP($G$9,Menus!$A$633:$D$640,3,FALSE),Menus!$C$640)","v":"ECEAF_Codes_RATF"}]
["Traitement d'éclaircie commerciale à taux variable"]
["Traitement",null,null,null,null,null,"Inscrire une valeur"]
["Taux de base"]
["Unité de mesure",null,null,null,null,null,{"$f":"IFERROR(VLOOKUP($G$12,Menus!$A$603:$C$604,3,FALSE),\"\")","v":"S/O"}]
["Taux d'exécution à déterminer selon la formule suivante"]
[{"$f":"IFERROR(VLOOKUP($G$12,Formules,3,FALSE),\"\")","v":""}]
[{"$f":"\"Valeurs spécifiques à remplir selon le traitement - \"&G12&\" - Voir l'onglet « Étapes calcul majoration »\"","v":"Valeurs spécifiques à remplir selon le traitement - Inscrire une valeur - Voir l'onglet « Étapes calcul majoration »"}]
["Valeurs spécifiques à remplir selon le traitement - Éclaircie commerciale EAF"]
["P","Volume net à prélever (m³/hectare)"]
["VREC","Volume moyen des tiges à récolter (m³/tige)"]
["Taux par mètre cube calculé à partir de l'équation et des variables reliées au traitement",null,null,null,null,null,{"$f":"IFERROR(IF(ISBLANK($G$20),0,(('Calculs grille'!$L$150*POWER($G$20,-'Calculs grille'!$L$151))+'Calculs grille'!$L$152)),0)","v":0}]
["Taux par hectare calculé à partir de l'équation et des variables reliées au traitement",null,null,null,null,null,{"$f":"IFERROR(($G$19*$G$21),0)","v":0}]
["Délimitation des sentiers de débardage"]
["Délimitation des sentiers de débardage - Éclaircie commerciale EAF"]
["Délimitation physique (ruban) des sentiers de débardage\nlorsqu’un technicien ou une technicienne réalise le rubanage des sentiers qui est prescrit ou autorisé avant le début des travaux par le MRNF"]
[{"$f":"\"Majorations applicables à l'exécution - \"&$G$12&\" - Voir l'onglet « Étapes calcul majoration »\"","v":"Majorations applicables à l'exécution - Inscrire une valeur - Voir l'onglet « Étapes calcul majoration »"}]
[{"$f":"IFERROR(VLOOKUP($G$12,Majorations_applicables,11,FALSE),\"\")","v":""}]
["Majoration pour la pente (PE2)"]
["Majoration pour la pente (PE2) - Éclaircie commerciale EAF"]
["Classe de pente numérique",null,"Taux calculé",null,"Écart",null,"Superficie (hectare)"]
["Pente A",null,{"$f":"IFERROR($G$22*(1+VLOOKUP($A$31,'Majorations applicables'!$A$76:$B$80,2,FALSE)),0)","v":0},null,{"$f":"IFERROR($C$31-$G$22,0)","v":0}]
["Pente B",null,{"$f":"IFERROR($G$22*(1+VLOOKUP($A$32,'Majorations applicables'!$A$76:$B$80,2,FALSE)),0)","v":0},null,{"$f":"IFERROR($C$32-$G$22,0)","v":0}]
["Pente C",null,{"$f":"IFERROR($G$22*(1+VLOOKUP($A$33,'Majorations applicables'!$A$76:$B$80,2,FALSE)),0)","v":0},null,{"$f":"IFERROR($C$33-$G$22,0)","v":0}]
["Pente D",null,{"$f":"IFERROR($G$22*(1+VLOOKUP($A$34,'Majorations applicables'!$A$76:$B$80,2,FALSE)),0)","v":0},null,{"$f":"IFERROR($C$34-$G$22,0)","v":0}]
["Pente E et plus",null,{"$f":"IFERROR($G$22*(1+VLOOKUP($A$35,'Majorations applicables'!$A$76:$B$80,2,FALSE)),0)","v":0},null,{"$f":"IFERROR($C$35-$G$22,0)","v":0}]
[null,null,null,null,"Total",null,{"$f":"IFERROR(SUM($G$31:$G$35),0)","v":0}]
["Majoration pour les opérations manuelles (MAN)"]
["Majoration pour les opérations manuelles (MAN) - Éclaircie commerciale EAF"]
["Type d'opérations",null,null,null,null,{"$f":"IFERROR(VLOOKUP($G$39,Menus!$A$611:$B$612,2,FALSE),\"\")","v":""}]
["Majoration pour l'hébergement (HECEAF)"]
["Hébergement (HECEAF)",null,null,null,null,{"$f":"IFERROR(VLOOKUP($G$41,Menus!$A$607:$B$608,2,FALSE),\"\")","v":""}]
["Totaux"]
["Calculs -  Éclaircie commerciale EAF"]
["Taux d'exécution par mètre cube",null,null,null,null,null,{"$f":"IFERROR($G$21,0)","v":0}]
["Taux d'exécution par hectare",null,null,null,null,null,{"$f":"IFERROR($G$22,0)","v":0}]
["Taux pour la délimitation physique des sentiers de débardage",null,null,null,null,null,{"$f":"IFERROR(VLOOKUP($G$25,ECEAF_Délimitation_Valeurs,2,FALSE)*(1+($G$47/$G$45)),0)","v":0}]
["Taux PE2",null,null,null,null,null,{"$f":"IFERROR((SUMPRODUCT($E$31:$E$35,$G$31:$G$35)/$G$36),0)","v":0}]
["Taux sous-total exécution",null,null,null,null,null,{"$f":"IFERROR(ROUND(SUM($G$45:$G$47),2),0)","v":0}]
["Taux MAN",null,null,null,null,null,{"$f":"IFERROR((SUM(G45,G47)*$F$39),0)","v":0}]
["Taux HECEAF",null,null,null,null,null,{"$f":"IFERROR((SUM($G$45:$G$47)*$F$41),0)","v":0}]
["Taux exécution total, majorations, réductions admissibles et inventaire conformité total",null,null,null,null,null,{"$f":"IFERROR(ROUND(SUM($G$45:$G$47,G50),2),0)","v":0}]
["Superficie",null,null,null,null,null,{"$f":"IFERROR(ROUND($G$36,2),0)","v":0}]
["Grand total admissible",null,null,null,null,null,{"$f":"IFERROR(ROUND($G$51*$G$52,2),0)","v":0}]
[]
["Remarques"]
[]
["J'atteste que les renseignements fournis dans ce document afin de calculer le taux du traitement sont complets et conformes à la vérité, au meilleur de mes connaissances."]
[]
[]
[]
["Nom et prénom de l'ingénieur forestier",null,null,null,null,null,"Numéro de permis"]
[null,null,null,null,null,null,{"$f":"TODAY()","v":"2026-04-08"}]
[]
["Signature de l'ingénieur forestier",null,null,null,null,null,"Date (AAAA-MM-JJ)"]
[]
[]
["Section réservée au suivi du contrat"]
[]
[null,"Numéro de la prescription :",{"$f":"IF($G$8<>\"\",$G$8,\"\")","v":""}]
[]
[null,"Numéro du contrat :"]
[null,"Numéro du projet :"]
[null,"U.G. :"]
[null,"MRC :"]
[null,"Code de traitement DICA :",{"$f":"IF($G$9<>\"\",$G$9,\"\")","v":""}]
[null,"Code de traitement RATF :",{"$f":"IF($G$10<>\"\",$G$10,\"\")","v":""}]
[null,"Type d'attribution : "]
[null,"Taux AO : "]
[null,"Taux Grille :",{"$f":"IFERROR(VLOOKUP($G$12,Rexforêt_Taux_AO,3,FALSE),0)","v":0}]
[null,"Ratio AO/Grille :",{"$f":"IFERROR(IF(AND(ISBLANK($C$78)=FALSE,$C$79>0),ROUND($C$78/$C$79,4),\"S/O\"),\"\")","v":"S/O"}]
[null,"Grand total AO :",{"$f":"IFERROR(IF(OR(ISBLANK($C$78)=TRUE,EXACT($C$79,0)),\"S/O\",ROUND(VLOOKUP($G$12,RXF!$A$1:$G$51,5,FALSE)*$C$80,2)),\"\")","v":"S/O"}]
[null,"Nom de l'entrepreneur : "]
[null,"Numéro de fournisseur : "]
[null,"Date de début :"]
[null,"Date de fin :"]
[null,"Commentaires :"]

{"sheet":"Martelage","index":13,"n_rows":100,"n_cols":7,"rows_kept":100,"cut":false,"hidden":false,"merged":[[77,0,77,5],[80,0,80,4],[82,2,83,4],[1,0,1,6],[91,3,91,4],[70,0,70,6],[71,0,73,5],[71,6,73,6],[74,0,74,5],[75,0,76,5],[75,6,76,6],[64,0,64,5],[65,0,65,5],[66,0,66,5],[67,0,67,6],[68,0,68,6],[69,0,69,6],[57,0,57,5],[58,0,58,5],[59,0,59,5],[60,0,60,5],[62,0,62,5],[63,0,63,5],[61,0,61,5],[56,0,56,5],[44,0,44,5],[45,0,45,5],[46,0,46,5],[47,0,47,5],[49,0,49,5],[50,0,50,5],[51,0,51,5],[52,0,52,5],[53,0,53,5],[54,0,54,6],[55,0,55,5],[48,0,48,5],[43,0,43,5],[28,0,28,6],[29,0,29,5],[30,0,30,5],[31,0,31,5],[32,0,32,5],[33,0,33,6],[35,0,35,4],[36,0,36,4],[40,0,40,6],[41,0,41,6],[42,0,42,5],[34,0,34,6],[37,0,37,6],[38,0,38,6],[39,0,39,4],[27,0,27,6],[16,0,16,6],[17,0,17,6],[18,1,18,5],[19,1,19,5],[20,1,20,3],[21,0,21,5],[22,0,22,6],[23,0,23,6],[24,0,24,6],[25,0,25,4],[26,0,26,4],[15,0,15,5],[6,0,6,5],[7,0,7,5],[8,0,8,6],[9,0,9,5],[10,0,10,5],[11,0,11,5],[12,0,12,6],[13,0,13,6],[14,0,14,6],[0,0,0,6],[2,0,2,5],[3,0,3,6],[4,0,4,5],[5,0,5,5]]}
[]
["Annexe au calcul des taux des traitements non commerciaux 2024-2025          \nMartelage\nInventaire de conformité et délimitation de secteur\nForêt publique"]
[" *** Veuillez saisir les informations dans les cellules blanches seulement ***",null,null,null,null,null,"Version 2 : 2024-04-19"]
["Identification"]
["Unité d'aménagement (UA)"]
["Secteur d'intervention"]
["Unité de compilation"]
["Numéro de la prescription"]
["Traitement de martelage à taux fixe ou variable"]
["Traitement",null,null,null,null,null,"Inscrire une valeur"]
["Taux de base",null,null,null,null,null,{"$f":"IFERROR(VLOOKUP($G$10,Menus!$A$649:$C$652,2,FALSE),\"\")","v":"S/O"}]
["Unité de mesure",null,null,null,null,null,{"$f":"IFERROR(VLOOKUP($G$10,Menus!$A$649:$C$652,3,FALSE),\"\")","v":"S/O"}]
["Taux d'exécution à déterminer selon la formule suivante"]
[{"$f":"IFERROR(VLOOKUP($G$10,Formules,3,FALSE),\"\")","v":""}]
["Superficie"]
["Superficie du traitement"]
[{"$f":"\"Valeurs spécifiques à remplir selon le traitement - \"&G10&\" - Voir l'onglet « Étapes calcul majoration »\"","v":"Valeurs spécifiques à remplir selon le traitement - Inscrire une valeur - Voir l'onglet « Étapes calcul majoration »"}]
["Valeurs spécifiques à remplir selon le traitement - Martelage"]
["PF","Proportion de feuillus\nSurface terrière des feuillus commerciaux par rapport à la surface terrière totale du peuplement"]
["NbMSCROP","Nombre de priorité de récolte combinant MSCR et OP *\nValeur de 0 à 8 : MO-MP-SO-SP-CO-CP-RO-RP\nCombinaisons des critères de classification de vigueur (M­mourir, S­survie, C­conserver et R­réserve) ainsi que de qualité (O­œuvre et P­pâte) indiquées dans la directive de martelage \n \nPour les directives de martelage faisant référence à une classification MSCR­SciagePâte et MSCR­ABCD, la correspondance est la suivante :\n\nMSCR-SciagePâte *\n• MO-SO-CO-RO : MSciage-SSciage-CSciage-RSciage\n• MP-SP-CP-RP : MPâte-SPâte-CPâte-RPâte\nMSCR-ABCD *\n• MO-SO-CO-RO : MABC-SABC-CABC-RABC\n• MP-SP-CP-RP : MD-SD-CD-RD\n\n* Notez que chaque combinaison doit être comptabilisée une seule fois, et ce, peu importe le nombre de répétitions en fonction des essences et des dhp"]
["TC","Type de coupe",null,null,"Valeur",{"$f":"IFERROR(VLOOKUP($G$21,Menus!$A$658:$B$662,2,FALSE),\"\")","v":""}]
["Taux par hectare calculé à partir de l'équation et des variables reliées à l'activité",null,null,null,null,null,{"$f":"IFERROR(IF(OR($G$19>1,$G$19<0,ROUND($G$19,2)<>$G$19),\"PF non valide\",IF($G$20>Mart_Max_MSCROP,\"NbMSCROP non valide\",IF(OR(ISBLANK($G$19),ISBLANK($G$20),ISBLANK($G$21)),0,(('Calculs grille'!$L$202-('Calculs grille'!$L$203*$G$19)+('Calculs grille'!$L$204*$G$20))*$F$21)))),0)","v":0}]
[{"$f":"\"Majorations applicables à l'exécution - \"&$G$10","v":"Majorations applicables à l'exécution - Inscrire une valeur"}]
[{"$f":"IFERROR(VLOOKUP($G$10,Majorations_applicables,11,FALSE),\"\")","v":""}]
["Majoration pour l'hébergement et la distance ou la durée du déplacement (HPVTM et DTPVTM)"]
["Hébergement (HPVTM)",null,null,null,null,{"$f":"IFERROR(IF(ISBLANK($G$26)=TRUE,\"\",IFERROR(VLOOKUP($G$26,Menus!$A$665:$B$667,2,FALSE),(IF($G$26<=Menus!$B$666,ROUND($G$26,4),\"Max \"&TEXT(Menus!$B$666,\"0,0%\"))))),0)","v":""}]
["Distance ou durée du déplacement (DTPVTM)",null,null,null,null,{"$f":"IFERROR(VLOOKUP($G$27,Menus!$A$670:$B$672,2,FALSE),\"\")","v":""}]
["Inventaire de conformité"]
["Inventaire de conformité - Tous"]
["Délimitation des secteurs (taux par kilomètre délimité)"]
["Nombre de kilomètres délimités"]
["Inventaire de conformité (taux par placette inventoriée)"]
["Nombre de placettes inventoriées"]
["Inventaire de conformité - Majoration pour l'hébergement et la distance ou la durée du déplacement (HPVTM et DTPVTM)"]
["Inventaire de conformité - Majoration pour l'hébergement et la distance ou la durée du déplacement (HPVTM et DTPVTM) - Tous"]
["Hébergement (HPVTM)",null,null,null,null,{"$f":"IFERROR(IF(ISBLANK($G$36)=TRUE,\"\",IFERROR(VLOOKUP($G$36,Menus!$A$665:$B$667,2,FALSE),IF($G$36<=Menus!$B$666,ROUND($G$36,4),\"Max \"&TEXT(Menus!$B$666,\"0,0%\")))),0)","v":""}]
["Distance ou durée du déplacement (DTPVTM)",null,null,null,null,{"$f":"IFERROR(VLOOKUP($G$37,Menus!$A$670:$B$672,2,FALSE),\"\")","v":""}]
["Majoration pour la certification (CEAF4 ou ISO4)"]
["Majoration pour la certification (CEAF4 ou ISO4) - Tous"]
["Certification (CEAF4 ou ISO4)",null,null,null,null,{"$f":"IFERROR(VLOOKUP($G$40,Menus!$B$675:$C$677,2,FALSE),\"\")","v":""}]
["Totaux"]
["Calculs -  Martelage"]
["Taux d'exécution de base",null,null,null,null,null,{"$f":"IFERROR($G$22,0)","v":0}]
["Taux HPVTM",null,null,null,null,null,{"$f":"IFERROR(($G$43*$F$26),0)","v":0}]
["Taux DTPVTM",null,null,null,null,null,{"$f":"IFERROR(($G$43*$F$27),0)","v":0}]
["Taux exécution total et majoration(s) admissible(s)",null,null,null,null,null,{"$f":"IFERROR((ROUND(SUM($G$43:$G$45),2)),0)","v":0}]
["Taux VERIF",null,null,null,null,null,{"$f":"IFERROR(((($G$30*$G$31)+($G$32*$G$33))/$G$16),0)","v":0}]
["Taux HPVTM et DTPVTM",null,null,null,null,null,{"$f":"IFERROR((SUM($G$43,$G$47)*SUM($F$26:$F$27)),0)","v":0}]
["Taux CEAF4 ou ISO4",null,null,null,null,null,{"$f":"IFERROR($F$40*SUM(G47:G48,G43),0)","v":0}]
["Taux exécution total, majorations, réductions admissibles et inventaire conformité total",null,null,null,null,null,{"$f":"IFERROR((ROUND(SUM($G$43,G47:G49),2)),0)","v":0}]
["Superficie",null,null,null,null,null,{"$f":"IFERROR($G$16,0)","v":0}]
["Total exécution",null,null,null,null,null,{"$f":"IFERROR(ROUND($G$46*$G$51,2),0)","v":0}]
["Total inventaire de conformité",null,null,null,null,null,{"$f":"IFERROR(ROUND(SUM($G$47:$G$48)*$G$51,2),0)","v":0}]
["Grand total admissible",null,null,null,null,null,{"$f":"IFERROR(G50*G51,0)","v":0}]
["Calculs - Martelage positif et négatif  - EC (résineux ou mixte résineux)"]
["Taux d'exécution de base",null,null,null,null,null,{"$f":"IFERROR($G$11,0)","v":"S/O"}]
["Taux HPVTM",null,null,null,null,null,{"$f":"IFERROR(($G$56*$F$26),0)","v":0}]
["Taux DTPVTM",null,null,null,null,null,{"$f":"IFERROR(($G$56*$F$27),0)","v":0}]
["Taux exécution total et majoration(s) admissible(s)",null,null,null,null,null,{"$f":"IFERROR((ROUND(SUM($G$56:$G$58),2)),0)","v":0}]
["Taux VERIF",null,null,null,null,null,{"$f":"IFERROR(((($G$30*$G$31)+($G$32*$G$33))/$G$16),0)","v":0}]
["Taux HPVTM et DTPVTM",null,null,null,null,null,{"$f":"IFERROR((SUM($G$56,$G$60)*SUM($F$36:$F$37)),0)","v":0}]
["Taux CEAF4 ou ISO4",null,null,null,null,null,{"$f":"IFERROR($F$40*SUM(G56,G60:G61),0)","v":0}]
["Taux exécution total, majorations, réductions admissibles et inventaire conformité total",null,null,null,null,null,{"$f":"IFERROR((ROUND(SUM($G$56,G60:G62),2)),0)","v":0}]
["Superficie",null,null,null,null,null,{"$f":"IFERROR($G$16,0)","v":0}]
["Total exécution",null,null,null,null,null,{"$f":"IFERROR(ROUND($G$59*$G$64,2),0)","v":0}]
["Total inventaire de conformité",null,null,null,null,null,{"$f":"IFERROR(ROUND(SUM($G$60:$G$61)*$G$64,2),0)","v":0}]
["Grand total admissible",null,null,null,null,null,{"$f":"IFERROR(G63*G64,0)","v":0}]
[]
["Remarques"]
[]
["J'atteste que les renseignements fournis dans ce document afin de calculer le taux du traitement sont complets et conformes à la vérité, au meilleur de mes connaissances."]
[]
[]
[]
["Nom et prénom de l'ingénieur forestier",null,null,null,null,null,"Numéro de permis"]
[null,null,null,null,null,null,{"$f":"TODAY()","v":"2026-04-08"}]
[]
["Signature de l'ingénieur forestier",null,null,null,null,null,"Date (AAAA-MM-JJ)"]
[]
[]
["Section réservée au suivi du contrat"]
[]
[null,"Numéro de la prescription :",{"$f":"IF($G$8<>\"\",$G$8,\"\")","v":""}]
[]
[null,"Numéro du contrat :"]
[null,"Numéro du projet :"]
[null,"U.G. :"]
[null,"MRC :"]
[null,"Code de traitement DICA :"]
[null,"Code de traitement RATF :"]
[null,"Type d'attribution : "]
[null,{"$f":"IF(EXACT(UPPER($D$92),UPPER(Menus!$A$762)),\"Taux AO (avec vérif.) :\",IF(EXACT(UPPER($D$92),UPPER(Menus!$A$763)),\"Taux AO (sans vérif.) :\",\"Taux AO :\"))","v":"Taux AO :"},null,"Inscrire une valeur"]
[null,{"$f":"IFERROR(IF(EXACT(UPPER($D$92),UPPER(Menus!$A$763)),\"Taux Grille (sans vérif.) :\",\"Taux Grille (avec vérif.) :\"),\"Taux Grille (avec vérif.) :\")","v":"Taux Grille (avec vérif.) :"},{"$f":"IFERROR(IF(OR(ISBLANK($D$92)=TRUE,EXACT(UPPER($D$92),UPPER(Menus!$A$764))),VLOOKUP($G$10,Rexforêt_Taux_AO,3,FALSE),IF(EXACT(UPPER($D$92),UPPER(Menus!$A$762)),VLOOKUP($G$10,Rexforêt_Taux_AO,3,FALSE),IF(EXACT(UPPER($D$92),UPPER(Menus!$A$763)),VLOOKUP($G$10,Rexforêt_Taux_AO,4,FALSE),0))),0)","v":0}]
[null,"Ratio AO/Grille :",{"$f":"IFERROR(IF(AND(ISBLANK($C$92)=FALSE,$C$93>0),ROUND($C$92/$C$93,4),\"S/O\"),\"\")","v":"S/O"}]
[null,"Grand total AO :",{"$f":"IFERROR(IF(OR(ISBLANK($C$92)=TRUE,EXACT($C$93,0)),\"S/O\",IF(AND($C$92>0,OR(EXACT(UPPER($D$92),UPPER(Menus!$A$762)),EXACT(UPPER($D$92),UPPER(Menus!$A$764)))),ROUND(VLOOKUP($G$10,RXF!$A$1:$G$55,5,FALSE)*$C$94,2),IF(AND($C$92>0,EXACT(UPPER($D$92),UPPER(Menus!$A$763))),ROUND(VLOOKUP($G$10,RXF!$A$1:$G$55,7,FALSE)*$C$94,2)))),\"\")","v":"S/O"}]
[null,"Nom de l'entrepreneur : "]
[null,"Numéro de fournisseur : "]
[null,"Date de début :"]
[null,"Date de fin :"]
[null,"Commentaires :"]

{"sheet":"MA_BD","index":14,"n_rows":27,"n_cols":18,"rows_kept":27,"cut":false,"hidden":true,"merged":[]}
["NO_CONTRAT","NO_SEC_INT","NO_PRS","NO_UA","TY_TR","SUP_TRAIT","PC_FEUILLU","NB_MSCR_OP","TY_COUPE","PE_MA_C","KM_DELEMIT","TAUX_EX_BA","TAUX_VERIF","TAUX_VTM","TAUX_CEAF","TAUX_EXTOT","QTE_CONTRA","MNT_EX_IN"]
[{"$f":"Martelage!C85","v":0},{"$f":"Martelage!G6","v":0},{"$f":"Martelage!G8","v":0},{"$f":"Martelage!G5","v":0},{"$f":"Martelage!G10","v":"Inscrire une valeur"},{"$f":"Martelage!G16","v":0},{"$f":"Martelage!G19","v":0},{"$f":"Martelage!G20","v":0},{"$f":"Martelage!G21","v":0},{"$f":"Martelage!G33","v":0},{"$f":"Martelage!G31","v":0},{"$f":"IFERROR(_xlfn.IFS($E$2=\"Martelage\",Martelage!G43,$E$2=\"Martelage négatif - EC (résineux ou mixte résineux)\",Martelage!G56,$E$2=\"Martelage positif - EC (résineux ou mixte résineux)\",Martelage!G56),\"\")","v":""},{"$f":"IFERROR(_xlfn.IFS($E$2=\"Martelage\",Martelage!G47,$E$2=\"Martelage négatif - EC (résineux ou mixte résineux)\",Martelage!G60,$E$2=\"Martelage positif - EC (résineux ou mixte résineux)\",Martelage!G60),\"\")","v":""},{"$f":"IFERROR(_xlfn.IFS($E$2=\"Martelage\",Martelage!G48,$E$2=\"Martelage négatif - EC (résineux ou mixte résineux)\",Martelage!G61,$E$2=\"Martelage positif - EC (résineux ou mixte résineux)\",Martelage!G61),\"\")","v":""},{"$f":"IFERROR(_xlfn.IFS($E$2=\"Martelage\",Martelage!G49,$E$2=\"Martelage négatif - EC (résineux ou mixte résineux)\",Martelage!G62,$E$2=\"Martelage positif - EC (résineux ou mixte résineux)\",Martelage!G62),\"\")","v":""},{"$f":"IFERROR(_xlfn.IFS($E$2=\"Martelage\",Martelage!G50,$E$2=\"Martelage négatif - EC (résineux ou mixte résineux)\",Martelage!G63,$E$2=\"Martelage positif - EC (résineux ou mixte résineux)\",Martelage!G63),\"\")","v":""},{"$f":"IFERROR(_xlfn.IFS($E$2=\"Martelage\",Martelage!G51,$E$2=\"Martelage négatif - EC (résineux ou mixte résineux)\",Martelage!G64,$E$2=\"Martelage positif - EC (résineux ou mixte résineux)\",Martelage!G64),\"\")","v":""},{"$f":"IFERROR(_xlfn.IFS($E$2=\"Martelage\",Martelage!G54,$E$2=\"Martelage négatif - EC (résineux ou mixte résineux)\",Martelage!G67,$E$2=\"Martelage positif - EC (résineux ou mixte résineux)\",Martelage!G67),\"\")","v":""}]
[]
[]
[]
[]
[]
[]
[]
[]
[]
[null,{"$f":"IFERROR(_xlfn.IFS($E$2=\"Martelage\",Martelage!#REF!,$E$2=\"Martelage négatif - EC (résineux ou mixte résineux)\",Martelage!#REF!,$E$2=\"Martelage positif - EC (résineux ou mixte résineux)\",Martelage!#REF!),\"\")","v":""},{"$f":"IFERROR(_xlfn.IFS($E$2=\"Martelage\",Martelage!#REF!,$E$2=\"Martelage négatif - EC (résineux ou mixte résineux)\",Martelage!#REF!,$E$2=\"Martelage positif - EC (résineux ou mixte résineux)\",Martelage!#REF!),\"\")","v":""}]
[null,{"$f":"IFERROR(_xlfn.IFS($E$2=\"Martelage\",Martelage!#REF!,$E$2=\"Martelage négatif - EC (résineux ou mixte résineux)\",Martelage!#REF!,$E$2=\"Martelage positif - EC (résineux ou mixte résineux)\",Martelage!#REF!),\"\")","v":""},{"$f":"IFERROR(_xlfn.IFS($E$2=\"Martelage\",Martelage!#REF!,$E$2=\"Martelage négatif - EC (résineux ou mixte résineux)\",Martelage!#REF!,$E$2=\"Martelage positif - EC (résineux ou mixte résineux)\",Martelage!#REF!),\"\")","v":""}]
[null,{"$f":"IFERROR(_xlfn.IFS($E$2=\"Martelage\",Martelage!#REF!,$E$2=\"Martelage négatif - EC (résineux ou mixte résineux)\",Martelage!#REF!,$E$2=\"Martelage positif - EC (résineux ou mixte résineux)\",Martelage!#REF!),\"\")","v":""},{"$f":"IFERROR(_xlfn.IFS($E$2=\"Martelage\",Martelage!#REF!,$E$2=\"Martelage négatif - EC (résineux ou mixte résineux)\",Martelage!#REF!,$E$2=\"Martelage positif - EC (résineux ou mixte résineux)\",Martelage!#REF!),\"\")","v":""}]
[null,{"$f":"IFERROR(_xlfn.IFS($E$2=\"Martelage\",Martelage!#REF!,$E$2=\"Martelage négatif - EC (résineux ou mixte résineux)\",Martelage!#REF!,$E$2=\"Martelage positif - EC (résineux ou mixte résineux)\",Martelage!#REF!),\"\")","v":""},{"$f":"IFERROR(_xlfn.IFS($E$2=\"Martelage\",Martelage!#REF!,$E$2=\"Martelage négatif - EC (résineux ou mixte résineux)\",Martelage!#REF!,$E$2=\"Martelage positif - EC (résineux ou mixte résineux)\",Martelage!#REF!),\"\")","v":""}]
[null,{"$f":"IFERROR(_xlfn.IFS($E$2=\"Martelage\",Martelage!#REF!,$E$2=\"Martelage négatif - EC (résineux ou mixte résineux)\",Martelage!#REF!,$E$2=\"Martelage positif - EC (résineux ou mixte résineux)\",Martelage!#REF!),\"\")","v":""},{"$f":"IFERROR(_xlfn.IFS($E$2=\"Martelage\",Martelage!#REF!,$E$2=\"Martelage négatif - EC (résineux ou mixte résineux)\",Martelage!#REF!,$E$2=\"Martelage positif - EC (résineux ou mixte résineux)\",Martelage!#REF!),\"\")","v":""}]
[null,{"$f":"IFERROR(_xlfn.IFS($E$2=\"Martelage\",Martelage!#REF!,$E$2=\"Martelage négatif - EC (résineux ou mixte résineux)\",Martelage!#REF!,$E$2=\"Martelage positif - EC (résineux ou mixte résineux)\",Martelage!#REF!),\"\")","v":""},{"$f":"IFERROR(_xlfn.IFS($E$2=\"Martelage\",Martelage!#REF!,$E$2=\"Martelage négatif - EC (résineux ou mixte résineux)\",Martelage!#REF!,$E$2=\"Martelage positif - EC (résineux ou mixte résineux)\",Martelage!#REF!),\"\")","v":""}]
[null,{"$f":"IFERROR(_xlfn.IFS($E$2=\"Martelage\",Martelage!#REF!,$E$2=\"Martelage négatif - EC (résineux ou mixte résineux)\",Martelage!#REF!,$E$2=\"Martelage positif - EC (résineux ou mixte résineux)\",Martelage!#REF!),\"\")","v":""},{"$f":"IFERROR(_xlfn.IFS($E$2=\"Martelage\",Martelage!#REF!,$E$2=\"Martelage négatif - EC (résineux ou mixte résineux)\",Martelage!#REF!,$E$2=\"Martelage positif - EC (résineux ou mixte résineux)\",Martelage!#REF!),\"\")","v":""}]
[null,{"$f":"IFERROR(_xlfn.IFS($E$2=\"Martelage\",Martelage!#REF!,$E$2=\"Martelage négatif - EC (résineux ou mixte résineux)\",Martelage!#REF!,$E$2=\"Martelage positif - EC (résineux ou mixte résineux)\",Martelage!#REF!),\"\")","v":""},{"$f":"IFERROR(_xlfn.IFS($E$2=\"Martelage\",Martelage!#REF!,$E$2=\"Martelage négatif - EC (résineux ou mixte résineux)\",Martelage!#REF!,$E$2=\"Martelage positif - EC (résineux ou mixte résineux)\",Martelage!#REF!),\"\")","v":""}]
[null,{"$f":"IFERROR(_xlfn.IFS($E$2=\"Martelage\",Martelage!#REF!,$E$2=\"Martelage négatif - EC (résineux ou mixte résineux)\",Martelage!#REF!,$E$2=\"Martelage positif - EC (résineux ou mixte résineux)\",Martelage!#REF!),\"\")","v":""},{"$f":"IFERROR(_xlfn.IFS($E$2=\"Martelage\",Martelage!#REF!,$E$2=\"Martelage négatif - EC (résineux ou mixte résineux)\",Martelage!#REF!,$E$2=\"Martelage positif - EC (résineux ou mixte résineux)\",Martelage!#REF!),\"\")","v":""}]
[null,{"$f":"IFERROR(_xlfn.IFS($E$2=\"Martelage\",Martelage!#REF!,$E$2=\"Martelage négatif - EC (résineux ou mixte résineux)\",Martelage!#REF!,$E$2=\"Martelage positif - EC (résineux ou mixte résineux)\",Martelage!#REF!),\"\")","v":""},{"$f":"IFERROR(_xlfn.IFS($E$2=\"Martelage\",Martelage!#REF!,$E$2=\"Martelage négatif - EC (résineux ou mixte résineux)\",Martelage!#REF!,$E$2=\"Martelage positif - EC (résineux ou mixte résineux)\",Martelage!#REF!),\"\")","v":""}]
[null,{"$f":"IFERROR(_xlfn.IFS($E$2=\"Martelage\",Martelage!#REF!,$E$2=\"Martelage négatif - EC (résineux ou mixte résineux)\",Martelage!#REF!,$E$2=\"Martelage positif - EC (résineux ou mixte résineux)\",Martelage!#REF!),\"\")","v":""},{"$f":"IFERROR(_xlfn.IFS($E$2=\"Martelage\",Martelage!#REF!,$E$2=\"Martelage négatif - EC (résineux ou mixte résineux)\",Martelage!#REF!,$E$2=\"Martelage positif - EC (résineux ou mixte résineux)\",Martelage!#REF!),\"\")","v":""}]
[null,{"$f":"IFERROR(_xlfn.IFS($E$2=\"Martelage\",Martelage!#REF!,$E$2=\"Martelage négatif - EC (résineux ou mixte résineux)\",Martelage!#REF!,$E$2=\"Martelage positif - EC (résineux ou mixte résineux)\",Martelage!#REF!),\"\")","v":""},{"$f":"IFERROR(_xlfn.IFS($E$2=\"Martelage\",Martelage!#REF!,$E$2=\"Martelage négatif - EC (résineux ou mixte résineux)\",Martelage!#REF!,$E$2=\"Martelage positif - EC (résineux ou mixte résineux)\",Martelage!#REF!),\"\")","v":""}]
[null,{"$f":"IFERROR(_xlfn.IFS($E$2=\"Martelage\",Martelage!#REF!,$E$2=\"Martelage négatif - EC (résineux ou mixte résineux)\",Martelage!#REF!,$E$2=\"Martelage positif - EC (résineux ou mixte résineux)\",Martelage!#REF!),\"\")","v":""},{"$f":"IFERROR(_xlfn.IFS($E$2=\"Martelage\",Martelage!#REF!,$E$2=\"Martelage négatif - EC (résineux ou mixte résineux)\",Martelage!#REF!,$E$2=\"Martelage positif - EC (résineux ou mixte résineux)\",Martelage!#REF!),\"\")","v":""}]
[null,{"$f":"IFERROR(_xlfn.IFS($E$2=\"Martelage\",Martelage!#REF!,$E$2=\"Martelage négatif - EC (résineux ou mixte résineux)\",Martelage!#REF!,$E$2=\"Martelage positif - EC (résineux ou mixte résineux)\",Martelage!#REF!),\"\")","v":""},{"$f":"IFERROR(_xlfn.IFS($E$2=\"Martelage\",Martelage!#REF!,$E$2=\"Martelage négatif - EC (résineux ou mixte résineux)\",Martelage!#REF!,$E$2=\"Martelage positif - EC (résineux ou mixte résineux)\",Martelage!#REF!),\"\")","v":""}]
[null,{"$f":"IFERROR(_xlfn.IFS($E$2=\"Martelage\",Martelage!#REF!,$E$2=\"Martelage négatif - EC (résineux ou mixte résineux)\",Martelage!#REF!,$E$2=\"Martelage positif - EC (résineux ou mixte résineux)\",Martelage!#REF!),\"\")","v":""},{"$f":"IFERROR(_xlfn.IFS($E$2=\"Martelage\",Martelage!#REF!,$E$2=\"Martelage négatif - EC (résineux ou mixte résineux)\",Martelage!#REF!,$E$2=\"Martelage positif - EC (résineux ou mixte résineux)\",Martelage!#REF!),\"\")","v":""}]
[null,{"$f":"IFERROR(_xlfn.IFS($E$2=\"Martelage\",Martelage!#REF!,$E$2=\"Martelage négatif - EC (résineux ou mixte résineux)\",Martelage!#REF!,$E$2=\"Martelage positif - EC (résineux ou mixte résineux)\",Martelage!#REF!),\"\")","v":""},{"$f":"IFERROR(_xlfn.IFS($E$2=\"Martelage\",Martelage!#REF!,$E$2=\"Martelage négatif - EC (résineux ou mixte résineux)\",Martelage!#REF!,$E$2=\"Martelage positif - EC (résineux ou mixte résineux)\",Martelage!#REF!),\"\")","v":""}]

{"sheet":"Travaux de planif et techniques","index":15,"n_rows":109,"n_cols":7,"rows_kept":109,"cut":false,"hidden":false,"merged":[[68,0,68,6],[69,0,69,4],[108,0,108,1],[109,0,109,1],[110,0,110,1],[111,0,111,1],[112,0,112,1],[113,0,113,1],[89,0,89,4],[90,0,90,1],[91,0,91,1],[91,2,92,4],[84,0,85,5],[70,0,70,6],[83,0,83,5],[84,6,85,6],[80,6,82,6],[79,0,79,6],[71,0,71,5],[76,0,76,6],[72,0,72,5],[73,0,73,5],[75,0,75,5],[77,0,77,6],[114,0,114,1],[92,0,92,1],[99,0,99,1],[100,0,100,1],[101,0,101,1],[102,0,102,1],[103,0,103,1],[104,0,104,1],[105,0,105,1],[106,0,106,1],[107,0,107,1],[93,0,93,1],[94,0,94,1],[95,0,95,1],[96,0,96,1],[97,0,97,1],[98,0,98,1],[78,0,78,6],[86,0,86,5],[80,0,82,5],[21,0,21,6],[32,0,32,1],[39,2,39,3],[33,0,33,1],[33,3,33,4],[27,0,31,0],[37,0,39,0],[37,1,39,1],[36,1,36,6],[25,0,25,6],[27,1,30,1],[27,2,27,3],[28,2,28,3],[29,2,29,3],[31,2,31,3],[34,0,34,6],[32,3,32,4],[23,3,23,4],[23,0,23,1],[67,0,67,6],[22,3,22,4],[0,0,0,6],[4,0,4,5],[2,0,2,5],[5,0,5,5],[1,0,1,6],[3,0,3,5],[10,0,10,1],[11,0,11,1],[12,0,12,1],[6,0,6,5],[7,0,7,5],[9,0,9,1],[9,3,9,4],[12,3,12,4],[10,3,10,4],[11,3,11,4],[22,0,22,1],[14,3,14,4],[8,0,8,6],[20,0,20,1],[20,3,20,4],[15,0,15,1],[16,0,16,1],[18,0,18,6],[15,3,15,4],[16,3,16,4],[13,0,13,6],[17,0,17,1],[17,3,17,4],[14,0,14,1],[19,3,19,4],[19,0,19,1],[24,0,24,6],[65,0,65,4],[41,0,41,6],[42,0,42,6],[62,3,62,4],[61,3,61,4],[61,0,61,1],[52,2,52,3],[51,2,51,3],[50,2,50,3],[49,2,49,3],[57,2,57,3],[55,2,55,3],[54,2,54,3],[63,0,63,1],[35,0,35,6],[37,2,37,3],[37,4,39,4],[27,4,30,4],[30,2,30,3],[38,2,38,3],[63,3,63,4],[64,0,64,6],[48,2,48,3],[74,0,74,5],[44,2,44,3],[62,0,62,1],[43,1,43,6],[44,1,46,1],[26,1,26,6],[60,0,60,6],[44,0,58,0],[53,2,53,3],[47,2,47,3],[46,2,46,3],[45,2,45,3],[40,3,40,4],[40,0,40,1],[59,0,59,1],[59,3,59,4],[58,2,58,3],[47,1,55,1],[47,4,55,4],[56,2,56,3],[56,1,58,1],[56,4,58,4],[44,4,46,4],[66,0,66,4]]}
[]
["Annexe au calcul des taux des traitements non commerciaux 2024-2025   \nTravaux de planification et techniques\nForêt publique"]
[" *** Veuillez saisir les informations dans les cellules blanches seulement et utiliser les cases à cocher si requis ***",null,null,null,null,null,"Version 2 : 2024-04-19"]
["Identification",null,null,null,null,null,"Travaux de planification"]
["Unité d'aménagement (UA)"]
["Secteur d'intervention"]
["Unité de compilation"]
["Numéro de la prescription"]
["Recherche de secteur d'intervention potentiel (terrain) réalisé à la demande du MRNF"]
["Traitement",null,"Valeur","Unité",null,"Total","Quantité"]
["Traitement du site",null,{"$f":"'Calculs grille'!$L$169","v":9},"Nombre d'hectares recherchés",null,{"$f":"IFERROR(($C$11*$G$11),0)","v":0}]
["Régénération artificielle",null,{"$f":"'Calculs grille'!$L$169","v":9},"Nombre d'hectares recherchés",null,{"$f":"IFERROR(($C$12*$G$12),0)","v":0}]
["Éducation de peuplement",null,{"$f":"'Calculs grille'!$L$170","v":16},"Nombre d'hectares recherchés",null,{"$f":"IFERROR(($C$13*$G$13),0)","v":0}]
["Recherche de secteur d'intervention potentiel (terrain) proposé par l'entreprise sylvicole"]
["Traitement",null,"Valeur","Unité",null,"Total","Quantité"]
["Traitement du site",null,{"$f":"'Calculs grille'!$L$171","v":13},"Nombre d'hectares trouvés",null,{"$f":"IFERROR(($C$16*$G$16),0)","v":0}]
["Régénération artificielle",null,{"$f":"'Calculs grille'!$L$171","v":13},"Nombre d'hectares trouvés",null,{"$f":"IFERROR(($C$17*$G$17),0)","v":0}]
["Éducation de peuplement",null,{"$f":"'Calculs grille'!$L$172","v":11},"Nombre d'hectares trouvés",null,{"$f":"IFERROR(($C$18*$G$18),0)","v":0}]
["Confection du plan de sondage"]
["Traitement",null,"Valeur","Unité",null,"Total","Quantité"]
["Plan de sondage",null,{"$f":"'Calculs grille'!$L$173","v":3.38},"Nombre d'hectares inventoriés",null,{"$f":"IFERROR(($C$21*$G$21),0)","v":0}]
["Inventaire diagnostique d'un secteur d'intervention potentiel"]
["Traitement",null,"Valeur","Unité",null,"Total","Quantité"]
["Traitement du site",null,{"$f":"'Calculs grille'!$L$174","v":36},"Nombre de PE inventoriées",null,{"$f":"IFERROR((SUM($E$28:$E$32)+$C$24)*$G$24,0)","v":0}]
["Critères supplémentaires avant traitement - Traitement du site"]
["Critères supplémentaires pour l'inventaire diagnostique pour « Traitements du site »\nLa valeur de la placette est calculée selon la formule suivante :"]
[null,{"$f":"Formules!$D$26","v":"Taux ($/PE) = 36 + (Nombre de critère #7 * 0,58) + (Nombre de critère #8 * 2,91)"}]
[null,"Critère #7","Localiser les problématiques liées aux chemins pour accéder au territoire",null,{"$f":"IFERROR(SUM($F$28:$F$31)*'Calculs grille'!$L$175,0)","v":0},{"$f":"IFERROR(IF(EXACT(UPPER($G$28),UPPER(Menus!$A$685)),1,IF(EXACT(UPPER($G$28),UPPER(Menus!$A$686)),0,\"\")),\"\")","v":""}]
[null,null,"Facteur limitatif à la préparation de terrain",null,null,{"$f":"IFERROR(IF(EXACT(UPPER($G$29),UPPER(Menus!$A$685)),1,IF(EXACT(UPPER($G$29),UPPER(Menus!$A$686)),0,\"\")),\"\")","v":""}]
[null,null,"Déterminer le pourcentage de la pente sur le terrain",null,null,{"$f":"IFERROR(IF(EXACT(UPPER($G$30),UPPER(Menus!$A$685)),1,IF(EXACT(UPPER($G$30),UPPER(Menus!$A$686)),0,\"\")),\"\")","v":""}]
[null,null,"Rugosité ou quantité de débris ligneux au sol ",null,null,{"$f":"IFERROR(IF(EXACT(UPPER($G$31),UPPER(Menus!$A$685)),1,IF(EXACT(UPPER($G$31),UPPER(Menus!$A$686)),0,\"\")),\"\")","v":""}]
[null,"Critère #8","Hauteur de la régénération des essences désirées",null,{"$f":"IFERROR(SUM($F$32)*'Calculs grille'!$L$176,0)","v":0},{"$f":"IFERROR(IF(EXACT(UPPER($G$32),UPPER(Menus!$A$685)),1,IF(EXACT(UPPER($G$32),UPPER(Menus!$A$686)),0,\"\")),\"\")","v":""}]
["Préparation de terrain (drainage sylvicole - plan et devis)",null,{"$f":"'Calculs grille'!$L$179","v":41},"Nombre de km ou Mm³ du devis",null,{"$f":"IFERROR(($C$33*$G$33),0)","v":0}]
["Régénération artificielle",null,{"$f":"'Calculs grille'!$L$177","v":39},"Nombre de PE inventoriées",null,{"$f":"IFERROR((SUM($E$38)+$C$34)*$G$34,0)","v":0}]
["Critères supplémentaires avant traitement - Régénération artificielle"]
["Critères supplémentaires pour l'inventaire diagnostique pour « Régénération artificielle »\nLa valeur de la placette est calculée selon la formule suivante :"]
[null,{"$f":"Formules!$D$27","v":"Taux ($/PE) = 39 + (Nombre de critère #9 * 0,71)"}]
[null,"Critère #9","Localiser les problématiques liées aux chemins pour accéder au territoire",null,{"$f":"IFERROR(SUM($F$38:$F$40)*'Calculs grille'!$L$178,0)","v":0},{"$f":"IFERROR(IF(EXACT(UPPER($G$38),UPPER(Menus!$A$685)),1,IF(EXACT(UPPER($G$38),UPPER(Menus!$A$686)),0,\"\")),\"\")","v":""}]
[null,null,"Déterminer le pourcentage de la pente sur le terrain",null,null,{"$f":"IFERROR(IF(EXACT(UPPER($G$39),UPPER(Menus!$A$685)),1,IF(EXACT(UPPER($G$39),UPPER(Menus!$A$686)),0,\"\")),\"\")","v":""}]
[null,null,"Rugosité ou quantité de débris ligneux au sol ",null,null,{"$f":"IFERROR(IF(EXACT(UPPER($G$40),UPPER(Menus!$A$685)),1,IF(EXACT(UPPER($G$40),UPPER(Menus!$A$686)),0,\"\")),\"\")","v":""}]
["Éducation de peuplement (dégagement, nettoiement et éclaircie précommerciale)",null,{"$f":"'Calculs grille'!$L$180","v":113},"Nombre de PE inventoriées",null,{"$f":"IFERROR((SUM($E$45:E59)+C$41)*$G$41,0)","v":0}]
["Critères supplémentaires avant traitement - Éducation de peuplement"]
["Critères supplémentaires pour l'inventaire diagnostique pour « Éducation de peuplement »\n(dégagement, nettoiement et éclaircie précommerciale)\nLa valeur de la placette est calculée selon la formule suivante :"]
[null,{"$f":"Formules!$D$25","v":"Taux ($/PE) = 113 + (Nombre de critère #10 * 0,87) + (Nombre de critère #11 * 4,36) + (Nombre de critère #12 * 8,72)"}]
[null,"Critère #10","Localiser les problématiques liées aux chemins pour accéder au territoire",null,{"$f":"IFERROR(SUM($F$45:$F$47)*'Calculs grille'!$L$181,0)","v":0},{"$f":"IFERROR(IF(EXACT(UPPER($G$45),UPPER(Menus!$A$685)),1,IF(EXACT(UPPER($G$45),UPPER(Menus!$A$686)),0,\"\")),\"\")","v":""}]
[null,null,"Nombre d'arbres d'essences désirées attaqués par un insecte ou une maladie",null,null,{"$f":"IFERROR(IF(EXACT(UPPER($G$46),UPPER(Menus!$A$685)),1,IF(EXACT(UPPER($G$46),UPPER(Menus!$A$686)),0,\"\")),\"\")","v":""}]
[null,null,"Déterminer le pourcentage de la pente sur le terrain",null,null,{"$f":"IFERROR(IF(EXACT(UPPER($G$47),UPPER(Menus!$A$685)),1,IF(EXACT(UPPER($G$47),UPPER(Menus!$A$686)),0,\"\")),\"\")","v":""}]
[null,"Critère #11","Coefficient de distribution des arbres, arbustes ou arbrisseaux fruitiers, libres de croître ou non ",null,{"$f":"IFERROR(SUM($F$48:$F$56)*'Calculs grille'!$L$182,0)","v":0},{"$f":"IFERROR(IF(EXACT(UPPER($G$48),UPPER(Menus!$A$685)),1,IF(EXACT(UPPER($G$48),UPPER(Menus!$A$686)),0,\"\")),\"\")","v":""}]
[null,null,"Coefficient de distribution par essence des arbres d'avenir éclaircis, non éclaircis, libres de croître et non libres de croître",null,null,{"$f":"IFERROR(IF(EXACT(UPPER($G$49),UPPER(Menus!$A$685)),1,IF(EXACT(UPPER($G$49),UPPER(Menus!$A$686)),0,\"\")),\"\")","v":""}]
[null,null,"Hauteur de l'arbre d'essence résineuse à maîtriser",null,null,{"$f":"IFERROR(IF(EXACT(UPPER($G$50),UPPER(Menus!$A$685)),1,IF(EXACT(UPPER($G$50),UPPER(Menus!$A$686)),0,\"\")),\"\")","v":""}]
[null,null,"Hauteur moyenne des arbres, arbustes ou arbrisseaux d'espèces non commerciales",null,null,{"$f":"IFERROR(IF(EXACT(UPPER($G$51),UPPER(Menus!$A$685)),1,IF(EXACT(UPPER($G$51),UPPER(Menus!$A$686)),0,\"\")),\"\")","v":""}]
[null,null,"Hauteur des arbres, arbustes ou arbrisseaux fruitiers",null,null,{"$f":"IFERROR(IF(EXACT(UPPER($G$52),UPPER(Menus!$A$685)),1,IF(EXACT(UPPER($G$52),UPPER(Menus!$A$686)),0,\"\")),\"\")","v":""}]
[null,null,"Nombre de faces des arbres d’avenir d’essences désirées concurrencés",null,null,{"$f":"IFERROR(IF(EXACT(UPPER($G$53),UPPER(Menus!$A$685)),1,IF(EXACT(UPPER($G$53),UPPER(Menus!$A$686)),0,\"\")),\"\")","v":""}]
[null,null,"Coefficient de distribution des arbres, arbustes ou arbrisseaux d’espèces commerciales ou non commerciales",null,null,{"$f":"IFERROR(IF(EXACT(UPPER($G$54),UPPER(Menus!$A$685)),1,IF(EXACT(UPPER($G$54),UPPER(Menus!$A$686)),0,\"\")),\"\")","v":""}]
[null,null,"Rugosité ou quantité de débris ligneux au sol ",null,null,{"$f":"IFERROR(IF(EXACT(UPPER($G$55),UPPER(Menus!$A$685)),1,IF(EXACT(UPPER($G$55),UPPER(Menus!$A$686)),0,\"\")),\"\")","v":""}]
[null,null,"Type écologique sur le terrain (inclure le critère pour le GEI)",null,null,{"$f":"IFERROR(IF(EXACT(UPPER($G$56),UPPER(Menus!$A$685)),1,IF(EXACT(UPPER($G$56),UPPER(Menus!$A$686)),0,\"\")),\"\")","v":""}]
[null,"Critère #12","Pourcentage de recouvrement des framboisiers, des fougères et des épilobes (FFÉ)",null,{"$f":"IFERROR(SUM($F$57:$F$59)*'Calculs grille'!$L$183,0)","v":0},{"$f":"IFERROR(IF(EXACT(UPPER($G$57),UPPER(Menus!$A$685)),1,IF(EXACT(UPPER($G$57),UPPER(Menus!$A$686)),0,\"\")),\"\")","v":""}]
[null,null,"Déterminer et mesurer le recouvrement du groupe d’espèces indicatrices (GEI)",null,null,{"$f":"IFERROR(IF(EXACT(UPPER($G$58),UPPER(Menus!$A$685)),1,IF(EXACT(UPPER($G$58),UPPER(Menus!$A$686)),0,\"\")),\"\")","v":""}]
[null,null,"Pourcentage de recouvrement par espèces végétales concurrentes",null,null,{"$f":"IFERROR(IF(EXACT(UPPER($G$59),UPPER(Menus!$A$685)),1,IF(EXACT(UPPER($G$59),UPPER(Menus!$A$686)),0,\"\")),\"\")","v":""}]
["Élagage artificiel et de taille phytosanitaire",null,{"$f":"'Calculs grille'!$L$184","v":59},"Nombre de PE inventoriées",null,{"$f":"IFERROR(($C$60*$G$60),0)","v":0}]
["Délimitation des secteurs"]
["Traitement",null,"Valeur","Unité",null,"Total","Quantité"]
["Traitement du site lorsque réalisé sans exécution (tierce partie)",null,{"$f":"'Calculs grille'!$L$194","v":49},"Nombre de km délimités",null,{"$f":"IFERROR(($C$63*$G$63),0)","v":0}]
["Éducation de peuplement",null,{"$f":"'Calculs grille'!$L$198","v":165},"Nombre de km délimités",null,{"$f":"IFERROR(($C$64*$G$64),0)","v":0}]
["Majoration pour l'hébergement et la distance ou la durée du déplacement (HPVTM et DTPVTM)"]
["Hébergement (HPVTM)",null,null,null,null,{"$f":"IFERROR(IF(ISBLANK($G$66)=TRUE,\"\",IFERROR(VLOOKUP($G$66,Menus!$A$689:$B$691,2,FALSE),IF($G$66<=Menus!$B$690,ROUND($G$66,4),\"Max \"&TEXT(Menus!B690,\"0,0%\")))),0)","v":""}]
["Distance ou durée du déplacement (DTPVTM)",null,null,null,null,{"$f":"IFERROR(VLOOKUP($G$67,Menus!$A$694:$B$696,2,FALSE),\"\")","v":""}]
["Majoration pour la certification (CEAF4 ou ISO4)"]
["Majoration pour la certification (CEAF4 ou ISO4) - Tous"]
["Certification (CEAF4 ou ISO4)",null,null,null,null,{"$f":"IFERROR(VLOOKUP($G$70,Menus!$B$685:$C$687,2,FALSE),\"\")","v":""}]
["Totaux"]
["Montant de base admissible",null,null,null,null,null,{"$f":"IFERROR(SUM($F$11,$F$13,$F$16,$F$18,$F$21,$F$24:$F$24,$F$34,$F$41,$F$60,$F$63:$F$64),0)","v":0}]
["Taux HPVTM (non applicable pour le plan de sondage)",null,null,null,null,null,{"$f":"IFERROR(($G$72-$F$21)*SUM($F$66),0)","v":0}]
["Taux DTPVTM (non applicable pour le plan de sondage)",null,null,null,null,null,{"$f":"IFERROR((($G$72-$F$21)*$F$67),0)","v":0}]
["Taux CEAF4 ou ISO4",null,null,null,null,null,{"$f":"IFERROR($F$70*SUM($G$72:$G$74),0)","v":0}]
["Grand total admissible",null,null,null,null,null,{"$f":"IFERROR(ROUND(SUM($G$72:$G$75),2),0)","v":0}]
[]
["Remarques"]
[]
["J'atteste que les renseignements fournis dans ce document afin de calculer le taux du traitement sont complets et conformes à la vérité, au meilleur de mes connaissances."]
[]
[]
[]
["Nom et prénom de l'ingénieur forestier",null,null,null,null,null,"Numéro de permis"]
[null,null,null,null,null,null,{"$f":"TODAY()","v":"2026-04-08"}]
[]
["Signature de l'ingénieur forestier",null,null,null,null,null,"Date (AAAA-MM-JJ)"]
[]
[]
["Section réservée au suivi du contrat"]
[]
["Numéro de la prescription :",null,{"$f":"IF($G$8<>\"\",$G$8,\"\")","v":""}]
[]
["Numéro du contrat :"]
["Numéro du projet :"]
["U.G. :"]
["MRC :"]
["Code de traitement DICA :"]
["Code de traitement RATF :"]
["Type d'attribution : "]
["Taux global AO : "]
["Taux global Grille :",null,{"$f":"IFERROR(VLOOKUP($G$4,Rexforêt_Taux_AO,3,FALSE),0)","v":0}]
["Ratio AO/Grille :",null,{"$f":"IFERROR(IF(AND(ISBLANK($C$101)=FALSE,$C$102>0),ROUND($C$101/$C$102,4),\"S/O\"),\"\")","v":"S/O"}]
["Grand total AO :",null,{"$f":"IFERROR(IF(OR(ISBLANK($C$101)=TRUE,EXACT($C$102,0)),\"S/O\",ROUND(VLOOKUP($G$4,RXF!$A$1:$G$55,5,FALSE)*$C$103,2)),\"\")","v":"S/O"}]
["Nom de l'entrepreneur : "]
["Numéro de fournisseur : "]
["Date de début :"]
["Date de fin :"]
["Commentaires :"]

{"sheet":"TT_BD","index":16,"n_rows":2,"n_cols":61,"rows_kept":2,"cut":false,"hidden":true,"merged":[]}
["NO_CONTRAT","NO_SEC_INT","NO_UA","SIP_POT_PS","SIP_POT_RA","SIP_POT_EP","SIP_PRO_PS","SIP_PRO_RA","SIP_PRO_EP","PLAN_SOND","PE_PS","CRIT_7_1","CRIT_7_2","CRIT_7_3","CRIT_7_4","CRIT_8","PE_DRAIN","PE_RA","CRIT_9_1","CRIT_9_2","CRIT_9_3","PE_EP","CRIT_10_1","CRIT_10_2","CRIT_10_3","CRIT_11_1","CRIT_11_2","CRIT_11_3","CRIT_11_4","CRIT_11_5","CRIT_11_6","CRIT_11_7","CRIT_11_8","CRIT_11_9","CRIT_12_1","CRIT_12_2","CRIT_12_3","PE_ELG","DSPS","DSEP","PE_SVE_01","SVE_7","SVE_8","SVE_12","SVE_13","SVE_14A1","SVE_14A2","SVE_14A3","PE_SVE_02","SVE_14B1","SVE_14B2","SVE_14B3","PE_SIM_AAE","PE_SIM_SAE","PE_COM_AAE","PE_COM_SAE","MNT_TT_BA","TAUX_HPVT","TAUX_DTPVT","TAUX_CEAF","MNT_TT"]
[{"$f":"'Travaux de planif et techniques'!C94","v":0},{"$f":"'Travaux de planif et techniques'!G6","v":0},{"$f":"'Travaux de planif et techniques'!G5","v":0},{"$f":"'Travaux de planif et techniques'!G11","v":0},{"$f":"'Travaux de planif et techniques'!G12","v":0},{"$f":"'Travaux de planif et techniques'!G13","v":0},{"$f":"'Travaux de planif et techniques'!G16","v":0},{"$f":"'Travaux de planif et techniques'!G17","v":0},{"$f":"'Travaux de planif et techniques'!G18","v":0},{"$f":"'Travaux de planif et techniques'!G21","v":0},{"$f":"'Travaux de planif et techniques'!G24","v":0},null,null,null,null,null,null,{"$f":"'Travaux de planif et techniques'!G34","v":0},null,null,null,{"$f":"'Travaux de planif et techniques'!G41","v":0},null,null,null,null,null,null,null,null,null,null,null,null,null,null,null,{"$f":"'Travaux de planif et techniques'!G60","v":0},{"$f":"'Travaux de planif et techniques'!G63","v":0},{"$f":"'Travaux de planif et techniques'!G64","v":0},null,null,null,null,null,null,null,null,null,null,null,null,null,null,null,null,{"$f":"IFERROR('Travaux de planif et techniques'!G72,\"\")","v":0},{"$f":"IFERROR('Travaux de planif et techniques'!G73,\"\")","v":0},{"$f":"IFERROR('Travaux de planif et techniques'!G74,\"\")","v":0},{"$f":"IFERROR('Travaux de planif et techniques'!G75,\"\")","v":0},{"$f":"IFERROR('Travaux de planif et techniques'!G76,\"\")","v":0}]

{"sheet":"Travaux planif et tech - PATS","index":17,"n_rows":111,"n_cols":27,"rows_kept":111,"cut":false,"hidden":true,"merged":[[15,0,15,1],[15,3,15,4],[16,0,16,1],[0,0,0,6],[1,0,1,6],[2,0,2,5],[3,0,3,5],[4,0,4,5],[5,0,5,5],[13,0,13,6],[14,0,14,1],[14,3,14,4],[11,0,11,1],[11,3,11,4],[12,0,12,1],[12,3,12,4],[6,0,6,5],[7,0,7,5],[8,0,8,6],[9,0,9,1],[9,3,9,4],[10,0,10,1],[10,3,10,4],[16,3,16,4],[17,0,17,1],[17,3,17,4],[26,1,26,6],[27,0,31,0],[27,1,30,1],[27,2,27,3],[27,4,30,4],[28,2,28,3],[29,2,29,3],[30,2,30,3],[31,2,31,3],[22,0,22,1],[22,3,22,4],[23,0,23,1],[23,3,23,4],[24,0,24,6],[25,0,25,6],[18,0,18,6],[19,0,19,1],[19,3,19,4],[20,0,20,1],[20,3,20,4],[21,0,21,6],[36,1,36,6],[37,0,39,0],[37,1,39,1],[37,2,37,3],[37,4,39,4],[38,2,38,3],[39,2,39,3],[32,0,32,1],[32,3,32,4],[33,0,33,1],[33,3,33,4],[34,0,34,6],[35,0,35,6],[40,0,40,1],[40,3,40,4],[41,0,41,6],[42,0,42,6],[43,1,43,6],[44,0,58,0],[44,1,46,1],[44,2,44,3],[44,4,46,4],[45,2,45,3],[46,2,46,3],[47,1,55,1],[47,2,47,3],[47,4,55,4],[48,2,48,3],[49,2,49,3],[50,2,50,3],[51,2,51,3],[52,2,52,3],[53,2,53,3],[59,0,59,1],[59,3,59,4],[54,2,54,3],[55,2,55,3],[56,1,58,1],[56,2,56,3],[56,4,58,4],[57,2,57,3],[58,2,58,3],[60,0,60,1],[60,3,60,4],[65,0,65,1],[65,3,65,4],[63,0,63,6],[64,0,64,1],[64,3,64,4],[61,0,61,1],[62,0,62,1],[61,3,61,4],[62,3,62,4],[73,0,73,5],[74,0,74,5],[75,0,75,5],[77,0,77,5],[78,0,78,6],[79,0,79,6],[66,0,66,6],[67,0,67,4],[68,0,68,4],[72,0,72,6],[69,0,69,6],[70,0,70,6],[71,0,71,4],[76,0,76,5],[88,0,88,5],[91,0,91,4],[92,0,92,1],[93,0,93,1],[93,2,94,4],[94,0,94,1],[80,0,80,6],[81,0,81,6],[82,0,84,5],[82,6,84,6],[85,0,85,5],[86,0,87,5],[86,6,87,6],[101,0,101,1],[102,0,102,1],[103,0,103,1],[104,0,104,1],[105,0,105,1],[106,0,106,1],[95,0,95,1],[96,0,96,1],[97,0,97,1],[98,0,98,1],[99,0,99,1],[100,0,100,1],[113,0,113,1],[114,0,114,1],[115,0,115,1],[116,0,116,1],[107,0,107,1],[108,0,108,1],[109,0,109,1],[110,0,110,1],[111,0,111,1],[112,0,112,1]]}
[]
["Annexe au calcul des taux des traitements sylvicoles non commerciaux 2024-2025\nspécifique aux projets du\nProcessus d'analyse des traitements sylvicoles (PATS)\n   Éducation de peuplement\nForêt publique"]
[" *** Veuillez saisir les informations dans les cellules blanches seulement et utiliser les cases à cocher si requis ***",null,null,null,null,null,"Version 1 - PATS : 2024-03-26"]
["Identification",null,null,null,null,null,"Travaux planification - PATS"]
["Unité d'aménagement (UA)"]
["Secteur d'intervention"]
["Unité de compilation"]
["Numéro de la prescription"]
["Recherche de secteur d'intervention potentiel (terrain) réalisé à la demande du MRNF"]
["Traitement",null,"Valeur","Unité",null,"Total","Quantité"]
["Traitement du site",null,{"$f":"'Calculs grille'!$L$169","v":9},"Nombre d'hectares recherchés",null,{"$f":"IFERROR(($C$11*$G$11),0)","v":0},null,null,null,null,null,null,null,null,null,null,null,null,null,null,null,null,null,null,null,null,"CHCKBX2"]
["Régénération artificielle",null,{"$f":"'Calculs grille'!$L$169","v":9},"Nombre d'hectares recherchés",null,{"$f":"IFERROR(($C$12*$G$12),0)","v":0}]
["Éducation de peuplement",null,{"$f":"'Calculs grille'!$L$170","v":16},"Nombre d'hectares recherchés",null,{"$f":"IFERROR(($C$13*$G$13),0)","v":0}]
["Recherche de secteur d'intervention potentiel (terrain) proposé par l'entreprise sylvicole",null,null,null,null,null,null,null,null,null,null,null,null,null,null,null,null,null,null,null,null,null,null,null,null,null,"CHCKBX3"]
["Traitement",null,"Valeur","Unité",null,"Total","Quantité"]
["Traitement du site",null,{"$f":"'Calculs grille'!$L$171","v":13},"Nombre d'hectares trouvés",null,{"$f":"IFERROR(($C$16*$G$16),0)","v":0},null,null,null,null,null,null,null,null,null,null,null,null,null,null,null,null,null,null,null,null,"CHCKBX4"]
["Régénération artificielle",null,{"$f":"'Calculs grille'!$L$171","v":13},"Nombre d'hectares trouvés",null,{"$f":"IFERROR(($C$17*$G$17),0)","v":0}]
["Éducation de peuplement",null,{"$f":"'Calculs grille'!$L$172","v":11},"Nombre d'hectares trouvés",null,{"$f":"IFERROR(($C$18*$G$18),0)","v":0}]
["Confection du plan de sondage"]
["Traitement",null,"Valeur","Unité",null,"Total","Quantité"]
["Plan de sondage",null,{"$f":"'Calculs grille'!$L$173","v":3.38},"Nombre d'hectares inventoriés",null,{"$f":"IFERROR(($C$21*$G$21),0)","v":0}]
["Inventaire diagnostique d'un secteur d'intervention potentiel"]
["Traitement",null,"Valeur","Unité",null,"Total","Quantité"]
["Traitement du site",null,{"$f":"'Calculs grille'!$L$174","v":36},"Nombre de PE inventoriées",null,{"$f":"IFERROR(($C$24)*$G$24,0)","v":0}]
["Critères supplémentaires avant traitement - Traitement du site"]
["Critères supplémentaires pour l'inventaire diagnostique pour « Traitements du site »\nLa valeur de la placette est calculée selon la formule suivante :"]
[null,{"$f":"Formules!$D$26","v":"Taux ($/PE) = 36 + (Nombre de critère #7 * 0,58) + (Nombre de critère #8 * 2,91)"}]
[null,"Critère #7","Localiser les problématiques liées aux chemins pour accéder au territoire",null,{"$f":"IFERROR(SUM($F$28:$F$31)*'Calculs grille'!$L$175,0)","v":0},{"$f":"IFERROR(IF(EXACT(UPPER($G$28),UPPER(Menus!$A$685)),1,IF(EXACT(UPPER($G$28),UPPER(Menus!$A$686)),0,\"\")),\"\")","v":""}]
[null,null,"Facteur limitatif à la préparation de terrain",null,null,{"$f":"IFERROR(IF(EXACT(UPPER($G$29),UPPER(Menus!$A$685)),1,IF(EXACT(UPPER($G$29),UPPER(Menus!$A$686)),0,\"\")),\"\")","v":""}]
[null,null,"Déterminer le pourcentage de la pente sur le terrain",null,null,{"$f":"IFERROR(IF(EXACT(UPPER($G$30),UPPER(Menus!$A$685)),1,IF(EXACT(UPPER($G$30),UPPER(Menus!$A$686)),0,\"\")),\"\")","v":""}]
[null,null,"Rugosité ou quantité de débris ligneux au sol ",null,null,{"$f":"IFERROR(IF(EXACT(UPPER($G$31),UPPER(Menus!$A$685)),1,IF(EXACT(UPPER($G$31),UPPER(Menus!$A$686)),0,\"\")),\"\")","v":""}]
[null,"Critère #8","Hauteur de la régénération des essences désirées",null,{"$f":"IFERROR(SUM($F$32)*'Calculs grille'!$L$176,0)","v":0},{"$f":"IFERROR(IF(EXACT(UPPER($G$32),UPPER(Menus!$A$685)),1,IF(EXACT(UPPER($G$32),UPPER(Menus!$A$686)),0,\"\")),\"\")","v":""}]
["Préparation de terrain (drainage sylvicole - plan et devis)",null,{"$f":"'Calculs grille'!$L$179","v":41},"Nombre de km ou Mm³ du devis",null,{"$f":"IFERROR(($C$33*$G$33),0)","v":0}]
["Régénération artificielle",null,{"$f":"'Calculs grille'!$L$177","v":39},"Nombre de PE inventoriées",null,{"$f":"IFERROR(($C$34)*$G$34,0)","v":0}]
["Critères supplémentaires avant traitement - Régénération artificielle"]
["Critères supplémentaires pour l'inventaire diagnostique pour « Régénération artificielle »\nLa valeur de la placette est calculée selon la formule suivante :"]
[null,{"$f":"Formules!$D$27","v":"Taux ($/PE) = 39 + (Nombre de critère #9 * 0,71)"}]
[null,"Critère #9","Localiser les problématiques liées aux chemins pour accéder au territoire",null,{"$f":"IFERROR(SUM($F$38:$F$40)*'Calculs grille'!$L$178,0)","v":0},{"$f":"IFERROR(IF(EXACT(UPPER($G$38),UPPER(Menus!$A$685)),1,IF(EXACT(UPPER($G$38),UPPER(Menus!$A$686)),0,\"\")),\"\")","v":""}]
[null,null,"Déterminer le pourcentage de la pente sur le terrain",null,null,{"$f":"IFERROR(IF(EXACT(UPPER($G$39),UPPER(Menus!$A$685)),1,IF(EXACT(UPPER($G$39),UPPER(Menus!$A$686)),0,\"\")),\"\")","v":""}]
[null,null,"Rugosité ou quantité de débris ligneux au sol ",null,null,{"$f":"IFERROR(IF(EXACT(UPPER($G$40),UPPER(Menus!$A$685)),1,IF(EXACT(UPPER($G$40),UPPER(Menus!$A$686)),0,\"\")),\"\")","v":""}]
["Éducation de peuplement (dégagement, nettoiement et éclaircie précommerciale)",null,{"$f":"'Calculs grille'!$L$180","v":113},"Nombre de PE inventoriées",null,{"$f":"IFERROR(C$41*$G$41,0)","v":0}]
["Critères supplémentaires avant traitement - Éducation de peuplement"]
["Critères supplémentaires pour l'inventaire diagnostique pour « Éducation de peuplement »\n(dégagement, nettoiement et éclaircie précommerciale)\nLa valeur de la placette est calculée selon la formule suivante :"]
[null,{"$f":"Formules!$D$25","v":"Taux ($/PE) = 113 + (Nombre de critère #10 * 0,87) + (Nombre de critère #11 * 4,36) + (Nombre de critère #12 * 8,72)"}]
[null,"Critère #10","Localiser les problématiques liées aux chemins pour accéder au territoire",null,{"$f":"IFERROR(SUM($F$45:$F$47)*'Calculs grille'!$L$181,0)","v":0},{"$f":"IFERROR(IF(EXACT(UPPER($G$45),UPPER(Menus!$A$685)),1,IF(EXACT(UPPER($G$45),UPPER(Menus!$A$686)),0,\"\")),\"\")","v":""}]
[null,null,"Nombre d'arbres d'essences désirées attaqués par un insecte ou une maladie",null,null,{"$f":"IFERROR(IF(EXACT(UPPER($G$46),UPPER(Menus!$A$685)),1,IF(EXACT(UPPER($G$46),UPPER(Menus!$A$686)),0,\"\")),\"\")","v":""}]
[null,null,"Déterminer le pourcentage de la pente sur le terrain",null,null,{"$f":"IFERROR(IF(EXACT(UPPER($G$47),UPPER(Menus!$A$685)),1,IF(EXACT(UPPER($G$47),UPPER(Menus!$A$686)),0,\"\")),\"\")","v":""}]
[null,"Critère #11","Coefficient de distribution des arbres, arbustes ou arbrisseaux fruitiers, libres de croître ou non ",null,{"$f":"IFERROR(SUM($F$48:$F$56)*'Calculs grille'!$L$182,0)","v":0},{"$f":"IFERROR(IF(EXACT(UPPER($G$48),UPPER(Menus!$A$685)),1,IF(EXACT(UPPER($G$48),UPPER(Menus!$A$686)),0,\"\")),\"\")","v":""}]
[null,null,"Coefficient de distribution par essence des arbres d'avenir éclaircis, non éclaircis, libres de croître et non libres de croître",null,null,{"$f":"IFERROR(IF(EXACT(UPPER($G$49),UPPER(Menus!$A$685)),1,IF(EXACT(UPPER($G$49),UPPER(Menus!$A$686)),0,\"\")),\"\")","v":""}]
[null,null,"Hauteur de l'arbre d'essence résineuse à maîtriser",null,null,{"$f":"IFERROR(IF(EXACT(UPPER($G$50),UPPER(Menus!$A$685)),1,IF(EXACT(UPPER($G$50),UPPER(Menus!$A$686)),0,\"\")),\"\")","v":""}]
[null,null,"Hauteur moyenne des arbres, arbustes ou arbrisseaux d'espèces non commerciales",null,null,{"$f":"IFERROR(IF(EXACT(UPPER($G$51),UPPER(Menus!$A$685)),1,IF(EXACT(UPPER($G$51),UPPER(Menus!$A$686)),0,\"\")),\"\")","v":""}]
[null,null,"Hauteur des arbres, arbustes ou arbrisseaux fruitiers",null,null,{"$f":"IFERROR(IF(EXACT(UPPER($G$52),UPPER(Menus!$A$685)),1,IF(EXACT(UPPER($G$52),UPPER(Menus!$A$686)),0,\"\")),\"\")","v":""}]
[null,null,"Nombre de faces des arbres d’avenir d’essences désirées concurrencés",null,null,{"$f":"IFERROR(IF(EXACT(UPPER($G$53),UPPER(Menus!$A$685)),1,IF(EXACT(UPPER($G$53),UPPER(Menus!$A$686)),0,\"\")),\"\")","v":""}]
[null,null,"Coefficient de distribution des arbres, arbustes ou arbrisseaux d’espèces commerciales ou non commerciales",null,null,{"$f":"IFERROR(IF(EXACT(UPPER($G$54),UPPER(Menus!$A$685)),1,IF(EXACT(UPPER($G$54),UPPER(Menus!$A$686)),0,\"\")),\"\")","v":""}]
[null,null,"Rugosité ou quantité de débris ligneux au sol ",null,null,{"$f":"IFERROR(IF(EXACT(UPPER($G$55),UPPER(Menus!$A$685)),1,IF(EXACT(UPPER($G$55),UPPER(Menus!$A$686)),0,\"\")),\"\")","v":""}]
[null,null,"Type écologique sur le terrain\n(inclure le critère pour le GEI)",null,null,{"$f":"IFERROR(IF(EXACT(UPPER($G$56),UPPER(Menus!$A$685)),1,IF(EXACT(UPPER($G$56),UPPER(Menus!$A$686)),0,\"\")),\"\")","v":""}]
[null,"Critère #12","Pourcentage de recouvrement des framboisiers, des fougères et des épilobes (FFÉ)",null,{"$f":"IFERROR(SUM($F$57:$F$59)*'Calculs grille'!$L$183,0)","v":0},{"$f":"IFERROR(IF(EXACT(UPPER($G$57),UPPER(Menus!$A$685)),1,IF(EXACT(UPPER($G$57),UPPER(Menus!$A$686)),0,\"\")),\"\")","v":""}]
[null,null,"Déterminer et mesurer le recouvrement du groupe d’espèces indicatrices (GEI)",null,null,{"$f":"IFERROR(IF(EXACT(UPPER($G$58),UPPER(Menus!$A$685)),1,IF(EXACT(UPPER($G$58),UPPER(Menus!$A$686)),0,\"\")),\"\")","v":""}]
[null,null,"Pourcentage de recouvrement par espèces végétales concurrentes",null,null,{"$f":"IFERROR(IF(EXACT(UPPER($G$59),UPPER(Menus!$A$685)),1,IF(EXACT(UPPER($G$59),UPPER(Menus!$A$686)),0,\"\")),\"\")","v":""}]
["Inventaire diagnostique d'un secteur d'intervention\n\nPlacette simplifiée sans étude d'arbre",null,{"$f":"'Calculs grille'!$L$208","v":101},"Nombre de PE inventoriées",null,{"$f":"IFERROR(($C$60*$G$60),0)","v":0}]
["Inventaire diagnostique d'un secteur d'intervention\n\nPlacette simplifiée avec étude d'arbre",null,{"$f":"'Calculs grille'!$L$210","v":127},"Nombre de PE inventoriées",null,{"$f":"IFERROR(($C$61*$G$61),0)","v":0}]
["Inventaire diagnostique d'un secteur d'intervention\n\nPlacette complète sans étude d'arbre",null,{"$f":"'Calculs grille'!$L$209","v":138},"Nombre de PE inventoriées",null,{"$f":"IFERROR(($C$62*$G$62),0)","v":0}]
["Inventaire diagnostique d'un secteur d'intervention\n\nPlacette complète avec étude d'arbre",null,{"$f":"'Calculs grille'!$L$211","v":188},"Nombre de PE inventoriées",null,{"$f":"IFERROR(($C$63*$G$63),0)","v":0}]
["Rafraichissement d'un martelage passé"]
["Traitement",null,"Valeur","Unité",null,"Total","Quantité"]
["Rafraichissement d'un martelage",null,{"$f":"'Calculs grille'!L212","v":110},"Nombre d'hectares",null,{"$f":"IFERROR(($C$66*$G$66),0)","v":0}]
["Majoration pour l'hébergement et la distance ou la durée du déplacement (HPVTM et DTPVTM)"]
["Hébergement (HPVTM)",null,null,null,null,{"$f":"IFERROR(IF(ISBLANK($G$68)=TRUE,\"\",IFERROR(VLOOKUP($G$68,Menus!$A$689:$B$691,2,FALSE),IF($G$68<=Menus!$B$690,ROUND($G$68,4),\"Max \"&TEXT(Menus!B690,\"0,0%\")))),0)","v":""}]
["Distance ou durée du déplacement (DTPVTM)",null,null,null,null,{"$f":"IFERROR(VLOOKUP($G$69,Menus!$A$694:$B$696,2,FALSE),\"\")","v":""}]
["Majoration pour la certification (CEAF4 ou ISO4)"]
["Majoration pour la certification (CEAF4 ou ISO4) - Tous"]
["Certification (CEAF4 ou ISO4)",null,null,null,null,{"$f":"IFERROR(VLOOKUP($G$72,Menus!$B$685:$C$687,2,FALSE),\"\")","v":""}]
["Totaux"]
["Montant de base admissible",null,null,null,null,null,{"$f":"IFERROR(SUM($F$60:$F$63,F66),0)","v":0}]
["Taux HPVTM",null,null,null,null,null,{"$f":"IFERROR($G$74*SUM($F$68),0)","v":0}]
["Taux DTPVTM (non applicable pour le plan de sondage)",null,null,null,null,null,{"$f":"IFERROR((($G$74-$F$21)*$F$69),0)","v":0}]
["Taux CEAF4 ou ISO4",null,null,null,null,null,{"$f":"IFERROR($F$72*SUM($G$74:$G$76),0)","v":0}]
["Grand total admissible",null,null,null,null,null,{"$f":"IFERROR(ROUND(SUM($G$74:$G$77),2),0)","v":0}]
[]
["Remarques"]
[]
["J'atteste que les renseignements fournis dans ce document afin de calculer le taux du traitement sont complets et conformes à la vérité, au meilleur de mes connaissances."]
[]
[]
[]
["Nom et prénom de l'ingénieur forestier",null,null,null,null,null,"Numéro de permis"]
[null,null,null,null,null,null,{"$f":"TODAY()","v":"2026-04-08"}]
[]
["Signature de l'ingénieur forestier",null,null,null,null,null,"Date (AAAA-MM-JJ)"]
[]
[]
["Section réservée au suivi du contrat"]
[]
["Numéro de la prescription :",null,{"$f":"IF($G$8<>\"\",$G$8,\"\")","v":""}]
[]
["Numéro du contrat :"]
["Numéro du projet :"]
["U.G. :"]
["MRC :"]
["Code de traitement DICA :"]
["Code de traitement RATF :"]
["Type d'attribution : "]
["Taux global AO : "]
["Taux global Grille :",null,{"$f":"IFERROR(VLOOKUP($G$4,Rexforêt_Taux_AO,3,FALSE),0)","v":0}]
["Ratio AO/Grille :",null,{"$f":"IFERROR(IF(AND(ISBLANK($C$103)=FALSE,$C$104>0),ROUND($C$103/$C$104,4),\"S/O\"),\"\")","v":"S/O"}]
["Grand total AO :",null,{"$f":"IFERROR(IF(OR(ISBLANK($C$103)=TRUE,EXACT($C$104,0)),\"S/O\",ROUND(VLOOKUP($G$4,RXF!$A$1:$G$55,5,FALSE)*$C$105,2)),\"\")","v":"S/O"}]
["Nom de l'entrepreneur : "]
["Numéro de fournisseur : "]
["Date de début :"]
["Date de fin :"]
["Commentaires :"]

{"sheet":"TT_PATS_BD","index":18,"n_rows":2,"n_cols":61,"rows_kept":2,"cut":false,"hidden":true,"merged":[]}
["NO_CONTRAT","NO_SEC_INT","NO_UA","SIP_POT_PS","SIP_POT_RA","SIP_POT_EP","SIP_PRO_PS","SIP_PRO_RA","SIP_PRO_EP","PLAN_SOND","PE_PS","CRIT_7_1","CRIT_7_2","CRIT_7_3","CRIT_7_4","CRIT_8","PE_DRAIN","PE_RA","CRIT_9_1","CRIT_9_2","CRIT_9_3","PE_EP","CRIT_10_1","CRIT_10_2","CRIT_10_3","CRIT_11_1","CRIT_11_2","CRIT_11_3","CRIT_11_4","CRIT_11_5","CRIT_11_6","CRIT_11_7","CRIT_11_8","CRIT_11_9","CRIT_12_1","CRIT_12_2","CRIT_12_3","PE_ELG","DSPS","DSEP","PE_SVE_01","SVE_7","SVE_8","SVE_12","SVE_13","SVE_14A1","SVE_14A2","SVE_14A3","PE_SVE_02","SVE_14B1","SVE_14B2","SVE_14B3","PE_SIM_AAE","PE_SIM_SAE","PE_COM_AAE","PE_COM_SAE","MNT_TT_BA","TAUX_HPVT","TAUX_DTPVT","TAUX_CEAF","MNT_TT"]
[{"$f":"'Travaux planif et tech - PATS'!C96","v":0},{"$f":"'Travaux planif et tech - PATS'!G6","v":0},{"$f":"'Travaux planif et tech - PATS'!G5","v":0},null,null,null,null,null,null,null,null,null,null,null,null,null,null,null,null,null,null,null,null,null,null,null,null,null,null,null,null,null,null,null,null,null,null,null,null,null,null,null,null,null,null,null,null,null,null,null,null,null,{"$f":"'Travaux planif et tech - PATS'!G60","v":0},{"$f":"'Travaux planif et tech - PATS'!G61","v":0},{"$f":"'Travaux planif et tech - PATS'!G62","v":0},{"$f":"'Travaux planif et tech - PATS'!G63","v":0},{"$f":"'Travaux planif et tech - PATS'!G74","v":0},{"$f":"'Travaux planif et tech - PATS'!G75","v":0},{"$f":"'Travaux planif et tech - PATS'!G76","v":0},{"$f":"'Travaux planif et tech - PATS'!G77","v":0},{"$f":"'Travaux planif et tech - PATS'!G78","v":0}]

{"sheet":"Suivi d'efficacité","index":19,"n_rows":72,"n_cols":7,"rows_kept":72,"cut":false,"hidden":false,"merged":[[9,0,9,1],[9,3,9,4],[0,0,0,6],[1,0,1,6],[2,0,2,5],[3,0,3,5],[4,0,4,5],[5,0,5,5],[6,0,6,5],[7,0,7,5],[8,0,8,6],[23,1,23,6],[24,2,24,3],[18,2,18,3],[19,2,19,3],[17,1,19,1],[10,0,10,1],[10,3,10,4],[20,0,20,1],[20,3,20,4],[21,0,21,1],[21,3,21,4],[47,0,48,5],[47,6,48,6],[34,0,34,5],[35,0,35,5],[36,0,36,5],[38,0,38,5],[39,0,39,6],[40,0,40,6],[41,0,41,6],[42,0,42,6],[43,0,45,5],[43,6,45,6],[46,0,46,5],[77,0,77,1],[11,0,11,6],[12,1,12,6],[13,2,13,3],[14,2,14,3],[15,2,15,3],[16,2,16,3],[17,2,17,3],[69,0,69,1],[70,0,70,1],[71,0,71,1],[72,0,72,1],[73,0,73,1],[74,0,74,1],[63,0,63,1],[64,0,64,1],[75,0,75,1],[76,0,76,1],[65,0,65,1],[66,0,66,1],[67,0,67,1],[68,0,68,1],[62,0,62,1],[49,0,49,5],[57,0,57,1],[58,0,58,1],[59,0,59,1],[60,0,60,1],[61,0,61,1],[52,0,52,4],[54,2,55,4],[56,0,56,1],[54,0,55,1],[53,0,53,1],[30,0,30,6],[31,0,31,6],[32,0,32,4],[37,0,37,5],[17,0,19,0],[17,4,19,4],[25,2,25,3],[26,2,26,3],[24,4,26,4],[24,1,26,1],[23,0,26,0],[27,0,27,6],[28,0,28,4],[29,0,29,4],[33,0,33,6],[22,0,22,6]]}
[]
["Annexe au calcul des taux des traitements non commerciaux 2024-2025   \n   Suivi d'efficacité\nForêt publique"]
[" *** Veuillez saisir les informations dans les cellules blanches seulement et utiliser les cases à cocher si requis ***",null,null,null,null,null,"Version 2 : 2024-04-19"]
["Identification",null,null,null,null,null,"Suivi d'efficacité"]
["Unité d'aménagement (UA)"]
["Secteur d'intervention"]
["Unité de compilation"]
["Numéro de la prescription"]
[]
["Activité",null,"Valeur","Unité",null,"Total","Quantité"]
["Mise en place de la régénération suite à une coupe totale\n     Échéance : 5 ans après la coupe",null,{"$f":"'Calculs grille'!$L$187","v":37},"Nombre de points d’estimation documentée",null,{"$f":"IFERROR(SUM($E$14:$E$18,$C$11)*$G$11,0)","v":0}]
["Critères supplémentaires pour l'inventaire du suivi d'efficacité « Mise en place de la régénération suite à une coupe totale »\nLa valeur du point d'estimation documenté est calculée selon la formule suivante:"]
[null,{"$f":"Formules!$D$28","v":"Taux ($/PED) = 37 + (Nombre de critère #7 * 0,58) + (Nombre de critère #8 * 2,91) + (Nombre de critère #12 * 8,72) + (Nombre de critère #13 * 5,51) + (Nombre de critère #14 * 4,36)"}]
[null,"Critère #7","Facteur limitatif à la préparation de terrain",null,{"$f":"IFERROR(SUM($F$14)*'Calculs grille'!$L$189,0)","v":0},{"$f":"IFERROR(IF(EXACT(UPPER($G$14),UPPER(Menus!$A$685)),1,IF(EXACT(UPPER($G$14),UPPER(Menus!$A$686)),0,\"\")),\"\")","v":""}]
[null,"Critère #8","Hauteur de la régénération des essences désirées",null,{"$f":"IFERROR(SUM($F$15)*'Calculs grille'!$L$190,0)","v":0},{"$f":"IFERROR(IF(EXACT(UPPER($G$15),UPPER(Menus!$A$685)),1,IF(EXACT(UPPER($G$15),UPPER(Menus!$A$686)),0,\"\")),\"\")","v":""}]
[null,"Critère #12","Pourcentage de recouvrement des framboisiers, des fougères et des épilobes (FFÉ)",null,{"$f":"IFERROR(SUM($F$16)*'Calculs grille'!$L$192,0)","v":0},{"$f":"IFERROR(IF(EXACT(UPPER($G$16),UPPER(Menus!$A$685)),1,IF(EXACT(UPPER($G$16),UPPER(Menus!$A$686)),0,\"\")),\"\")","v":""}]
[null,"Critère #13","Nombre ou surface terrière des feuillus résistants ou des tiges marchandes",null,{"$f":"IFERROR(SUM($F$17)*'Calculs grille'!$L$188,0)","v":0},{"$f":"IFERROR(IF(EXACT(UPPER($G$17),UPPER(Menus!$A$685)),1,IF(EXACT(UPPER($G$17),UPPER(Menus!$A$686)),0,\"\")),\"\")","v":""}]
[null,"Critère #14","État des arbres d'avenir d'essences désirées, dégagés ou non",null,{"$f":"IFERROR(SUM($F$18:$F$20)*'Calculs grille'!$L$191,0)","v":0},{"$f":"IFERROR(IF(EXACT(UPPER($G$18),UPPER(Menus!$A$685)),1,IF(EXACT(UPPER($G$18),UPPER(Menus!$A$686)),0,\"\")),\"\")","v":""}]
[null,null,"Coefficient de distribution des essences à maîtriser",null,null,{"$f":"IFERROR(IF(EXACT(UPPER($G$19),UPPER(Menus!$A$685)),1,IF(EXACT(UPPER($G$19),UPPER(Menus!$A$686)),0,\"\")),\"\")","v":""}]
[null,null,"Nombre de tiges",null,null,{"$f":"IFERROR(IF(EXACT(UPPER($G$20),UPPER(Menus!$A$685)),1,IF(EXACT(UPPER($G$20),UPPER(Menus!$A$686)),0,\"\")),\"\")","v":""}]
["Activité",null,"Valeur","Unité",null,"Total","Quantité"]
["État de la régénération suite à une intervention de régénération artificielle\n     Échéance : 15 ans après l’intervention de\n      régénération",null,{"$f":"'Calculs grille'!$L$185","v":98},"Nombre de points d’estimation documentée",null,{"$f":"IFERROR(SUM($C$22,$E$25)*$G$22,0)","v":0}]
["Critères supplémentaires pour l'inventaire du suivi d'efficacité « État de la régénération suite à une intervention de régénération artificielle »\nLa valeur du point d'estimation documenté est calculée selon la formule suivante:"]
[null,{"$f":"Formules!$D$29","v":"Taux ($/PED) = 98 + (Nombre de critère #14 * 4,36)"}]
[null,"Critère #14","Coefficient de distribution des essences à maîtriser",null,{"$f":"IFERROR((SUM($F$25:$F$27)*'Calculs grille'!$L$186),0)","v":0},{"$f":"IFERROR(IF(EXACT(UPPER($G$25),UPPER(Menus!$A$685)),1,IF(EXACT(UPPER($G$25),UPPER(Menus!$A$686)),0,\"\")),\"\")","v":""}]
[null,null,"Nombre de tiges",null,null,{"$f":"IFERROR(IF(EXACT(UPPER($G$26),UPPER(Menus!$A$685)),1,IF(EXACT(UPPER($G$26),UPPER(Menus!$A$686)),0,\"\")),\"\")","v":""}]
[null,null,"Hauteur des arbres d'avenir d'essences désirées",null,null,{"$f":"IFERROR(IF(EXACT(UPPER($G$27),UPPER(Menus!$A$685)),1,IF(EXACT(UPPER($G$27),UPPER(Menus!$A$686)),0,\"\")),\"\")","v":""}]
["Majoration pour l'hébergement et la distance ou la durée du déplacement (HPVTM et DTPVTM)"]
["Hébergement (HPVTM)",null,null,null,null,{"$f":"IFERROR(IF(ISBLANK($G$29)=TRUE,\"\",IFERROR(VLOOKUP(G29,Menus!$A$689:$B$691,2,FALSE),IF($G$29<=Menus!$B$690,ROUND($G$29,4),\"Max \"&TEXT(Menus!$B$690,\"0,0%\")))),0)","v":""}]
["Distance ou durée du déplacement (DTPVTM)",null,null,null,null,{"$f":"IFERROR(VLOOKUP($G$30,Menus!$A$694:$B$696,2,FALSE),\"\")","v":""}]
["Majoration pour la certification (CEAF4 ou ISO4)"]
["Majoration pour la certification (CEAF4 ou ISO4) - Tous"]
["Certification (CEAF4 ou ISO4)",null,null,null,null,{"$f":"IFERROR(VLOOKUP($G$33,Menus!$B$685:$C$687,2,FALSE),\"\")","v":""}]
["Totaux"]
["Montant de base admissible",null,null,null,null,null,{"$f":"IFERROR(SUM($F$11,$F$22),0)","v":0}]
["Taux HPVTM",null,null,null,null,null,{"$f":"IFERROR($G$35*SUM($F$29),0)","v":0}]
["Taux DTPVTM",null,null,null,null,null,{"$f":"IFERROR(($G$35*$F$30),0)","v":0}]
["Taux CEAF4 ou ISO4",null,null,null,null,null,{"$f":"IFERROR($F$33*SUM($G$35:$G$37),0)","v":0}]
["Grand total admissible",null,null,null,null,null,{"$f":"IFERROR(ROUND(SUM($G$35:$G$38),2),0)","v":0}]
[]
["Remarques"]
[]
["J'atteste que les renseignements fournis dans ce document afin de calculer le taux du traitement sont complets et conformes à la vérité, au meilleur de mes connaissances."]
[]
[]
[]
["Nom et prénom de l'ingénieur forestier",null,null,null,null,null,"Numéro de permis"]
[null,null,null,null,null,null,{"$f":"TODAY()","v":"2026-04-08"}]
[]
["Signature de l'ingénieur forestier",null,null,null,null,null,"Date (AAAA-MM-JJ)"]
[]
[]
["Section réservée au suivi du contrat"]
[]
["Numéro de la prescription :",null,{"$f":"IF($G$8<>\"\",$G$8,\"\")","v":""}]
[]
["Numéro du contrat :"]
["Numéro du projet :"]
["U.G. :"]
["MRC :"]
["Code de traitement DICA :"]
["Code de traitement RATF :"]
["Type d'attribution : "]
["Taux global AO : "]
["Taux global Grille :",null,{"$f":"IFERROR(VLOOKUP($G$4,Rexforêt_Taux_AO,3,FALSE),0)","v":0}]
["Ratio AO/Grille :",null,{"$f":"IFERROR(IF(AND(ISBLANK($C$64)=FALSE,$C$65>0),ROUND($C$64/$C$65,4),\"S/O\"),\"\")","v":"S/O"}]
["Grand total AO :",null,{"$f":"IFERROR(IF(OR(ISBLANK($C$64)=TRUE,EXACT($C$65,0)),\"S/O\",ROUND(VLOOKUP($G$4,RXF!$A$1:$G$58,5,FALSE)*$C$66,2)),\"\")","v":"S/O"}]
["Nom de l'entrepreneur : "]
["Numéro de fournisseur : "]
["Date de début :"]
["Date de fin :"]
["Commentaires :"]

{"sheet":"SE_BD","index":20,"n_rows":2,"n_cols":61,"rows_kept":2,"cut":false,"hidden":true,"merged":[]}
["NO_CONTRAT","NO_SEC_INT","NO_UA","SIP_POT_PS","SIP_POT_RA","SIP_POT_EP","SIP_PRO_PS","SIP_PRO_RA","SIP_PRO_EP","PLAN_SOND","PE_PS","CRIT_7_1","CRIT_7_2","CRIT_7_3","CRIT_7_4","CRIT_8","PE_DRAIN","PE_RA","CRIT_9_1","CRIT_9_2","CRIT_9_3","PE_EP","CRIT_10_1","CRIT_10_2","CRIT_10_3","CRIT_11_1","CRIT_11_2","CRIT_11_3","CRIT_11_4","CRIT_11_5","CRIT_11_6","CRIT_11_7","CRIT_11_8","CRIT_11_9","CRIT_12_1","CRIT_12_2","CRIT_12_3","PE_ELG","DSPS","DSEP","PE_SVE_01","SVE_7","SVE_8","SVE_12","SVE_13","SVE_14A1","SVE_14A2","SVE_14A3","PE_SVE_02","SVE_14B1","SVE_14B2","SVE_14B3","PE_SIM_AAE","PE_SIM_SAE","PE_COM_AAE","PE_COM_SAE","MNT_TT_BA","TAUX_HPVT","TAUX_DTPVT","TAUX_CEAF","MNT_TT"]
[{"$f":"'Suivi d''efficacité'!C57","v":0},{"$f":"'Suivi d''efficacité'!G6","v":0},{"$f":"'Suivi d''efficacité'!G5","v":0},null,null,null,null,null,null,null,null,null,null,null,null,null,null,null,null,null,null,null,null,null,null,null,null,null,null,null,null,null,null,null,null,null,null,null,null,null,{"$f":"'Suivi d''efficacité'!G11","v":0},{"$f":"'Suivi d''efficacité'!G14","v":0},{"$f":"'Suivi d''efficacité'!G15","v":0},{"$f":"'Suivi d''efficacité'!G16","v":0},{"$f":"'Suivi d''efficacité'!G17","v":0},{"$f":"'Suivi d''efficacité'!G18","v":0},{"$f":"'Suivi d''efficacité'!G19","v":0},{"$f":"'Suivi d''efficacité'!G20","v":0},{"$f":"'Suivi d''efficacité'!G22","v":0},{"$f":"'Suivi d''efficacité'!G25","v":0},{"$f":"'Suivi d''efficacité'!G26","v":0},{"$f":"'Suivi d''efficacité'!G27","v":0},null,null,null,null,{"$f":"'Suivi d''efficacité'!G35","v":0},{"$f":"'Suivi d''efficacité'!G36","v":0},{"$f":"'Suivi d''efficacité'!G37","v":0},{"$f":"'Suivi d''efficacité'!G38","v":0},{"$f":"'Suivi d''efficacité'!G39","v":0}]

{"sheet":"Indice dispersion TS","index":21,"n_rows":68,"n_cols":7,"rows_kept":68,"cut":false,"hidden":false,"merged":[[0,0,0,5],[65,0,65,5],[66,0,66,5],[67,0,67,5],[3,0,3,5],[2,0,2,4],[1,0,1,5]]}
[]
["Annexe au calcul des taux des traitements non commerciaux 2024-2025         \n   Majorations liées à l'indice relatif de dispersion 1\nForêt publique"]
[null,null,null,null,null,"Version 2 : 2024-04-19","Mise à jour : 2024-02-23"]
["Majorations applicables par catégorie de traitement et par unité d'aménagement"]
["Région","Unité d'aménagement 2023 (2018)","Indice relatif de dispersion DRAP","Indice relatif de dispersion DMOD","Majoration pour les traitements à productivité élevée 2 DRAP","Majoration pour les traitements à productivité modérée 3 DMOD"]
["01","01171",0,4.4532819516380728,0.27989999999999998,3.7199999999999997E-2]
["01","01272",7.5881755215913449,3.6911770950066609,0.27989999999999998,3.09E-2]
["02","02371",1.31471544745006,2.8103136000387741,4.8500000000000001E-2,2.35E-2]
["02","02471",3.5278769687093492,1.3332676626622397,0.13009999999999999,1.12E-2]
["02","02571",1.8879269983650666,2.8443541810886064,6.9599999999999995E-2,2.3800000000000002E-2]
["02","02751",2.1136358152521035,1.5707246640473387,7.8E-2,1.3100000000000001E-2]
["03","03771",4.9833757046179992,7.2319111085679992,0.18379999999999999,6.0499999999999998E-2]
["03","03772 (03153)",0,0,0.18379999999999999,6.0499999999999998E-2]
["03","03772 (03351)",4.1838935845195078,2.578852333227267,0.15429999999999999,2.1600000000000001E-2]
["04","02651",7.5119094832671589,0,0.27710000000000001,4.5999999999999999E-2]
["04","04151",2.982968606169691,4.0022016341584967,0.11,3.3500000000000002E-2]
["04","04251",4.5494215713364783,4.0672231737721161,0.1678,3.4000000000000002E-2]
["04","04351",4.322790081960294,5.4936285026674296,0.15939999999999999,4.5999999999999999E-2]
["04","04352",4.3275396573140918,4.5017676224853815,0.15959999999999999,3.7699999999999997E-2]
["05","05151",0,6.3827996354359051,0.27989999999999998,5.3400000000000003E-2]
["07","07151",5.3383629852842196,4.4989343704207219,0.29320000000000002,3.7600000000000001E-2]
["07","07152",6.4081573963782796,5.3949969794051338,0.2364,4.5100000000000001E-2]
["07","07251",8.2250000000000014,4.0993050194202105,0.3034,7.9100000000000004E-2]
["07","07351",13.9575,3.3168637227220059,0.51480000000000004,1.6199999999999999E-2]
["07","07352",8.5665460828046545,3.0173219937883924,0.316,2.52E-2]
["07","07451",4.8607085681132585,2.306713260902352,0.17929999999999999,1.9300000000000001E-2]
["08","08151",8.445632012259626,1.5487088683219972,7.6799999999999993E-2,1.2999999999999999E-2]
["08","08152",2.5932057876075318,0.80787047828655123,9.5699999999999993E-2,6.7999999999999996E-3]
["08","08251",1.4592644955811491,9.6025000000000009,5.3800000000000001E-2,8.0299999999999996E-2]
["08","08351",1.7813041355307739,5.5278365668752842,6.5699999999999995E-2,4.6199999999999998E-2]
["08","08451",1.8011794594134123,3.273521050879483,6.6400000000000001E-2,2.7400000000000001E-2]
["08","08462",3.1554278571936578,9.9793054364783877,0.1164,8.3500000000000005E-2]
["08","08651",2.0195839084141118,4.4225490684381459,7.4499999999999997E-2,3.6999999999999998E-2]
["09","09351",1.9539388420932409,0.94228586463600783,7.2099999999999997E-2,7.9000000000000008E-3]
["09","09352",0,0,7.2099999999999997E-2,7.9000000000000008E-3]
["09","09471",4.2550949199507357,4.9727343552557564,0.157,4.1599999999999998E-2]
["09","09551",0,0,0.1883,2.1999999999999999E-2]
["09","09751",3.5650581713984293,1.7751646319622134,0.13150000000000001,1.4800000000000001E-2]
["10","02661",2.5030265025355742,7.3972624087894907,9.2299999999999993E-2,6.1899999999999997E-2]
["10","02662",4.401174927133165,11.845000000000001,0.1623,9.9099999999999994E-2]
["10","02663",2.248368838044462,6.1024636529163994,8.2900000000000001E-2,5.0999999999999997E-2]
["10","02664",2.7802881134428366,4.0538938059812866,0.1026,3.39E-2]
["10","02665",2.618355579856908,4.7523846960724203,9.6600000000000005E-2,3.9800000000000002E-2]
["10","02666",2.0696904547419752,10.193349849172252,7.6300000000000007E-2,8.5300000000000001E-2]
["10","08551",4.2134084285635272,5.12,0.15540000000000001,4.2799999999999998E-2]
["10","08562",0,0,9.6199999999999994E-2,4.2799999999999998E-2]
["10","08652",2.2317831126680274,2.3271380064699967,8.2299999999999998E-2,1.95E-2]
["10","08663",13.819999999999999,4.2649999999999997,8.6099999999999996E-2,3.5700000000000003E-2]
["10","08664",3.2802162348079063,1.2978659630893672,0.121,1.09E-2]
["10","08665",3.8591550841702125,6.007507530265122,0.14230000000000001,5.0200000000000002E-2]
["10","08666",4.5718753194301396,5.2230741942275616,0.1686,4.3700000000000003E-2]
["10","08751",1.9780176821713065,0,7.2999999999999995E-2,1.95E-2]
["10","08762",1.88255630296181,0,6.9400000000000003E-2,8.3500000000000005E-2]
["10","08763",3.2059093503029885,0,0.1183,1.95E-2]
["10","08764",2.0959422604768174,0,7.7299999999999994E-2,4.3700000000000003E-2]
["11","11161",5.724429239185894,2.5987010905825132,0.21110000000000001,2.1700000000000001E-2]
["11","11262",4.927490785411254,2.8542985407317643,0.18179999999999999,2.3900000000000001E-2]
["11","11263",5.6829642696325866,2.3574194552544627,0.20960000000000001,1.9699999999999999E-2]
["12","12171",0,0,0.27989999999999998,5.62E-2]
["12","12171",0,6.7227222242038289,0.27989999999999998,5.62E-2]
["14","06271",6.4059726399343697,2.2901856650559922,0.27400000000000002,1.9199999999999998E-2]
["15","06151",0,8.1377908775046848,0.39539999999999997,6.8099999999999994E-2]
["15","06452",10.720241272320107,3.1483531765541328,0.39539999999999997,2.63E-2]
["15","06471",10.0077644768302,2.2324603809025287,0.36909999999999998,1.8700000000000001E-2]
[]
["1 L'indice relatif de dispersion est obtenu via une analyse géomatique réalisée à l'échelle du polygone et du chantier qui considère la superficie des chantiers, les déplacements en distance et en temps (intrachantiers, interchantiers et extrachantiers) de même que la densité relative des travaux des années précédentes dans la limite de leur disponibilité. Pour davantage d'information à ce sujet, voir le document « Valeur des traitements sylvicoles non commerciaux pour l’année financière 2024-2025 »."]
["2 Traitements à productivité élevée : regroupent les traitement dont le code RATF débute par BRM36D, BRM36P, DH, DHAD, DHAP, DO, EQSLY, HERSE, REQ, ROUECA, TTS et WAD. Les UA pour lesquelles aucune superficie n'a pu être considérée dans l'analyse utilisent la valeur d'une UA limitrophe pour l'établissement de la majoration."]
["3 Traitements à productivité modérée : regroupent les traitement dont le code RATF débute par AGR, BPR, DRAV, DRDV, DREV, SCAIPV, SCAMV et SCAPV. Les UA pour lesquelles aucune superficie n'a pu être considérée dans l'analyse utilisent la valeur d'une UA limitrophe pour l'établissement de la majoration."]

{"sheet":"Traitements admissibles","index":22,"n_rows":105,"n_cols":9,"rows_kept":105,"cut":false,"hidden":false,"merged":[[0,0,0,8]]}
["Annexe 5"]
["Admissible au paiement","Taux présent dans la grille","Taux présent dans la grille PATS","Famille","Traitement","Type ","Équipement / Modalité","Structure du taux","Unité"]
["Oui","Oui","Non","Traitements du site","Scarifiage par sillons continus ou discontinus avec scarificateur","Scarificateurs à disques passifs","Type TTS passif","Fixe","Hectare"]
["Oui","Non","Non","Traitements du site","Scarifiage par sillons continus ou discontinus avec scarificateur","Scarificateurs à disques passifs","Rouleau écraseur","Sur demande","Hectare"]
["Oui","Oui","Non","Traitements du site","Scarifiage par sillons continus ou discontinus avec scarificateur","Scarificateurs à disques hydrauliques","Type TTS hydraulique ou Donaren","Fixe","Hectare"]
["Oui","Non","Non","Traitements du site","Scarifiage par sillons continus ou discontinus avec scarificateur","Scarificateurs à disques hydrauliques","Type Requin","Sur demande","Hectare"]
["Oui","Oui","Non","Traitements du site","Scarifiage par sillons continus ou discontinus avec scarificateur","Scarificateurs à disques hydrauliques","Bracke T-26 avec débardeur","Fixe","Hectare"]
["Oui","Oui","Non","Traitements du site","Scarifiage par sillons continus ou discontinus avec scarificateur","Scarificateurs à disques hydrauliques","Bracke T-26 avec porteur ou débardeur à six roues ","Fixe","Hectare"]
["Oui","Non","Non","Traitements du site","Scarifiage par sillons continus ou discontinus avec scarificateur","Scarificateurs à cônes hydrauliques","Wadell","Sur demande","Hectare"]
["Oui","Oui","Non","Traitements du site","Scarifiage par monticules avec scarificateur",null,"Bracke M-36a avec débardeur","Fixe","Hectare"]
["Oui","Oui","Non","Traitements du site","Scarifiage par monticules avec scarificateur",null,"Bracke M-36a avec porteur ou débardeur à six roues","Fixe","Hectare"]
["Oui","Oui","Non","Traitements du site","Scarifiage par mixage (hersage/labourage)",null,"Herses forestières","Fixe","Hectare"]
["Oui","Oui","Non","Traitements du site","Scarifiage par mixage en placeaux",null,"Taupe ou pioche forestière","Fixe","Millier de microsites"]
["Oui","Oui","Non","Traitements du site","Déblaiement des résidus de coupe",null,"Bouteur avec pelle râteau","Fixe","Hectare"]
["Non","Non","Non","Traitements du site","Déblaiement des résidus de coupe",null,"Abatteuse groupeuse après feux","Aucun","Aucun"]
["Oui","Non","Non","Traitements du site","Drainage sylvicole",null,"Milieu dénudé","Sur demande","$/km ou Millier de m³"]
["Oui","Non","Non","Traitements du site","Drainage sylvicole",null,"Milieu boisé","Sur demande","$/km ou Millier de m³"]
["Oui","Oui","Non","Traitements du site","Scarifiage par monticules ou inversion en placeaux ou décapage en placeaux",null,"Excavatrice","Variable","Hectare"]
["Oui","Oui","Non","Traitements du site","Déblaiement des résidus de coupe",null,"Excavatrice ou débusqueuse ou abatteuse","Variable","Hectare"]
["Oui","Oui","Non","Traitements du site","Fertilisation du peuplier hybride",null,null,"Fixe","Hectare"]
["Oui","Non","Non","Traitements du site","Déblaiement d’hiver de la végétation",null,"Bouteur à lame tranchante","Sur demande","Hectare"]
["Non","Non","Non","Traitements du site","Récupération de la matière ligneuse",null,null,"Aucun","Aucun"]
["Non","Non","Non","Traitements du site","Élimination des tiges résiduelles",null,null,"Aucun","Aucun"]
["Non","Non","Non","Traitements du site","Scarifiage par sillons avec scarificateur","Scarificateurs à disques hydrauliques","Esquisyl","Aucun","Aucun"]
["Oui","Non","Non","Traitements du site","Brûlage",null,null,"Sur demande","Andain"]
["Projet","Non","Oui","Traitements du site","Broyage forestier",null,null,"Fixe","Hectare"]
["Projet","Non","Oui","Traitements du site","Déblaiement des résidus de coupe",null,"Bouteur avec pelle modifiée (deux dents)","Fixe","Hectare"]
["Projet","Non","Oui","Traitements du site","Traitement combiné de déblaiement des résidus de coupe et de scarifiage par monticules",null,"Excavatrice","Variable","Hectare"]
["Non","Non","Non","Traitements du site","Amendement, chaulage",null,null,"Aucun","Aucun"]
["Non","Non","Non","Traitements du site","Amendement, organique",null,null,"Aucun","Aucun"]
["Oui","Non","Oui","Traitements du site","Débroussaillement mécanique",null,"Manuel","Fixe","Hectare"]
["Projet","Non","Oui","Traitements du site","Traitement de scarifiage par monticules et tranchées avec excavatrice pour le PEH",null,"Excavatrice","Variable","Hectare"]
["Projet","Non","Oui","Traitements du site","Déblaiement après perturbation naturelle sans récolte avec abatteuse groupeuse",null,"Abatteuse groupeuse","Fixe","Hectare"]
["Projet","Non","Oui","Traitements du site","Déblaiement après perturbation naturelle sans récolte avec excavatrice",null,"Excavatrice","Fixe","Hectare"]
["Projet","Non","Oui","Traitements du site","Déblaiement d’un peuplement sans perturbation naturelle et sans récolte avec excavatrice ou débusqueuse",null,"Excavatrice ou débusqueuse","Variable","Hectare"]
["Oui","Oui","Non","Régénération artificielle","Plantation uniforme et regarni mécanique ","Scarificateur-planteur (Bracke P-11a)","1500 plants/ha et + Récipient 45-110","Fixe","Millier de plants"]
["Oui","Oui","Non","Régénération artificielle","Plantation uniforme et regarni mécanique ","Scarificateur-planteur (Bracke P-11a)","1500 plants/ha et + Récipient 25-200","Fixe","Millier de plants"]
["Oui","Oui","Non","Régénération artificielle","Plantation uniforme et regarni mécanique ","Scarificateur-planteur (Bracke P-11a)","1499 plants/ha et — Récipient 45-110","Fixe","Millier de plants"]
["Oui","Oui","Non","Régénération artificielle","Plantation uniforme et regarni mécanique ","Scarificateur-planteur (Bracke P-11a)","1499 plants/ha et — Récipient 25-200","Fixe","Millier de plants"]
["Oui","Oui","Non","Régénération artificielle","Plantation uniforme PEH",null,null,"Fixe","Millier de plants"]
["Oui","Oui","Non","Régénération artificielle","Plantation d’enrichissement",null,null,"Variable","Millier de plants"]
["Oui","Non","Non","Régénération artificielle","Ensemencement",null,"Terrestre manuel","Sur demande","Hectare"]
["Non","Non","Non","Régénération artificielle","Ensemencement aérien",null,null,"Aucun","Aucun"]
["Non","Non","Non","Régénération artificielle","Ensemencement terrestre mécanisé après préparation de terrain",null,null,"Aucun","Aucun"]
["Non","Non","Non","Régénération artificielle","Ensemencement terrestre mécanisé simultanément préparation de terrain",null,null,"Aucun","Aucun"]
["Non","Non","Non","Régénération artificielle","Ensemencement terrestre mécanisé simultanément récolte",null,null,"Aucun","Aucun"]
["Non","Non","Non","Régénération artificielle","Ensemencement terrestre mécanisé simultanément récolte",null,null,"Aucun","Aucun"]
["Oui","Oui","Non","Régénération artificielle","Plantation uniforme, regarni manuel et plantation d’enrichissement sauf PEH","Gabarits de plants 113-25, 67-50, 45-110, 25-200, PFD récipients, PFD Racines Nues.",null,"Variable","Millier de plants"]
["Oui","Non","Non","Régénération artificielle","Plantation uniforme, regarni manuel et plantation d’enrichissement sauf PEH","Autres gabarits",null,"Sur demande","Millier de plants"]
["Projet","Non","Oui","Éducation de peuplement","Dégagement mécanisé, outil installé sur un débardeur",null,null,"Fixe","Hectare"]
["Oui","Oui","Non","Éducation de peuplement","Dégagement mécanique d’un peuplement résineux ou mixte à dominance de résineux (MR-FI)",null,"Débroussailleuse","Variable","Hectare"]
["Non","Non","Non","Éducation de peuplement","Dégagement mécanique de la régénération, dénombrement à 15 cm, taux variable",null,null,"Aucun","Aucun"]
["Projet","Non","Non","Éducation de peuplement","Nettoiement, annélation",null,null,"Sur demande","Hectare"]
["Non","Non","Non","Éducation de peuplement","Nettoiement manuel",null,null,"Aucun","Aucun"]
["Non","Non","Non","Éducation de peuplement","Nettoiement mécanisé",null,null,"Aucun","Aucun"]
["Non","Non","Non","Éducation de peuplement","Gaulis I",null,"Secteur d’intervention sans choix de tige, soit inter spécifique (par groupe d’essence, résineux/feuillus) et sans espacement ","Aucun","Aucun"]
["Non","Non","Non","Éducation de peuplement","Nettoiement d’un peuplement résineux ou mixte (MR-FI) à dominance de résineux en scénario sylvicole de base des peuplements en régénération naturelle, en plantation uniforme ou en regarni de la régénération artificielle",null,null,"Aucun","Aucun"]
["Non","Non","Non","Éducation de peuplement","Gaulis III",null,"Secteur d’intervention avec un choix de tige intraspécifique (par essence) sans espacement (peuplement naturel et plantation) OU avec un espacement d’une plantation avec un coefficient de distribution < 75 % OU Secteur d’intervention sans choix de tige soit interspécifique (par groupe d’essence, résineux/feuillus) et sans espacement d’une plantation avec SRLC < 20% et DI > 20 000","Aucun","Aucun"]
["Non","Non","Non","Éducation de peuplement","Gaulis II",null,"Secteur d’intervention avec un choix de tige intraspécifique (par essence) et avec un espacement d’un peuplement naturel et d’une plantation avec un coefficient de distribution >= 75 %","Aucun","Aucun"]
["Non","Non","Non","Éducation de peuplement","Nettoiement d’un peuplement résineux en scénario intensif ou élite de plantation uniforme et éclaircie précommerciale systématique d’un peuplement résineux ou de peuplier en scénario sylvicole intensif ou d’élite des peuplements en régénération naturelle ou en regarni de la régénération artificielle",null,null,"Aucun","Aucun"]
["Oui","Oui","Non","Éducation de peuplement","Nettoiement d’un peuplement résineux ou mixte à dominance de résineux (MR-FI)","Peuplements régénérés naturellement (avec ou sans regarni) —Gradient d’intensité de la sylviculture de base —Nettoiement résineux ou spécifique ; Plantation uniforme (avec ou sans regarni) —Gradient d’intensité de la sylviculture de base —Nettoiement résineux ou spécifique ; Plantation uniforme (avec ou sans regarni) —Gradient d’intensité de la sylviculture intensive/d’élite — Nettoiement résineux ou spécifique",null,"Variable","Hectare"]
["Oui","Oui","Non","Éducation de peuplement","Éclaircie précommerciale systématique d’un peuplement résineux ou du peuplier",null,null,"Variable","Hectare"]
["Oui","Oui","Non","Éducation de peuplement","Éclaircie précommerciale par puits de lumière et taille de formation avec martelage",null,null,"Variable","Hectare"]
["Oui","Oui","Non","Éducation de peuplement","Élagage artificiel pour le pin blanc et le pin rouge",null,null,"Variable","Hectare"]
["Oui","Oui","Non","Éducation de peuplement","Taille phytosanitaire",null,null,"Variable","Hectare"]
["Non","Non","Non","Éducation de peuplement","Nettoiement, phytocides biologiques",null,null,"Aucun","Aucun"]
["Non","Non","Non","Éducation de peuplement","Nettoiement, phytocides chimiques",null,null,"Aucun","Aucun"]
["Non","Non","Non","Éducation de peuplement","Dégagement mécanique",null,"Manuelle (machette, hache, …)","Aucun","Aucun"]
["Projet","Non","Oui","Éducation de peuplement","Dépressage mécanique",null,"Débroussailleuse","Variable","Hectare"]
["Oui","Non","Oui","Éducation de peuplement","Nettoiement d’un peuplement résineux ou mixte à dominance de résineux (MR-FI) réalisé dans des conditions spécifiques","Nettoiement réalisé dans des ravages de cerf de Virginie ou pour des modalités de protection du caribou montagnard",null,"Variable","Hectare"]
["Non","Non","Non","Éducation de peuplement","Nettoiement d’un peuplement résineux ou mixte à dominance de résineux (MR-FI) réalisé dans des conditions spécifiques","Nettoiement dans des peuplements, dont les FI sont de 5 m et plus",null,"Aucun","Aucun"]
["Oui","Oui","Non","Éducation de peuplement","Nettoiement d’un peuplement résineux ou mixte à dominance de résineux (MR-FI) réalisé dans des conditions spécifiques","Nettoiement mécanique sous couvert d’un peuplement de feuillus tolérants (contenir l’envahissement du hêtre à grandes feuilles)",null,"Variable","Hectare"]
["Non","Non","Non","Éducation de peuplement","Dégagement, phytocides biologiques",null,null,"Aucun","Aucun"]
["Non","Non","Non","Éducation de peuplement","Dégagement, phytocides chimiques",null,null,"Aucun","Aucun"]
["Projet","Non","Oui","Éducation de peuplement","Débroussaillement mécanique interplaceaux",null,"Manuel","Variable","Hectare"]
["Oui","Oui","Non","Éclaircie commerciale EAF","Première éclaircie commerciale de plantation résineuse (réservé aux entreprises d’aménagement forestier)",null,"Pourcentage de majoration pour les opérations manuelles","Variable","Hectare"]
["Oui","Oui","Non","Travaux techniques","Inventaire de conformité associé à l’exécution","Traitements du site mécanisés",null,"Fixe","PE"]
["Oui","Oui","Non","Travaux techniques","Inventaire de conformité associé à l’exécution","Traitements du site manuels",null,"Fixe","PE"]
["Oui","Non","Non","Travaux techniques","Inventaire de conformité associé à l’exécution","Drainage sylvicole",null,"Sur demande","PE"]
["Oui","Oui","Non","Travaux techniques","Inventaire de conformité associé à l’exécution","Traitement de régénération artificielle",null,"Fixe","PE"]
["Oui","Oui","Non","Travaux techniques","Inventaire de conformité associé à l’exécution","Traitement d’éducation de peuplement",null,"Fixe","PE"]
["Oui","Oui","Non","Travaux techniques","Planification","Recherche de secteur d’intervention potentiel (terrain) réalisé à la demande du MRNF","Traitements du site et de la régénération artificielle","Fixe","Hectare"]
["Oui","Oui","Non","Travaux techniques","Planification","Recherche de secteur d’intervention potentiel (terrain) réalisé à la demande du MRNF","Traitements d’éducation de peuplement","Fixe","Hectare"]
["Oui","Oui","Non","Travaux techniques","Planification","Recherche de secteur d’intervention potentiel (terrain) proposé par l’entreprise sylvicole","Traitements du site et de la régénération artificielle","Fixe","Hectare"]
["Oui","Oui","Non","Travaux techniques","Planification","Recherche de secteur d’intervention potentiel (terrain) proposé par l’entreprise sylvicole","Traitements d’éducation de peuplement","Fixe","Hectare"]
["Oui","Oui","Non","Travaux techniques","Planification","Confection du plan de sondage",null,"Fixe","Hectare"]
["Oui","Oui","Non","Travaux techniques","Planification","Inventaire diagnostique d’un secteur d’intervention potentiel","Traitements du site (sauf drainage sylvicole) ","Fixe","PE"]
["Oui","Non","Non","Travaux techniques","Planification","Inventaire diagnostique d’un secteur d’intervention potentiel","Drainage sylvicole","Sur demande","PE"]
["Oui","Non","Non","Travaux techniques","Planification","Inventaire diagnostique d’un secteur d’intervention potentiel","Régénération artificielle","Sur demande","PE"]
["Oui","Oui","Non","Travaux techniques","Planification","Inventaire diagnostique d’un secteur d’intervention potentiel","Traitement de dégagement, de nettoiement et d’éclaircie précommerciale","Fixe","PE"]
["Oui","Oui","Non","Travaux techniques","Planification","Inventaire diagnostique d’un secteur d’intervention potentiel","Traitement d’élagage artificiel et de taille phytosanitaire","Fixe","PE"]
["Oui","Oui","Non","Travaux techniques","Suivi d’efficacité","Mise en place de la régénération à la suite d’une coupe totale",null,"Variable","Point d’estimation documenté"]
["Oui","Oui","Non","Travaux techniques","Suivi d’efficacité","État de la régénération à la suite d’une intervention de régénération artificielle",null,"Variable","Point d’estimation documenté"]
["Oui","Oui","Non","Travaux techniques","Planification","Délimitation des secteurs","Traitements du site, lorsque réalisé sans l’exécution (tierce partie)","Fixe","Kilomètre délimité"]
["Non","Non","Non","Travaux techniques","Planification","Délimitation des secteurs","Traitements du site (sauf le drainage sylvicole et le scarifiage par mixage en placeaux), lorsque réalisé avec l’exécution (en régie par l’entreprise sylvicole)","Aucun","Aucun"]
["Non","Non","Non","Travaux techniques","Planification","Délimitation des secteurs","Traitement de scarifiage par mixage en placeaux lorsque réalisé avec l’exécution (en régie par l’entreprise sylvicole)","Aucun","Aucun"]
["Oui","Non","Non","Travaux techniques","Planification","Délimitation des secteurs","Traitement de drainage sylvicole lorsque réalisé avec l’exécution (en régie par l’entreprise sylvicole)","Sur demande","Kilomètre délimité"]
["Oui","Non","Non","Travaux techniques","Planification","Délimitation des secteurs","Traitement de la régénération artificielle","Sur demande","Kilomètre délimité"]
["Oui","Oui","Non","Travaux techniques","Planification","Délimitation des secteurs","Traitement d’éducation de peuplement","Fixe","Kilomètre délimité"]
["Oui","Oui","Non","Travaux techniques","Activités liées au martelage pour les traitements commerciaux","Délimitation des secteurs",null,"Fixe","Kilomètre délimité"]
["Oui","Oui","Non","Travaux techniques","Activités liées au martelage pour les traitements commerciaux","Martelage à taux variable",null,"Variable","Hectare"]
["Oui","Oui","Non","Travaux techniques","Activités liées au martelage pour les traitements commerciaux","Martelage en éclaircie commerciale en peuplement résineux ou mixte à dominance de résineux","Martelage négatif — positif","Fixe","Hectare"]
["Oui","Oui","Non","Travaux techniques","Activités liées au martelage pour les traitements commerciaux","Inventaire de conformité",null,"Fixe","PE"]
["Projet","Non","Oui","Travaux techniques","Activités liées au martelage pour les traitements commerciaux","Inventaire diagnostic pour le martelage",null,"Fixe","Hectare"]
["Projet","Non","Oui","Voirie forestière","Ouvrage amovible sur sentier d’abattage/débardage",null,null,"Fixe","Hectare"]

{"sheet":"Étapes calcul majorations","index":23,"n_rows":27,"n_cols":4,"rows_kept":27,"cut":false,"hidden":false,"merged":[[34,1,34,3],[34,4,34,5],[26,1,26,2]]}
["Famille","Traitement","Équipement ou modalité","Étapes pour appliquer les majorations"]
["Traitements du site","Scarifiage par sillons continus ou discontinus avec scarificateur","Types TTS passifs, Types TTS hydrauliques ou Donaren, Bracke T-26 avec débardeur, Bracke T-26 avec porteur ou débardeur à six roues","Taux =[ EXE * (1 + PA0) * (1 + PA1) * (1 + PE1) * (1 + DRAP) ] + VERIF)* (1 + HPT) * (1 + CEAF1 ou ISO1) + VERIF*DTEXE"]
["Traitements du site","Scarifiage par monticules avec scarificateur","Bracke M-36a avec débardeur, Bracke M-36a avec porteur ou débardeur à six roues","Taux = [EXE * (1 + PE1) * (1 + DRAP)  + VERIF]* (1 + HPT) * (1 + CEAF1 ou ISO1) + VERIF * DTEXE"]
["Traitements du site","Scarifiage par mixage (hersage/labourage)","Herses forestières","Taux = [EXE * (1 + PE2) * (1 + DRAP) + VERIF] * (1 + HPT) * (1 + CEAF1 ou ISO1) + VERIF * DTEXE"]
["Traitements du site","Scarifiage par mixage en placeaux","Taupe ou pioche forestière","Taux = (EXE + VERIF) * (1 + HRA + DTEXE) * (1 + CEAF1 ou ISO1)"]
["Traitements du site","Scarifiage par monticules ou inversion en placeaux ou décapage en placeaux","Excavatrice","Taux = [EXE * (1 + PE2) * (1 + DMOD) + VERIF] * (1 + HPT) * (1 + CEAF1 ou ISO1) + VERIF * DTEXE"]
["Traitements du site","Déblaiement des résidus de coupe","Débusqueuse","Taux = [EXE * (1 + PE3) * (1 + DMOD)  + VERIF] * (1 + HPT) * (1 +  CEAF1 ou ISO1) + VERIF * DTEXE"]
["Traitements du site","Déblaiement des résidus de coupe","Excavatrice ou Abatteuse lors de la récolte","Taux = [EXE * (1 + PE2) * (1 + DMOD) + VERIF] * (1 + HPT)  * (1 + CEAF1 ou ISO1) + VERIF * DTEXE"]
["Traitements du site","Déblaiement des résidus de coupe","Bouteur avec pelle râteau","Taux = [EXE * (1 + PE4) * (1 + DMOD)  + VERIF] * (1 + HPT) * (1 + CEAF1 ou ISO1) + VERIF * DTEXE"]
["Traitements du site","Fertilisation du peuplier hybride","S.O.","Taux = [EXE * (1 + PE2) + VERIF] * (1 + HRA + DTEXE) * (1 + CEAF1 ou ISO1)"]
["Traitements du site","Débroussaillement mécanique","S.O.","Taux = [EXE * (1 + PE2) + VERIF] * (1 + HEP ou TCEP + DTEXE) * (1 + CEAF3 ou ISO3)"]
["Régénération artificielle","Plantation uniforme, regarni manuel et plantation d'enrichissement sauf PEH","S.O.","Taux = {[EXE * (1 + RAPM) + VERIF] * (1 + HRA ou TCRA + DTEXE) * (1 + CEAF2 ou ISO2)}"]
["Régénération artificielle","Plantation uniforme et regarni mécanique (Scarificateur­planteur Bracke P­11a)","S.O.","Taux = (EXE + VERIF) * (1 +  HPT) * (1 + CEAF2 ou ISO2)"]
["Régénération artificielle","Plantation uniforme PEH","S.O.","Taux = [EXE * (1 + RAPM) + VERIF] * (1 + HRA ou TCRA + DTEXE) * (1 + CEAF2 ou ISO2)"]
["Éducation de peuplement","Dégagement mécanique d'un peuplement résineux ou mixte à dominance de résineux (MR-FI)","S.O.","Taux = [EXE * (1 + DEGPM) * (1 + PE2) + VERIF) * (1 + HEP ou TCEP + DTEXE] * (1 + CEAF3 ou ISO3)"]
["Éducation de peuplement","Élagage artificiel pour le pin blanc et le pin rouge","S.O.","Taux = [EXE * (1 + PE2) + VERIF) * (1 + HEP ou TCEP + DTEXE] * (1 + CEAF3 ou ISO3)"]
["Éducation de peuplement","EPC par puits de lumière ET Taille de formation avec martelage","S.O.","Taux = [EXE * (1 + PE2) + VERIF) * (1 + HEP ou TCEP + DTEXE] * (1 + CEAF3 ou ISO3)"]
["Éducation de peuplement","Nettoiement d'un peuplement résineux ou mixte à dominance de résineux (MR-FI)","S.O.","Taux = [EXE * (1 + PE2) + VERIF) * (1 + HEP ou TCEP + DTEXE] * (1 + CEAF3 ou ISO3)"]
["Éducation de peuplement - PATS","Nettoiement sous couvert d’un peuplement de feuillus tolérants","S.O.","Taux = (EXE * (1 + PE2) + VERIF) * (1 + HEP ou TCEP + DTEXE) * (1 + CEAF3 ou ISO3)"]
["Éducation de peuplement","EPC systématique d'un peuplement résineux ou de peuplier","S.O.","Taux = [EXE * (1 + PE2) + VERIF) * (1 + HEP ou TCEP + DTEXE] * (1 + CEAF3 ou ISO3)"]
["Éducation de peuplement","Taille phytosanitaire","S.O.","Taux = [EXE * (1 + PE2) + VERIF] * (1 + HEP ou TCEP + DTEXE) * (1 + CEAF3 ou ISO3)"]
["Éclaircie commerciale EAF","Éclaircie commerciale EAF","S.O.","Taux = [EXE * (1 + PE2) * (1 + MAN) + Délimitation*(1 + PE2)] * (1 + HECEAF)"]
["Travaux de planification","Travaux de planification et de suivi d'efficacité","S.O.","Taux = EXE * (1 + HPVTM + DTPVTM) * (1 + CEAF4 ou ISO4)"]
["Travaux de planification","Plan de sondage","S.O.","Taux = EXE * (1 + CEAF4 ou ISO4)"]
["Martelage","Martelage","S.O.","Taux = EXE * (1 + HPVTM + DTPVTM) * (1 + CEAF4 ou ISO4)"]
[]
["Exemple","Traitement = Traitements du site  => Déblaiement des résidus de coupe  => Excavatrice\nTaux = [EXE * (1 + PE2) * (1 + DMOD) + VERIF] * (1 + HPT)  * (1 + CEAF1 ou ISO1) \nEXE : 100 $;   PE2 : 6,1 %;  DMOD : 3,8%; HPT : 8,0%; CEAF1 : 0,16%; VERIF = 10",null,"Taux = [100 * (1 + 0,061) * (1 + 0,038) + 10 ] * (1 + 0,08) * (1 + 0,0016)\nTaux = [100 * 1,061 * 1,038 + 10] * 1,08 * 1,0016\nTaux = 120,13 * 1,08 * 1,0016\nTaux = 129,95 $"]

{"sheet":"Étapes calcul majorat. - PATS","index":24,"n_rows":16,"n_cols":4,"rows_kept":16,"cut":false,"hidden":true,"merged":[[15,1,15,2]]}
["Famille","Traitement","Équipement ou modalité","Étapes pour le calcul de la valeur incluant les majorations"]
["Traitements du site - PATS","Broyage forestier",null,"Taux = (EXE * (1 + PE2) * (1 + DMOD) + VERIF) * (1 + HPT) * (1 + CEAF1 ou ISO1) + VERIF*DTEXE"]
["Traitements du site - PATS","Déblaiement après perturbation naturelle sans récolte","Abatteuse groupeuse, excavatrice","Taux = (EXE * (1 + PE2) * (1 + DMOD) + VERIF) * (1 + HPT) * (1 + CEAF1 ou ISO1) + VERIF*DTEXE"]
["Traitements du site - PATS","Déblaiement des résidus de coupe","Bouteur avec pelle modifiée","Taux = (EXE * (1 + PE4) * (1 + DMOD) + VERIF) * (1 + HPT) * (1 + CEAF1 ou ISO1) + VERIF*DTEXE"]
["Traitements du site - PATS","Déblaiement des résidus de coupe combiné à un scarifiage en monticules","Excavatrice ","Taux = (EXE * (1 + PE2) * (1 + DMOD) + VERIF) * (1 + HPT) * (1 + CEAF1 ou ISO1) + VERIF*DTEXE"]
["Traitements du site - PATS","Déblaiement d'un peuplement sans perturbation naturelle et sans récolte","Excavatrice, débusqueuse","Taux = (EXE * (1 + PE2) * (1 + DMOD) + VERIF) * (1 + HPT) * (1 + CEAF1 ou ISO1) + VERIF*DTEXE"]
["Traitements du site - PATS","Scarifiage par monticules et tranchées","Excavatrice pour le PEH","Taux = (EXE * (1 + PE2) * (1 + DMOD) + VERIF) * (1 + HPT) * (1 + CEAF1 ou ISO1) + VERIF*DTEXE"]
["Éducation de peuplement - PATS","Débroussaillement mécanique interplaceaux",null,"Taux = (EXE * (1 + PE2) + VERIF) * (1 + HEP ou TCEP + DTEXE) * (1 + CEAF3 ou ISO3)"]
["Éducation de peuplement - PATS","Dépressage manuel",null,"Taux = (EXE * (1 + PE2) + VERIF) * (1 + HEP ou TCEP + DTEXE) * (1 + CEAF3 ou ISO3)"]
["Éducation de peuplement - PATS","Dépressage mécanisé",null,"Taux = (EXE * (1 + PE2) + VERIF) * (1 + HEP ou TCEP + DTEXE) * (1 + CEAF3 ou ISO3)"]
["Éducation de peuplement - PATS","Nettoiement d'un peuplement résineux ou mixte à dominance de résineux (MR­FI) réalisé dans des conditions spécifiques",null,"Taux = (EXE * (1 + PE2) + VERIF) * (1 + HEP ou TCEP + DTEXE) * (1 + CEAF3 ou ISO3)"]
["Travaux de planification - PATS","Rafraichissement d'un martelage",null,"Taux = EXE * (1 + HPVTM + DTPVTM) * (1 + CEAF4 ou ISO4)"]
["Travaux de planification - PATS","Inventaire diagnostique pour le martelage",null,"Taux = EXE * (1 + HPVTM + DTPVTM) * (1 + CEAF4 ou ISO4)"]
[]
[]
["Exemple","Traitement = Traitements du site - PATS  => Déblaiement après perturbation naturelle sans récolte  => Abatteuse groupeuse\nTaux = (EXE * (1 + PE2) * (1 + DMOD) + VERIF) * (1 + HPT) * (1 + CEAF1 ou ISO1) + VERIF*DTEXE\nEXE : 100 $;   PE2 : 6,1 %;  DMOD : 3,8%; HPT : 8,0%; CEAF1 : 0,16%; VERIF : 10; DTEXE : 10,6%",null,"Taux = (100 * (1 + 0,061) * (1 + 0,038) + 10 ) * (1 + 0,08) * (1 + 0,0016) + 10 * 0,106\nTaux = (100 * 1,061 * 1,038 + 10) * 1,08 * 1,0016 + 1,06\nTaux = 120,13 * 1,08 * 1,0016 + 1,06\nTaux = 131,01 $"]

{"sheet":"Versions du fichier","index":25,"n_rows":13,"n_cols":33,"rows_kept":13,"cut":false,"hidden":false,"merged":[[21,2,21,14],[0,0,0,16],[0,20,0,27],[13,2,13,16],[9,2,9,16],[16,2,16,16],[17,2,17,16]]}
["Suivi des versions du fichier de l’annexe au calcul des taux des traitements non commerciaux 2024-2025\nForêt publique",null,null,null,null,null,null,null,null,null,null,null,null,null,null,null,null,null,null,null,"Version 2 : 2024-04-19",null,null,null,null,null,null,null,null,null,null,null,{"$f":"TODAY()","v":"2026-04-08"}]
[0]
["Version 1 - Consultation","Nom du fichier : ","Annexe_TSNC_2024-2025_2023-11-06"]
[{"$f":"A3","v":"Version 1 - Consultation"},"Date de mise en ligne : ","2023-11-07"]
[{"$f":"A4","v":"Version 1 - Consultation"},"Remarques :","•Document pour la consultation (original 'Annexe_TSNC_2023-2024_2023-05-11)"]
[{"$f":"A5","v":"Version 1 - Consultation"}]
["Version 1 - finale","Nom du fichier : ","Annexe_TSNC_2024-2025_2024-03-18"]
[{"$f":"A7","v":"Version 1 - finale"},"Date de mise en ligne : ","2024-03-18 ou les jours suivant"]
[{"$f":"A8","v":"Version 1 - finale"},"Remarques :","•Mise à jour des taux, indexation effective et ajout d'un bouton de mise à jour"]
[]
["Version 2 - finale","Nom du fichier : ","Annexe_TSNC_2024-2025_2024-04-19"]
[{"$f":"A11","v":"Version 2 - finale"},"Date de mise en ligne : ","2024-04-19 ou les jours suivant"]
[{"$f":"A12","v":"Version 2 - finale"},"Remarques :","•Mise à jour Nettoiement sous couvert, BD EXTOT"]

{"sheet":"Versions du fichier - PATS","index":26,"n_rows":10,"n_cols":33,"rows_kept":10,"cut":false,"hidden":true,"merged":[[13,2,13,16],[21,2,21,14],[0,0,0,16],[0,20,0,27],[10,2,10,13],[12,2,12,5]]}
["Annexe au calcul des taux des traitements sylvicoles non commerciaux 2024-2025 spécifique aux projets du\nProcessus d'analyse des traitements sylvicoles (PATS)\nForêt publique",null,null,null,null,null,null,null,null,null,null,null,null,null,null,null,null,null,null,null,"Version 1 - PATS : 2024-03-26",null,null,null,null,null,null,null,null,null,null,null,{"$f":"TODAY()","v":"2026-04-08"}]
[0]
["Version 1 - PATS","Nom du fichier :","Annexe_TSNC_2024-2025_2023-03-26"]
[{"$f":"A3","v":"Version 1 - PATS"},"Date de mise en ligne :","Diffusion particulière."]
[{"$f":"A4","v":"Version 1 - PATS"},"Remarques :","• Mise à jour du document, indexation et taux inventaire diagnostique"]
[{"$f":"A5","v":"Version 1 - PATS"}]
[]
[]
[]
[{"$f":"A9","v":0}]

{"sheet":"Calculs grille","index":27,"n_rows":213,"n_cols":31,"rows_kept":213,"cut":false,"hidden":true,"merged":[]}
["Famille","Traitement","Type","Équipement / Modalité","Notes - Commentaires","Taux","Paiement","Variable / Constante","Référence Indexation",null,"Grille finale 24-25 avec indexation - Calcul","Grille finale 24-25 avec indexation - Gtille","Source 2024-2025","Grille consultation 24-25 avec indexation - Calcul","2024-2025 - Consulatation avec indexation projetée","Grille consultation 24-25 sans indexation- Calcul","2024-2025 - Consulatation SANS indexation projetée","Étalement -Grille finale","2023-2024 - Grille-3","Source 2023-2024","2022-2023 - Calcul - 0","2022-2023 - Grille","Source 2022-2023","2021-2022 - Calcul","2021-2022 - Grille","2020-2021 - Calcul","2020-2021 - Grille","2019-2020 - Calcul","2019-2020 - Grille","2018-2019 - Calcul","2018-2019 - Grille"]
["Traitement du site","Scarifiage par sillons continus ou discontinus avec scarificateur","Scarificateurs à disques passifs","Type TTS passifs",null,"Fixe","Hectare",null,"Traitement du site - Général",null,284.69385708312092,{"$f":"ROUND(K2,0)","v":285},"[Grilles TSNC 2024-2025_Finaux_Vf.xlsx]Feuille de calcul'!AZ2",284.05312613560147,{"$f":"ROUND(N2,0)","v":284},264.12515271900753,{"$f":"ROUND(P2,0)","v":264},264.12515271900753,{"$f":"ROUND(R2,0)","v":264},"[Grilles TSNC 2023-2024_Consultation.xlsx]Feuille de calcul'!$CE2",236.09063228561774,236,"[Grilles TSNC 2022-2023_Officielle.xlsx]Feuille de calcul'!$AP$2",230.37109698530779,{"$f":"ROUND(X2,0)","v":230},228.12033402930734,{"$f":"ROUND(Z2,0)","v":228},221.62576840382877,{"$f":"ROUND(AB2,0)","v":222},213.04370735649201,213]
["Traitement du site","Scarifiage par sillons continus ou discontinus avec scarificateur","Scarificateurs à disques passifs","Rouleau écraseur et scarificateur à disques passifs",null,"Fixe","Hectare",null,"Traitement du site - Général",null,970.3118635725582,{"$f":"ROUND(K3,0)","v":970},"[Grilles TSNC 2024-2025_Finaux_Vf.xlsx]Feuille de calcul'!AZ3",968.12808326164611,968,900.20828611114371,900,900.20828611114371,{"$f":"ROUND(R3,0)","v":900},"[Grilles TSNC 2023-2024_Consultation.xlsx]Feuille de calcul'!$CE3",804.65923547552234,805,"[Grilles TSNC 2022-2023_Officielle.xlsx]Feuille de calcul'!$AP$3",785.16554842209052,785,777.49435375469307,777,755.35915863767127,755,726.10922773486539,726]
["Traitement du site","Scarifiage par sillons continus ou discontinus avec scarificateur","Scarificateurs à disques hydrauliques","Types TTS hydrauliques ou Donaren","Requin retirer en 2022-2023","Fixe","Hectare",null,"Traitement du site - TTS hydrauliques ou Donaren",null,376.53869239691409,377,"[Grilles TSNC 2024-2025_Finaux_Vf.xlsx]Feuille de calcul'!AZ4",375.7293972579082,376,350.64561224966855,351,369.16390178236799,369,"[Grilles TSNC 2023-2024_Consultation.xlsx]Feuille de calcul'!$CE4",346.53319735444245,347,"[Grilles TSNC 2022-2023_Officielle.xlsx]Feuille de calcul'!$AP$4",338.13807876879599,338,334.83441493394218,335,325.30170891406658,325,312.70498270840034,313]
["Traitement du site","Scarifiage par sillons continus ou discontinus avec scarificateur","Scarificateurs à disques hydrauliques","Bracke T-26 avec débardeur",null,"Fixe","Hectare",null,"Traitement du site - Bracke T-26 avec débardeur",null,379.32362343969322,379,"[Grilles TSNC 2024-2025_Finaux_Vf.xlsx]Feuille de calcul'!AZ5",378.32392793683215,"ARRONDI(N5;0)",350.64561224966855,351,369.16390178236799,369,"[Grilles TSNC 2023-2024_Consultation.xlsx]Feuille de calcul'!$CE5",346.53319735444245,347,"[Grilles TSNC 2022-2023_Officielle.xlsx]Feuille de calcul'!$AP$5",338.13807876879599,338,334.83441493394218,335,325.30170891406658,325,312.70498270840034,313]
["Traitement du site","Scarifiage par sillons continus ou discontinus avec scarificateur","Scarificateurs à disques hydrauliques","Bracke T-26 avec porteur ou débardeur à six roues ",null,"Fixe","Hectare",null,"Traitement du site - Bracke T-26 avec porteur ou débardeur à six roues",null,475.17110479259037,475,"[Grilles TSNC 2024-2025_Finaux_Vf.xlsx]Feuille de calcul'!AZ6",473.51453468762156,474,433.93165796371068,434,437.25582739611008,437,"[Grilles TSNC 2023-2024_Consultation.xlsx]Feuille de calcul'!$CE6",393.81637436968259,394,"[Grilles TSNC 2022-2023_Officielle.xlsx]Feuille de calcul'!$AP$6",384.27577280814961,384,380.52133622455256,381,369.68792761798943,370,355.37242456917471,355]
["Traitement du site","Scarifiage par sillons continus ou discontinus avec scarificateur","Scarificateurs à cônes hydrauliques","Wadell",null,"Fixe","Hectare",null,"Traitement du site - Général",null,499.95760648570945,500,"[Grilles TSNC 2024-2025_Finaux_Vf.xlsx]Feuille de calcul'!AZ7",498.83240373562211,499,463.83641894848893,464,463.83641894848893,464,"[Grilles TSNC 2023-2024_Consultation.xlsx]Feuille de calcul'!$CE7",414.60433548010525,415,"[Grilles TSNC 2022-2023_Officielle.xlsx]Feuille de calcul'!$AP$7",404.5601244519811,405,400.6075064651443,401,389.20224637788283,389,374.13108627663803,374]
["Traitement du site","Scarifiage par monticules avec scarificateur",null,"Bracke M-36a avec débardeur",null,"Fixe","Hectare",null,"Traitement du site - Général",null,427.54535307340905,428,"[Grilles TSNC 2024-2025_Finaux_Vf.xlsx]Feuille de calcul'!AZ8",426.58312107448654,427,396.65584228551148,397,396.65584228551148,397,"[Grilles TSNC 2023-2024_Consultation.xlsx]Feuille de calcul'!$CE8",354.55437560919381,355,"[Grilles TSNC 2022-2023_Officielle.xlsx]Feuille de calcul'!$AP$8",345.96493583539188,346,342.58480233842357,343,332.83144347830262,333,319.94314178407336,320]
["Traitement du site","Scarifiage par monticules avec scarificateur",null,"Bracke M-36a avec porteur ou débardeur à six roues",null,"Fixe","Hectare",null,"Traitement du site - Général",null,512.64385667033798,513,"[Grilles TSNC 2024-2025_Finaux_Vf.xlsx]Feuille de calcul'!AZ9",511.49010229225092,511,475.60610657637568,476,475.60610657637568,476,"[Grilles TSNC 2023-2024_Consultation.xlsx]Feuille de calcul'!$CE9",425.1247761320721,425,"[Grilles TSNC 2022-2023_Officielle.xlsx]Feuille de calcul'!$AP$9",414.82569674639723,415,410.77278245440419,411,399.0781178636193,399,383.62453232242387,384]
["Traitement du site","Scarifiage par mixage (hersage/labourage)",null,"Herses forestières","Taux de base inclut un double passage à partir de 2023-2024","Fixe","Hectare",null,"Traitement du site - Herse forestière",null,601.29657267974278,601,"[Grilles TSNC 2024-2025_Finaux_Vf.xlsx]Feuille de calcul'!AZ10",{"$f":"994.297763223604/1.656","v":600.42135460362556},600,927.941466063397,928,883.26328404869719,{"$f":"ROUND(R10,0)","v":883},"[Grilles TSNC 2023-2024_Consultation.xlsx]Feuille de calcul'!$CE10",452.64299560320302,453,"[Grilles TSNC 2022-2023_Officielle.xlsx]Feuille de calcul'!$AP$10",441.67725940805201,442,437.36200099676392,437,424.91034371837685,425,408.45645148509061,408]
["Traitement du site","Scarifiage par mixage par placeaux",null,"Taupe ou pioche forestière",null,"Fixe","Millier de microsites",null,"Régénération artificielle - Général",null,776.34981295803755,776,"[Grilles TSNC 2024-2025_Finaux_Vf.xlsx]Feuille de calcul'!AZ11",774.93273458246949,775,735.36208287793215,735,735.36208287793215,735,"[Grilles TSNC 2023-2024_Consultation.xlsx]Feuille de calcul'!$CE11",694.61447558470218,695,"[Grilles TSNC 2022-2023_Officielle.xlsx]Feuille de calcul'!$AP$11",666.32961173329193,666,635.62506775454438,636,619.39623507057047,619,598.33209656352869,598]
["Traitement du site","Déblaiement des résidus de coupe",null,"Bouteur avec pelle râteau",null,"Fixe","Hectare",null,"Traitement du site - Déblaiement - Bouteur avec pelle râteau",null,992.52969242926702,993,"[Grilles TSNC 2024-2025_Finaux_Vf.xlsx]Feuille de calcul'!AZ12",990.51774891534319,991,923.01619409337877,923,959.9897535986438,960,"[Grilles TSNC 2023-2024_Consultation.xlsx]Feuille de calcul'!$CE12",891.14458253308055,891,"[Grilles TSNC 2022-2023_Officielle.xlsx]Feuille de calcul'!$AP$12",869.55570012748069,870,807.38806270607392,807,784.40179635333857,784,754.02724130756133,754]
["Traitement du site","Déblaiement des résidus de coupe",null,"Abatteuse groupeuse après feux","MAJ 20-21 ; calcul avec productivité moyenne de l'étude - Retirer en 2023-2024, erreur de libellé, traitement décrit n'est pas documenté - Remplacer dans les traitements Déblaiement sans récolte après perturbation  PATS","Fixe","Hectare",null,"Traitement du site - Général",null,1336.6064986422891,1337,"[Grilles TSNC 2024-2025_Finaux_Vf.xlsx]Feuille de calcul'!AZ13",1333.5983369730859,1334,1240.0386829422878,1240,1240.0386829422878,1240,"[Grilles TSNC 2023-2024_Consultation.xlsx]Feuille de calcul'!$CE13",1108.4196779468671,1108,"[Grilles TSNC 2022-2023_Officielle.xlsx]Feuille de calcul'!$AP$13",1081.5670857275124,1082,955.00778379749738,955,927.81879711155443,928,891.89067550807329,892]
["Traitement du site","Drainage sylvicole",null,"Milieu dénudé",null,"Fixe","Hectare",null,"Traitement du site - Général",null,3088.5211579279753,3089,"[Grilles TSNC 2024-2025_Finaux_Vf.xlsx]Feuille de calcul'!AZ14",3081.5701435709152,3082,2865.3801345472684,2865,2865.3801345472684,2865,"[Grilles TSNC 2023-2024_Consultation.xlsx]Feuille de calcul'!$CE14",2561.2456850090448,2561,"[Grilles TSNC 2022-2023_Officielle.xlsx]Feuille de calcul'!$AP$14",2499.1969075274651,2499,2474.7793486721002,2475,2404.3226006714367,2404,2311.2195130428559,2311]
["Traitement du site","Drainage sylvicole",null,"Milieu boisé",null,"Fixe","Hectare",null,"Traitement du site - Général",null,3431.6441190679029,3432,"[Grilles TSNC 2024-2025_Finaux_Vf.xlsx]Feuille de calcul'!AZ15",3423.9208734366625,3424,3183.7129761512992,3184,3183.7129761512992,3184,"[Grilles TSNC 2023-2024_Consultation.xlsx]Feuille de calcul'!$CE15",2845.7903452880601,2846,"[Grilles TSNC 2022-2023_Officielle.xlsx]Feuille de calcul'!$AP$15",2776.8481844764224,2777,2749.71792764366,2750,2671.4337027470647,2671,2567.9872159688989,2568]
["Traitement du site","Scarifiage par monticules ou par mixage ou inversion en placeaux ou décapage en placeaux",null,"Excavatrice",null,"Variable","Hectare","Variable 1 => R = Superficie préparée","Traitement du site - Scarifiage par monticule - Excavatrice",null,35394.13762493401,35394,"[Grilles TSNC 2024-2025_Finaux_Vf.xlsx]Feuille de calcul'!AZ16",35356.719498938459,35357,33140.178916947778,33140,33391.298760832913,{"$f":"ROUND(R16,0)","v":33391},"[Grilles TSNC 2023-2024_Consultation.xlsx]Feuille de calcul'!$CE16",30071.577046867631,30072,"[Grilles TSNC 2022-2023_Officielle.xlsx]Feuille de calcul'!$AP$16",29343.062557366527,29343,29056.376080269376,29056,28229.143636941237,28229,27136.020595559035,27136]
["Traitement du site","Scarifiage par monticules ou par mixage ou inversion en placeaux ou décapage en placeaux",null,"Excavatrice",null,"Variable","Hectare","Valeur R","Aucune indexation / constante calculé",null,1.6830000000000001,{"$f":"ROUND(K17,3)","v":1.6830000000000001},"[Grilles TSNC 2024-2025_Finaux_Vf.xlsx]Feuille de calcul'!AZ17",1.6830000000000001,{"$f":"ROUND(N17,3)","v":1.6830000000000001},1.6830000000000001,{"$f":"ROUND(P17,3)","v":1.6830000000000001},1.6830000000000001,{"$f":"ROUND(R17,3)","v":1.6830000000000001},"[Grilles TSNC 2023-2024_Consultation.xlsx]Feuille de calcul'!$CE17"]
["Traitement du site","Scarifiage par monticules ou par mixage ou inversion en placeaux ou décapage en placeaux",null,"Excavatrice",null,"Variable","Hectare","Valeur TP","Aucune indexation / constante calculé",null,0.29899999999999999,{"$f":"ROUND(K18,3)","v":0.29899999999999999},"[Grilles TSNC 2024-2025_Finaux_Vf.xlsx]Feuille de calcul'!AZ18",0.29899999999999999,{"$f":"ROUND(N18,3)","v":0.29899999999999999},0.29899999999999999,{"$f":"ROUND(P18,3)","v":0.29899999999999999},0.29899999999999999,{"$f":"ROUND(R18,3)","v":0.29899999999999999},"[Grilles TSNC 2023-2024_Consultation.xlsx]Feuille de calcul'!$CE18"]
["Traitement du site","Scarifiage par monticules ou par mixage ou inversion en placeaux ou décapage en placeaux",null,"Excavatrice",null,"Variable","Hectare","Valeur TR","Aucune indexation / constante calculé",null,0.313,{"$f":"ROUND(K19,3)","v":0.313},"[Grilles TSNC 2024-2025_Finaux_Vf.xlsx]Feuille de calcul'!AZ19",0.313,{"$f":"ROUND(N19,3)","v":0.313},0.313,{"$f":"ROUND(P19,3)","v":0.313},0.313,0.313,"[Grilles TSNC 2023-2024_Consultation.xlsx]Feuille de calcul'!$CE19"]
["Traitement du site","Scarifiage par monticules ou par mixage ou inversion en placeaux ou décapage en placeaux",null,"Excavatrice",null,"Variable","Hectare","Valeur PER","Aucune indexation / constante calculé",null,0.17,{"$f":"ROUND(K20,3)","v":0.17},"[Grilles TSNC 2024-2025_Finaux_Vf.xlsx]Feuille de calcul'!AZ20",0.17,{"$f":"ROUND(N20,3)","v":0.17},0.17,{"$f":"ROUND(P20,3)","v":0.17},0.17,0.17,"[Grilles TSNC 2023-2024_Consultation.xlsx]Feuille de calcul'!$CE20"]
["Traitement du site","Scarifiage par monticules ou par mixage ou inversion en placeaux ou décapage en placeaux",null,"Excavatrice",null,"Variable","Hectare","Constante","Aucune indexation / constante calculé",null,2.0139999999999998,{"$f":"ROUND(K21,3)","v":2.0139999999999998},"[Grilles TSNC 2024-2025_Finaux_Vf.xlsx]Feuille de calcul'!AZ21",2.0139999999999998,{"$f":"ROUND(N21,3)","v":2.0139999999999998},2.0139999999999998,{"$f":"ROUND(P21,3)","v":2.0139999999999998},2.0139999999999998,2.0139999999999998,"[Grilles TSNC 2023-2024_Consultation.xlsx]Feuille de calcul'!$CE21"]
["Traitement du site","Déblaiement des résidus de coupe",null,"Excavatrice ou débusqueuse ou abatteuse",null,"Variable","Hectare","Variable 1 => R = Superficie préparée","Traitement du site - Déblaiement - Excavatrice ou débusqueuse",null,40616.464171332118,{"$f":"ROUND(K22,0)","v":40616},"[Grilles TSNC 2024-2025_Finaux_Vf.xlsx]Feuille de calcul'!AZ22",40504.300058279201,{"$f":"ROUND(N22,0)","v":40504},37653.289976680302,{"$f":"ROUND(P22,0)","v":37653},35647.854290699179,{"$f":"ROUND(R22,0)","v":35648},"[Grilles TSNC 2023-2024_Consultation.xlsx]Feuille de calcul'!$CE22",30071.577046867631,30072,"[Grilles TSNC 2022-2023_Officielle.xlsx]Feuille de calcul'!$AP$17",29343.062557366527,29343,29056.376080269376,29056,28229.143636941237,28229,27136.020595559035,27136]
["Traitement du site","Déblaiement des résidus de coupe",null,"Excavatrice ou débusqueuse ou abatteuse",null,"Variable","Hectare","Valeur R","Aucune indexation / constante calculé",null,1.6830000000000001,{"$f":"ROUND(K23,3)","v":1.6830000000000001},"[Grilles TSNC 2024-2025_Finaux_Vf.xlsx]Feuille de calcul'!AZ23",1.6830000000000001,{"$f":"ROUND(N23,3)","v":1.6830000000000001},1.6830000000000001,{"$f":"ROUND(P23,3)","v":1.6830000000000001},1.6830000000000001,{"$f":"ROUND(R23,3)","v":1.6830000000000001},"[Grilles TSNC 2023-2024_Consultation.xlsx]Feuille de calcul'!$CE23"]
["Traitement du site","Déblaiement des résidus de coupe",null,"Excavatrice ou débusqueuse ou abatteuse",null,"Variable","Hectare","Valeur TP","Aucune indexation / constante calculé",null,0.29899999999999999,0.29899999999999999,"[Grilles TSNC 2024-2025_Finaux_Vf.xlsx]Feuille de calcul'!AZ24",0.29899999999999999,0.29899999999999999,0.29899999999999999,0.29899999999999999,0.29899999999999999,{"$f":"ROUND(R24,3)","v":0.29899999999999999},"[Grilles TSNC 2023-2024_Consultation.xlsx]Feuille de calcul'!$CE24"]
["Traitement du site","Déblaiement des résidus de coupe",null,"Excavatrice ou débusqueuse ou abatteuse",null,"Variable","Hectare","Valeur TR","Aucune indexation / constante calculé",null,0.313,0.313,"[Grilles TSNC 2024-2025_Finaux_Vf.xlsx]Feuille de calcul'!AZ25",0.313,0.313,0.313,0.313,0.313,0.313,"[Grilles TSNC 2023-2024_Consultation.xlsx]Feuille de calcul'!$CE25"]
["Traitement du site","Déblaiement des résidus de coupe",null,"Excavatrice ou débusqueuse ou abatteuse",null,"Variable","Hectare","Valeur PER","Aucune indexation / constante calculé",null,0.17,0.17,"[Grilles TSNC 2024-2025_Finaux_Vf.xlsx]Feuille de calcul'!AZ26",0.17,0.17,0.17,0.17,0.17,0.17,"[Grilles TSNC 2023-2024_Consultation.xlsx]Feuille de calcul'!$CE26"]
["Traitement du site","Déblaiement des résidus de coupe",null,"Excavatrice ou débusqueuse ou abatteuse",null,"Variable","Hectare","Constante","Aucune indexation / constante calculé",null,2.0139999999999998,2.0139999999999998,"[Grilles TSNC 2024-2025_Finaux_Vf.xlsx]Feuille de calcul'!AZ27",2.0139999999999998,2.0139999999999998,2.0139999999999998,2.0139999999999998,2.0139999999999998,2.0139999999999998,"[Grilles TSNC 2023-2024_Consultation.xlsx]Feuille de calcul'!$CE27"]
["Traitement du site","Déblaiement des résidus de coupe",null,"Ajustement VEH abatteuse groupeuse",null,null,null,null,"Aucune indexation / constante calculé",null,0.82753533458947692,0.82799999999999996,"[Grilles TSNC 2024-2025_Finaux_Vf.xlsx]Feuille de calcul'!AZ28",0.82753533458947692,0.82799999999999996,0.82753533458947692,0.82799999999999996,0.82799999999999996,0.82799999999999996,"[Grilles TSNC 2023-2024_Consultation.xlsx]Feuille de calcul'!$CE28"]
["Traitement du site","Fertilisation du peuplier hybride",null,null,"Origine (2012-2013) : 484$/ha\nK:\\...\\Fertilisation","Fixe","Hectare",null,"Traitement du site - Général",null,732.78389468646344,{"$f":"ROUND(K29,0)","v":733},"[Grilles TSNC 2024-2025_Finaux_Vf.xlsx]Feuille de calcul'!AZ29",731.13469394859158,{"$f":"ROUND(N29,0)","v":731},679.84135687754792,{"$f":"ROUND(P29,0)","v":680},679.6378521808175,{"$f":"ROUND(R29,0)","v":680},"[Grilles TSNC 2023-2024_Consultation.xlsx]Feuille de calcul'!$CE29",641.78578683969874,642,"[Grilles TSNC 2022-2023_Officielle.xlsx]Feuille de calcul'!$AP$18",615.6521195456927,{"$f":"ROUND(X29,0)","v":616},587.2828001468032,587,572.28824630482245,572,542.18463029676434,542]
["Traitement du site","Brûlage dirigé",null,null,"Origine (2014-2015) 220 $/km ou $/ha ou 20 $/andains - calcul modifié en 2019-2020\nK:\\...\\Brulage_andains","Fixe","Andain",null,"Traitement du site - Général",null,34.481417105984001,{"$f":"ROUND(K30,0)","v":34},"[Grilles TSNC 2024-2025_Finaux_Vf.xlsx]Feuille de calcul'!AZ30",34.403813355483464,{"$f":"ROUND(N30,0)","v":34},31.990186414267399,{"$f":"ROUND(P30,0)","v":32},31.990186414267399,32,"[Grilles TSNC 2023-2024_Consultation.xlsx]Feuille de calcul'!$CE30",30.217558230687022,30,"[Grilles TSNC 2022-2023_Officielle.xlsx]Feuille de calcul'!$AP$19",28.987092194462271,{"$f":"ROUND(X30,0)","v":29},27.651363702994409,28,26.945366759537016,27,25.527981413318766,26]
["Traitement du site","Déblaiement des résidus de coupe",null,"Bouteur avec pelle modifiée (deux dents)","Origine (2018-2019) : 611$/ha - demande R11\nK:\\...\\Bouteur_deux_dents","Fixe","Hectare",-0.19070000000000001,"Traitement du site - Général",null,806.1796474084731,{"$f":"ROUND(K31,0)","v":806},"[Grilles TSNC 2024-2025_Finaux_Vf.xlsx]Feuille de calcul'!AZ31",804.36526245950779,{"$f":"ROUND(N31,0)","v":804},747.93437649956036,{"$f":"ROUND(P31,0)","v":748},752.71685965235054,753,"[Grilles TSNC 2023-2024_Consultation.xlsx]Feuille de calcul'!$CE31",677.09756892810924,677,"[Grilles TSNC 2022-2023_Officielle.xlsx]Feuille de calcul'!$AP$20",660.69419277655879,{"$f":"ROUND(X31,0)","v":661},654.23910342808495,654,622.97975837954561,623,610.21220000000005,{"$f":"ROUND(AD31,0)","v":610}]
["Traitement du site","Scarifiage par monticules et tranchées ",null,"Excavatrice pour le PEH","Origine 2018-2019\nK:\\...\\Monticules_PEH\nÉquation de scarifiage mais ajustement de la constante sans la variable TP et PER","Variable","Hectare",0.14799999999999999,"Aucune indexation / constante calculé",null,{"$f":"H32","v":0.14799999999999999},{"$f":"ROUND(K32,3)","v":0.14799999999999999},"[Grilles TSNC 2024-2025_Finaux_Vf.xlsx]Feuille de calcul'!AZ32",1.7159279999999997,{"$f":"O21*(1-#REF!)","v":{"$error":"#REF!"}},1.7159279999999997,{"$f":"Q21*(1-#REF!)","v":{"$error":"#REF!"}},1.7159279999999999,{"$f":"S21*(1-#REF!)","v":{"$error":"#REF!"}},"[Grilles TSNC 2023-2024_Consultation.xlsx]Feuille de calcul'!$CE32","-",0.14799999999999999,"[Grilles TSNC 2022-2023_Officielle.xlsx]Feuille de calcul'!$AP$21","-","-","-","-","-","-","-","-"]
["Traitement du site","Déblaiement des résidus de coupe combiné à un scarifiage en monticules","Scarifiage","Excavatrice","Origine 2019-2020 : partie déblaiement = équation de déblaiment ; Scariage la variable 1 est à X % (Majoration passage)\nK:\\...\\Monticule et déblaiement combinés","Variable","Hectare",{"$f":"[3]Majorations!$B$21","v":0.75800000000000001},"Aucune indexation / constante calculé",null,25129.776237064278,{"$f":"L16*[4]Majorations!$B$22","v":26838.820103044003},"[Grilles TSNC 2024-2025_Finaux_Vf.xlsx]Feuille de calcul'!AZ33",25129.776237064278,{"$f":"O16*[4]Majorations!$B$22","v":26810.763473564075},25129.776237064278,{"$f":"Q16*[4]Majorations!$B$22","v":25129.640566618022},25320.197221251929,{"$f":"S16*[4]Majorations!$B$22","v":25319.9706747116},"[Grilles TSNC 2023-2024_Consultation.xlsx]Feuille de calcul'!$CE33",22523.611208103855,22524,"[Grilles TSNC 2022-2023_Officielle.xlsx]Feuille de calcul'!$AP$22",{"$f":"X22*'Majorations applicables'!$A$63","v":22242.041418483826},{"$f":"ROUND(X33,0)","v":22242},"-","-","-","-","-","-"]
["Traitement du site","Déblaiement d'hiver de la végétation",null,"Bouteur à lame tranchante",null,"Fixe","Hectare",null,"Traitement du site - Général",null,1642.4899674717733,{"$f":"ROUND(K34,0)","v":1642},"[Grilles TSNC 2024-2025_Finaux_Vf.xlsx]Feuille de calcul'!AZ34",1638.7933855927997,{"$f":"ROUND(N34,0)","v":1639},1523.8225297262352,{"$f":"ROUND(P34,0)","v":1524},1523.8225297262352,{"$f":"ROUND(R34,0)","v":1524},"[Grilles TSNC 2023-2024_Consultation.xlsx]Feuille de calcul'!$CE34",1362.0824099129677,1362,"[Grilles TSNC 2022-2023_Officielle.xlsx]Feuille de calcul'!$AP$23",1329.0845804353301,1329,1316.0992086669869,{"$f":"ROUND(Z34,0)","v":1316}]
["Traitement du site","Broyage forestier ","Peuplement pré-mature avec épidémie sévère et sans récolte",null,"Origine 2019-2020 : Taux AO R02 2018-2019 (1800$/ha)\nK:\\...\\Broyage\nMAJ Analyse productivité 2022-2023 K:\\...\\Broyage\\Analyse broyage Gabriel","Fixe","Hectare",null,"Traitement du site - Général",null,3475.9201347084918,{"$f":"ROUND(K35,0)","v":3476},"[Grilles TSNC 2024-2025_Finaux_Vf.xlsx]Feuille de calcul'!AZ35",3468.0972416393174,{"$f":"ROUND(N35,0)","v":3468},3224.7901160400088,{"$f":"ROUND(P35,0)","v":3225},3224.7901160400088,3225,"[Grilles TSNC 2023-2024_Consultation.xlsx]Feuille de calcul'!$CE35",2882.5075145124824,2883,"[Grilles TSNC 2022-2023_Officielle.xlsx]Feuille de calcul'!$AP$24",1946.3986039243957,1946,1927.381974092558,1927,1872.5095806718978,1873,1800,1800]
["Traitement du site","Broyage forestier ","Compétition ligneuse, déchets de coupe et tiges rémanentes avec récolte",null,"Origine 2019-2020 : Taux AO R02 2018-2019 (1800$/ha)\nK:\\...\\Broyage\nMAJ Analyse productivité 2022-2023 K:\\...\\Broyage\\Analyse broyage Gabriel","Fixe","Hectare",null,"Traitement du site - Général",null,2639.465792749395,{"$f":"ROUND(K36,0)","v":2639},"[Grilles TSNC 2024-2025_Finaux_Vf.xlsx]Feuille de calcul'!AZ36",2633.5254207453781,{"$f":"ROUND(N36,0)","v":2634},2448.7683462835926,{"$f":"ROUND(P36,0)","v":2449},2448.7683462835926,2449,"[Grilles TSNC 2023-2024_Consultation.xlsx]Feuille de calcul'!$CE36",2188.853508435644,2189,"[Grilles TSNC 2022-2023_Officielle.xlsx]Feuille de calcul'!$AP$25"]
["Traitement du site","Broyage forestier ","Compétition ligneuse et déchets de coupe avec récolte",null,"Ancien déchiquetage -Origine 2019-2020 : Taux AO R02 2018-2019 (1800$/ha)\nK:\\...\\Broyage\nMAJ Analyse productivité 2022-2023 K:\\...\\Broyage\\Analyse broyage Gabriel","Fixe","Hectare",null,"Traitement du site - Général",null,1944.5494695442355,{"$f":"ROUND(K37,0)","v":1945},"[Grilles TSNC 2024-2025_Finaux_Vf.xlsx]Feuille de calcul'!AZ37",1940.1730736610086,{"$f":"ROUND(N37,0)","v":1940},1804.0586856185034,{"$f":"ROUND(P37,0)","v":1804},1804.0586856185034,1804,"[Grilles TSNC 2023-2024_Consultation.xlsx]Feuille de calcul'!$CE37",1612.5740066155461,1613,"[Grilles TSNC 2022-2023_Officielle.xlsx]Feuille de calcul'!$AP$26",1479.4545103555608,1479,1465,1465]
["Traitement du site","Déblaiement","D'un peuplement sans perturbation naturelle et sans récolte","Excavatrice ou débusqueuse","Transférer lors de la clarification de l'équation (2021-2022) même équation que déblaiement","Variable","Hectare","Variable 1 => R = Superficie préparée","Traitement du site - Général",null,40585.533959859335,{"$f":"L22","v":40616},"[Grilles TSNC 2024-2025_Finaux_Vf.xlsx]Feuille de calcul'!AZ38",40494.192306421159,{"$f":"O22","v":40504},37653.289976680302,{"$f":"Q22","v":37653},35647.854290699179,{"$f":"S22","v":35648},"[Grilles TSNC 2023-2024_Consultation.xlsx]Feuille de calcul'!$CE38"]
["Traitement du site","Déblaiement","D'un peuplement avec perturbation naturelle et sans récolte","Abatteuse groupeuse","Origine 2020-2021 - K:\\...\\MAJ Déblaiement Abatteuse-Groupeuse\nMAJ Analyse productivité 2022-2023 K:\\...\\AGR_sans_recolte\\Analyse AGR - Gabriel","Fixe","Hectare",null,"Traitement du site - Général",null,2178.5808179025216,{"$f":"ROUND(K39,0)","v":2179},"[Grilles TSNC 2024-2025_Finaux_Vf.xlsx]Feuille de calcul'!AZ39",2173.6777119275525,{"$f":"ROUND(N39,0)","v":2174},2021.1816199153268,{"$f":"ROUND(P39,0)","v":2021},2022.7985652112588,{"$f":"ROUND(R39,0)","v":2023},"[Grilles TSNC 2023-2024_Consultation.xlsx]Feuille de calcul'!$CE39",1809.5419272428098,1810,"[Grilles TSNC 2022-2023_Officielle.xlsx]Feuille de calcul'!$AP$27",1428.3324362737158,1428,1414.3773968677795,1414]
["Traitement du site","Déblaiement","D'un peuplement avec perturbation naturelle et sans récolte","Excavatrice","Introduit en 2023-2024","Fixe","Hectare",null,"Traitement du site - Général",null,2244.4826093322104,2244,"[Grilles TSNC 2024-2025_Finaux_Vf.xlsx]Feuille de calcul'!AZ40",2239.4311850278659,2239,2082.3221057135179,2082,2082.3221057135179,{"$f":"ROUND(R40,0)","v":2082},"[Grilles TSNC 2023-2024_Consultation.xlsx]Feuille de calcul'!$CE40",1861.3022557652255,{"$f":"ROUND(U40,0)","v":1861}]
["Traitement du site","Débroussaillement mécanique",null,"manuel","Origine (2017-2018) et modifications aux catégories en 2018-2019 : Variable selon niveau de difficulté et certaines caractéristiques d'inventaire. Les taux 2018-2019 sont la base formelle de départ. \nK:\\...\\3_EducationPeuplement\\Débroussaillement manuel\nTraitement PRT assimilé à la famille EP","Variable","Hectare",null,"Éducation de peuplement",null,828.68195741604688,829,"[Grilles TSNC 2024-2025_Finaux_Vf.xlsx]Feuille de calcul'!AZ41",827.35652582516309,827,789.79303896807301,790,735.99507550018586,{"$f":"ROUND(R41,0)","v":736},"[Grilles TSNC 2023-2024_Consultation.xlsx]Feuille de calcul'!$CE41"]
["Traitement du site","Débroussaillement mécanique",null,"manuel","Origine (2017-2018) et modifications aux catégories en 2018-2019 : Variable selon niveau de difficulté et certaines caractéristiques d'inventaire. Les taux 2018-2019 sont la base formelle de départ. \nK:\\...\\3_EducationPeuplement\\Débroussaillement manuel\nTraitement PRT assimilé à la famille EP","Variable","Hectare",null,"Éducation de peuplement",null,1305.0592009583581,1305,"[Grilles TSNC 2024-2025_Finaux_Vf.xlsx]Feuille de calcul'!AZ42",1302.971829950164,1303,1243.8145456576672,1244,1159.0902113237676,{"$f":"ROUND(R42,0)","v":1159},"[Grilles TSNC 2023-2024_Consultation.xlsx]Feuille de calcul'!$CE42"]
["Traitement du site","Débroussaillement manuel",null,null,"Origine (2017-2018) et modifications aux catégories en 2018-2019 : Variable selon niveau de difficulté et certaines caractéristiques d'inventaire. Les taux 2018-2019 sont la base formelle de départ. \nK:\\...\\3_EducationPeuplement\\Débroussaillement manuel\nTraitement PRT assimilé à la famille EP","Variable",5000,null,"Éducation de peuplement",null,1763.055328994215,1763,"[Grilles TSNC 2024-2025_Finaux_Vf.xlsx]Feuille de calcul'!AZ43",1760.2354181603753,1760,1680.31753761969,1680,1565.8601329033529,{"$f":"ROUND(R43,0)","v":1566},"[Grilles TSNC 2023-2024_Consultation.xlsx]Feuille de calcul'!$CE43"]
["Traitement du site","Débroussaillement mécanique",null,"manuel","Origine (2017-2018) et modifications aux catégories en 2018-2019 : Variable selon niveau de difficulté et certaines caractéristiques d'inventaire. Les taux 2018-2019 sont la base formelle de départ. \nK:\\...\\3_EducationPeuplement\\Débroussaillement manuel\nTraitement PRT assimilé à la famille EP","Variable","Hectare",null,"Éducation de peuplement",null,2070.9390137273481,2071,"[Grilles TSNC 2024-2025_Finaux_Vf.xlsx]Feuille de calcul'!AZ44",2067.6266597331246,2068,1973.7526593065334,1974,1839.3074714902982,{"$f":"ROUND(R44,0)","v":1839},"[Grilles TSNC 2023-2024_Consultation.xlsx]Feuille de calcul'!$CE44"]
["Traitement du site","Scarifiage par monticules ou par mixage ou inversion en placeaux ou décapage en placeaux",null,"Excavatrice",null,"Variable","Hectare","Taux moyen","Traitement du site - Scarifiage par monticule - Excavatrice",null,1309.7241673874466,1310,"[Grilles TSNC 2024-2025_Finaux_Vf.xlsx]Feuille de calcul'!AZ45",1308.3395475830587,1308,1226.3187112798421,1226,1234.6168144922049,{"$f":"ROUND(R45,0)","v":1235},"[Grilles TSNC 2023-2024_Consultation.xlsx]Feuille de calcul'!$CE45"]
["Traitement du site","Déblaiement des résidus de coupe",null,"Excavatrice ou débusqueuse ou abatteuse",null,"Variable","Hectare","Taux moyen","Traitement du site - Déblaiement - Excavatrice ou débusqueuse",null,1314.9559792620557,1315,"[Grilles TSNC 2024-2025_Finaux_Vf.xlsx]Feuille de calcul'!AZ46",1311.3246717583943,1311,1219.0233641428249,1219,1153.227539571137,1153,"[Grilles TSNC 2023-2024_Consultation.xlsx]Feuille de calcul'!$CE46",1052.6410118901194,1053,"[Grilles TSNC 2022-2023_Officielle.xlsx]Feuille de calcul'!$AP$28",914.49296988132289,{"$f":"ROUND(X46,0)","v":914},913.93821970268675,914,781.87946416169382,782,751.60258191365233,752]
["Régénération artificielle","Plantation uniforme et regarni mécanique ","Scarificateur-planteur (Bracke P-11a)","1500 plants/ha et + Récipient 45-110",null,"Fixe","Millier de plants",null,"Traitement du site",null,1693.3424556382342,1693,"[Grilles TSNC 2024-2025_Finaux_Vf.xlsx]Feuille de calcul'!AZ47",1689.5314253364515,1690,1571.0010018602038,1571,1569.8517940550564,1570,"[Grilles TSNC 2023-2024_Consultation.xlsx]Feuille de calcul'!$CE47",1402.1988502164054,1402,"[Grilles TSNC 2022-2023_Officielle.xlsx]Feuille de calcul'!$AP$29",1368.2291592370343,1368,1354.0502062771941,1354,1315.5005173058889,1316,1264.5601152550284,1265]
["Régénération artificielle","Plantation uniforme et regarni mécanique ","Scarificateur-planteur (Bracke P-11a)","1500 plants/ha et + Récipient 25-200",null,"Fixe","Millier de plants",null,"Traitement du site",null,1729.2172045009113,1729,"[Grilles TSNC 2024-2025_Finaux_Vf.xlsx]Feuille de calcul'!AZ48",1725.3254346213018,1725,1604.283853900612,1604,1603.1346460954646,1603,"[Grilles TSNC 2023-2024_Consultation.xlsx]Feuille de calcul'!$CE48",1431.9490254708164,1432,"[Grilles TSNC 2022-2023_Officielle.xlsx]Feuille de calcul'!$AP$30",1397.2586062867272,1397,1382.7788212905364,1383,1343.4112312043342,1343,1291.3900367335475,1291]
["Régénération artificielle","Plantation uniforme et regarni mécanique ","Scarificateur-planteur (Bracke P-11a)","1499 plants/ha et - Récipient 45-110",null,"Fixe","Millier de plants",null,"Traitement du site",null,1846.7046419120568,1847,"[Grilles TSNC 2024-2025_Finaux_Vf.xlsx]Feuille de calcul'!AZ49",1842.5484552379814,1843,1713.2830000947765,1713,1712.1337922896291,1712,"[Grilles TSNC 2023-2024_Consultation.xlsx]Feuille de calcul'!$CE49",1529.3788880895797,1529,"[Grilles TSNC 2022-2023_Officielle.xlsx]Feuille de calcul'!$AP$31",1492.3281315504776,1492,1476.8631414681879,1477,1434.8169791524545,1435,1379.2562607597974,1379]
["Régénération artificielle","Plantation uniforme et regarni mécanique ","Scarificateur-planteur (Bracke P-11a)","1499 plants/ha et - Récipient 25-200",null,"Fixe","Millier de plants",null,"Traitement du site",null,1882.584465259285,1883,"[Grilles TSNC 2024-2025_Finaux_Vf.xlsx]Feuille de calcul'!AZ50",1878.3475275867668,1878,1746.5705599958349,1747,1745.4213521906875,1745,"[Grilles TSNC 2023-2024_Consultation.xlsx]Feuille de calcul'!$CE50",1559.1332715073795,1559,"[Grilles TSNC 2022-2023_Officielle.xlsx]Feuille de calcul'!$AP$32",1521.3616848165279,1521,1505.5958201451849,1506,1462.7316410224114,1463,1406.0899773317003,1406]
["Régénération artificielle","Plantation uniforme PEH",null,null,null,"Fixe","Millier de plants",null,"Traitement du site",null,913.86614336940465,914,"[Grilles TSNC 2024-2025_Finaux_Vf.xlsx]Feuille de calcul'!AZ51",912.19805518503551,912,865.61817809837214,866,851.20471340355448,851,"[Grilles TSNC 2023-2024_Consultation.xlsx]Feuille de calcul'!$CE51",790.42328660855446,790,"[Grilles TSNC 2022-2023_Officielle.xlsx]Feuille de calcul'!$AP$33",758.23706557149956,758,722.86438991754846,723,704.40815552355662,704,667.35474273071213,667]
["Régénération artificielle","Plantation d'enrichissement",null,"Puits de lumière (300 plants/ha), enrichissement (350plants/ha) ou regarni pins et feuillus (≤799plants/ha)",null,"Fixe","Millier de plants",null,"Regénération artificielle - Général",null,954.66310920091871,955,"[Grilles TSNC 2024-2025_Finaux_Vf.xlsx]Feuille de calcul'!AZ52",952.92055394371243,953,904.26125016230981,904,903.11295635989563,903,"[Grilles TSNC 2023-2024_Consultation.xlsx]Feuille de calcul'!$CE52",851.98533574962403,852,"[Grilles TSNC 2022-2023_Officielle.xlsx]Feuille de calcul'!$AP$34",817.29229367791788,{"$f":"ROUND(X52,0)","v":817},779.16462024777127,779,759.27092363831628,759,719.33160900294797,719]
["Régénération artificielle","Ensemencement",null,"Terrestre manuel",null,"Fixe","Hectare",null,"Regénération artificielle - Général",null,260.94786939933687,261,"[Grilles TSNC 2024-2025_Finaux_Vf.xlsx]Feuille de calcul'!AZ53",260.47155887964033,260,247.17101178000399,247,246.02271797758982,246,"[Grilles TSNC 2023-2024_Consultation.xlsx]Feuille de calcul'!$CE53",231.30553463793498,231,"[Grilles TSNC 2022-2023_Officielle.xlsx]Feuille de calcul'!$AP$35",221.88671918666694,222,211.5354355234322,212,206.13449499418451,206,195.29136878394485,195]
["Régénération artificielle","Traçabilité","Inclus dans le taux à partir de 2023-2024",null,"Inclus dans le taux à partir de 2023-2024","Fixe","Millier de plants",null,"Travaux techniques",null,0,{"$f":"ROUND(K54,2)","v":0},"[Grilles TSNC 2024-2025_Finaux_Vf.xlsx]Feuille de calcul'!AZ54",0,{"$f":"ROUND(N54,2)","v":0},0,{"$f":"ROUND(P54,2)","v":0},0,{"$f":"ROUND(R54,2)","v":0},"[Grilles TSNC 2023-2024_Consultation.xlsx]Feuille de calcul'!$CE54",2.1800280047404339,2.1800000000000002,"[Grilles TSNC 2022-2023_Officielle.xlsx]Feuille de calcul'!$AP$36",2.0879149602247518,{"$f":"ROUND(X54,2)","v":2.09},1.9839134317168967,{"$f":"ROUND(Z54,2)","v":1.98},1.93,{"$f":"ROUND(AB54,2)","v":1.93},1.8296603925246164,1.83]
["Régénération artificielle","Plantation uniforme et regarni manuel et plantation d'enrichissement sauf PEH","Variable 1",null,null,"Variable","Millier de plants","Variable 1","Regénération artificielle - Général",null,141.23232584175727,{"$f":"ROUND(K55,1)","v":141.19999999999999},"[Grilles TSNC 2024-2025_Finaux_Vf.xlsx]Feuille de calcul'!AZ55",140.97453319269491,{"$f":"ROUND(N55,1)","v":141},133.775903036513,{"$f":"ROUND(P55,1)","v":133.80000000000001},134.3037158711461,{"$f":"ROUND(R55,1)","v":134.30000000000001},"[Grilles TSNC 2023-2024_Consultation.xlsx]Feuille de calcul'!$CE55",127.36029472408245,127.4,"[Grilles TSNC 2022-2023_Officielle.xlsx]Feuille de calcul'!$AP$37",122.17415374521241,122.2,116.47458179080253,{"$f":"ROUND(Z55,1)","v":116.5},113.50074297337453,{"$f":"ROUND(AB55,1)","v":113.5},107.5303551396886,107.5]
["Régénération artificielle","Plantation uniforme et regarni manuel et plantation d'enrichissement sauf PEH","Variable 2",null,null,"Variable","Millier de plants","Variable 2","Regénération artificielle - Général",null,-85.515355622521113,{"$f":"ROUND(K56,2)","v":-85.52},"[Grilles TSNC 2024-2025_Finaux_Vf.xlsx]Feuille de calcul'!AZ56",-85.359263666022855,{"$f":"ROUND(N56,2)","v":-85.36},-81.000534783439434,{"$f":"ROUND(P56,2)","v":-81},-81.320122398999629,{"$f":"ROUND(R56,2)","v":-81.319999999999993},"[Grilles TSNC 2023-2024_Consultation.xlsx]Feuille de calcul'!$CE56",-77.115921093886485,-77.12,"[Grilles TSNC 2022-2023_Officielle.xlsx]Feuille de calcul'!$AP$38",-73.975742756715206,{"$f":"ROUND(X56,2)","v":-73.98},-70.52468493639995,{"$f":"ROUND(Z56,2)","v":-70.52},-68.724042749700061,{"$f":"ROUND(AB56,2)","v":-68.72},-65.109007482391078,-65.11]
["Régénération artificielle","Plantation uniforme et regarni manuel et plantation d'enrichissement sauf PEH","Variable 3",null,null,"Variable","Millier de plants","Variable 3","Regénération artificielle - Général",null,558221.85621669551,{"$f":"ROUND(K57,0)","v":558222},"[Grilles TSNC 2024-2025_Finaux_Vf.xlsx]Feuille de calcul'!AZ57",557202.92878474307,{"$f":"ROUND(N57,0)","v":557203},528750.28762025665,{"$f":"ROUND(P57,0)","v":528750},530836.47191643575,{"$f":"ROUND(R57,0)","v":530836},"[Grilles TSNC 2023-2024_Consultation.xlsx]Feuille de calcul'!$CE57",503392.54632711341,503393,"[Grilles TSNC 2022-2023_Officielle.xlsx]Feuille de calcul'!$AP$39",482894.28414406325,{"$f":"ROUND(X57,0)","v":482894},460366.68207372609,{"$f":"ROUND(Z57,0)","v":460367},448612.56123163266,{"$f":"ROUND(AB57,0)","v":448613},425014.5573115673,425015]
["Régénération artificielle","Plantation uniforme et regarni manuel et plantation d'enrichissement sauf PEH","Gabarit 113-25",null,null,"Variable","Millier de plants","Gabarit 113-25","Régérération artificielle - Petite Taille (113-25 et 67-50)",null,111.71807315521438,112,"[Grilles TSNC 2024-2025_Finaux_Vf.xlsx]Feuille de calcul'!AZ58",111.51408229816327,112,105.6617776498888,106,104.2478752247475,104,"[Grilles TSNC 2023-2024_Consultation.xlsx]Feuille de calcul'!$CE58",97.135775357004817,97,"[Grilles TSNC 2022-2023_Officielle.xlsx]Feuille de calcul'!$AP$40",93.180383873460912,93,88.833406330781301,89,86.565304329734289,87,82.011779601611536,82]
["Régénération artificielle","Plantation uniforme et regarni manuel et plantation d'enrichissement sauf PEH","Gabarit 67-50",null,null,"Variable","Millier de plants","Gabarit 67-50","Régérération artificielle - Petite Taille (113-25 et 67-50)",null,112.17630965186594,112,"[Grilles TSNC 2024-2025_Finaux_Vf.xlsx]Feuille de calcul'!AZ59",111.97148208099544,112,106.09517290504139,106,107.5759139996197,108,"[Grilles TSNC 2023-2024_Consultation.xlsx]Feuille de calcul'!$CE59",103.01364871956926,103,"[Grilles TSNC 2022-2023_Officielle.xlsx]Feuille de calcul'!$AP$41",98.818908858414858,99,94.208887309426814,94,91.803538075972028,92,86.974470772450658,87]
["Régénération artificielle","Plantation uniforme et regarni manuel et plantation d'enrichissement sauf PEH","Gabarit 45-110",null,null,"Variable","Millier de plants","Gabarit 45-110","Régérération artificielle - moyenne Taille (45-110 et 25-200)",null,203.62731394185798,204,"[Grilles TSNC 2024-2025_Finaux_Vf.xlsx]Feuille de calcul'!AZ60",203.24401575848921,203,192.88989133512689,193,189.55657659474554,190,"[Grilles TSNC 2023-2024_Consultation.xlsx]Feuille de calcul'!$CE60",175.90432847502976,176,"[Grilles TSNC 2022-2023_Officielle.xlsx]Feuille de calcul'!$AP$42",168.74146309189501,169,160.86946986663119,161,156.76213703338095,157,148.51610505853952,149]
["Régénération artificielle","Plantation uniforme et regarni manuel et plantation d'enrichissement sauf PEH","Gabarit 25-200",null,null,"Variable","Millier de plants","Gabarit 25-200","Régérération artificielle - moyenne Taille (45-110 et 25-200)",null,335.74106454899322,336,"[Grilles TSNC 2024-2025_Finaux_Vf.xlsx]Feuille de calcul'!AZ61",335.10908184670865,335,318.0371837350192,318,322.54444352653002,323,"[Grilles TSNC 2023-2024_Consultation.xlsx]Feuille de calcul'!$CE61",308.92923728167648,309,"[Grilles TSNC 2022-2023_Officielle.xlsx]Feuille de calcul'!$AP$43",296.34956650980428,296,282.52450100942633,283,275.31106169023354,275,260.82909646133527,261]
["Régénération artificielle","Plantation uniforme et regarni manuel et plantation d'enrichissement sauf PEH","Gabarit PFD récipient",null,null,"Variable","Millier de plants","Gabarit PFD récipient","Régérération artificielle - Grande Taille (PFDR et PFDRN)",null,379.54001358163691,380,"[Grilles TSNC 2024-2025_Finaux_Vf.xlsx]Feuille de calcul'!AZ62",378.84245616676048,379,360.22473330433866,360,367.43959152902505,367,"[Grilles TSNC 2023-2024_Consultation.xlsx]Feuille de calcul'!$CE62",353.89423822705925,354,"[Grilles TSNC 2022-2023_Officielle.xlsx]Feuille de calcul'!$AP$44",339.48358210356719,339,323.64626263602054,324,315.38289904076703,315,298.7930673440062,299]
["Régénération artificielle","Plantation uniforme et regarni manuel et plantation d'enrichissement sauf PEH","Gabarit PFD racine nue",null,null,"Variable","Millier de plants","Gabarit PFD racine nue","Régérération artificielle - Grande Taille (PFDR et PFDRN)",null,404.97463281450462,405,"[Grilles TSNC 2024-2025_Finaux_Vf.xlsx]Feuille de calcul'!AZ63",404.23032905772601,404,384.36495199536853,384,412.11572139288154,412,"[Grilles TSNC 2023-2024_Consultation.xlsx]Feuille de calcul'!$CE63",415.49277416085027,415,"[Grilles TSNC 2022-2023_Officielle.xlsx]Feuille de calcul'!$AP$45",398.57381125197651,399,379.97986116731681,380,370.27818339688412,370,350.80073943203996,351]
["Régénération artificielle","Plantation uniforme et regarni manuel et plantation d'enrichissement sauf PEH",null,"Plantation - Gabarit 113-25",null,"Variable","Millier de plants","Gabarit 113-25","Régérération artificielle - Petite Taille (113-25 et 67-50)",null,320.69921379747217,321,"[Grilles TSNC 2024-2025_Finaux_Vf.xlsx]Feuille de calcul'!AZ64",320.11363524576126,320,303.31394074156623,303,297.11122800958196,297,"[Grilles TSNC 2023-2024_Consultation.xlsx]Feuille de calcul'!$CE64",332.51856273718158,333,"[Grilles TSNC 2022-2023_Officielle.xlsx]Feuille de calcul'!$AP$46",244.07726882675334,244,232.69076919922114,233,226.74968891146631,227,214.82215831999994,215]
["Régénération artificielle","Plantation uniforme et regarni manuel et plantation d'enrichissement sauf PEH",null,"Plantation - Gabarit 67-50",null,"Variable","Millier de plants","Gabarit 67-50","Régérération artificielle - Petite Taille (113-25 et 67-50)",null,319.66573170872817,320,"[Grilles TSNC 2024-2025_Finaux_Vf.xlsx]Feuille de calcul'!AZ65",319.08204023661932,319,302.33648426042646,302,305.70907995838132,306,"[Grilles TSNC 2023-2024_Consultation.xlsx]Feuille de calcul'!$CE65",343.26154809507614,343,"[Grilles TSNC 2022-2023_Officielle.xlsx]Feuille de calcul'!$AP$47",261.58514981669026,262,249.38188637772629,249,243.01464708249952,243,230.23154404422962,230]
["Régénération artificielle","Plantation uniforme et regarni manuel et plantation d'enrichissement sauf PEH",null,"Plantation - Gabarit 45-110",null,"Variable","Millier de plants","Gabarit 45-110","Régérération artificielle - moyenne Taille (45-110 et 25-200)",null,409.83458225988431,410,"[Grilles TSNC 2024-2025_Finaux_Vf.xlsx]Feuille de calcul'!AZ66",409.06312951211214,409,388.22369409664913,388,385.23727077469255,385,"[Grilles TSNC 2023-2024_Consultation.xlsx]Feuille de calcul'!$CE66",422.16658562084842,422,"[Grilles TSNC 2022-2023_Officielle.xlsx]Feuille de calcul'!$AP$48",326.38280763636175,326,311.15665513372034,311,303.21217724755218,303,287.26255219101068,287]
["Régénération artificielle","Plantation uniforme et regarni manuel et plantation d'enrichissement sauf PEH",null,"Plantation - Gabarit 25-200",null,"Variable","Millier de plants","Gabarit 25-200","Régérération artificielle - moyenne Taille (45-110 et 25-200)",null,550.28195883693218,550,"[Grilles TSNC 2024-2025_Finaux_Vf.xlsx]Feuille de calcul'!AZ67",549.24613475675483,549,521.26517405245556,521,520.88320223332084,521,"[Grilles TSNC 2023-2024_Consultation.xlsx]Feuille de calcul'!$CE67",564.81337090236411,565,"[Grilles TSNC 2022-2023_Officielle.xlsx]Feuille de calcul'!$AP$49",453.05577171588686,453,431.92017231864872,432,420.89235015588378,421,398.7524900912527,399]
["Régénération artificielle","Plantation uniforme et regarni manuel et plantation d'enrichissement sauf PEH",null,"Plantation - Gabarit PFD récipient",null,"Variable","Millier de plants","Gabarit PFD récipient","Régérération artificielle - Grande Taille (PFDR et PFDRN)",null,586.12886801455079,586,"[Grilles TSNC 2024-2025_Finaux_Vf.xlsx]Feuille de calcul'!AZ68",585.05162049564399,585,556.30001477327994,556,563.66668359912114,564,"[Grilles TSNC 2023-2024_Consultation.xlsx]Feuille de calcul'!$CE68",608.49921087767541,608,"[Grilles TSNC 2022-2023_Officielle.xlsx]Feuille de calcul'!$AP$50",504.40626719953673,504,480.87510511631496,481,468.59736149240445,469,443.94811327904358,444]
["Régénération artificielle","Plantation uniforme et regarni manuel et plantation d'enrichissement sauf PEH",null,"Plantation - Gabarit PFD racine nue",null,"Variable","Millier de plants","Gabarit PFD racine nue","Régérération artificielle - Grande Taille (PFDR et PFDRN)",null,597.20323251739762,597,"[Grilles TSNC 2024-2025_Finaux_Vf.xlsx]Feuille de calcul'!AZ69",596.10563139993053,596,566.81079059875151,567,594.59816637739709,595,"[Grilles TSNC 2023-2024_Consultation.xlsx]Feuille de calcul'!$CE69",705.21598933235214,705,"[Grilles TSNC 2022-2023_Officielle.xlsx]Feuille de calcul'!$AP$51",555.24660966501062,555,529.34368415076801,529,515.82843669089505,516,488.69473040836436,489]
["Régénération artificielle","Plantation uniforme et regarni manuel et plantation d'enrichissement sauf PEH",null,"Regarni - Gabarit 113-25",null,"Variable","Millier de plants","Gabarit 113-25","Régérération artificielle - Petite Taille (113-25 et 67-50)",null,362.1743772934733,362,"[Grilles TSNC 2024-2025_Finaux_Vf.xlsx]Feuille de calcul'!AZ70",361.51306744861586,362,342.54071381004456,343,336.44937583905084,336,"[Grilles TSNC 2023-2024_Consultation.xlsx]Feuille de calcul'!$CE70",400.34101490009397,400,"[Grilles TSNC 2022-2023_Officielle.xlsx]Feuille de calcul'!$AP$52",379.10243220524399,379,361.41684548981112,361,352.18912019674764,352,333.66320060102771,334]
["Régénération artificielle","Plantation uniforme et regarni manuel et plantation d'enrichissement sauf PEH",null,"Regarni - Gabarit 67-50",null,"Variable","Millier de plants","Gabarit 67-50","Régérération artificielle - Petite Taille (113-25 et 67-50)",null,337.0066091648369,337,"[Grilles TSNC 2024-2025_Finaux_Vf.xlsx]Feuille de calcul'!AZ71",336.39125423529106,336,318.73730362897828,319,322.15646541418261,322,"[Grilles TSNC 2023-2024_Consultation.xlsx]Feuille de calcul'!$CE71",391.95710121099967,392,"[Grilles TSNC 2022-2023_Officielle.xlsx]Feuille de calcul'!$AP$53",377.54793631601069,378,359.93486871286075,360,350.74498137549591,351,332.2950266468128,332]
["Régénération artificielle","Plantation uniforme et regarni manuel et plantation d'enrichissement sauf PEH",null,"Regarni - Gabarit 45-110",null,"Variable","Millier de plants","Gabarit 45-110","Régérération artificielle - moyenne Taille (45-110 et 25-200)",null,411.12478304757963,411,"[Grilles TSNC 2024-2025_Finaux_Vf.xlsx]Feuille de calcul'!AZ72",410.35090168839713,410,389.445861618881,389,392.38450454281474,392,"[Grilles TSNC 2023-2024_Consultation.xlsx]Feuille de calcul'!$CE72",477.73224008369715,478,"[Grilles TSNC 2022-2023_Officielle.xlsx]Feuille de calcul'!$AP$54",430.67400130947539,431,410.5825385564284,411,400.09951065330819,400,379.05339951702632,379]
["Régénération artificielle","Plantation uniforme et regarni manuel et plantation d'enrichissement sauf PEH",null,"Regarni - Gabarit 25-200",null,"Variable","Millier de plants","Gabarit 25-200","Régérération artificielle - moyenne Taille (45-110 et 25-200)",null,602.53191403430174,603,"[Grilles TSNC 2024-2025_Finaux_Vf.xlsx]Feuille de calcul'!AZ73",601.39773717167816,601,570.75994950857933,571,575.63124816973664,576,"[Grilles TSNC 2023-2024_Consultation.xlsx]Feuille de calcul'!$CE73",615.36840697453329,615,"[Grilles TSNC 2022-2023_Officielle.xlsx]Feuille de calcul'!$AP$55",559.01493010267529,559,532.93620788492922,533,519.32923580695581,519,492.01137981841293,492]
["Régénération artificielle","Plantation uniforme et regarni manuel et plantation d'enrichissement sauf PEH",null,"Regarni - Gabarit PFD récipient",null,"Variable","Millier de plants","Gabarit PFD récipient","Régérération artificielle - Grande Taille (PFDR et PFDRN)",null,703.55739378928672,704,"[Grilles TSNC 2024-2025_Finaux_Vf.xlsx]Feuille de calcul'!AZ74",702.26432412794179,702,667.7524515805186,668,675.43556215112324,675,"[Grilles TSNC 2023-2024_Consultation.xlsx]Feuille de calcul'!$CE74",761.59378728047011,762,"[Grilles TSNC 2022-2023_Officielle.xlsx]Feuille de calcul'!$AP$56",586.52375911773731,587,559.16171677419868,559,544.88515279778176,545,516.2229995660349,516]
["Régénération artificielle","Plantation uniforme et regarni manuel et plantation d'enrichissement sauf PEH",null,"Regarni - Gabarit PFD racine nue",null,"Variable","Millier de plants","Gabarit PFD racine nue","Régérération artificielle - Grande Taille (PFDR et PFDRN)",null,649.47514223924088,649,"[Grilles TSNC 2024-2025_Finaux_Vf.xlsx]Feuille de calcul'!AZ75",648.28147046542279,648,616.422515489543,616,644.35075154217532,644,"[Grilles TSNC 2023-2024_Consultation.xlsx]Feuille de calcul'!$CE75",814.92295162530559,815,"[Grilles TSNC 2022-2023_Officielle.xlsx]Feuille de calcul'!$AP$57",658.85447827979726,659,628.1181204551126,628,612.08095578089842,612,579.88415604292334,580]
["Régénération artificielle","Plantation uniforme et regarni manuel et plantation d'enrichissement sauf PEH",null,"Plantation - Tous gabarits",null,"Variable","Millier de plants","Sous-total plantation","Regénération artificielle - Général",null,423.50551340143579,424,"[Grilles TSNC 2024-2025_Finaux_Vf.xlsx]Feuille de calcul'!AZ76",422.73248493545549,423,401.14635341839249,401,406.36318463545672,406,"[Grilles TSNC 2023-2024_Consultation.xlsx]Feuille de calcul'!$CE76",456.55601905093857,457,"[Grilles TSNC 2022-2023_Officielle.xlsx]Feuille de calcul'!$AP$58",327.68690515919843,328,312.3999149307441,312,304.42369403088406,304,288.41034053632518,288]
["Régénération artificielle","Plantation uniforme et regarni manuel et plantation d'enrichissement sauf PEH",null,"Regarni - Tous gabarits",null,"Variable","Millier de plants","Sous-total regarni","Regénération artificielle - Général",null,532.14924373544511,532,"[Grilles TSNC 2024-2025_Finaux_Vf.xlsx]Feuille de calcul'!AZ77",531.17790688022114,531,504.05419019063339,504,521.67641797167607,522,"[Grilles TSNC 2023-2024_Consultation.xlsx]Feuille de calcul'!$CE77",490.81758256416668,491,"[Grilles TSNC 2022-2023_Officielle.xlsx]Feuille de calcul'!$AP$59",444.0130296337025,444,423.29928508532265,423,412.49157214038843,412,390.79361141089191,391]
["Régénération artificielle","Plantation uniforme et regarni manuel et plantation d'enrichissement sauf PEH",null,"Total",null,"Variable","Millier de plants","Total","Regénération artificielle - Général",null,444.11552603650233,444,"[Grilles TSNC 2024-2025_Finaux_Vf.xlsx]Feuille de calcul'!AZ78",443.30487792698273,443,420.66825136503661,421,428.23842022193116,428,"[Grilles TSNC 2023-2024_Consultation.xlsx]Feuille de calcul'!$CE78",465.51967011699639,466,"[Grilles TSNC 2022-2023_Officielle.xlsx]Feuille de calcul'!$AP$60",347.99175046198928,348,331.75751465598211,332,323.28705389202418,323,306.28144632698917,306]
["Éducation de peuplement","Dégagement mécanique de la régénération",null,null,null,"Variable","Hectare","Variable 1","Éducation de peuplement",null,963.58882967339014,{"$f":"ROUND(K79,2)","v":963.59},"[Grilles TSNC 2024-2025_Finaux_Vf.xlsx]Feuille de calcul'!AZ79",962.04762189875214,{"$f":"ROUND(N79,2)","v":962.05},918.368914989362,{"$f":"ROUND(P79,2)","v":918.37},979.90919212163021,{"$f":"ROUND(R79,2)","v":979.91},"[Grilles TSNC 2023-2024_Consultation.xlsx]Feuille de calcul'!$CE79",992.09051760320426,992.09,"[Grilles TSNC 2022-2023_Officielle.xlsx]Feuille de calcul'!$AP$61",949.60293853299129,{"$f":"ROUND(X79,1)","v":949.6},899.63287325193232,{"$f":"ROUND(Z79,2)","v":899.63},876.51731634788314,877,831.57789074626146,832]
["Éducation de peuplement","Dégagement mécanique de la régénération",null,null,null,"Variable","Hectare","Variable 2","Éducation de peuplement",null,13.60392779714949,{"$f":"ROUND(K80,2)","v":13.6},"[Grilles TSNC 2024-2025_Finaux_Vf.xlsx]Feuille de calcul'!AZ80",13.582169056656735,{"$f":"ROUND(N80,2)","v":13.58},12.96551394737158,{"$f":"ROUND(P80,2)","v":12.97},13.834338347305437,{"$f":"ROUND(R80,2)","v":13.83},"[Grilles TSNC 2023-2024_Consultation.xlsx]Feuille de calcul'!$CE80",14.006314056468732,14.01,"[Grilles TSNC 2022-2023_Officielle.xlsx]Feuille de calcul'!$AP$62",13.406475266159415,{"$f":"ROUND(X80,2)","v":13.41},12.700998885395652,{"$f":"ROUND(Z80,2)","v":12.7},12.374653916016779,{"$f":"ROUND(AB80,2)","v":12.37},11.740200005486235,11.74]
["Éducation de peuplement","Dégagement mécanique de la régénération",null,null,null,"Variable","Hectare","Variable 3","Éducation de peuplement",null,4.7160283030118211E-3,{"$f":"ROUND(K81,4)","v":4.7000000000000002E-3},"[Grilles TSNC 2024-2025_Finaux_Vf.xlsx]Feuille de calcul'!AZ81",4.7084852729743325E-3,{"$f":"ROUND(N81,4)","v":4.7000000000000002E-3},4.4947115017554794E-3,{"$f":"ROUND(P81,4)","v":4.4999999999999997E-3},4.7959039603992157E-3,{"$f":"ROUND(R81,4)","v":4.7999999999999996E-3},"[Grilles TSNC 2023-2024_Consultation.xlsx]Feuille de calcul'!$CE81",4.855522206242492E-3,4.8999999999999998E-3,"[Grilles TSNC 2022-2023_Officielle.xlsx]Feuille de calcul'!$AP$63",4.6475780922685958E-3,{"$f":"ROUND(X81,4)","v":4.5999999999999999E-3},4.4030129469371576E-3,{"$f":"ROUND(Z81,4)","v":4.4000000000000003E-3},4.2898800242191486E-3,{"$f":"ROUND(AB81,4)","v":4.3E-3},4.0699360019018941E-3,4.1000000000000003E-3]
["Éducation de peuplement","Dégagement mécanique de la régénération",null,null,null,"Variable","Hectare","Variable 4","Éducation de peuplement",null,157.35209818702901,{"$f":"ROUND(K82,2)","v":157.35},"[Grilles TSNC 2024-2025_Finaux_Vf.xlsx]Feuille de calcul'!AZ82",157.10042208866281,{"$f":"ROUND(N82,2)","v":157.1},149.96777799126454,{"$f":"ROUND(P82,2)","v":149.97},160.01718021716613,{"$f":"ROUND(R82,2)","v":160.02000000000001},"[Grilles TSNC 2023-2024_Consultation.xlsx]Feuille de calcul'!$CE82",162.0063659198216,162.01,"[Grilles TSNC 2022-2023_Officielle.xlsx]Feuille de calcul'!$AP$64",155.06823057857719,{"$f":"ROUND(X82,2)","v":155.07},146.90822044107631,{"$f":"ROUND(Z82,2)","v":146.91},143.13349696192736,{"$f":"ROUND(AB82,2)","v":143.13},135.79498006345742,135.79]
["Éducation de peuplement","Nettoiement d’un peuplement résineux ou mixte à dominance de résineux (MR-FI) ","Nettoiement de base","Peuplements en régénérés naturellement (avec ou sans regarni) OU plantation uniforme (avec ou sans regarni) ET gradient d'intensité de la sylviculture de base ET Nettoiement résineux","2020-2021 : Équation de Gaulis I 2019-2020 récupérée pour ce traitement : Secteur d'intervention sans choix de tige, soit inter spécifique (par groupe d'essence, résineux / feuillus) et sans espacement ","Variable","Hectare","Variable 1","Éducation de peuplement",null,1073.559144433734,{"$f":"ROUND(K83,2)","v":1073.56},"[Grilles TSNC 2024-2025_Finaux_Vf.xlsx]Feuille de calcul'!AZ83",1071.8420451389075,{"$f":"ROUND(N83,2)","v":1071.8399999999999},1023.1784722791942,{"$f":"ROUND(P83,2)","v":1023.18},1052.3664721287264,{"$f":"ROUND(R83,2)","v":1052.3699999999999},"[Grilles TSNC 2023-2024_Consultation.xlsx]Feuille de calcul'!$CE83",1030.2947647471317,1030.29,"[Grilles TSNC 2022-2023_Officielle.xlsx]Feuille de calcul'!$AP$65",986.17103862930151,{"$f":"ROUND(X83,2)","v":986.17},934.27668449564078,{"$f":"ROUND(Z83,2)","v":934.28},910.27097449249197,{"$f":"ROUND(AB83,2)","v":910.27},805.55546874992081,{"$f":"ROUND(AD83,2)","v":805.56}]
["Éducation de peuplement","Nettoiement d’un peuplement résineux ou mixte à dominance de résineux (MR-FI) ","Nettoiement de base","Peuplements en régénérés naturellement (avec ou sans regarni) OU plantation uniforme (avec ou sans regarni) ET gradient d'intensité de la sylviculture de base ET Nettoiement résineux",null,"Variable","Hectare","Variable 2","Éducation de peuplement",null,1.1886187111896913E-2,{"$f":"ROUND(K84,4)","v":1.1900000000000001E-2},"[Grilles TSNC 2024-2025_Finaux_Vf.xlsx]Feuille de calcul'!AZ84",1.1867175803936996E-2,{"$f":"ROUND(N84,4)","v":1.1900000000000001E-2},1.1328384498825363E-2,{"$f":"ROUND(P84,4)","v":1.1299999999999999E-2},1.1651546971458909E-2,{"$f":"ROUND(R84,4)","v":1.17E-2},"[Grilles TSNC 2023-2024_Consultation.xlsx]Feuille de calcul'!$CE84",1.1407174367325346E-2,1.14E-2,"[Grilles TSNC 2022-2023_Officielle.xlsx]Feuille de calcul'!$AP$66",1.0918647146976197E-2,{"$f":"ROUND(X84,4)","v":1.09E-2},1.0344085413249745E-2,{"$f":"ROUND(Z84,4)","v":1.03E-2},1.00783E-2,{"$f":"ROUND(AB84,4)","v":1.01E-2},1.0324409957852384E-2,{"$f":"ROUND(AD84,4)","v":1.03E-2}]
["Éducation de peuplement","Nettoiement d’un peuplement résineux ou mixte à dominance de résineux (MR-FI) ","Nettoiement de base","Peuplements en régénérés naturellement (avec ou sans regarni) OU plantation uniforme (avec ou sans regarni) ET gradient d'intensité de la sylviculture de base ET Nettoiement résineux",null,"Variable","Hectare","Variable 3","Éducation de peuplement",null,-440.2709876772808,{"$f":"ROUND(K85,2)","v":-440.27},"[Grilles TSNC 2024-2025_Finaux_Vf.xlsx]Feuille de calcul'!AZ85",-439.56679824683067,{"$f":"ROUND(N85,2)","v":-439.57},-419.60966835982083,{"$f":"ROUND(P85,2)","v":-419.61},-431.57978625104892,{"$f":"ROUND(R85,2)","v":-431.58},"[Grilles TSNC 2023-2024_Consultation.xlsx]Feuille de calcul'!$CE85",-422.52808895146109,-422.53,"[Grilles TSNC 2022-2023_Officielle.xlsx]Feuille de calcul'!$AP$67",-404.43276874612138,{"$f":"ROUND(X85,2)","v":-404.43},-383.15068226978411,{"$f":"ROUND(Z85,2)","v":-383.15},-373.30584260000001,{"$f":"ROUND(AB85,2)","v":-373.31},-196.88014280634434,{"$f":"ROUND(AD85,2)","v":-196.88}]
["Éducation de peuplement","Nettoiement d’un peuplement résineux ou mixte à dominance de résineux (MR-FI) ","Nettoiement base spécifique","Peuplements en régénérés naturellement (avec ou sans regarni) OU plantation uniforme (avec ou sans regarni) ET gradient d'intensité de la sylviculture de base ET Nettoiement spécifiquerésineux","Variable supplémentaire pour traduire les différente modalités  ","Variable","Hectare","Variable 4","Aucune indexation / constante calculé",null,1.1678238506263332,1.1678238506263332,"[Grilles TSNC 2024-2025_Finaux_Vf.xlsx]Feuille de calcul'!AZ86",1.1678238506263332,1.1678238506263332,1.1678238506263332,1.1678238506263332,1.1678238506263332,1.1678238506263332,"[Grilles TSNC 2023-2024_Consultation.xlsx]Feuille de calcul'!$CE86",1.1678238506263332,1.17,"[Grilles TSNC 2022-2023_Officielle.xlsx]Feuille de calcul'!$AP$68",1.1678238506263332,1.17]
["Éducation de peuplement","Nettoiement d’un peuplement résineux ou mixte à dominance de résineux (MR-FI) ","Nettoiement intensif/Élite","Plantation uniforme (avec ou sans regarni) ET gradient d'intensité de la sylviculture de intensif/élite","Variable supplémentaire pour traduire les différente modalités  ","Variable","Hectare","Variable 4","Éducation de peuplement",null,1.3010568294429308,1.24,"[Grilles TSNC 2024-2025_Finaux_Vf.xlsx]Feuille de calcul'!AZ87",1.2989758600096686,1.24,1.24,1.24,1.24,1.24,"[Grilles TSNC 2023-2024_Consultation.xlsx]Feuille de calcul'!$CE87"]
["Éducation de peuplement","Nettoiement d’un peuplement résineux ou mixte à dominance de résineux (MR-FI) ","Nettoiement intensif/Élite","Plantation uniforme (avec ou sans regarni) ET gradient d'intensité de la sylviculture de intensif/élite","2020-2021 : Équation de Gaulis I 2019-2020 récupérée pour ce traitement : Secteur d'intervention sans choix de tige, soit inter spécifique (par groupe d'essence, résineux / feuillus) et sans espacement ","Variable","Hectare","Variable 1","Éducation de peuplement",null,697.38079726706474,{"$f":"ROUND(K88,2)","v":697.38},"[Grilles TSNC 2024-2025_Finaux_Vf.xlsx]Feuille de calcul'!AZ88",696.26537472008943,{"$f":"ROUND(N88,2)","v":696.27},664.6536638844733,{"$f":"ROUND(P88,2)","v":664.65},653.47998923419925,{"$f":"ROUND(R88,2)","v":653.48},"[Grilles TSNC 2023-2024_Consultation.xlsx]Feuille de calcul'!$CE88"]
["Éducation de peuplement","Nettoiement d’un peuplement résineux ou mixte à dominance de résineux (MR-FI) ","Nettoiement intensif/Élite","Plantation uniforme (avec ou sans regarni) ET gradient d'intensité de la sylviculture de intensif/élite",null,"Variable","Hectare","Variable 2","Éducation de peuplement",null,5.5711160098900363E-2,{"$f":"ROUND(K89,4)","v":5.57E-2},"[Grilles TSNC 2024-2025_Finaux_Vf.xlsx]Feuille de calcul'!AZ89",5.5622053137056864E-2,{"$f":"ROUND(N89,4)","v":5.5599999999999997E-2},5.3096711042372367E-2,{"$f":"ROUND(P89,4)","v":5.3100000000000001E-2},5.2204087701187854E-2,{"$f":"ROUND(R89,4)","v":5.2200000000000003E-2},"[Grilles TSNC 2023-2024_Consultation.xlsx]Feuille de calcul'!$CE89"]
["Éducation de peuplement","Nettoiement d’un peuplement résineux ou mixte à dominance de résineux (MR-FI) ","Nettoiement intensif/Élite","Plantation uniforme (avec ou sans regarni) ET gradient d'intensité de la sylviculture de intensif/élite",null,"Variable","Hectare","Variable 3","Éducation de peuplement",null,-82.405316281299605,{"$f":"ROUND(K90,2)","v":-82.41},"[Grilles TSNC 2024-2025_Finaux_Vf.xlsx]Feuille de calcul'!AZ90",-82.273513472660468,{"$f":"ROUND(N90,2)","v":-82.27},-78.538146740725139,{"$f":"ROUND(P90,2)","v":-78.540000000000006},-77.217820461038997,{"$f":"ROUND(R90,2)","v":-77.22},"[Grilles TSNC 2023-2024_Consultation.xlsx]Feuille de calcul'!$CE90"]
["Éducation de peuplement","Éclaircie précommerciale systématique d’un peuplement résineux ou de peuplier",null,null,"2020-2021: Équation de Gaulis II 2019-2020 récupérée : équation originale EPC","Variable","Hectare","Variable 0","Éducation de peuplement",null,177.09788213168576,177.1,"[Grilles TSNC 2024-2025_Finaux_Vf.xlsx]Feuille de calcul'!AZ91",176.81462372892304,176.81,168.7869191212165,168.79,177.26564330397906,177.27,"[Grilles TSNC 2023-2024_Consultation.xlsx]Feuille de calcul'!$CE91",176.94111055989808,176.94,"[Grilles TSNC 2022-2023_Officielle.xlsx]Feuille de calcul'!$AP$69",169.36337516953546,{"$f":"ROUND(X91,2)","v":169.36},160.45112503842643,{"$f":"ROUND(Z91,2)","v":160.44999999999999}]
["Éducation de peuplement","Éclaircie précommerciale systématique d’un peuplement résineux ou de peuplier",null,null,"2020-2021: Équation de Gaulis II 2019-2020 récupérée : équation originale EPC","Variable","Hectare","Variable 1","Éducation de peuplement",null,714.01558182296912,714.02,"[Grilles TSNC 2024-2025_Finaux_Vf.xlsx]Feuille de calcul'!AZ92",712.87355284543185,712.87,680.50780060051,680.51,714.69195406187157,714.69,"[Grilles TSNC 2023-2024_Consultation.xlsx]Feuille de calcul'!$CE92",713.38351698009285,713.38,"[Grilles TSNC 2022-2023_Officielle.xlsx]Feuille de calcul'!$AP$70",682.83193116481448,682.83,646.8999065345937,646.9]
["Éducation de peuplement","Éclaircie précommerciale systématique d’un peuplement résineux ou de peuplier",null,null,"2020-2021: Équation de Gaulis II 2019-2020 récupérée : équation originale EPC","Variable","Hectare","Variable 2","Éducation de peuplement",null,5771.3885834762841,5771.39,"[Grilles TSNC 2024-2025_Finaux_Vf.xlsx]Feuille de calcul'!AZ93",5762.1575622342407,5762.16,5500.5451580272447,5500.55,5776.8557008854241,5776.86,"[Grilles TSNC 2023-2024_Consultation.xlsx]Feuille de calcul'!$CE93",5766.2796027886643,5766.28,"[Grilles TSNC 2022-2023_Officielle.xlsx]Feuille de calcul'!$AP$71",5519.3311074474077,5519.33,5228.8925203754234,5228.8900000000003]
["Éducation de peuplement","Gaulis III","Secteur d'intervention avec un choix de tige intraspécifique (par essence) sans  espacement (peuplement naturel et plantation) OU avec un espacement d'une plantation avec un coefficient de distribution < 75 % OU Secteur d'intervention sans choix de tige, soit interspécifique (par groupe d'essence, résineux / feuillus) et sans espacement d'une plantation avec SRLC < 20% et DI > 20 000",null,null,"Variable","Hectare","Variable 0","Éducation de peuplement",null,194.89030471708276,194.89,"[Grilles TSNC 2024-2025_Finaux_Vf.xlsx]Feuille de calcul'!AZ94",194.57858830487265,194.58,185.7443674867416,185.74,185.7443674867416,185.74,"[Grilles TSNC 2023-2024_Consultation.xlsx]Feuille de calcul'!$CE94",176.94111055989808,176.94,"[Grilles TSNC 2022-2023_Officielle.xlsx]Feuille de calcul'!$AP$72",169.36337516953546,169.36,160.45112503842643,160.44999999999999,156.32842429969318,{"$f":"ROUND(AB94,2)","v":156.33000000000001}]
["Éducation de peuplement","Gaulis III","Secteur d'intervention avec un choix de tige intraspécifique (par essence) sans  espacement (peuplement naturel et plantation) OU avec un espacement d'une plantation avec un coefficient de distribution < 75 % OU Secteur d'intervention sans choix de tige, soit interspécifique (par groupe d'essence, résineux / feuillus) et sans espacement d'une plantation avec SRLC < 20% et DI > 20 000",null,null,"Variable","Hectare","Variable 1","Éducation de peuplement",null,598.08508800745699,598.09,"[Grilles TSNC 2024-2025_Finaux_Vf.xlsx]Feuille de calcul'!AZ95",597.12848353141237,597.13,570.01776736131194,570.02,570.01776736131194,570.02,"[Grilles TSNC 2023-2024_Consultation.xlsx]Feuille de calcul'!$CE95",543.00207408972176,543,"[Grilles TSNC 2022-2023_Officielle.xlsx]Feuille de calcul'!$AP$73",519.74729728375689,519.75,492.39712246748451,492.4,479.74525742097478,{"$f":"ROUND(AB95,2)","v":479.75}]
["Éducation de peuplement","Gaulis III","Secteur d'intervention avec un choix de tige intraspécifique (par essence) sans  espacement (peuplement naturel et plantation) OU avec un espacement d'une plantation avec un coefficient de distribution < 75 % OU Secteur d'intervention sans choix de tige, soit interspécifique (par groupe d'essence, résineux / feuillus) et sans espacement d'une plantation avec SRLC < 20% et DI > 20 000",null,null,"Variable","Hectare","Variable 2","Éducation de peuplement",null,4647.1266793185951,4647.13,"[Grilles TSNC 2024-2025_Finaux_Vf.xlsx]Feuille de calcul'!AZ96",4639.6938536700027,4639.6899999999996,4429.0433376552364,4429.04,4429.0433376552364,4429.04,"[Grilles TSNC 2023-2024_Consultation.xlsx]Feuille de calcul'!$CE96",4219.1311504429559,4219.13,"[Grilles TSNC 2022-2023_Officielle.xlsx]Feuille de calcul'!$AP$74",4038.4413190401519,4038.44,3825.930207124346,3825.93,3727.6250984036942,{"$f":"ROUND(AB96,2)","v":3727.63}]
["Éducation de peuplement","Éclaircie précommerciale par puits de lumière ET taille de formation avec martelage",null,null,null,"Variable","Hectare","Variable 1","Éducation de peuplement",null,0.58738115873754826,{"$f":"ROUND(K97,3)","v":0.58699999999999997},"[Grilles TSNC 2024-2025_Finaux_Vf.xlsx]Feuille de calcul'!AZ97",0.58644167461253094,{"$f":"ROUND(N97,3)","v":0.58599999999999997},0.5598161589501176,{"$f":"ROUND(P97,3)","v":0.56000000000000005},0.5598161589501176,{"$f":"ROUND(R97,3)","v":0.56000000000000005},"[Grilles TSNC 2023-2024_Consultation.xlsx]Feuille de calcul'!$CE97",0.5332839655613284,0.53300000000000003,"[Grilles TSNC 2022-2023_Officielle.xlsx]Feuille de calcul'!$AP$75",0.51044537951335056,{"$f":"ROUND(X97,3)","v":0.51},0.48358469079633587,{"$f":"ROUND(Z97,3)","v":0.48399999999999999},0.47115925618807941,{"$f":"ROUND(AB97,3)","v":0.47099999999999997},0.4470027153587412,0.44700000000000001]
["Éducation de peuplement","Éclaircie précommerciale par puits de lumière ET taille de formation avec martelage",null,null,"Constante formule  = 0,1452","Variable","Hectare",null,"Aucune indexation / constante calculé",null,0.1452,0.1452,"[Grilles TSNC 2024-2025_Finaux_Vf.xlsx]Feuille de calcul'!AZ98",0.1452,0.1452,0.1452,0.1452,0.1452,0.1452,"[Grilles TSNC 2023-2024_Consultation.xlsx]Feuille de calcul'!$CE98",0.1452,0.1452,"[Grilles TSNC 2022-2023_Officielle.xlsx]Feuille de calcul'!$AP$76",null,0.1452,null,0.1452,null,0.1452,null,0.1452]
["Éducation de peuplement","Éclaircie précommerciale par puits de lumière ET taille de formation avec martelage",null,null,null,"Variable","Hectare","Variable 3 (martelage)","Martelage",null,48.515730676317936,{"$f":"ROUND(K99,0)","v":49},"[Grilles TSNC 2024-2025_Finaux_Vf.xlsx]Feuille de calcul'!AZ99",48.453834023252043,{"$f":"ROUND(N99,0)","v":48},46.068462230531416,{"$f":"ROUND(P99,0)","v":46},46.068462230531416,{"$f":"ROUND(R99,0)","v":46},"[Grilles TSNC 2023-2024_Consultation.xlsx]Feuille de calcul'!$CE99",43.683007392256016,44,"[Grilles TSNC 2022-2023_Officielle.xlsx]Feuille de calcul'!$AP$77",41.98544575534099,{"$f":"ROUND(X99,0)","v":42},40.048426265183167,{"$f":"ROUND(Z99,0)","v":40},39.026765685001251,{"$f":"ROUND(AB99,0)","v":39},36.962312737252468,37]
["Éducation de peuplement","Éclaircie précommerciale par puits de lumière ET taille de formation avec martelage",null,null,null,"Variable","Hectare","Variable 4 (martelage)","Aucune indexation / constante calculé",null,0.12044119448726137,{"$f":"ROUND(K100,4)","v":0.12039999999999999},"[Grilles TSNC 2024-2025_Finaux_Vf.xlsx]Feuille de calcul'!AZ100",0.12044119448726137,{"$f":"ROUND(N100,4)","v":0.12039999999999999},0.12044119448726137,{"$f":"ROUND(P100,4)","v":0.12039999999999999},0.12044119448726137,{"$f":"ROUND(R100,4)","v":0.12039999999999999},"[Grilles TSNC 2023-2024_Consultation.xlsx]Feuille de calcul'!$CE100",0.12044119448726137,0.12039999999999999,"[Grilles TSNC 2022-2023_Officielle.xlsx]Feuille de calcul'!$AP$78",0.12044119448726137,{"$f":"ROUND(X100,4)","v":0.12039999999999999},0.12036897310339933,{"$f":"ROUND(Z100,4)","v":0.12039999999999999},0.12036897310339933,{"$f":"ROUND(AB100,4)","v":0.12039999999999999},0.12036897310339933,0.12039999999999999]
["Éducation de peuplement","Éclaircie précommerciale par puits de lumière ET taille de formation avec martelage",null,null,null,"Variable","Hectare","Variable 5 (martelage)","Aucune indexation / constante calculé",null,98.691358144858413,{"$f":"ROUND(K101,2)","v":98.69},"[Grilles TSNC 2024-2025_Finaux_Vf.xlsx]Feuille de calcul'!AZ101",98.691358144858413,{"$f":"ROUND(N101,2)","v":98.69},98.691358144858413,{"$f":"ROUND(P101,2)","v":98.69},98.691358144858413,{"$f":"ROUND(R101,2)","v":98.69},"[Grilles TSNC 2023-2024_Consultation.xlsx]Feuille de calcul'!$CE101",98.691358144858413,98.69,"[Grilles TSNC 2022-2023_Officielle.xlsx]Feuille de calcul'!$AP$79",98.691358144858413,{"$f":"ROUND(X101,2)","v":98.69},98.632178837555884,{"$f":"ROUND(Z101,2)","v":98.63},98.632178837555884,{"$f":"ROUND(AB101,2)","v":98.63},98.632178837555884,98.63]
["Éducation de peuplement","Éclaircie précommerciale par puits de lumière ET taille de formation avec martelage",null,null,null,"Variable","Hectare","Variable 6 (taille)","Éducation de peuplement",null,56.387840450490891,56.39,"[Grilles TSNC 2024-2025_Finaux_Vf.xlsx]Feuille de calcul'!AZ102",56.297651175334181,56.3,53.741635704373124,53.74,53.741635704373124,53.74,"[Grilles TSNC 2023-2024_Consultation.xlsx]Feuille de calcul'!$CE102",51.194579052395817,51.19,"[Grilles TSNC 2022-2023_Officielle.xlsx]Feuille de calcul'!$AP$80",49.002103983981847,49,46.423512200376344,46.42,45.230686360125937,45.23,42.911689317306049,42.91]
["Éducation de peuplement","Éclaircie précommerciale par puits de lumière ET taille de formation avec martelage",null,null,null,"Variable","Hectare","Variable 7 (constante totale)","Éducation de peuplement",null,1027.9581905723742,1027.96,"[Grilles TSNC 2024-2025_Finaux_Vf.xlsx]Feuille de calcul'!AZ103",1026.3140275159697,1026.31,979.71750923094908,979.72,979.71750923094908,979.72,"[Grilles TSNC 2023-2024_Consultation.xlsx]Feuille de calcul'!$CE103",933.28431146465425,933.28,"[Grilles TSNC 2022-2023_Officielle.xlsx]Feuille de calcul'!$AP$81",893.31518538718547,893.32,846.30709777604102,846.31,824.56171645596066,824.56,782.28607715083695,782.29]
["Éducation de peuplement","Éclaircie précommerciale par puits de lumière ET taille de formation avec martelage",null,null,"Pas utilisé dans la formule\nVariable 7 = Variable 8 + Variable 9","Variable","Hectare","Variable 8 (constante exécution)","Éducation de peuplement",null,811.72540302522816,811.73,"[Grilles TSNC 2024-2025_Finaux_Vf.xlsx]Feuille de calcul'!AZ104",810.42709251820645,810.43,773.63223263833106,773.63,773.63223263833106,773.63,"[Grilles TSNC 2023-2024_Consultation.xlsx]Feuille de calcul'!$CE104",736.96633852292041,736.97,"[Grilles TSNC 2022-2023_Officielle.xlsx]Feuille de calcul'!$AP$82",705.40478740989852,705.4,668.28493252518285,668.28,668.28493252518285,668.28,634.07461687078694,634.07000000000005]
["Éducation de peuplement","Éclaircie précommerciale par puits de lumière ET taille de formation avec martelage",null,null,"Pas utilisé dans la formule\nVariable 7 = Variable 8 + Variable 9","Variable","Hectare","Variable 9 (constante martelage et taille)","Éducation de peuplement",null,189.81998432968848,189.82,"[Grilles TSNC 2024-2025_Finaux_Vf.xlsx]Feuille de calcul'!AZ105",189.51637761838015,189.52,180.91199034679693,180.91,180.91199034679693,180.91,"[Grilles TSNC 2023-2024_Consultation.xlsx]Feuille de calcul'!$CE105",172.33776140129112,172.34,"[Grilles TSNC 2022-2023_Officielle.xlsx]Feuille de calcul'!$AP$83",164.9571704830243,164.96,156.27678393077784,156.28,156.27678393077784,156.28,148.21146028005001,148.21]
["Éducation de peuplement","Éclaircie précommerciale par puits de lumière ET taille de formation avec martelage",null,null,"Pas utilisé dans la formule","Variable","Hectare","Variable 10 (constante martelage)","Martelage",null,40.429775563598263,40.43,"[Grilles TSNC 2024-2025_Finaux_Vf.xlsx]Feuille de calcul'!AZ106",40.37819501937669,40.380000000000003,38.390385192109498,38.39,38.390385192109498,38.39,"[Grilles TSNC 2023-2024_Consultation.xlsx]Feuille de calcul'!$CE106",36.402506160213335,36.4,"[Grilles TSNC 2022-2023_Officielle.xlsx]Feuille de calcul'!$AP$84",34.987871462784149,34.99,33.373688554319301,33.369999999999997,32.522304737501038,32.520000000000003,30.801927281043721,30.8]
["Éducation de peuplement","Éclaircie précommerciale par puits de lumière ET taille de formation avec martelage",null,null,null,"Variable","Hectare","Variable 11 (constante taille)","Éducation de peuplement",null,154.28127205993289,154.28,"[Grilles TSNC 2024-2025_Finaux_Vf.xlsx]Feuille de calcul'!AZ107",154.03450758046046,154.03,147.04106156241372,147.04,147.04106156241372,147.04,"[Grilles TSNC 2023-2024_Consultation.xlsx]Feuille de calcul'!$CE107",140.07212753095709,140.07,"[Grilles TSNC 2022-2023_Officielle.xlsx]Feuille de calcul'!$AP$85",134.07335474923318,134.07,127.01813828200127,127.02,123.75447919327679,123.75,117.40953299900629,117.41]
["Éducation de peuplement","Élagage à des fins de qualité pour le pin blanc et le pin rouge",null,null,null,"Variable","Hectare","Variable 1","Éducation de peuplement",null,3.155307475246303E-2,{"$f":"ROUND(K108,3)","v":3.2000000000000001E-2},"[Grilles TSNC 2024-2025_Finaux_Vf.xlsx]Feuille de calcul'!AZ108",3.1502607330441634E-2,{"$f":"ROUND(N108,3)","v":3.2000000000000001E-2},3.0072331821052369E-2,{"$f":"ROUND(P108,3)","v":0.03},3.0072331821052369E-2,{"$f":"ROUND(R108,3)","v":0.03},"[Grilles TSNC 2023-2024_Consultation.xlsx]Feuille de calcul'!$CE108",2.8647069418794531E-2,2.9000000000000001E-2,"[Grilles TSNC 2022-2023_Officielle.xlsx]Feuille de calcul'!$AP$86",2.7420221056206191E-2,{"$f":"ROUND(X108,3)","v":2.7E-2},2.5977312467152694E-2,{"$f":"ROUND(Z108,3)","v":2.5999999999999999E-2},2.5309840143272221E-2,{"$f":"ROUND(AB108,3)","v":2.5000000000000001E-2},2.4012193585818367E-2,2.4E-2]
["Éducation de peuplement","Élagage à des fins de qualité pour le pin blanc et le pin rouge",null,null,null,"Variable","Hectare","Variable 2","Éducation de peuplement",null,0.45898179956997442,{"$f":"ROUND(K109,4)","v":0.45900000000000002},"[Grilles TSNC 2024-2025_Finaux_Vf.xlsx]Feuille de calcul'!AZ109",0.45824768321647297,{"$f":"ROUND(N109,4)","v":0.4582},0.43744240727013745,{"$f":"ROUND(P109,4)","v":0.43740000000000001},0.43744240727013745,{"$f":"ROUND(R109,4)","v":0.43740000000000001},"[Grilles TSNC 2023-2024_Consultation.xlsx]Feuille de calcul'!$CE109",0.41671005369192832,0.41670000000000001,"[Grilles TSNC 2022-2023_Officielle.xlsx]Feuille de calcul'!$AP$87",0.39886389848588716,{"$f":"ROUND(X109,4)","v":0.39889999999999998},0.37787485744902116,{"$f":"ROUND(Z109,4)","v":0.37790000000000001},0.36816557710847692,{"$f":"ROUND(AB109,4)","v":0.36820000000000003},0.34928956718492871,0.3493]
["Éducation de peuplement","Élagage à des fins de qualité pour le pin blanc et le pin rouge",null,null,null,"Variable","Hectare","Variable 3","Éducation de peuplement",null,0.7643539961986896,{"$f":"ROUND(K110,4)","v":0.76439999999999997},"[Grilles TSNC 2024-2025_Finaux_Vf.xlsx]Feuille de calcul'!AZ110",0.76313145367303947,{"$f":"ROUND(N110,4)","v":0.7631},0.7284839015772977,{"$f":"ROUND(P110,4)","v":0.72850000000000004},0.7284839015772977,{"$f":"ROUND(R110,4)","v":0.72850000000000004},"[Grilles TSNC 2023-2024_Consultation.xlsx]Feuille de calcul'!$CE110",0.69395778894504201,0.69399999999999995,"[Grilles TSNC 2022-2023_Officielle.xlsx]Feuille de calcul'!$AP$88",0.6642381354396093,{"$f":"ROUND(X110,4)","v":0.66420000000000001},0.62928455469209876,{"$f":"ROUND(Z110,4)","v":0.62929999999999997},0.61311544464141376,{"$f":"ROUND(AB110,4)","v":0.61309999999999998},0.58168074803499514,0.58169999999999999]
["Éducation de peuplement","Élagage à des fins de qualité pour le pin blanc et le pin rouge",null,null,null,"Variable","Hectare","Variable 4","Éducation de peuplement",null,7.6343049157178849E-2,{"$f":"ROUND(K111,4)","v":7.6300000000000007E-2},"[Grilles TSNC 2024-2025_Finaux_Vf.xlsx]Feuille de calcul'!AZ111",7.622094261414171E-2,{"$f":"ROUND(N111,4)","v":7.6200000000000004E-2},7.2760373576790133E-2,{"$f":"ROUND(P111,4)","v":7.2800000000000004E-2},7.2760373576790133E-2,{"$f":"ROUND(R111,4)","v":7.2800000000000004E-2},"[Grilles TSNC 2023-2024_Consultation.xlsx]Feuille de calcul'!$CE111",6.9311933813278492E-2,6.93E-2,"[Grilles TSNC 2022-2023_Officielle.xlsx]Feuille de calcul'!$AP$89",6.6343559238430605E-2,{"$f":"ROUND(X111,4)","v":6.6299999999999998E-2},6.285242431076947E-2,{"$f":"ROUND(Z111,4)","v":6.2899999999999998E-2},6.1237466883234268E-2,{"$f":"ROUND(AB111,4)","v":6.1199999999999997E-2},5.8097795212516658E-2,5.8099999999999999E-2]
["Éducation de peuplement","Élagage à des fins de qualité pour le pin blanc et le pin rouge",null,null,null,"Variable","Hectare","Variable 5","Éducation de peuplement",null,0.64632717119489003,{"$f":"ROUND(K112,4)","v":0.64629999999999999},"[Grilles TSNC 2024-2025_Finaux_Vf.xlsx]Feuille de calcul'!AZ112",0.64529340613812503,{"$f":"ROUND(N112,4)","v":0.64529999999999998},0.61599591512448837,{"$f":"ROUND(P112,4)","v":0.61599999999999999},0.61599591512448837,{"$f":"ROUND(R112,4)","v":0.61599999999999999},"[Grilles TSNC 2023-2024_Consultation.xlsx]Feuille de calcul'!$CE112",0.58680111164214843,0.58679999999999999,"[Grilles TSNC 2022-2023_Officielle.xlsx]Feuille de calcul'!$AP$90",0.56167058354314259,{"$f":"ROUND(X112,4)","v":0.56169999999999998},0.53211431893273542,{"$f":"ROUND(Z112,4)","v":0.53210000000000002},0.51844194302867652,{"$f":"ROUND(AB112,4)","v":0.51839999999999997},0.49186119819573548,0.4919]
["Éducation de peuplement","Élagage à des fins de qualité pour le pin blanc et le pin rouge",null,null,null,"Variable","Hectare","Variable 6 (martelage)","Martelage",null,154.04246445233056,{"$f":"ROUND(K113,2)","v":154.04},"[Grilles TSNC 2024-2025_Finaux_Vf.xlsx]Feuille de calcul'!AZ113",153.84593617486868,{"$f":"ROUND(N113,2)","v":153.85},146.27213393663666,{"$f":"ROUND(P113,2)","v":146.27000000000001},146.27213393663666,{"$f":"ROUND(R113,2)","v":146.27000000000001},"[Grilles TSNC 2023-2024_Consultation.xlsx]Feuille de calcul'!$CE113",138.69806802017612,138.69999999999999,"[Grilles TSNC 2022-2023_Officielle.xlsx]Feuille de calcul'!$AP$91",133.30813418913175,{"$f":"ROUND(X113,2)","v":133.31},127.15789689915195,{"$f":"ROUND(Z113,2)","v":127.16},123.9403514049572,{"$f":"ROUND(AB113,2)","v":123.94},117.38410675306386,117.38]
["Éducation de peuplement","Élagage à des fins de qualité pour le pin blanc et le pin rouge",null,null,null,"Variable","Hectare","Variable 7 (martelage)","Martelage",null,230.58023266422225,{"$f":"ROUND(K114,2)","v":230.58},"[Grilles TSNC 2024-2025_Finaux_Vf.xlsx]Feuille de calcul'!AZ114",230.28605705424764,{"$f":"ROUND(N114,2)","v":230.29},218.94912416075465,{"$f":"ROUND(P114,2)","v":218.95},218.94912416075465,{"$f":"ROUND(R114,2)","v":218.95},"[Grilles TSNC 2023-2024_Consultation.xlsx]Feuille de calcul'!$CE114",207.61179657747601,207.61,"[Grilles TSNC 2022-2023_Officielle.xlsx]Feuille de calcul'!$AP$92",199.54381219910633,{"$f":"ROUND(X114,2)","v":199.54},190.3377588533254,{"$f":"ROUND(Z114,2)","v":190.34},185.52153891490229,{"$f":"ROUND(AB114,2)","v":185.52},175.70774878494143,175.71]
["Éducation de peuplement","Élagage à des fins de qualité pour le pin blanc et le pin rouge",null,null,null,"Variable","Hectare","Variable 8","Éducation de peuplement",null,731.10782963024099,{"$f":"ROUND(K115,2)","v":731.11},"[Grilles TSNC 2024-2025_Finaux_Vf.xlsx]Feuille de calcul'!AZ115",729.93846253462323,{"$f":"ROUND(N115,2)","v":729.94},696.79793243901838,{"$f":"ROUND(P115,2)","v":696.8},696.79793243901838,{"$f":"ROUND(R115,2)","v":696.8},"[Grilles TSNC 2023-2024_Consultation.xlsx]Feuille de calcul'!$CE115",663.77355970377585,663.77,"[Grilles TSNC 2022-2023_Officielle.xlsx]Feuille de calcul'!$AP$93",635.34658544868012,{"$f":"ROUND(X115,2)","v":635.35},601.91333765353806,{"$f":"ROUND(Z115,2)","v":601.91},586.44751551484421,{"$f":"ROUND(AB115,2)","v":586.45000000000005},556.38009528115742,556.38]
["Éducation de peuplement","Taille phytosanitaire",null,null,null,"Variable","Hectare","Variable 1","Éducation de peuplement",null,2.4393540804183614E-2,{"$f":"ROUND(K116,4)","v":2.4400000000000002E-2},"[Grilles TSNC 2024-2025_Finaux_Vf.xlsx]Feuille de calcul'!AZ116",2.4354524666199636E-2,{"$f":"ROUND(N116,4)","v":2.4400000000000002E-2},2.3248785074314441E-2,{"$f":"ROUND(P116,4)","v":2.3199999999999998E-2},2.3248785074314441E-2,{"$f":"ROUND(R116,4)","v":2.3199999999999998E-2},"[Grilles TSNC 2023-2024_Consultation.xlsx]Feuille de calcul'!$CE116",2.2146921093105086E-2,2.2100000000000002E-2,"[Grilles TSNC 2022-2023_Officielle.xlsx]Feuille de calcul'!$AP$94",2.1198450117514714E-2,{"$f":"ROUND(X116,4)","v":2.12E-2},2.0082943948308937E-2,{"$f":"ROUND(Z116,4)","v":2.01E-2},1.9566924083494634E-2,{"$f":"ROUND(AB116,4)","v":1.9599999999999999E-2},1.8563719340470724E-2,1.8599999999999998E-2]
["Éducation de peuplement","Taille phytosanitaire",null,null,null,"Variable","Hectare","Variable 2","Éducation de peuplement",null,0.11691050653712386,{"$f":"ROUND(K117,4)","v":0.1169},"[Grilles TSNC 2024-2025_Finaux_Vf.xlsx]Feuille de calcul'!AZ117",0.11672351455873722,{"$f":"ROUND(N117,4)","v":0.1167},0.11142405529518989,{"$f":"ROUND(P117,4)","v":0.1114},0.11142405529518989,{"$f":"ROUND(R117,4)","v":0.1114},"[Grilles TSNC 2023-2024_Consultation.xlsx]Feuille de calcul'!$CE117",0.1061431706047597,0.1061,"[Grilles TSNC 2022-2023_Officielle.xlsx]Feuille de calcul'!$AP$95",0.10159744995345461,{"$f":"ROUND(X117,4)","v":0.1016},9.6251182581529385E-2,{"$f":"ROUND(Z117,4)","v":9.6299999999999997E-2},9.3778062985529126E-2,{"$f":"ROUND(AB117,4)","v":9.3799999999999994E-2},8.8970020741524297E-2,8.8999999999999996E-2]
["Éducation de peuplement","Taille phytosanitaire",null,null,null,"Variable","Hectare","Variable 3","Éducation de peuplement",null,7.3775586822408978E-2,{"$f":"ROUND(K118,4)","v":7.3800000000000004E-2},"[Grilles TSNC 2024-2025_Finaux_Vf.xlsx]Feuille de calcul'!AZ118",7.3657586795335489E-2,{"$f":"ROUND(N118,4)","v":7.3700000000000002E-2},7.0313398761341239E-2,{"$f":"ROUND(P118,4)","v":7.0300000000000001E-2},7.0313398761341239E-2,{"$f":"ROUND(R118,4)","v":7.0300000000000001E-2},"[Grilles TSNC 2023-2024_Consultation.xlsx]Feuille de calcul'!$CE118",6.6980932086464162E-2,6.7000000000000004E-2,"[Grilles TSNC 2022-2023_Officielle.xlsx]Feuille de calcul'!$AP$96",6.4112385721264015E-2,{"$f":"ROUND(X118,4)","v":6.4100000000000004E-2},6.0738659746105081E-2,{"$f":"ROUND(Z118,4)","v":6.0699999999999997E-2},5.9178014301300846E-2,{"$f":"ROUND(AB118,4)","v":5.9200000000000003E-2},5.6143931663862681E-2,5.6099999999999997E-2]
["Éducation de peuplement","Taille phytosanitaire",null,null,null,"Variable","Hectare","Variable 4","Éducation de peuplement",null,0.62530759476090148,{"$f":"ROUND(K119,4)","v":0.62529999999999997},"[Grilles TSNC 2024-2025_Finaux_Vf.xlsx]Feuille de calcul'!AZ119",0.62430744937014149,{"$f":"ROUND(N119,4)","v":0.62429999999999997},0.59596275885620642,{"$f":"ROUND(P119,4)","v":0.59599999999999997},0.59596275885620642,{"$f":"ROUND(R119,4)","v":0.59599999999999997},"[Grilles TSNC 2023-2024_Consultation.xlsx]Feuille de calcul'!$CE119",0.56771741631349837,0.56769999999999998,"[Grilles TSNC 2022-2023_Officielle.xlsx]Feuille de calcul'!$AP$97",0.54340417252458417,{"$f":"ROUND(X119,4)","v":0.54339999999999999},0.51480912413835811,{"$f":"ROUND(Z119,4)","v":0.51480000000000004},0.50158139540860613,{"$f":"ROUND(AB119,4)","v":0.50160000000000005},0.47586509821548106,0.47589999999999999]
["Éducation de peuplement","Taille phytosanitaire",null,null,null,"Variable","Hectare","Variable 5","Éducation de peuplement",null,0.13297454560329355,{"$f":"ROUND(K120,1)","v":0.1},"[Grilles TSNC 2024-2025_Finaux_Vf.xlsx]Feuille de calcul'!AZ120",0.13276186007062479,{"$f":"ROUND(N120,1)","v":0.1},0.12673423083193355,{"$f":"ROUND(P120,1)","v":0.1},0.12673423083193355,{"$f":"ROUND(R120,1)","v":0.1},"[Grilles TSNC 2023-2024_Consultation.xlsx]Feuille de calcul'!$CE120",0.12072772839778012,0.1,"[Grilles TSNC 2022-2023_Officielle.xlsx]Feuille de calcul'!$AP$98",0.11555740490889115,{"$f":"ROUND(X120,1)","v":0.1},0.1094765359133426,{"$f":"ROUND(Z120,1)","v":0.1},0.10666359835758657,{"$f":"ROUND(AB120,1)","v":0.1},0.10119490908768794,0.1]
["Éducation de peuplement","Taille phytosanitaire",null,null,null,"Variable","Hectare","Variable 6","Éducation de peuplement",null,0.59094840009159422,{"$f":"ROUND(K121,4)","v":0.59089999999999998},"[Grilles TSNC 2024-2025_Finaux_Vf.xlsx]Feuille de calcul'!AZ121",0.59000321035860437,{"$f":"ROUND(N121,4)","v":0.59},0.56321599451372706,{"$f":"ROUND(P121,4)","v":0.56320000000000003},0.56321599451372706,{"$f":"ROUND(R121,4)","v":0.56320000000000003},"[Grilles TSNC 2023-2024_Consultation.xlsx]Feuille de calcul'!$CE121",0.53652266770064927,0.53649999999999998,"[Grilles TSNC 2022-2023_Officielle.xlsx]Feuille de calcul'!$AP$99",0.5135453799810118,{"$f":"ROUND(X121,4)","v":0.51349999999999996},0.48652156284531339,{"$f":"ROUND(Z121,4)","v":0.48649999999999999},0.47402066697392786,{"$f":"ROUND(AB121,4)","v":0.47399999999999998},0.44971742036396445,0.44969999999999999]
["Éducation de peuplement","Taille phytosanitaire",null,null,null,"Variable","Hectare","Variable 7","Éducation de peuplement",null,706.52023670653739,{"$f":"ROUND(K122,2)","v":706.52},"[Grilles TSNC 2024-2025_Finaux_Vf.xlsx]Feuille de calcul'!AZ122",705.39019612468428,{"$f":"ROUND(N122,2)","v":705.39},673.36420184752171,{"$f":"ROUND(P122,2)","v":673.36},673.36420184752171,{"$f":"ROUND(R122,2)","v":673.36},"[Grilles TSNC 2023-2024_Consultation.xlsx]Feuille de calcul'!$CE122",641.45045848932398,641.45000000000005,"[Grilles TSNC 2022-2023_Officielle.xlsx]Feuille de calcul'!$AP$100",613.97950035484678,{"$f":"ROUND(X122,2)","v":613.98},581.6706326491917,{"$f":"ROUND(Z122,2)","v":581.66999999999996},566.72493534511887,{"$f":"ROUND(AB122,0)","v":567},537.66870040997514,538]
["Éducation de peuplement","Dépressage mécanisé systématique par layons avec abatteuse-groupeuse,",null,"espacement entre les layons traités de 16 m ",null,null,null,null,"Éducation de peuplement",null,703.90591756642721,{"$f":"ROUND(K123,0)","v":704},"[Grilles TSNC 2024-2025_Finaux_Vf.xlsx]Feuille de calcul'!AZ123",702.78005844544214,{"$f":"ROUND(N123,0)","v":703},670.87256915294938,{"$f":"ROUND(P123,0)","v":671},670.87256915294938,{"$f":"ROUND(R123,0)","v":671},"[Grilles TSNC 2023-2024_Consultation.xlsx]Feuille de calcul'!$CE123"]
["Éducation de peuplement","Dépressage mécanisé systématique par layons avec abatteuse-groupeuse,",null,"espacement entre les layons traités de 8 m ",null,null,null,null,"Éducation de peuplement",null,1161.8436001581813,{"$f":"ROUND(K124,0)","v":1162},"[Grilles TSNC 2024-2025_Finaux_Vf.xlsx]Feuille de calcul'!AZ124",1159.9852946918506,{"$f":"ROUND(N124,0)","v":1160},1107.3198584361596,{"$f":"ROUND(P124,0)","v":1107},1107.3198584361596,{"$f":"ROUND(R124,0)","v":1107},"[Grilles TSNC 2023-2024_Consultation.xlsx]Feuille de calcul'!$CE124"]
["Éducation de peuplement","Dépressage manuel","Hauteur du peuplement ≤ 2,5 m : 2 m layons x 4 m entraxes (peuplement résiduel)",null,"Origine (2019-2020) : Équation Gaulis II calibrée à 60% des frais variables (2019-2020)\n2020-2021 : Équation EPC calibrée à 50%  K:\\...\\3_EducationPeuplement\\Dépressage","Variable","Hectare","Variable 0","Éducation de peuplement",null,222.31607050855723,{"$f":"ROUND(K125,2)","v":222.32},"[Grilles TSNC 2024-2025_Finaux_Vf.xlsx]Feuille de calcul'!AZ125",221.960488079887,{"$f":"ROUND(N125,2)","v":221.96},211.88307934915071,{"$f":"ROUND(P125,2)","v":211.88},185.7443674867416,{"$f":"ROUND(R125,2)","v":185.74},"[Grilles TSNC 2023-2024_Consultation.xlsx]Feuille de calcul'!$CE125",176.94111055989808,176.94,"[Grilles TSNC 2022-2023_Officielle.xlsx]Feuille de calcul'!$AP$101",169.36337516953546,{"$f":"ROUND(X125,2)","v":169.36},160.45112503842643,{"$f":"ROUND(Z125,2)","v":160.44999999999999},156.32842429969318,{"$f":"ROUND(AB125,2)","v":156.33000000000001},0,0]
["Éducation de peuplement","Dépressage manuel","Hauteur du peuplement ≤ 2,5 m : 2 m layons x 4 m entraxes (peuplement résiduel)",null,null,"Variable","Hectare","Variable 1","Éducation de peuplement",null,448.1621590334168,448.16,"[Grilles TSNC 2024-2025_Finaux_Vf.xlsx]Feuille de calcul'!AZ126",447.44534810480218,447.45,427.13051776483741,427.13,374.43805376161657,374.44,"[Grilles TSNC 2023-2024_Consultation.xlsx]Feuille de calcul'!$CE126",356.69175849004642,356.69,"[Grilles TSNC 2022-2023_Officielle.xlsx]Feuille de calcul'!$AP$102",341.41596558240724,{"$f":"ROUND(X126,2)","v":341.42},323.44995326729685,{"$f":"ROUND(Z126,2)","v":323.45},378.17,{"$f":"ROUND(AB126,2)","v":378.17},0,0]
["Éducation de peuplement","Dépressage manuel","Hauteur du peuplement ≤ 2,5 m : 2 m layons x 4 m entraxes (peuplement résiduel)",null,null,"Variable","Hectare","Variable 2","Éducation de peuplement",null,3622.495130411367,3622.5,"[Grilles TSNC 2024-2025_Finaux_Vf.xlsx]Feuille de calcul'!AZ127",3616.701147037285,3616.7,3452.4963553155276,3452.5,3026.5831218718017,3026.58,"[Grilles TSNC 2023-2024_Consultation.xlsx]Feuille de calcul'!$CE127",2883.1398013943322,2883.14,"[Grilles TSNC 2022-2023_Officielle.xlsx]Feuille de calcul'!$AP$103",2759.6655537237039,{"$f":"ROUND(X127,0)","v":2760},2614.4462601877117,{"$f":"ROUND(Z127,2)","v":2614.4499999999998},3057,{"$f":"ROUND(AB127,0)","v":3057},0,0]
["Éducation de peuplement","Dépressage manuel","Hauteur du peuplement > 2,5 m : 3 m layons x 4 m entraxes (peuplement résiduel)",null,"Origine (2019-2020) : Équation Gaulis II calibrée à 60% des frais variables (2019-2020)\n2020-2021 : Équation EPC calibrée à 50% \n2021-2022 : Équation EPC calibrée à 65% K:\\...\\3_EducationPeuplement\\Dépressage","Variable","Hectare","Variable 0","Éducation de peuplement",null,222.31607050855723,222.32,"[Grilles TSNC 2024-2025_Finaux_Vf.xlsx]Feuille de calcul'!AZ128",221.960488079887,221.96,211.88307934915071,211.88,185.7443674867416,185.74,"[Grilles TSNC 2023-2024_Consultation.xlsx]Feuille de calcul'!$CE128",176.94111055989808,176.94,"[Grilles TSNC 2022-2023_Officielle.xlsx]Feuille de calcul'!$AP$104",169.36337516953546,{"$f":"ROUND(X128,2)","v":169.36}]
["Éducation de peuplement","Dépressage manuel","Hauteur du peuplement > 2,5 m : 3 m layons x 4 m entraxes (peuplement résiduel)",null,null,"Variable","Hectare","Variable 1","Éducation de peuplement",null,582.95938123886845,582.96,"[Grilles TSNC 2024-2025_Finaux_Vf.xlsx]Feuille de calcul'!AZ129",582.02696950577683,582.03,555.60188946220399,555.6,486.76946989010162,486.77,"[Grilles TSNC 2023-2024_Consultation.xlsx]Feuille de calcul'!$CE129",463.6992860370604,463.7,"[Grilles TSNC 2022-2023_Officielle.xlsx]Feuille de calcul'!$AP$105",443.84075525712944,{"$f":"ROUND(X129,2)","v":443.84}]
["Éducation de peuplement","Dépressage manuel","Hauteur du peuplement > 2,5 m : 3 m layons x 4 m entraxes (peuplement résiduel)",null,null,"Variable","Hectare","Variable 2","Éducation de peuplement",null,4712.0754942121648,4712.08,"[Grilles TSNC 2024-2025_Finaux_Vf.xlsx]Feuille de calcul'!AZ130",4704.5387864767481,4704.54,4490.9441929026661,4490.9399999999996,3934.5580584333429,3934.56,"[Grilles TSNC 2023-2024_Consultation.xlsx]Feuille de calcul'!$CE130",3748.0817418126317,3748.08,"[Grilles TSNC 2022-2023_Officielle.xlsx]Feuille de calcul'!$AP$106",3587.5652198408152,{"$f":"ROUND(X130,2)","v":3587.57}]
["Éducation de peuplement","Nettoiement sous couvert d’un peuplement de feuillus tolérants (4)",null,null,"Origine (2018-2019) : adaptation de l'équation Gaulis I de 2018-2019. K:\\...\\Nettoiement HEG\n2020-2021 : Équation NET-BASE. La constante (Variable1) est calibrée à 95% et les varaibles 2 et 3 sont identiques. La modulation de 16,5% pour les conditions d'opération est maintenue (±8,25% selon les combinaisons)\nNettoiement HEG et ERS","Variable","Hectare","Variable 1","Éducation de peuplement",null,1078.0690649780349,1078.07,"[Grilles TSNC 2024-2025_Finaux_Vf.xlsx]Feuille de calcul'!AZ131",1076.3447523112889,1076.3399999999999,1027.4767483793455,1027.48,1027.4767483793455,1027.48,"[Grilles TSNC 2023-2024_Consultation.xlsx]Feuille de calcul'!$CE131",978.7800265097751,978.78,"[Grilles TSNC 2022-2023_Officielle.xlsx]Feuille de calcul'!$AP$111",936.8624866978364,{"$f":"ROUND(X131,2)","v":936.86},887.56285027085869,{"$f":"ROUND(Z131,2)","v":887.56},795.12352542960946,795.12,805.55546874992103,765.28]
["Éducation de peuplement","Nettoiement sous couvert d’un peuplement de feuillus tolérants (4)",null,null,null,"Variable","Hectare","Variable 2","Éducation de peuplement",null,1.256433669583165E-2,{"$f":"ROUND(K132,4)","v":1.26E-2},"[Grilles TSNC 2024-2025_Finaux_Vf.xlsx]Feuille de calcul'!AZ132",1.2544240724601526E-2,{"$f":"ROUND(N132,4)","v":1.2500000000000001E-2},1.1974709444092452E-2,{"$f":"ROUND(P132,4)","v":1.2E-2},1.1974709444092452E-2,{"$f":"ROUND(R132,4)","v":1.2E-2},"[Grilles TSNC 2023-2024_Consultation.xlsx]Feuille de calcul'!$CE132",1.1407174367325346E-2,1.14E-2,"[Grilles TSNC 2022-2023_Officielle.xlsx]Feuille de calcul'!$AP$112",1.0918647146976197E-2,{"$f":"ROUND(X132,4)","v":1.09E-2},1.0344085413249745E-2,{"$f":"ROUND(Z132,4)","v":1.03E-2},1.0727061946208627E-2,1.0699999999999999E-2,1.0324409957852384E-2,1.03E-2]
["Éducation de peuplement","Nettoiement sous couvert d’un peuplement de feuillus tolérants (4)",null,null,null,"Variable","Hectare","Variable 3","Éducation de peuplement",null,-465.39002579279583,{"$f":"ROUND(K133,2)","v":-465.39},"[Grilles TSNC 2024-2025_Finaux_Vf.xlsx]Feuille de calcul'!AZ133",-464.64565983098413,{"$f":"ROUND(N133,2)","v":-464.65},-443.549904142277,{"$f":"ROUND(P133,2)","v":-443.55},-443.549904142277,{"$f":"ROUND(R133,2)","v":-443.55},"[Grilles TSNC 2023-2024_Consultation.xlsx]Feuille de calcul'!$CE133",-422.52808895146109,-422.53,"[Grilles TSNC 2022-2023_Officielle.xlsx]Feuille de calcul'!$AP$113",-404.43276874612138,{"$f":"ROUND(X133,2)","v":-404.43},-383.15068226978411,{"$f":"ROUND(Z133,2)","v":-383.15},-204.55846837579176,-204.56,-196.88014280634434,-196.88]
["Éducation de peuplement","Nettoiement sous couvert d’un peuplement de feuillus tolérants (4)",null,null,null,"Variable","Hectare","Variable 4","Aucune indexation / constante calculé",null,1.165,{"$f":"K134","v":1.165},"[Grilles TSNC 2024-2025_Finaux_Vf.xlsx]Feuille de calcul'!AZ134",1.165,{"$f":"N134","v":1.165},1.165,{"$f":"P134","v":1.165},1.165,{"$f":"R134","v":1.165},"[Grilles TSNC 2023-2024_Consultation.xlsx]Feuille de calcul'!$CE134",1.17,1.17,"[Grilles TSNC 2022-2023_Officielle.xlsx]Feuille de calcul'!$AP$114",1.165,{"$f":"X134","v":1.165},1.165,{"$f":"Z134","v":1.165},1.165,1.165]
["Éducation de peuplement","Nettoiement d'un peuplement résineux ou mixte à dominance de résineux (MR-FI) réalisé dans des conditions spécifiques","Plan d’aménagement de l’aire de fréquentation du caribou et Plan d'aménagement des ravages de cerfs de Virginie ",null,"Variable supplémentaire pour traduire les différente modalités  ","Variable","Hectare","Variable 4","Aucune indexation / constante calculé",null,1.17,1.1678238506263332,"[Grilles TSNC 2024-2025_Finaux_Vf.xlsx]Feuille de calcul'!AZ135",1.17,1.1678238506263332,1.17,1.1678238506263332,1.17,1.1678238506263332,"[Grilles TSNC 2023-2024_Consultation.xlsx]Feuille de calcul'!$CE135"]
["Éducation de peuplement","Nettoiement d'un peuplement résineux ou mixte à dominance de résineux (MR-FI) réalisé dans des conditions spécifiques","Feuillus intolérants > 5 m",null,"Variable supplémentaire pour traduire les différente modalités  ","Variable","Hectare","Variable 4","Éducation de peuplement",null,1.17,1.1678238506263332,"[Grilles TSNC 2024-2025_Finaux_Vf.xlsx]Feuille de calcul'!AZ136",1.17,1.1678238506263332,1.17,1.1678238506263332,1.17,1.1678238506263332,"[Grilles TSNC 2023-2024_Consultation.xlsx]Feuille de calcul'!$CE136"]
["Éducation de peuplement","Débroussaillement mécanique interplaceaux",null,"manuel","Origine (2021-2022 PATS)\nK:\\F1411ae\\1...\\Debrousaillement manuel\\Taux_DM_2021-2022_DMinterplaceau.xlsx",null,"Hectare",null,"Éducation de peuplement",null,334.56893365740336,{"$f":"ROUND(K137,0)","v":335},"[Grilles TSNC 2024-2025_Finaux_Vf.xlsx]Feuille de calcul'!AZ137",334.03380889689743,{"$f":"ROUND(N137,0)","v":334},318.86806813259011,{"$f":"ROUND(P137,0)","v":319},297.14788090115235,{"$f":"ROUND(R137,0)","v":297},"[Grilles TSNC 2023-2024_Consultation.xlsx]Feuille de calcul'!$CE137",262.37394251187385,262,"[Grilles TSNC 2022-2023_Officielle.xlsx]Feuille de calcul'!$AP$115",251.13743391650056,{"$f":"ROUND(X137,0)","v":251},0,0]
["Éducation de peuplement","Débroussaillement mécanique interplaceaux",null,"manuel","Origine (2021-2022 PATS) K:\\...\\Debrousaillement manuel\\Taux_DM_2021-2022_DMinterplaceau.xlsx","Variable","Hectare","Conditions d'opération 1","Éducation de peuplement",null,494.0650734586975,494,"[Grilles TSNC 2024-2025_Finaux_Vf.xlsx]Feuille de calcul'!AZ138",493.27484332220894,493,470.87927077796996,471,438.80460747098869,{"$f":"ROUND(R138,0)","v":439},"[Grilles TSNC 2023-2024_Consultation.xlsx]Feuille de calcul'!$CE138",387.4531916747452,387,"[Grilles TSNC 2022-2023_Officielle.xlsx]Feuille de calcul'!$AP$116",370.86,{"$f":"ROUND(X138,2)","v":370.86},0,0]
["Éducation de peuplement","Débroussaillement mécanique interplaceaux",null,"manuel","Origine (2021-2022 PATS) K:\\...\\Debrousaillement manuel\\Taux_DM_2021-2022_DMinterplaceau.xlsx","Variable","Hectare","Conditions d'opération 2","Éducation de peuplement",null,970.99786830908204,971,"[Grilles TSNC 2024-2025_Finaux_Vf.xlsx]Feuille de calcul'!AZ139",969.44481018126817,969,925.43025750749905,925,862.39315698998212,862,"[Grilles TSNC 2023-2024_Consultation.xlsx]Feuille de calcul'!$CE139",761.47099521127859,761,"[Grilles TSNC 2022-2023_Officielle.xlsx]Feuille de calcul'!$AP$117",728.86,{"$f":"ROUND(X139,2)","v":728.86},0,0]
["Éducation de peuplement","Débroussaillement mécanique interplaceaux",null,"manuel","Origine (2021-2022 PATS) K:\\...\\Debrousaillement manuel\\Taux_DM_2021-2022_DMinterplaceau.xlsx","Variable","Hectare","Conditions d'opération 3","Éducation de peuplement",null,1427.9474454981378,1428,"[Grilles TSNC 2024-2025_Finaux_Vf.xlsx]Feuille de calcul'!AZ140",1425.6635214456744,1426,1360.9358118321597,1361,1268.2335829257775,1268,"[Grilles TSNC 2023-2024_Consultation.xlsx]Feuille de calcul'!$CE140",1119.8176617281247,1120,"[Grilles TSNC 2022-2023_Officielle.xlsx]Feuille de calcul'!$AP$118",1071.8599999999999,{"$f":"ROUND(X140,2)","v":1071.8599999999999},0,0]
["Éducation de peuplement","Débroussaillement mécanique interplaceaux",null,"manuel","Origine (2021-2022 PATS) K:\\...\\Debrousaillement manuel\\Taux_DM_2021-2022_DMinterplaceau.xlsx","Variable","Hectare","Conditions d'opération 4","Éducation de peuplement",null,1737.0212119933592,1737,"[Grilles TSNC 2024-2025_Finaux_Vf.xlsx]Feuille de calcul'!AZ141",1734.2429413096459,1734,1655.5051663607933,1656,1542.7378943459071,1543,"[Grilles TSNC 2023-2024_Consultation.xlsx]Feuille de calcul'!$CE141",1362.1979142992859,1362,"[Grilles TSNC 2022-2023_Officielle.xlsx]Feuille de calcul'!$AP$119",1303.8599999999999,{"$f":"ROUND(X141,2)","v":1303.8599999999999},0,0]
["Éducation de peuplement","Dégagement mécanique de la régénération",null,null,null,"Variable","Hectare","Taux moyen","Éducation de peuplement",null,1049.1985271672734,1049,"[Grilles TSNC 2024-2025_Finaux_Vf.xlsx]Feuille de calcul'!AZ142",1047.5203913510279,1048,999.96106568570599,1000,1066.6288772474104,{"$f":"ROUND(R142,0)","v":1067},"[Grilles TSNC 2023-2024_Consultation.xlsx]Feuille de calcul'!$CE142",1741.7955822089989,1742,"[Grilles TSNC 2022-2023_Officielle.xlsx]Feuille de calcul'!$AP$120",1557.3975963669204,{"$f":"ROUND(X142,0)","v":1557},1385.6435661188539,{"$f":"ROUND(Z142,0)","v":1386},1322.0714470539533,{"$f":"ROUND(AB142,0)","v":1322},1254.2882665887214,1254]
["Éducation de peuplement","Nettoiement d’un peuplement résineux ou mixte à dominance de résineux (MR-FI) ","Nettoiement de base","Peuplements en régénérés naturellement (avec ou sans regarni) OU plantation uniforme (avec ou sans regarni) ET gradient d'intensité de la sylviculture de base ET Nettoiement résineux",null,"Variable","Hectare","Taux moyen","Éducation de peuplement",null,1151.3429506430507,1151,"[Grilles TSNC 2024-2025_Finaux_Vf.xlsx]Feuille de calcul'!AZ143",1149.5014403928672,1150,1097.3119901370192,1097,1128.2670148472405,{"$f":"ROUND(R143,0)","v":1128},"[Grilles TSNC 2023-2024_Consultation.xlsx]Feuille de calcul'!$CE143",1382.7871253713997,1383,"[Grilles TSNC 2022-2023_Officielle.xlsx]Feuille de calcul'!$AP$121",1170.9489959587368,{"$f":"ROUND(X143,0)","v":1171},1188.0982672736111,1188,1133.5893543361542,1134,1075.4697330784254,1075]
["Éducation de peuplement","Nettoiement d’un peuplement résineux ou mixte à dominance de résineux (MR-FI) ","Nettoiement intensif/Élite","Plantation uniforme (avec ou sans regarni) ET gradient d'intensité de la sylviculture de intensif/élite",null,"Variable","Hectare","Taux moyen","Éducation de peuplement",null,1551.5917513223458,1552,"[Grilles TSNC 2024-2025_Finaux_Vf.xlsx]Feuille de calcul'!AZ144",1549.1100649468274,1549,1478.7776583621564,1479,1453.9175224259993,{"$f":"ROUND(R144,0)","v":1454},"[Grilles TSNC 2023-2024_Consultation.xlsx]Feuille de calcul'!$CE144"]
["Éducation de peuplement","Éclaircie précommerciale systématique d’un peuplement résineux ou de peuplier",null,null,null,"Variable","Hectare","Taux moyen","Éducation de peuplement",null,1493.9125910372475,1494,"[Grilles TSNC 2024-2025_Finaux_Vf.xlsx]Feuille de calcul'!AZ145",1491.5231593325268,1492,1423.8053027086794,1424,1494.8579704414076,{"$f":"ROUND(R145,0)","v":1495},"[Grilles TSNC 2023-2024_Consultation.xlsx]Feuille de calcul'!$CE145",1556.8302750519085,1557,"[Grilles TSNC 2022-2023_Officielle.xlsx]Feuille de calcul'!$AP$122",1316.977066794338,{"$f":"ROUND(X145,0)","v":1317},1435.3040413958183,1435,1369.4535430100586,1369,1299.2410617924577,1299]
["Éducation de peuplement","Éclaircie précommerciale par puits de lumière",null,null,null,"Variable","Hectare","Taux moyen","Éducation de peuplement",null,1634.9567778596822,1635,"[Grilles TSNC 2024-2025_Finaux_Vf.xlsx]Feuille de calcul'!AZ146",1632.3417536713171,1632,1558.2304774604258,1558,1557.7632886304857,{"$f":"ROUND(R146,0)","v":1558},"[Grilles TSNC 2023-2024_Consultation.xlsx]Feuille de calcul'!$CE146",1502.776387893814,1503,"[Grilles TSNC 2022-2023_Officielle.xlsx]Feuille de calcul'!$AP$123",1229.700391979834,{"$f":"ROUND(X146,0)","v":1230},1478.0776518629107,1478,1410.2647375110694,1410,1337.959848528345,1338]
["Éducation de peuplement","Élagage pour fins de qualité du pin blanc et rouge",null,null,null,"Variable","Hectare","Taux moyen","Éducation de peuplement",null,1948.3182686688513,1948,"[Grilles TSNC 2024-2025_Finaux_Vf.xlsx]Feuille de calcul'!AZ147",1945.2020398680675,1945,1856.886339226081,1857,1856.3296073634308,{"$f":"ROUND(R147,0)","v":1856},"[Grilles TSNC 2023-2024_Consultation.xlsx]Feuille de calcul'!$CE147",2083.5588854511284,2084,"[Grilles TSNC 2022-2023_Officielle.xlsx]Feuille de calcul'!$AP$124",1867.0156352613469,{"$f":"ROUND(X147,0)","v":1867},1604.0298084332314,1604,1530.4383189198161,1530,1451.972077936083,1452]
["Éducation de peuplement","Taille phytosanitaire",null,null,null,"Variable","Hectare","Taux moyen","Éducation de peuplement",null,1164.4820398356624,1164,"[Grilles TSNC 2024-2025_Finaux_Vf.xlsx]Feuille de calcul'!AZ148",1162.6195143289799,1163,1109.8344797240532,1110,1109.501729030552,1110,"[Grilles TSNC 2023-2024_Consultation.xlsx]Feuille de calcul'!$CE148",1379.2462143131863,1379,"[Grilles TSNC 2022-2023_Officielle.xlsx]Feuille de calcul'!$AP$125",900.24713063843615,{"$f":"ROUND(X148,0)","v":900},958.70573782471172,959,497.27907243093455,497,471.78335721578429,472]
["Éclaircie commerciale EAF","Première éclaircie commerciale de plantation résineuse réservé aux entreprises d'aménagement forestier",null,"Manuel","Pourcentage de majoration pour les opérations manuelles","Variable","Hectare","Selon évaluation TSC","MAJ TSC",null,0.37,{"$f":"K149","v":0.37},"[Grilles TSNC 2024-2025_Finaux_Vf.xlsx]Feuille de calcul'!AZ149",0.37,{"$f":"N149","v":0.37},0.37,{"$f":"P149","v":0.37},0.37,{"$f":"R149","v":0.37},"[Grilles TSNC 2023-2024_Consultation.xlsx]Feuille de calcul'!$CE149",0.44,0.44,"[Grilles TSNC 2022-2023_Officielle.xlsx]Feuille de calcul'!$AP$126",0.41,{"$f":"ROUND(X149,2)","v":0.41},0.34,{"$f":"ROUND(Z149,2)","v":0.34},0.36,{"$f":"ROUND(AB149,2)","v":0.36},0.35,0.35]
["Éclaircie commerciale EAF","Première éclaircie commerciale de plantation résineuse réservé aux entreprises d'aménagement forestier",null,"Mécanisé",null,"Variable","Hectare","Variable 1","MAJ TSC",null,13.267664811698166,{"$f":"ROUND(K150,3)","v":13.268000000000001},"[Grilles TSNC 2024-2025_Finaux_Vf.xlsx]Feuille de calcul'!AZ150",13.073054172659297,{"$f":"ROUND(N150,3)","v":13.073},12.295,{"$f":"ROUND(P150,3)","v":12.295},5.984,{"$f":"ROUND(R150,3)","v":5.984},"[Grilles TSNC 2023-2024_Consultation.xlsx]Feuille de calcul'!$CE150",5.1952999999999996,5.1952999999999996,"[Grilles TSNC 2022-2023_Officielle.xlsx]Feuille de calcul'!$AP$127",5.12,{"$f":"ROUND(X150,3)","v":5.12},5.1180000000000003,{"$f":"ROUND(Z150,3)","v":5.1180000000000003},4.944,{"$f":"ROUND(AB150,3)","v":4.944},4.8609999999999998,4.8609999999999998]
["Éclaircie commerciale EAF","Première éclaircie commerciale de plantation résineuse réservé aux entreprises d'aménagement forestier",null,"Mécanisé",null,"Variable","Hectare","Variable 2","MAJ TSC",null,0.49099999999999999,{"$f":"ROUND(K151,3)","v":0.49099999999999999},"[Grilles TSNC 2024-2025_Finaux_Vf.xlsx]Feuille de calcul'!AZ151",0.49099999999999999,{"$f":"ROUND(N151,3)","v":0.49099999999999999},0.49099999999999999,{"$f":"ROUND(P151,3)","v":0.49099999999999999},0.68200000000000005,{"$f":"ROUND(R151,3)","v":0.68200000000000005},"[Grilles TSNC 2023-2024_Consultation.xlsx]Feuille de calcul'!$CE151",0.68200000000000005,0.68200000000000005,"[Grilles TSNC 2022-2023_Officielle.xlsx]Feuille de calcul'!$AP$128",0.68200000000000005,{"$f":"ROUND(X151,3)","v":0.68200000000000005},0.68200000000000005,{"$f":"ROUND(Z151,3)","v":0.68200000000000005},-0.68200000000000005,{"$f":"ROUND(AB151,3)","v":-0.68200000000000005},-0.68200000000000005,-0.68200000000000005]
["Éclaircie commerciale EAF","Première éclaircie commerciale de plantation résineuse réservé aux entreprises d'aménagement forestier",null,"Mécanisé",null,"Variable","Hectare","Variable 3","MAJ TSC",null,3.8815608237233268,{"$f":"ROUND(K152,3)","v":3.8820000000000001},"[Grilles TSNC 2024-2025_Finaux_Vf.xlsx]Feuille de calcul'!AZ152",3.8246259340427406,{"$f":"ROUND(N152,3)","v":3.8250000000000002},3.597,{"$f":"ROUND(P152,3)","v":3.597},10.891999999999999,{"$f":"ROUND(R152,3)","v":10.891999999999999},"[Grilles TSNC 2023-2024_Consultation.xlsx]Feuille de calcul'!$CE152",9.5419999999999998,9.5419999999999998,"[Grilles TSNC 2022-2023_Officielle.xlsx]Feuille de calcul'!$AP$129",9.3870000000000005,{"$f":"ROUND(X152,3)","v":9.3870000000000005},9.3789999999999996,{"$f":"ROUND(Z152,3)","v":9.3789999999999996},9.0860000000000003,{"$f":"ROUND(AB152,3)","v":9.0860000000000003},8.9160000000000004,8.9160000000000004]
["Éclaircie commerciale EAF","Première éclaircie commerciale de plantation résineuse réservé aux entreprises d'aménagement forestier",null,"Mécanisé",null,"Variable","Hectare","Selon évaluation TSC","MAJ TSC",null,0,{"$f":"K153","v":0},"[Grilles TSNC 2024-2025_Finaux_Vf.xlsx]Feuille de calcul'!AZ153",0,{"$f":"N153","v":0},0,{"$f":"P153","v":0},0,{"$f":"R153","v":0},"[Grilles TSNC 2023-2024_Consultation.xlsx]Feuille de calcul'!$CE153",0,0,"[Grilles TSNC 2022-2023_Officielle.xlsx]Feuille de calcul'!$AP$130",0,{"$f":"X153","v":0},0,{"$f":"ROUND(Z153,0)","v":0},1208.9515887973644,{"$f":"ROUND(AB153,0)","v":1209},1145,1145]
["Éclaircie commerciale EAF","Première éclaircie commerciale de plantation résineuse réservé aux entreprises d'aménagement forestier","Délimitation physique (ruban) des sentiers de débardage (5)","Mécanisé","Origine 2020-2021","Variable","Hectare","Selon évaluation TSC","MAJ TSC",null,65.615215388159427,{"$f":"ROUND(K154,0)","v":66},"[Grilles TSNC 2024-2025_Finaux_Vf.xlsx]Feuille de calcul'!AZ154",65.079145029124305,{"$f":"ROUND(N154,0)","v":65},61.82,{"$f":"ROUND(P154,0)","v":62},61.82,{"$f":"ROUND(R154,0)","v":62},"[Grilles TSNC 2023-2024_Consultation.xlsx]Feuille de calcul'!$CE154",58.12,58,"[Grilles TSNC 2022-2023_Officielle.xlsx]Feuille de calcul'!$AP$131",56.62,{"$f":"ROUND(X154,2)","v":56.62},55.91,{"$f":"ROUND(Z154,2)","v":55.91}]
["Éclaircie commerciale EAF","Première éclaircie commerciale de plantation résineuse réservé aux entreprises d'aménagement forestier",null,null,null,"Variable","Hectare","Taux moyen","ECEAF",null,2384.8326636299498,{"$f":"ROUND(K155,0)","v":2385},"[Grilles TSNC 2024-2025_Finaux_Vf.xlsx]Feuille de calcul'!AZ155",2349.8518425693683,{"$f":"ROUND(N155,0)","v":2350},2209.9983693797649,{"$f":"ROUND(P155,0)","v":2210},0,{"$f":"ROUND(R155,0)","v":0},"[Grilles TSNC 2023-2024_Consultation.xlsx]Feuille de calcul'!$CE155",2101.9790399498997,2102,"[Grilles TSNC 2022-2023_Officielle.xlsx]Feuille de calcul'!$AP$132",1831,{"$f":"ROUND(X155,0)","v":1831},1830,{"$f":"ROUND(Z155,0)","v":1830},"-","-","-","-"]
["Travaux techniques","Vérification technique","Inventaire de conformité","Traitement du site mécanisé","Taux de base intègre les critères et ajouter au taux d,exécution en 2023-2024","Variable","PE","Constante","Travaux techniques",null,63.287974757064731,{"$f":"ROUND(K156,0)","v":63},"[Grilles TSNC 2024-2025_Finaux_Vf.xlsx]Feuille de calcul'!AZ156",63.232458261214688,{"$f":"ROUND(N156,0)","v":63},60.341133116582199,{"$f":"ROUND(P156,0)","v":60},58.839108716743326,{"$f":"ROUND(R156,0)","v":59},"[Grilles TSNC 2023-2024_Consultation.xlsx]Feuille de calcul'!$CE156",50.117627338763555,50,"[Grilles TSNC 2022-2023_Officielle.xlsx]Feuille de calcul'!$AP$133",38.558045889131805,{"$f":"ROUND(X156,0)","v":39},36.626459926906222,{"$f":"ROUND(Z156,0)","v":37},35.699680670722188,{"$f":"ROUND(AB156,0)","v":36},37.250347140306637,37]
["Travaux techniques","Vérification technique","Inventaire de conformité","Traitement du site mécanisé","Retirer 2023-2024","Variable","Critère","Critère #1","Travaux techniques",null,3.744390723280465,{"$f":"ROUND(K157,2)","v":3.74},"[Grilles TSNC 2024-2025_Finaux_Vf.xlsx]Feuille de calcul'!AZ157",3.7411061269120727,{"$f":"ROUND(N157,2)","v":3.74},3.5700428073619253,{"$f":"ROUND(P157,2)","v":3.57},3.5700428073619253,{"$f":"ROUND(R157,2)","v":3.57},"[Grilles TSNC 2023-2024_Consultation.xlsx]Feuille de calcul'!$CE157",3.383055096259791,3.38,"[Grilles TSNC 2022-2023_Officielle.xlsx]Feuille de calcul'!$AP$134",2.4447150465751832,{"$f":"ROUND(X157,2)","v":2.44},2.3222457368185574,{"$f":"ROUND(Z157,2)","v":2.3199999999999998},2.2634846886326199,{"$f":"ROUND(AB157,2)","v":2.2599999999999998},2.1728272575680707,2.17]
["Travaux techniques","Vérification technique","Inventaire de conformité","Traitement du site mécanisé","Retirer 2023-2024","Variable","Critère","Critère #2","Travaux techniques",null,14.041950837568306,{"$f":"ROUND(K158,2)","v":14.04},"[Grilles TSNC 2024-2025_Finaux_Vf.xlsx]Feuille de calcul'!AZ158",14.029633175194171,{"$f":"ROUND(N158,2)","v":14.03},13.388123540983251,{"$f":"ROUND(P158,2)","v":13.39},13.388123540983251,{"$f":"ROUND(R158,2)","v":13.39},"[Grilles TSNC 2023-2024_Consultation.xlsx]Feuille de calcul'!$CE158",12.686895373153254,12.69,"[Grilles TSNC 2022-2023_Officielle.xlsx]Feuille de calcul'!$AP$135",10.935376437842157,{"$f":"ROUND(X158,2)","v":10.94},10.387562897712986,{"$f":"ROUND(Z158,2)","v":10.39},10.124720738380104,{"$f":"ROUND(AB158,2)","v":10.119999999999999},"-","-"]
["Travaux techniques","Vérification technique","Inventaire de conformité","Traitement de préparation de site manuelle",null,"Fixe","PE","Constante","Travaux techniques",null,30.50859521018122,{"$f":"ROUND(K159,0)","v":31},"[Grilles TSNC 2024-2025_Finaux_Vf.xlsx]Feuille de calcul'!AZ159",30.481832933368317,{"$f":"ROUND(N159,0)","v":30},29.088041003744838,{"$f":"ROUND(P159,0)","v":29},29.088041003744838,{"$f":"ROUND(R159,0)","v":29},"[Grilles TSNC 2023-2024_Consultation.xlsx]Feuille de calcul'!$CE159",27.564500110476253,28,"[Grilles TSNC 2022-2023_Officielle.xlsx]Feuille de calcul'!$AP$136",26.399813225625369,{"$f":"ROUND(X159,0)","v":26},25.077300441169957,{"$f":"ROUND(Z159,0)","v":25},24.442755855197078,{"$f":"ROUND(AB159,0)","v":24},22.047403334181396,22]
["Travaux techniques","Vérification technique","Inventaire de conformité","Traitement de préparation de site drainage sylvicole",null,"Fixe","PE","Constante","Travaux techniques",null,56.852515654546757,{"$f":"ROUND(K160,0)","v":57},"[Grilles TSNC 2024-2025_Finaux_Vf.xlsx]Feuille de calcul'!AZ160",56.802644372340062,{"$f":"ROUND(N160,0)","v":57},54.205324602216528,{"$f":"ROUND(P160,0)","v":54},54.205324602216528,{"$f":"ROUND(R160,0)","v":54},"[Grilles TSNC 2023-2024_Consultation.xlsx]Feuille de calcul'!$CE160",51.366218708019574,51,"[Grilles TSNC 2022-2023_Officielle.xlsx]Feuille de calcul'!$AP$137",49.195834300036964,{"$f":"ROUND(X160,0)","v":49},46.731342629293046,{"$f":"ROUND(Z160,0)","v":47},45.5488740246589,{"$f":"ROUND(AB160,0)","v":46},41.085154349563666,41]
["Travaux techniques","Vérification technique","Inventaire de conformité","Traitement de régénération artificielle","Taux de base intègre les critères et ajouter au taux d,exécution en 2023-2024","Variable","PE","Constante","Travaux techniques",null,80.645373571066685,{"$f":"ROUND(K161,0)","v":81},"[Grilles TSNC 2024-2025_Finaux_Vf.xlsx]Feuille de calcul'!AZ161",80.574631086979153,{"$f":"ROUND(N161,0)","v":81},76.8903293329832,{"$f":"ROUND(P161,0)","v":77},63.989251191630153,{"$f":"ROUND(R161,0)","v":64},"[Grilles TSNC 2023-2024_Consultation.xlsx]Feuille de calcul'!$CE161",46.112940376708764,46,"[Grilles TSNC 2022-2023_Officielle.xlsx]Feuille de calcul'!$AP$138",42.598989280785048,{"$f":"ROUND(X161,0)","v":43},40.464970094845043,{"$f":"ROUND(Z161,0)","v":40},39.441062926070046,{"$f":"ROUND(AB161,0)","v":39},35.575899354859537,36]
["Travaux techniques","Vérification technique","Inventaire de conformité","Traitement de régénération artificielle","Retirer 2023-2024","Variable","Critère","Critère #3","Travaux techniques",null,0.52268341415223996,{"$f":"ROUND(K162,2)","v":0.52},"[Grilles TSNC 2024-2025_Finaux_Vf.xlsx]Feuille de calcul'!AZ162",0.5222249139125964,{"$f":"ROUND(N162,2)","v":0.52},0.49834600636622989,{"$f":"ROUND(P162,2)","v":0.5},0.49834600636622989,{"$f":"ROUND(R162,2)","v":0.5},"[Grilles TSNC 2023-2024_Consultation.xlsx]Feuille de calcul'!$CE162",0.47224419636127662,0.47,"[Grilles TSNC 2022-2023_Officielle.xlsx]Feuille de calcul'!$AP$139",0.49393222369580236,0.49,0.46918842437762687,{"$f":"ROUND(Z162,2)","v":0.47},0.45731629423393749,0.46,0.44480926045956332,0.44]
["Travaux techniques","Vérification technique","Inventaire de conformité","Traitement de régénération artificielle","Retirer 2023-2024","Variable","Critère","Critère #4","Travaux techniques",null,0,"-","[Grilles TSNC 2024-2025_Finaux_Vf.xlsx]Feuille de calcul'!AZ163",0,"-",0,"-",0,"-","[Grilles TSNC 2023-2024_Consultation.xlsx]Feuille de calcul'!$CE163",0,"-","[Grilles TSNC 2022-2023_Officielle.xlsx]Feuille de calcul'!$AP$140",0,"-","-","-",2.2479187500000011,2.25,0,0]
["Travaux techniques","Vérification technique","Inventaire de conformité","Traitement de régénération artificielle","Retirer 2023-2024","Variable","Critère","Critère #4","Travaux techniques",null,11.689443523887958,"-","[Grilles TSNC 2024-2025_Finaux_Vf.xlsx]Feuille de calcul'!AZ164",11.679189491500695,"-",11.145154674979633,"-",11.145154674979633,"-","[Grilles TSNC 2023-2024_Consultation.xlsx]Feuille de calcul'!$CE164",10.561406222928531,10.56,"[Grilles TSNC 2022-2023_Officielle.xlsx]Feuille de calcul'!$AP$141",7.2045347588989692,{"$f":"ROUND(X164,2)","v":7.2},"-","-",2.2479187500000011,{"$f":"ROUND(AB164,2)","v":2.25}]
["Travaux techniques","Vérification technique","Inventaire de conformité","Traitement d'éducation de peuplement","Taux de base intègre les critères et ajouter au taux d,exécution en 2023-2024","Variable","PE","Constante","Travaux techniques",null,144.99499759909318,{"$f":"ROUND(K165,0)","v":145},"[Grilles TSNC 2024-2025_Finaux_Vf.xlsx]Feuille de calcul'!AZ165",144.86780733564447,{"$f":"ROUND(N165,0)","v":145},138.24367875492405,{"$f":"ROUND(P165,0)","v":138},131.13823303212763,{"$f":"ROUND(R165,0)","v":131},"[Grilles TSNC 2023-2024_Consultation.xlsx]Feuille de calcul'!$CE165",108.2078747182844,108,"[Grilles TSNC 2022-2023_Officielle.xlsx]Feuille de calcul'!$AP$142",107.03574263914034,{"$f":"ROUND(X165,0)","v":107},101.67372977851379,{"$f":"ROUND(Z165,0)","v":102},99.101024039394147,{"$f":"ROUND(AB165,0)","v":99},89.389275938063477,89]
["Travaux techniques","Vérification technique","Inventaire de conformité","Traitement d'éducation de peuplement","Retirer 2023-2024","Variable","Critère",null,"Travaux techniques",null,4.129255760915016,{"$f":"ROUND(K166,2)","v":4.13},"[Grilles TSNC 2024-2025_Finaux_Vf.xlsx]Feuille de calcul'!AZ166",4.1256335592061673,{"$f":"ROUND(N166,2)","v":4.13},3.9369875951666971,{"$f":"ROUND(P166,2)","v":3.94},3.9369875951666971,{"$f":"ROUND(R166,2)","v":3.94},"[Grilles TSNC 2023-2024_Consultation.xlsx]Feuille de calcul'!$CE166",3.7307804601879133,3.73,"[Grilles TSNC 2022-2023_Officielle.xlsx]Feuille de calcul'!$AP$143",3.6371372835781814,{"$f":"ROUND(X166,2)","v":3.64},3.4549329431443438,{"$f":"ROUND(Z166,2)","v":3.45},3.3675108939044494,{"$f":"ROUND(AB166,2)","v":3.37},3.3525053410276979,3.35]
["Travaux techniques","Vérification technique","Inventaire de conformité","Traitement d'éducation de peuplement","Retirer 2023-2024","Variable","Critère",null,"Travaux techniques",null,0,"-","[Grilles TSNC 2024-2025_Finaux_Vf.xlsx]Feuille de calcul'!AZ167",0,"-",0,"-",0,"-","[Grilles TSNC 2023-2024_Consultation.xlsx]Feuille de calcul'!$CE167",0,"-","[Grilles TSNC 2022-2023_Officielle.xlsx]Feuille de calcul'!$AP$144","-","-","-","-","-","-",0.67050106820553945,0.67]
["Travaux techniques","Vérification technique","Inventaire de conformité","Traitement d'éducation de peuplement","Retirer 2023-2024","Variable","Critère","Critère #6","Travaux techniques",null,8.258511521830032,{"$f":"ROUND(K168,2)","v":8.26},"[Grilles TSNC 2024-2025_Finaux_Vf.xlsx]Feuille de calcul'!AZ168",8.2512671184123345,{"$f":"ROUND(N168,2)","v":8.25},7.8739751903333941,{"$f":"ROUND(P168,2)","v":7.87},7.8739751903333941,{"$f":"ROUND(R168,2)","v":7.87},"[Grilles TSNC 2023-2024_Consultation.xlsx]Feuille de calcul'!$CE168",7.4615609203758266,7.46,"[Grilles TSNC 2022-2023_Officielle.xlsx]Feuille de calcul'!$AP$145",7.2742745671563629,{"$f":"ROUND(X168,2)","v":7.27},6.9098658862886877,{"$f":"ROUND(Z168,2)","v":6.91},6.7350217878088987,{"$f":"ROUND(AB168,2)","v":6.74},6.7050106820553959,6.71]
["Travaux techniques","Planification","Recherche de secteur d'intervention potentiel (terrain) réalisé à la demande du MFFP","Traitement du site","RA retirer ","Fixe","Hectare","Constante","Travaux techniques",null,9.0033650728294319,{"$f":"ROUND(K169,0)","v":9},"[Grilles TSNC 2024-2025_Finaux_Vf.xlsx]Feuille de calcul'!AZ169",8.9954672805296969,{"$f":"ROUND(N169,0)","v":9},8.5841465529933529,{"$f":"ROUND(P169,0)","v":9},7.4637195328674384,{"$f":"ROUND(R169,0)","v":7},"[Grilles TSNC 2023-2024_Consultation.xlsx]Feuille de calcul'!$CE169",6.0110506288730994,6,"[Grilles TSNC 2022-2023_Officielle.xlsx]Feuille de calcul'!$AP$146",5.7570648209112729,{"$f":"ROUND(X169,0)","v":6},5.4686615749669709,{"$f":"ROUND(Z169,0)","v":5},5.3302850538157447,{"$f":"ROUND(AB169,0)","v":5},4.8079253077613728,5]
["Travaux techniques","Planification","Recherche de secteur d'intervention potentiel (terrain) réalisé à la demande du MFFP","Traitement d'éducation de peuplement",null,"Fixe","Hectare","Constante","Travaux techniques",null,16.219548321628707,{"$f":"ROUND(K170,0)","v":16},"[Grilles TSNC 2024-2025_Finaux_Vf.xlsx]Feuille de calcul'!AZ170",16.205320460956223,{"$f":"ROUND(N170,0)","v":16},15.464326803362971,{"$f":"ROUND(P170,0)","v":15},13.74618450085179,{"$f":"ROUND(R170,0)","v":14},"[Grilles TSNC 2023-2024_Consultation.xlsx]Feuille de calcul'!$CE170",11.398050850598322,11,"[Grilles TSNC 2022-2023_Officielle.xlsx]Feuille de calcul'!$AP$147",10.916447328482935,{"$f":"ROUND(X170,0)","v":11},10.36958205222639,10,10.107194872016221,10,9.1167053028159817,9]
["Travaux techniques","Planification","Recherche de secteur d'intervention potentiel (terrain) proposé par l'entreprise sylvicole","Traitement du site","RA retirer ","Fixe","Hectare","Constante","Travaux techniques",null,12.847229904569444,{"$f":"ROUND(K171,0)","v":13},"[Grilles TSNC 2024-2025_Finaux_Vf.xlsx]Feuille de calcul'!AZ171",12.835960256766377,{"$f":"ROUND(N171,0)","v":13},12.249031713002072,{"$f":"ROUND(P171,0)","v":12},13.511554925976467,{"$f":"ROUND(R171,0)","v":14},"[Grilles TSNC 2023-2024_Consultation.xlsx]Feuille de calcul'!$CE171",14.000257990590262,14,"[Grilles TSNC 2022-2023_Officielle.xlsx]Feuille de calcul'!$AP$148",13.408703026748491,{"$f":"ROUND(X171,0)","v":13},12.736986866323996,13,12.414695953209407,12,11.198074823197159,11]
["Travaux techniques","Planification","Recherche de secteur d'intervention potentiel (terrain) proposé par l'entreprise sylvicole","Traitement d'éducation de peuplement",null,"Fixe","Hectare","Constante","Travaux techniques",null,10.833053430673807,{"$f":"ROUND(K172,0)","v":11},"[Grilles TSNC 2024-2025_Finaux_Vf.xlsx]Feuille de calcul'!AZ172",10.823550627524618,{"$f":"ROUND(N172,0)","v":11},10.328640182096626,{"$f":"ROUND(P172,0)","v":10},15.852002022393194,{"$f":"ROUND(R172,0)","v":16},"[Grilles TSNC 2023-2024_Consultation.xlsx]Feuille de calcul'!$CE172",20.25578895047375,20,"[Grilles TSNC 2022-2023_Officielle.xlsx]Feuille de calcul'!$AP$149",19.399918115219315,{"$f":"ROUND(X172,0)","v":19},18.428068825775792,18,17.961773367428361,18,16.20154717311264,16]
["Travaux techniques","Planification","Confection du plan de sondage",null,null,"Fixe","Hectare","Constante","Travaux techniques",null,3.3796577481805032,{"$f":"ROUND(K173,2)","v":3.38},"[Grilles TSNC 2024-2025_Finaux_Vf.xlsx]Feuille de calcul'!AZ173",3.3766930972168465,{"$f":"ROUND(N173,2)","v":3.38},3.2222926844200139,{"$f":"ROUND(P173,2)","v":3.22},2.85209537186687,{"$f":"ROUND(R173,2)","v":2.85},"[Grilles TSNC 2023-2024_Consultation.xlsx]Feuille de calcul'!$CE173",2.3519039773540098,2.35,"[Grilles TSNC 2022-2023_Officielle.xlsx]Feuille de calcul'!$AP$150",2.2525286320412259,{"$f":"ROUND(X173,2)","v":2.25},2.1396870036642959,{"$f":"ROUND(Z173,2)","v":2.14},2.0855453384943599,2,1.8811650994636291,2]
["Travaux techniques","Planification","Inventaire diagnostique d'un secteur d'intervention potentiel","Traitement du site","PT et RA ensemble jusqu'en 2019-2020 - Taux fixe jusqu'en 2019-2020\nIntégration des critères au taux de base 2023-2024","Variable","PE","Constante","Travaux techniques",null,35.673057691693458,{"$f":"ROUND(K174,0)","v":36},"[Grilles TSNC 2024-2025_Finaux_Vf.xlsx]Feuille de calcul'!AZ174",35.641765125184556,{"$f":"ROUND(N174,0)","v":36},34.012033583199873,{"$f":"ROUND(P174,0)","v":34},37.703475617330113,{"$f":"ROUND(R174,0)","v":38},"[Grilles TSNC 2023-2024_Consultation.xlsx]Feuille de calcul'!$CE174",38.297164570752095,38,"[Grilles TSNC 2022-2023_Officielle.xlsx]Feuille de calcul'!$AP$151",36.6789888329821,{"$f":"ROUND(X174,0)","v":37},34.841535240491126,{"$f":"ROUND(Z174,0)","v":35},33.959920905419359,34,30.631900831242923,31]
["Travaux techniques","Planification","Inventaire diagnostique d'un secteur d'intervention potentiel","Traitement du site","Retirer 2023-2024","Variable","Critère","Critère #7","Travaux techniques",null,0.58118454105706008,{"$f":"ROUND(K175,2)","v":0.57999999999999996},"[Grilles TSNC 2024-2025_Finaux_Vf.xlsx]Feuille de calcul'!AZ175",0.58067472336601289,{"$f":"ROUND(N175,2)","v":0.57999999999999996},0.55412317887939788,{"$f":"ROUND(P175,2)","v":0.55000000000000004},0.55412317887939788,{"$f":"ROUND(R175,2)","v":0.55000000000000004},"[Grilles TSNC 2023-2024_Consultation.xlsx]Feuille de calcul'!$CE175",0.52509993448758552,0.53,"[Grilles TSNC 2022-2023_Officielle.xlsx]Feuille de calcul'!$AP$158",0.50291280958118056,{"$f":"ROUND(X175,2)","v":0.5},0.47771912300267466,{"$f":"ROUND(Z175,2)","v":0.48},0.46563113594728184,{"$f":"ROUND(AB175,2)","v":0.47},"-","-"]
["Travaux techniques","Planification","Inventaire diagnostique d'un secteur d'intervention potentiel","Traitement du site","Retirer 2023-2024","Variable","Critère","Critère #8","Travaux techniques",null,2.9059227052853007,{"$f":"ROUND(K176,2)","v":2.91},"[Grilles TSNC 2024-2025_Finaux_Vf.xlsx]Feuille de calcul'!AZ176",2.9033736168300646,{"$f":"ROUND(N176,2)","v":2.9},2.7706158943969896,{"$f":"ROUND(P176,2)","v":2.77},2.7706158943969896,2.77,"[Grilles TSNC 2023-2024_Consultation.xlsx]Feuille de calcul'!$CE176",2.6254996724379276,2.63,"[Grilles TSNC 2022-2023_Officielle.xlsx]Feuille de calcul'!$AP$159",2.5145640479059028,{"$f":"ROUND(X176,2)","v":2.5099999999999998},2.3885956150133731,{"$f":"ROUND(Z176,2)","v":2.39},2.3281556797364091,{"$f":"ROUND(AB176,2)","v":2.33},"-","-"]
["Travaux techniques","Planification","Inventaire diagnostique d'un secteur d'intervention potentiel","Régénération artificielle","Retirer 2023-2025","Variable","PE","Constante","Travaux techniques",null,38.909792848813581,{"$f":"ROUND(K177,0)","v":39},"[Grilles TSNC 2024-2025_Finaux_Vf.xlsx]Feuille de calcul'!AZ177",38.875661003680143,{"$f":"ROUND(N177,0)","v":39},37.098058499127603,{"$f":"ROUND(P177,0)","v":37},37.098058499127603,{"$f":"ROUND(R177,0)","v":37},"[Grilles TSNC 2023-2024_Consultation.xlsx]Feuille de calcul'!$CE177",35.1549778641335,35,"[Grilles TSNC 2022-2023_Officielle.xlsx]Feuille de calcul'!$AP$160",33.66956940428561,{"$f":"ROUND(X177,0)","v":34},26.348750831554685,{"$f":"ROUND(Z177,0)","v":26},25.682034044134348,{"$f":"ROUND(AB177,0)","v":26},"-","-"]
["Travaux techniques","Planification","Inventaire diagnostique d'un secteur d'intervention potentiel","Régénération artificielle","Retirer 2023-2026","Variable","Critère","Critère #9","Travaux techniques",null,0.70545857125380107,{"$f":"ROUND(K178,2)","v":0.71},"[Grilles TSNC 2024-2025_Finaux_Vf.xlsx]Feuille de calcul'!AZ178",0.7048397398250229,{"$f":"ROUND(N178,2)","v":0.7},0.67261070874301732,{"$f":"ROUND(P178,2)","v":0.67},0.67261070874301732,{"$f":"ROUND(R178,2)","v":0.67},"[Grilles TSNC 2023-2024_Consultation.xlsx]Feuille de calcul'!$CE178",0.63738145697290238,0.64,"[Grilles TSNC 2022-2023_Officielle.xlsx]Feuille de calcul'!$AP$161",0.61045008435202364,{"$f":"ROUND(X178,2)","v":0.61},0.47771912300267466,{"$f":"ROUND(Z178,2)","v":0.48},0.46563113594728184,{"$f":"ROUND(AB178,2)","v":0.47},"-","-"]
["Travaux techniques","Planification","Inventaire diagnostique d'un secteur d'intervention potentiel","Traitement de préparation de site drainage sylvicole - plan et devis",null,"Fixe","Hectare",null,"Travaux techniques",null,41.028900035755655,{"$f":"ROUND(K179,0)","v":41},"[Grilles TSNC 2024-2025_Finaux_Vf.xlsx]Feuille de calcul'!AZ179",40.992909300275329,{"$f":"ROUND(N179,0)","v":41},39.118494914519516,{"$f":"ROUND(P179,0)","v":39},39.118494914519516,{"$f":"ROUND(R179,0)","v":39},"[Grilles TSNC 2023-2024_Consultation.xlsx]Feuille de calcul'!$CE179",37.06959011966871,37,"[Grilles TSNC 2022-2023_Officielle.xlsx]Feuille de calcul'!$AP$162",35.503283266065836,36,33.724727273709881,{"$f":"ROUND(Z179,0)","v":34},32.871372138648695,33,29.650028171216508,30]
["Travaux techniques","Planification","Inventaire diagnostique d'un secteur d'intervention potentiel","Traitement d'éducation de peuplement (dégagement, nettoiement et éclaircie précommerciale)","Taux de base intègre les critères et ajouter au taux d,exécution en 2023-2024","Variable","PE","Constante","Travaux techniques",null,113.12148363139885,{"$f":"ROUND(K180,0)","v":113},"[Grilles TSNC 2024-2025_Finaux_Vf.xlsx]Feuille de calcul'!AZ180",113.02225295763057,{"$f":"ROUND(N180,0)","v":113},107.85427292229083,{"$f":"ROUND(P180,0)","v":108},114.43529885440758,{"$f":"ROUND(R180,0)","v":114},"[Grilles TSNC 2023-2024_Consultation.xlsx]Feuille de calcul'!$CE180",109.26104673444534,109,"[Grilles TSNC 2022-2023_Officielle.xlsx]Feuille de calcul'!$AP$163",104.64442362694618,{"$f":"ROUND(X180,0)","v":105},99.402205173132629,{"$f":"ROUND(Z180,0)","v":99},96.886977057795903,{"$f":"ROUND(AB180,0)","v":97},93.6922021590958,94]
["Travaux techniques","Planification","Inventaire diagnostique d'un secteur d'intervention potentiel","Traitement d'éducation de peuplement (dégagement, nettoiement et éclaircie précommerciale)","Retirer 2023-2024","Variable","Critère","Critère #10","Travaux techniques",null,0.87177681158559017,{"$f":"ROUND(K181,2)","v":0.87},"[Grilles TSNC 2024-2025_Finaux_Vf.xlsx]Feuille de calcul'!AZ181",0.87101208504901928,{"$f":"ROUND(N181,2)","v":0.87},0.83118476831909682,{"$f":"ROUND(P181,2)","v":0.83},0.83118476831909682,{"$f":"ROUND(R181,2)","v":0.83},"[Grilles TSNC 2023-2024_Consultation.xlsx]Feuille de calcul'!$CE181",0.78764990173137828,0.79,"[Grilles TSNC 2022-2023_Officielle.xlsx]Feuille de calcul'!$AP$166",0.75436921437177085,{"$f":"ROUND(X181,2)","v":0.75},0.71657868450401196,{"$f":"ROUND(Z181,2)","v":0.72},0.69844670392092278,{"$f":"ROUND(AB181,2)","v":0.7},0.64058124394458038,0.64]
["Travaux techniques","Planification","Inventaire diagnostique d'un secteur d'intervention potentiel","Traitement d'éducation de peuplement (dégagement, nettoiement et éclaircie précommerciale)","Retirer 2023-2024","Variable","Critère","Critère #11","Travaux techniques",null,4.3588840579279511,{"$f":"ROUND(K182,2)","v":4.3600000000000003},"[Grilles TSNC 2024-2025_Finaux_Vf.xlsx]Feuille de calcul'!AZ182",4.3550604252450968,{"$f":"ROUND(N182,2)","v":4.3600000000000003},4.1559238415954844,{"$f":"ROUND(P182,2)","v":4.16},4.1559238415954844,{"$f":"ROUND(R182,2)","v":4.16},"[Grilles TSNC 2023-2024_Consultation.xlsx]Feuille de calcul'!$CE182",3.9382495086568916,3.94,"[Grilles TSNC 2022-2023_Officielle.xlsx]Feuille de calcul'!$AP$167",3.7718460718588545,{"$f":"ROUND(X182,2)","v":3.77},3.5828934225200597,{"$f":"ROUND(Z182,2)","v":3.58},3.4922335196046137,{"$f":"ROUND(AB182,2)","v":3.49},3.2197636208793381,3.22]
["Travaux techniques","Planification","Inventaire diagnostique d'un secteur d'intervention potentiel","Traitement d'éducation de peuplement (dégagement, nettoiement et éclaircie précommerciale)","Retirer 2023-2024","Variable","Critère","Critère #12","Travaux techniques",null,8.7177681158559022,{"$f":"ROUND(K183,2)","v":8.7200000000000006},"[Grilles TSNC 2024-2025_Finaux_Vf.xlsx]Feuille de calcul'!AZ183",8.7101208504901937,{"$f":"ROUND(N183,2)","v":8.7100000000000009},8.3118476831909689,{"$f":"ROUND(P183,2)","v":8.31},8.3118476831909689,{"$f":"ROUND(R183,2)","v":8.31},"[Grilles TSNC 2023-2024_Consultation.xlsx]Feuille de calcul'!$CE183",7.8764990173137832,7.88,"[Grilles TSNC 2022-2023_Officielle.xlsx]Feuille de calcul'!$AP$168",7.5436921437177089,{"$f":"ROUND(X183,2)","v":7.54},7.1657868450401194,{"$f":"ROUND(Z183,2)","v":7.17},6.9844670392092274,{"$f":"ROUND(AB183,2)","v":6.98},6.4395272417586762,6.44]
["Travaux techniques","Planification","Inventaire diagnostique d'un secteur d'intervention potentiel","Traitement d'éducation (élagage et taille)",null,"Fixe","Hectare","Délimitation de secteur : Traitement d'éducation (élagage et taille)","Travaux techniques",null,59.263966718313718,{"$f":"ROUND(K184,0)","v":59},"[Grilles TSNC 2024-2025_Finaux_Vf.xlsx]Feuille de calcul'!AZ184",59.211980100397696,{"$f":"ROUND(N184,0)","v":59},56.504492654305963,{"$f":"ROUND(P184,0)","v":57},56.504492654305963,{"$f":"ROUND(R184,0)","v":57},"[Grilles TSNC 2023-2024_Consultation.xlsx]Feuille de calcul'!$CE184",53.544963506188132,54,"[Grilles TSNC 2022-2023_Officielle.xlsx]Feuille de calcul'!$AP$169",51.282520273206202,{"$f":"ROUND(X184,0)","v":51},48.713494950914267,{"$f":"ROUND(Z184,0)","v":49},47.480870866937003,{"$f":"ROUND(AB184,0)","v":47},42.827818469534961,43]
["Travaux techniques","Suivi d'efficacité",null,"État de la régénération suite à une intervention de régénération artificielle","Origine 2020-2021 : Taux particulier K:\\...\\TSNC\\2020-2021\\Inventaire avant et après_final_ajustement suiviforestier.xlsx",null,null,"Constante","Travaux techniques",null,97.752513882313366,{"$f":"ROUND(K185,0)","v":98},"[Grilles TSNC 2024-2025_Finaux_Vf.xlsx]Feuille de calcul'!AZ185",97.666764937871548,{"$f":"ROUND(N185,0)","v":98},93.200919689641054,{"$f":"ROUND(P185,0)","v":93},93.200919689641054,{"$f":"ROUND(R185,0)","v":93},"[Grilles TSNC 2023-2024_Consultation.xlsx]Feuille de calcul'!$CE185",88.319346110343332,88,"[Grilles TSNC 2022-2023_Officielle.xlsx]Feuille de calcul'!$AP$164",84.587575765114835,{"$f":"ROUND(X185,0)","v":85},80.350115848282215,{"$f":"ROUND(Z185,0)","v":80}]
["Travaux techniques","Suivi d'efficacité",null,"État de la régénération suite à une intervention de régénération artificielle","critère Inventaire avant traitement EP, équivalent critère 11","Variable","Critère","Critère #14","Travaux techniques",null,4.3588840579279511,{"$f":"ROUND(K186,2)","v":4.3600000000000003},"[Grilles TSNC 2024-2025_Finaux_Vf.xlsx]Feuille de calcul'!AZ186",4.3550604252450968,{"$f":"ROUND(N186,2)","v":4.3600000000000003},4.1559238415954844,{"$f":"ROUND(P186,2)","v":4.16},4.1559238415954844,{"$f":"ROUND(R186,2)","v":4.16},"[Grilles TSNC 2023-2024_Consultation.xlsx]Feuille de calcul'!$CE186",3.9382495086568916,3.94,"[Grilles TSNC 2022-2023_Officielle.xlsx]Feuille de calcul'!$AP$165",3.7718460718588545,{"$f":"ROUND(X186,2)","v":3.77},3.5828934225200597,{"$f":"ROUND(Z186,2)","v":3.58}]
["Travaux techniques","Suivi d'efficacité",null,"Mise en place de la régénération suite à une coupe totale","Origine 2020-2021 : Taux particulier K:\\...\\TSNC\\2020-2021\\Inventaire avant et après_final_ajustement suiviforestier.xlsx\nMAJ 2021-2022 (fichier de travail/suivi d'efficacité)","Variable","Point d'observation","Constante","Travaux techniques",null,36.877202111644827,{"$f":"ROUND(K187,0)","v":37},"[Grilles TSNC 2024-2025_Finaux_Vf.xlsx]Feuille de calcul'!AZ187",36.844853264239752,{"$f":"ROUND(N187,0)","v":37},35.160110117719796,{"$f":"ROUND(P187,0)","v":35},35.160110117719796,{"$f":"ROUND(R187,0)","v":35},"[Grilles TSNC 2023-2024_Consultation.xlsx]Feuille de calcul'!$CE187",33.318533176554318,33,"[Grilles TSNC 2022-2023_Officielle.xlsx]Feuille de calcul'!$AP$152",31.910720284694428,{"$f":"ROUND(X187,0)","v":32},27.141555952342589,{"$f":"ROUND(Z187,0)","v":27}]
["Travaux techniques","Suivi d'efficacité","critère optionnel (partie de placette de base )","Mise en place de la régénération suite à une coupe totale","critère optionnel (partie de placette de base )","Variable","Critère","Critère #13","Travaux techniques",null,5.5103865224296875,{"$f":"ROUND(K188,2)","v":5.51},"[Grilles TSNC 2024-2025_Finaux_Vf.xlsx]Feuille de calcul'!AZ188",5.5055527866105392,{"$f":"ROUND(N188,2)","v":5.51},5.2538095578202002,{"$f":"ROUND(P188,2)","v":5.25},5.2538095578202011,{"$f":"ROUND(R188,2)","v":5.25},"[Grilles TSNC 2023-2024_Consultation.xlsx]Feuille de calcul'!$CE188",4.9786313941977722,4.9800000000000004,"[Grilles TSNC 2022-2023_Officielle.xlsx]Feuille de calcul'!$AP$153",4.768268548287673,{"$f":"ROUND(X188,2)","v":4.7699999999999996},0,{"$f":"ROUND(Z188,2)","v":0}]
["Travaux techniques","Suivi d'efficacité","critère Inventaire avant traitement PT","Mise en place de la régénération suite à une coupe totale","critère Inventaire avant traitement PT","Variable","Critère","Critère #7","Travaux techniques",null,0.58118454105706008,{"$f":"ROUND(K189,2)","v":0.57999999999999996},"[Grilles TSNC 2024-2025_Finaux_Vf.xlsx]Feuille de calcul'!AZ189",0.58067472336601289,{"$f":"ROUND(N189,2)","v":0.57999999999999996},0.55412317887939788,{"$f":"ROUND(P189,2)","v":0.55000000000000004},0.55412317887939788,{"$f":"ROUND(R189,2)","v":0.55000000000000004},"[Grilles TSNC 2023-2024_Consultation.xlsx]Feuille de calcul'!$CE189",0.52509993448758552,0.53,"[Grilles TSNC 2022-2023_Officielle.xlsx]Feuille de calcul'!$AP$154",0.50291280958118056,{"$f":"ROUND(X189,2)","v":0.5},0.47771912300267466,0.48]
["Travaux techniques","Suivi d'efficacité","critère Inventaire avant traitement PT","Mise en place de la régénération suite à une coupe totale","critère Inventaire avant traitement PT","Variable","Critère","Critère #8","Travaux techniques",null,2.9059227052853007,{"$f":"ROUND(K190,2)","v":2.91},"[Grilles TSNC 2024-2025_Finaux_Vf.xlsx]Feuille de calcul'!AZ190",2.9033736168300646,{"$f":"ROUND(N190,2)","v":2.9},2.7706158943969896,{"$f":"ROUND(P190,2)","v":2.77},2.7706158943969896,{"$f":"ROUND(R190,2)","v":2.77},"[Grilles TSNC 2023-2024_Consultation.xlsx]Feuille de calcul'!$CE190",2.6254996724379276,2.63,"[Grilles TSNC 2022-2023_Officielle.xlsx]Feuille de calcul'!$AP$155",2.5145640479059028,{"$f":"ROUND(X190,2)","v":2.5099999999999998},2.3885956150133731,2.39]
["Travaux techniques","Suivi d'efficacité","critère Inventaire avant traitement EP, équivalent critère 11","Mise en place de la régénération suite à une coupe totale","critère Inventaire avant traitement EP, équivalent critère 11","Variable","Critère","Critère #14","Travaux techniques",null,4.3588840579279511,{"$f":"ROUND(K191,2)","v":4.3600000000000003},"[Grilles TSNC 2024-2025_Finaux_Vf.xlsx]Feuille de calcul'!AZ191",4.3550604252450968,{"$f":"ROUND(N191,2)","v":4.3600000000000003},4.1559238415954844,{"$f":"ROUND(P191,2)","v":4.16},4.1559238415954844,{"$f":"ROUND(R191,2)","v":4.16},"[Grilles TSNC 2023-2024_Consultation.xlsx]Feuille de calcul'!$CE191",3.9382495086568916,3.94,"[Grilles TSNC 2022-2023_Officielle.xlsx]Feuille de calcul'!$AP$156",3.7718460718588545,{"$f":"ROUND(X191,2)","v":3.77},3.5828934225200597,3.58]
["Travaux techniques","Suivi d'efficacité","critère Inventaire avant traitement EP","Mise en place de la régénération suite à une coupe totale","critère Inventaire avant traitement EP","Variable","Critère","Critère #12","Travaux techniques",null,8.7177681158559022,{"$f":"ROUND(K192,2)","v":8.7200000000000006},"[Grilles TSNC 2024-2025_Finaux_Vf.xlsx]Feuille de calcul'!AZ192",8.7101208504901937,{"$f":"ROUND(N192,2)","v":8.7100000000000009},8.3118476831909689,{"$f":"ROUND(P192,2)","v":8.31},8.3118476831909689,{"$f":"ROUND(R192,2)","v":8.31},"[Grilles TSNC 2023-2024_Consultation.xlsx]Feuille de calcul'!$CE192",7.8764990173137832,7.88,"[Grilles TSNC 2022-2023_Officielle.xlsx]Feuille de calcul'!$AP$157",7.5436921437177089,{"$f":"ROUND(X192,2)","v":7.54},7.1657868450401194,7.17]
["Travaux techniques","Planification","Délimitation de secteurs","Traitement du site et régénération artificielle",null,"Fixe","Kilomètre délimité","Délimitation de secteur : Traitement de régénération artificielle","Travaux techniques",null,0,"-","[Grilles TSNC 2024-2025_Finaux_Vf.xlsx]Feuille de calcul'!AZ193",0,"-",0,"-",0,"-","[Grilles TSNC 2023-2024_Consultation.xlsx]Feuille de calcul'!$CE193",0,"-","[Grilles TSNC 2022-2023_Officielle.xlsx]Feuille de calcul'!$AP$170","-","-","-","-",30.768577944661477,{"$f":"ROUND(AB193,0)","v":31},27.753304577597927,28]
["Travaux techniques","Planification","Délimitation de secteurs","Traitement du site mécanisé",null,"Fixe","Kilomètre délimité","Délimitation de secteur : Traitement de préparation de site lorsque réalisé sans exécution (tierce partie)","Travaux techniques",null,48.94747262444649,{"$f":"ROUND(K194,0)","v":49},"[Grilles TSNC 2024-2025_Finaux_Vf.xlsx]Feuille de calcul'!AZ194",48.904535681508179,{"$f":"ROUND(N194,0)","v":49},46.668359553128049,{"$f":"ROUND(P194,0)","v":47},41.642214725310112,{"$f":"ROUND(R194,0)","v":42},"[Grilles TSNC 2023-2024_Consultation.xlsx]Feuille de calcul'!$CE194",34.698234322644474,35,"[Grilles TSNC 2022-2023_Officielle.xlsx]Feuille de calcul'!$AP$171",33.232124714957173,{"$f":"ROUND(X194,0)","v":33},31.567343626752852,{"$f":"ROUND(Z194,0)","v":32}]
["Travaux techniques","Planification","Délimitation de secteurs","Traitement de préparation de site ",null,"Fixe","Hectare","Délimitation de secteur : Traitement de préparation de site sauf le drainage sylvicole et le scarifiage par mixage par placeaux lorsque réalisé avec l'exécution (en régie par l'entreprise)","Travaux techniques",null,12.77139560343598,13,"[Grilles TSNC 2024-2025_Finaux_Vf.xlsx]Feuille de calcul'!AZ195",12.760192477822638,13,12.176728440902398,12,12.176728440902398,12,"[Grilles TSNC 2023-2024_Consultation.xlsx]Feuille de calcul'!$CE195",11.538949371368185,12,"[Grilles TSNC 2022-2023_Officielle.xlsx]Feuille de calcul'!$AP$172",11.051392443293036,11,10.497767019227455,10]
["Travaux techniques","Planification","Délimitation de secteurs","Traitement du site manuel",null,"Fixe","Mmicrosites","Délimitation de secteur : Traitement de scarifiage par mixage par placeaux lorsque réalisé avec l'exécution (en régie par l'entreprise)","Travaux techniques",null,2.3078969955862809,2,"[Grilles TSNC 2024-2025_Finaux_Vf.xlsx]Feuille de calcul'!AZ196",2.3058724979709027,2,2.200435712544055,2,2.200435712544055,2,"[Grilles TSNC 2023-2024_Consultation.xlsx]Feuille de calcul'!$CE196",2.0851837507279303,2,"[Grilles TSNC 2022-2023_Officielle.xlsx]Feuille de calcul'!$AP$173",1.9970781744525243,2,1.8970334735791614,2]
["Travaux techniques","Planification","Délimitation de secteurs","Traitement de drainage sylvicole",null,"Fixe","kilomètre ou Mm³","Délimitation de secteur : Traitement de drainage sylvicole lorsque réalisé avec l'exécution (en régie par l'entreprise)","Travaux techniques",null,23.702725900615849,24,"[Grilles TSNC 2024-2025_Finaux_Vf.xlsx]Feuille de calcul'!AZ197",23.6819337629444,24,22.59906948018218,23,22.59906948018218,23,"[Grilles TSNC 2023-2024_Consultation.xlsx]Feuille de calcul'!$CE197",21.415400683151713,21,"[Grilles TSNC 2022-2023_Officielle.xlsx]Feuille de calcul'!$AP$174",20.510532602485384,21,19.483046485407602,19]
["Travaux techniques","Planification","Délimitation de secteurs","Traitement d'éducation de peuplement",null,"Fixe","Kilomètre délimité","Délimitation de secteur : Traitement d'éducation","Travaux techniques",null,165.3538977983093,165,"[Grilles TSNC 2024-2025_Finaux_Vf.xlsx]Feuille de calcul'!AZ198",165.20884861612032,165,157.65461917044078,158,169.07213540078652,169,"[Grilles TSNC 2023-2024_Consultation.xlsx]Feuille de calcul'!$CE198",171.03616643299088,171,"[Grilles TSNC 2022-2023_Officielle.xlsx]Feuille de calcul'!$AP$175",163.80935009018452,164,155.60323295382099,{"$f":"ROUND(Z198,0)","v":156},151.66591963485524,152,136.80289252360305,137]
["Martelage","Activités liées au martelage pour les traitements commerciaux","Délimitation de secteurs",null,null,"Fixe","Kilomètre délimité",null,"Martelage",null,144.21272486592429,144,"[Grilles TSNC 2024-2025_Finaux_Vf.xlsx]Feuille de calcul'!AZ199",144.02873742774125,144,136.93823376529772,137,118.19929269622479,118,"[Grilles TSNC 2023-2024_Consultation.xlsx]Feuille de calcul'!$CE199",94.310230144513753,94,"[Grilles TSNC 2022-2023_Officielle.xlsx]Feuille de calcul'!$AP$176",90.645248307884643,91,86.299413982078434,{"$f":"ROUND(Z199,0)","v":86},84.097861572141653,84,75.85640034239141,76]
["Martelage","Activités liées au martelage pour les traitements commerciaux","Martelage feuillus","Référence FPr",null,"Fixe","Hectare",null,"Martelage",null,197.53583358975726,198,"[Grilles TSNC 2024-2025_Finaux_Vf.xlsx]Feuille de calcul'!AZ200",197.28381621746703,197,187.57157651854874,188,187.57157651854874,188,"[Grilles TSNC 2023-2024_Consultation.xlsx]Feuille de calcul'!$CE200",177.85899869274544,178,"[Grilles TSNC 2022-2023_Officielle.xlsx]Feuille de calcul'!$AP$177",170.94723526378223,171,162.75145692151702,163,158.59956473971499,159,143.05705106073921,143]
["Martelage","Activités liées au martelage pour les traitements commerciaux","Martelage résineux","Référence FPr",null,"Fixe","Hectare",null,"Martelage",null,224.90254205273001,225,"[Grilles TSNC 2024-2025_Finaux_Vf.xlsx]Feuille de calcul'!AZ201",224.61561007365813,225,213.55783206134802,214,213.55783206134802,214,"[Grilles TSNC 2023-2024_Consultation.xlsx]Feuille de calcul'!$CE201",202.49966907789323,202,"[Grilles TSNC 2022-2023_Officielle.xlsx]Feuille de calcul'!$AP$178",194.6303466517189,195,185.29912127463504,185,180.57202397260636,181,162.87624304634389,163]
["Martelage","Activités liées au martelage pour les traitements commerciaux","Martelage à taux variable",null,null,"Variable","Hectare","Constante","Martelage",null,167.79439032805777,{"$f":"ROUND(K202,2)","v":167.79},"[Grilles TSNC 2024-2025_Finaux_Vf.xlsx]Feuille de calcul'!AZ202",167.58031726310014,{"$f":"ROUND(N202,2)","v":167.58},159.33037440774746,{"$f":"ROUND(P202,2)","v":159.33000000000001},174.22001708609318,{"$f":"ROUND(R202,2)","v":174.22},"[Grilles TSNC 2023-2024_Consultation.xlsx]Feuille de calcul'!$CE202",179.31743899109767,179.32,"[Grilles TSNC 2022-2023_Officielle.xlsx]Feuille de calcul'!$AP$179",172.34899923767765,{"$f":"ROUND(X202,2)","v":172.35},164.08601567386853,{"$f":"ROUND(Z202,2)","v":164.09},159.90007805766703,{"$f":"ROUND(AB202,2)","v":159.9},144.2301160715844,144.22999999999999]
["Martelage","Activités liées au martelage pour les traitements commerciaux","Martelage à taux variable",null,null,"Variable","Hectare","Variable 1","Martelage",null,41.512262736651117,{"$f":"ROUND(K203,2)","v":41.51},"[Grilles TSNC 2024-2025_Finaux_Vf.xlsx]Feuille de calcul'!AZ203",41.459301148960449,{"$f":"ROUND(N203,2)","v":41.46},39.418268700234471,{"$f":"ROUND(P203,2)","v":39.42},43.101960137772267,{"$f":"ROUND(R203,2)","v":43.1},"[Grilles TSNC 2023-2024_Consultation.xlsx]Feuille de calcul'!$CE203",44.363060207842501,44.36,"[Grilles TSNC 2022-2023_Officielle.xlsx]Feuille de calcul'!$AP$180",42.639071096270129,{"$f":"ROUND(X203,2)","v":42.64},40.594812381668063,{"$f":"ROUND(Z203,2)","v":40.590000000000003},39.559213147490738,{"$f":"ROUND(AB203,2)","v":39.56},35.682471036101894,35.68]
["Martelage","Activités liées au martelage pour les traitements commerciaux","Martelage à taux variable",null,null,"Variable","Hectare","Variable 2","Martelage",null,4.7607782716322022,{"$f":"ROUND(K204,2)","v":4.76},"[Grilles TSNC 2024-2025_Finaux_Vf.xlsx]Feuille de calcul'!AZ204",4.7547044428575962,{"$f":"ROUND(N204,2)","v":4.75},4.5206313691917792,{"$f":"ROUND(P204,2)","v":4.5199999999999996},4.9430905896510851,{"$f":"ROUND(R204,2)","v":4.9400000000000004},"[Grilles TSNC 2023-2024_Consultation.xlsx]Feuille de calcul'!$CE204",5.0877181627138155,5.09,"[Grilles TSNC 2022-2023_Officielle.xlsx]Feuille de calcul'!$AP$181",4.8900047796835562,{"$f":"ROUND(X204,2)","v":4.8899999999999997},4.6555617060353516,{"$f":"ROUND(Z204,2)","v":4.66},4.5367953944163641,{"$f":"ROUND(AB204,2)","v":4.54},4.0921964158999149,4.09]
["Martelage","Activités liées au martelage pour les traitements commerciaux","Martelage en éclaircie commerciale en peuplement résineux (ou mixte à tendance résineuse)","Martelage négatif",null,"Fixe","Hectare",null,"Martelage",null,253.30872505182128,{"$f":"ROUND(K205,0)","v":253},"[Grilles TSNC 2024-2025_Finaux_Vf.xlsx]Feuille de calcul'!AZ205",252.98555229827252,{"$f":"ROUND(N205,0)","v":253},240.53112815242355,{"$f":"ROUND(P205,0)","v":241},240.53112815242355,{"$f":"ROUND(R205,0)","v":241},"[Grilles TSNC 2023-2024_Consultation.xlsx]Feuille de calcul'!$CE205",228.07627041187638,228,"[Grilles TSNC 2022-2023_Officielle.xlsx]Feuille de calcul'!$AP$182",219.21301785544878,{"$f":"ROUND(X205,0)","v":219},208.70321755765522,{"$f":"ROUND(Z205,0)","v":209},203.379067017409,{"$f":"ROUND(AB205,0)","v":203},183.44823091251104,183]
["Martelage","Activités liées au martelage pour les traitements commerciaux","Martelage en éclaircie commerciale en peuplement résineux (ou mixte à tendance résineuse)","Martelage positif",null,"Fixe","Hectare",null,"Martelage",null,132.03305150728002,132,"[Grilles TSNC 2024-2025_Finaux_Vf.xlsx]Feuille de calcul'!AZ206",131.86460296763209,132,125.37293701966296,125,125.37293701966296,{"$f":"ROUND(R206,0)","v":125},"[Grilles TSNC 2023-2024_Consultation.xlsx]Feuille de calcul'!$CE206",118.88104506751212,119,"[Grilles TSNC 2022-2023_Officielle.xlsx]Feuille de calcul'!$AP$183",114.26121888084828,{"$f":"ROUND(X206,0)","v":114},108.78315647393384,{"$f":"ROUND(Z206,0)","v":109},106.00802963071503,{"$f":"ROUND(AB206,0)","v":106},95.61940559305981,96]
["Martelage","Activités liées au martelage pour les traitements commerciaux","Inventaire de conformité",null,null,"Fixe","Hectare",null,"Martelage",null,32.075641280579241,32,"[Grilles TSNC 2024-2025_Finaux_Vf.xlsx]Feuille de calcul'!AZ207",32.034718989756584,32,30.457656686921531,30,30.457656686921531,{"$f":"ROUND(R207,0)","v":30},"[Grilles TSNC 2023-2024_Consultation.xlsx]Feuille de calcul'!$CE207",28.880539479432098,29,"[Grilles TSNC 2022-2023_Officielle.xlsx]Feuille de calcul'!$AP$184",27.758215289765957,{"$f":"ROUND(X207,0)","v":28},26.42739423646988,{"$f":"ROUND(Z207,0)","v":26},25.753214763110631,{"$f":"ROUND(AB207,0)","v":26},23.229439282451846,23]
["Martelage","Activités liées au martelage pour les traitements commerciaux","Inventaire diagnostique d'un secteur d'intervention potentiel pour le martelage","Placette simplifiée sans étude d’arbre","introduit en 2022-2022","Fixe","Hectare",null,"Martelage",null,100.75031080608147,101,"[Grilles TSNC 2024-2025_Finaux_Vf.xlsx]Feuille de calcul'!AZ208",100.67099435185786,101,95.71498302452261,96,95.71498302452261,{"$f":"ROUND(R208,0)","v":96},"[Grilles TSNC 2023-2024_Consultation.xlsx]Feuille de calcul'!$CE208",118,118,"[Grilles TSNC 2022-2023_PATS.xlsx]Feuille de calcul'!$AP$185",113.41441203080986,{"$f":"ROUND(X208,0)","v":113},107.97694835736378,{"$f":"ROUND(Z208,0)","v":108}]
["Martelage","Activités liées au martelage pour les traitements commerciaux","Inventaire diagnostique d'un secteur d'intervention potentiel pour le martelage","Placette complète sans étude d’arbre","introduit en 2022-2023","Fixe","Hectare",null,"Martelage",null,138.48944211417961,138,"[Grilles TSNC 2024-2025_Finaux_Vf.xlsx]Feuille de calcul'!AZ209",137.86471147692853,138,131.07766148185857,131,131.07766148185857,{"$f":"ROUND(R209,0)","v":131},"[Grilles TSNC 2023-2024_Consultation.xlsx]Feuille de calcul'!$CE209",143,143,"[Grilles TSNC 2022-2023_PATS.xlsx]Feuille de calcul'!$AP$186",137.44288915598145,{"$f":"ROUND(X209,0)","v":137},130.85342046697477,{"$f":"ROUND(Z209,0)","v":131}]
["Martelage","Activités liées au martelage pour les traitements commerciaux","Inventaire diagnostique d'un secteur d'intervention potentiel pour le martelage","Placette simplifiée avec étude d’arbre","introduit en 2022-2022","Fixe","Hectare",null,"Martelage",null,126.66423146793154,127,"[Grilles TSNC 2024-2025_Finaux_Vf.xlsx]Feuille de calcul'!AZ210",132.40963296525146,132,125.89113530811593,126,125.89113530811593,126,"[Grilles TSNC 2023-2024_Consultation.xlsx]Feuille de calcul'!$CE210",118,118,"[Grilles TSNC 2023-2024_Consultation.xlsx]Feuille de calcul'!$CE210",113.41441203080986,113,107.97694835736378,{"$f":"ROUND(Z210,0)","v":108}]
["Martelage","Activités liées au martelage pour les traitements commerciaux","Inventaire diagnostique d'un secteur d'intervention potentiel pour le martelage","Placette complète avec étude d’arbre","introduit en 2022-2023","Fixe","Hectare",null,"Martelage",null,187.70317427929038,188,"[Grilles TSNC 2024-2025_Finaux_Vf.xlsx]Feuille de calcul'!AZ211",211.65704625306867,212,201.23721554121309,201,201.23721554121309,201,"[Grilles TSNC 2023-2024_Consultation.xlsx]Feuille de calcul'!$CE211",143,143,"[Grilles TSNC 2023-2024_Consultation.xlsx]Feuille de calcul'!$CE211",137.44288915598145,137,130.85342046697477,131]
["Martelage","Activités liées au martelage pour les traitements commerciaux","Rafraichissement de peinture",null,null,"Fixe","Hectare",null,"Martelage",null,109.80351812018735,110,"[Grilles TSNC 2024-2025_Finaux_Vf.xlsx]Feuille de calcul'!AZ212",109.66343014930129,110,104.26472314820823,104,104.26472314820823,104,"[Grilles TSNC 2023-2024_Consultation.xlsx]Feuille de calcul'!$CE212"]
["Voirie forestière","Ouvrage amovible",null,null,"introduit en 2022-2023- comité TREX","Fixe","Utilisation",null,"Voirie commerciaux",null,628.87958675362279,629,"[Grilles TSNC 2024-2025_Finaux_Vf.xlsx]Feuille de calcul'!AZ213",628.87958675362279,629,628.87958675362279,629,628.87958675362279,629,"[Grilles TSNC 2023-2024_Consultation.xlsx]Feuille de calcul'!$CE213"]

{"sheet":"Majorations applicables","index":28,"n_rows":94,"n_cols":13,"rows_kept":94,"cut":false,"hidden":true,"merged":[]}
["Total RechercheV","Onglet","Traitement ou Équipement ou modalité (TS sauf Fertilisation PEH) ","M1","M2","M3","M4","M5","M6","M7","M8","M9","Total"]
[{"$f":"M2","v":"PE2 - HEP - TCEP - DTEXE - CEAF3 - ISO3"},"Traitements du site","Débroussaillement mécanique","PE2","HEP","TCEP","DTEXE","CEAF3","ISO3",null,null,null,{"$f":"D2& \" - \"&E2&\" - \"&F2&\" - \"&G2&\" - \"&H2&\" - \"&I2","v":"PE2 - HEP - TCEP - DTEXE - CEAF3 - ISO3"}]
[{"$f":"M3","v":"PE4 - DMOD - HPT - CEAF1 - ISO1 - DTEXE"},"Traitements du site","Bouteur avec pelle râteau","PE4","DMOD","HPT","CEAF1","ISO1","DTEXE","DTEXE",null,null,{"$f":"D3& \" - \"&E3&\" - \"&F3&\" - \"&G3&\" - \"&H3&\" - \"&I3","v":"PE4 - DMOD - HPT - CEAF1 - ISO1 - DTEXE"}]
[{"$f":"M4","v":"PE1 - DRAP - HPT - CEAF1 - ISO1 - DTEXE"},"Traitements du site","Bracke M-36A avec débardeur","PE1","DRAP","HPT","CEAF1","ISO1","DTEXE","DTEXE",null,null,{"$f":"D4& \" - \"&E4&\" - \"&F4&\" - \"&G4&\" - \"&H4&\" - \"&I4","v":"PE1 - DRAP - HPT - CEAF1 - ISO1 - DTEXE"}]
[{"$f":"M5","v":"PE1 - DRAP - HPT - CEAF1 - ISO1 - DTEXE"},"Traitements du site","Bracke M-36A avec porteur ou débardeur à six roues","PE1","DRAP","HPT","CEAF1","ISO1","DTEXE","DTEXE",null,null,"PE1 - DRAP - HPT - CEAF1 - ISO1 - DTEXE"]
[{"$f":"M6","v":"PA0 - PA1 - PE1 - DRAP - HPT - CEAF1 - ISO1 - DTEXE"},"Traitements du site","Bracke T-26 avec débardeur","PA0","PA1","PE1","DRAP","HPT","CEAF1","ISO1","DTEXE",null,{"$f":"D6& \" - \"&E6&\" - \"&F6&\" - \"&G6&\" - \"&H6&\" - \"&I6&\" - \"&J6&\" - \"&K6","v":"PA0 - PA1 - PE1 - DRAP - HPT - CEAF1 - ISO1 - DTEXE"}]
[{"$f":"M7","v":"PA0 - PA1 - PE1 - DRAP - HPT - CEAF1 - ISO1 - DTEXE"},"Traitements du site","Bracke T-26 avec porteur ou débardeur à six roues","PA0","PA1","PE1","DRAP","HPT","CEAF1","ISO1","DTEXE",null,{"$f":"D7& \" - \"&E7&\" - \"&F7&\" - \"&G7&\" - \"&H7&\" - \"&I7&\" - \"&J7&\" - \"&K7","v":"PA0 - PA1 - PE1 - DRAP - HPT - CEAF1 - ISO1 - DTEXE"}]
["HPT - CEAF1 - ISO1","Traitements du site","Milieu boisé","HPT","CEAF1","ISO1",null,null,null,null,null,null,{"$f":"D8& \" - \"&E8&\" - \"&F8","v":"HPT - CEAF1 - ISO1"}]
["HPT - CEAF1 - ISO1","Traitements du site","Milieu dénudé","HPT","CEAF1","ISO1",null,null,null,null,null,null,{"$f":"D9& \" - \"&E9&\" - \"&F9","v":"HPT - CEAF1 - ISO1"}]
["PE2 - DRAP - HPT - CEAF1 - ISO1 - DTEXE","Traitements du site","Herses forestières - double passage","PE2","DRAP","HPT","CEAF1","ISO1","DTEXE",null,null,null,{"$f":"D10& \" - \"&E10&\" - \"&F10&\" - \"&G10&\" - \"&H10&\" - \"&I10","v":"PE2 - DRAP - HPT - CEAF1 - ISO1 - DTEXE"}]
["PE2 - DRAP - HPT - CEAF1 - ISO1","Traitements du site","Rouleau écraseur et scarificateur à disques passifs","PE2","DRAP","HPT","CEAF1","ISO1",null,null,null,null,{"$f":"D11& \" - \"&E11&\" - \"&F11&\" - \"&G11&\" - \"&H11","v":"PE2 - DRAP - HPT - CEAF1 - ISO1"}]
["HRA - DTEXE - CEAF1 - ISO1","Traitements du site","Taupe ou pioche forestière","HRA","DTEXE","CEAF1","ISO1","ISO1",null,null,null,null,{"$f":"D12&\" - \"&E12&\" - \"&F12&\" - \"&G12","v":"HRA - DTEXE - CEAF1 - ISO1"}]
["PE2 - HRA - DTEXE - CEAF1 - ISO1","Traitements du site","Fertilisation du peuplier hybride","PE2","HRA","DTEXE","CEAF1","ISO1","ISO1",null,null,null,{"$f":"D13& \" - \"&E13&\" - \"&F13&\" - \"&G13&\" - \"&H13","v":"PE2 - HRA - DTEXE - CEAF1 - ISO1"}]
["PA0 - PA1 - PE1 - DRAP - HPT - CEAF1 - ISO1 - DTEXE","Traitements du site","TTS - Disques passifs","PA0","PA1","PE1","DRAP","HPT","CEAF1","ISO1","DTEXE",null,{"$f":"D14& \" - \"&E14&\" - \"&F14&\" - \"&G14&\" - \"&H14&\" - \"&I14&\" - \"&J14&\" - \"&K14","v":"PA0 - PA1 - PE1 - DRAP - HPT - CEAF1 - ISO1 - DTEXE"}]
["PA0 - PA1 - PE1 - DRAP - HPT - CEAF1 - ISO1 - DTEXE","Traitements du site","TTS hydrauliques ou Donaren","PA0","PA1","PE1","DRAP","HPT","CEAF1","ISO1","DTEXE",null,{"$f":"D15& \" - \"&E15&\" - \"&F15&\" - \"&G15&\" - \"&H15&\" - \"&I15&\" - \"&J15&\" - \"&K15","v":"PA0 - PA1 - PE1 - DRAP - HPT - CEAF1 - ISO1 - DTEXE"}]
["PA0 - PA1 - PE1 - DRAP - HPT - CEAF1 - ISO1","Traitements du site","Wadell","PA0","PA1","PE1","DRAP","HPT","CEAF1","ISO1",null,null,{"$f":"D16& \" - \"&E16&\" - \"&F16&\" - \"&G16&\" - \"&H16&\" - \"&I16&\" - \"&J16","v":"PA0 - PA1 - PE1 - DRAP - HPT - CEAF1 - ISO1"}]
["PE2 - DMOD - HPT - CEAF1 - ISO1 - DTEXE","Traitements du site","Excavatrice","PE2","DMOD","HPT","CEAF1","ISO1","DTEXE",null,null,null,{"$f":"D17&\" - \"&E17&\" - \"&F17&\" - \"&G17&\" - \"&H17&\" - \"&I17","v":"PE2 - DMOD - HPT - CEAF1 - ISO1 - DTEXE"}]
["PE2 ou PE3 - DMOD - HPT - CEAF1 - ISO1 - DTEXE","Traitements du site","Excavatrice ou débusqueuse ou abatteuse","PE2","PE3","DMOD","HPT","CEAF1","ISO1","DTEXE",null,null,{"$f":"D18& \" ou \"&E18&\" - \"&F18& \" - \"&G18&\" - \"&H18&\" - \"&I18&\" - \"&J18","v":"PE2 ou PE3 - DMOD - HPT - CEAF1 - ISO1 - DTEXE"}]
["PE2 - DMOD - HPT - CEAF1 - ISO1 - DTEXE","Traitements du site - PATS","Compétition ligneuse et déchets de coupe avec récolte","PE2","DMOD","HPT","CEAF1","ISO1","DTEXE",null,null,null,{"$f":"D19& \" - \"&E19&\" - \"&F19&\" - \"&G19&\" - \"&H19&\" - \"&I19","v":"PE2 - DMOD - HPT - CEAF1 - ISO1 - DTEXE"}]
["PE2 - DMOD - HPT - CEAF1 - ISO1 - DTEXE","Traitements du site - PATS","Compétition ligneuse, déchets de coupe et tiges rémanentes avec récolte","PE2","DMOD","HPT","CEAF1","ISO1","DTEXE",null,null,null,{"$f":"D20& \" - \"&E20&\" - \"&F20&\" - \"&G20&\" - \"&H20&\" - \"&I20","v":"PE2 - DMOD - HPT - CEAF1 - ISO1 - DTEXE"}]
["PE2 - DMOD - HPT - CEAF1 - ISO1 - DTEXE","Traitements du site - PATS","Peuplement pré-mature avec épidémie sévère et sans récolte","PE2","DMOD","HPT","CEAF1","ISO1","DTEXE",null,null,null,"PE2 - DMOD - HPT - CEAF1 - ISO1 - DTEXE"]
[{"$f":"M22","v":"PE2 - DMOD - HPT - CEAF1 - ISO1 - DTEXE"},"Traitements du site - PATS","Abatteuse groupeuse après perturbation naturelle sans récolte","PE2","DMOD","HPT","CEAF1","ISO1","DTEXE",null,null,null,{"$f":"D22& \" - \"&E22&\" - \"&F22&\" - \"&G22&\" - \"&H22&\" - \"&I22","v":"PE2 - DMOD - HPT - CEAF1 - ISO1 - DTEXE"}]
["PE2 - DMOD - HPT - CEAF1 - ISO1 - DTEXE","Traitements du site - PATS","Excavatrice après perturbation naturelle sans récolte","PE2","DMOD","HPT","CEAF1","ISO1","DTEXE",null,null,null,{"$f":"D23& \" - \"&E23&\" - \"&F23&\" - \"&G23&\" - \"&H23&\" - \"&I23","v":"PE2 - DMOD - HPT - CEAF1 - ISO1 - DTEXE"}]
["PE4 - DMOD - HPT - CEAF1 - ISO1 - DTEXE","Traitements du site - PATS","Bouteur avec pelle modifiée","PE4","DMOD","HPT","CEAF1","ISO1","DTEXE",null,null,null,"PE4 - DMOD - HPT - CEAF1 - ISO1 - DTEXE"]
["PE2 - DMOD - HPT - CEAF1 - ISO1 - DTEXE","Traitements du site - PATS","Excavatrice","PE2","DMOD","HPT","CEAF1","ISO1","DTEXE",null,null,null,{"$f":"D25& \" - \"&E25&\" - \"&F25&\" - \"&G25&\" - \"&H25&\" - \"&I25","v":"PE2 - DMOD - HPT - CEAF1 - ISO1 - DTEXE"}]
["PE2 ou PE3 - DMOD - HPT - CEAF1 - ISO1 - DTEXE","Traitements du site - PATS","Excavatrice ou débusqueuse","PE2","PE3","DMOD","HPT","CEAF1","ISO1","DTEXE",null,null,{"$f":"D26& \" ou \"&E26&\" - \"&F26& \" - \"&G26&\" - \"&H26&\" - \"&I26&\" - \"&J26","v":"PE2 ou PE3 - DMOD - HPT - CEAF1 - ISO1 - DTEXE"}]
["PE2 - DMOD - HPT - CEAF1 - ISO1 - DTEXE","Traitements du site - PATS","Excavatrice pour le PEH","PE2","DMOD","HPT","CEAF1","ISO1","DTEXE",null,null,null,{"$f":"D27& \" - \"&E27&\" - \"&F27&\" - \"&G27&\" - \"&H27&\" - \"&I27","v":"PE2 - DMOD - HPT - CEAF1 - ISO1 - DTEXE"}]
["PE2 - DMOD - HPT - CEAF1 - ISO1 - DTEXE","Traitements du site - PATS","Excavatrice ","PE2","DMOD","HPT","CEAF1","ISO1","DTEXE",null,null,null,{"$f":"D28& \" - \"&E28&\" - \"&F28&\" - \"&G28&\" - \"&H28&\" - \"&I28","v":"PE2 - DMOD - HPT - CEAF1 - ISO1 - DTEXE"}]
["PE2 - HEP - TCEP - DTEXE - CEAF3 - ISO3","Traitements du site","Difficulté faible","PE2","HEP","TCEP","DTEXE","CEAF3","ISO3",null,null,null,{"$f":"D29& \" - \"&E29&\" - \"&F29&\" - \"&G29&\" - \"&H29&\" - \"&I29","v":"PE2 - HEP - TCEP - DTEXE - CEAF3 - ISO3"}]
["PE2 - HEP - TCEP - DTEXE - CEAF3 - ISO3","Traitements du site","Difficulté moyenne OU difficulté élevée et densité faible (moins de 20 000 ti/ha)","PE2","HEP","TCEP","DTEXE","CEAF3","ISO3",null,null,null,{"$f":"D30& \" - \"&E30&\" - \"&F30&\" - \"&G30&\" - \"&H30&\" - \"&I30","v":"PE2 - HEP - TCEP - DTEXE - CEAF3 - ISO3"}]
["PE2 - HEP - TCEP - DTEXE - CEAF3 - ISO3","Traitements du site","Difficulté élevée et densité moyenne (20 000 à 30 000 ti/ha)","PE2","HEP","TCEP","DTEXE","CEAF3","ISO3",null,null,null,"PE2 - HEP - TCEP - DTEXE - CEAF3 - ISO3"]
["PE2 - HEP - TCEP - DTEXE - CEAF3 - ISO3","Traitements du site","Difficulté élevée et densité forte (plus de 30 000 ti/ha)","PE2","HEP","TCEP","DTEXE","CEAF3","ISO3",null,null,null,{"$f":"D32& \" - \"&E32&\" - \"&F32&\" - \"&G32&\" - \"&H32&\" - \"&I32","v":"PE2 - HEP - TCEP - DTEXE - CEAF3 - ISO3"}]
[{"$f":"M33","v":"DEGPM - PE2 - HEP - TCEP - DTEXE - CEAF3 - ISO3"},"Éducation de peuplement","Dégagement mécanique d'un peuplement résineux ou mixte à dominance de résineux (MR-FI)","DEGPM","PE2","HEP","TCEP","DTEXE","CEAF3","ISO3",null,null,{"$f":"D33& \" - \"&E33&\" - \"&F33&\" - \"&G33&\" - \"&H33&\" - \"&I33&\" - \"&J33","v":"DEGPM - PE2 - HEP - TCEP - DTEXE - CEAF3 - ISO3"}]
["PE2 - HEP - TCEP - DTEXE - CEAF3 - ISO3","Éducation de peuplement","Élagage artificiel pour le pin blanc et le pin rouge","PE2","HEP","TCEP","DTEXE","CEAF3","ISO3",null,null,null,{"$f":"D34& \" - \"&E34&\" - \"&F34&\" - \"&G34&\" - \"&H34&\" - \"&I34","v":"PE2 - HEP - TCEP - DTEXE - CEAF3 - ISO3"}]
["PE2 - HEP - TCEP - DTEXE - CEAF3 - ISO3","Éducation de peuplement","EPC par puits de lumière ET Taille de formation avec martelage","PE2","HEP","TCEP","DTEXE","CEAF3","ISO3",null,null,null,"PE2 - HEP - TCEP - DTEXE - CEAF3 - ISO3"]
[{"$f":"M36","v":"PE2 - HEP - TCEP - DTEXE - CEAF3 - ISO3"},"Éducation de peuplement","Nettoiement d'un peuplement résineux ou mixte à dominance de résineux (MR-FI) - Gradient d'intensité de la sylviculture de base","PE2","HEP","TCEP","DTEXE","CEAF3","ISO3",null,null,null,"PE2 - HEP - TCEP - DTEXE - CEAF3 - ISO3"]
[{"$f":"M37","v":"PE2 - HEP - TCEP - DTEXE - CEAF3 - ISO3"},"Éducation de peuplement","Nettoiement d'un peuplement résineux ou mixte à dominance de résineux (MR-FI) - Gradient d'intensité de la sylviculture d'intensive/élite","PE2","HEP","TCEP","DTEXE","CEAF3","ISO3",null,null,null,"PE2 - HEP - TCEP - DTEXE - CEAF3 - ISO3"]
["PE2 - HEP - TCEP - DTEXE - CEAF3 - ISO3","Éducation de peuplement","EPC systématique d'un peuplement résineux ou de peuplier","PE2","HEP","TCEP","DTEXE","CEAF3","ISO3",null,null,null,"PE2 - HEP - TCEP - DTEXE - CEAF3 - ISO3"]
["PE2 - HEP - TCEP - DTEXE - CEAF3 - ISO3","Éducation de peuplement","Taille phytosanitaire","PE2","HEP","TCEP","DTEXE","CEAF3","ISO3",null,null,null,"PE2 - HEP - TCEP - DTEXE - CEAF3 - ISO3"]
["PE2 - HEP - TCEP - DTEXE - CEAF3 - ISO3","Éducation de peuplement - PATS","Nettoiement d'un peuplement résineux ou mixte à dominance de résineux (MR-FI) réalisé dans des conditions spécifiques","PE2","HEP","TCEP","DTEXE","CEAF3","ISO3",null,null,null,{"$f":"D40& \" - \"&E40&\" - \"&F40&\" - \"&G40&\" - \"&H40&\" - \"&I40","v":"PE2 - HEP - TCEP - DTEXE - CEAF3 - ISO3"}]
["PE2 - HEP - TCEP - DTEXE - CEAF3 - ISO3","Éducation de peuplement","Nettoiement mécanique sous couvert d’un peuplement de feuillus tolérants (contenir l’envahissement du hêtre à grandes feuilles)","PE2","HEP","TCEP","DTEXE","CEAF3","ISO3",null,null,null,"PE2 - HEP - TCEP - DTEXE - CEAF3 - ISO3"]
["PE2 - HEP - TCEP - DTEXE - CEAF3 - ISO3","Éducation de peuplement - PATS","Dépressage manuel","PE2","HEP","TCEP","DTEXE","CEAF3","ISO3",null,null,null,"PE2 - HEP - TCEP - DTEXE - CEAF3 - ISO3"]
[{"$f":"M43","v":"PE2 - HEP - TCEP - DTEXE - CEAF3 - ISO3"},"Éducation de peuplement - PATS","Dépressage mécanisé","PE2","HEP","TCEP","DTEXE","CEAF3","ISO3",null,null,null,{"$f":"D43& \" - \"&E43&\" - \"&F43&\" - \"&G43&\" - \"&H43&\" - \"&I43","v":"PE2 - HEP - TCEP - DTEXE - CEAF3 - ISO3"}]
["PE3 - DMOD - HPT - CEAF1 - ISO1 - DTEXE","Éducation de peuplement - PATS","Dépressage mécanisé systématique par layons avec abatteuse-groupeuse","PE3","DMOD","HPT","CEAF1","ISO1","DTEXE",null,null,null,"PE3 - DMOD - HPT - CEAF1 - ISO1 - DTEXE"]
["PE2 - HEP - TCEP - DTEXE - CEAF3 - ISO3","Éducation de peuplement - PATS","Débroussaillement mécanique interplaceaux","PE2","HEP","TCEP","DTEXE","CEAF3","ISO3",null,null,null,"PE2 - HEP - TCEP - DTEXE - CEAF3 - ISO3"]
[" -  -  -  -  - ","Éducation de peuplement - PATS","Repeinturage",null,null,null,null,null,null,null,null,null," -  -  -  -  - "]
["RAPM - HRA - TCRA - DTEXE - CEAF2 - ISO2","Régénération artificielle","Plantation uniforme, regarni manuel et plantation d'enrichissement sauf PEH","RAPM","HRA","TCRA","DTEXE","CEAF2","ISO2",null,null,null,{"$f":"D47& \" - \"&E47&\" - \"&F47&\" - \"&G47&\" - \"&H47&\" - \"&I47","v":"RAPM - HRA - TCRA - DTEXE - CEAF2 - ISO2"}]
["RAPM - HRA - TCRA - DTEXE - CEAF2 - ISO2","Régénération artificielle","Regarni de sentier et plantation d'enrichissement manuel sauf PEH","RAPM","HRA","TCRA","DTEXE","CEAF2","ISO2",null,null,null,{"$f":"D48& \" - \"&E48&\" - \"&F48&\" - \"&G48&\" - \"&H48&\" - \"&I48","v":"RAPM - HRA - TCRA - DTEXE - CEAF2 - ISO2"}]
["RAPM - HRA - TCRA - DTEXE - CEAF2 - ISO2","Régénération artificielle","Plantation uniforme et regarni en plein manuel sentier préparé sauf PEH","RAPM","HRA","TCRA","DTEXE","CEAF2","ISO2",null,null,null,"RAPM - HRA - TCRA - DTEXE - CEAF2 - ISO2"]
["RAPM - HRA - TCRA - DTEXE - CEAF2 - ISO2","Régénération artificielle","Plantation uniforme PEH","RAPM","HRA","TCRA","DTEXE","CEAF2","ISO2",null,null,null,"RAPM - HRA - TCRA - DTEXE - CEAF2 - ISO2"]
["HPT - CEAF2 - ISO2","Régénération artificielle","Plantation uniforme et regarni mécanique (Scarificateur­planteur Bracke P­11a)","HPT","CEAF2","ISO2",null,null,null,null,null,null,{"$f":"D51& \" - \"&E51&\" - \"&F51","v":"HPT - CEAF2 - ISO2"}]
["PE2 - HRA - TC - DTEXE - CEAF2 - ISO2","Régénération artificielle","Ensemencement terrestre manuel","PE2","HRA","TC","DTEXE","CEAF2","ISO2",null,null,null,{"$f":"D52& \" - \"&E52&\" - \"&F52&\" - \"&G52&\" - \"&H52&\" - \"&I52","v":"PE2 - HRA - TC - DTEXE - CEAF2 - ISO2"}]
["PE2 - HECEAF","Éclaircie commerciale EAF","Éclaircie commerciale EAF","PE2","HECEAF",null,null,null,null,null,null,null,{"$f":"D53& \" - \"&E53","v":"PE2 - HECEAF"}]
["HPVTM - DTPVTM - CEAF4 - ISO 4","Martelage","Martelage","HPVTM","DTPVTM","CEAF4","ISO 4",null,null,null,null,null,{"$f":"D54&\" - \"&E54&\" - \"&F54&\" - \"&G54","v":"HPVTM - DTPVTM - CEAF4 - ISO 4"}]
["HPVTM - DTPVTM - CEAF4 - ISO 4","Martelage","Martelage positif - EC (résineux ou mixte résineux)","HPVTM","DTPVTM","CEAF4","ISO 4",null,null,null,null,null,{"$f":"D55&\" - \"&E55&\" - \"&F55&\" - \"&G55","v":"HPVTM - DTPVTM - CEAF4 - ISO 4"}]
["HPVTM - DTPVTM - CEAF4 - ISO 4","Martelage","Martelage négatif - EC (résineux ou mixte résineux)","HPVTM","DTPVTM","CEAF4","ISO 4",null,null,null,null,null,{"$f":"D56&\" - \"&E56&\" - \"&F56&\" - \"&G56","v":"HPVTM - DTPVTM - CEAF4 - ISO 4"}]
["HPVTM - DTPVTM - CEAF4 - ISO4","Travaux de planif et techniques","Travaux de planification et de suvi d'efficacité","HPVTM","DTPVTM","CEAF4","ISO4",null,null,null,null,null,{"$f":"D57&\" - \"&E57&\" - \"&F57&\" - \"&G57","v":"HPVTM - DTPVTM - CEAF4 - ISO4"}]
["CEAF4 - ISO4","Travaux de planif et techniques","Plan de sondage","CEAF4","ISO4",null,null,null,null,null,null,null,{"$f":"D58&\" - \"&E58","v":"CEAF4 - ISO4"}]
[{"$f":"M59","v":"HPVTM - DTPVTM - CEAF4 - ISO4"},"Travaux planif et tech - PATS","Rafraichissement d'un martelage passé","HPVTM","DTPVTM","CEAF4","ISO4",null,null,null,null,null,{"$f":"D59&\" - \"&E59&\" - \"&F59&\" - \"&G59","v":"HPVTM - DTPVTM - CEAF4 - ISO4"}]
["HPVTM - DTPVTM - CEAF4 - ISO4","Travaux planif et tech - PATS","Travaux planification - PATS","HPVTM","DTPVTM","CEAF4","ISO4",null,null,null,null,null,{"$f":"D60&\" - \"&E60&\" - \"&F60&\" - \"&G60","v":"HPVTM - DTPVTM - CEAF4 - ISO4"}]
[]
["PA1 (Valeurs nettes)"]
[0.75800000000000001]
[]
["PA2 (Valeurs nettes)"]
[0.65600000000000003]
[]
["PE1"]
["Pente A",0]
["Pente B",0]
["Pente C",5.0999999999999997E-2]
["Pente D",0.45]
["Pente E et plus",1.46]
[]
["PE2"]
["Pente A",0]
["Pente B",0]
["Pente C",7.0000000000000001E-3]
["Pente D",2.5999999999999999E-2]
["Pente E et plus",6.0999999999999999E-2]
[]
["PE3"]
["Pente A",0]
["Pente B",0]
["Pente C",0.11]
["Pente D",0.19]
["Pente E et plus",0.23]
[]
["PE4"]
["Pente A",0]
["Pente B",0]
["Pente C",0.05]
["Pente D",0.15]
["Pente E et plus",0.19]

{"sheet":"Menus","index":29,"n_rows":928,"n_cols":8,"rows_kept":928,"cut":false,"hidden":true,"merged":[[861,0,861,2],[765,0,765,2],[0,0,0,7],[697,0,697,2],[681,0,681,2],[432,0,432,2],[266,0,266,2],[599,0,599,2],[645,0,645,2]]}
["Onglet « Traitements du site »"]
[]
["Traitement unique_INDIRECT_sans_underscore","Traitement unique_INDIRECT"]
["Déblaiement des résidus de coupe","PRT_Déblaiement_des_résidus_de_coupe"]
["Fertilisation du peuplier hybride","PRT_Fertilisation_du_peuplier_hybride"]
["Scarifiage par mixage (hersage/labourage)","PRT_Scarifiage_par_hersage_ou_labour"]
["Scarifiage par mixage en placeaux","PRT_Scarifiage_par_mixage_par_placeaux"]
["Scarifiage par monticules avec scarificateur","PRT_Scarifiage_par_monticules_avec_scarificateur"]
["Scarifiage par monticules ou par mixage ou inversion en placeaux ou décapage en placeaux","PRT_Scarifiage_par_monticules_ou_inversion_par_placeaux_ou_décapage_par_placeaux"]
["Scarifiage par sillons continus ou discontinus avec scarificateur","PRT_Scarifiage_par_sillons_continus_ou_discontinus_avec_scarificateur"]
["Débroussaillement mécanique","PRT_DM_Niveau_de_difficulte"]
["Inscrire une valeur","PRT_Inscrire_une_valeur"]
[]
["Référence pour zones de groupe (PRT_)","Équipement (Menus déroulant contextuels et RECHERCHEV)","Machinerie_INDIRECT_1","Machinerie_INDIRECT_2","Machinerie_INDIRECT_3","Taux","Unité","Variable_INDIRECT"]
["Déblaiement_des_résidus_de_coupe","Bouteur avec pelle râteau",null,null,null,{"$f":"'Calculs grille'!$L$12","v":993},"$/ha"]
["Déblaiement_des_résidus_de_coupe","Excavatrice ou débusqueuse ou abatteuse","PRT_Excavatrice_ou_debusqueuse_ou_abatteuse_R","PRT_Excavatrice_ou_debusqueuse_ou_abatteuse_TP","PRT_Excavatrice_ou_debusqueuse_ou_abatteuse_VEH","Variable","$/ha","PRT_PCT_Variable_DEBL"]
["PRT_Scarifiage_par_monticules_avec_scarificateur","Bracke M-36A avec débardeur",null,null,null,{"$f":"'Calculs grille'!$L$8","v":428},"$/ha"]
["PRT_Scarifiage_par_monticules_avec_scarificateur","Bracke M-36A avec porteur ou débardeur à six roues",null,null,null,{"$f":"'Calculs grille'!$L$9","v":513},"$/ha"]
["PRT_Scarifiage_par_monticules_ou_inversion_par_placeaux_ou_décapage_par_placeaux","Excavatrice","PRT_Excavatrice_R","PRT_Excavatrice_TP","PRT_Excavatrice_VEH","Variable","$/ha","PRT_PCT_Variable_MONT"]
["Scarifiage_par hersage_ou_labour","Herses forestières",null,null,null,{"$f":"'Calculs grille'!$L$10","v":601},"$/ha"]
["Scarifiage_par_mixage_par_placeaux","Taupe ou pioche forestière",null,null,null,{"$f":"'Calculs grille'!$L$11","v":776},"$/Kmicrosites"]
["Fertilisation du peuplier hybride","S/O",null,null,null,{"$f":"'Calculs grille'!$L$29","v":733},"$/ha"]
["Scarifiage_par_sillons_continus_ou_discontinus_avec_scarificateur","TTS hydrauliques ou Donaren",null,null,null,{"$f":"'Calculs grille'!$L$4","v":377},"$/ha"]
["Scarifiage_par_sillons_continus_ou_discontinus_avec_scarificateur","Bracke T-26 avec débardeur",null,null,null,{"$f":"'Calculs grille'!$L$4","v":377},"$/ha"]
["Scarifiage_par_sillons_continus_ou_discontinus_avec_scarificateur","Bracke T-26 avec porteur ou débardeur à six roues",null,null,null,{"$f":"'Calculs grille'!$L$6","v":475},"$/ha"]
["Scarifiage_par_sillons_continus_ou_discontinus_avec_scarificateur","TTS - Disques passifs",null,null,null,{"$f":"'Calculs grille'!$L$2","v":285},"$/ha"]
["PRT_DM_Niveau_de_difficulte","Difficulté faible",null,null,null,{"$f":"'Calculs grille'!L41","v":829},"$/ha","EP_DM_Délimitations_des_secteurs_Niveau_de_difficulté_faible"]
["PRT_DM_Niveau_de_difficulte","Difficulté moyenne OU difficulté élevée et densité faible (moins de 20 000 ti/ha)",null,null,null,{"$f":"'Calculs grille'!L42","v":1305},"$/ha","EP_Délimitations_des_secteurs"]
["PRT_DM_Niveau_de_difficulte","Difficulté élevée et densité moyenne (20 000 à 30 000 ti/ha)",null,null,null,{"$f":"'Calculs grille'!L43","v":1763},"$/ha","EP_Délimitations_des_secteurs"]
["PRT_DM_Niveau_de_difficulte","Difficulté élevée et densité forte (plus de 30 000 ti/ha)",null,null,null,{"$f":"'Calculs grille'!L44","v":2071},"$/ha","EP_Délimitations_des_secteurs"]
["Inscrire_une_valeur","Inscrire une valeur",null,null,null,"S/O","S/O"]
[]
["PA0"]
["Réduction selon la distance entre les passages ","Nb Microsite /ha désiré"]
[3.5,"2800 et + microsites par hectare"]
[4,"2200- 2799 microsites par hectare"]
[4.5,"2000- 2199 microsites par hectare"]
[5,"1600 - 1999 microsites par hectare"]
["Inscrire une valeur"]
["Constante 1",1.4659]
["Constante 2",-7.6499999999999999E-2]
["Formule référencée",{"$f":"\" =ARRONDI(\"&B40&\" EXP (\"&B41&\" * DP);4)\"","v":" =ARRONDI(1,4659 EXP (-0,0765 * DP);4)"}]
[]
["HPT","PRT_Majoration_HPT"]
["AVEC hébergement (inscrire un taux)",0]
["AVEC hébergement (inscrire un montant)",0]
["AVEC hébergement (taux maximum)",0.105]
["SANS hébergement",0]
[]
["HRA","PRT_Majoration_HPT_MAN"]
["AVEC hébergement (inscrire un taux)",0]
["AVEC hébergement (taux maximum)",0.22700000000000001]
["SANS hébergement",0]
[]
["HPVTM"]
["AVEC hébergement (inscrire un taux)",0]
["AVEC hébergement (taux maximum)",0.19900000000000001]
["SANS hébergement",0]
[]
["DTEXE"]
["Distance < 175km OU durée du déplacement < 2h30",0]
["Distance ≥ 175km et ≤ 275km OU durée du déplacement ≥ 2h30 et ≤ 4h00",3.5000000000000003E-2]
["Distance > 275km OU durée du déplacement > 4h00",0.106]
[]
["DTPVTM"]
["Distance < 175km OU durée du déplacement < 2h30",0]
["Distance ≥ 175km et ≤ 275km OU durée du déplacement ≥ 2h30 et ≤ 4h00",0.06]
["Distance > 275km OU durée du déplacement > 4h00",0.18]
[]
["CEAF1 et ISO1"]
["CEAF1",1.6000000000000001E-3]
["ISO1",2.5000000000000001E-3]
["Pas de majoration",0]
[]
["Équation variable"]
[2.718]
[1.6830000000000001]
[0.29899999999999999]
[0.313]
[0.17]
[2.0139999999999998]
[]
["TP : Type de couvert"]
["Type de couvert feuillus ou mixtes",1,"PRT_Variable_TR"]
["Type de couvert résineux",0,"PRT_Variable_TR"]
["Type de couvert résineux-feuillus-mixtes ET déblaiement préalable",0,"PRT_Peuplement_deblaiement"]
[]
["TR : Type de procédé de récolte"]
["Peuplement sans perturbation naturelle  ET procédé de récolte arbres entiers",0,"PRT_Peuplement_vert"]
["Peuplement avec perturbation naturelle autre que le feu ET procédé de récolte arbres entiers",0,"PRT_Peuplement_vert"]
["Peuplement sans perturbation naturelle ET procédé de récolte bois tronçonnés",1,"PRT_Peuplement_vert"]
["Peuplement avec perturbation naturelle autre que le feu ET procédé de récolte bois tronçonnés",1,"PRT_Peuplement_vert"]
["Peuplement avec perturbation naturelle feu ET récolte",0,"PRT_Peuplement_brule"]
["Sans objet - la superficie est déblayée",0,"PRT_Peuplement_deblaiement"]
[]
["PER : Type de perturbation"]
["FEU",1]
["Aucun ou autre",0]
["Sans objet - la superficie est déblayée",0]
[]
["Type d'engin forestier"]
["Abatteuse lors de la récolte",3]
["Excavatrice",2]
["Débusqueuse",1]
[]
["Facteur - Type d'engin forestier"]
["Abatteuse lors de la récolte",0.83]
["Excavatrice",1]
["Débusqueuse - Formule",{"$f":"\"Formule = (\"&$B$110&\" / (\"&$B$111&\" * R \"&$B$112&\")) * \"&$B$113","v":"Formule = (1 / (1,4063 * R 0,069)) * 0,85"}]
["Débusqueuse - Constante A",1]
["Débusqueuse - Constante B",1.4063000000000001]
["Débusqueuse - Constante C",6.9000000000000006E-2]
["Débusqueuse - Constante D",0.85]
[]
["Taux variable_1920"]
["Inscrire un pourcentage"]
["Déblaiement en plein"]
["Déblaiement partiel"]
[]
["Taux variable_1920"]
["Inscrire un pourcentage"]
["Monticules ou placeaux"]
[]
["Question - Délimitation"]
["Oui","PRT_Delimitation_des_secteurs_en_regie"]
["Non","PRT_Delimitation_des_secteurs_tierce_partie"]
[]
["Délimitation des secteur par une tierce partie"]
[0]
[{"$f":"'Calculs grille'!$L$194","v":49}]
["Calcul automatisé - Voir section « Totaux »"]
[]
["Délimitation des secteur en régie selon unité de mesure du traitement"]
[{"$f":"'Calculs grille'!$L$195","v":13},"$/ha"]
[{"$f":"'Calculs grille'!$L$196","v":2},"$/Milliers de microsites"]
[{"$f":"'Calculs grille'!$L$197","v":24},"$/km ou $/Mm³"]
[]
["Vérification"]
["Taux - mécanisé",0]
[null,{"$f":"'Calculs grille'!$L$156","v":63}]
["Taux - manuel",0]
[null,{"$f":"'Calculs grille'!$L$159","v":31}]
["Taux - Drainage",0]
[null,{"$f":"'Calculs grille'!$L$160","v":57}]
[]
["Vérification - Critères"]
["Oui"]
["Non"]
[]
["Codes_DICA","Statut"]
["AMEND_FER","Actif"]
["DEBL-PART","Actif"]
["DEBL-PLEIN","Actif"]
["DEBR","Actif"]
["SCA_DECAP-PART","Actif"]
["SCA_DECAP-PLEIN","Actif"]
["SCA_HERS-PART","Actif"]
["SCA_HERS-PLEIN","Actif"]
["SCA_INV-PART","Actif"]
["SCA_INV-PLEIN","Actif"]
["SCA_MIX-PART","Actif"]
["SCA_MIX-PLEIN","Actif"]
["SCA_MONT-PART","Actif"]
["SCA_MONT-PLEIN","Actif"]
["SCA_SILL-PART","Actif"]
["SCA_SILL-PLEIN","Actif"]
["DR_APP","Sur demande"]
["DR_SYS","Sur demande"]
[]
["Codes_RATF","Statut"]
["AGR","Actif"]
["AGRP","Actif"]
["BPR","Actif"]
["BPRPA","Actif"]
["BRM36D","Actif"]
["BRM36DP","Actif"]
["BRM36P","Actif"]
["BRM36PP","Actif"]
["DEBR","Actif"]
["DH","Actif"]
["DHAD","Actif"]
["DHADP","Actif"]
["DHAP","Actif"]
["DHAPP","Actif"]
["DHP","Actif"]
["DO","Actif"]
["DOP","Actif"]
["DRAV","Actif"]
["DRAVP","Actif"]
["DRDV","Actif"]
["DRDVP","Actif"]
["DREV","Actif"]
["DREVP","Actif"]
["FERTIPEU","Actif"]
["HERSE","Actif"]
["HERSEP","Actif"]
["SCAIPV","Actif"]
["SCAIPVP","Actif"]
["SCAMV","Actif"]
["SCAMVP","Actif"]
["SCAPV","Actif"]
["SCAPVP","Actif"]
["TAUPIOF","Actif"]
["TAUPIOFP","Actif"]
["TTS","Actif"]
["TTSP","Actif"]
["DRAPPMB","Sur demande (Valeur INDIRECT)"]
["DRAPPMD","Sur demande (Valeur INDIRECT)"]
["DRSYSMB","Sur demande (Valeur INDIRECT)"]
["DRSYSMD","Sur demande (Valeur INDIRECT)"]
["REQ","Sur demande (Zone de groupe)"]
["REQP","Sur demande (Zone de groupe)"]
["ROUECA","Sur demande (Zone de groupe)"]
["ROUECAP","Sur demande (Zone de groupe)"]
["WAD","Sur demande (Zone de groupe)"]
["WADP","Sur demande (Zone de groupe)"]
[]
["Codes_DICA vs Codes_RATF","Codes_RATF","Indirect","Description"]
["AMEND_FER","FERTIPEU","PRT_RATF_AMEND_FER","Fertilisation du peuplier hybride "]
["DEBL-PART","AGRP","PRT_RATF_DEBL_PART","Déblaiement après perturbation naturelle avec abatteuse groupeuse, partiel"]
["DEBL-PART","BPRPA","PRT_RATF_DEBL_PART","Déblaiement des résidus de coupe, bouteur avec pelle et râteau, partiel"]
["DEBL-PART","DRAVP","PRT_RATF_DEBL_PART","Déblaiement des résidus des coupes avec abatteuse, partiel"]
["DEBL-PART","DRDVP","PRT_RATF_DEBL_PART","Déblaiement des résidus de coupe avec débusqueuse, partiel"]
["DEBL-PART","DREVP","PRT_RATF_DEBL_PART","Déblaiement des résidus de coupe avec excavatrice, partiel"]
["DEBL-PLEIN","AGR","PRT_RATF_DEBL_PLEIN","Déblaiement après perturbation naturelle avec abatteuse groupeuse, en plein"]
["DEBL-PLEIN","BPR","PRT_RATF_DEBL_PLEIN","Déblaiement des résidus de coupe avec bouteur pelle râteau, en plein"]
["DEBL-PLEIN","DRAV","PRT_RATF_DEBL_PLEIN","Déblaiement des résidus des coupes avec abatteuse, en plein, "]
["DEBL-PLEIN","DRDV","PRT_RATF_DEBL_PLEIN","Déblaiement des résidus de coupe avec débusqueuse, en plein"]
["DEBL-PLEIN","DREV","PRT_RATF_DEBL_PLEIN","Déblaiement des résidus de coupe avec excavatrice, en plein,"]
["DEBR","DEBR","PRT_RATF_DEBR","Débroussaillement de la végétation"]
["DR_APP - Sur demande","DRAPPMB - Sur demande","PRT_RATF_DR_APP - Sur demande","Drainage d'appoint, milieu boisé"]
["DR_APP - Sur demande","DRAPPMD - Sur demande","PRT_RATF_DR_APP - Sur demande","Drainage d'appoint, milieu dénudé"]
["DR_SYS - Sur demande","DRSYSMB - Sur demande","PRT_RATF_DR_SYS - Sur demande","Drainage systématique, milieu boisé"]
["DR_SYS - Sur demande","DRSYSMD - Sur demande","PRT_RATF_DR_SYS - Sur demande","Drainage systématique, milieu dénudé"]
["SCA_DECAP-PART","SCAPVP","PRT_RATF_SCA_DECAP_PART","Scarifiage par décapage en placeau, avec excavatrice, partiel, taux variable"]
["SCA_DECAP-PLEIN","SCAPV","PRT_RATF_SCA_DECAP_PLEIN","Scarifiage par décapage en placeau, avec excavatrice, taux variable"]
["SCA_HERS-PART","HERSEP","PRT_RATF_SCA_HERS_PART","Herse forestière, partiel"]
["SCA_HERS-PLEIN","HERSE","PRT_RATF_SCA_HERS_PLEIN","Herse forestière"]
["SCA_INV-PART","SCAIPVP","PRT_RATF_SCA_INV_PART","Scarifiage par inversion en placeau avec excavatrice, partiel"]
["SCA_INV-PLEIN","SCAIPV","PRT_RATF_SCA_INV_PLEIN","Scarifiage par inversion en placeau avec excavatrice, taux variable"]
["SCA_MIX-PART","TAUPIOFP","PRT_RATF_SCA_MIX_PART","Scarifiage par mixage en placeau, taupe ou pioche forestière, partiel"]
["SCA_MIX-PLEIN","TAUPIOF","PRT_RATF_SCA_MIX_PLEIN","Taupe ou pioche forestière"]
["SCA_MONT-PART","BRM36DP","PRT_RATF_SCA_MONT_PART","Scarifiage en monticule avec scarificateur, Bracke M-36a avec débardeur, partiel"]
["SCA_MONT-PART","BRM36PP","PRT_RATF_SCA_MONT_PART","Scarifiage en monticule avec scarificateur, Bracke M-36a avec porteur ou débardeur à six roues, partiel"]
["SCA_MONT-PART","SCAMVP","PRT_RATF_SCA_MONT_PART","Scarifiage en monticule avec excavatrice, taux variable, partiel"]
["SCA_MONT-PLEIN","BRM36D","PRT_RATF_SCA_MONT_PLEIN","Scarifiage en monticule avec scarificateur, Bracke M-36a avec débardeur, en plein"]
["SCA_MONT-PLEIN","BRM36P","PRT_RATF_SCA_MONT_PLEIN","Scarifiage en monticule avec scarificateur, Bracke M-36a avec porteur ou débardeur à six roues, plein"]
["SCA_MONT-PLEIN","SCAMV","PRT_RATF_SCA_MONT_PLEIN","Scarifiage en monticule avec excavatrice, taux variable, en plein"]
["SCA_SILL-PART","DHADP","PRT_RATF_SCA_SILL_PART","Scarifiage par sillon, Scarificateur à disques hydrauliques, Bracke T-26 avec débardeur, partiel"]
["SCA_SILL-PART","DHAPP","PRT_RATF_SCA_SILL_PART","Scarifiage par sillon, Scarificateur à disques hydrauliques, Bracke T-26, avec porteur ou débardeur à six roues, partiel"]
["SCA_SILL-PART","DHP","PRT_RATF_SCA_SILL_PART","Scarifiage par sillon, Scarificateur à disques hydrauliques, TTS hydraulique, partiel"]
["SCA_SILL-PART","DOP","PRT_RATF_SCA_SILL_PART","Scarifiage par sillon, Scarificateur à disques hydrauliques, Donaren, partiel"]
["SCA_SILL-PART","TTSP","PRT_RATF_SCA_SILL_PART","Scarifiage par sillon, Scarificateur à disque TTS passifs, partiel"]
["SCA_SILL-PART","REQP","PRT_RATF_SCA_SILL_PART - Sur demande","Scarifiage par sillon, Scarificateur à disques hydrauliques, Requin, partiel"]
["SCA_SILL-PART","ROUECAP","PRT_RATF_SCA_SILL_PART - Sur demande","Scarifiage par sillon, Scarificateur à cônes hydrauliques, type Wadell, partiel"]
["SCA_SILL-PART","WADP","PRT_RATF_SCA_SILL_PART - Sur demande","Scarifiage par sillon, Scarificateur à cônes hydrauliques, type Wadell, partiel"]
["SCA_SILL-PLEIN","DH","PRT_RATF_SCA_SILL_PLEIN","Scarifiage par sillon, Scarificateur à disques hydrauliques, TTS hydraulique, en plein"]
["SCA_SILL-PLEIN","DHAD","PRT_RATF_SCA_SILL_PLEIN","Scarifiage par sillon, Scarificateur à disques hydrauliques, Bracke T-26, avec débardeur, en plein"]
["SCA_SILL-PLEIN","DHAP","PRT_RATF_SCA_SILL_PLEIN","Scarifiage par sillon, Scarificateur à disques hydrauliques, Bracke T-26, avec porteur ou débardeur à six roues, partiel"]
["SCA_SILL-PLEIN","DO","PRT_RATF_SCA_SILL_PLEIN","Scarifiage par sillon, Scarificateur à disques hydrauliques, Donaren, en plein"]
["SCA_SILL-PLEIN","TTS","PRT_RATF_SCA_SILL_PLEIN","Scarifiage par sillon, Scarificateur à disque TTS passifs, en plein"]
["SCA_SILL-PLEIN","REQ","PRT_RATF_SCA_SILL_PLEIN - Sur demande","Scarifiage par sillon, Scarificateur à disques hydrauliques, Requin, en plein"]
["SCA_SILL-PLEIN","ROUECA","PRT_RATF_SCA_SILL_PLEIN - Sur demande","Scarifiage par sillon, Rouleau écraseur et scarificateur à disques passifs, en plein"]
["SCA_SILL-PLEIN","WAD","PRT_RATF_SCA_SILL_PLEIN - Sur demande","Scarifiage par sillon, Scarificateur à cônes hydrauliques, type Wadell, en plein"]
[null,null,"PRT_Codes_RATF"]
[]
["Onglet « Régénération artificielle »"]
[]
["Traitement unique","Taux","Unité"]
["Ensemencement terrestre manuel",{"$f":"'Calculs grille'!$L$53","v":261},"$/ha"]
["Plantation uniforme, regarni manuel et plantation d'enrichissement sauf PEH","Variable","$/Milliers de plants"]
["Plantation uniforme et regarni en plein manuel sentier préparé sauf PEH","Variable","$/Milliers de plants"]
["Plantation uniforme et regarni mécanique (Scarificateur­planteur Bracke P­11a)","Taux fixe en fonction du gabarit et de la densité","$/Milliers de plants"]
["Plantation uniforme PEH",{"$f":"'Calculs grille'!$L$51","v":914},"$/Milliers de plants"]
["Regarni de sentier et plantation d'enrichissement manuel sauf PEH","Variable","$/Milliers de plants"]
["Inscrire une valeur","S/O","S/O"]
[]
["Préparation de terrain"]
["AVEC préparation de terrain",1]
["SANS préparation de terrain",0]
[]
["Gabarit"]
["Gabarit 113-25",{"$f":"'Calculs grille'!$L$58","v":112}]
["Gabarit 67-50",{"$f":"'Calculs grille'!$L$59","v":112}]
["Gabarit 45-110",{"$f":"'Calculs grille'!$L$60","v":204}]
["Gabarit 25-200",{"$f":"'Calculs grille'!$L$61","v":336}]
["Gabarit PFD récipients",{"$f":"'Calculs grille'!$L$62","v":380}]
["Gabarit PFD racines nues",{"$f":"'Calculs grille'!$L$63","v":405}]
[]
["Traitements de plantation mécanique"]
["Récipient 25-200, densité inférieure ou égale à 1499 plants/ha",{"$f":"'Calculs grille'!$L$50","v":1883}]
["Récipient 25-200, densité supérieure ou égale à 1500 plants/ha",{"$f":"'Calculs grille'!$L$48","v":1729}]
["Récipient 45-110, densité inférieure ou égale à 1499 plants/ha",{"$f":"'Calculs grille'!$L$49","v":1847}]
["Récipient 45-110, densité supérieure ou égale à 1500 plants/ha",{"$f":"'Calculs grille'!$L$47","v":1693}]
[]
["HRA ou TCRA","RA_Majoration_HRA_ou_TCRA"]
["AVEC hébergement (inscrire un taux)",0]
["AVEC hébergement (inscrire un montant)",0]
["AVEC hébergement (taux maximum)",0.22700000000000001]
["AVEC transport collectif",8.0000000000000002E-3]
["SANS majoration",0]
[]
["HPT","RA_Majoration_HRA_MEC"]
["AVEC hébergement (inscrire un taux)",0]
["AVEC hébergement (taux maximum)",0.105]
["AVEC transport collectif",0]
["SANS majoration",0]
[]
["HPVTM"]
["AVEC hébergement (inscrire un taux)",0]
["AVEC hébergement (taux maximum)",0.19900000000000001]
["SANS hébergement",0]
[]
["DTEXE"]
["Distance < 175km OU durée du déplacement < 2h30",0]
["Distance ≥ 175km et ≤ 275km OU durée du déplacement ≥ 2h30 et ≤ 4h00",3.5000000000000003E-2]
["Distance > 275km OU durée du déplacement > 4h00",0.106]
[]
["DTPVTM"]
["Distance < 175km OU durée du déplacement < 2h30",0]
["Distance ≥ 175km et ≤ 275km OU durée du déplacement ≥ 2h30 et ≤ 4h00",0.06]
["Distance > 275km OU durée du déplacement > 4h00",0.18]
[]
["CEAF2 et ISO2"]
["CEAF2",1E-3]
["ISO2",3.5000000000000001E-3]
["Pas de majoration",0]
[]
["Taux vérification"]
[0]
[{"$f":"'Calculs grille'!$L$161","v":81}]
[]
["Vérification - Critères"]
["Oui"]
["Non"]
[]
["Vérification traçabilité des plants"]
["Oui",{"$f":"'Calculs grille'!$L$54","v":0}]
["Non",0]
[]
["Codes DICA","Statut"]
["ENS_TER-MANU","Actif"]
["PL_AGRO-MEL","Actif"]
["PL_AGRO-MONO","Actif"]
["PL_ENR-MEL","Actif"]
["PL_ENR-MONO","Actif"]
["PL_REG-MEL","Actif"]
["PL_REG-MONO","Actif"]
["PL_U-MEL","Actif"]
["PL_U-MONO","Actif"]
[]
["Codes_RATF","Statut"]
["ENSM","Actif"]
["ENR","Actif"]
["P110","Actif"]
["P200","Actif"]
["P25","Actif"]
["P50","Actif"]
["PPFDR","Actif"]
["PPFDRN","Actif"]
["PPHBO","Actif"]
["RPFDR","Actif"]
["RPFDRN","Actif"]
["RR110","Actif"]
["RR200","Actif"]
["RR25","Actif"]
["RR50","Actif"]
["SCAPL110P","Actif"]
["SCAPL110R","Actif"]
["SCAPL200P","Actif"]
["SCAPL200R","Actif"]
[]
["Codes_DICA vs Codes_RATF","Codes_RATF","Indirect","Description"]
["ENS_TER-MANU","ENSM","RA_RATF_ENS_TER_MANU","Ensemencement terrestre manuel"]
["PL_AGRO-MEL","P110","RA_RATF_PL_AGRO_MEL","Plantation 45-110"]
["PL_AGRO-MEL","P200","RA_RATF_PL_AGRO_MEL","Plantation 25-200"]
["PL_AGRO-MEL","P25","RA_RATF_PL_AGRO_MEL","Plantation 113-25"]
["PL_AGRO-MEL","P50","RA_RATF_PL_AGRO_MEL","Plantation 67-50"]
["PL_AGRO-MEL","PPFDR","RA_RATF_PL_AGRO_MEL","Plantation PFD livré en récipient"]
["PL_AGRO-MEL","PPFDRN","RA_RATF_PL_AGRO_MEL","Plantation PFD en racines nues"]
["PL_AGRO-MEL","SCAPL110P","RA_RATF_PL_AGRO_MEL","Plantation mécanique 45-110,  Scarificateur planteur Bracke P-11a, 1500 plants et +"]
["PL_AGRO-MEL","SCAPL200P","RA_RATF_PL_AGRO_MEL","Plantation mécanique 25-200,  Scarificateur planteur Bracke P-11a, 1500 plants et +"]
["PL_AGRO-MONO","P110","RA_RATF_PL_AGRO_MONO","Plantation 45-110"]
["PL_AGRO-MONO","P200","RA_RATF_PL_AGRO_MONO","Plantation 25-200"]
["PL_AGRO-MONO","P25","RA_RATF_PL_AGRO_MONO","Plantation 113-25"]
["PL_AGRO-MONO","P50","RA_RATF_PL_AGRO_MONO","Plantation 67-50"]
["PL_AGRO-MONO","PPFDR","RA_RATF_PL_AGRO_MONO","Plantation PFD livré en récipient"]
["PL_AGRO-MONO","PPFDRN","RA_RATF_PL_AGRO_MONO","Plantation PFD en racines nues"]
["PL_AGRO-MONO","PPHBO","RA_RATF_PL_AGRO_MONO","Plantation uniforme de peuplier hybride"]
["PL_AGRO-MONO","SCAPL110P","RA_RATF_PL_AGRO_MONO","Plantation mécanique 45-110,  Scarificateur planteur Bracke P-11a, 1500 plants et +"]
["PL_AGRO-MONO","SCAPL200P","RA_RATF_PL_AGRO_MONO","Plantation mécanique 25-200,  Scarificateur planteur Bracke P-11a, 1500 plants et +"]
["PL_ENR-MEL","ENR","RA_RATF_PL_ENR_MEL","Enrichissement et regarni de feuillus et de pins"]
["PL_ENR-MONO","ENR","RA_RATF_PL_ENR_MONO","Enrichissement et regarni de feuillus et de pins"]
["PL_REG-MEL","RPFDR","RA_RATF_PL_REG_MEL","Regarni PFD livré en récipient"]
["PL_REG-MEL","RPFDRN","RA_RATF_PL_REG_MEL","Regarni PFD en racines nues"]
["PL_REG-MEL","RR110","RA_RATF_PL_REG_MEL","Regarni 45-110"]
["PL_REG-MEL","RR200","RA_RATF_PL_REG_MEL","Regarni 25-200"]
["PL_REG-MEL","RR25","RA_RATF_PL_REG_MEL","Regarni 113-25"]
["PL_REG-MEL","RR50","RA_RATF_PL_REG_MEL","Regarni 67-50"]
["PL_REG-MEL","SCAPL110R","RA_RATF_PL_REG_MEL","Regarni mécanique 45-110,  Scarificateur planteur Bracke P-11a, 1499 plants et -"]
["PL_REG-MEL","SCAPL200R","RA_RATF_PL_REG_MEL","Regarni mécanique 25-200,  Scarificateur planteur Bracke P-11a, 1499 plants et -"]
["PL_REG-MONO","RPFDR","RA_RATF_PL_REG_MONO","Regarni PFD livré en récipient"]
["PL_REG-MONO","RPFDRN","RA_RATF_PL_REG_MONO","Regarni PFD en racines nues"]
["PL_REG-MONO","RR110","RA_RATF_PL_REG_MONO","Regarni 45-110"]
["PL_REG-MONO","RR200","RA_RATF_PL_REG_MONO","Regarni 25-200"]
["PL_REG-MONO","RR25","RA_RATF_PL_REG_MONO","Regarni 113-25"]
["PL_REG-MONO","RR50","RA_RATF_PL_REG_MONO","Regarni 67-50"]
["PL_REG-MONO","SCAPL110R","RA_RATF_PL_REG_MONO","Regarni mécanique 45-110,  Scarificateur planteur Bracke P-11a, 1499 plants et -"]
["PL_REG-MONO","SCAPL200R","RA_RATF_PL_REG_MONO","Regarni mécanique 25-200,  Scarificateur planteur Bracke P-11a, 1499 plants et -"]
["PL_U-MEL","P110","RA_RATF_PL_U_MEL","Plantation 45-110"]
["PL_U-MEL","P200","RA_RATF_PL_U_MEL","Plantation 25-200"]
["PL_U-MEL","P25","RA_RATF_PL_U_MEL","Plantation 113-25"]
["PL_U-MEL","P50","RA_RATF_PL_U_MEL","Plantation 67-50"]
["PL_U-MEL","PPFDR","RA_RATF_PL_U_MEL","Plantation PFD livré en récipient"]
["PL_U-MEL","PPFDRN","RA_RATF_PL_U_MEL","Plantation PFD en racines nues"]
["PL_U-MEL","SCAPL110P","RA_RATF_PL_U_MEL","Plantation mécanique 45-110,  Scarificateur planteur Bracke P-11a, 1500 plants et +"]
["PL_U-MEL","SCAPL200P","RA_RATF_PL_U_MEL","Plantation mécanique 25-200,  Scarificateur planteur Bracke P-11a, 1500 plants et +"]
["PL_U-MONO","P110","RA_RATF_PL_U_MONO","Plantation 45-110"]
["PL_U-MONO","P200","RA_RATF_PL_U_MONO","Plantation 25-200"]
["PL_U-MONO","P25","RA_RATF_PL_U_MONO","Plantation 113-25"]
["PL_U-MONO","P50","RA_RATF_PL_U_MONO","Plantation 67-50"]
["PL_U-MONO","PPFDR","RA_RATF_PL_U_MONO","Plantation PFD livré en récipient"]
["PL_U-MONO","PPFDRN","RA_RATF_PL_U_MONO","Plantation PFD en racines nues"]
["PL_U-MONO","PPHBO","RA_RATF_PL_U_MONO","Plantation uniforme de peuplier hybride"]
["PL_U-MONO","SCAPL110P","RA_RATF_PL_U_MONO","Plantation mécanique 45-110,  Scarificateur planteur Bracke P-11a, 1500 plants et +"]
["PL_U-MONO","SCAPL200P","RA_RATF_PL_U_MONO","Plantation mécanique 25-200,  Scarificateur planteur Bracke P-11a, 1500 plants et +"]
[null,null,"RA_Codes_RATF"]
[]
["RAPM"]
["Préparation de terrain avec excavatrice par monticules ou par placeaux",0.13100000000000001]
["Préparation de terrain autre",0]
[]
["Onglet « Éducation de peuplement »"]
[]
["Traitement unique"]
["Dégagement mécanique d'un peuplement résineux ou mixte à dominance de résineux (MR-FI)","Variable","$/ha"]
["Élagage artificiel pour le pin blanc et le pin rouge","Variable","$/ha"]
["EPC par puits de lumière ET taille de formation avec martelage","Variable","$/ha"]
["Nettoiement d'un peuplement résineux ou mixte à dominance de résineux (MR-FI) - Gradient d'intensité de la sylviculture de base","Variable","$/ha"]
["Nettoiement d'un peuplement résineux ou mixte à dominance de résineux (MR-FI) - Gradient d'intensité de la sylviculture d'intensive/élite","Variable","$/ha"]
["Nettoiement mécanique sous couvert d’un peuplement de feuillus tolérants (contenir l’envahissement du hêtre à grandes feuilles)","Variable","$/ha"]
["EPC systématique d'un peuplement résineux ou de peuplier","Variable","$/ha"]
["Taille phytosanitaire","Variable","$/ha"]
["Inscrire une valeur","S/O","S/O"]
[]
["Dégagement"]
["Mode","Plantation ou regarni de plantation",0]
[null,"Régénération naturelle ou regarni de régénération naturelle",1]
[]
["Éclaircie précommerciale systématique - TP"]
["Peuplier",0.77049999999999996]
["Résineux",1]
[]
["Éclaircie précommerciale systématique - DI minimale"]
[5000]
[]
["TPGI (Peuplements-Gradient-Type)"]
[]
["Peuplements"]
["Régénérés naturellement (avec ou sans regarni)"]
["Plantation uniforme (avec ou sans regarni)"]
[]
["Gradiant"]
["Sylviculture de base"]
["Sylviculture intensive/d'élite"]
[]
["Type"]
["Nettoiement résineux"]
["Nettoiement spécifique"]
[]
["Facteur (CONCATENER pour RECHERCHEV)"]
[{"$f":"CONCATENATE($A$460,\" - \",$A$464,\" - \",$A$468)","v":"Régénérés naturellement (avec ou sans regarni) - Sylviculture de base - Nettoiement résineux"},1]
[{"$f":"CONCATENATE($A$460,\" - \",$A$464,\" - \",$A$469)","v":"Régénérés naturellement (avec ou sans regarni) - Sylviculture de base - Nettoiement spécifique"},1.17]
[{"$f":"CONCATENATE($A$461,\" - \",$A$464,\" - \",$A$468)","v":"Plantation uniforme (avec ou sans regarni) - Sylviculture de base - Nettoiement résineux"},1]
[{"$f":"CONCATENATE($A$461,\" - \",$A$464,\" - \",$A$469)","v":"Plantation uniforme (avec ou sans regarni) - Sylviculture de base - Nettoiement spécifique"},1.17]
[]
["EPC Puit lumière"]
["TAIL","AVEC taille de formation",1]
[null,"SANS taille de formation",0]
[]
["EPC Puit lumière"]
["Martelage","AVEC Martelage",1]
[null,"SANS Martelage",0]
[]
["EPC Puit lumière"]
["EPC","AVEC EPC",1]
[null,"SANS EPC",0]
[]
["Élagage Qualité"]
["LONGELA","Élagage de 3,99 mètres et moins",0]
[null,"Élagage de 4,00 mètres et plus",1]
[]
["MP"]
["Martelage de 100 tiges/ha",{"$f":"'Calculs grille'!$L$113","v":154.04}]
["Martelage de 400 tiges/ha",{"$f":"'Calculs grille'!$L$114","v":230.58}]
["SANS martelage",0]
[]
["Délimitation des secteurs"]
[0]
[{"$f":"'Calculs grille'!$L$198","v":165}]
[]
["Taux vérification"]
[0]
[{"$f":"'Calculs grille'!$L$165","v":145}]
[]
["Vérification critères"]
["Oui"]
["Non"]
[]
["HEP ou TCEP"]
["AVEC hébergement (inscrire un taux)",0]
["AVEC hébergement (inscrire un montant)",0]
["AVEC hébergement (taux maximum)",0.26600000000000001]
["AVEC transport collectif",2.1000000000000001E-2]
["SANS majoration",0]
[]
["HPVTM"]
["AVEC hébergement (inscrire un taux)",0]
["AVEC hébergement (taux maximum)",0.17699999999999999]
["SANS hébergement",0]
[]
["DTEXE"]
["Distance < 175km OU durée du déplacement < 2h30",0]
["Distance ≥ 175km et ≤ 275km OU durée du déplacement ≥ 2h30 et ≤ 4h00",3.5000000000000003E-2]
["Distance > 275km OU durée du déplacement > 4h00",0.106]
[]
["DTPVTM"]
["Distance < 175km OU durée du déplacement < 2h30",0]
["Distance ≥ 175km et ≤ 275km OU durée du déplacement ≥ 2h30 et ≤ 4h00",0.06]
["Distance > 275km OU durée du déplacement > 4h00",0.18]
[]
["CEAF3 et ISO3"]
["CEAF3",2.0999999999999999E-3]
["ISO3",3.3E-3]
["Pas de majoration",0]
[]
["Codes_DICA","Statut"]
["DEG_MEC","Actif"]
["ELAG","Actif"]
["EPC_PUITS","Actif"]
["EPC_SYS","Actif"]
["NET_MEC","Actif"]
["TAILFOR_CLASS","Actif"]
["TAILFOR_SYST","Actif"]
["TAILPHY","Actif"]
[]
["Codes_RATF","Statut"]
["DMRV1MN","Actif"]
["DMRV1MP","Actif"]
["ELAGV","Actif"]
["EPCPUITST","Actif"]
["EPCPUITAT","Actif"]
["EPCSYSR","Actif"]
["EPCSYSP","Actif"]
["NETNBR","Actif"]
["NETNBS","Actif"]
["NETPBR","Actif"]
["NETPBS","Actif"]
["NETPIES","Actif"]
["NETSCOU","Actif"]
["TAILFC","Actif"]
["TAILFS","Actif"]
["TAILV","Actif"]
["NETPIER","Désactivé 2021-03-03 (Valeur INDIRECT + Zone de groupe)"]
["EPCPUIT13V","Inactif (Valeur INDIRECT + Zone de groupe)"]
["EPCSYSSGN","Inactif (Valeur INDIRECT + Zone de groupe)"]
["EPCSYSSGP","Inactif (Valeur INDIRECT + Zone de groupe)"]
["NETSGN","Inactif (Valeur INDIRECT + Zone de groupe)"]
["NETSGP","Inactif (Valeur INDIRECT + Zone de groupe)"]
[]
["Codes_DICA vs Codes_RATF","Codes_RATF","Indirect","Description"]
["DEG_MEC","DMRV1MN","EP_RATF_DEG_MEC","Dégagement mécanique de la régénération naturelle, dénombrement à 1 m, taux variable"]
["DEG_MEC","DMRV1MP","EP_RATF_DEG_MEC","Dégagement mécanique de plantation, dénombrement à 1 m, taux variable"]
["ELAG","ELAGV","EP_RATF_ELAG","Élagage pour fins de qualité du pin blanc ou rouge"]
["EPC_PUITS","EPCPUITST","EP_RATF_EPC_PUITS","EPC par puit de lumière sans taille de formation avec martelage"]
["EPC_PUITS","EPCPUITAT","EP_RATF_EPC_PUITS","EPC par puit de lumière avec taille de formation avec martelage"]
["EPC_PUITS - Inactif","EPCPUIT13V - Inactif","EP_RATF_EPC_PUITS - Inactif","EPC par puit de lumière, comprend la taille de formation (prescription sylvicole 2013 et +), Taux variable"]
["EPC_SYS","EPCSYSR","EP_RATF_EPC_SYS","Éclaircie précommerciale systématique d'un peuplement résineux"]
["EPC_SYS","EPCSYSP","EP_RATF_EPC_SYS","Éclaircie précommerciale systématique d'un peuplement de peuplier"]
["EPC_SYS - Inactif","EPCSYSSGN - Inactif","EP_RATF_EPC_SYS - Inactif","Entretien de la strate gaulis, secteur d'intervention avec un choix de tige intra spécifique (par essence) et avec un espacement ou secteur d'intervention avec choix de tige résineuse sans espacement, composition visée peuplier ou CP1=1, peuplement naturel"]
["EPC_SYS - Inactif","EPCSYSSGP - Inactif","EP_RATF_EPC_SYS - Inactif","Entretien de la strate gaulis, secteur d'intervention avec un choix de tige intra spécifique (par essence) et avec un espacement ou secteur d'intervention avec choix de tige résineuse sans espacement, composition visée peuplier ou CP1=1, plantation"]
["NET_MEC","NETNBR","EP_RATF_NET_MEC","Nettoiement d’un peuplement résineux ou mixte à dominance de résineux (MR-FI) - Peuplements régénérés naturellement (avec ou sans regarni) - Gradient d’intensité de la sylviculture de base - Nettoiement résineux"]
["NET_MEC","NETNBS","EP_RATF_NET_MEC","Nettoiement d’un peuplement résineux ou mixte à dominance de résineux (MR-FI) - Peuplements régénérés naturellement (avec ou sans regarni) - Gradient d’intensité de la sylviculture de base - Nettoiement spécifique "]
["NET_MEC","NETPBR","EP_RATF_NET_MEC","Nettoiement d’un peuplement résineux ou mixte à dominance de résineux (MR-FI) - Plantation uniforme (avec ou sans regarnis) - Gradient d’intensité de la sylviculture de base - Nettoiement résineux  "]
["NET_MEC","NETPBS","EP_RATF_NET_MEC","Nettoiement d’un peuplement résineux ou mixte à dominance de résineux (MR-FI) Plantation uniforme (avec ou sans regarnis) - Gradient d’intensité de la sylviculture de base - Nettoiement spécifique  "]
["NET_MEC","NETPIES","EP_RATF_NET_MEC","Nettoiement d’un peuplement résineux ou mixte à dominance de résineux (MR-FI) - Plantation uniforme (avec ou sans regarnis) - Gradient d’intensité de la sylviculture de intensive/d’élite"]
["NET_MEC","NETSCOU","EP_RATF_NET_MEC","Nettoiement mécanique sous couvert d’un peuplement de feuillus tolérants (contenir l’envahissement du hêtre à grandes feuilles)"]
["NET_MEC - Désactivé 2021-03-03","NETPIER - Désactivé 2021-03-03","EP_RATF_NET_MEC - Désactivé 2021-03-03","Nettoiement d’un peuplement résineux ou mixte à dominance de résineux (MR-FI) - Plantation uniforme (avec ou sans regarnis) - Gradient d’intensité de la sylviculture de intensive/d’élite -Nettoiement résineux"]
["NET_MEC - Inactif","NETSGN - Inactif","EP_RATF_NET_MEC - Inactif","Secteur d'intervention avec un choix de tige intraspécifique (par essence) sans espacement, peuplement naturel"]
["NET_MEC - Inactif","NETSGP - Inactif","EP_RATF_NET_MEC - Inactif","Secteur d'intervention avec un choix de tige intraspécifique (par essence) sans espacement (plantation) OU avec un espacement d'une plantation avec un coefficient de distribution < 75 % OU Secteur d'intervention sans choix de tige, soit interspécifique (par groupe d'essence, résineux / feuillus) et sans espacement d'une plantation avec SRLC < 20% et DI > 20 000, plantation."]
["TAILPHY","TAILV","EP_RATF_TAILPHY","Taille phytosanitaire, taux variable"]
["TAILFOR_CLASS","TAILFC","EP_RATF_TAILFOR_CLASS","Voir EPC puit de lumière"]
["TAILFOR_SYST","TAILFS","EP_RATF_TAILFOR_SYST","Voir EPC puit de lumière"]
[null,null,"EP_Codes_RATF"]
[]
["DEGPM"]
["Préparation de terrain avec excavatrice par monticules ou par placeaux",0.23799999999999999]
["Préparation de terrain autre",0]
[]
["Onglet « Éclaircie commerciale EAF »"]
[]
["Traitement unique","Taux","Unité"]
["Éclaircie commerciale EAF","Variable","$/m³"]
["Inscrire une valeur","S/O","S/O"]
[]
["HECEAF"]
["AVEC hébergement",4.5999999999999999E-2]
["SANS hébergement",0]
[]
["MAN"]
["Opérations MANUELLES",{"$f":"'Calculs grille'!$L$149","v":0.37}]
["Opérations MÉCANISÉES",0]
[]
["Codes DICA","Statut"]
["EC_MIXTE-BAS","Actif"]
["EC_MIXTE-HAUT","Actif"]
["EC_MIXTE-NEUTRE","Actif"]
["EC_SEL-BAS","Actif"]
["EC_SEL-HAUT","Actif"]
["EC_SEL-NEUTRE","Actif"]
["EC_SYS","Actif"]
[]
["Codes_RATF","Statut"]
["ECMIXBASPR","Actif"]
["ECMIXHAUPR","Actif"]
["ECMIXNEUPR","Actif"]
["ECSELBASPR","Actif"]
["ECSELHAUPR","Actif"]
["ECSELNEUPR","Actif"]
["ECSYPR","Actif"]
[]
["Codes_DICA vs Codes_RATF","Codes_RATF","Indirect","Description"]
["EC_MIXTE-BAS","ECMIXBASPR","ECEAF_RATF_EC_MIXTE_BAS","Éclaircie commerciale mixte par le bas, première éclaircie commerciale de plantation résineuse réservée aux entreprises d'aménagement forestier"]
["EC_MIXTE-HAUT","ECMIXHAUPR","ECEAF_RATF_EC_MIXTE_HAUT","Éclaircie commerciale mixte par le haut, première éclaircie commerciale de plantation résineuse réservée aux entreprises d'aménagement forestier"]
["EC_MIXTE-NEUTRE","ECMIXNEUPR","ECEAF_RATF_EC_MIXTE_NEUTRE","Éclaircie commerciale mixte neutre, première éclaircie commerciale de plantation résineuse réservée aux entreprises d'aménagement forestier"]
["EC_SEL-BAS","ECSELBASPR","ECEAF_RATF_EC_SEL_BAS","Éclaircie commerciale sélective par le bas, première éclaircie commerciale de plantation résineuse réservée aux entreprises d'aménagement forestier"]
["EC_SEL-HAUT","ECSELHAUPR","ECEAF_RATF_EC_SEL_HAUT","Éclaircie commerciale sélective par le haut, première éclaircie commerciale de plantation résineuse réservée aux entreprises d'aménagement forestier"]
["EC_SEL-NEUTRE","ECSELNEUPR","ECEAF_RATF_EC_SEL_NEUTRE","Éclaircie commerciale sélective neutre, première éclaircie commerciale de plantation résineuse réservée aux entreprises d'aménagement forestier"]
["EC_SYS","ECSYPR","ECEAF_RATF_EC_SYS","Éclaircie commerciale, patron d'intervention systématique, première éclaircie commerciale de plantation résineuse réservée aux entreprises d'aménagement forestier"]
[null,null,"ECEAF_Codes_RATF"]
[]
["Délimitation physique (ruban) des sentiers de débardage"]
["AVEC délimitation physique (ruban) des sentiers de débardage",{"$f":"'Calculs grille'!$L$154","v":66}]
["SANS délimitation physique (ruban) des sentiers de débardage",0]
[]
["Onglet «Martelage»"]
[]
["Traitement unique","Taux","Unité"]
["Martelage","Variable","$/ha"]
["Martelage négatif - EC (résineux ou mixte résineux)",{"$f":"'Calculs grille'!$L$205","v":253},"$/ha"]
["Martelage positif - EC (résineux ou mixte résineux)",{"$f":"'Calculs grille'!$L$206","v":132},"$/ha"]
["Inscrire une valeur","S/O","S/O"]
[]
["Nombre maximal critères MSCROP"]
[8]
[]
["Type de coupe","Facteur"]
["CRS",0.64200000000000002]
["CPI",1]
["CPR",1]
["CJ",1]
["EC feuillus et pins",1]
[]
["HPVTM"]
["AVEC hébergement (inscrire un taux)",0]
["AVEC hébergement (taux maximum)",0.19900000000000001]
["SANS hébergement",0]
[]
["DTPVTM"]
["Distance < 175km OU durée du déplacement < 2h30",0]
["Distance ≥ 175km et ≤ 275km OU durée du déplacement ≥ 2h30 et ≤ 4h00",0.06]
["Distance > 275km OU durée du déplacement > 4h00",0.18]
[]
["Délimitation des secteurs","CEAF4 et ISO4"]
[0,"CEAF4",1.6999999999999999E-3]
[{"$f":"'Calculs grille'!$L$199","v":144},"ISO4",3.0999999999999999E-3]
[null,"Pas de majoration",0]
["Taux vérification"]
[0]
[{"$f":"'Calculs grille'!$L$207","v":32}]
[]
["Onglet « Travaux de planif et technique » et « Suivi d'efficacité »"]
[]
["Critères","CEAF4 et ISO4"]
["Oui","CEAF4",1.6999999999999999E-3]
["Non","ISO4",3.0999999999999999E-3]
[null,"Pas de majoration",0]
["HPVTM"]
["AVEC hébergement (inscrire un taux)",0]
["AVEC hébergement (taux maximum)",0.19900000000000001]
["SANS hébergement",0]
[]
["DTPVTM"]
["Distance < 175km OU durée du déplacement < 2h30",0]
["Distance ≥175km et ≤ 275km OU durée du déplacement ≥ 2h30 et ≤ 4h00",0.06]
["Distance > 275km OU durée du déplacement > 4h00",0.18]
[]
["Autres"]
[]
["UA_2023_Menu"]
["01171"]
["01272"]
["02371"]
["02471"]
["02571"]
["02651"]
["02661"]
["02662"]
["02663"]
["02664"]
["02665"]
["02666"]
["02751"]
["03771"]
["03772 (03153)"]
["03772 (03351)"]
["04151"]
["04251"]
["04351"]
["04352"]
["05151"]
["06151"]
["06271"]
["06452"]
["06471"]
["07151"]
["07152"]
["07251"]
["07351"]
["07352"]
["07451"]
["08151"]
["08152"]
["08251"]
["08351"]
["08451"]
["08462"]
["08551"]
["08562"]
["08651"]
["08652"]
["08663"]
["08664"]
["08665"]
["08666"]
["08751"]
["08762"]
["08763"]
["08764"]
["09351"]
["09352"]
["09471"]
["09551"]
["09751"]
["11161"]
["11262"]
["11263"]
["12171"]
["096001"]
[]
["Rexforêt_Vérif"]
["Vérification INCLUS"]
["Vérification EXCLUS"]
["Inscrire une valeur"]
[]
["PATS - Traitements du site"]
[]
["Traitement PATS unique_INDIRECT_sans_underscore"]
["Déblaiement d'hiver de la végétation","PATS_PRT_Déblaiement_hiver_lame_tranchante"]
["Broyage forestier","PATS_PRT_Broyage_Forestier"]
["Déblaiement après perturbation naturelle sans récolte","PATS_PRT_Deblaiement_après_perturbation_naturelle_sans_récolte"]
["Déblaiement des résidus de coupe combiné à bouteur avec pelle modifié","PATS_PRT_Déblaiement_des_résidus_de_coupe_BPM"]
["Déblaiement des résidus de coupe combiné à un scarifiage en monticules","PATS_PRT_Déblaiement_Monticules_Combinés"]
["Déblaiement d'un peuplement sans perturbation naturelle et sans récolte","PATS_PRT_Déblaiement_sans_perturbation_naturelle_et_sans_récolte"]
["Scarifiage par monticules et tranchées","PATS_PRT_Scarifiage_par_monticules_tranchées"]
["Inscrire une valeur","PATS_PRT_Inscrire_une_valeur"]
[]
["Broyage forestier - Conditions d'opération (PATS_PRT_Broyage_Forestier)","Taux","Unité","Zone de groupe 1","Zone de groupe 2","Zone de groupe 3","Zone de groupe 4"]
["Compétition ligneuse et déchets de coupe avec récolte",{"$f":"'Calculs grille'!$L$37","v":1945},"$/ha"]
["Compétition ligneuse, déchets de coupe et tiges rémanentes avec récolte",{"$f":"'Calculs grille'!$L$36","v":2639},"$/ha"]
["Peuplement pré-mature avec épidémie sévère et sans récolte",{"$f":"'Calculs grille'!$L$35","v":3476},"$/ha"]
["Abatteuse groupeuse",{"$f":"'Calculs grille'!L39","v":2179},"$/ha"]
["Excavatrice",{"$f":"'Calculs grille'!L40","v":2244},"$/ha"]
["Excavatrice ou débusqueuse","Variable","$/ha","PATS_PRT_PCT_Variable_DEBL","PATS_PRT_TP","PATS_PRT_VEH","PATS_PRT_TR"]
["Bouteur avec pelle modifiée",{"$f":"'Calculs grille'!$L$31","v":806},"$/ha"]
["Excavatrice ","Variable","$/ha","PATS_PRT_PCT_Variable_DEBL","PATS_PRT_TP",null,"PATS_PRT_TR_PEH"]
["Excavatrice pour le PEH","Variable","$/ha","PATS_PRT_PCT_Variable_MONT",null,null,"PATS_PRT_TR_PEH"]
["Bouteur avec lame tranchante",{"$f":"'Calculs grille'!$L$34","v":1642},"$/ha"]
["Abatteuse groupeuse après feux",{"$f":"'Calculs grille'!$L$13","v":1337},"$/ha"]
["Inscrire une valeur","S/O","S/O"]
[]
["Équation variable PATS REG",{"$f":"Formules!$D$16","v":"Taux ($/ha) = ((40 616 * R) / e (1,683 * R - 0,299 * TP - 0,313 * TR + 2,014)) * VEH"}]
[2.718]
[1.6830000000000001]
[0.29899999999999999]
[0.313]
[2.0139999999999998]
[]
["Équation variable PATS PEH",{"$f":"Formules!$D$17","v":"Taux ($/ha) = (35 394 * R) / e (1,683 * R - 0,313 * TR + 1,715)"}]
[2.718]
[1.6830000000000001]
[0.313]
[1.7150000000000001]
[]
["Équation variable PATS COMBO2",{"$f":"Formules!$D$19","v":"Taux ($/ha) = (26 839 * R) / e (1,683 * R + 2,014)"}]
[2.718]
[1.6830000000000001]
[2.0139999999999998]
[]
["TP : Type de couvert (Excavatrice ou débusqueuse)"]
["Type de couvert résineux",0]
["Type de couvert feuillus ou mixtes",1]
[]
["TR : Type de procédé de récolte (Excavatrice ou débusqueuse)"]
["Peuplement sans perturbation naturelle et aucune récolte de bois",1]
["Peuplement sans perturbation naturelle et en régénération moins de 7 m",0]
[]
["TR : Type de procédé de récolte (Excavatrice pour le PEH)"]
["Procédé de récolte arbres entiers",0]
["Procédé de récolte bois tronçonnés",1]
[]
["VEH : Véhicule (Excavatrice ou débusqueuse)"]
["Débusqueuse",1]
["Excavatrice",2]
[]
["Conditions d'opération","Majoration"]
["Standard",0]
["Monticules et tranchées, spécifique CNESST",{"$f":"'Calculs grille'!$L$32","v":0.14799999999999999}]
[]
["Taux variable_1920_PATS_PRT_PCT_Variable_DEBL"]
["Inscrire un pourcentage"]
["Déblaiement en plein"]
["Déblaiement partiel"]
[]
["Taux variable_1920_PATS_PATS_PRT_PCT_Variable_MONT"]
["Inscrire un pourcentage"]
["Monticules"]
[]
["Codes_DICA","Statut"]
["PATS_NCOTS","PATS"]
[]
["Codes_RATF","Statut"]
["PATS_NCOTS","PATS"]
[]
["Codes_DICA vs Codes_RATF","Codes_RATF","Indirect","Description"]
["PATS_NCOTS","PATS_NCOTS","PATS_PRT_RATF_NCOTS","Traitement du site en expérimentation dans le processus d'analyse lié aux traitements sylvicoles NON commerciaux"]
[]
["HEP ou TC","PATS_PRT_Majoration_HPT_MAN"]
["AVEC hébergement (inscrire un taux)",0]
["AVEC hébergement (taux maximum)",0.26600000000000001]
["AVEC transport collectif",2.1000000000000001E-2]
["SANS majoration",0]
[]
["Débrousaillement manuel - Suivi de conformité - (ARRONDI(Moyenne TS-EP);0)"]
[0]
[{"$f":"ROUND(AVERAGE('Calculs grille'!$L$156,'Calculs grille'!$L$165),0)","v":104}]
[]
["Débrousaillement manuel - Délimitation - Difficulté faible (TS) et autres niveaux EP standard"]
[0]
[{"$f":"'Calculs grille'!$L$194","v":49}]
[]
["PATS - Éducation de peuplement"]
[]
["Traitement unique","Taux","Unité"]
["Débroussaillement mécanique interplaceaux","Variable","$/ha"]
["Dépressage manuel","Variable","$/ha"]
["Dépressage mécanisé systématique par layons avec abatteuse-groupeuse","Inscrire un espacement entre layons traités (G65)","$/ha"]
["Nettoiement d'un peuplement résineux ou mixte à dominance de résineux (MR-FI) réalisé dans des conditions spécifiques","Variable","$/ha"]
["Inscrire une valeur","S/O","S/O"]
[]
["CP1 - Hauteur moyenne (tige à couper)","Facteur","Effet"]
["< 2 m",0.36599999999999999,"Plus facile"]
["≥ 2 m et < 4 m",0.38300000000000001,"Plus facile"]
["≥ 4 m et < 6 m",0.4,"Neutre"]
["≥ 6 m et < 8 m",0.41700000000000004,"Plus difficile"]
["≥ 8 m",0.43400000000000005,"Plus difficile"]
[]
["CP2 - Pourcentage de prélèvement lors de la coupe","Facteur","Effet"]
["< 30%",0.41699999999999998,"Plus difficile"]
["≥ 30% et < 35%",0.4,"Neutre"]
["≥ 35% et < 40%",0.38300000000000001,"Plus facile"]
["≥ 40% et < 45%",0.36599999999999999,"Plus facile"]
["≥ 45%",0.34899999999999998,"Plus facile"]
[]
["CP3 - Procédé de récolte","Facteur","Effet"]
["Arbre entier",0.2,"Neutre"]
["Tronc entier OU bois tronçonnés",0.23399999999999987,"Plus difficile"]
[]
["Ajustements (NET)","Majoration"]
["Plan d’aménagement de l’aire de fréquentation du caribou",{"$f":"'Calculs grille'!$L$86","v":1.1678238506263332}]
["Plan d'aménagement des ravages de cerfs de Virginie",{"$f":"'Calculs grille'!$L$86","v":1.1678238506263332}]
["Feuillus intolérants > 5 m",{"$f":"'Calculs grille'!$L$86","v":1.1678238506263332}]
[]
["Débroussaillement mécanique interplaceaux - Constante"]
[{"$f":"'Calculs grille'!L137","v":335}]
[]
["Débroussaillement mécanique interplaceaux - Niveau de difficulté","Taux","DI de DEGMEC- Majoration si dans placeaux"]
["Faible (hauteur < 1,5 m)",{"$f":"'Calculs grille'!$L$138","v":494},{"$f":"('Calculs grille'!$L$81*5000)","v":23.5},"Zone de groupe a créer pour RECHERCHEV"]
["Moyenne (hauteur ≥ 1,5 m et ≤ 2,5 m) OU élevée (hauteur > 2,5 m) et densité faible (moins de 20 000 ti/ha)",{"$f":"'Calculs grille'!$L$139","v":971},{"$f":"('Calculs grille'!$L$81*10000)","v":47}]
["Élevée (hauteur > 2,5 m) et densité moyenne (20 000 à 30 000 ti/ha)",{"$f":"'Calculs grille'!$L$140","v":1428},{"$f":"('Calculs grille'!$L$81*20000)","v":94}]
["Élevée (hauteur > 2,5 m) et densité forte (plus de 30 000 ti/ha)",{"$f":"'Calculs grille'!$L$141","v":1737},{"$f":"('Calculs grille'!$L$81*30000)","v":141}]
[]
["Débroussaillement mécanique interplaceaux - Dégagement mécanique"]
["AVEC dégagement mécanique à l'intérieur des placeaux"]
["SANS dégagement mécanique"]
[]
["Dépressage - Patron d'opération"]
["Hauteur du peuplement ≤ 2,5 m : 2 m layons x 4 m entraxes (peuplement résiduel)"]
["Hauteur du peuplement > 2,5 m : 3 m layons x 4 m entraxes (peuplement résiduel)"]
[]
["Codes_DICA","Statut"]
["DEBR","PATS"]
["DEP","PATS"]
["PATS_NCOEP","PATS"]
[]
["Codes_RATF","Statut"]
["DEBR","PATS"]
["DEP","PATS"]
["PATS_NCOEP","PATS"]
[]
["Codes_DICA vs Codes_RATF","Codes_RATF","Indirect","Description"]
["DEBR","DEBR","PATS_EP_RATF_DEBR","Débroussaillement de la végétation (traitement manuel avec débroussailleuse), en plein"]
["DEP","DEP","PATS_EP_RATF_DEP","Dépressage"]
["PATS_NCOEP","PATS_NCOEP","PATS_EP_RATF_NCOEP","Traitement d'éducation de peuplement en expérimentation dans le processus d'analyse lié aux traitements sylvicoles NON commerciaux"]
[]
["Dépressage mécanisé systématique par layons avec abatteuse-groupeuse - Patron d'opération"]
["Espacement entre les layons traités de 8 m ",{"$f":"'Calculs grille'!$L$124","v":1162}]
["Espacement entre les layons traités de 16 m ",{"$f":"'Calculs grille'!$L$123","v":704}]

{"sheet":"Formules","index":30,"n_rows":29,"n_cols":10,"rows_kept":29,"cut":false,"hidden":true,"merged":[]}
["Onglet","Traitement ou Équipement ou modalité (TS) ","Équation Texte","Équation Référencée Onglet","Valeur_prescription_1","Valeur_prescription_2","Valeur_prescription_3","Valeur_prescription_4","Valeur_prescription_5","Total"]
["Éducation de peuplement","Dégagement mécanique d'un peuplement résineux ou mixte à dominance de résineux (MR-FI)",{"$f":"TEXT(D2,)","v":"Taux ($/ha) = 963,59 + (13,6 * RECFFE) + (0,0047 * DI) + (157,35 * MODE)"},{"$f":"\"Taux ($/ha) = \"&TEXT('Calculs grille'!$L$79,\"# ###,##\")&\" + (\"&TEXT('Calculs grille'!$L$80,\"##,##\")&\" * RECFFE) + (\"&TEXT('Calculs grille'!$L$81,\"0,####\")&\" * DI) + (\"&TEXT('Calculs grille'!$L$82,\"# ###,00\")&\" * MODE)\"","v":"Taux ($/ha) = 963,59 + (13,6 * RECFFE) + (0,0047 * DI) + (157,35 * MODE)"},"RECFFE","DI","MODE",null,null,{"$f":"E2&\" - \"&F2&\" - \"&G2","v":"RECFFE - DI - MODE"}]
["Éducation de peuplement","Nettoiement d'un peuplement résineux ou mixte à dominance de résineux (MR-FI) - Gradient d'intensité de la sylviculture de base","Taux ($/ha) = (1 073,56 + (0,0119 * DI) - (440,27 * SRLC)) * TPGI",{"$f":"\"Taux ($/ha) = (\"&TEXT('Calculs grille'!$L$83,\"# ###,00\")&\" + (\"&TEXT('Calculs grille'!$L$84,\"0,0000\")&\" * DI) - (\"&ABS(TEXT('Calculs grille'!$L$85,\"# ###,00\"))&\" * SRLC))\"&\" * TPGI\"","v":"Taux ($/ha) = (1 073,56 + (0,0119 * DI) - (440,27 * SRLC)) * TPGI"},"DI","SRLC","TPGI",null,null,{"$f":"E3&\" - \"&F3&\" - \"&G3","v":"DI - SRLC - TPGI"}]
["Éducation de peuplement","Nettoiement d'un peuplement résineux ou mixte à dominance de résineux (MR-FI) - Gradient d'intensité de la sylviculture d'intensive/élite","Taux ($/ha) = (697,38 + (0,0557 * DI) - (82,41 * SRLC))",{"$f":"\"Taux ($/ha) = (\"&TEXT('Calculs grille'!$L$88,\"# ###,00\")&\" + (\"&TEXT('Calculs grille'!$L$89,\"0,0000\")&\" * DI) - (\"&ABS(TEXT('Calculs grille'!$L$90,\"# ###,00\"))&\" * SRLC))\"","v":"Taux ($/ha) = (697,38 + (0,0557 * DI) - (82,41 * SRLC))"},"DI","SRLC",null,null,null,{"$f":"E4&\" - \"&F4","v":"DI - SRLC"}]
["Éducation de peuplement","EPC systématique d'un peuplement résineux ou de peuplier","Taux ($/ha) = 177,1 + (714,02 * ln (DI) - 5 771,39) * TP",{"$f":"\"Taux ($/ha) = \"&TEXT('Calculs grille'!$L$91,\"# ###,##\")&\" + (\"&TEXT('Calculs grille'!$L$92,\"# ###,##\")&\" * ln (DI) - \"&TEXT('Calculs grille'!$L$93,\"# ###,##\")&\") * TP\"","v":"Taux ($/ha) = 177,1 + (714,02 * ln (DI) - 5 771,39) * TP"},"DI","TP",null,null,null,{"$f":"E5&\" - \"&F5","v":"DI - TP"}]
["Éducation de peuplement","EPC par puits de lumière ET Taille de formation avec martelage","Taux ($/ha) = 0,587 * DENSTIGE * EXP (0,1452 * HTTIGE) + 49 * DENSTIGE / (0,1204 * DENSTIGE + 98,69) + 56,39 * TAIL + 1 027,96",{"$f":"\"Taux ($/ha) = \"&TEXT('Calculs grille'!$L$97,\"0,###\")&\" * DENSTIGE * EXP (\"&TEXT('Calculs grille'!$L$98,\"0,####\")&\" * HTTIGE) + \"&'Calculs grille'!$L$99&\" * DENSTIGE / (\"&TEXT('Calculs grille'!$L$100,\"0,####\")&\" * DENSTIGE + \"&TEXT('Calculs grille'!$L$101,\"0,00\")&\") + \"&TEXT('Calculs grille'!$L$102,\"0,##\")&\" * TAIL + \"&TEXT('Calculs grille'!$L$103,\"# ###,00\")","v":"Taux ($/ha) = 0,587 * DENSTIGE * EXP (0,1452 * HTTIGE) + 49 * DENSTIGE / (0,1204 * DENSTIGE + 98,69) + 56,39 * TAIL + 1 027,96"},"DENSTIGE","HTTIGE","TAIL",null,null,{"$f":"E6&\" - \"&F6&\" - \"&G6","v":"DENSTIGE - HTTIGE - TAIL"}]
["Éducation de peuplement","Élagage artificiel pour le pin blanc et le pin rouge","Taux ($/ha) = (((0,032 * BRAN + 0,4590 + 0,7644 * LONGELA) + (-0,0763 * ln (DENSELA) + 0,6463)) * DENSELA) + MP + 731,11",{"$f":"\"Taux ($/ha) = (((\"&TEXT('Calculs grille'!$L$108,\"0,000\")&\" * BRAN + \"&TEXT('Calculs grille'!$L$109,\"0,0000\")&\" + \"&TEXT('Calculs grille'!$L$110,\"0,000#\")&\" * LONGELA) + (-\"&TEXT('Calculs grille'!$L$111,\"0,####\")&\" * ln (DENSELA) + \"&TEXT('Calculs grille'!$L$112,\"0,####\")&\")) * DENSELA) + MP + \"&TEXT('Calculs grille'!$L$115,\"# ###,00\")","v":"Taux ($/ha) = (((0,032 * BRAN + 0,4590 + 0,7644 * LONGELA) + (-0,0763 * ln (DENSELA) + 0,6463)) * DENSELA) + MP + 731,11"},"BRAN","LONGDELA","DENSELA","MP",null,{"$f":"E7&\" - \"&F7&\" - \"&G7&\" - \"&H7","v":"BRAN - LONGDELA - DENSELA - MP"}]
["Éducation de peuplement","Taille phytosanitaire","Taux ($/ha) = ((0,0244 * BRAN + 0,1169 + (-0,0738 * ln (DENSELA) + 0,6253)) * DENSELA) + 0,1 * DENSCO + 0,5909 * DENSTF + 706,52",{"$f":"\"Taux ($/ha) = ((\"&TEXT('Calculs grille'!$L$116,\"0,0000\")&\" * BRAN + \"&TEXT('Calculs grille'!$L$117,\"0,0000\")&\" + (-\"&TEXT('Calculs grille'!$L$118,\"0,000#\")&\" * ln (DENSELA) + \"&TEXT('Calculs grille'!$L$119,\"0,####\")&\")) * DENSELA) + \"&TEXT('Calculs grille'!$L$120,\"0,0\")&\" * DENSCO + \"&TEXT('Calculs grille'!$L$121,\"0,####\")&\" * DENSTF + \"&'Calculs grille'!$L$122","v":"Taux ($/ha) = ((0,0244 * BRAN + 0,1169 + (-0,0738 * ln (DENSELA) + 0,6253)) * DENSELA) + 0,1 * DENSCO + 0,5909 * DENSTF + 706,52"},"BRAN","DENSELA","DENSCO","DENSTF",null,{"$f":"E8&\" - \"&F8&\" - \"&G8&\" - \"&H8","v":"BRAN - DENSELA - DENSCO - DENSTF"}]
["Éducation de peuplement - PATS","Nettoiement d'un peuplement résineux ou mixte à dominance de résineux (MR-FI) réalisé dans des conditions spécifiques","Taux ($/ha) = (1 073,56 + (0,0119 * DI) - (440,27 * SRLC)) * AJUST",{"$f":"\"Taux ($/ha) = (\"&TEXT('Calculs grille'!$L$83,\"# ###,00\")&\" + (\"&TEXT('Calculs grille'!$L$84,\"0,0000\")&\" * DI) - (\"&ABS(TEXT('Calculs grille'!$L$85,\"# ###,00\"))&\" * SRLC))\"&\" * AJUST\"","v":"Taux ($/ha) = (1 073,56 + (0,0119 * DI) - (440,27 * SRLC)) * AJUST"},"DI","SRLC","AJUST",null,null,{"$f":"E9&\" - \"&F9&\" - \"&G9","v":"DI - SRLC - AJUST"}]
["Éducation de peuplement - PATS","Nettoiement mécanique sous couvert d’un peuplement de feuillus tolérants (contenir l’envahissement du hêtre à grandes feuilles)","Taux ($/ha) = (1078,07 + (0,0126 * DI) - (465,39 * (1-SFAC))) * (CP1 + CP2 + CP3)",{"$f":"\"Taux ($/ha) = (\"&'Calculs grille'!$L$131&\" + (\"&'Calculs grille'!$L$132&\" * DI) - (\"&ABS('Calculs grille'!$L$133)&\" * (1-SFAC))) * (CP1 + CP2 + CP3)\"","v":"Taux ($/ha) = (1078,07 + (0,0126 * DI) - (465,39 * (1-SFAC))) * (CP1 + CP2 + CP3)"},"DI","SFAC","CP1","CP2","CP3",{"$f":"E10&\" - \"&F10&\" - \"&G10&\" - \"&H10&\" - \"&I10","v":"DI - SFAC - CP1 - CP2 - CP3"}]
["Éducation de peuplement - PATS","Dépressage manuel - Hauteur du peuplement ≤ 2,5 m : 2 m layons x 4 m entraxes (peuplement résiduel)","Taux ($/ha) =  222,32 + (448,16 * ln (DI) - 3 622,5)",{"$f":"\"Taux ($/ha) =  \"&'Calculs grille'!$L$125&\" + (\"&'Calculs grille'!$L$126&\" * ln (DI) - \"&TEXT('Calculs grille'!$L$127,\"# ###,##\")&\")\"","v":"Taux ($/ha) =  222,32 + (448,16 * ln (DI) - 3 622,5)"},"DI",null,null,null,null,{"$f":"E11","v":"DI"}]
["Éducation de peuplement - PATS","Dépressage manuel - Hauteur du peuplement > 2,5 m : 3 m layons x 4 m entraxes (peuplement résiduel)","Taux ($/ha) =  222,32 + (582,96 * ln (DI) - 4 712,08)",{"$f":"\"Taux ($/ha) =  \"&'Calculs grille'!$L$128&\" + (\"&TEXT('Calculs grille'!$L$129,\"##,#0\")&\" * ln (DI) - \"&TEXT('Calculs grille'!$L$130,\"# ###,##\")&\")\"","v":"Taux ($/ha) =  222,32 + (582,96 * ln (DI) - 4 712,08)"},"DI",null,null,null,null,{"$f":"E12","v":"DI"}]
["Éducation de peuplement - PATS","Débroussaillement mécanique interplaceaux","Taux ($/ha) = 335 + (R * Niveau de difficulté)",{"$f":"\"Taux ($/ha) = \"&'Calculs grille'!$L$137&\" + (R * Niveau de difficulté)\"","v":"Taux ($/ha) = 335 + (R * Niveau de difficulté)"},"R","Niveau de difficulté",null,null,null,{"$f":"E13&\" - \"&F13","v":"R - Niveau de difficulté"}]
["Traitements du site","Excavatrice",{"$f":"TEXT(D14,)","v":"Taux ($/ha) = ((35 394 * R) / e (1,683 * R - 0,299 * TP - 0,313 * TR + 0,17 * PER + 2,014))"},{"$f":"\"Taux ($/ha) = ((\"&TEXT('Calculs grille'!$L$16,\"## ####\")&\" * R) / e (\"&Menus!$A$77&\" * R - \"&Menus!$A$78&\" * TP - \"&Menus!$A$79&\" * TR + \"&Menus!$A$80&\" * PER + \"&Menus!$A$81&\"))\"","v":"Taux ($/ha) = ((35 394 * R) / e (1,683 * R - 0,299 * TP - 0,313 * TR + 0,17 * PER + 2,014))"},"R","TP","TR","PER",null,{"$f":"E14&\" - \"&F14&\" - \"&G14&\" - \"&H14","v":"R - TP - TR - PER"}]
["Traitements du site","Excavatrice ou débusqueuse ou abatteuse","Taux ($/ha) = ((40 616 * R) / e (1,683 * R - 0,299 * TP  - 0,313 * TR + 0,17 * PER + 2,014)) * VEH",{"$f":"\"Taux ($/ha) = ((\"&TEXT('Calculs grille'!$L$22,\"## ####\")&\" * R) / e (\"&Menus!$A$77&\" * R - \"&Menus!$A$78&\" * TP  - \"&Menus!$A$79&\" * TR + \"&Menus!$A$80&\" * PER + \"&Menus!$A$81&\")) * VEH\"","v":"Taux ($/ha) = ((40 616 * R) / e (1,683 * R - 0,299 * TP  - 0,313 * TR + 0,17 * PER + 2,014)) * VEH"},"R","TP","TR","PER","VEH",{"$f":"E15&\" - \"&F15&\" - \"&G15&\" - \"&H15&\" - \"&I15","v":"R - TP - TR - PER - VEH"}]
["Traitements du site - PATS","Excavatrice ou débusqueuse","Taux ($/ha) = ((40 616 * R) / e (1,683 * R - 0,299 * TP - 0,313 * TR + 2,014)) * VEH",{"$f":"\"Taux ($/ha) = ((\"&TEXT('Calculs grille'!$L$22,\"## ####\")&\" * R) / e (\"&Menus!$A$794&\" * R - \"&Menus!$A$795&\" * TP - \"&Menus!$A$796&\" * TR + \"&Menus!$A$797&\")) * VEH\"","v":"Taux ($/ha) = ((40 616 * R) / e (1,683 * R - 0,299 * TP - 0,313 * TR + 2,014)) * VEH"},"R","TP","TR","VEH",null,{"$f":"E16&\" - \"&F16&\" - \"&G16&\" - \"&H16","v":"R - TP - TR - VEH"}]
["Traitements du site - PATS","Excavatrice pour le PEH","Taux ($/ha) = (35 394 * R) / e (1,683 * R - 0,313 * TR + 1,715)",{"$f":"\"Taux ($/ha) = (\"&TEXT('Calculs grille'!$L$16,\"## ####\")&\" * R) / e (\"&Menus!$A$801&\" * R - \"&Menus!$A$802&\" * TR + \"&Menus!$A$803&\")\"","v":"Taux ($/ha) = (35 394 * R) / e (1,683 * R - 0,313 * TR + 1,715)"},"R","TR",null,null,null,{"$f":"E17&\" - \"&F17","v":"R - TR"}]
["Traitements du site - PATS (espace insécable après excavatrice)","Excavatrice (COMBO1)","Taux ($/ha) = (40 616 * R) / e (1,683 * R - 0,299 * TP - 0,313 * TR + 2,014)",{"$f":"\"Taux ($/ha) = (\"&TEXT('Calculs grille'!$L$22,\"## ####\")&\" * R) / e (\"&Menus!$A$794&\" * R - \"&Menus!$A$795&\" * TP - \"&Menus!$A$796&\" * TR + \"&Menus!$A$797&\")\"","v":"Taux ($/ha) = (40 616 * R) / e (1,683 * R - 0,299 * TP - 0,313 * TR + 2,014)"},"R","TP","TR",null,null,{"$f":"E18&\" - \"&F18&\" - \"&G18","v":"R - TP - TR"}]
["Traitements du site - PATS (espace insécable après excavatrice)","Excavatrice (COMBO2)","Taux ($/ha) = (26 839 * R) / e (1,683 * R + 2,014)",{"$f":"\"Taux ($/ha) = (\"&TEXT('Calculs grille'!$L$33,\"## ####\")&\" * R) / e (\"&Menus!$A$807&\" * R + \"&Menus!$A$808&\")\"","v":"Taux ($/ha) = (26 839 * R) / e (1,683 * R + 2,014)"},"R",null,null,null,null,{"$f":"E19","v":"R"}]
["Régénération artificielle","Plantation uniforme, regarni manuel et plantation d'enrichissement sauf PEH","Taux ($/Kplants) = 141,2 - (85,52 * PR) + (558 222 / (DE * DS)) + GABARIT",{"$f":"\"Taux ($/Kplants) = \"&TEXT('Calculs grille'!$L$55,\"###,0\")&\" - (\"&ABS(TEXT('Calculs grille'!$L$56,\"0,00\"))&\" * PR) + (\"&TEXT('Calculs grille'!$L$57,\"## ###\")&\" / (DE * DS)) + GABARIT\"","v":"Taux ($/Kplants) = 141,2 - (85,52 * PR) + (558 222 / (DE * DS)) + GABARIT"},"PR","DE","DS","Gabarit",null,{"$f":"E20&\" - \"&F20&\" - \"&G20&\" - \"&H20","v":"PR - DE - DS - Gabarit"}]
["Régénération artificielle","Regarni de sentier et plantation d'enrichissement manuel sauf PEH","Taux ($/Kplants) = 141,2 - (85,52 * PR) + (558 222 / (DE * DS)) + GABARIT",{"$f":"\"Taux ($/Kplants) = \"&TEXT('Calculs grille'!$L$55,\"###,0\")&\" - (\"&ABS(TEXT('Calculs grille'!$L$56,\"0,00\"))&\" * PR) + (\"&TEXT('Calculs grille'!$L$57,\"## ###\")&\" / (DE * DS)) + GABARIT\"","v":"Taux ($/Kplants) = 141,2 - (85,52 * PR) + (558 222 / (DE * DS)) + GABARIT"},"PR","DE","DS","Gabarit",null,{"$f":"E21&\" - \"&F21&\" - \"&G21&\" - \"&H21","v":"PR - DE - DS - Gabarit"}]
["Régénération artificielle","Plantation uniforme et regarni en plein manuel sentier préparé sauf PEH","Taux ($/Kplants) = 141,2 - (85,52 * PR) + (558 222 / (DE * DS)) + GABARIT",{"$f":"\"Taux ($/Kplants) = \"&TEXT('Calculs grille'!$L$55,\"###,0\")&\" - (\"&ABS(TEXT('Calculs grille'!$L$56,\"0,00\"))&\" * PR) + (\"&TEXT('Calculs grille'!$L$57,\"## ###\")&\" / (DE * DS)) + GABARIT\"","v":"Taux ($/Kplants) = 141,2 - (85,52 * PR) + (558 222 / (DE * DS)) + GABARIT"},"PR","DE","DS","DSA","Gabarit",{"$f":"E22&\" - \"&F22&\" - \"&G22&\" - \"&H22&\" - \"&I22","v":"PR - DE - DS - DSA - Gabarit"}]
["Éclaircie commerciale EAF","Éclaircie commerciale EAF","Taux ($/m3) = (13,2680 * VREC EXP - 0,491) + 3,882",{"$f":"\"Taux ($/m3) = (\"&TEXT('Calculs grille'!$L$150,\"0,0000\")&\" * VREC EXP - \"&TEXT('Calculs grille'!$L$151,\"0,000\")&\") + \"&TEXT('Calculs grille'!$L$152,\"0,000\")","v":"Taux ($/m3) = (13,2680 * VREC EXP - 0,491) + 3,882"},"VREC","P",null,null,null,{"$f":"E23&\" - \"&F23","v":"VREC - P"}]
["Martelage","Martelage","Taux ($/ha) = (167,79 - (41,51 * PF) + (4,76 * NbMSCROP)) * TC",{"$f":"\"Taux ($/ha) = (\"&TEXT('Calculs grille'!L$202,\"0,00\")&\" - (\"&TEXT('Calculs grille'!$L$203,\"0,00\")&\" * PF) + (\"&TEXT('Calculs grille'!$L$204,\"0,00\")&\" * NbMSCROP)) * TC\"","v":"Taux ($/ha) = (167,79 - (41,51 * PF) + (4,76 * NbMSCROP)) * TC"},"NbMSCROP","TC",null,null,null,{"$f":"E24&\" - \"&F24","v":"NbMSCROP - TC"}]
["Travaux de planification","Inventaire avant traitement pour éducation de peuplement (dégagement, nettoiement et éclaircie précommerciale)","Taux ($/PE) = 113 + (Nombre de critère #10 * 0,87) + (Nombre de critère #11 * 4,36) + (Nombre de critère #12 * 8,72)",{"$f":"\"Taux ($/PE) = \"&'Calculs grille'!$L$180&\" + (Nombre de critère #10 * \"&TEXT('Calculs grille'!$L$181,\"0,00\")&\") + (Nombre de critère #11 * \"&TEXT('Calculs grille'!$L$182,\"0,00\")&\") + (Nombre de critère #12 * \"&TEXT('Calculs grille'!$L$183,\"0,00\")&\")\"","v":"Taux ($/PE) = 113 + (Nombre de critère #10 * 0,87) + (Nombre de critère #11 * 4,36) + (Nombre de critère #12 * 8,72)"},"Critères #10","Critères #11","Critères #12",null,null,{"$f":"E25&\" - \"&F25&\" - \"&G25","v":"Critères #10 - Critères #11 - Critères #12"}]
["Travaux de planification","Inventaire diagnostique pour traitement du site","Taux ($/PE) = 36 + (Nombre de critère #7 * 0,58) + (Nombre de critère #8 * 2,91)",{"$f":"\"Taux ($/PE) = \"&'Calculs grille'!$L$174&\" + (Nombre de critère #7 * \"&TEXT('Calculs grille'!$L$175,\"0,00\")&\") + (Nombre de critère #8 * \"&TEXT('Calculs grille'!$L$176,\"0,00\")&\")\"","v":"Taux ($/PE) = 36 + (Nombre de critère #7 * 0,58) + (Nombre de critère #8 * 2,91)"},"Critères #7","Critères #8",null,null,null,{"$f":"E26&\" - \"&F26","v":"Critères #7 - Critères #8"}]
["Travaux de planification","Inventaire diagnostique pour régénération artificielle ","Taux ($/PE) = 39 + (Nombre de critère #9 * 0,71)",{"$f":"\"Taux ($/PE) = \"&'Calculs grille'!$L$177&\" + (Nombre de critère #9 * \"&TEXT('Calculs grille'!$L$178,\"0,00\")&\")\"","v":"Taux ($/PE) = 39 + (Nombre de critère #9 * 0,71)"},"Critères #9",null,null,null,null,{"$f":"E27","v":"Critères #9"}]
["Suivi d'efficacité","Mise en place de la régénération suite à une coupe totale","Taux ($/PED) = 37 + (Nombre de critère #7 * 0,58) + (Nombre de critère #8 * 2,91) + (Nombre de critère #12 * 8,72) + (Nombre de critère #13 * 5,51) + (Nombre de critère #14 * 4,36)",{"$f":"\"Taux ($/PED) = \"&'Calculs grille'!$L$187&\" + (Nombre de critère #7 * \"&TEXT('Calculs grille'!$L$189,\"0,00\")&\") + (Nombre de critère #8 * \"&TEXT('Calculs grille'!$L$190,\"0,00\")&\") + (Nombre de critère #12 * \"&TEXT('Calculs grille'!$L$192,\"0,00\")&\") + (Nombre de critère #13 * \"&TEXT('Calculs grille'!$L$188,\"0,00\")&\") + (Nombre de critère #14 * \"&TEXT('Calculs grille'!$L$191,\"0,00\")&\")\"","v":"Taux ($/PED) = 37 + (Nombre de critère #7 * 0,58) + (Nombre de critère #8 * 2,91) + (Nombre de critère #12 * 8,72) + (Nombre de critère #13 * 5,51) + (Nombre de critère #14 * 4,36)"},"Critères #7","Critères #8","Critères #12","Critères #13","Critères #14",{"$f":"E28&\" - \"&F28&\" - \"&G28&\" - \"&H28&\" - \"&I28","v":"Critères #7 - Critères #8 - Critères #12 - Critères #13 - Critères #14"}]
["Suivi d'efficacité","État de la régénération suite à une interventiond'une régénération artificielle","Taux ($/PED) = 98 + (Nombre de critère #14 * 4,36)",{"$f":"\"Taux ($/PED) = \"&'Calculs grille'!$L$185&\" + (Nombre de critère #14 * \"&TEXT('Calculs grille'!$L$191,\"0,00\")&\")\"","v":"Taux ($/PED) = 98 + (Nombre de critère #14 * 4,36)"},"Critères #14",null,null,null,null,{"$f":"E29","v":"Critères #14"}]

{"sheet":"RXF","index":31,"n_rows":58,"n_cols":7,"rows_kept":58,"cut":false,"hidden":true,"merged":[]}
["Équipement ou modalité","Onglet","Taux total","Taux sans vérif","Grand total","Vérification","Grand total sans vérification"]
[{"$f":"'Majorations applicables'!$C$2","v":"Débroussaillement mécanique"},{"$f":"'Majorations applicables'!$B$2","v":"Traitements du site"},{"$f":"'Traitements du site'!$G$228","v":0},{"$f":"'Traitements du site'!$G$228-'Traitements du site'!$G$222","v":0},{"$f":"'Traitements du site'!$G$232","v":0},{"$f":"'Traitements du site'!$G$229*'Traitements du site'!$G$222","v":0},{"$f":"E2-F2","v":0}]
[{"$f":"'Majorations applicables'!$C$3","v":"Bouteur avec pelle râteau"},{"$f":"'Majorations applicables'!$B$3","v":"Traitements du site"},{"$f":"'Traitements du site'!$G$212","v":0},{"$f":"'Traitements du site'!$G$212-'Traitements du site'!$G$206","v":0},{"$f":"'Traitements du site'!$G$216","v":0},{"$f":"'Traitements du site'!G213*'Traitements du site'!$G$206","v":0},{"$f":"E3-F3","v":0}]
[{"$f":"'Majorations applicables'!$C$4","v":"Bracke M-36A avec débardeur"},{"$f":"'Majorations applicables'!$B$4","v":"Traitements du site"},{"$f":"'Traitements du site'!$G$180","v":0},{"$f":"'Traitements du site'!$G$180-'Traitements du site'!$G$174","v":0},{"$f":"'Traitements du site'!$G$184","v":0},{"$f":"'Traitements du site'!$G$174*'Traitements du site'!$G$181","v":0},{"$f":"E4-F4","v":0}]
[{"$f":"'Majorations applicables'!$C$5","v":"Bracke M-36A avec porteur ou débardeur à six roues"},{"$f":"'Majorations applicables'!$B$5","v":"Traitements du site"},{"$f":"'Traitements du site'!$G$180","v":0},{"$f":"'Traitements du site'!$G$180-'Traitements du site'!$G$174","v":0},{"$f":"'Traitements du site'!$G$184","v":0},{"$f":"'Traitements du site'!$G$174*'Traitements du site'!$G$181","v":0},{"$f":"E5-F5","v":0}]
[{"$f":"'Majorations applicables'!$C$6","v":"Bracke T-26 avec débardeur"},{"$f":"'Majorations applicables'!$B$6","v":"Traitements du site"},{"$f":"'Traitements du site'!$G$162","v":0},{"$f":"'Traitements du site'!$G$162-'Traitements du site'!$G$157","v":0},{"$f":"'Traitements du site'!$G$169","v":0},{"$f":"'Traitements du site'!$G$157*'Traitements du site'!$G$166","v":0},{"$f":"E6-F6","v":0}]
[{"$f":"'Majorations applicables'!$C$7","v":"Bracke T-26 avec porteur ou débardeur à six roues"},{"$f":"'Majorations applicables'!$B$7","v":"Traitements du site"},{"$f":"'Traitements du site'!$G$162","v":0},{"$f":"'Traitements du site'!$G$162-'Traitements du site'!$G$157","v":0},{"$f":"'Traitements du site'!$G$169","v":0},{"$f":"'Traitements du site'!$G$157*'Traitements du site'!$G$166","v":0},{"$f":"E7-F7","v":0}]
[{"$f":"'Majorations applicables'!$C$8","v":"Milieu boisé"},{"$f":"'Majorations applicables'!$B$8","v":"Traitements du site"},{"$f":"'Traitements du site'!$G$240","v":0},{"$f":"'Traitements du site'!$G$237","v":0},{"$f":"'Traitements du site'!$G$244","v":0},{"$f":"'Traitements du site'!$G$243","v":0},0]
[{"$f":"'Majorations applicables'!$C$9","v":"Milieu dénudé"},{"$f":"'Majorations applicables'!$B$9","v":"Traitements du site"},{"$f":"'Traitements du site'!$G$240","v":0},{"$f":"'Traitements du site'!$G$237","v":0},{"$f":"'Traitements du site'!$G$244","v":0},{"$f":"'Traitements du site'!$G$243","v":0},0]
[{"$f":"'Majorations applicables'!$C$10","v":"Herses forestières - double passage"},{"$f":"'Majorations applicables'!$B$10","v":"Traitements du site"},{"$f":"'Traitements du site'!$G$196","v":0},{"$f":"'Traitements du site'!$G$196-'Traitements du site'!$G$190","v":0},{"$f":"'Traitements du site'!$G$200","v":0},{"$f":"'Traitements du site'!$G$197*'Traitements du site'!$G$190","v":0},0]
[{"$f":"'Majorations applicables'!$C$11","v":"Rouleau écraseur et scarificateur à disques passifs"},{"$f":"'Majorations applicables'!$B$11","v":"Traitements du site"},{"$f":"'Traitements du site'!$G$228","v":0},{"$f":"'Traitements du site'!$G$228-'Traitements du site'!$G$222","v":0},{"$f":"'Traitements du site'!$G$232","v":0},{"$f":"'Traitements du site'!$G$229*'Traitements du site'!$G$222","v":0},{"$f":"E11-F11","v":0}]
[{"$f":"'Majorations applicables'!$C$12","v":"Taupe ou pioche forestière"},{"$f":"'Majorations applicables'!$B$12","v":"Traitements du site"},{"$f":"'Traitements du site'!$G$254","v":0},{"$f":"'Traitements du site'!$G$254-'Traitements du site'!$G$247","v":0},{"$f":"'Traitements du site'!$G$258","v":0},{"$f":"'Traitements du site'!$G$255*'Traitements du site'!$G$247","v":0},0]
[{"$f":"'Majorations applicables'!$C$14","v":"TTS - Disques passifs"},{"$f":"'Majorations applicables'!$B$14","v":"Traitements du site"},{"$f":"'Traitements du site'!$G$162","v":0},{"$f":"'Traitements du site'!$G$162-'Traitements du site'!$G$157","v":0},{"$f":"'Traitements du site'!$G$169","v":0},{"$f":"'Traitements du site'!$G$157*'Traitements du site'!$G$166","v":0},{"$f":"E13-F13","v":0}]
[{"$f":"'Majorations applicables'!$C$15","v":"TTS hydrauliques ou Donaren"},{"$f":"'Majorations applicables'!$B$15","v":"Traitements du site"},{"$f":"'Traitements du site'!$G$162","v":0},{"$f":"'Traitements du site'!$G$162-'Traitements du site'!$G$157","v":0},{"$f":"'Traitements du site'!$G$169","v":0},{"$f":"'Traitements du site'!$G$157*'Traitements du site'!$G$166","v":0},{"$f":"E14-F14","v":0}]
[{"$f":"'Majorations applicables'!$C$16","v":"Wadell"},{"$f":"'Majorations applicables'!$B$16","v":"Traitements du site"},{"$f":"'Traitements du site'!$G$162","v":0},{"$f":"'Traitements du site'!$G$162-'Traitements du site'!$G$157","v":0},{"$f":"'Traitements du site'!$G$169","v":0},{"$f":"'Traitements du site'!$G$157*'Traitements du site'!$G$166","v":0},{"$f":"E15-F15","v":0}]
["S/O","Traitements du site (Fertilisation du peuplier hybride)",{"$f":"'Traitements du site'!$G$286","v":0},{"$f":"'Traitements du site'!$G$286-'Traitements du site'!$G$278","v":0},{"$f":"'Traitements du site'!$G$290","v":0},{"$f":"'Traitements du site'!$G$287*'Traitements du site'!$G$278","v":0},{"$f":"E16-F16","v":0}]
[{"$f":"'Majorations applicables'!$C$17","v":"Excavatrice"},{"$f":"'Majorations applicables'!$B$17","v":"Traitements du site"},{"$f":"'Traitements du site'!$G$270","v":0},{"$f":"'Traitements du site'!$G$270-'Traitements du site'!$G$264","v":0},{"$f":"'Traitements du site'!$G$274","v":0},{"$f":"'Traitements du site'!$G$271*'Traitements du site'!$G$264","v":0},0]
[{"$f":"'Majorations applicables'!$C$18","v":"Excavatrice ou débusqueuse ou abatteuse"},{"$f":"'Majorations applicables'!$B$18","v":"Traitements du site"},{"$f":"'Traitements du site'!$G$270","v":0},{"$f":"'Traitements du site'!$G$270-'Traitements du site'!$G$264","v":0},{"$f":"'Traitements du site'!$G$274","v":0},{"$f":"'Traitements du site'!$G$271*'Traitements du site'!$G$264","v":0},{"$f":"E18-F18","v":0}]
[{"$f":"'Majorations applicables'!$C$19","v":"Compétition ligneuse et déchets de coupe avec récolte"},{"$f":"'Majorations applicables'!$B$19","v":"Traitements du site - PATS"},{"$f":"'Traitements du site - PATS'!$G$231","v":0},{"$f":"'Traitements du site - PATS'!$G$231-'Traitements du site - PATS'!$G$225","v":0},{"$f":"'Traitements du site - PATS'!$G$235","v":0},{"$f":"'Traitements du site - PATS'!$G$232*'Traitements du site - PATS'!$G$225","v":0},{"$f":"E19-F19","v":0}]
[{"$f":"'Majorations applicables'!$C$20","v":"Compétition ligneuse, déchets de coupe et tiges rémanentes avec récolte"},{"$f":"'Majorations applicables'!$B$20","v":"Traitements du site - PATS"},{"$f":"'Traitements du site - PATS'!$G$231","v":0},{"$f":"'Traitements du site - PATS'!$G$231-'Traitements du site - PATS'!$G$225","v":0},{"$f":"'Traitements du site - PATS'!$G$235","v":0},{"$f":"'Traitements du site - PATS'!$G$232*'Traitements du site - PATS'!$G$225","v":0},{"$f":"E20-F20","v":0}]
[{"$f":"'Majorations applicables'!$C$21","v":"Peuplement pré-mature avec épidémie sévère et sans récolte"},{"$f":"'Majorations applicables'!$B$21","v":"Traitements du site - PATS"},{"$f":"'Traitements du site - PATS'!$G$231","v":0},{"$f":"'Traitements du site - PATS'!$G$231-'Traitements du site - PATS'!$G$225","v":0},{"$f":"'Traitements du site - PATS'!$G$235","v":0},{"$f":"'Traitements du site - PATS'!$G$232*'Traitements du site - PATS'!$G$225","v":0},{"$f":"E21-F21","v":0}]
[{"$f":"'Majorations applicables'!$C$22","v":"Abatteuse groupeuse après perturbation naturelle sans récolte"},{"$f":"'Majorations applicables'!$B$22","v":"Traitements du site - PATS"},{"$f":"'Traitements du site - PATS'!$G$231","v":0},{"$f":"'Traitements du site - PATS'!$G$231-'Traitements du site - PATS'!$G$225","v":0},{"$f":"'Traitements du site - PATS'!$G$235","v":0},{"$f":"'Traitements du site - PATS'!$G$232*'Traitements du site - PATS'!$G$225","v":0},{"$f":"E22-F22","v":0}]
[{"$f":"'Majorations applicables'!$C$23","v":"Excavatrice après perturbation naturelle sans récolte"},{"$f":"'Majorations applicables'!$B$23","v":"Traitements du site - PATS"},{"$f":"'Traitements du site - PATS'!$G$231","v":0},{"$f":"'Traitements du site - PATS'!$G$231-'Traitements du site - PATS'!$G$225","v":0},{"$f":"'Traitements du site - PATS'!$G$235","v":0},{"$f":"'Traitements du site - PATS'!$G$232*'Traitements du site - PATS'!$G$225","v":0},0]
[{"$f":"'Majorations applicables'!$C$24","v":"Bouteur avec pelle modifiée"},{"$f":"'Majorations applicables'!$B$24","v":"Traitements du site - PATS"},{"$f":"'Traitements du site - PATS'!$G$216","v":0},{"$f":"'Traitements du site - PATS'!$G$216-'Traitements du site - PATS'!$G$210","v":0},{"$f":"'Traitements du site - PATS'!$G$220","v":0},{"$f":"'Traitements du site - PATS'!$G$210*'Traitements du site - PATS'!$G$217","v":0},0]
[{"$f":"'Majorations applicables'!$C$26","v":"Excavatrice ou débusqueuse"},{"$f":"'Majorations applicables'!$B$26","v":"Traitements du site - PATS"},{"$f":"'Traitements du site - PATS'!$G$271","v":0},{"$f":"'Traitements du site - PATS'!$G$271-'Traitements du site - PATS'!$G$265","v":0},{"$f":"'Traitements du site - PATS'!$G$275","v":0},{"$f":"'Traitements du site - PATS'!$G$272*'Traitements du site - PATS'!$G$265","v":0},{"$f":"E25-F25","v":0}]
[{"$f":"'Majorations applicables'!$C$27","v":"Excavatrice pour le PEH"},{"$f":"'Majorations applicables'!$B$27","v":"Traitements du site - PATS"},{"$f":"'Traitements du site - PATS'!$G$271","v":0},{"$f":"'Traitements du site - PATS'!$G$271-'Traitements du site - PATS'!$G$265","v":0},{"$f":"'Traitements du site - PATS'!$G$275","v":0},{"$f":"'Traitements du site - PATS'!$G$272*'Traitements du site - PATS'!$G$265","v":0},{"$f":"E26-F26","v":0}]
[{"$f":"'Majorations applicables'!$C$28","v":"Excavatrice "},{"$f":"'Majorations applicables'!$B$28","v":"Traitements du site - PATS"},{"$f":"'Traitements du site - PATS'!$G$271","v":0},{"$f":"'Traitements du site - PATS'!$G$271-'Traitements du site - PATS'!$G$265","v":0},{"$f":"'Traitements du site - PATS'!$G$275","v":0},{"$f":"'Traitements du site - PATS'!$G$272*'Traitements du site - PATS'!$G$265","v":0},{"$f":"E27-F27","v":0}]
[{"$f":"'Majorations applicables'!$C$29","v":"Difficulté faible"},{"$f":"'Majorations applicables'!$B$29","v":"Traitements du site"},{"$f":"'Traitements du site'!$G$228","v":0},{"$f":"'Traitements du site'!$G$228-'Traitements du site'!$G$222","v":0},{"$f":"'Traitements du site'!$G$232","v":0},{"$f":"'Traitements du site'!$G$229*'Traitements du site'!$G$222","v":0},{"$f":"E28-F28","v":0}]
[{"$f":"'Majorations applicables'!$C$30","v":"Difficulté moyenne OU difficulté élevée et densité faible (moins de 20 000 ti/ha)"},{"$f":"'Majorations applicables'!$B$30","v":"Traitements du site"},{"$f":"'Traitements du site'!$G$228","v":0},{"$f":"'Traitements du site'!$G$228-'Traitements du site'!$G$222","v":0},{"$f":"'Traitements du site'!$G$232","v":0},{"$f":"'Traitements du site'!$G$229*'Traitements du site'!$G$222","v":0},{"$f":"E29-F29","v":0}]
[{"$f":"'Majorations applicables'!$C$31","v":"Difficulté élevée et densité moyenne (20 000 à 30 000 ti/ha)"},{"$f":"'Majorations applicables'!$B$31","v":"Traitements du site"},{"$f":"'Traitements du site'!$G$228","v":0},{"$f":"'Traitements du site'!$G$228-'Traitements du site'!$G$222","v":0},{"$f":"'Traitements du site'!$G$232","v":0},{"$f":"'Traitements du site'!$G$229*'Traitements du site'!$G$222","v":0},{"$f":"E30-F30","v":0}]
[{"$f":"'Majorations applicables'!$C$32","v":"Difficulté élevée et densité forte (plus de 30 000 ti/ha)"},{"$f":"'Majorations applicables'!$B$32","v":"Traitements du site"},{"$f":"'Traitements du site'!$G$228","v":0},{"$f":"'Traitements du site'!$G$228-'Traitements du site'!$G$222","v":0},{"$f":"'Traitements du site'!$G$232","v":0},{"$f":"'Traitements du site'!$G$229*'Traitements du site'!$G$222","v":0},{"$f":"E31-F31","v":0}]
[{"$f":"'Majorations applicables'!$C$33","v":"Dégagement mécanique d'un peuplement résineux ou mixte à dominance de résineux (MR-FI)"},{"$f":"'Majorations applicables'!$B$33","v":"Éducation de peuplement"},{"$f":"'Éducation de peuplement'!$G$145","v":0},{"$f":"'Éducation de peuplement'!$G$145-'Éducation de peuplement'!$G$140","v":0},{"$f":"'Éducation de peuplement'!G$153","v":0},{"$f":"'Éducation de peuplement'!$G$140*'Éducation de peuplement'!$G$149","v":0},0]
[{"$f":"'Majorations applicables'!$C$34","v":"Élagage artificiel pour le pin blanc et le pin rouge"},{"$f":"'Majorations applicables'!$B$34","v":"Éducation de peuplement"},{"$f":"'Éducation de peuplement'!$G$246","v":0},{"$f":"'Éducation de peuplement'!$G$246-'Éducation de peuplement'!$G$241","v":0},{"$f":"'Éducation de peuplement'!$G$253","v":0},{"$f":"'Éducation de peuplement'!$G$250*'Éducation de peuplement'!$G$241","v":0},0]
[{"$f":"'Majorations applicables'!$C$35","v":"EPC par puits de lumière ET Taille de formation avec martelage"},{"$f":"'Majorations applicables'!$B$35","v":"Éducation de peuplement"},{"$f":"'Éducation de peuplement'!$G$229","v":0},{"$f":"'Éducation de peuplement'!$G$229-'Éducation de peuplement'!$G$224","v":0},{"$f":"'Éducation de peuplement'!$G$237","v":0},{"$f":"'Éducation de peuplement'!$G$233*'Éducation de peuplement'!$G$224","v":0},0]
[{"$f":"'Majorations applicables'!$C$36","v":"Nettoiement d'un peuplement résineux ou mixte à dominance de résineux (MR-FI) - Gradient d'intensité de la sylviculture de base"},{"$f":"'Majorations applicables'!$B$36","v":"Éducation de peuplement"},{"$f":"'Éducation de peuplement'!$G$162","v":0},{"$f":"'Éducation de peuplement'!$G$162-'Éducation de peuplement'!$G$157","v":0},{"$f":"'Éducation de peuplement'!$G$170","v":0},{"$f":"'Éducation de peuplement'!$G$166*'Éducation de peuplement'!$G$157","v":0},0]
[{"$f":"'Majorations applicables'!$C$37","v":"Nettoiement d'un peuplement résineux ou mixte à dominance de résineux (MR-FI) - Gradient d'intensité de la sylviculture d'intensive/élite"},{"$f":"'Majorations applicables'!$B$37","v":"Éducation de peuplement"},{"$f":"'Éducation de peuplement'!$G$162","v":0},{"$f":"'Éducation de peuplement'!$G$162-'Éducation de peuplement'!$G$157","v":0},{"$f":"'Éducation de peuplement'!$G$170","v":0},{"$f":"'Éducation de peuplement'!$G$166*'Éducation de peuplement'!$G$157","v":0},{"$f":"E36-F36","v":0}]
[{"$f":"'Majorations applicables'!$C$38","v":"EPC systématique d'un peuplement résineux ou de peuplier"},{"$f":"'Majorations applicables'!$B$38","v":"Éducation de peuplement"},{"$f":"'Éducation de peuplement'!$G$212","v":0},{"$f":"'Éducation de peuplement'!$G$212-'Éducation de peuplement'!$G$207","v":0},{"$f":"'Éducation de peuplement'!$G$220","v":0},{"$f":"'Éducation de peuplement'!$G$216*'Éducation de peuplement'!$G$207","v":0},0]
[{"$f":"'Majorations applicables'!$C$39","v":"Taille phytosanitaire"},{"$f":"'Majorations applicables'!$B$39","v":"Éducation de peuplement"},{"$f":"'Éducation de peuplement'!$G$262","v":0},{"$f":"'Éducation de peuplement'!$G$262-'Éducation de peuplement'!$G$257","v":0},{"$f":"'Éducation de peuplement'!$G$269","v":0},{"$f":"'Éducation de peuplement'!$G$266*'Éducation de peuplement'!$G$257","v":0},0]
[{"$f":"'Majorations applicables'!$C$40","v":"Nettoiement d'un peuplement résineux ou mixte à dominance de résineux (MR-FI) réalisé dans des conditions spécifiques"},{"$f":"'Majorations applicables'!$B$40","v":"Éducation de peuplement - PATS"},{"$f":"'Éducation de peuplement - PATS'!G$172","v":0},{"$f":"'Éducation de peuplement - PATS'!$G$172-'Éducation de peuplement - PATS'!$G$165","v":0},{"$f":"'Éducation de peuplement - PATS'!$G$177","v":0},{"$f":"'Éducation de peuplement - PATS'!$G$173*'Éducation de peuplement - PATS'!$G$165","v":0},{"$f":"E39-F39","v":0}]
[{"$f":"'Majorations applicables'!$C$41","v":"Nettoiement mécanique sous couvert d’un peuplement de feuillus tolérants (contenir l’envahissement du hêtre à grandes feuilles)"},{"$f":"'Majorations applicables'!$B$41","v":"Éducation de peuplement"},{"$f":"'Éducation de peuplement'!$G$198","v":0},{"$f":"'Éducation de peuplement'!$G$198-'Éducation de peuplement'!$G$191","v":0},{"$f":"'Éducation de peuplement'!$G$203","v":0},{"$f":"'Éducation de peuplement'!$G$199*'Éducation de peuplement'!$G$191","v":0},{"$f":"E40-F40","v":0}]
[{"$f":"'Majorations applicables'!$C$42","v":"Dépressage manuel"},{"$f":"'Majorations applicables'!$B$42","v":"Éducation de peuplement - PATS"},{"$f":"'Éducation de peuplement - PATS'!$G$188","v":0},{"$f":"'Éducation de peuplement - PATS'!$G$188-'Éducation de peuplement - PATS'!$G$181","v":0},{"$f":"'Éducation de peuplement - PATS'!$G$193","v":0},{"$f":"'Éducation de peuplement - PATS'!$G$189*'Éducation de peuplement - PATS'!$G$181","v":0},{"$f":"E41-F41","v":0}]
[{"$f":"'Majorations applicables'!$C$43","v":"Dépressage mécanisé"},{"$f":"'Majorations applicables'!$B$43","v":"Éducation de peuplement - PATS"},{"$f":"'Éducation de peuplement - PATS'!$G$188","v":0},{"$f":"'Éducation de peuplement - PATS'!$G$188-'Éducation de peuplement - PATS'!$G$181","v":0},{"$f":"'Éducation de peuplement - PATS'!$G$193","v":0},{"$f":"'Éducation de peuplement - PATS'!$G$189*'Éducation de peuplement - PATS'!$G$181","v":0},{"$f":"E42-F42","v":0}]
[{"$f":"'Majorations applicables'!$C$44","v":"Dépressage mécanisé systématique par layons avec abatteuse-groupeuse"},{"$f":"'Majorations applicables'!$B$44","v":"Éducation de peuplement - PATS"},{"$f":"'Éducation de peuplement - PATS'!$G$235","v":0},{"$f":"'Éducation de peuplement - PATS'!$G$235-'Éducation de peuplement - PATS'!$G$229","v":0},{"$f":"'Éducation de peuplement - PATS'!G239","v":0},{"$f":"'Éducation de peuplement - PATS'!$G$236*'Éducation de peuplement - PATS'!G$229","v":0},0]
[{"$f":"'Majorations applicables'!$C$45","v":"Débroussaillement mécanique interplaceaux"},{"$f":"'Majorations applicables'!$B$45","v":"Éducation de peuplement - PATS"},{"$f":"'Éducation de peuplement - PATS'!$G$156","v":0},{"$f":"'Éducation de peuplement - PATS'!$G$156-'Éducation de peuplement - PATS'!$G$149","v":0},{"$f":"'Éducation de peuplement - PATS'!$G$161","v":0},{"$f":"'Éducation de peuplement - PATS'!$G$157*'Éducation de peuplement - PATS'!$G$149","v":0},{"$f":"E44-F44","v":0}]
[{"$f":"'Majorations applicables'!$C$47","v":"Plantation uniforme, regarni manuel et plantation d'enrichissement sauf PEH"},{"$f":"'Majorations applicables'!$B$47","v":"Régénération artificielle"},{"$f":"'Régénération artificielle'!$G$96","v":0},{"$f":"'Régénération artificielle'!$G$96-'Régénération artificielle'!$G$90","v":0},{"$f":"'Régénération artificielle'!$G$103","v":0},{"$f":"'Régénération artificielle'!$G$90*'Régénération artificielle'!$G$100","v":0},0]
[{"$f":"'Majorations applicables'!$C$48","v":"Regarni de sentier et plantation d'enrichissement manuel sauf PEH"},{"$f":"'Majorations applicables'!$B$48","v":"Régénération artificielle"},{"$f":"'Régénération artificielle'!$G$113","v":0},{"$f":"'Régénération artificielle'!$G$113-'Régénération artificielle'!$G$107","v":0},{"$f":"'Régénération artificielle'!$G$120","v":0},{"$f":"'Régénération artificielle'!$G$117*'Régénération artificielle'!$G$107","v":0},0]
[{"$f":"'Majorations applicables'!$C$49","v":"Plantation uniforme et regarni en plein manuel sentier préparé sauf PEH"},{"$f":"'Majorations applicables'!$B$49","v":"Régénération artificielle"},{"$f":"'Régénération artificielle'!$G$130","v":0},{"$f":"'Régénération artificielle'!$G$130-'Régénération artificielle'!$G$124","v":0},{"$f":"'Régénération artificielle'!$G$138","v":0},{"$f":"SUM('Régénération artificielle'!$G$134,'Régénération artificielle'!$G$135)*'Régénération artificielle'!$G$124","v":0},0]
[{"$f":"'Majorations applicables'!$C$50","v":"Plantation uniforme PEH"},{"$f":"'Majorations applicables'!$B$50","v":"Régénération artificielle"},{"$f":"'Régénération artificielle'!$G$148","v":0},{"$f":"'Régénération artificielle'!$G$148-'Régénération artificielle'!$G$142","v":0},{"$f":"'Régénération artificielle'!$G$155","v":0},{"$f":"'Régénération artificielle'!$G$152*'Régénération artificielle'!$G$142","v":0},0]
[{"$f":"'Majorations applicables'!$C$51","v":"Plantation uniforme et regarni mécanique (Scarificateur­planteur Bracke P­11a)"},{"$f":"'Majorations applicables'!$B$51","v":"Régénération artificielle"},{"$f":"'Régénération artificielle'!$G$162","v":0},{"$f":"'Régénération artificielle'!$G$162-'Régénération artificielle'!$G$158","v":0},{"$f":"'Régénération artificielle'!$G$169","v":0},{"$f":"'Régénération artificielle'!$G$166*'Régénération artificielle'!$G$158","v":0},0]
[{"$f":"'Majorations applicables'!$C$52","v":"Ensemencement terrestre manuel"},{"$f":"'Majorations applicables'!$B$52","v":"Régénération artificielle"},{"$f":"'Régénération artificielle'!$G$180","v":0},{"$f":"'Régénération artificielle'!$G$177","v":0},{"$f":"'Régénération artificielle'!$G$184","v":0},{"$f":"'Régénération artificielle'!$G$183","v":0},0]
[{"$f":"'Majorations applicables'!$C$53","v":"Éclaircie commerciale EAF"},{"$f":"'Majorations applicables'!$B$53","v":"Éclaircie commerciale EAF"},{"$f":"'Éclaircie commerciale EAF'!$G$51","v":0},"N/A",{"$f":"'Éclaircie commerciale EAF'!$G$53","v":0},"N/A","N/A"]
[{"$f":"'Majorations applicables'!$C$54","v":"Martelage"},{"$f":"'Majorations applicables'!$B$54","v":"Martelage"},{"$f":"Martelage!$G$50","v":0},{"$f":"Martelage!$G$50-Martelage!$G$47","v":0},{"$f":"Martelage!$G$54","v":0},{"$f":"Martelage!$G$51*Martelage!$G$47","v":0},{"$f":"E52-F52","v":0}]
[{"$f":"'Majorations applicables'!$C$55","v":"Martelage positif - EC (résineux ou mixte résineux)"},{"$f":"'Majorations applicables'!$B$55","v":"Martelage"},{"$f":"Martelage!$G$63","v":0},{"$f":"Martelage!$G$63-Martelage!$G$60","v":0},{"$f":"Martelage!$G$67","v":0},{"$f":"Martelage!$G$64*Martelage!$G$60","v":0},{"$f":"E53-F53","v":0}]
[{"$f":"'Majorations applicables'!$C$56","v":"Martelage négatif - EC (résineux ou mixte résineux)"},{"$f":"'Majorations applicables'!$B$56","v":"Martelage"},{"$f":"Martelage!$G$63","v":0},{"$f":"Martelage!$G$63-Martelage!$G$60","v":0},{"$f":"Martelage!$G$67","v":0},{"$f":"Martelage!$G$64*Martelage!$G$60","v":0},{"$f":"E54-F54","v":0}]
[{"$f":"'Majorations applicables'!$C$57","v":"Travaux de planification et de suvi d'efficacité"},{"$f":"'Majorations applicables'!$B$57","v":"Travaux de planif et techniques"},{"$f":"'Travaux de planif et techniques'!$G$76","v":0},"N/A",{"$f":"'Travaux de planif et techniques'!$G$76","v":0},"N/A","N/A"]
[{"$f":"'Majorations applicables'!$C$58","v":"Plan de sondage"},{"$f":"'Majorations applicables'!$B$58","v":"Travaux de planif et techniques"},{"$f":"'Suivi d''efficacité'!$G$39","v":0},"N/A",{"$f":"'Suivi d''efficacité'!$G$39","v":0},"N/A","N/A"]
[{"$f":"'Majorations applicables'!$C$59","v":"Rafraichissement d'un martelage passé"},{"$f":"'Majorations applicables'!$B$59","v":"Travaux planif et tech - PATS"},{"$f":"'Travaux planif et tech - PATS'!$G$78","v":0},"N/A",{"$f":"'Travaux planif et tech - PATS'!G77","v":0},"N/A","N/A"]
[{"$f":"'Majorations applicables'!$C$60","v":"Travaux planification - PATS"},{"$f":"'Majorations applicables'!$B$60","v":"Travaux planif et tech - PATS"},{"$f":"'Travaux planif et tech - PATS'!$G$78","v":0},"N/A",{"$f":"'Travaux planif et tech - PATS'!G78","v":0},"N/A","N/A"]

{"sheet":"Log","index":32,"n_rows":33,"n_cols":4,"rows_kept":33,"cut":false,"hidden":true,"merged":[]}
["Usager","Accès","OS","Version Excel"]
["Pouliot, Simon (BMMB)","2022-03-01T07:18:36","Windows (32-bit) NT 6.01",15]
["Gagné, Jean-Benoit (BMMB)","2022-10-26T11:08:44","Windows (64-bit) NT 10.00",16]
["Gagné, Jean-Benoit (BMMB)","2022-11-01T10:49:35","Windows (64-bit) NT 10.00",16]
["Leblanc, Philippe (DIF)","2022-11-01T11:23:03","Windows (64-bit) NT 10.00",16]
["Leblanc, Philippe (DIF)","2022-11-01T12:43:14","Windows (64-bit) NT 10.00",16]
["Leblanc, Philippe (DIF)","2022-11-01T13:06:21","Windows (64-bit) NT 10.00",16]
["Gagné, Jean-Benoit (BMMB)","2022-11-30T11:42:54","Windows (64-bit) NT 10.00",16]
["Gagné, Jean-Benoit (BMMB)","2022-12-02T09:35:27","Windows (64-bit) NT 10.00",16]
["Gagné, Jean-Benoit (BMMB)","2022-12-05T07:37:33","Windows (64-bit) NT 10.00",16]
["Gagné, Jean-Benoit (BMMB)","2022-12-05T16:13:54","Windows (64-bit) NT 10.00",16]
["Gagné, Jean-Benoit (BMMB)","2022-12-06T10:34:14","Windows (64-bit) NT 10.00",16]
["Gagné, Jean-Benoit (BMMB)","2023-01-17T09:38:35","Windows (64-bit) NT 10.00",16]
["Gagné, Jean-Benoit (BMMB)","2023-02-15T14:45:06","Windows (64-bit) NT 10.00",16]
["Gagné, Jean-Benoit (BMMB)","2023-02-16T11:03:18","Windows (64-bit) NT 10.00",16]
["Gagné, Jean-Benoit (BMMB)","2023-03-02T08:52:44","Windows (64-bit) NT 10.00",16]
["Gagné, Jean-Benoit (BMMB)","2023-03-20T09:39:01","Windows (64-bit) NT 10.00",16]
["Gagné, Jean-Benoit (BMMB)","2023-03-22T09:31:54","Windows (64-bit) NT 10.00",16]
["Gagné, Jean-Benoit (BMMB)","2023-04-17T09:16:59","Windows (64-bit) NT 10.00",16]
["Gagné, Jean-Benoit (BMMB)","2023-04-19T08:51:13","Windows (64-bit) NT 10.00",16]
["Gagné, Jean-Benoit (BMMB)","2023-04-20T08:36:55","Windows (64-bit) NT 10.00",16]
["Gagné, Jean-Benoit (BMMB)","2023-10-24T14:44:35","Windows (64-bit) NT 10.00",16]
["Gagné, Jean-Benoit (BMMB)","2023-11-07T12:26:41","Windows (64-bit) NT 10.00",16]
["Gagné, Jean-Benoit (BMMB)","2023-11-07T15:05:14","Windows (64-bit) NT 10.00",16]
["Gagné, Jean-Benoit (BMMB)","2023-11-07T15:19:26","Windows (64-bit) NT 10.00",16]
["Gagné, Jean-Benoit (BMMB)","2023-11-07T15:32:02","Windows (64-bit) NT 10.00",16]
["Gagné, Jean-Benoit (BMMB)","2024-01-22T10:48:44","Windows (64-bit) NT 10.00",16]
["Gagné, Jean-Benoit (BMMB)","2024-02-23T12:02:57","Windows (64-bit) NT 10.00",16]
["Gagné, Jean-Benoit (BMMB)","2024-03-07T08:49:19","Windows (64-bit) NT 10.00",16]
["Gagné, Jean-Benoit (BMMB)","2024-03-14T08:59:57","Windows (64-bit) NT 10.00",16]
["Gagné, Jean-Benoit (BMMB)","2024-03-25T07:58:12","Windows (64-bit) NT 10.00",16]
["Gagné, Jean-Benoit (BMMB)","2024-04-19T09:35:46","Windows (64-bit) NT 10.00",16]
["Boileau, Marie-Claude (DCOM)","2026-04-08T11:40:52","Windows (64-bit) NT 10.00",16]